{"text_format":"1","workbook":"xlsx","n_sheets":16,"sheets":["Intro","Summary Sheet","Hazard Level Assessment 1","2","3","4","5","6","7","8","9","10","Review and Export","Hazard Codes & Statements","What to do with results","_"],"not_rendered":{"charts":0,"images":10,"macros":1,"external_links":1,"defined_names":5,"comments":12,"pivot_tables":0},"unopened":[],"bounds":{"document_bytes":16777216,"sheet_cells":100000,"rows_first":2000,"rows_last":500,"rows_between":2000,"halvings":0,"cell_chars":16384,"cell_head_chars":4096},"cells_cut":0,"cells_raw":0,"read":"whole","date_system":"1900"}

{"sheet":"Intro","index":0,"n_rows":50,"n_cols":3,"rows_kept":50,"cut":false,"hidden":false,"merged":[[1,2,1,14],[49,2,68,3],[18,2,18,14]]}
[null,"“Setting Priorities”\nChemical Hazard Assessment and Prioritization (CHAP)"]
[null,"eCHAP-Basic","INSTRUCTIONS FOR USE (PLEASE READ BEFORE STARTING)"]
[null,"Research Partners:"]
[]
[]
[]
[]
[]
[]
[]
[]
[]
[]
[]
[]
[]
[]
[null,"“Setting Priorities” was funded by the Ontario Ministry of Labour Training and Skills Development through a Research Opportunities Program Grant ROP 16-E-005.\nFunding for eCHAP was provided by Ryerson University."]
[null,null,"www.ryerson.ca/chemical-hazard-assessment-prioritization/chap-tools"]
[null,"eCHAP-Basic was developed by Thomas Tenkate and Jeremiah Joo, \nSchool of Occupational and Public Health, Ryerson University, Toronto.\neCHAP-Basic is made available under Creative Commons Licence CC BY-NC-ND 4.0 \n(refer to https://creativecommons.org/licences/by-nc-nd/4.0/)."]
[]
[null,"If you have any questions or concerns, "]
[null,"please email thomas.tenkate@ryerson.ca and CC j1joo@ryerson.ca"]
[]
[]
[null,"Hazard Levels are adapted from Hazard Bands (Arnone et al., 2015)"]
[null,"doi: 10.1016/j.yrtph.2015.07.014"]
[]
[]
[]
[]
[]
[]
[]
[]
[]
[]
[]
[]
[]
[]
[]
[]
[]
[]
[]
[]
[]
[]
[null,null,"Hover over this cell to reveal FAQs"]

{"sheet":"Summary Sheet","index":1,"n_rows":28,"n_cols":4,"rows_kept":28,"cut":false,"hidden":false,"merged":[[2,1,2,3]]}
[null,"“Setting Priorities”\nChemical Hazard Assessment and Prioritization (CHAP)"]
[]
[null,"\nSummary Sheet\n"]
[null,null,"Company name"]
[null,"Specific worksite","Name"]
[null,null,"Address"]
[null,null,"Phone number"]
[null,null,"Fax number"]
[null,"Contact person","Name"]
[null,null,"Address"]
[null,null,"Phone number"]
[null,null,"Fax number"]
[null,null,"Date last updated",{"$f":"TODAY()","v":"2020-05-11"}]
[]
[null,"Top 5 Chemicals - By Quantity Used"]
[null,"Chemical/Product Name","Hazard Level","Notes"]
[1,null,{"$f":"IF('Hazard Level Assessment 1'!F$21=\"\", \"\", 'Hazard Level Assessment 1'!F$21)","v":""}]
[2,null,{"$f":"IF('2'!F$21=\"\", \"\", '2'!F$21)","v":""}]
[3,null,{"$f":"IF('3'!F$21=\"\", \"\", '3'!F$21)","v":""}]
[4,null,{"$f":"IF('4'!F$21=\"\", \"\", '4'!F$21)","v":""}]
[5,null,{"$f":"IF('5'!F$21=\"\", \"\", '5'!F$21)","v":""}]
[null,"Top 5 Chemicals - By Perceived Hazard"]
[null,"Chemical/Product Name","Hazard Level","Notes"]
[6,null,{"$f":"IF('6'!F$21=\"\", \"\", '6'!F$21)","v":""}]
[7,null,{"$f":"IF('7'!F$21=\"\", \"\", '7'!F$21)","v":""}]
[8,null,{"$f":"IF('8'!F$21=\"\", \"\", '8'!F$21)","v":""}]
[9,null,{"$f":"IF('9'!F$21=\"\", \"\", '9'!F$21)","v":""}]
[10,null,{"$f":"IF('10'!F$21=\"\", \"\", '10'!F$21)","v":""}]

{"sheet":"Hazard Level Assessment 1","index":2,"n_rows":21,"n_cols":7,"rows_kept":21,"cut":false,"hidden":false,"merged":[[1,1,1,4],[3,2,3,6],[5,3,5,6],[2,1,2,4],[20,3,20,4],[20,5,20,6],[5,1,6,1],[5,2,6,2],[17,1,17,2],[18,1,18,2],[18,3,18,6]]}
[null,"“Setting Priorities”\nChemical Hazard Assessment and Prioritization (CHAP)"]
[null,"Hazard Level Assessment 1\nTop 5 Chemicals - By Quantity Used\nComplete Steps 1, 2, and 3 below"]
[]
[null,"Chemical / Product 1: ",{"$f":"IF('Summary Sheet'!B17=\"\", \"\", 'Summary Sheet'!B17)","v":""}]
[null,"\nStep 1: Physical & Environmental Hazard Statements/Codes\nFind Section 2 of the SDS and determine if the SDS has physical and/or environmental hazard statements/codes. Hover on this cell for additional instructions.\n","No"]
[null,"Step 2: Health Hazard Statements/Codes\nProvide the Health Hazard Statements or Codes from Section 2 of the SDS below. Hover on this cell for additional instructions.",null,"\nHazard Level\n"]
[null,null,null,"Eye Damage","Inhalation","Local Skin Damage","Skin uptake, systemic"]
[1,null,{"$f":"_xlfn.IFNA(VLOOKUP(B8,_!$A$7:$F$210,6,FALSE),\"\")","v":""},{"$f":"_xlfn.IFNA(IF(VLOOKUP(B8,_!$A$7:$E$210,2,FALSE)=0, \"\",VLOOKUP(B8,_!$A$7:$E$210,2,FALSE)), \"\")","v":""},{"$f":"_xlfn.IFNA(IF(VLOOKUP(B8,_!$A$7:$E$210,3,FALSE)=0, \"\",VLOOKUP(B8,_!$A$7:$E$210,3,FALSE)), \"\")","v":""},{"$f":"_xlfn.IFNA(IF(VLOOKUP(B8,_!$A$7:$E$210,4,FALSE)=0, \"\", VLOOKUP(B8,_!$A$7:$E$210,4,FALSE)),\"\")","v":""},{"$f":"_xlfn.IFNA(IF(VLOOKUP(B8,_!$A$7:$E$210,5,FALSE)=0, \"\",VLOOKUP(B8,_!$A$7:$E$210,5,FALSE)), \"\")","v":""}]
[2,null,{"$f":"_xlfn.IFNA(VLOOKUP(B9,_!$A$7:$F$210,6,FALSE),\"\")","v":""},{"$f":"_xlfn.IFNA(IF(VLOOKUP(B9,_!$A$7:$E$210,2,FALSE)=0, \"\",VLOOKUP(B9,_!$A$7:$E$210,2,FALSE)), \"\")","v":""},{"$f":"_xlfn.IFNA(IF(VLOOKUP(B9,_!$A$7:$E$210,3,FALSE)=0, \"\",VLOOKUP(B9,_!$A$7:$E$210,3,FALSE)), \"\")","v":""},{"$f":"_xlfn.IFNA(IF(VLOOKUP(B9,_!$A$7:$E$210,4,FALSE)=0, \"\", VLOOKUP(B9,_!$A$7:$E$210,4,FALSE)),\"\")","v":""},{"$f":"_xlfn.IFNA(IF(VLOOKUP(B9,_!$A$7:$E$210,5,FALSE)=0, \"\",VLOOKUP(B9,_!$A$7:$E$210,5,FALSE)), \"\")","v":""}]
[3,null,{"$f":"_xlfn.IFNA(VLOOKUP(B10,_!$A$7:$F$210,6,FALSE),\"\")","v":""},{"$f":"_xlfn.IFNA(IF(VLOOKUP(B10,_!$A$7:$E$210,2,FALSE)=0, \"\",VLOOKUP(B10,_!$A$7:$E$210,2,FALSE)), \"\")","v":""},{"$f":"_xlfn.IFNA(IF(VLOOKUP(B10,_!$A$7:$E$210,3,FALSE)=0, \"\",VLOOKUP(B10,_!$A$7:$E$210,3,FALSE)), \"\")","v":""},{"$f":"_xlfn.IFNA(IF(VLOOKUP(B10,_!$A$7:$E$210,4,FALSE)=0, \"\", VLOOKUP(B10,_!$A$7:$E$210,4,FALSE)),\"\")","v":""},{"$f":"_xlfn.IFNA(IF(VLOOKUP(B10,_!$A$7:$E$210,5,FALSE)=0, \"\",VLOOKUP(B10,_!$A$7:$E$210,5,FALSE)), \"\")","v":""}]
[4,null,{"$f":"_xlfn.IFNA(VLOOKUP(B11,_!$A$7:$F$210,6,FALSE),\"\")","v":""},{"$f":"_xlfn.IFNA(IF(VLOOKUP(B11,_!$A$7:$E$210,2,FALSE)=0, \"\",VLOOKUP(B11,_!$A$7:$E$210,2,FALSE)), \"\")","v":""},{"$f":"_xlfn.IFNA(IF(VLOOKUP(B11,_!$A$7:$E$210,3,FALSE)=0, \"\",VLOOKUP(B11,_!$A$7:$E$210,3,FALSE)), \"\")","v":""},{"$f":"_xlfn.IFNA(IF(VLOOKUP(B11,_!$A$7:$E$210,4,FALSE)=0, \"\", VLOOKUP(B11,_!$A$7:$E$210,4,FALSE)),\"\")","v":""},{"$f":"_xlfn.IFNA(IF(VLOOKUP(B11,_!$A$7:$E$210,5,FALSE)=0, \"\",VLOOKUP(B11,_!$A$7:$E$210,5,FALSE)), \"\")","v":""}]
[5,null,{"$f":"_xlfn.IFNA(VLOOKUP(B12,_!$A$7:$F$210,6,FALSE),\"\")","v":""},{"$f":"_xlfn.IFNA(IF(VLOOKUP(B12,_!$A$7:$E$210,2,FALSE)=0, \"\",VLOOKUP(B12,_!$A$7:$E$210,2,FALSE)), \"\")","v":""},{"$f":"_xlfn.IFNA(IF(VLOOKUP(B12,_!$A$7:$E$210,3,FALSE)=0, \"\",VLOOKUP(B12,_!$A$7:$E$210,3,FALSE)), \"\")","v":""},{"$f":"_xlfn.IFNA(IF(VLOOKUP(B12,_!$A$7:$E$210,4,FALSE)=0, \"\", VLOOKUP(B12,_!$A$7:$E$210,4,FALSE)),\"\")","v":""},{"$f":"_xlfn.IFNA(IF(VLOOKUP(B12,_!$A$7:$E$210,5,FALSE)=0, \"\",VLOOKUP(B12,_!$A$7:$E$210,5,FALSE)), \"\")","v":""}]
[6,null,{"$f":"_xlfn.IFNA(VLOOKUP(B13,_!$A$7:$F$210,6,FALSE),\"\")","v":""},{"$f":"_xlfn.IFNA(IF(VLOOKUP(B13,_!$A$7:$E$210,2,FALSE)=0, \"\",VLOOKUP(B13,_!$A$7:$E$210,2,FALSE)), \"\")","v":""},{"$f":"_xlfn.IFNA(IF(VLOOKUP(B13,_!$A$7:$E$210,3,FALSE)=0, \"\",VLOOKUP(B13,_!$A$7:$E$210,3,FALSE)), \"\")","v":""},{"$f":"_xlfn.IFNA(IF(VLOOKUP(B13,_!$A$7:$E$210,4,FALSE)=0, \"\", VLOOKUP(B13,_!$A$7:$E$210,4,FALSE)),\"\")","v":""},{"$f":"_xlfn.IFNA(IF(VLOOKUP(B13,_!$A$7:$E$210,5,FALSE)=0, \"\",VLOOKUP(B13,_!$A$7:$E$210,5,FALSE)), \"\")","v":""}]
[7,null,{"$f":"_xlfn.IFNA(VLOOKUP(B14,_!$A$7:$F$210,6,FALSE),\"\")","v":""},{"$f":"_xlfn.IFNA(IF(VLOOKUP(B14,_!$A$7:$E$210,2,FALSE)=0, \"\",VLOOKUP(B14,_!$A$7:$E$210,2,FALSE)), \"\")","v":""},{"$f":"_xlfn.IFNA(IF(VLOOKUP(B14,_!$A$7:$E$210,3,FALSE)=0, \"\",VLOOKUP(B14,_!$A$7:$E$210,3,FALSE)), \"\")","v":""},{"$f":"_xlfn.IFNA(IF(VLOOKUP(B14,_!$A$7:$E$210,4,FALSE)=0, \"\", VLOOKUP(B14,_!$A$7:$E$210,4,FALSE)),\"\")","v":""},{"$f":"_xlfn.IFNA(IF(VLOOKUP(B14,_!$A$7:$E$210,5,FALSE)=0, \"\",VLOOKUP(B14,_!$A$7:$E$210,5,FALSE)), \"\")","v":""}]
[8,null,{"$f":"_xlfn.IFNA(VLOOKUP(B15,_!$A$7:$F$210,6,FALSE),\"\")","v":""},{"$f":"_xlfn.IFNA(IF(VLOOKUP(B15,_!$A$7:$E$210,2,FALSE)=0, \"\",VLOOKUP(B15,_!$A$7:$E$210,2,FALSE)), \"\")","v":""},{"$f":"_xlfn.IFNA(IF(VLOOKUP(B15,_!$A$7:$E$210,3,FALSE)=0, \"\",VLOOKUP(B15,_!$A$7:$E$210,3,FALSE)), \"\")","v":""},{"$f":"_xlfn.IFNA(IF(VLOOKUP(B15,_!$A$7:$E$210,4,FALSE)=0, \"\", VLOOKUP(B15,_!$A$7:$E$210,4,FALSE)),\"\")","v":""},{"$f":"_xlfn.IFNA(IF(VLOOKUP(B15,_!$A$7:$E$210,5,FALSE)=0, \"\",VLOOKUP(B15,_!$A$7:$E$210,5,FALSE)), \"\")","v":""}]
[9,null,{"$f":"_xlfn.IFNA(VLOOKUP(B16,_!$A$7:$F$210,6,FALSE),\"\")","v":""},{"$f":"_xlfn.IFNA(IF(VLOOKUP(B16,_!$A$7:$E$210,2,FALSE)=0, \"\",VLOOKUP(B16,_!$A$7:$E$210,2,FALSE)), \"\")","v":""},{"$f":"_xlfn.IFNA(IF(VLOOKUP(B16,_!$A$7:$E$210,3,FALSE)=0, \"\",VLOOKUP(B16,_!$A$7:$E$210,3,FALSE)), \"\")","v":""},{"$f":"_xlfn.IFNA(IF(VLOOKUP(B16,_!$A$7:$E$210,4,FALSE)=0, \"\", VLOOKUP(B16,_!$A$7:$E$210,4,FALSE)),\"\")","v":""},{"$f":"_xlfn.IFNA(IF(VLOOKUP(B16,_!$A$7:$E$210,5,FALSE)=0, \"\",VLOOKUP(B16,_!$A$7:$E$210,5,FALSE)), \"\")","v":""}]
[10,null,{"$f":"_xlfn.IFNA(VLOOKUP(B17,_!$A$7:$F$210,6,FALSE),\"\")","v":""},{"$f":"_xlfn.IFNA(IF(VLOOKUP(B17,_!$A$7:$E$210,2,FALSE)=0, \"\",VLOOKUP(B17,_!$A$7:$E$210,2,FALSE)), \"\")","v":""},{"$f":"_xlfn.IFNA(IF(VLOOKUP(B17,_!$A$7:$E$210,3,FALSE)=0, \"\",VLOOKUP(B17,_!$A$7:$E$210,3,FALSE)), \"\")","v":""},{"$f":"_xlfn.IFNA(IF(VLOOKUP(B17,_!$A$7:$E$210,4,FALSE)=0, \"\", VLOOKUP(B17,_!$A$7:$E$210,4,FALSE)),\"\")","v":""},{"$f":"_xlfn.IFNA(IF(VLOOKUP(B17,_!$A$7:$E$210,5,FALSE)=0, \"\",VLOOKUP(B17,_!$A$7:$E$210,5,FALSE)), \"\")","v":""}]
[null,"\nHighest hazard level for each ‘Uptake Route’\n",null,{"$f":"_xlfn.IFNA(IF((INDEX(D1:D17,MATCH(\"E\",D1:D17,0)))=\"E\",\"E\",\"\"),_xlfn.IFNA(IF((INDEX(D1:D17,MATCH(\"D\",D1:D17,0)))=\"D\",\"D\",\"\"),_xlfn.IFNA(IF((INDEX(D1:D17,MATCH(\"Ca\",D1:D17,0)))=\"Ca\",\"C\",\"\"),_xlfn.IFNA(IF((INDEX(D1:D17,MATCH(\"C\",D1:D17,0)))=\"C\",\"C\",\"\"),_xlfn.IFNA(IF((INDEX(D1:D17,MATCH(\"B\",D1:D17,0)))=\"B\",\"B\",\"\"),_xlfn.IFNA(IF((INDEX(D1:D17,MATCH(\"A\",D1:D17,0)))=\"A\",\"A\",\"\"),_xlfn.IFNA(IF((INDEX(D1:D17,MATCH(\"n.a.\",D1:D17,0)))=\"n.a.\",\"\",\"\"),_xlfn.IFNA(IF((INDEX(D1:D17,MATCH(\"\",D1:D17,0)))=\"\",\"\",\"\"),\"\"))))))))","v":""},{"$f":"_xlfn.IFNA(IF((INDEX(E1:E17,MATCH(\"E\",E1:E17,0)))=\"E\",\"E\",\"\"),_xlfn.IFNA(IF((INDEX(E1:E17,MATCH(\"D (E)c\",E1:E17,0)))=\"D (E)c\",\"D (E)c\",\"\"),_xlfn.IFNA(IF((INDEX(E1:E17,MATCH(\"Da (E)c\",E1:E17,0)))=\"Da (E)c\",\"D (E)c\",\"\"),_xlfn.IFNA(IF((INDEX(E1:E17,MATCH(\"D\",E1:E17,0)))=\"D\",\"D\",\"\"),_xlfn.IFNA(IF((INDEX(E1:E17,MATCH(\"Ca\",E1:E17,0)))=\"Ca\",\"C\",\"\"),_xlfn.IFNA(IF((INDEX(E1:E17,MATCH(\"C\",E1:E17,0)))=\"C\",\"C\",\"\"),_xlfn.IFNA(IF((INDEX(E1:E17,MATCH(\"Ba\",E1:E17,0)))=\"Ba\",\"B\",\"\"),_xlfn.IFNA(IF((INDEX(E1:E17,MATCH(\"B\",E1:E17,0)))=\"B\",\"B\",\"\"),_xlfn.IFNA(IF((INDEX(E1:E17,MATCH(\"Aa\",E1:E17,0)))=\"Aa\",\"A\",\"\"),_xlfn.IFNA(IF((INDEX(E1:E17,MATCH(\"A\",E1:E17,0)))=\"A\",\"A\",\"\"),_xlfn.IFNA(IF((INDEX(E1:E17,MATCH(\"n.a.\",E1:E17,0)))=\"n.a.\",\"\",\"\"),_xlfn.IFNA(IF((INDEX(E1:E17,MATCH(\"\",E1:E17,0)))=\"\",\"\",\"\"),\"\"))))))))))))","v":""},{"$f":"_xlfn.IFNA(IF((INDEX(F1:F17,MATCH(\"E\",F1:F17,0)))=\"E\",\"E\",\"\"),_xlfn.IFNA(IF((INDEX(F1:F17,MATCH(\"D\",F1:F17,0)))=\"D\",\"D\",\"\"),_xlfn.IFNA(IF((INDEX(F1:F17,MATCH(\"Ca\",F1:F17,0)))=\"Ca\",\"C\",\"\"),_xlfn.IFNA(IF((INDEX(F1:F17,MATCH(\"C\",F1:F17,0)))=\"C\",\"C\",\"\"),_xlfn.IFNA(IF((INDEX(F1:F17,MATCH(\"B\",F1:F17,0)))=\"B\",\"B\",\"\"),_xlfn.IFNA(IF((INDEX(F1:F17,MATCH(\"A\",F1:F17,0)))=\"A\",\"A\",\"\"),_xlfn.IFNA(IF((INDEX(F1:F17,MATCH(\"n.a.\",F1:F17,0)))=\"n.a.\",\"\",\"\"),_xlfn.IFNA(IF((INDEX(F1:F17,MATCH(\"\",F1:F17,0)))=\"\",\"\",\"\"),\"\"))))))))","v":""},{"$f":"_xlfn.IFNA(IF((INDEX(G1:G17,MATCH(\"E\",G1:G17,0)))=\"E\",\"E\",\"\"),_xlfn.IFNA(IF((INDEX(G1:G17,MATCH(\"D (E)c\",G1:G17,0)))=\"D (E)c\",\"D (E)c\",\"\"),_xlfn.IFNA(IF((INDEX(G1:G17,MATCH(\"Db (E)c\",G1:G17,0)))=\"Db (E)c\",\"D (E)c\",\"\"),_xlfn.IFNA(IF((INDEX(G1:G17,MATCH(\"D\",G1:G17,0)))=\"D\",\"D\",\"\"),_xlfn.IFNA(IF((INDEX(G1:G17,MATCH(\"Cb\",G1:G17,0)))=\"Cb\",\"C\",\"\"),_xlfn.IFNA(IF((INDEX(G1:G17,MATCH(\"C\",G1:G17,0)))=\"C\",\"C\",\"\"),_xlfn.IFNA(IF((INDEX(G1:G17,MATCH(\"Bb\",G1:G17,0)))=\"Bb\",\"B\",\"\"),_xlfn.IFNA(IF((INDEX(G1:G17,MATCH(\"B\",G1:G17,0)))=\"B\",\"B\",\"\"),_xlfn.IFNA(IF((INDEX(G1:G17,MATCH(\"Ab\",G1:G17,0)))=\"Ab\",\"A\",\"\"),_xlfn.IFNA(IF((INDEX(G1:G17,MATCH(\"A\",G1:G17,0)))=\"A\",\"A\",\"\"),_xlfn.IFNA(IF((INDEX(G1:G17,MATCH(\"n.a.\",G1:G17,0)))=\"n.a.\",\"\",\"\"),_xlfn.IFNA(IF((INDEX(G1:G17,MATCH(\"\",G1:G17,0)))=\"\",\"\",\"\"),\"\"))))))))))))","v":""}]
[null,"\nHighest hazard level for all 'Uptake Routes' \n",null,{"$f":"_xlfn.IFNA(IF((INDEX(D18:G18,MATCH(\"E\",D18:G18,0)))=\"E\",\"E\",\"\"),_xlfn.IFNA(IF((INDEX(D18:G18,MATCH(\"D (E)c\",D18:G18,0)))=\"D (E)c\",\"D (E)\",\"\"),_xlfn.IFNA(IF((INDEX(D18:G18,MATCH(\"D\",D18:G18,0)))=\"D\",\"D\",\"\"),_xlfn.IFNA(IF((INDEX(D18:G18,MATCH(\"C\",D18:G18,0)))=\"C\",\"C\",\"\"),_xlfn.IFNA(IF((INDEX(D18:G18,MATCH(\"B\",D18:G18,0)))=\"B\",\"B\",\"\"),_xlfn.IFNA(IF((INDEX(D18:G18,MATCH(\"A\",D18:G18,0)))=\"A\",\"A\",\"\"),_xlfn.IFNA(IF((INDEX(D18:G18,MATCH(\"n.a.\",D18:G18,0)))=\"n.a.\",\"\",\"\"),_xlfn.IFNA(IF((INDEX(D18:G18,MATCH(\"\",D18:G18,0)))=\"\",\"\",\"\"),\"\"))))))))","v":""}]
[]
[null,"Step 3: D(E) Assessment\nSkip this step if \nyour assessment above does not reveal a D(E) hazard level.\nHover over this cell for additional instructions.",null,"\nOverall hazard level\n",null,{"$f":"IF(AND(C5=\"Yes\",D19=\"\")=TRUE,\"B\",IF(D19=\"\",\"\",(IF(AND(D19=\"D (E)\",C21=\"\"),\"D (E)\"&CHAR(10)&\"Find if cat. 1 acute tox.\",(IF(D19<>\"D (E)\",D19,(IF(AND(D19=\"D (E)\",C21=\"Yes\"),\"E\",(IF(AND(D19=\"D (E)\",C21=\"No\"),\"D\",\"\"))))))))))","v":""}]

{"sheet":"2","index":3,"n_rows":21,"n_cols":7,"rows_kept":21,"cut":false,"hidden":false,"merged":[[20,3,20,4],[20,5,20,6],[1,1,1,4],[2,1,2,4],[3,2,3,6],[5,1,6,1],[5,2,6,2],[5,3,5,6],[17,1,17,2],[18,1,18,2],[18,3,18,6]]}
[null,"“Setting Priorities”\nChemical Hazard Assessment and Prioritization (CHAP)"]
[null,"Hazard Level Assessment 2\nTop 5 Chemicals - By Quantity Used\nComplete Steps 1, 2, and 3 below"]
[]
[null,"Chemical / Product 2: ",{"$f":"IF('Summary Sheet'!B18=\"\", \"\", 'Summary Sheet'!B18)","v":""}]
[null,"\nStep 1: Physical & Environmental Hazard Statements/Codes\nFind Section 2 of the SDS and determine if the SDS has physical and/or environmental hazard statements/codes. Hover on this cell for additional instructions.\n"]
[null,"Step 2: Health Hazard Statements/Codes\nProvide the Health Hazard Statements or Codes from Section 2 of the SDS below. Hover on this cell for additional instructions.",null,"\nHazard Level\n"]
[null,null,null,"Eye Damage","Inhalation","Local Skin Damage","Skin uptake, systemic"]
[1,null,{"$f":"_xlfn.IFNA(VLOOKUP(B8,_!$A$7:$F$210,6,FALSE),\"\")","v":""},{"$f":"_xlfn.IFNA(IF(VLOOKUP(B8,_!$A$7:$E$210,2,FALSE)=0, \"\",VLOOKUP(B8,_!$A$7:$E$210,2,FALSE)), \"\")","v":""},{"$f":"_xlfn.IFNA(IF(VLOOKUP(B8,_!$A$7:$E$210,3,FALSE)=0, \"\",VLOOKUP(B8,_!$A$7:$E$210,3,FALSE)), \"\")","v":""},{"$f":"_xlfn.IFNA(IF(VLOOKUP(B8,_!$A$7:$E$210,4,FALSE)=0, \"\", VLOOKUP(B8,_!$A$7:$E$210,4,FALSE)),\"\")","v":""},{"$f":"_xlfn.IFNA(IF(VLOOKUP(B8,_!$A$7:$E$210,5,FALSE)=0, \"\",VLOOKUP(B8,_!$A$7:$E$210,5,FALSE)), \"\")","v":""}]
[2,null,{"$f":"_xlfn.IFNA(VLOOKUP(B9,_!$A$7:$F$210,6,FALSE),\"\")","v":""},{"$f":"_xlfn.IFNA(IF(VLOOKUP(B9,_!$A$7:$E$210,2,FALSE)=0, \"\",VLOOKUP(B9,_!$A$7:$E$210,2,FALSE)), \"\")","v":""},{"$f":"_xlfn.IFNA(IF(VLOOKUP(B9,_!$A$7:$E$210,3,FALSE)=0, \"\",VLOOKUP(B9,_!$A$7:$E$210,3,FALSE)), \"\")","v":""},{"$f":"_xlfn.IFNA(IF(VLOOKUP(B9,_!$A$7:$E$210,4,FALSE)=0, \"\", VLOOKUP(B9,_!$A$7:$E$210,4,FALSE)),\"\")","v":""},{"$f":"_xlfn.IFNA(IF(VLOOKUP(B9,_!$A$7:$E$210,5,FALSE)=0, \"\",VLOOKUP(B9,_!$A$7:$E$210,5,FALSE)), \"\")","v":""}]
[3,null,{"$f":"_xlfn.IFNA(VLOOKUP(B10,_!$A$7:$F$210,6,FALSE),\"\")","v":""},{"$f":"_xlfn.IFNA(IF(VLOOKUP(B10,_!$A$7:$E$210,2,FALSE)=0, \"\",VLOOKUP(B10,_!$A$7:$E$210,2,FALSE)), \"\")","v":""},{"$f":"_xlfn.IFNA(IF(VLOOKUP(B10,_!$A$7:$E$210,3,FALSE)=0, \"\",VLOOKUP(B10,_!$A$7:$E$210,3,FALSE)), \"\")","v":""},{"$f":"_xlfn.IFNA(IF(VLOOKUP(B10,_!$A$7:$E$210,4,FALSE)=0, \"\", VLOOKUP(B10,_!$A$7:$E$210,4,FALSE)),\"\")","v":""},{"$f":"_xlfn.IFNA(IF(VLOOKUP(B10,_!$A$7:$E$210,5,FALSE)=0, \"\",VLOOKUP(B10,_!$A$7:$E$210,5,FALSE)), \"\")","v":""}]
[4,null,{"$f":"_xlfn.IFNA(VLOOKUP(B11,_!$A$7:$F$210,6,FALSE),\"\")","v":""},{"$f":"_xlfn.IFNA(IF(VLOOKUP(B11,_!$A$7:$E$210,2,FALSE)=0, \"\",VLOOKUP(B11,_!$A$7:$E$210,2,FALSE)), \"\")","v":""},{"$f":"_xlfn.IFNA(IF(VLOOKUP(B11,_!$A$7:$E$210,3,FALSE)=0, \"\",VLOOKUP(B11,_!$A$7:$E$210,3,FALSE)), \"\")","v":""},{"$f":"_xlfn.IFNA(IF(VLOOKUP(B11,_!$A$7:$E$210,4,FALSE)=0, \"\", VLOOKUP(B11,_!$A$7:$E$210,4,FALSE)),\"\")","v":""},{"$f":"_xlfn.IFNA(IF(VLOOKUP(B11,_!$A$7:$E$210,5,FALSE)=0, \"\",VLOOKUP(B11,_!$A$7:$E$210,5,FALSE)), \"\")","v":""}]
[5,null,{"$f":"_xlfn.IFNA(VLOOKUP(B12,_!$A$7:$F$210,6,FALSE),\"\")","v":""},{"$f":"_xlfn.IFNA(IF(VLOOKUP(B12,_!$A$7:$E$210,2,FALSE)=0, \"\",VLOOKUP(B12,_!$A$7:$E$210,2,FALSE)), \"\")","v":""},{"$f":"_xlfn.IFNA(IF(VLOOKUP(B12,_!$A$7:$E$210,3,FALSE)=0, \"\",VLOOKUP(B12,_!$A$7:$E$210,3,FALSE)), \"\")","v":""},{"$f":"_xlfn.IFNA(IF(VLOOKUP(B12,_!$A$7:$E$210,4,FALSE)=0, \"\", VLOOKUP(B12,_!$A$7:$E$210,4,FALSE)),\"\")","v":""},{"$f":"_xlfn.IFNA(IF(VLOOKUP(B12,_!$A$7:$E$210,5,FALSE)=0, \"\",VLOOKUP(B12,_!$A$7:$E$210,5,FALSE)), \"\")","v":""}]
[6,null,{"$f":"_xlfn.IFNA(VLOOKUP(B13,_!$A$7:$F$210,6,FALSE),\"\")","v":""},{"$f":"_xlfn.IFNA(IF(VLOOKUP(B13,_!$A$7:$E$210,2,FALSE)=0, \"\",VLOOKUP(B13,_!$A$7:$E$210,2,FALSE)), \"\")","v":""},{"$f":"_xlfn.IFNA(IF(VLOOKUP(B13,_!$A$7:$E$210,3,FALSE)=0, \"\",VLOOKUP(B13,_!$A$7:$E$210,3,FALSE)), \"\")","v":""},{"$f":"_xlfn.IFNA(IF(VLOOKUP(B13,_!$A$7:$E$210,4,FALSE)=0, \"\", VLOOKUP(B13,_!$A$7:$E$210,4,FALSE)),\"\")","v":""},{"$f":"_xlfn.IFNA(IF(VLOOKUP(B13,_!$A$7:$E$210,5,FALSE)=0, \"\",VLOOKUP(B13,_!$A$7:$E$210,5,FALSE)), \"\")","v":""}]
[7,null,{"$f":"_xlfn.IFNA(VLOOKUP(B14,_!$A$7:$F$210,6,FALSE),\"\")","v":""},{"$f":"_xlfn.IFNA(IF(VLOOKUP(B14,_!$A$7:$E$210,2,FALSE)=0, \"\",VLOOKUP(B14,_!$A$7:$E$210,2,FALSE)), \"\")","v":""},{"$f":"_xlfn.IFNA(IF(VLOOKUP(B14,_!$A$7:$E$210,3,FALSE)=0, \"\",VLOOKUP(B14,_!$A$7:$E$210,3,FALSE)), \"\")","v":""},{"$f":"_xlfn.IFNA(IF(VLOOKUP(B14,_!$A$7:$E$210,4,FALSE)=0, \"\", VLOOKUP(B14,_!$A$7:$E$210,4,FALSE)),\"\")","v":""},{"$f":"_xlfn.IFNA(IF(VLOOKUP(B14,_!$A$7:$E$210,5,FALSE)=0, \"\",VLOOKUP(B14,_!$A$7:$E$210,5,FALSE)), \"\")","v":""}]
[8,null,{"$f":"_xlfn.IFNA(VLOOKUP(B15,_!$A$7:$F$210,6,FALSE),\"\")","v":""},{"$f":"_xlfn.IFNA(IF(VLOOKUP(B15,_!$A$7:$E$210,2,FALSE)=0, \"\",VLOOKUP(B15,_!$A$7:$E$210,2,FALSE)), \"\")","v":""},{"$f":"_xlfn.IFNA(IF(VLOOKUP(B15,_!$A$7:$E$210,3,FALSE)=0, \"\",VLOOKUP(B15,_!$A$7:$E$210,3,FALSE)), \"\")","v":""},{"$f":"_xlfn.IFNA(IF(VLOOKUP(B15,_!$A$7:$E$210,4,FALSE)=0, \"\", VLOOKUP(B15,_!$A$7:$E$210,4,FALSE)),\"\")","v":""},{"$f":"_xlfn.IFNA(IF(VLOOKUP(B15,_!$A$7:$E$210,5,FALSE)=0, \"\",VLOOKUP(B15,_!$A$7:$E$210,5,FALSE)), \"\")","v":""}]
[9,null,{"$f":"_xlfn.IFNA(VLOOKUP(B16,_!$A$7:$F$210,6,FALSE),\"\")","v":""},{"$f":"_xlfn.IFNA(IF(VLOOKUP(B16,_!$A$7:$E$210,2,FALSE)=0, \"\",VLOOKUP(B16,_!$A$7:$E$210,2,FALSE)), \"\")","v":""},{"$f":"_xlfn.IFNA(IF(VLOOKUP(B16,_!$A$7:$E$210,3,FALSE)=0, \"\",VLOOKUP(B16,_!$A$7:$E$210,3,FALSE)), \"\")","v":""},{"$f":"_xlfn.IFNA(IF(VLOOKUP(B16,_!$A$7:$E$210,4,FALSE)=0, \"\", VLOOKUP(B16,_!$A$7:$E$210,4,FALSE)),\"\")","v":""},{"$f":"_xlfn.IFNA(IF(VLOOKUP(B16,_!$A$7:$E$210,5,FALSE)=0, \"\",VLOOKUP(B16,_!$A$7:$E$210,5,FALSE)), \"\")","v":""}]
[10,null,{"$f":"_xlfn.IFNA(VLOOKUP(B17,_!$A$7:$F$210,6,FALSE),\"\")","v":""},{"$f":"_xlfn.IFNA(IF(VLOOKUP(B17,_!$A$7:$E$210,2,FALSE)=0, \"\",VLOOKUP(B17,_!$A$7:$E$210,2,FALSE)), \"\")","v":""},{"$f":"_xlfn.IFNA(IF(VLOOKUP(B17,_!$A$7:$E$210,3,FALSE)=0, \"\",VLOOKUP(B17,_!$A$7:$E$210,3,FALSE)), \"\")","v":""},{"$f":"_xlfn.IFNA(IF(VLOOKUP(B17,_!$A$7:$E$210,4,FALSE)=0, \"\", VLOOKUP(B17,_!$A$7:$E$210,4,FALSE)),\"\")","v":""},{"$f":"_xlfn.IFNA(IF(VLOOKUP(B17,_!$A$7:$E$210,5,FALSE)=0, \"\",VLOOKUP(B17,_!$A$7:$E$210,5,FALSE)), \"\")","v":""}]
[null,"\nHighest hazard level for each ‘Uptake Route’\n",null,{"$f":"_xlfn.IFNA(IF((INDEX(D1:D17,MATCH(\"E\",D1:D17,0)))=\"E\",\"E\",\"\"),_xlfn.IFNA(IF((INDEX(D1:D17,MATCH(\"D\",D1:D17,0)))=\"D\",\"D\",\"\"),_xlfn.IFNA(IF((INDEX(D1:D17,MATCH(\"Ca\",D1:D17,0)))=\"Ca\",\"C\",\"\"),_xlfn.IFNA(IF((INDEX(D1:D17,MATCH(\"C\",D1:D17,0)))=\"C\",\"C\",\"\"),_xlfn.IFNA(IF((INDEX(D1:D17,MATCH(\"B\",D1:D17,0)))=\"B\",\"B\",\"\"),_xlfn.IFNA(IF((INDEX(D1:D17,MATCH(\"A\",D1:D17,0)))=\"A\",\"A\",\"\"),_xlfn.IFNA(IF((INDEX(D1:D17,MATCH(\"n.a.\",D1:D17,0)))=\"n.a.\",\"\",\"\"),_xlfn.IFNA(IF((INDEX(D1:D17,MATCH(\"\",D1:D17,0)))=\"\",\"\",\"\"),\"\"))))))))","v":""},{"$f":"_xlfn.IFNA(IF((INDEX(E1:E17,MATCH(\"E\",E1:E17,0)))=\"E\",\"E\",\"\"),_xlfn.IFNA(IF((INDEX(E1:E17,MATCH(\"D (E)c\",E1:E17,0)))=\"D (E)c\",\"D (E)c\",\"\"),_xlfn.IFNA(IF((INDEX(E1:E17,MATCH(\"Da (E)c\",E1:E17,0)))=\"Da (E)c\",\"D (E)c\",\"\"),_xlfn.IFNA(IF((INDEX(E1:E17,MATCH(\"D\",E1:E17,0)))=\"D\",\"D\",\"\"),_xlfn.IFNA(IF((INDEX(E1:E17,MATCH(\"Ca\",E1:E17,0)))=\"Ca\",\"C\",\"\"),_xlfn.IFNA(IF((INDEX(E1:E17,MATCH(\"C\",E1:E17,0)))=\"C\",\"C\",\"\"),_xlfn.IFNA(IF((INDEX(E1:E17,MATCH(\"Ba\",E1:E17,0)))=\"Ba\",\"B\",\"\"),_xlfn.IFNA(IF((INDEX(E1:E17,MATCH(\"B\",E1:E17,0)))=\"B\",\"B\",\"\"),_xlfn.IFNA(IF((INDEX(E1:E17,MATCH(\"Aa\",E1:E17,0)))=\"Aa\",\"A\",\"\"),_xlfn.IFNA(IF((INDEX(E1:E17,MATCH(\"A\",E1:E17,0)))=\"A\",\"A\",\"\"),_xlfn.IFNA(IF((INDEX(E1:E17,MATCH(\"n.a.\",E1:E17,0)))=\"n.a.\",\"\",\"\"),_xlfn.IFNA(IF((INDEX(E1:E17,MATCH(\"\",E1:E17,0)))=\"\",\"\",\"\"),\"\"))))))))))))","v":""},{"$f":"_xlfn.IFNA(IF((INDEX(F1:F17,MATCH(\"E\",F1:F17,0)))=\"E\",\"E\",\"\"),_xlfn.IFNA(IF((INDEX(F1:F17,MATCH(\"D\",F1:F17,0)))=\"D\",\"D\",\"\"),_xlfn.IFNA(IF((INDEX(F1:F17,MATCH(\"Ca\",F1:F17,0)))=\"Ca\",\"C\",\"\"),_xlfn.IFNA(IF((INDEX(F1:F17,MATCH(\"C\",F1:F17,0)))=\"C\",\"C\",\"\"),_xlfn.IFNA(IF((INDEX(F1:F17,MATCH(\"B\",F1:F17,0)))=\"B\",\"B\",\"\"),_xlfn.IFNA(IF((INDEX(F1:F17,MATCH(\"A\",F1:F17,0)))=\"A\",\"A\",\"\"),_xlfn.IFNA(IF((INDEX(F1:F17,MATCH(\"n.a.\",F1:F17,0)))=\"n.a.\",\"\",\"\"),_xlfn.IFNA(IF((INDEX(F1:F17,MATCH(\"\",F1:F17,0)))=\"\",\"\",\"\"),\"\"))))))))","v":""},{"$f":"_xlfn.IFNA(IF((INDEX(G1:G17,MATCH(\"E\",G1:G17,0)))=\"E\",\"E\",\"\"),_xlfn.IFNA(IF((INDEX(G1:G17,MATCH(\"D (E)c\",G1:G17,0)))=\"D (E)c\",\"D (E)c\",\"\"),_xlfn.IFNA(IF((INDEX(G1:G17,MATCH(\"Db (E)c\",G1:G17,0)))=\"Db (E)c\",\"D (E)c\",\"\"),_xlfn.IFNA(IF((INDEX(G1:G17,MATCH(\"D\",G1:G17,0)))=\"D\",\"D\",\"\"),_xlfn.IFNA(IF((INDEX(G1:G17,MATCH(\"Cb\",G1:G17,0)))=\"Cb\",\"C\",\"\"),_xlfn.IFNA(IF((INDEX(G1:G17,MATCH(\"C\",G1:G17,0)))=\"C\",\"C\",\"\"),_xlfn.IFNA(IF((INDEX(G1:G17,MATCH(\"Bb\",G1:G17,0)))=\"Bb\",\"B\",\"\"),_xlfn.IFNA(IF((INDEX(G1:G17,MATCH(\"B\",G1:G17,0)))=\"B\",\"B\",\"\"),_xlfn.IFNA(IF((INDEX(G1:G17,MATCH(\"Ab\",G1:G17,0)))=\"Ab\",\"A\",\"\"),_xlfn.IFNA(IF((INDEX(G1:G17,MATCH(\"A\",G1:G17,0)))=\"A\",\"A\",\"\"),_xlfn.IFNA(IF((INDEX(G1:G17,MATCH(\"n.a.\",G1:G17,0)))=\"n.a.\",\"\",\"\"),_xlfn.IFNA(IF((INDEX(G1:G17,MATCH(\"\",G1:G17,0)))=\"\",\"\",\"\"),\"\"))))))))))))","v":""}]
[null,"\nHighest hazard level for all 'Uptake Routes' \n",null,{"$f":"_xlfn.IFNA(IF((INDEX(D18:G18,MATCH(\"E\",D18:G18,0)))=\"E\",\"E\",\"\"),_xlfn.IFNA(IF((INDEX(D18:G18,MATCH(\"D (E)c\",D18:G18,0)))=\"D (E)c\",\"D (E)\",\"\"),_xlfn.IFNA(IF((INDEX(D18:G18,MATCH(\"D\",D18:G18,0)))=\"D\",\"D\",\"\"),_xlfn.IFNA(IF((INDEX(D18:G18,MATCH(\"C\",D18:G18,0)))=\"C\",\"C\",\"\"),_xlfn.IFNA(IF((INDEX(D18:G18,MATCH(\"B\",D18:G18,0)))=\"B\",\"B\",\"\"),_xlfn.IFNA(IF((INDEX(D18:G18,MATCH(\"A\",D18:G18,0)))=\"A\",\"A\",\"\"),_xlfn.IFNA(IF((INDEX(D18:G18,MATCH(\"n.a.\",D18:G18,0)))=\"n.a.\",\"\",\"\"),_xlfn.IFNA(IF((INDEX(D18:G18,MATCH(\"\",D18:G18,0)))=\"\",\"\",\"\"),\"\"))))))))","v":""}]
[]
[null,"Step 3: D(E) Assessment\nSkip this step if \nyour assessment above does not reveal a D(E) hazard level.\nHover over this cell for additional instructions.","No","\nOverall hazard level\n",null,{"$f":"IF(AND(C5=\"Yes\",D19=\"\")=TRUE,\"B\",IF(D19=\"\",\"\",(IF(AND(D19=\"D (E)\",C21=\"\"),\"D (E)\"&CHAR(10)&\"Find if cat. 1 acute tox.\",(IF(D19<>\"D (E)\",D19,(IF(AND(D19=\"D (E)\",C21=\"Yes\"),\"E\",(IF(AND(D19=\"D (E)\",C21=\"No\"),\"D\",\"\"))))))))))","v":""}]

{"sheet":"3","index":4,"n_rows":21,"n_cols":7,"rows_kept":21,"cut":false,"hidden":false,"merged":[[20,3,20,4],[20,5,20,6],[1,1,1,4],[2,1,2,4],[3,2,3,6],[5,1,6,1],[5,2,6,2],[5,3,5,6],[17,1,17,2],[18,1,18,2],[18,3,18,6]]}
[null,"“Setting Priorities”\nChemical Hazard Assessment and Prioritization (CHAP)"]
[null,"Hazard Level Assessment 3\nTop 5 Chemicals - By Quantity Used\nComplete Steps 1, 2, and 3 below"]
[]
[null,"Chemical / Product 3: ",{"$f":"IF('Summary Sheet'!B19=\"\", \"\", 'Summary Sheet'!B19)","v":""}]
[null,"\nStep 1: Physical & Environmental Hazard Statements/Codes\nFind Section 2 of the SDS and determine if the SDS has physical and/or environmental hazard statements/codes. Hover on this cell for additional instructions.\n"]
[null,"Step 2: Health Hazard Statements/Codes\nProvide the Health Hazard Statements or Codes from Section 2 of the SDS below. Hover on this cell for additional instructions.",null,"\nHazard Level\n"]
[null,null,null,"Eye Damage","Inhalation","Local Skin Damage","Skin uptake, systemic"]
[1,null,{"$f":"_xlfn.IFNA(VLOOKUP(B8,_!$A$7:$F$210,6,FALSE),\"\")","v":""},{"$f":"_xlfn.IFNA(IF(VLOOKUP(B8,_!$A$7:$E$210,2,FALSE)=0, \"\",VLOOKUP(B8,_!$A$7:$E$210,2,FALSE)), \"\")","v":""},{"$f":"_xlfn.IFNA(IF(VLOOKUP(B8,_!$A$7:$E$210,3,FALSE)=0, \"\",VLOOKUP(B8,_!$A$7:$E$210,3,FALSE)), \"\")","v":""},{"$f":"_xlfn.IFNA(IF(VLOOKUP(B8,_!$A$7:$E$210,4,FALSE)=0, \"\", VLOOKUP(B8,_!$A$7:$E$210,4,FALSE)),\"\")","v":""},{"$f":"_xlfn.IFNA(IF(VLOOKUP(B8,_!$A$7:$E$210,5,FALSE)=0, \"\",VLOOKUP(B8,_!$A$7:$E$210,5,FALSE)), \"\")","v":""}]
[2,null,{"$f":"_xlfn.IFNA(VLOOKUP(B9,_!$A$7:$F$210,6,FALSE),\"\")","v":""},{"$f":"_xlfn.IFNA(IF(VLOOKUP(B9,_!$A$7:$E$210,2,FALSE)=0, \"\",VLOOKUP(B9,_!$A$7:$E$210,2,FALSE)), \"\")","v":""},{"$f":"_xlfn.IFNA(IF(VLOOKUP(B9,_!$A$7:$E$210,3,FALSE)=0, \"\",VLOOKUP(B9,_!$A$7:$E$210,3,FALSE)), \"\")","v":""},{"$f":"_xlfn.IFNA(IF(VLOOKUP(B9,_!$A$7:$E$210,4,FALSE)=0, \"\", VLOOKUP(B9,_!$A$7:$E$210,4,FALSE)),\"\")","v":""},{"$f":"_xlfn.IFNA(IF(VLOOKUP(B9,_!$A$7:$E$210,5,FALSE)=0, \"\",VLOOKUP(B9,_!$A$7:$E$210,5,FALSE)), \"\")","v":""}]
[3,null,{"$f":"_xlfn.IFNA(VLOOKUP(B10,_!$A$7:$F$210,6,FALSE),\"\")","v":""},{"$f":"_xlfn.IFNA(IF(VLOOKUP(B10,_!$A$7:$E$210,2,FALSE)=0, \"\",VLOOKUP(B10,_!$A$7:$E$210,2,FALSE)), \"\")","v":""},{"$f":"_xlfn.IFNA(IF(VLOOKUP(B10,_!$A$7:$E$210,3,FALSE)=0, \"\",VLOOKUP(B10,_!$A$7:$E$210,3,FALSE)), \"\")","v":""},{"$f":"_xlfn.IFNA(IF(VLOOKUP(B10,_!$A$7:$E$210,4,FALSE)=0, \"\", VLOOKUP(B10,_!$A$7:$E$210,4,FALSE)),\"\")","v":""},{"$f":"_xlfn.IFNA(IF(VLOOKUP(B10,_!$A$7:$E$210,5,FALSE)=0, \"\",VLOOKUP(B10,_!$A$7:$E$210,5,FALSE)), \"\")","v":""}]
[4,null,{"$f":"_xlfn.IFNA(VLOOKUP(B11,_!$A$7:$F$210,6,FALSE),\"\")","v":""},{"$f":"_xlfn.IFNA(IF(VLOOKUP(B11,_!$A$7:$E$210,2,FALSE)=0, \"\",VLOOKUP(B11,_!$A$7:$E$210,2,FALSE)), \"\")","v":""},{"$f":"_xlfn.IFNA(IF(VLOOKUP(B11,_!$A$7:$E$210,3,FALSE)=0, \"\",VLOOKUP(B11,_!$A$7:$E$210,3,FALSE)), \"\")","v":""},{"$f":"_xlfn.IFNA(IF(VLOOKUP(B11,_!$A$7:$E$210,4,FALSE)=0, \"\", VLOOKUP(B11,_!$A$7:$E$210,4,FALSE)),\"\")","v":""},{"$f":"_xlfn.IFNA(IF(VLOOKUP(B11,_!$A$7:$E$210,5,FALSE)=0, \"\",VLOOKUP(B11,_!$A$7:$E$210,5,FALSE)), \"\")","v":""}]
[5,null,{"$f":"_xlfn.IFNA(VLOOKUP(B12,_!$A$7:$F$210,6,FALSE),\"\")","v":""},{"$f":"_xlfn.IFNA(IF(VLOOKUP(B12,_!$A$7:$E$210,2,FALSE)=0, \"\",VLOOKUP(B12,_!$A$7:$E$210,2,FALSE)), \"\")","v":""},{"$f":"_xlfn.IFNA(IF(VLOOKUP(B12,_!$A$7:$E$210,3,FALSE)=0, \"\",VLOOKUP(B12,_!$A$7:$E$210,3,FALSE)), \"\")","v":""},{"$f":"_xlfn.IFNA(IF(VLOOKUP(B12,_!$A$7:$E$210,4,FALSE)=0, \"\", VLOOKUP(B12,_!$A$7:$E$210,4,FALSE)),\"\")","v":""},{"$f":"_xlfn.IFNA(IF(VLOOKUP(B12,_!$A$7:$E$210,5,FALSE)=0, \"\",VLOOKUP(B12,_!$A$7:$E$210,5,FALSE)), \"\")","v":""}]
[6,null,{"$f":"_xlfn.IFNA(VLOOKUP(B13,_!$A$7:$F$210,6,FALSE),\"\")","v":""},{"$f":"_xlfn.IFNA(IF(VLOOKUP(B13,_!$A$7:$E$210,2,FALSE)=0, \"\",VLOOKUP(B13,_!$A$7:$E$210,2,FALSE)), \"\")","v":""},{"$f":"_xlfn.IFNA(IF(VLOOKUP(B13,_!$A$7:$E$210,3,FALSE)=0, \"\",VLOOKUP(B13,_!$A$7:$E$210,3,FALSE)), \"\")","v":""},{"$f":"_xlfn.IFNA(IF(VLOOKUP(B13,_!$A$7:$E$210,4,FALSE)=0, \"\", VLOOKUP(B13,_!$A$7:$E$210,4,FALSE)),\"\")","v":""},{"$f":"_xlfn.IFNA(IF(VLOOKUP(B13,_!$A$7:$E$210,5,FALSE)=0, \"\",VLOOKUP(B13,_!$A$7:$E$210,5,FALSE)), \"\")","v":""}]
[7,null,{"$f":"_xlfn.IFNA(VLOOKUP(B14,_!$A$7:$F$210,6,FALSE),\"\")","v":""},{"$f":"_xlfn.IFNA(IF(VLOOKUP(B14,_!$A$7:$E$210,2,FALSE)=0, \"\",VLOOKUP(B14,_!$A$7:$E$210,2,FALSE)), \"\")","v":""},{"$f":"_xlfn.IFNA(IF(VLOOKUP(B14,_!$A$7:$E$210,3,FALSE)=0, \"\",VLOOKUP(B14,_!$A$7:$E$210,3,FALSE)), \"\")","v":""},{"$f":"_xlfn.IFNA(IF(VLOOKUP(B14,_!$A$7:$E$210,4,FALSE)=0, \"\", VLOOKUP(B14,_!$A$7:$E$210,4,FALSE)),\"\")","v":""},{"$f":"_xlfn.IFNA(IF(VLOOKUP(B14,_!$A$7:$E$210,5,FALSE)=0, \"\",VLOOKUP(B14,_!$A$7:$E$210,5,FALSE)), \"\")","v":""}]
[8,null,{"$f":"_xlfn.IFNA(VLOOKUP(B15,_!$A$7:$F$210,6,FALSE),\"\")","v":""},{"$f":"_xlfn.IFNA(IF(VLOOKUP(B15,_!$A$7:$E$210,2,FALSE)=0, \"\",VLOOKUP(B15,_!$A$7:$E$210,2,FALSE)), \"\")","v":""},{"$f":"_xlfn.IFNA(IF(VLOOKUP(B15,_!$A$7:$E$210,3,FALSE)=0, \"\",VLOOKUP(B15,_!$A$7:$E$210,3,FALSE)), \"\")","v":""},{"$f":"_xlfn.IFNA(IF(VLOOKUP(B15,_!$A$7:$E$210,4,FALSE)=0, \"\", VLOOKUP(B15,_!$A$7:$E$210,4,FALSE)),\"\")","v":""},{"$f":"_xlfn.IFNA(IF(VLOOKUP(B15,_!$A$7:$E$210,5,FALSE)=0, \"\",VLOOKUP(B15,_!$A$7:$E$210,5,FALSE)), \"\")","v":""}]
[9,null,{"$f":"_xlfn.IFNA(VLOOKUP(B16,_!$A$7:$F$210,6,FALSE),\"\")","v":""},{"$f":"_xlfn.IFNA(IF(VLOOKUP(B16,_!$A$7:$E$210,2,FALSE)=0, \"\",VLOOKUP(B16,_!$A$7:$E$210,2,FALSE)), \"\")","v":""},{"$f":"_xlfn.IFNA(IF(VLOOKUP(B16,_!$A$7:$E$210,3,FALSE)=0, \"\",VLOOKUP(B16,_!$A$7:$E$210,3,FALSE)), \"\")","v":""},{"$f":"_xlfn.IFNA(IF(VLOOKUP(B16,_!$A$7:$E$210,4,FALSE)=0, \"\", VLOOKUP(B16,_!$A$7:$E$210,4,FALSE)),\"\")","v":""},{"$f":"_xlfn.IFNA(IF(VLOOKUP(B16,_!$A$7:$E$210,5,FALSE)=0, \"\",VLOOKUP(B16,_!$A$7:$E$210,5,FALSE)), \"\")","v":""}]
[10,null,{"$f":"_xlfn.IFNA(VLOOKUP(B17,_!$A$7:$F$210,6,FALSE),\"\")","v":""},{"$f":"_xlfn.IFNA(IF(VLOOKUP(B17,_!$A$7:$E$210,2,FALSE)=0, \"\",VLOOKUP(B17,_!$A$7:$E$210,2,FALSE)), \"\")","v":""},{"$f":"_xlfn.IFNA(IF(VLOOKUP(B17,_!$A$7:$E$210,3,FALSE)=0, \"\",VLOOKUP(B17,_!$A$7:$E$210,3,FALSE)), \"\")","v":""},{"$f":"_xlfn.IFNA(IF(VLOOKUP(B17,_!$A$7:$E$210,4,FALSE)=0, \"\", VLOOKUP(B17,_!$A$7:$E$210,4,FALSE)),\"\")","v":""},{"$f":"_xlfn.IFNA(IF(VLOOKUP(B17,_!$A$7:$E$210,5,FALSE)=0, \"\",VLOOKUP(B17,_!$A$7:$E$210,5,FALSE)), \"\")","v":""}]
[null,"\nHighest hazard level for each ‘Uptake Route’\n",null,{"$f":"_xlfn.IFNA(IF((INDEX(D1:D17,MATCH(\"E\",D1:D17,0)))=\"E\",\"E\",\"\"),_xlfn.IFNA(IF((INDEX(D1:D17,MATCH(\"D\",D1:D17,0)))=\"D\",\"D\",\"\"),_xlfn.IFNA(IF((INDEX(D1:D17,MATCH(\"Ca\",D1:D17,0)))=\"Ca\",\"C\",\"\"),_xlfn.IFNA(IF((INDEX(D1:D17,MATCH(\"C\",D1:D17,0)))=\"C\",\"C\",\"\"),_xlfn.IFNA(IF((INDEX(D1:D17,MATCH(\"B\",D1:D17,0)))=\"B\",\"B\",\"\"),_xlfn.IFNA(IF((INDEX(D1:D17,MATCH(\"A\",D1:D17,0)))=\"A\",\"A\",\"\"),_xlfn.IFNA(IF((INDEX(D1:D17,MATCH(\"n.a.\",D1:D17,0)))=\"n.a.\",\"\",\"\"),_xlfn.IFNA(IF((INDEX(D1:D17,MATCH(\"\",D1:D17,0)))=\"\",\"\",\"\"),\"\"))))))))","v":""},{"$f":"_xlfn.IFNA(IF((INDEX(E1:E17,MATCH(\"E\",E1:E17,0)))=\"E\",\"E\",\"\"),_xlfn.IFNA(IF((INDEX(E1:E17,MATCH(\"D (E)c\",E1:E17,0)))=\"D (E)c\",\"D (E)c\",\"\"),_xlfn.IFNA(IF((INDEX(E1:E17,MATCH(\"Da (E)c\",E1:E17,0)))=\"Da (E)c\",\"D (E)c\",\"\"),_xlfn.IFNA(IF((INDEX(E1:E17,MATCH(\"D\",E1:E17,0)))=\"D\",\"D\",\"\"),_xlfn.IFNA(IF((INDEX(E1:E17,MATCH(\"Ca\",E1:E17,0)))=\"Ca\",\"C\",\"\"),_xlfn.IFNA(IF((INDEX(E1:E17,MATCH(\"C\",E1:E17,0)))=\"C\",\"C\",\"\"),_xlfn.IFNA(IF((INDEX(E1:E17,MATCH(\"Ba\",E1:E17,0)))=\"Ba\",\"B\",\"\"),_xlfn.IFNA(IF((INDEX(E1:E17,MATCH(\"B\",E1:E17,0)))=\"B\",\"B\",\"\"),_xlfn.IFNA(IF((INDEX(E1:E17,MATCH(\"Aa\",E1:E17,0)))=\"Aa\",\"A\",\"\"),_xlfn.IFNA(IF((INDEX(E1:E17,MATCH(\"A\",E1:E17,0)))=\"A\",\"A\",\"\"),_xlfn.IFNA(IF((INDEX(E1:E17,MATCH(\"n.a.\",E1:E17,0)))=\"n.a.\",\"\",\"\"),_xlfn.IFNA(IF((INDEX(E1:E17,MATCH(\"\",E1:E17,0)))=\"\",\"\",\"\"),\"\"))))))))))))","v":""},{"$f":"_xlfn.IFNA(IF((INDEX(F1:F17,MATCH(\"E\",F1:F17,0)))=\"E\",\"E\",\"\"),_xlfn.IFNA(IF((INDEX(F1:F17,MATCH(\"D\",F1:F17,0)))=\"D\",\"D\",\"\"),_xlfn.IFNA(IF((INDEX(F1:F17,MATCH(\"Ca\",F1:F17,0)))=\"Ca\",\"C\",\"\"),_xlfn.IFNA(IF((INDEX(F1:F17,MATCH(\"C\",F1:F17,0)))=\"C\",\"C\",\"\"),_xlfn.IFNA(IF((INDEX(F1:F17,MATCH(\"B\",F1:F17,0)))=\"B\",\"B\",\"\"),_xlfn.IFNA(IF((INDEX(F1:F17,MATCH(\"A\",F1:F17,0)))=\"A\",\"A\",\"\"),_xlfn.IFNA(IF((INDEX(F1:F17,MATCH(\"n.a.\",F1:F17,0)))=\"n.a.\",\"\",\"\"),_xlfn.IFNA(IF((INDEX(F1:F17,MATCH(\"\",F1:F17,0)))=\"\",\"\",\"\"),\"\"))))))))","v":""},{"$f":"_xlfn.IFNA(IF((INDEX(G1:G17,MATCH(\"E\",G1:G17,0)))=\"E\",\"E\",\"\"),_xlfn.IFNA(IF((INDEX(G1:G17,MATCH(\"D (E)c\",G1:G17,0)))=\"D (E)c\",\"D (E)c\",\"\"),_xlfn.IFNA(IF((INDEX(G1:G17,MATCH(\"Db (E)c\",G1:G17,0)))=\"Db (E)c\",\"D (E)c\",\"\"),_xlfn.IFNA(IF((INDEX(G1:G17,MATCH(\"D\",G1:G17,0)))=\"D\",\"D\",\"\"),_xlfn.IFNA(IF((INDEX(G1:G17,MATCH(\"Cb\",G1:G17,0)))=\"Cb\",\"C\",\"\"),_xlfn.IFNA(IF((INDEX(G1:G17,MATCH(\"C\",G1:G17,0)))=\"C\",\"C\",\"\"),_xlfn.IFNA(IF((INDEX(G1:G17,MATCH(\"Bb\",G1:G17,0)))=\"Bb\",\"B\",\"\"),_xlfn.IFNA(IF((INDEX(G1:G17,MATCH(\"B\",G1:G17,0)))=\"B\",\"B\",\"\"),_xlfn.IFNA(IF((INDEX(G1:G17,MATCH(\"Ab\",G1:G17,0)))=\"Ab\",\"A\",\"\"),_xlfn.IFNA(IF((INDEX(G1:G17,MATCH(\"A\",G1:G17,0)))=\"A\",\"A\",\"\"),_xlfn.IFNA(IF((INDEX(G1:G17,MATCH(\"n.a.\",G1:G17,0)))=\"n.a.\",\"\",\"\"),_xlfn.IFNA(IF((INDEX(G1:G17,MATCH(\"\",G1:G17,0)))=\"\",\"\",\"\"),\"\"))))))))))))","v":""}]
[null,"\nHighest hazard level for all 'Uptake Routes' \n",null,{"$f":"_xlfn.IFNA(IF((INDEX(D18:G18,MATCH(\"E\",D18:G18,0)))=\"E\",\"E\",\"\"),_xlfn.IFNA(IF((INDEX(D18:G18,MATCH(\"D (E)c\",D18:G18,0)))=\"D (E)c\",\"D (E)\",\"\"),_xlfn.IFNA(IF((INDEX(D18:G18,MATCH(\"D\",D18:G18,0)))=\"D\",\"D\",\"\"),_xlfn.IFNA(IF((INDEX(D18:G18,MATCH(\"C\",D18:G18,0)))=\"C\",\"C\",\"\"),_xlfn.IFNA(IF((INDEX(D18:G18,MATCH(\"B\",D18:G18,0)))=\"B\",\"B\",\"\"),_xlfn.IFNA(IF((INDEX(D18:G18,MATCH(\"A\",D18:G18,0)))=\"A\",\"A\",\"\"),_xlfn.IFNA(IF((INDEX(D18:G18,MATCH(\"n.a.\",D18:G18,0)))=\"n.a.\",\"\",\"\"),_xlfn.IFNA(IF((INDEX(D18:G18,MATCH(\"\",D18:G18,0)))=\"\",\"\",\"\"),\"\"))))))))","v":""}]
[]
[null,"Step 3: D(E) Assessment\nSkip this step if \nyour assessment above does not reveal a D(E) hazard level.\nHover over this cell for additional instructions.",null,"\nOverall hazard level\n",null,{"$f":"IF(AND(C5=\"Yes\",D19=\"\")=TRUE,\"B\",IF(D19=\"\",\"\",(IF(AND(D19=\"D (E)\",C21=\"\"),\"D (E)\"&CHAR(10)&\"Find if cat. 1 acute tox.\",(IF(D19<>\"D (E)\",D19,(IF(AND(D19=\"D (E)\",C21=\"Yes\"),\"E\",(IF(AND(D19=\"D (E)\",C21=\"No\"),\"D\",\"\"))))))))))","v":""}]

{"sheet":"4","index":5,"n_rows":21,"n_cols":7,"rows_kept":21,"cut":false,"hidden":false,"merged":[[20,3,20,4],[20,5,20,6],[1,1,1,4],[2,1,2,4],[3,2,3,6],[5,1,6,1],[5,2,6,2],[5,3,5,6],[17,1,17,2],[18,1,18,2],[18,3,18,6]]}
[null,"“Setting Priorities”\nChemical Hazard Assessment and Prioritization (CHAP)"]
[null,"Hazard Level Assessment 4\nTop 5 Chemicals - By Quantity Used\nComplete Steps 1, 2, and 3 below"]
[]
[null,"Chemical / Product 4: ",{"$f":"IF('Summary Sheet'!B20=\"\", \"\", 'Summary Sheet'!B20)","v":""}]
[null,"\nStep 1: Physical & Environmental Hazard Statements/Codes\nFind Section 2 of the SDS and determine if the SDS has physical and/or environmental hazard statements/codes. Hover on this cell for additional instructions.\n"]
[null,"Step 2: Health Hazard Statements/Codes\nProvide the Health Hazard Statements or Codes from Section 2 of the SDS below. Hover on this cell for additional instructions.",null,"\nHazard Level\n"]
[null,null,null,"Eye Damage","Inhalation","Local Skin Damage","Skin uptake, systemic"]
[1,null,{"$f":"_xlfn.IFNA(VLOOKUP(B8,_!$A$7:$F$210,6,FALSE),\"\")","v":""},{"$f":"_xlfn.IFNA(IF(VLOOKUP(B8,_!$A$7:$E$210,2,FALSE)=0, \"\",VLOOKUP(B8,_!$A$7:$E$210,2,FALSE)), \"\")","v":""},{"$f":"_xlfn.IFNA(IF(VLOOKUP(B8,_!$A$7:$E$210,3,FALSE)=0, \"\",VLOOKUP(B8,_!$A$7:$E$210,3,FALSE)), \"\")","v":""},{"$f":"_xlfn.IFNA(IF(VLOOKUP(B8,_!$A$7:$E$210,4,FALSE)=0, \"\", VLOOKUP(B8,_!$A$7:$E$210,4,FALSE)),\"\")","v":""},{"$f":"_xlfn.IFNA(IF(VLOOKUP(B8,_!$A$7:$E$210,5,FALSE)=0, \"\",VLOOKUP(B8,_!$A$7:$E$210,5,FALSE)), \"\")","v":""}]
[2,null,{"$f":"_xlfn.IFNA(VLOOKUP(B9,_!$A$7:$F$210,6,FALSE),\"\")","v":""},{"$f":"_xlfn.IFNA(IF(VLOOKUP(B9,_!$A$7:$E$210,2,FALSE)=0, \"\",VLOOKUP(B9,_!$A$7:$E$210,2,FALSE)), \"\")","v":""},{"$f":"_xlfn.IFNA(IF(VLOOKUP(B9,_!$A$7:$E$210,3,FALSE)=0, \"\",VLOOKUP(B9,_!$A$7:$E$210,3,FALSE)), \"\")","v":""},{"$f":"_xlfn.IFNA(IF(VLOOKUP(B9,_!$A$7:$E$210,4,FALSE)=0, \"\", VLOOKUP(B9,_!$A$7:$E$210,4,FALSE)),\"\")","v":""},{"$f":"_xlfn.IFNA(IF(VLOOKUP(B9,_!$A$7:$E$210,5,FALSE)=0, \"\",VLOOKUP(B9,_!$A$7:$E$210,5,FALSE)), \"\")","v":""}]
[3,null,{"$f":"_xlfn.IFNA(VLOOKUP(B10,_!$A$7:$F$210,6,FALSE),\"\")","v":""},{"$f":"_xlfn.IFNA(IF(VLOOKUP(B10,_!$A$7:$E$210,2,FALSE)=0, \"\",VLOOKUP(B10,_!$A$7:$E$210,2,FALSE)), \"\")","v":""},{"$f":"_xlfn.IFNA(IF(VLOOKUP(B10,_!$A$7:$E$210,3,FALSE)=0, \"\",VLOOKUP(B10,_!$A$7:$E$210,3,FALSE)), \"\")","v":""},{"$f":"_xlfn.IFNA(IF(VLOOKUP(B10,_!$A$7:$E$210,4,FALSE)=0, \"\", VLOOKUP(B10,_!$A$7:$E$210,4,FALSE)),\"\")","v":""},{"$f":"_xlfn.IFNA(IF(VLOOKUP(B10,_!$A$7:$E$210,5,FALSE)=0, \"\",VLOOKUP(B10,_!$A$7:$E$210,5,FALSE)), \"\")","v":""}]
[4,null,{"$f":"_xlfn.IFNA(VLOOKUP(B11,_!$A$7:$F$210,6,FALSE),\"\")","v":""},{"$f":"_xlfn.IFNA(IF(VLOOKUP(B11,_!$A$7:$E$210,2,FALSE)=0, \"\",VLOOKUP(B11,_!$A$7:$E$210,2,FALSE)), \"\")","v":""},{"$f":"_xlfn.IFNA(IF(VLOOKUP(B11,_!$A$7:$E$210,3,FALSE)=0, \"\",VLOOKUP(B11,_!$A$7:$E$210,3,FALSE)), \"\")","v":""},{"$f":"_xlfn.IFNA(IF(VLOOKUP(B11,_!$A$7:$E$210,4,FALSE)=0, \"\", VLOOKUP(B11,_!$A$7:$E$210,4,FALSE)),\"\")","v":""},{"$f":"_xlfn.IFNA(IF(VLOOKUP(B11,_!$A$7:$E$210,5,FALSE)=0, \"\",VLOOKUP(B11,_!$A$7:$E$210,5,FALSE)), \"\")","v":""}]
[5,null,{"$f":"_xlfn.IFNA(VLOOKUP(B12,_!$A$7:$F$210,6,FALSE),\"\")","v":""},{"$f":"_xlfn.IFNA(IF(VLOOKUP(B12,_!$A$7:$E$210,2,FALSE)=0, \"\",VLOOKUP(B12,_!$A$7:$E$210,2,FALSE)), \"\")","v":""},{"$f":"_xlfn.IFNA(IF(VLOOKUP(B12,_!$A$7:$E$210,3,FALSE)=0, \"\",VLOOKUP(B12,_!$A$7:$E$210,3,FALSE)), \"\")","v":""},{"$f":"_xlfn.IFNA(IF(VLOOKUP(B12,_!$A$7:$E$210,4,FALSE)=0, \"\", VLOOKUP(B12,_!$A$7:$E$210,4,FALSE)),\"\")","v":""},{"$f":"_xlfn.IFNA(IF(VLOOKUP(B12,_!$A$7:$E$210,5,FALSE)=0, \"\",VLOOKUP(B12,_!$A$7:$E$210,5,FALSE)), \"\")","v":""}]
[6,null,{"$f":"_xlfn.IFNA(VLOOKUP(B13,_!$A$7:$F$210,6,FALSE),\"\")","v":""},{"$f":"_xlfn.IFNA(IF(VLOOKUP(B13,_!$A$7:$E$210,2,FALSE)=0, \"\",VLOOKUP(B13,_!$A$7:$E$210,2,FALSE)), \"\")","v":""},{"$f":"_xlfn.IFNA(IF(VLOOKUP(B13,_!$A$7:$E$210,3,FALSE)=0, \"\",VLOOKUP(B13,_!$A$7:$E$210,3,FALSE)), \"\")","v":""},{"$f":"_xlfn.IFNA(IF(VLOOKUP(B13,_!$A$7:$E$210,4,FALSE)=0, \"\", VLOOKUP(B13,_!$A$7:$E$210,4,FALSE)),\"\")","v":""},{"$f":"_xlfn.IFNA(IF(VLOOKUP(B13,_!$A$7:$E$210,5,FALSE)=0, \"\",VLOOKUP(B13,_!$A$7:$E$210,5,FALSE)), \"\")","v":""}]
[7,null,{"$f":"_xlfn.IFNA(VLOOKUP(B14,_!$A$7:$F$210,6,FALSE),\"\")","v":""},{"$f":"_xlfn.IFNA(IF(VLOOKUP(B14,_!$A$7:$E$210,2,FALSE)=0, \"\",VLOOKUP(B14,_!$A$7:$E$210,2,FALSE)), \"\")","v":""},{"$f":"_xlfn.IFNA(IF(VLOOKUP(B14,_!$A$7:$E$210,3,FALSE)=0, \"\",VLOOKUP(B14,_!$A$7:$E$210,3,FALSE)), \"\")","v":""},{"$f":"_xlfn.IFNA(IF(VLOOKUP(B14,_!$A$7:$E$210,4,FALSE)=0, \"\", VLOOKUP(B14,_!$A$7:$E$210,4,FALSE)),\"\")","v":""},{"$f":"_xlfn.IFNA(IF(VLOOKUP(B14,_!$A$7:$E$210,5,FALSE)=0, \"\",VLOOKUP(B14,_!$A$7:$E$210,5,FALSE)), \"\")","v":""}]
[8,null,{"$f":"_xlfn.IFNA(VLOOKUP(B15,_!$A$7:$F$210,6,FALSE),\"\")","v":""},{"$f":"_xlfn.IFNA(IF(VLOOKUP(B15,_!$A$7:$E$210,2,FALSE)=0, \"\",VLOOKUP(B15,_!$A$7:$E$210,2,FALSE)), \"\")","v":""},{"$f":"_xlfn.IFNA(IF(VLOOKUP(B15,_!$A$7:$E$210,3,FALSE)=0, \"\",VLOOKUP(B15,_!$A$7:$E$210,3,FALSE)), \"\")","v":""},{"$f":"_xlfn.IFNA(IF(VLOOKUP(B15,_!$A$7:$E$210,4,FALSE)=0, \"\", VLOOKUP(B15,_!$A$7:$E$210,4,FALSE)),\"\")","v":""},{"$f":"_xlfn.IFNA(IF(VLOOKUP(B15,_!$A$7:$E$210,5,FALSE)=0, \"\",VLOOKUP(B15,_!$A$7:$E$210,5,FALSE)), \"\")","v":""}]
[9,null,{"$f":"_xlfn.IFNA(VLOOKUP(B16,_!$A$7:$F$210,6,FALSE),\"\")","v":""},{"$f":"_xlfn.IFNA(IF(VLOOKUP(B16,_!$A$7:$E$210,2,FALSE)=0, \"\",VLOOKUP(B16,_!$A$7:$E$210,2,FALSE)), \"\")","v":""},{"$f":"_xlfn.IFNA(IF(VLOOKUP(B16,_!$A$7:$E$210,3,FALSE)=0, \"\",VLOOKUP(B16,_!$A$7:$E$210,3,FALSE)), \"\")","v":""},{"$f":"_xlfn.IFNA(IF(VLOOKUP(B16,_!$A$7:$E$210,4,FALSE)=0, \"\", VLOOKUP(B16,_!$A$7:$E$210,4,FALSE)),\"\")","v":""},{"$f":"_xlfn.IFNA(IF(VLOOKUP(B16,_!$A$7:$E$210,5,FALSE)=0, \"\",VLOOKUP(B16,_!$A$7:$E$210,5,FALSE)), \"\")","v":""}]
[10,null,{"$f":"_xlfn.IFNA(VLOOKUP(B17,_!$A$7:$F$210,6,FALSE),\"\")","v":""},{"$f":"_xlfn.IFNA(IF(VLOOKUP(B17,_!$A$7:$E$210,2,FALSE)=0, \"\",VLOOKUP(B17,_!$A$7:$E$210,2,FALSE)), \"\")","v":""},{"$f":"_xlfn.IFNA(IF(VLOOKUP(B17,_!$A$7:$E$210,3,FALSE)=0, \"\",VLOOKUP(B17,_!$A$7:$E$210,3,FALSE)), \"\")","v":""},{"$f":"_xlfn.IFNA(IF(VLOOKUP(B17,_!$A$7:$E$210,4,FALSE)=0, \"\", VLOOKUP(B17,_!$A$7:$E$210,4,FALSE)),\"\")","v":""},{"$f":"_xlfn.IFNA(IF(VLOOKUP(B17,_!$A$7:$E$210,5,FALSE)=0, \"\",VLOOKUP(B17,_!$A$7:$E$210,5,FALSE)), \"\")","v":""}]
[null,"\nHighest hazard level for each ‘Uptake Route’\n",null,{"$f":"_xlfn.IFNA(IF((INDEX(D1:D17,MATCH(\"E\",D1:D17,0)))=\"E\",\"E\",\"\"),_xlfn.IFNA(IF((INDEX(D1:D17,MATCH(\"D\",D1:D17,0)))=\"D\",\"D\",\"\"),_xlfn.IFNA(IF((INDEX(D1:D17,MATCH(\"Ca\",D1:D17,0)))=\"Ca\",\"C\",\"\"),_xlfn.IFNA(IF((INDEX(D1:D17,MATCH(\"C\",D1:D17,0)))=\"C\",\"C\",\"\"),_xlfn.IFNA(IF((INDEX(D1:D17,MATCH(\"B\",D1:D17,0)))=\"B\",\"B\",\"\"),_xlfn.IFNA(IF((INDEX(D1:D17,MATCH(\"A\",D1:D17,0)))=\"A\",\"A\",\"\"),_xlfn.IFNA(IF((INDEX(D1:D17,MATCH(\"n.a.\",D1:D17,0)))=\"n.a.\",\"\",\"\"),_xlfn.IFNA(IF((INDEX(D1:D17,MATCH(\"\",D1:D17,0)))=\"\",\"\",\"\"),\"\"))))))))","v":""},{"$f":"_xlfn.IFNA(IF((INDEX(E1:E17,MATCH(\"E\",E1:E17,0)))=\"E\",\"E\",\"\"),_xlfn.IFNA(IF((INDEX(E1:E17,MATCH(\"D (E)c\",E1:E17,0)))=\"D (E)c\",\"D (E)c\",\"\"),_xlfn.IFNA(IF((INDEX(E1:E17,MATCH(\"Da (E)c\",E1:E17,0)))=\"Da (E)c\",\"D (E)c\",\"\"),_xlfn.IFNA(IF((INDEX(E1:E17,MATCH(\"D\",E1:E17,0)))=\"D\",\"D\",\"\"),_xlfn.IFNA(IF((INDEX(E1:E17,MATCH(\"Ca\",E1:E17,0)))=\"Ca\",\"C\",\"\"),_xlfn.IFNA(IF((INDEX(E1:E17,MATCH(\"C\",E1:E17,0)))=\"C\",\"C\",\"\"),_xlfn.IFNA(IF((INDEX(E1:E17,MATCH(\"Ba\",E1:E17,0)))=\"Ba\",\"B\",\"\"),_xlfn.IFNA(IF((INDEX(E1:E17,MATCH(\"B\",E1:E17,0)))=\"B\",\"B\",\"\"),_xlfn.IFNA(IF((INDEX(E1:E17,MATCH(\"Aa\",E1:E17,0)))=\"Aa\",\"A\",\"\"),_xlfn.IFNA(IF((INDEX(E1:E17,MATCH(\"A\",E1:E17,0)))=\"A\",\"A\",\"\"),_xlfn.IFNA(IF((INDEX(E1:E17,MATCH(\"n.a.\",E1:E17,0)))=\"n.a.\",\"\",\"\"),_xlfn.IFNA(IF((INDEX(E1:E17,MATCH(\"\",E1:E17,0)))=\"\",\"\",\"\"),\"\"))))))))))))","v":""},{"$f":"_xlfn.IFNA(IF((INDEX(F1:F17,MATCH(\"E\",F1:F17,0)))=\"E\",\"E\",\"\"),_xlfn.IFNA(IF((INDEX(F1:F17,MATCH(\"D\",F1:F17,0)))=\"D\",\"D\",\"\"),_xlfn.IFNA(IF((INDEX(F1:F17,MATCH(\"Ca\",F1:F17,0)))=\"Ca\",\"C\",\"\"),_xlfn.IFNA(IF((INDEX(F1:F17,MATCH(\"C\",F1:F17,0)))=\"C\",\"C\",\"\"),_xlfn.IFNA(IF((INDEX(F1:F17,MATCH(\"B\",F1:F17,0)))=\"B\",\"B\",\"\"),_xlfn.IFNA(IF((INDEX(F1:F17,MATCH(\"A\",F1:F17,0)))=\"A\",\"A\",\"\"),_xlfn.IFNA(IF((INDEX(F1:F17,MATCH(\"n.a.\",F1:F17,0)))=\"n.a.\",\"\",\"\"),_xlfn.IFNA(IF((INDEX(F1:F17,MATCH(\"\",F1:F17,0)))=\"\",\"\",\"\"),\"\"))))))))","v":""},{"$f":"_xlfn.IFNA(IF((INDEX(G1:G17,MATCH(\"E\",G1:G17,0)))=\"E\",\"E\",\"\"),_xlfn.IFNA(IF((INDEX(G1:G17,MATCH(\"D (E)c\",G1:G17,0)))=\"D (E)c\",\"D (E)c\",\"\"),_xlfn.IFNA(IF((INDEX(G1:G17,MATCH(\"Db (E)c\",G1:G17,0)))=\"Db (E)c\",\"D (E)c\",\"\"),_xlfn.IFNA(IF((INDEX(G1:G17,MATCH(\"D\",G1:G17,0)))=\"D\",\"D\",\"\"),_xlfn.IFNA(IF((INDEX(G1:G17,MATCH(\"Cb\",G1:G17,0)))=\"Cb\",\"C\",\"\"),_xlfn.IFNA(IF((INDEX(G1:G17,MATCH(\"C\",G1:G17,0)))=\"C\",\"C\",\"\"),_xlfn.IFNA(IF((INDEX(G1:G17,MATCH(\"Bb\",G1:G17,0)))=\"Bb\",\"B\",\"\"),_xlfn.IFNA(IF((INDEX(G1:G17,MATCH(\"B\",G1:G17,0)))=\"B\",\"B\",\"\"),_xlfn.IFNA(IF((INDEX(G1:G17,MATCH(\"Ab\",G1:G17,0)))=\"Ab\",\"A\",\"\"),_xlfn.IFNA(IF((INDEX(G1:G17,MATCH(\"A\",G1:G17,0)))=\"A\",\"A\",\"\"),_xlfn.IFNA(IF((INDEX(G1:G17,MATCH(\"n.a.\",G1:G17,0)))=\"n.a.\",\"\",\"\"),_xlfn.IFNA(IF((INDEX(G1:G17,MATCH(\"\",G1:G17,0)))=\"\",\"\",\"\"),\"\"))))))))))))","v":""}]
[null,"\nHighest hazard level for all 'Uptake Routes' \n",null,{"$f":"_xlfn.IFNA(IF((INDEX(D18:G18,MATCH(\"E\",D18:G18,0)))=\"E\",\"E\",\"\"),_xlfn.IFNA(IF((INDEX(D18:G18,MATCH(\"D (E)c\",D18:G18,0)))=\"D (E)c\",\"D (E)\",\"\"),_xlfn.IFNA(IF((INDEX(D18:G18,MATCH(\"D\",D18:G18,0)))=\"D\",\"D\",\"\"),_xlfn.IFNA(IF((INDEX(D18:G18,MATCH(\"C\",D18:G18,0)))=\"C\",\"C\",\"\"),_xlfn.IFNA(IF((INDEX(D18:G18,MATCH(\"B\",D18:G18,0)))=\"B\",\"B\",\"\"),_xlfn.IFNA(IF((INDEX(D18:G18,MATCH(\"A\",D18:G18,0)))=\"A\",\"A\",\"\"),_xlfn.IFNA(IF((INDEX(D18:G18,MATCH(\"n.a.\",D18:G18,0)))=\"n.a.\",\"\",\"\"),_xlfn.IFNA(IF((INDEX(D18:G18,MATCH(\"\",D18:G18,0)))=\"\",\"\",\"\"),\"\"))))))))","v":""}]
[]
[null,"Step 3: D(E) Assessment\nSkip this step if \nyour assessment above does not reveal a D(E) hazard level.\nHover over this cell for additional instructions.",null,"\nOverall hazard level\n",null,{"$f":"IF(AND(C5=\"Yes\",D19=\"\")=TRUE,\"B\",IF(D19=\"\",\"\",(IF(AND(D19=\"D (E)\",C21=\"\"),\"D (E)\"&CHAR(10)&\"Find if cat. 1 acute tox.\",(IF(D19<>\"D (E)\",D19,(IF(AND(D19=\"D (E)\",C21=\"Yes\"),\"E\",(IF(AND(D19=\"D (E)\",C21=\"No\"),\"D\",\"\"))))))))))","v":""}]

{"sheet":"5","index":6,"n_rows":21,"n_cols":7,"rows_kept":21,"cut":false,"hidden":false,"merged":[[20,3,20,4],[20,5,20,6],[1,1,1,4],[2,1,2,4],[3,2,3,6],[5,1,6,1],[5,2,6,2],[5,3,5,6],[17,1,17,2],[18,1,18,2],[18,3,18,6]]}
[null,"“Setting Priorities”\nChemical Hazard Assessment and Prioritization (CHAP)"]
[null,"Hazard Level Assessment 5\nTop 5 Chemicals - By Quantity Used\nComplete Steps 1, 2, and 3 below"]
[]
[null,"Chemical / Product 5: ",{"$f":"IF('Summary Sheet'!B21=\"\", \"\", 'Summary Sheet'!B21)","v":""}]
[null,"\nStep 1: Physical & Environmental Hazard Statements/Codes\nFind Section 2 of the SDS and determine if the SDS has physical and/or environmental hazard statements/codes. Hover on this cell for additional instructions.\n"]
[null,"Step 2: Health Hazard Statements/Codes\nProvide the Health Hazard Statements or Codes from Section 2 of the SDS below. Hover on this cell for additional instructions.",null,"\nHazard Level\n"]
[null,null,null,"Eye Damage","Inhalation","Local Skin Damage","Skin uptake, systemic"]
[1,null,{"$f":"_xlfn.IFNA(VLOOKUP(B8,_!$A$7:$F$210,6,FALSE),\"\")","v":""},{"$f":"_xlfn.IFNA(IF(VLOOKUP(B8,_!$A$7:$E$210,2,FALSE)=0, \"\",VLOOKUP(B8,_!$A$7:$E$210,2,FALSE)), \"\")","v":""},{"$f":"_xlfn.IFNA(IF(VLOOKUP(B8,_!$A$7:$E$210,3,FALSE)=0, \"\",VLOOKUP(B8,_!$A$7:$E$210,3,FALSE)), \"\")","v":""},{"$f":"_xlfn.IFNA(IF(VLOOKUP(B8,_!$A$7:$E$210,4,FALSE)=0, \"\", VLOOKUP(B8,_!$A$7:$E$210,4,FALSE)),\"\")","v":""},{"$f":"_xlfn.IFNA(IF(VLOOKUP(B8,_!$A$7:$E$210,5,FALSE)=0, \"\",VLOOKUP(B8,_!$A$7:$E$210,5,FALSE)), \"\")","v":""}]
[2,null,{"$f":"_xlfn.IFNA(VLOOKUP(B9,_!$A$7:$F$210,6,FALSE),\"\")","v":""},{"$f":"_xlfn.IFNA(IF(VLOOKUP(B9,_!$A$7:$E$210,2,FALSE)=0, \"\",VLOOKUP(B9,_!$A$7:$E$210,2,FALSE)), \"\")","v":""},{"$f":"_xlfn.IFNA(IF(VLOOKUP(B9,_!$A$7:$E$210,3,FALSE)=0, \"\",VLOOKUP(B9,_!$A$7:$E$210,3,FALSE)), \"\")","v":""},{"$f":"_xlfn.IFNA(IF(VLOOKUP(B9,_!$A$7:$E$210,4,FALSE)=0, \"\", VLOOKUP(B9,_!$A$7:$E$210,4,FALSE)),\"\")","v":""},{"$f":"_xlfn.IFNA(IF(VLOOKUP(B9,_!$A$7:$E$210,5,FALSE)=0, \"\",VLOOKUP(B9,_!$A$7:$E$210,5,FALSE)), \"\")","v":""}]
[3,null,{"$f":"_xlfn.IFNA(VLOOKUP(B10,_!$A$7:$F$210,6,FALSE),\"\")","v":""},{"$f":"_xlfn.IFNA(IF(VLOOKUP(B10,_!$A$7:$E$210,2,FALSE)=0, \"\",VLOOKUP(B10,_!$A$7:$E$210,2,FALSE)), \"\")","v":""},{"$f":"_xlfn.IFNA(IF(VLOOKUP(B10,_!$A$7:$E$210,3,FALSE)=0, \"\",VLOOKUP(B10,_!$A$7:$E$210,3,FALSE)), \"\")","v":""},{"$f":"_xlfn.IFNA(IF(VLOOKUP(B10,_!$A$7:$E$210,4,FALSE)=0, \"\", VLOOKUP(B10,_!$A$7:$E$210,4,FALSE)),\"\")","v":""},{"$f":"_xlfn.IFNA(IF(VLOOKUP(B10,_!$A$7:$E$210,5,FALSE)=0, \"\",VLOOKUP(B10,_!$A$7:$E$210,5,FALSE)), \"\")","v":""}]
[4,null,{"$f":"_xlfn.IFNA(VLOOKUP(B11,_!$A$7:$F$210,6,FALSE),\"\")","v":""},{"$f":"_xlfn.IFNA(IF(VLOOKUP(B11,_!$A$7:$E$210,2,FALSE)=0, \"\",VLOOKUP(B11,_!$A$7:$E$210,2,FALSE)), \"\")","v":""},{"$f":"_xlfn.IFNA(IF(VLOOKUP(B11,_!$A$7:$E$210,3,FALSE)=0, \"\",VLOOKUP(B11,_!$A$7:$E$210,3,FALSE)), \"\")","v":""},{"$f":"_xlfn.IFNA(IF(VLOOKUP(B11,_!$A$7:$E$210,4,FALSE)=0, \"\", VLOOKUP(B11,_!$A$7:$E$210,4,FALSE)),\"\")","v":""},{"$f":"_xlfn.IFNA(IF(VLOOKUP(B11,_!$A$7:$E$210,5,FALSE)=0, \"\",VLOOKUP(B11,_!$A$7:$E$210,5,FALSE)), \"\")","v":""}]
[5,null,{"$f":"_xlfn.IFNA(VLOOKUP(B12,_!$A$7:$F$210,6,FALSE),\"\")","v":""},{"$f":"_xlfn.IFNA(IF(VLOOKUP(B12,_!$A$7:$E$210,2,FALSE)=0, \"\",VLOOKUP(B12,_!$A$7:$E$210,2,FALSE)), \"\")","v":""},{"$f":"_xlfn.IFNA(IF(VLOOKUP(B12,_!$A$7:$E$210,3,FALSE)=0, \"\",VLOOKUP(B12,_!$A$7:$E$210,3,FALSE)), \"\")","v":""},{"$f":"_xlfn.IFNA(IF(VLOOKUP(B12,_!$A$7:$E$210,4,FALSE)=0, \"\", VLOOKUP(B12,_!$A$7:$E$210,4,FALSE)),\"\")","v":""},{"$f":"_xlfn.IFNA(IF(VLOOKUP(B12,_!$A$7:$E$210,5,FALSE)=0, \"\",VLOOKUP(B12,_!$A$7:$E$210,5,FALSE)), \"\")","v":""}]
[6,null,{"$f":"_xlfn.IFNA(VLOOKUP(B13,_!$A$7:$F$210,6,FALSE),\"\")","v":""},{"$f":"_xlfn.IFNA(IF(VLOOKUP(B13,_!$A$7:$E$210,2,FALSE)=0, \"\",VLOOKUP(B13,_!$A$7:$E$210,2,FALSE)), \"\")","v":""},{"$f":"_xlfn.IFNA(IF(VLOOKUP(B13,_!$A$7:$E$210,3,FALSE)=0, \"\",VLOOKUP(B13,_!$A$7:$E$210,3,FALSE)), \"\")","v":""},{"$f":"_xlfn.IFNA(IF(VLOOKUP(B13,_!$A$7:$E$210,4,FALSE)=0, \"\", VLOOKUP(B13,_!$A$7:$E$210,4,FALSE)),\"\")","v":""},{"$f":"_xlfn.IFNA(IF(VLOOKUP(B13,_!$A$7:$E$210,5,FALSE)=0, \"\",VLOOKUP(B13,_!$A$7:$E$210,5,FALSE)), \"\")","v":""}]
[7,null,{"$f":"_xlfn.IFNA(VLOOKUP(B14,_!$A$7:$F$210,6,FALSE),\"\")","v":""},{"$f":"_xlfn.IFNA(IF(VLOOKUP(B14,_!$A$7:$E$210,2,FALSE)=0, \"\",VLOOKUP(B14,_!$A$7:$E$210,2,FALSE)), \"\")","v":""},{"$f":"_xlfn.IFNA(IF(VLOOKUP(B14,_!$A$7:$E$210,3,FALSE)=0, \"\",VLOOKUP(B14,_!$A$7:$E$210,3,FALSE)), \"\")","v":""},{"$f":"_xlfn.IFNA(IF(VLOOKUP(B14,_!$A$7:$E$210,4,FALSE)=0, \"\", VLOOKUP(B14,_!$A$7:$E$210,4,FALSE)),\"\")","v":""},{"$f":"_xlfn.IFNA(IF(VLOOKUP(B14,_!$A$7:$E$210,5,FALSE)=0, \"\",VLOOKUP(B14,_!$A$7:$E$210,5,FALSE)), \"\")","v":""}]
[8,null,{"$f":"_xlfn.IFNA(VLOOKUP(B15,_!$A$7:$F$210,6,FALSE),\"\")","v":""},{"$f":"_xlfn.IFNA(IF(VLOOKUP(B15,_!$A$7:$E$210,2,FALSE)=0, \"\",VLOOKUP(B15,_!$A$7:$E$210,2,FALSE)), \"\")","v":""},{"$f":"_xlfn.IFNA(IF(VLOOKUP(B15,_!$A$7:$E$210,3,FALSE)=0, \"\",VLOOKUP(B15,_!$A$7:$E$210,3,FALSE)), \"\")","v":""},{"$f":"_xlfn.IFNA(IF(VLOOKUP(B15,_!$A$7:$E$210,4,FALSE)=0, \"\", VLOOKUP(B15,_!$A$7:$E$210,4,FALSE)),\"\")","v":""},{"$f":"_xlfn.IFNA(IF(VLOOKUP(B15,_!$A$7:$E$210,5,FALSE)=0, \"\",VLOOKUP(B15,_!$A$7:$E$210,5,FALSE)), \"\")","v":""}]
[9,null,{"$f":"_xlfn.IFNA(VLOOKUP(B16,_!$A$7:$F$210,6,FALSE),\"\")","v":""},{"$f":"_xlfn.IFNA(IF(VLOOKUP(B16,_!$A$7:$E$210,2,FALSE)=0, \"\",VLOOKUP(B16,_!$A$7:$E$210,2,FALSE)), \"\")","v":""},{"$f":"_xlfn.IFNA(IF(VLOOKUP(B16,_!$A$7:$E$210,3,FALSE)=0, \"\",VLOOKUP(B16,_!$A$7:$E$210,3,FALSE)), \"\")","v":""},{"$f":"_xlfn.IFNA(IF(VLOOKUP(B16,_!$A$7:$E$210,4,FALSE)=0, \"\", VLOOKUP(B16,_!$A$7:$E$210,4,FALSE)),\"\")","v":""},{"$f":"_xlfn.IFNA(IF(VLOOKUP(B16,_!$A$7:$E$210,5,FALSE)=0, \"\",VLOOKUP(B16,_!$A$7:$E$210,5,FALSE)), \"\")","v":""}]
[10,null,{"$f":"_xlfn.IFNA(VLOOKUP(B17,_!$A$7:$F$210,6,FALSE),\"\")","v":""},{"$f":"_xlfn.IFNA(IF(VLOOKUP(B17,_!$A$7:$E$210,2,FALSE)=0, \"\",VLOOKUP(B17,_!$A$7:$E$210,2,FALSE)), \"\")","v":""},{"$f":"_xlfn.IFNA(IF(VLOOKUP(B17,_!$A$7:$E$210,3,FALSE)=0, \"\",VLOOKUP(B17,_!$A$7:$E$210,3,FALSE)), \"\")","v":""},{"$f":"_xlfn.IFNA(IF(VLOOKUP(B17,_!$A$7:$E$210,4,FALSE)=0, \"\", VLOOKUP(B17,_!$A$7:$E$210,4,FALSE)),\"\")","v":""},{"$f":"_xlfn.IFNA(IF(VLOOKUP(B17,_!$A$7:$E$210,5,FALSE)=0, \"\",VLOOKUP(B17,_!$A$7:$E$210,5,FALSE)), \"\")","v":""}]
[null,"\nHighest hazard level for each ‘Uptake Route’\n",null,{"$f":"_xlfn.IFNA(IF((INDEX(D1:D17,MATCH(\"E\",D1:D17,0)))=\"E\",\"E\",\"\"),_xlfn.IFNA(IF((INDEX(D1:D17,MATCH(\"D\",D1:D17,0)))=\"D\",\"D\",\"\"),_xlfn.IFNA(IF((INDEX(D1:D17,MATCH(\"Ca\",D1:D17,0)))=\"Ca\",\"C\",\"\"),_xlfn.IFNA(IF((INDEX(D1:D17,MATCH(\"C\",D1:D17,0)))=\"C\",\"C\",\"\"),_xlfn.IFNA(IF((INDEX(D1:D17,MATCH(\"B\",D1:D17,0)))=\"B\",\"B\",\"\"),_xlfn.IFNA(IF((INDEX(D1:D17,MATCH(\"A\",D1:D17,0)))=\"A\",\"A\",\"\"),_xlfn.IFNA(IF((INDEX(D1:D17,MATCH(\"n.a.\",D1:D17,0)))=\"n.a.\",\"\",\"\"),_xlfn.IFNA(IF((INDEX(D1:D17,MATCH(\"\",D1:D17,0)))=\"\",\"\",\"\"),\"\"))))))))","v":""},{"$f":"_xlfn.IFNA(IF((INDEX(E1:E17,MATCH(\"E\",E1:E17,0)))=\"E\",\"E\",\"\"),_xlfn.IFNA(IF((INDEX(E1:E17,MATCH(\"D (E)c\",E1:E17,0)))=\"D (E)c\",\"D (E)c\",\"\"),_xlfn.IFNA(IF((INDEX(E1:E17,MATCH(\"Da (E)c\",E1:E17,0)))=\"Da (E)c\",\"D (E)c\",\"\"),_xlfn.IFNA(IF((INDEX(E1:E17,MATCH(\"D\",E1:E17,0)))=\"D\",\"D\",\"\"),_xlfn.IFNA(IF((INDEX(E1:E17,MATCH(\"Ca\",E1:E17,0)))=\"Ca\",\"C\",\"\"),_xlfn.IFNA(IF((INDEX(E1:E17,MATCH(\"C\",E1:E17,0)))=\"C\",\"C\",\"\"),_xlfn.IFNA(IF((INDEX(E1:E17,MATCH(\"Ba\",E1:E17,0)))=\"Ba\",\"B\",\"\"),_xlfn.IFNA(IF((INDEX(E1:E17,MATCH(\"B\",E1:E17,0)))=\"B\",\"B\",\"\"),_xlfn.IFNA(IF((INDEX(E1:E17,MATCH(\"Aa\",E1:E17,0)))=\"Aa\",\"A\",\"\"),_xlfn.IFNA(IF((INDEX(E1:E17,MATCH(\"A\",E1:E17,0)))=\"A\",\"A\",\"\"),_xlfn.IFNA(IF((INDEX(E1:E17,MATCH(\"n.a.\",E1:E17,0)))=\"n.a.\",\"\",\"\"),_xlfn.IFNA(IF((INDEX(E1:E17,MATCH(\"\",E1:E17,0)))=\"\",\"\",\"\"),\"\"))))))))))))","v":""},{"$f":"_xlfn.IFNA(IF((INDEX(F1:F17,MATCH(\"E\",F1:F17,0)))=\"E\",\"E\",\"\"),_xlfn.IFNA(IF((INDEX(F1:F17,MATCH(\"D\",F1:F17,0)))=\"D\",\"D\",\"\"),_xlfn.IFNA(IF((INDEX(F1:F17,MATCH(\"Ca\",F1:F17,0)))=\"Ca\",\"C\",\"\"),_xlfn.IFNA(IF((INDEX(F1:F17,MATCH(\"C\",F1:F17,0)))=\"C\",\"C\",\"\"),_xlfn.IFNA(IF((INDEX(F1:F17,MATCH(\"B\",F1:F17,0)))=\"B\",\"B\",\"\"),_xlfn.IFNA(IF((INDEX(F1:F17,MATCH(\"A\",F1:F17,0)))=\"A\",\"A\",\"\"),_xlfn.IFNA(IF((INDEX(F1:F17,MATCH(\"n.a.\",F1:F17,0)))=\"n.a.\",\"\",\"\"),_xlfn.IFNA(IF((INDEX(F1:F17,MATCH(\"\",F1:F17,0)))=\"\",\"\",\"\"),\"\"))))))))","v":""},{"$f":"_xlfn.IFNA(IF((INDEX(G1:G17,MATCH(\"E\",G1:G17,0)))=\"E\",\"E\",\"\"),_xlfn.IFNA(IF((INDEX(G1:G17,MATCH(\"D (E)c\",G1:G17,0)))=\"D (E)c\",\"D (E)c\",\"\"),_xlfn.IFNA(IF((INDEX(G1:G17,MATCH(\"Db (E)c\",G1:G17,0)))=\"Db (E)c\",\"D (E)c\",\"\"),_xlfn.IFNA(IF((INDEX(G1:G17,MATCH(\"D\",G1:G17,0)))=\"D\",\"D\",\"\"),_xlfn.IFNA(IF((INDEX(G1:G17,MATCH(\"Cb\",G1:G17,0)))=\"Cb\",\"C\",\"\"),_xlfn.IFNA(IF((INDEX(G1:G17,MATCH(\"C\",G1:G17,0)))=\"C\",\"C\",\"\"),_xlfn.IFNA(IF((INDEX(G1:G17,MATCH(\"Bb\",G1:G17,0)))=\"Bb\",\"B\",\"\"),_xlfn.IFNA(IF((INDEX(G1:G17,MATCH(\"B\",G1:G17,0)))=\"B\",\"B\",\"\"),_xlfn.IFNA(IF((INDEX(G1:G17,MATCH(\"Ab\",G1:G17,0)))=\"Ab\",\"A\",\"\"),_xlfn.IFNA(IF((INDEX(G1:G17,MATCH(\"A\",G1:G17,0)))=\"A\",\"A\",\"\"),_xlfn.IFNA(IF((INDEX(G1:G17,MATCH(\"n.a.\",G1:G17,0)))=\"n.a.\",\"\",\"\"),_xlfn.IFNA(IF((INDEX(G1:G17,MATCH(\"\",G1:G17,0)))=\"\",\"\",\"\"),\"\"))))))))))))","v":""}]
[null,"\nHighest hazard level for all 'Uptake Routes' \n",null,{"$f":"_xlfn.IFNA(IF((INDEX(D18:G18,MATCH(\"E\",D18:G18,0)))=\"E\",\"E\",\"\"),_xlfn.IFNA(IF((INDEX(D18:G18,MATCH(\"D (E)c\",D18:G18,0)))=\"D (E)c\",\"D (E)\",\"\"),_xlfn.IFNA(IF((INDEX(D18:G18,MATCH(\"D\",D18:G18,0)))=\"D\",\"D\",\"\"),_xlfn.IFNA(IF((INDEX(D18:G18,MATCH(\"C\",D18:G18,0)))=\"C\",\"C\",\"\"),_xlfn.IFNA(IF((INDEX(D18:G18,MATCH(\"B\",D18:G18,0)))=\"B\",\"B\",\"\"),_xlfn.IFNA(IF((INDEX(D18:G18,MATCH(\"A\",D18:G18,0)))=\"A\",\"A\",\"\"),_xlfn.IFNA(IF((INDEX(D18:G18,MATCH(\"n.a.\",D18:G18,0)))=\"n.a.\",\"\",\"\"),_xlfn.IFNA(IF((INDEX(D18:G18,MATCH(\"\",D18:G18,0)))=\"\",\"\",\"\"),\"\"))))))))","v":""}]
[]
[null,"Step 3: D(E) Assessment\nSkip this step if \nyour assessment above does not reveal a D(E) hazard level.\nHover over this cell for additional instructions.",null,"\nOverall hazard level\n",null,{"$f":"IF(AND(C5=\"Yes\",D19=\"\")=TRUE,\"B\",IF(D19=\"\",\"\",(IF(AND(D19=\"D (E)\",C21=\"\"),\"D (E)\"&CHAR(10)&\"Find if cat. 1 acute tox.\",(IF(D19<>\"D (E)\",D19,(IF(AND(D19=\"D (E)\",C21=\"Yes\"),\"E\",(IF(AND(D19=\"D (E)\",C21=\"No\"),\"D\",\"\"))))))))))","v":""}]

{"sheet":"6","index":7,"n_rows":21,"n_cols":7,"rows_kept":21,"cut":false,"hidden":false,"merged":[[20,3,20,4],[20,5,20,6],[1,1,1,4],[2,1,2,4],[3,2,3,6],[5,1,6,1],[5,2,6,2],[5,3,5,6],[17,1,17,2],[18,1,18,2],[18,3,18,6]]}
[null,"“Setting Priorities”\nChemical Hazard Assessment and Prioritization (CHAP)"]
[null,"Hazard Level Assessment 6\nTop 5 Chemicals - By Perceived Hazard\nComplete Steps 1, 2, and 3 below"]
[]
[null,"Chemical / Product 6: ",{"$f":"IF('Summary Sheet'!B24=\"\", \"\", 'Summary Sheet'!B24)","v":""}]
[null,"\nStep 1: Physical & Environmental Hazard Statements/Codes\nFind Section 2 of the SDS and determine if the SDS has physical and/or environmental hazard statements/codes. Hover on this cell for additional instructions.\n"]
[null,"Step 2: Health Hazard Statements/Codes\nProvide the Health Hazard Statements or Codes from Section 2 of the SDS below. Hover on this cell for additional instructions.",null,"\nHazard Level\n"]
[null,null,null,"Eye Damage","Inhalation","Local Skin Damage","Skin uptake, systemic"]
[1,null,{"$f":"_xlfn.IFNA(VLOOKUP(B8,_!$A$7:$F$210,6,FALSE),\"\")","v":""},{"$f":"_xlfn.IFNA(IF(VLOOKUP(B8,_!$A$7:$E$210,2,FALSE)=0, \"\",VLOOKUP(B8,_!$A$7:$E$210,2,FALSE)), \"\")","v":""},{"$f":"_xlfn.IFNA(IF(VLOOKUP(B8,_!$A$7:$E$210,3,FALSE)=0, \"\",VLOOKUP(B8,_!$A$7:$E$210,3,FALSE)), \"\")","v":""},{"$f":"_xlfn.IFNA(IF(VLOOKUP(B8,_!$A$7:$E$210,4,FALSE)=0, \"\", VLOOKUP(B8,_!$A$7:$E$210,4,FALSE)),\"\")","v":""},{"$f":"_xlfn.IFNA(IF(VLOOKUP(B8,_!$A$7:$E$210,5,FALSE)=0, \"\",VLOOKUP(B8,_!$A$7:$E$210,5,FALSE)), \"\")","v":""}]
[2,null,{"$f":"_xlfn.IFNA(VLOOKUP(B9,_!$A$7:$F$210,6,FALSE),\"\")","v":""},{"$f":"_xlfn.IFNA(IF(VLOOKUP(B9,_!$A$7:$E$210,2,FALSE)=0, \"\",VLOOKUP(B9,_!$A$7:$E$210,2,FALSE)), \"\")","v":""},{"$f":"_xlfn.IFNA(IF(VLOOKUP(B9,_!$A$7:$E$210,3,FALSE)=0, \"\",VLOOKUP(B9,_!$A$7:$E$210,3,FALSE)), \"\")","v":""},{"$f":"_xlfn.IFNA(IF(VLOOKUP(B9,_!$A$7:$E$210,4,FALSE)=0, \"\", VLOOKUP(B9,_!$A$7:$E$210,4,FALSE)),\"\")","v":""},{"$f":"_xlfn.IFNA(IF(VLOOKUP(B9,_!$A$7:$E$210,5,FALSE)=0, \"\",VLOOKUP(B9,_!$A$7:$E$210,5,FALSE)), \"\")","v":""}]
[3,null,{"$f":"_xlfn.IFNA(VLOOKUP(B10,_!$A$7:$F$210,6,FALSE),\"\")","v":""},{"$f":"_xlfn.IFNA(IF(VLOOKUP(B10,_!$A$7:$E$210,2,FALSE)=0, \"\",VLOOKUP(B10,_!$A$7:$E$210,2,FALSE)), \"\")","v":""},{"$f":"_xlfn.IFNA(IF(VLOOKUP(B10,_!$A$7:$E$210,3,FALSE)=0, \"\",VLOOKUP(B10,_!$A$7:$E$210,3,FALSE)), \"\")","v":""},{"$f":"_xlfn.IFNA(IF(VLOOKUP(B10,_!$A$7:$E$210,4,FALSE)=0, \"\", VLOOKUP(B10,_!$A$7:$E$210,4,FALSE)),\"\")","v":""},{"$f":"_xlfn.IFNA(IF(VLOOKUP(B10,_!$A$7:$E$210,5,FALSE)=0, \"\",VLOOKUP(B10,_!$A$7:$E$210,5,FALSE)), \"\")","v":""}]
[4,null,{"$f":"_xlfn.IFNA(VLOOKUP(B11,_!$A$7:$F$210,6,FALSE),\"\")","v":""},{"$f":"_xlfn.IFNA(IF(VLOOKUP(B11,_!$A$7:$E$210,2,FALSE)=0, \"\",VLOOKUP(B11,_!$A$7:$E$210,2,FALSE)), \"\")","v":""},{"$f":"_xlfn.IFNA(IF(VLOOKUP(B11,_!$A$7:$E$210,3,FALSE)=0, \"\",VLOOKUP(B11,_!$A$7:$E$210,3,FALSE)), \"\")","v":""},{"$f":"_xlfn.IFNA(IF(VLOOKUP(B11,_!$A$7:$E$210,4,FALSE)=0, \"\", VLOOKUP(B11,_!$A$7:$E$210,4,FALSE)),\"\")","v":""},{"$f":"_xlfn.IFNA(IF(VLOOKUP(B11,_!$A$7:$E$210,5,FALSE)=0, \"\",VLOOKUP(B11,_!$A$7:$E$210,5,FALSE)), \"\")","v":""}]
[5,null,{"$f":"_xlfn.IFNA(VLOOKUP(B12,_!$A$7:$F$210,6,FALSE),\"\")","v":""},{"$f":"_xlfn.IFNA(IF(VLOOKUP(B12,_!$A$7:$E$210,2,FALSE)=0, \"\",VLOOKUP(B12,_!$A$7:$E$210,2,FALSE)), \"\")","v":""},{"$f":"_xlfn.IFNA(IF(VLOOKUP(B12,_!$A$7:$E$210,3,FALSE)=0, \"\",VLOOKUP(B12,_!$A$7:$E$210,3,FALSE)), \"\")","v":""},{"$f":"_xlfn.IFNA(IF(VLOOKUP(B12,_!$A$7:$E$210,4,FALSE)=0, \"\", VLOOKUP(B12,_!$A$7:$E$210,4,FALSE)),\"\")","v":""},{"$f":"_xlfn.IFNA(IF(VLOOKUP(B12,_!$A$7:$E$210,5,FALSE)=0, \"\",VLOOKUP(B12,_!$A$7:$E$210,5,FALSE)), \"\")","v":""}]
[6,null,{"$f":"_xlfn.IFNA(VLOOKUP(B13,_!$A$7:$F$210,6,FALSE),\"\")","v":""},{"$f":"_xlfn.IFNA(IF(VLOOKUP(B13,_!$A$7:$E$210,2,FALSE)=0, \"\",VLOOKUP(B13,_!$A$7:$E$210,2,FALSE)), \"\")","v":""},{"$f":"_xlfn.IFNA(IF(VLOOKUP(B13,_!$A$7:$E$210,3,FALSE)=0, \"\",VLOOKUP(B13,_!$A$7:$E$210,3,FALSE)), \"\")","v":""},{"$f":"_xlfn.IFNA(IF(VLOOKUP(B13,_!$A$7:$E$210,4,FALSE)=0, \"\", VLOOKUP(B13,_!$A$7:$E$210,4,FALSE)),\"\")","v":""},{"$f":"_xlfn.IFNA(IF(VLOOKUP(B13,_!$A$7:$E$210,5,FALSE)=0, \"\",VLOOKUP(B13,_!$A$7:$E$210,5,FALSE)), \"\")","v":""}]
[7,null,{"$f":"_xlfn.IFNA(VLOOKUP(B14,_!$A$7:$F$210,6,FALSE),\"\")","v":""},{"$f":"_xlfn.IFNA(IF(VLOOKUP(B14,_!$A$7:$E$210,2,FALSE)=0, \"\",VLOOKUP(B14,_!$A$7:$E$210,2,FALSE)), \"\")","v":""},{"$f":"_xlfn.IFNA(IF(VLOOKUP(B14,_!$A$7:$E$210,3,FALSE)=0, \"\",VLOOKUP(B14,_!$A$7:$E$210,3,FALSE)), \"\")","v":""},{"$f":"_xlfn.IFNA(IF(VLOOKUP(B14,_!$A$7:$E$210,4,FALSE)=0, \"\", VLOOKUP(B14,_!$A$7:$E$210,4,FALSE)),\"\")","v":""},{"$f":"_xlfn.IFNA(IF(VLOOKUP(B14,_!$A$7:$E$210,5,FALSE)=0, \"\",VLOOKUP(B14,_!$A$7:$E$210,5,FALSE)), \"\")","v":""}]
[8,null,{"$f":"_xlfn.IFNA(VLOOKUP(B15,_!$A$7:$F$210,6,FALSE),\"\")","v":""},{"$f":"_xlfn.IFNA(IF(VLOOKUP(B15,_!$A$7:$E$210,2,FALSE)=0, \"\",VLOOKUP(B15,_!$A$7:$E$210,2,FALSE)), \"\")","v":""},{"$f":"_xlfn.IFNA(IF(VLOOKUP(B15,_!$A$7:$E$210,3,FALSE)=0, \"\",VLOOKUP(B15,_!$A$7:$E$210,3,FALSE)), \"\")","v":""},{"$f":"_xlfn.IFNA(IF(VLOOKUP(B15,_!$A$7:$E$210,4,FALSE)=0, \"\", VLOOKUP(B15,_!$A$7:$E$210,4,FALSE)),\"\")","v":""},{"$f":"_xlfn.IFNA(IF(VLOOKUP(B15,_!$A$7:$E$210,5,FALSE)=0, \"\",VLOOKUP(B15,_!$A$7:$E$210,5,FALSE)), \"\")","v":""}]
[9,null,{"$f":"_xlfn.IFNA(VLOOKUP(B16,_!$A$7:$F$210,6,FALSE),\"\")","v":""},{"$f":"_xlfn.IFNA(IF(VLOOKUP(B16,_!$A$7:$E$210,2,FALSE)=0, \"\",VLOOKUP(B16,_!$A$7:$E$210,2,FALSE)), \"\")","v":""},{"$f":"_xlfn.IFNA(IF(VLOOKUP(B16,_!$A$7:$E$210,3,FALSE)=0, \"\",VLOOKUP(B16,_!$A$7:$E$210,3,FALSE)), \"\")","v":""},{"$f":"_xlfn.IFNA(IF(VLOOKUP(B16,_!$A$7:$E$210,4,FALSE)=0, \"\", VLOOKUP(B16,_!$A$7:$E$210,4,FALSE)),\"\")","v":""},{"$f":"_xlfn.IFNA(IF(VLOOKUP(B16,_!$A$7:$E$210,5,FALSE)=0, \"\",VLOOKUP(B16,_!$A$7:$E$210,5,FALSE)), \"\")","v":""}]
[10,null,{"$f":"_xlfn.IFNA(VLOOKUP(B17,_!$A$7:$F$210,6,FALSE),\"\")","v":""},{"$f":"_xlfn.IFNA(IF(VLOOKUP(B17,_!$A$7:$E$210,2,FALSE)=0, \"\",VLOOKUP(B17,_!$A$7:$E$210,2,FALSE)), \"\")","v":""},{"$f":"_xlfn.IFNA(IF(VLOOKUP(B17,_!$A$7:$E$210,3,FALSE)=0, \"\",VLOOKUP(B17,_!$A$7:$E$210,3,FALSE)), \"\")","v":""},{"$f":"_xlfn.IFNA(IF(VLOOKUP(B17,_!$A$7:$E$210,4,FALSE)=0, \"\", VLOOKUP(B17,_!$A$7:$E$210,4,FALSE)),\"\")","v":""},{"$f":"_xlfn.IFNA(IF(VLOOKUP(B17,_!$A$7:$E$210,5,FALSE)=0, \"\",VLOOKUP(B17,_!$A$7:$E$210,5,FALSE)), \"\")","v":""}]
[null,"\nHighest hazard level for each ‘Uptake Route’\n",null,{"$f":"_xlfn.IFNA(IF((INDEX(D1:D17,MATCH(\"E\",D1:D17,0)))=\"E\",\"E\",\"\"),_xlfn.IFNA(IF((INDEX(D1:D17,MATCH(\"D\",D1:D17,0)))=\"D\",\"D\",\"\"),_xlfn.IFNA(IF((INDEX(D1:D17,MATCH(\"Ca\",D1:D17,0)))=\"Ca\",\"C\",\"\"),_xlfn.IFNA(IF((INDEX(D1:D17,MATCH(\"C\",D1:D17,0)))=\"C\",\"C\",\"\"),_xlfn.IFNA(IF((INDEX(D1:D17,MATCH(\"B\",D1:D17,0)))=\"B\",\"B\",\"\"),_xlfn.IFNA(IF((INDEX(D1:D17,MATCH(\"A\",D1:D17,0)))=\"A\",\"A\",\"\"),_xlfn.IFNA(IF((INDEX(D1:D17,MATCH(\"n.a.\",D1:D17,0)))=\"n.a.\",\"\",\"\"),_xlfn.IFNA(IF((INDEX(D1:D17,MATCH(\"\",D1:D17,0)))=\"\",\"\",\"\"),\"\"))))))))","v":""},{"$f":"_xlfn.IFNA(IF((INDEX(E1:E17,MATCH(\"E\",E1:E17,0)))=\"E\",\"E\",\"\"),_xlfn.IFNA(IF((INDEX(E1:E17,MATCH(\"D (E)c\",E1:E17,0)))=\"D (E)c\",\"D (E)c\",\"\"),_xlfn.IFNA(IF((INDEX(E1:E17,MATCH(\"Da (E)c\",E1:E17,0)))=\"Da (E)c\",\"D (E)c\",\"\"),_xlfn.IFNA(IF((INDEX(E1:E17,MATCH(\"D\",E1:E17,0)))=\"D\",\"D\",\"\"),_xlfn.IFNA(IF((INDEX(E1:E17,MATCH(\"Ca\",E1:E17,0)))=\"Ca\",\"C\",\"\"),_xlfn.IFNA(IF((INDEX(E1:E17,MATCH(\"C\",E1:E17,0)))=\"C\",\"C\",\"\"),_xlfn.IFNA(IF((INDEX(E1:E17,MATCH(\"Ba\",E1:E17,0)))=\"Ba\",\"B\",\"\"),_xlfn.IFNA(IF((INDEX(E1:E17,MATCH(\"B\",E1:E17,0)))=\"B\",\"B\",\"\"),_xlfn.IFNA(IF((INDEX(E1:E17,MATCH(\"Aa\",E1:E17,0)))=\"Aa\",\"A\",\"\"),_xlfn.IFNA(IF((INDEX(E1:E17,MATCH(\"A\",E1:E17,0)))=\"A\",\"A\",\"\"),_xlfn.IFNA(IF((INDEX(E1:E17,MATCH(\"n.a.\",E1:E17,0)))=\"n.a.\",\"\",\"\"),_xlfn.IFNA(IF((INDEX(E1:E17,MATCH(\"\",E1:E17,0)))=\"\",\"\",\"\"),\"\"))))))))))))","v":""},{"$f":"_xlfn.IFNA(IF((INDEX(F1:F17,MATCH(\"E\",F1:F17,0)))=\"E\",\"E\",\"\"),_xlfn.IFNA(IF((INDEX(F1:F17,MATCH(\"D\",F1:F17,0)))=\"D\",\"D\",\"\"),_xlfn.IFNA(IF((INDEX(F1:F17,MATCH(\"Ca\",F1:F17,0)))=\"Ca\",\"C\",\"\"),_xlfn.IFNA(IF((INDEX(F1:F17,MATCH(\"C\",F1:F17,0)))=\"C\",\"C\",\"\"),_xlfn.IFNA(IF((INDEX(F1:F17,MATCH(\"B\",F1:F17,0)))=\"B\",\"B\",\"\"),_xlfn.IFNA(IF((INDEX(F1:F17,MATCH(\"A\",F1:F17,0)))=\"A\",\"A\",\"\"),_xlfn.IFNA(IF((INDEX(F1:F17,MATCH(\"n.a.\",F1:F17,0)))=\"n.a.\",\"\",\"\"),_xlfn.IFNA(IF((INDEX(F1:F17,MATCH(\"\",F1:F17,0)))=\"\",\"\",\"\"),\"\"))))))))","v":""},{"$f":"_xlfn.IFNA(IF((INDEX(G1:G17,MATCH(\"E\",G1:G17,0)))=\"E\",\"E\",\"\"),_xlfn.IFNA(IF((INDEX(G1:G17,MATCH(\"D (E)c\",G1:G17,0)))=\"D (E)c\",\"D (E)c\",\"\"),_xlfn.IFNA(IF((INDEX(G1:G17,MATCH(\"Db (E)c\",G1:G17,0)))=\"Db (E)c\",\"D (E)c\",\"\"),_xlfn.IFNA(IF((INDEX(G1:G17,MATCH(\"D\",G1:G17,0)))=\"D\",\"D\",\"\"),_xlfn.IFNA(IF((INDEX(G1:G17,MATCH(\"Cb\",G1:G17,0)))=\"Cb\",\"C\",\"\"),_xlfn.IFNA(IF((INDEX(G1:G17,MATCH(\"C\",G1:G17,0)))=\"C\",\"C\",\"\"),_xlfn.IFNA(IF((INDEX(G1:G17,MATCH(\"Bb\",G1:G17,0)))=\"Bb\",\"B\",\"\"),_xlfn.IFNA(IF((INDEX(G1:G17,MATCH(\"B\",G1:G17,0)))=\"B\",\"B\",\"\"),_xlfn.IFNA(IF((INDEX(G1:G17,MATCH(\"Ab\",G1:G17,0)))=\"Ab\",\"A\",\"\"),_xlfn.IFNA(IF((INDEX(G1:G17,MATCH(\"A\",G1:G17,0)))=\"A\",\"A\",\"\"),_xlfn.IFNA(IF((INDEX(G1:G17,MATCH(\"n.a.\",G1:G17,0)))=\"n.a.\",\"\",\"\"),_xlfn.IFNA(IF((INDEX(G1:G17,MATCH(\"\",G1:G17,0)))=\"\",\"\",\"\"),\"\"))))))))))))","v":""}]
[null,"\nHighest hazard level for all 'Uptake Routes' \n",null,{"$f":"_xlfn.IFNA(IF((INDEX(D18:G18,MATCH(\"E\",D18:G18,0)))=\"E\",\"E\",\"\"),_xlfn.IFNA(IF((INDEX(D18:G18,MATCH(\"D (E)c\",D18:G18,0)))=\"D (E)c\",\"D (E)\",\"\"),_xlfn.IFNA(IF((INDEX(D18:G18,MATCH(\"D\",D18:G18,0)))=\"D\",\"D\",\"\"),_xlfn.IFNA(IF((INDEX(D18:G18,MATCH(\"C\",D18:G18,0)))=\"C\",\"C\",\"\"),_xlfn.IFNA(IF((INDEX(D18:G18,MATCH(\"B\",D18:G18,0)))=\"B\",\"B\",\"\"),_xlfn.IFNA(IF((INDEX(D18:G18,MATCH(\"A\",D18:G18,0)))=\"A\",\"A\",\"\"),_xlfn.IFNA(IF((INDEX(D18:G18,MATCH(\"n.a.\",D18:G18,0)))=\"n.a.\",\"\",\"\"),_xlfn.IFNA(IF((INDEX(D18:G18,MATCH(\"\",D18:G18,0)))=\"\",\"\",\"\"),\"\"))))))))","v":""}]
[]
[null,"Step 3: D(E) Assessment\nSkip this step if \nyour assessment above does not reveal a D(E) hazard level.\nHover over this cell for additional instructions.",null,"\nOverall hazard level\n",null,{"$f":"IF(AND(C5=\"Yes\",D19=\"\")=TRUE,\"B\",IF(D19=\"\",\"\",(IF(AND(D19=\"D (E)\",C21=\"\"),\"D (E)\"&CHAR(10)&\"Find if cat. 1 acute tox.\",(IF(D19<>\"D (E)\",D19,(IF(AND(D19=\"D (E)\",C21=\"Yes\"),\"E\",(IF(AND(D19=\"D (E)\",C21=\"No\"),\"D\",\"\"))))))))))","v":""}]

{"sheet":"7","index":8,"n_rows":21,"n_cols":7,"rows_kept":21,"cut":false,"hidden":false,"merged":[[20,3,20,4],[20,5,20,6],[1,1,1,4],[2,1,2,4],[3,2,3,6],[5,1,6,1],[5,2,6,2],[5,3,5,6],[17,1,17,2],[18,1,18,2],[18,3,18,6]]}
[null,"“Setting Priorities”\nChemical Hazard Assessment and Prioritization (CHAP)"]
[null,"Hazard Level Assessment 7\nTop 5 Chemicals - By Perceived Hazard\nComplete Steps 1, 2, and 3 below"]
[]
[null,"Chemical / Product 7: ",{"$f":"IF('Summary Sheet'!B25=\"\", \"\", 'Summary Sheet'!B25)","v":""}]
[null,"\nStep 1: Physical & Environmental Hazard Statements/Codes\nFind Section 2 of the SDS and determine if the SDS has physical and/or environmental hazard statements/codes. Hover on this cell for additional instructions.\n"]
[null,"Step 2: Health Hazard Statements/Codes\nProvide the Health Hazard Statements or Codes from Section 2 of the SDS below. Hover on this cell for additional instructions.",null,"\nHazard Level\n"]
[null,null,null,"Eye Damage","Inhalation","Local Skin Damage","Skin uptake, systemic"]
[1,null,{"$f":"_xlfn.IFNA(VLOOKUP(B8,_!$A$7:$F$210,6,FALSE),\"\")","v":""},{"$f":"_xlfn.IFNA(IF(VLOOKUP(B8,_!$A$7:$E$210,2,FALSE)=0, \"\",VLOOKUP(B8,_!$A$7:$E$210,2,FALSE)), \"\")","v":""},{"$f":"_xlfn.IFNA(IF(VLOOKUP(B8,_!$A$7:$E$210,3,FALSE)=0, \"\",VLOOKUP(B8,_!$A$7:$E$210,3,FALSE)), \"\")","v":""},{"$f":"_xlfn.IFNA(IF(VLOOKUP(B8,_!$A$7:$E$210,4,FALSE)=0, \"\", VLOOKUP(B8,_!$A$7:$E$210,4,FALSE)),\"\")","v":""},{"$f":"_xlfn.IFNA(IF(VLOOKUP(B8,_!$A$7:$E$210,5,FALSE)=0, \"\",VLOOKUP(B8,_!$A$7:$E$210,5,FALSE)), \"\")","v":""}]
[2,null,{"$f":"_xlfn.IFNA(VLOOKUP(B9,_!$A$7:$F$210,6,FALSE),\"\")","v":""},{"$f":"_xlfn.IFNA(IF(VLOOKUP(B9,_!$A$7:$E$210,2,FALSE)=0, \"\",VLOOKUP(B9,_!$A$7:$E$210,2,FALSE)), \"\")","v":""},{"$f":"_xlfn.IFNA(IF(VLOOKUP(B9,_!$A$7:$E$210,3,FALSE)=0, \"\",VLOOKUP(B9,_!$A$7:$E$210,3,FALSE)), \"\")","v":""},{"$f":"_xlfn.IFNA(IF(VLOOKUP(B9,_!$A$7:$E$210,4,FALSE)=0, \"\", VLOOKUP(B9,_!$A$7:$E$210,4,FALSE)),\"\")","v":""},{"$f":"_xlfn.IFNA(IF(VLOOKUP(B9,_!$A$7:$E$210,5,FALSE)=0, \"\",VLOOKUP(B9,_!$A$7:$E$210,5,FALSE)), \"\")","v":""}]
[3,null,{"$f":"_xlfn.IFNA(VLOOKUP(B10,_!$A$7:$F$210,6,FALSE),\"\")","v":""},{"$f":"_xlfn.IFNA(IF(VLOOKUP(B10,_!$A$7:$E$210,2,FALSE)=0, \"\",VLOOKUP(B10,_!$A$7:$E$210,2,FALSE)), \"\")","v":""},{"$f":"_xlfn.IFNA(IF(VLOOKUP(B10,_!$A$7:$E$210,3,FALSE)=0, \"\",VLOOKUP(B10,_!$A$7:$E$210,3,FALSE)), \"\")","v":""},{"$f":"_xlfn.IFNA(IF(VLOOKUP(B10,_!$A$7:$E$210,4,FALSE)=0, \"\", VLOOKUP(B10,_!$A$7:$E$210,4,FALSE)),\"\")","v":""},{"$f":"_xlfn.IFNA(IF(VLOOKUP(B10,_!$A$7:$E$210,5,FALSE)=0, \"\",VLOOKUP(B10,_!$A$7:$E$210,5,FALSE)), \"\")","v":""}]
[4,null,{"$f":"_xlfn.IFNA(VLOOKUP(B11,_!$A$7:$F$210,6,FALSE),\"\")","v":""},{"$f":"_xlfn.IFNA(IF(VLOOKUP(B11,_!$A$7:$E$210,2,FALSE)=0, \"\",VLOOKUP(B11,_!$A$7:$E$210,2,FALSE)), \"\")","v":""},{"$f":"_xlfn.IFNA(IF(VLOOKUP(B11,_!$A$7:$E$210,3,FALSE)=0, \"\",VLOOKUP(B11,_!$A$7:$E$210,3,FALSE)), \"\")","v":""},{"$f":"_xlfn.IFNA(IF(VLOOKUP(B11,_!$A$7:$E$210,4,FALSE)=0, \"\", VLOOKUP(B11,_!$A$7:$E$210,4,FALSE)),\"\")","v":""},{"$f":"_xlfn.IFNA(IF(VLOOKUP(B11,_!$A$7:$E$210,5,FALSE)=0, \"\",VLOOKUP(B11,_!$A$7:$E$210,5,FALSE)), \"\")","v":""}]
[5,null,{"$f":"_xlfn.IFNA(VLOOKUP(B12,_!$A$7:$F$210,6,FALSE),\"\")","v":""},{"$f":"_xlfn.IFNA(IF(VLOOKUP(B12,_!$A$7:$E$210,2,FALSE)=0, \"\",VLOOKUP(B12,_!$A$7:$E$210,2,FALSE)), \"\")","v":""},{"$f":"_xlfn.IFNA(IF(VLOOKUP(B12,_!$A$7:$E$210,3,FALSE)=0, \"\",VLOOKUP(B12,_!$A$7:$E$210,3,FALSE)), \"\")","v":""},{"$f":"_xlfn.IFNA(IF(VLOOKUP(B12,_!$A$7:$E$210,4,FALSE)=0, \"\", VLOOKUP(B12,_!$A$7:$E$210,4,FALSE)),\"\")","v":""},{"$f":"_xlfn.IFNA(IF(VLOOKUP(B12,_!$A$7:$E$210,5,FALSE)=0, \"\",VLOOKUP(B12,_!$A$7:$E$210,5,FALSE)), \"\")","v":""}]
[6,null,{"$f":"_xlfn.IFNA(VLOOKUP(B13,_!$A$7:$F$210,6,FALSE),\"\")","v":""},{"$f":"_xlfn.IFNA(IF(VLOOKUP(B13,_!$A$7:$E$210,2,FALSE)=0, \"\",VLOOKUP(B13,_!$A$7:$E$210,2,FALSE)), \"\")","v":""},{"$f":"_xlfn.IFNA(IF(VLOOKUP(B13,_!$A$7:$E$210,3,FALSE)=0, \"\",VLOOKUP(B13,_!$A$7:$E$210,3,FALSE)), \"\")","v":""},{"$f":"_xlfn.IFNA(IF(VLOOKUP(B13,_!$A$7:$E$210,4,FALSE)=0, \"\", VLOOKUP(B13,_!$A$7:$E$210,4,FALSE)),\"\")","v":""},{"$f":"_xlfn.IFNA(IF(VLOOKUP(B13,_!$A$7:$E$210,5,FALSE)=0, \"\",VLOOKUP(B13,_!$A$7:$E$210,5,FALSE)), \"\")","v":""}]
[7,null,{"$f":"_xlfn.IFNA(VLOOKUP(B14,_!$A$7:$F$210,6,FALSE),\"\")","v":""},{"$f":"_xlfn.IFNA(IF(VLOOKUP(B14,_!$A$7:$E$210,2,FALSE)=0, \"\",VLOOKUP(B14,_!$A$7:$E$210,2,FALSE)), \"\")","v":""},{"$f":"_xlfn.IFNA(IF(VLOOKUP(B14,_!$A$7:$E$210,3,FALSE)=0, \"\",VLOOKUP(B14,_!$A$7:$E$210,3,FALSE)), \"\")","v":""},{"$f":"_xlfn.IFNA(IF(VLOOKUP(B14,_!$A$7:$E$210,4,FALSE)=0, \"\", VLOOKUP(B14,_!$A$7:$E$210,4,FALSE)),\"\")","v":""},{"$f":"_xlfn.IFNA(IF(VLOOKUP(B14,_!$A$7:$E$210,5,FALSE)=0, \"\",VLOOKUP(B14,_!$A$7:$E$210,5,FALSE)), \"\")","v":""}]
[8,null,{"$f":"_xlfn.IFNA(VLOOKUP(B15,_!$A$7:$F$210,6,FALSE),\"\")","v":""},{"$f":"_xlfn.IFNA(IF(VLOOKUP(B15,_!$A$7:$E$210,2,FALSE)=0, \"\",VLOOKUP(B15,_!$A$7:$E$210,2,FALSE)), \"\")","v":""},{"$f":"_xlfn.IFNA(IF(VLOOKUP(B15,_!$A$7:$E$210,3,FALSE)=0, \"\",VLOOKUP(B15,_!$A$7:$E$210,3,FALSE)), \"\")","v":""},{"$f":"_xlfn.IFNA(IF(VLOOKUP(B15,_!$A$7:$E$210,4,FALSE)=0, \"\", VLOOKUP(B15,_!$A$7:$E$210,4,FALSE)),\"\")","v":""},{"$f":"_xlfn.IFNA(IF(VLOOKUP(B15,_!$A$7:$E$210,5,FALSE)=0, \"\",VLOOKUP(B15,_!$A$7:$E$210,5,FALSE)), \"\")","v":""}]
[9,null,{"$f":"_xlfn.IFNA(VLOOKUP(B16,_!$A$7:$F$210,6,FALSE),\"\")","v":""},{"$f":"_xlfn.IFNA(IF(VLOOKUP(B16,_!$A$7:$E$210,2,FALSE)=0, \"\",VLOOKUP(B16,_!$A$7:$E$210,2,FALSE)), \"\")","v":""},{"$f":"_xlfn.IFNA(IF(VLOOKUP(B16,_!$A$7:$E$210,3,FALSE)=0, \"\",VLOOKUP(B16,_!$A$7:$E$210,3,FALSE)), \"\")","v":""},{"$f":"_xlfn.IFNA(IF(VLOOKUP(B16,_!$A$7:$E$210,4,FALSE)=0, \"\", VLOOKUP(B16,_!$A$7:$E$210,4,FALSE)),\"\")","v":""},{"$f":"_xlfn.IFNA(IF(VLOOKUP(B16,_!$A$7:$E$210,5,FALSE)=0, \"\",VLOOKUP(B16,_!$A$7:$E$210,5,FALSE)), \"\")","v":""}]
[10,null,{"$f":"_xlfn.IFNA(VLOOKUP(B17,_!$A$7:$F$210,6,FALSE),\"\")","v":""},{"$f":"_xlfn.IFNA(IF(VLOOKUP(B17,_!$A$7:$E$210,2,FALSE)=0, \"\",VLOOKUP(B17,_!$A$7:$E$210,2,FALSE)), \"\")","v":""},{"$f":"_xlfn.IFNA(IF(VLOOKUP(B17,_!$A$7:$E$210,3,FALSE)=0, \"\",VLOOKUP(B17,_!$A$7:$E$210,3,FALSE)), \"\")","v":""},{"$f":"_xlfn.IFNA(IF(VLOOKUP(B17,_!$A$7:$E$210,4,FALSE)=0, \"\", VLOOKUP(B17,_!$A$7:$E$210,4,FALSE)),\"\")","v":""},{"$f":"_xlfn.IFNA(IF(VLOOKUP(B17,_!$A$7:$E$210,5,FALSE)=0, \"\",VLOOKUP(B17,_!$A$7:$E$210,5,FALSE)), \"\")","v":""}]
[null,"\nHighest hazard level for each ‘Uptake Route’\n",null,{"$f":"_xlfn.IFNA(IF((INDEX(D1:D17,MATCH(\"E\",D1:D17,0)))=\"E\",\"E\",\"\"),_xlfn.IFNA(IF((INDEX(D1:D17,MATCH(\"D\",D1:D17,0)))=\"D\",\"D\",\"\"),_xlfn.IFNA(IF((INDEX(D1:D17,MATCH(\"Ca\",D1:D17,0)))=\"Ca\",\"C\",\"\"),_xlfn.IFNA(IF((INDEX(D1:D17,MATCH(\"C\",D1:D17,0)))=\"C\",\"C\",\"\"),_xlfn.IFNA(IF((INDEX(D1:D17,MATCH(\"B\",D1:D17,0)))=\"B\",\"B\",\"\"),_xlfn.IFNA(IF((INDEX(D1:D17,MATCH(\"A\",D1:D17,0)))=\"A\",\"A\",\"\"),_xlfn.IFNA(IF((INDEX(D1:D17,MATCH(\"n.a.\",D1:D17,0)))=\"n.a.\",\"\",\"\"),_xlfn.IFNA(IF((INDEX(D1:D17,MATCH(\"\",D1:D17,0)))=\"\",\"\",\"\"),\"\"))))))))","v":""},{"$f":"_xlfn.IFNA(IF((INDEX(E1:E17,MATCH(\"E\",E1:E17,0)))=\"E\",\"E\",\"\"),_xlfn.IFNA(IF((INDEX(E1:E17,MATCH(\"D (E)c\",E1:E17,0)))=\"D (E)c\",\"D (E)c\",\"\"),_xlfn.IFNA(IF((INDEX(E1:E17,MATCH(\"Da (E)c\",E1:E17,0)))=\"Da (E)c\",\"D (E)c\",\"\"),_xlfn.IFNA(IF((INDEX(E1:E17,MATCH(\"D\",E1:E17,0)))=\"D\",\"D\",\"\"),_xlfn.IFNA(IF((INDEX(E1:E17,MATCH(\"Ca\",E1:E17,0)))=\"Ca\",\"C\",\"\"),_xlfn.IFNA(IF((INDEX(E1:E17,MATCH(\"C\",E1:E17,0)))=\"C\",\"C\",\"\"),_xlfn.IFNA(IF((INDEX(E1:E17,MATCH(\"Ba\",E1:E17,0)))=\"Ba\",\"B\",\"\"),_xlfn.IFNA(IF((INDEX(E1:E17,MATCH(\"B\",E1:E17,0)))=\"B\",\"B\",\"\"),_xlfn.IFNA(IF((INDEX(E1:E17,MATCH(\"Aa\",E1:E17,0)))=\"Aa\",\"A\",\"\"),_xlfn.IFNA(IF((INDEX(E1:E17,MATCH(\"A\",E1:E17,0)))=\"A\",\"A\",\"\"),_xlfn.IFNA(IF((INDEX(E1:E17,MATCH(\"n.a.\",E1:E17,0)))=\"n.a.\",\"\",\"\"),_xlfn.IFNA(IF((INDEX(E1:E17,MATCH(\"\",E1:E17,0)))=\"\",\"\",\"\"),\"\"))))))))))))","v":""},{"$f":"_xlfn.IFNA(IF((INDEX(F1:F17,MATCH(\"E\",F1:F17,0)))=\"E\",\"E\",\"\"),_xlfn.IFNA(IF((INDEX(F1:F17,MATCH(\"D\",F1:F17,0)))=\"D\",\"D\",\"\"),_xlfn.IFNA(IF((INDEX(F1:F17,MATCH(\"Ca\",F1:F17,0)))=\"Ca\",\"C\",\"\"),_xlfn.IFNA(IF((INDEX(F1:F17,MATCH(\"C\",F1:F17,0)))=\"C\",\"C\",\"\"),_xlfn.IFNA(IF((INDEX(F1:F17,MATCH(\"B\",F1:F17,0)))=\"B\",\"B\",\"\"),_xlfn.IFNA(IF((INDEX(F1:F17,MATCH(\"A\",F1:F17,0)))=\"A\",\"A\",\"\"),_xlfn.IFNA(IF((INDEX(F1:F17,MATCH(\"n.a.\",F1:F17,0)))=\"n.a.\",\"\",\"\"),_xlfn.IFNA(IF((INDEX(F1:F17,MATCH(\"\",F1:F17,0)))=\"\",\"\",\"\"),\"\"))))))))","v":""},{"$f":"_xlfn.IFNA(IF((INDEX(G1:G17,MATCH(\"E\",G1:G17,0)))=\"E\",\"E\",\"\"),_xlfn.IFNA(IF((INDEX(G1:G17,MATCH(\"D (E)c\",G1:G17,0)))=\"D (E)c\",\"D (E)c\",\"\"),_xlfn.IFNA(IF((INDEX(G1:G17,MATCH(\"Db (E)c\",G1:G17,0)))=\"Db (E)c\",\"D (E)c\",\"\"),_xlfn.IFNA(IF((INDEX(G1:G17,MATCH(\"D\",G1:G17,0)))=\"D\",\"D\",\"\"),_xlfn.IFNA(IF((INDEX(G1:G17,MATCH(\"Cb\",G1:G17,0)))=\"Cb\",\"C\",\"\"),_xlfn.IFNA(IF((INDEX(G1:G17,MATCH(\"C\",G1:G17,0)))=\"C\",\"C\",\"\"),_xlfn.IFNA(IF((INDEX(G1:G17,MATCH(\"Bb\",G1:G17,0)))=\"Bb\",\"B\",\"\"),_xlfn.IFNA(IF((INDEX(G1:G17,MATCH(\"B\",G1:G17,0)))=\"B\",\"B\",\"\"),_xlfn.IFNA(IF((INDEX(G1:G17,MATCH(\"Ab\",G1:G17,0)))=\"Ab\",\"A\",\"\"),_xlfn.IFNA(IF((INDEX(G1:G17,MATCH(\"A\",G1:G17,0)))=\"A\",\"A\",\"\"),_xlfn.IFNA(IF((INDEX(G1:G17,MATCH(\"n.a.\",G1:G17,0)))=\"n.a.\",\"\",\"\"),_xlfn.IFNA(IF((INDEX(G1:G17,MATCH(\"\",G1:G17,0)))=\"\",\"\",\"\"),\"\"))))))))))))","v":""}]
[null,"\nHighest hazard level for all 'Uptake Routes' \n",null,{"$f":"_xlfn.IFNA(IF((INDEX(D18:G18,MATCH(\"E\",D18:G18,0)))=\"E\",\"E\",\"\"),_xlfn.IFNA(IF((INDEX(D18:G18,MATCH(\"D (E)c\",D18:G18,0)))=\"D (E)c\",\"D (E)\",\"\"),_xlfn.IFNA(IF((INDEX(D18:G18,MATCH(\"D\",D18:G18,0)))=\"D\",\"D\",\"\"),_xlfn.IFNA(IF((INDEX(D18:G18,MATCH(\"C\",D18:G18,0)))=\"C\",\"C\",\"\"),_xlfn.IFNA(IF((INDEX(D18:G18,MATCH(\"B\",D18:G18,0)))=\"B\",\"B\",\"\"),_xlfn.IFNA(IF((INDEX(D18:G18,MATCH(\"A\",D18:G18,0)))=\"A\",\"A\",\"\"),_xlfn.IFNA(IF((INDEX(D18:G18,MATCH(\"n.a.\",D18:G18,0)))=\"n.a.\",\"\",\"\"),_xlfn.IFNA(IF((INDEX(D18:G18,MATCH(\"\",D18:G18,0)))=\"\",\"\",\"\"),\"\"))))))))","v":""}]
[]
[null,"Step 3: D(E) Assessment\nSkip this step if \nyour assessment above does not reveal a D(E) hazard level.\nHover over this cell for additional instructions.",null,"\nOverall hazard level\n",null,{"$f":"IF(AND(C5=\"Yes\",D19=\"\")=TRUE,\"B\",IF(D19=\"\",\"\",(IF(AND(D19=\"D (E)\",C21=\"\"),\"D (E)\"&CHAR(10)&\"Find if cat. 1 acute tox.\",(IF(D19<>\"D (E)\",D19,(IF(AND(D19=\"D (E)\",C21=\"Yes\"),\"E\",(IF(AND(D19=\"D (E)\",C21=\"No\"),\"D\",\"\"))))))))))","v":""}]

{"sheet":"8","index":9,"n_rows":21,"n_cols":7,"rows_kept":21,"cut":false,"hidden":false,"merged":[[20,3,20,4],[20,5,20,6],[1,1,1,4],[2,1,2,4],[3,2,3,6],[5,1,6,1],[5,2,6,2],[5,3,5,6],[17,1,17,2],[18,1,18,2],[18,3,18,6]]}
[null,"“Setting Priorities”\nChemical Hazard Assessment and Prioritization (CHAP)"]
[null,"Hazard Level Assessment 8\nTop 5 Chemicals - By Perceived Hazard\nComplete Steps 1, 2, and 3 below"]
[]
[null,"Chemical / Product 8: ",{"$f":"IF('Summary Sheet'!B26=\"\", \"\", 'Summary Sheet'!B26)","v":""}]
[null,"\nStep 1: Physical & Environmental Hazard Statements/Codes\nFind Section 2 of the SDS and determine if the SDS has physical and/or environmental hazard statements/codes. Hover on this cell for additional instructions.\n"]
[null,"Step 2: Health Hazard Statements/Codes\nProvide the Health Hazard Statements or Codes from Section 2 of the SDS below. Hover on this cell for additional instructions.",null,"\nHazard Level\n"]
[null,null,null,"Eye Damage","Inhalation","Local Skin Damage","Skin uptake, systemic"]
[1,null,{"$f":"_xlfn.IFNA(VLOOKUP(B8,_!$A$7:$F$210,6,FALSE),\"\")","v":""},{"$f":"_xlfn.IFNA(IF(VLOOKUP(B8,_!$A$7:$E$210,2,FALSE)=0, \"\",VLOOKUP(B8,_!$A$7:$E$210,2,FALSE)), \"\")","v":""},{"$f":"_xlfn.IFNA(IF(VLOOKUP(B8,_!$A$7:$E$210,3,FALSE)=0, \"\",VLOOKUP(B8,_!$A$7:$E$210,3,FALSE)), \"\")","v":""},{"$f":"_xlfn.IFNA(IF(VLOOKUP(B8,_!$A$7:$E$210,4,FALSE)=0, \"\", VLOOKUP(B8,_!$A$7:$E$210,4,FALSE)),\"\")","v":""},{"$f":"_xlfn.IFNA(IF(VLOOKUP(B8,_!$A$7:$E$210,5,FALSE)=0, \"\",VLOOKUP(B8,_!$A$7:$E$210,5,FALSE)), \"\")","v":""}]
[2,null,{"$f":"_xlfn.IFNA(VLOOKUP(B9,_!$A$7:$F$210,6,FALSE),\"\")","v":""},{"$f":"_xlfn.IFNA(IF(VLOOKUP(B9,_!$A$7:$E$210,2,FALSE)=0, \"\",VLOOKUP(B9,_!$A$7:$E$210,2,FALSE)), \"\")","v":""},{"$f":"_xlfn.IFNA(IF(VLOOKUP(B9,_!$A$7:$E$210,3,FALSE)=0, \"\",VLOOKUP(B9,_!$A$7:$E$210,3,FALSE)), \"\")","v":""},{"$f":"_xlfn.IFNA(IF(VLOOKUP(B9,_!$A$7:$E$210,4,FALSE)=0, \"\", VLOOKUP(B9,_!$A$7:$E$210,4,FALSE)),\"\")","v":""},{"$f":"_xlfn.IFNA(IF(VLOOKUP(B9,_!$A$7:$E$210,5,FALSE)=0, \"\",VLOOKUP(B9,_!$A$7:$E$210,5,FALSE)), \"\")","v":""}]
[3,null,{"$f":"_xlfn.IFNA(VLOOKUP(B10,_!$A$7:$F$210,6,FALSE),\"\")","v":""},{"$f":"_xlfn.IFNA(IF(VLOOKUP(B10,_!$A$7:$E$210,2,FALSE)=0, \"\",VLOOKUP(B10,_!$A$7:$E$210,2,FALSE)), \"\")","v":""},{"$f":"_xlfn.IFNA(IF(VLOOKUP(B10,_!$A$7:$E$210,3,FALSE)=0, \"\",VLOOKUP(B10,_!$A$7:$E$210,3,FALSE)), \"\")","v":""},{"$f":"_xlfn.IFNA(IF(VLOOKUP(B10,_!$A$7:$E$210,4,FALSE)=0, \"\", VLOOKUP(B10,_!$A$7:$E$210,4,FALSE)),\"\")","v":""},{"$f":"_xlfn.IFNA(IF(VLOOKUP(B10,_!$A$7:$E$210,5,FALSE)=0, \"\",VLOOKUP(B10,_!$A$7:$E$210,5,FALSE)), \"\")","v":""}]
[4,null,{"$f":"_xlfn.IFNA(VLOOKUP(B11,_!$A$7:$F$210,6,FALSE),\"\")","v":""},{"$f":"_xlfn.IFNA(IF(VLOOKUP(B11,_!$A$7:$E$210,2,FALSE)=0, \"\",VLOOKUP(B11,_!$A$7:$E$210,2,FALSE)), \"\")","v":""},{"$f":"_xlfn.IFNA(IF(VLOOKUP(B11,_!$A$7:$E$210,3,FALSE)=0, \"\",VLOOKUP(B11,_!$A$7:$E$210,3,FALSE)), \"\")","v":""},{"$f":"_xlfn.IFNA(IF(VLOOKUP(B11,_!$A$7:$E$210,4,FALSE)=0, \"\", VLOOKUP(B11,_!$A$7:$E$210,4,FALSE)),\"\")","v":""},{"$f":"_xlfn.IFNA(IF(VLOOKUP(B11,_!$A$7:$E$210,5,FALSE)=0, \"\",VLOOKUP(B11,_!$A$7:$E$210,5,FALSE)), \"\")","v":""}]
[5,null,{"$f":"_xlfn.IFNA(VLOOKUP(B12,_!$A$7:$F$210,6,FALSE),\"\")","v":""},{"$f":"_xlfn.IFNA(IF(VLOOKUP(B12,_!$A$7:$E$210,2,FALSE)=0, \"\",VLOOKUP(B12,_!$A$7:$E$210,2,FALSE)), \"\")","v":""},{"$f":"_xlfn.IFNA(IF(VLOOKUP(B12,_!$A$7:$E$210,3,FALSE)=0, \"\",VLOOKUP(B12,_!$A$7:$E$210,3,FALSE)), \"\")","v":""},{"$f":"_xlfn.IFNA(IF(VLOOKUP(B12,_!$A$7:$E$210,4,FALSE)=0, \"\", VLOOKUP(B12,_!$A$7:$E$210,4,FALSE)),\"\")","v":""},{"$f":"_xlfn.IFNA(IF(VLOOKUP(B12,_!$A$7:$E$210,5,FALSE)=0, \"\",VLOOKUP(B12,_!$A$7:$E$210,5,FALSE)), \"\")","v":""}]
[6,null,{"$f":"_xlfn.IFNA(VLOOKUP(B13,_!$A$7:$F$210,6,FALSE),\"\")","v":""},{"$f":"_xlfn.IFNA(IF(VLOOKUP(B13,_!$A$7:$E$210,2,FALSE)=0, \"\",VLOOKUP(B13,_!$A$7:$E$210,2,FALSE)), \"\")","v":""},{"$f":"_xlfn.IFNA(IF(VLOOKUP(B13,_!$A$7:$E$210,3,FALSE)=0, \"\",VLOOKUP(B13,_!$A$7:$E$210,3,FALSE)), \"\")","v":""},{"$f":"_xlfn.IFNA(IF(VLOOKUP(B13,_!$A$7:$E$210,4,FALSE)=0, \"\", VLOOKUP(B13,_!$A$7:$E$210,4,FALSE)),\"\")","v":""},{"$f":"_xlfn.IFNA(IF(VLOOKUP(B13,_!$A$7:$E$210,5,FALSE)=0, \"\",VLOOKUP(B13,_!$A$7:$E$210,5,FALSE)), \"\")","v":""}]
[7,null,{"$f":"_xlfn.IFNA(VLOOKUP(B14,_!$A$7:$F$210,6,FALSE),\"\")","v":""},{"$f":"_xlfn.IFNA(IF(VLOOKUP(B14,_!$A$7:$E$210,2,FALSE)=0, \"\",VLOOKUP(B14,_!$A$7:$E$210,2,FALSE)), \"\")","v":""},{"$f":"_xlfn.IFNA(IF(VLOOKUP(B14,_!$A$7:$E$210,3,FALSE)=0, \"\",VLOOKUP(B14,_!$A$7:$E$210,3,FALSE)), \"\")","v":""},{"$f":"_xlfn.IFNA(IF(VLOOKUP(B14,_!$A$7:$E$210,4,FALSE)=0, \"\", VLOOKUP(B14,_!$A$7:$E$210,4,FALSE)),\"\")","v":""},{"$f":"_xlfn.IFNA(IF(VLOOKUP(B14,_!$A$7:$E$210,5,FALSE)=0, \"\",VLOOKUP(B14,_!$A$7:$E$210,5,FALSE)), \"\")","v":""}]
[8,null,{"$f":"_xlfn.IFNA(VLOOKUP(B15,_!$A$7:$F$210,6,FALSE),\"\")","v":""},{"$f":"_xlfn.IFNA(IF(VLOOKUP(B15,_!$A$7:$E$210,2,FALSE)=0, \"\",VLOOKUP(B15,_!$A$7:$E$210,2,FALSE)), \"\")","v":""},{"$f":"_xlfn.IFNA(IF(VLOOKUP(B15,_!$A$7:$E$210,3,FALSE)=0, \"\",VLOOKUP(B15,_!$A$7:$E$210,3,FALSE)), \"\")","v":""},{"$f":"_xlfn.IFNA(IF(VLOOKUP(B15,_!$A$7:$E$210,4,FALSE)=0, \"\", VLOOKUP(B15,_!$A$7:$E$210,4,FALSE)),\"\")","v":""},{"$f":"_xlfn.IFNA(IF(VLOOKUP(B15,_!$A$7:$E$210,5,FALSE)=0, \"\",VLOOKUP(B15,_!$A$7:$E$210,5,FALSE)), \"\")","v":""}]
[9,null,{"$f":"_xlfn.IFNA(VLOOKUP(B16,_!$A$7:$F$210,6,FALSE),\"\")","v":""},{"$f":"_xlfn.IFNA(IF(VLOOKUP(B16,_!$A$7:$E$210,2,FALSE)=0, \"\",VLOOKUP(B16,_!$A$7:$E$210,2,FALSE)), \"\")","v":""},{"$f":"_xlfn.IFNA(IF(VLOOKUP(B16,_!$A$7:$E$210,3,FALSE)=0, \"\",VLOOKUP(B16,_!$A$7:$E$210,3,FALSE)), \"\")","v":""},{"$f":"_xlfn.IFNA(IF(VLOOKUP(B16,_!$A$7:$E$210,4,FALSE)=0, \"\", VLOOKUP(B16,_!$A$7:$E$210,4,FALSE)),\"\")","v":""},{"$f":"_xlfn.IFNA(IF(VLOOKUP(B16,_!$A$7:$E$210,5,FALSE)=0, \"\",VLOOKUP(B16,_!$A$7:$E$210,5,FALSE)), \"\")","v":""}]
[10,null,{"$f":"_xlfn.IFNA(VLOOKUP(B17,_!$A$7:$F$210,6,FALSE),\"\")","v":""},{"$f":"_xlfn.IFNA(IF(VLOOKUP(B17,_!$A$7:$E$210,2,FALSE)=0, \"\",VLOOKUP(B17,_!$A$7:$E$210,2,FALSE)), \"\")","v":""},{"$f":"_xlfn.IFNA(IF(VLOOKUP(B17,_!$A$7:$E$210,3,FALSE)=0, \"\",VLOOKUP(B17,_!$A$7:$E$210,3,FALSE)), \"\")","v":""},{"$f":"_xlfn.IFNA(IF(VLOOKUP(B17,_!$A$7:$E$210,4,FALSE)=0, \"\", VLOOKUP(B17,_!$A$7:$E$210,4,FALSE)),\"\")","v":""},{"$f":"_xlfn.IFNA(IF(VLOOKUP(B17,_!$A$7:$E$210,5,FALSE)=0, \"\",VLOOKUP(B17,_!$A$7:$E$210,5,FALSE)), \"\")","v":""}]
[null,"\nHighest hazard level for each ‘Uptake Route’\n",null,{"$f":"_xlfn.IFNA(IF((INDEX(D1:D17,MATCH(\"E\",D1:D17,0)))=\"E\",\"E\",\"\"),_xlfn.IFNA(IF((INDEX(D1:D17,MATCH(\"D\",D1:D17,0)))=\"D\",\"D\",\"\"),_xlfn.IFNA(IF((INDEX(D1:D17,MATCH(\"Ca\",D1:D17,0)))=\"Ca\",\"C\",\"\"),_xlfn.IFNA(IF((INDEX(D1:D17,MATCH(\"C\",D1:D17,0)))=\"C\",\"C\",\"\"),_xlfn.IFNA(IF((INDEX(D1:D17,MATCH(\"B\",D1:D17,0)))=\"B\",\"B\",\"\"),_xlfn.IFNA(IF((INDEX(D1:D17,MATCH(\"A\",D1:D17,0)))=\"A\",\"A\",\"\"),_xlfn.IFNA(IF((INDEX(D1:D17,MATCH(\"n.a.\",D1:D17,0)))=\"n.a.\",\"\",\"\"),_xlfn.IFNA(IF((INDEX(D1:D17,MATCH(\"\",D1:D17,0)))=\"\",\"\",\"\"),\"\"))))))))","v":""},{"$f":"_xlfn.IFNA(IF((INDEX(E1:E17,MATCH(\"E\",E1:E17,0)))=\"E\",\"E\",\"\"),_xlfn.IFNA(IF((INDEX(E1:E17,MATCH(\"D (E)c\",E1:E17,0)))=\"D (E)c\",\"D (E)c\",\"\"),_xlfn.IFNA(IF((INDEX(E1:E17,MATCH(\"Da (E)c\",E1:E17,0)))=\"Da (E)c\",\"D (E)c\",\"\"),_xlfn.IFNA(IF((INDEX(E1:E17,MATCH(\"D\",E1:E17,0)))=\"D\",\"D\",\"\"),_xlfn.IFNA(IF((INDEX(E1:E17,MATCH(\"Ca\",E1:E17,0)))=\"Ca\",\"C\",\"\"),_xlfn.IFNA(IF((INDEX(E1:E17,MATCH(\"C\",E1:E17,0)))=\"C\",\"C\",\"\"),_xlfn.IFNA(IF((INDEX(E1:E17,MATCH(\"Ba\",E1:E17,0)))=\"Ba\",\"B\",\"\"),_xlfn.IFNA(IF((INDEX(E1:E17,MATCH(\"B\",E1:E17,0)))=\"B\",\"B\",\"\"),_xlfn.IFNA(IF((INDEX(E1:E17,MATCH(\"Aa\",E1:E17,0)))=\"Aa\",\"A\",\"\"),_xlfn.IFNA(IF((INDEX(E1:E17,MATCH(\"A\",E1:E17,0)))=\"A\",\"A\",\"\"),_xlfn.IFNA(IF((INDEX(E1:E17,MATCH(\"n.a.\",E1:E17,0)))=\"n.a.\",\"\",\"\"),_xlfn.IFNA(IF((INDEX(E1:E17,MATCH(\"\",E1:E17,0)))=\"\",\"\",\"\"),\"\"))))))))))))","v":""},{"$f":"_xlfn.IFNA(IF((INDEX(F1:F17,MATCH(\"E\",F1:F17,0)))=\"E\",\"E\",\"\"),_xlfn.IFNA(IF((INDEX(F1:F17,MATCH(\"D\",F1:F17,0)))=\"D\",\"D\",\"\"),_xlfn.IFNA(IF((INDEX(F1:F17,MATCH(\"Ca\",F1:F17,0)))=\"Ca\",\"C\",\"\"),_xlfn.IFNA(IF((INDEX(F1:F17,MATCH(\"C\",F1:F17,0)))=\"C\",\"C\",\"\"),_xlfn.IFNA(IF((INDEX(F1:F17,MATCH(\"B\",F1:F17,0)))=\"B\",\"B\",\"\"),_xlfn.IFNA(IF((INDEX(F1:F17,MATCH(\"A\",F1:F17,0)))=\"A\",\"A\",\"\"),_xlfn.IFNA(IF((INDEX(F1:F17,MATCH(\"n.a.\",F1:F17,0)))=\"n.a.\",\"\",\"\"),_xlfn.IFNA(IF((INDEX(F1:F17,MATCH(\"\",F1:F17,0)))=\"\",\"\",\"\"),\"\"))))))))","v":""},{"$f":"_xlfn.IFNA(IF((INDEX(G1:G17,MATCH(\"E\",G1:G17,0)))=\"E\",\"E\",\"\"),_xlfn.IFNA(IF((INDEX(G1:G17,MATCH(\"D (E)c\",G1:G17,0)))=\"D (E)c\",\"D (E)c\",\"\"),_xlfn.IFNA(IF((INDEX(G1:G17,MATCH(\"Db (E)c\",G1:G17,0)))=\"Db (E)c\",\"D (E)c\",\"\"),_xlfn.IFNA(IF((INDEX(G1:G17,MATCH(\"D\",G1:G17,0)))=\"D\",\"D\",\"\"),_xlfn.IFNA(IF((INDEX(G1:G17,MATCH(\"Cb\",G1:G17,0)))=\"Cb\",\"C\",\"\"),_xlfn.IFNA(IF((INDEX(G1:G17,MATCH(\"C\",G1:G17,0)))=\"C\",\"C\",\"\"),_xlfn.IFNA(IF((INDEX(G1:G17,MATCH(\"Bb\",G1:G17,0)))=\"Bb\",\"B\",\"\"),_xlfn.IFNA(IF((INDEX(G1:G17,MATCH(\"B\",G1:G17,0)))=\"B\",\"B\",\"\"),_xlfn.IFNA(IF((INDEX(G1:G17,MATCH(\"Ab\",G1:G17,0)))=\"Ab\",\"A\",\"\"),_xlfn.IFNA(IF((INDEX(G1:G17,MATCH(\"A\",G1:G17,0)))=\"A\",\"A\",\"\"),_xlfn.IFNA(IF((INDEX(G1:G17,MATCH(\"n.a.\",G1:G17,0)))=\"n.a.\",\"\",\"\"),_xlfn.IFNA(IF((INDEX(G1:G17,MATCH(\"\",G1:G17,0)))=\"\",\"\",\"\"),\"\"))))))))))))","v":""}]
[null,"\nHighest hazard level for all 'Uptake Routes' \n",null,{"$f":"_xlfn.IFNA(IF((INDEX(D18:G18,MATCH(\"E\",D18:G18,0)))=\"E\",\"E\",\"\"),_xlfn.IFNA(IF((INDEX(D18:G18,MATCH(\"D (E)c\",D18:G18,0)))=\"D (E)c\",\"D (E)\",\"\"),_xlfn.IFNA(IF((INDEX(D18:G18,MATCH(\"D\",D18:G18,0)))=\"D\",\"D\",\"\"),_xlfn.IFNA(IF((INDEX(D18:G18,MATCH(\"C\",D18:G18,0)))=\"C\",\"C\",\"\"),_xlfn.IFNA(IF((INDEX(D18:G18,MATCH(\"B\",D18:G18,0)))=\"B\",\"B\",\"\"),_xlfn.IFNA(IF((INDEX(D18:G18,MATCH(\"A\",D18:G18,0)))=\"A\",\"A\",\"\"),_xlfn.IFNA(IF((INDEX(D18:G18,MATCH(\"n.a.\",D18:G18,0)))=\"n.a.\",\"\",\"\"),_xlfn.IFNA(IF((INDEX(D18:G18,MATCH(\"\",D18:G18,0)))=\"\",\"\",\"\"),\"\"))))))))","v":""}]
[]
[null,"Step 3: D(E) Assessment\nSkip this step if \nyour assessment above does not reveal a D(E) hazard level.\nHover over this cell for additional instructions.",null,"\nOverall hazard level\n",null,{"$f":"IF(AND(C5=\"Yes\",D19=\"\")=TRUE,\"B\",IF(D19=\"\",\"\",(IF(AND(D19=\"D (E)\",C21=\"\"),\"D (E)\"&CHAR(10)&\"Find if cat. 1 acute tox.\",(IF(D19<>\"D (E)\",D19,(IF(AND(D19=\"D (E)\",C21=\"Yes\"),\"E\",(IF(AND(D19=\"D (E)\",C21=\"No\"),\"D\",\"\"))))))))))","v":""}]

{"sheet":"9","index":10,"n_rows":21,"n_cols":7,"rows_kept":21,"cut":false,"hidden":false,"merged":[[20,3,20,4],[20,5,20,6],[1,1,1,4],[2,1,2,4],[3,2,3,6],[5,1,6,1],[5,2,6,2],[5,3,5,6],[17,1,17,2],[18,1,18,2],[18,3,18,6]]}
[null,"“Setting Priorities”\nChemical Hazard Assessment and Prioritization (CHAP)"]
[null,"Hazard Level Assessment 9\nTop 5 Chemicals - By Perceived Hazard\nComplete Steps 1, 2, and 3 below"]
[]
[null,"Chemical / Product 9: ",{"$f":"IF('Summary Sheet'!B27=\"\", \"\", 'Summary Sheet'!B27)","v":""}]
[null,"\nStep 1: Physical & Environmental Hazard Statements/Codes\nFind Section 2 of the SDS and determine if the SDS has physical and/or environmental hazard statements/codes. Hover on this cell for additional instructions.\n"]
[null,"Step 2: Health Hazard Statements/Codes\nProvide the Health Hazard Statements or Codes from Section 2 of the SDS below. Hover on this cell for additional instructions.",null,"\nHazard Level\n"]
[null,null,null,"Eye Damage","Inhalation","Local Skin Damage","Skin uptake, systemic"]
[1,null,{"$f":"_xlfn.IFNA(VLOOKUP(B8,_!$A$7:$F$210,6,FALSE),\"\")","v":""},{"$f":"_xlfn.IFNA(IF(VLOOKUP(B8,_!$A$7:$E$210,2,FALSE)=0, \"\",VLOOKUP(B8,_!$A$7:$E$210,2,FALSE)), \"\")","v":""},{"$f":"_xlfn.IFNA(IF(VLOOKUP(B8,_!$A$7:$E$210,3,FALSE)=0, \"\",VLOOKUP(B8,_!$A$7:$E$210,3,FALSE)), \"\")","v":""},{"$f":"_xlfn.IFNA(IF(VLOOKUP(B8,_!$A$7:$E$210,4,FALSE)=0, \"\", VLOOKUP(B8,_!$A$7:$E$210,4,FALSE)),\"\")","v":""},{"$f":"_xlfn.IFNA(IF(VLOOKUP(B8,_!$A$7:$E$210,5,FALSE)=0, \"\",VLOOKUP(B8,_!$A$7:$E$210,5,FALSE)), \"\")","v":""}]
[2,null,{"$f":"_xlfn.IFNA(VLOOKUP(B9,_!$A$7:$F$210,6,FALSE),\"\")","v":""},{"$f":"_xlfn.IFNA(IF(VLOOKUP(B9,_!$A$7:$E$210,2,FALSE)=0, \"\",VLOOKUP(B9,_!$A$7:$E$210,2,FALSE)), \"\")","v":""},{"$f":"_xlfn.IFNA(IF(VLOOKUP(B9,_!$A$7:$E$210,3,FALSE)=0, \"\",VLOOKUP(B9,_!$A$7:$E$210,3,FALSE)), \"\")","v":""},{"$f":"_xlfn.IFNA(IF(VLOOKUP(B9,_!$A$7:$E$210,4,FALSE)=0, \"\", VLOOKUP(B9,_!$A$7:$E$210,4,FALSE)),\"\")","v":""},{"$f":"_xlfn.IFNA(IF(VLOOKUP(B9,_!$A$7:$E$210,5,FALSE)=0, \"\",VLOOKUP(B9,_!$A$7:$E$210,5,FALSE)), \"\")","v":""}]
[3,null,{"$f":"_xlfn.IFNA(VLOOKUP(B10,_!$A$7:$F$210,6,FALSE),\"\")","v":""},{"$f":"_xlfn.IFNA(IF(VLOOKUP(B10,_!$A$7:$E$210,2,FALSE)=0, \"\",VLOOKUP(B10,_!$A$7:$E$210,2,FALSE)), \"\")","v":""},{"$f":"_xlfn.IFNA(IF(VLOOKUP(B10,_!$A$7:$E$210,3,FALSE)=0, \"\",VLOOKUP(B10,_!$A$7:$E$210,3,FALSE)), \"\")","v":""},{"$f":"_xlfn.IFNA(IF(VLOOKUP(B10,_!$A$7:$E$210,4,FALSE)=0, \"\", VLOOKUP(B10,_!$A$7:$E$210,4,FALSE)),\"\")","v":""},{"$f":"_xlfn.IFNA(IF(VLOOKUP(B10,_!$A$7:$E$210,5,FALSE)=0, \"\",VLOOKUP(B10,_!$A$7:$E$210,5,FALSE)), \"\")","v":""}]
[4,null,{"$f":"_xlfn.IFNA(VLOOKUP(B11,_!$A$7:$F$210,6,FALSE),\"\")","v":""},{"$f":"_xlfn.IFNA(IF(VLOOKUP(B11,_!$A$7:$E$210,2,FALSE)=0, \"\",VLOOKUP(B11,_!$A$7:$E$210,2,FALSE)), \"\")","v":""},{"$f":"_xlfn.IFNA(IF(VLOOKUP(B11,_!$A$7:$E$210,3,FALSE)=0, \"\",VLOOKUP(B11,_!$A$7:$E$210,3,FALSE)), \"\")","v":""},{"$f":"_xlfn.IFNA(IF(VLOOKUP(B11,_!$A$7:$E$210,4,FALSE)=0, \"\", VLOOKUP(B11,_!$A$7:$E$210,4,FALSE)),\"\")","v":""},{"$f":"_xlfn.IFNA(IF(VLOOKUP(B11,_!$A$7:$E$210,5,FALSE)=0, \"\",VLOOKUP(B11,_!$A$7:$E$210,5,FALSE)), \"\")","v":""}]
[5,null,{"$f":"_xlfn.IFNA(VLOOKUP(B12,_!$A$7:$F$210,6,FALSE),\"\")","v":""},{"$f":"_xlfn.IFNA(IF(VLOOKUP(B12,_!$A$7:$E$210,2,FALSE)=0, \"\",VLOOKUP(B12,_!$A$7:$E$210,2,FALSE)), \"\")","v":""},{"$f":"_xlfn.IFNA(IF(VLOOKUP(B12,_!$A$7:$E$210,3,FALSE)=0, \"\",VLOOKUP(B12,_!$A$7:$E$210,3,FALSE)), \"\")","v":""},{"$f":"_xlfn.IFNA(IF(VLOOKUP(B12,_!$A$7:$E$210,4,FALSE)=0, \"\", VLOOKUP(B12,_!$A$7:$E$210,4,FALSE)),\"\")","v":""},{"$f":"_xlfn.IFNA(IF(VLOOKUP(B12,_!$A$7:$E$210,5,FALSE)=0, \"\",VLOOKUP(B12,_!$A$7:$E$210,5,FALSE)), \"\")","v":""}]
[6,null,{"$f":"_xlfn.IFNA(VLOOKUP(B13,_!$A$7:$F$210,6,FALSE),\"\")","v":""},{"$f":"_xlfn.IFNA(IF(VLOOKUP(B13,_!$A$7:$E$210,2,FALSE)=0, \"\",VLOOKUP(B13,_!$A$7:$E$210,2,FALSE)), \"\")","v":""},{"$f":"_xlfn.IFNA(IF(VLOOKUP(B13,_!$A$7:$E$210,3,FALSE)=0, \"\",VLOOKUP(B13,_!$A$7:$E$210,3,FALSE)), \"\")","v":""},{"$f":"_xlfn.IFNA(IF(VLOOKUP(B13,_!$A$7:$E$210,4,FALSE)=0, \"\", VLOOKUP(B13,_!$A$7:$E$210,4,FALSE)),\"\")","v":""},{"$f":"_xlfn.IFNA(IF(VLOOKUP(B13,_!$A$7:$E$210,5,FALSE)=0, \"\",VLOOKUP(B13,_!$A$7:$E$210,5,FALSE)), \"\")","v":""}]
[7,null,{"$f":"_xlfn.IFNA(VLOOKUP(B14,_!$A$7:$F$210,6,FALSE),\"\")","v":""},{"$f":"_xlfn.IFNA(IF(VLOOKUP(B14,_!$A$7:$E$210,2,FALSE)=0, \"\",VLOOKUP(B14,_!$A$7:$E$210,2,FALSE)), \"\")","v":""},{"$f":"_xlfn.IFNA(IF(VLOOKUP(B14,_!$A$7:$E$210,3,FALSE)=0, \"\",VLOOKUP(B14,_!$A$7:$E$210,3,FALSE)), \"\")","v":""},{"$f":"_xlfn.IFNA(IF(VLOOKUP(B14,_!$A$7:$E$210,4,FALSE)=0, \"\", VLOOKUP(B14,_!$A$7:$E$210,4,FALSE)),\"\")","v":""},{"$f":"_xlfn.IFNA(IF(VLOOKUP(B14,_!$A$7:$E$210,5,FALSE)=0, \"\",VLOOKUP(B14,_!$A$7:$E$210,5,FALSE)), \"\")","v":""}]
[8,null,{"$f":"_xlfn.IFNA(VLOOKUP(B15,_!$A$7:$F$210,6,FALSE),\"\")","v":""},{"$f":"_xlfn.IFNA(IF(VLOOKUP(B15,_!$A$7:$E$210,2,FALSE)=0, \"\",VLOOKUP(B15,_!$A$7:$E$210,2,FALSE)), \"\")","v":""},{"$f":"_xlfn.IFNA(IF(VLOOKUP(B15,_!$A$7:$E$210,3,FALSE)=0, \"\",VLOOKUP(B15,_!$A$7:$E$210,3,FALSE)), \"\")","v":""},{"$f":"_xlfn.IFNA(IF(VLOOKUP(B15,_!$A$7:$E$210,4,FALSE)=0, \"\", VLOOKUP(B15,_!$A$7:$E$210,4,FALSE)),\"\")","v":""},{"$f":"_xlfn.IFNA(IF(VLOOKUP(B15,_!$A$7:$E$210,5,FALSE)=0, \"\",VLOOKUP(B15,_!$A$7:$E$210,5,FALSE)), \"\")","v":""}]
[9,null,{"$f":"_xlfn.IFNA(VLOOKUP(B16,_!$A$7:$F$210,6,FALSE),\"\")","v":""},{"$f":"_xlfn.IFNA(IF(VLOOKUP(B16,_!$A$7:$E$210,2,FALSE)=0, \"\",VLOOKUP(B16,_!$A$7:$E$210,2,FALSE)), \"\")","v":""},{"$f":"_xlfn.IFNA(IF(VLOOKUP(B16,_!$A$7:$E$210,3,FALSE)=0, \"\",VLOOKUP(B16,_!$A$7:$E$210,3,FALSE)), \"\")","v":""},{"$f":"_xlfn.IFNA(IF(VLOOKUP(B16,_!$A$7:$E$210,4,FALSE)=0, \"\", VLOOKUP(B16,_!$A$7:$E$210,4,FALSE)),\"\")","v":""},{"$f":"_xlfn.IFNA(IF(VLOOKUP(B16,_!$A$7:$E$210,5,FALSE)=0, \"\",VLOOKUP(B16,_!$A$7:$E$210,5,FALSE)), \"\")","v":""}]
[10,null,{"$f":"_xlfn.IFNA(VLOOKUP(B17,_!$A$7:$F$210,6,FALSE),\"\")","v":""},{"$f":"_xlfn.IFNA(IF(VLOOKUP(B17,_!$A$7:$E$210,2,FALSE)=0, \"\",VLOOKUP(B17,_!$A$7:$E$210,2,FALSE)), \"\")","v":""},{"$f":"_xlfn.IFNA(IF(VLOOKUP(B17,_!$A$7:$E$210,3,FALSE)=0, \"\",VLOOKUP(B17,_!$A$7:$E$210,3,FALSE)), \"\")","v":""},{"$f":"_xlfn.IFNA(IF(VLOOKUP(B17,_!$A$7:$E$210,4,FALSE)=0, \"\", VLOOKUP(B17,_!$A$7:$E$210,4,FALSE)),\"\")","v":""},{"$f":"_xlfn.IFNA(IF(VLOOKUP(B17,_!$A$7:$E$210,5,FALSE)=0, \"\",VLOOKUP(B17,_!$A$7:$E$210,5,FALSE)), \"\")","v":""}]
[null,"\nHighest hazard level for each ‘Uptake Route’\n",null,{"$f":"_xlfn.IFNA(IF((INDEX(D1:D17,MATCH(\"E\",D1:D17,0)))=\"E\",\"E\",\"\"),_xlfn.IFNA(IF((INDEX(D1:D17,MATCH(\"D\",D1:D17,0)))=\"D\",\"D\",\"\"),_xlfn.IFNA(IF((INDEX(D1:D17,MATCH(\"Ca\",D1:D17,0)))=\"Ca\",\"C\",\"\"),_xlfn.IFNA(IF((INDEX(D1:D17,MATCH(\"C\",D1:D17,0)))=\"C\",\"C\",\"\"),_xlfn.IFNA(IF((INDEX(D1:D17,MATCH(\"B\",D1:D17,0)))=\"B\",\"B\",\"\"),_xlfn.IFNA(IF((INDEX(D1:D17,MATCH(\"A\",D1:D17,0)))=\"A\",\"A\",\"\"),_xlfn.IFNA(IF((INDEX(D1:D17,MATCH(\"n.a.\",D1:D17,0)))=\"n.a.\",\"\",\"\"),_xlfn.IFNA(IF((INDEX(D1:D17,MATCH(\"\",D1:D17,0)))=\"\",\"\",\"\"),\"\"))))))))","v":""},{"$f":"_xlfn.IFNA(IF((INDEX(E1:E17,MATCH(\"E\",E1:E17,0)))=\"E\",\"E\",\"\"),_xlfn.IFNA(IF((INDEX(E1:E17,MATCH(\"D (E)c\",E1:E17,0)))=\"D (E)c\",\"D (E)c\",\"\"),_xlfn.IFNA(IF((INDEX(E1:E17,MATCH(\"Da (E)c\",E1:E17,0)))=\"Da (E)c\",\"D (E)c\",\"\"),_xlfn.IFNA(IF((INDEX(E1:E17,MATCH(\"D\",E1:E17,0)))=\"D\",\"D\",\"\"),_xlfn.IFNA(IF((INDEX(E1:E17,MATCH(\"Ca\",E1:E17,0)))=\"Ca\",\"C\",\"\"),_xlfn.IFNA(IF((INDEX(E1:E17,MATCH(\"C\",E1:E17,0)))=\"C\",\"C\",\"\"),_xlfn.IFNA(IF((INDEX(E1:E17,MATCH(\"Ba\",E1:E17,0)))=\"Ba\",\"B\",\"\"),_xlfn.IFNA(IF((INDEX(E1:E17,MATCH(\"B\",E1:E17,0)))=\"B\",\"B\",\"\"),_xlfn.IFNA(IF((INDEX(E1:E17,MATCH(\"Aa\",E1:E17,0)))=\"Aa\",\"A\",\"\"),_xlfn.IFNA(IF((INDEX(E1:E17,MATCH(\"A\",E1:E17,0)))=\"A\",\"A\",\"\"),_xlfn.IFNA(IF((INDEX(E1:E17,MATCH(\"n.a.\",E1:E17,0)))=\"n.a.\",\"\",\"\"),_xlfn.IFNA(IF((INDEX(E1:E17,MATCH(\"\",E1:E17,0)))=\"\",\"\",\"\"),\"\"))))))))))))","v":""},{"$f":"_xlfn.IFNA(IF((INDEX(F1:F17,MATCH(\"E\",F1:F17,0)))=\"E\",\"E\",\"\"),_xlfn.IFNA(IF((INDEX(F1:F17,MATCH(\"D\",F1:F17,0)))=\"D\",\"D\",\"\"),_xlfn.IFNA(IF((INDEX(F1:F17,MATCH(\"Ca\",F1:F17,0)))=\"Ca\",\"C\",\"\"),_xlfn.IFNA(IF((INDEX(F1:F17,MATCH(\"C\",F1:F17,0)))=\"C\",\"C\",\"\"),_xlfn.IFNA(IF((INDEX(F1:F17,MATCH(\"B\",F1:F17,0)))=\"B\",\"B\",\"\"),_xlfn.IFNA(IF((INDEX(F1:F17,MATCH(\"A\",F1:F17,0)))=\"A\",\"A\",\"\"),_xlfn.IFNA(IF((INDEX(F1:F17,MATCH(\"n.a.\",F1:F17,0)))=\"n.a.\",\"\",\"\"),_xlfn.IFNA(IF((INDEX(F1:F17,MATCH(\"\",F1:F17,0)))=\"\",\"\",\"\"),\"\"))))))))","v":""},{"$f":"_xlfn.IFNA(IF((INDEX(G1:G17,MATCH(\"E\",G1:G17,0)))=\"E\",\"E\",\"\"),_xlfn.IFNA(IF((INDEX(G1:G17,MATCH(\"D (E)c\",G1:G17,0)))=\"D (E)c\",\"D (E)c\",\"\"),_xlfn.IFNA(IF((INDEX(G1:G17,MATCH(\"Db (E)c\",G1:G17,0)))=\"Db (E)c\",\"D (E)c\",\"\"),_xlfn.IFNA(IF((INDEX(G1:G17,MATCH(\"D\",G1:G17,0)))=\"D\",\"D\",\"\"),_xlfn.IFNA(IF((INDEX(G1:G17,MATCH(\"Cb\",G1:G17,0)))=\"Cb\",\"C\",\"\"),_xlfn.IFNA(IF((INDEX(G1:G17,MATCH(\"C\",G1:G17,0)))=\"C\",\"C\",\"\"),_xlfn.IFNA(IF((INDEX(G1:G17,MATCH(\"Bb\",G1:G17,0)))=\"Bb\",\"B\",\"\"),_xlfn.IFNA(IF((INDEX(G1:G17,MATCH(\"B\",G1:G17,0)))=\"B\",\"B\",\"\"),_xlfn.IFNA(IF((INDEX(G1:G17,MATCH(\"Ab\",G1:G17,0)))=\"Ab\",\"A\",\"\"),_xlfn.IFNA(IF((INDEX(G1:G17,MATCH(\"A\",G1:G17,0)))=\"A\",\"A\",\"\"),_xlfn.IFNA(IF((INDEX(G1:G17,MATCH(\"n.a.\",G1:G17,0)))=\"n.a.\",\"\",\"\"),_xlfn.IFNA(IF((INDEX(G1:G17,MATCH(\"\",G1:G17,0)))=\"\",\"\",\"\"),\"\"))))))))))))","v":""}]
[null,"\nHighest hazard level for all 'Uptake Routes' \n",null,{"$f":"_xlfn.IFNA(IF((INDEX(D18:G18,MATCH(\"E\",D18:G18,0)))=\"E\",\"E\",\"\"),_xlfn.IFNA(IF((INDEX(D18:G18,MATCH(\"D (E)c\",D18:G18,0)))=\"D (E)c\",\"D (E)\",\"\"),_xlfn.IFNA(IF((INDEX(D18:G18,MATCH(\"D\",D18:G18,0)))=\"D\",\"D\",\"\"),_xlfn.IFNA(IF((INDEX(D18:G18,MATCH(\"C\",D18:G18,0)))=\"C\",\"C\",\"\"),_xlfn.IFNA(IF((INDEX(D18:G18,MATCH(\"B\",D18:G18,0)))=\"B\",\"B\",\"\"),_xlfn.IFNA(IF((INDEX(D18:G18,MATCH(\"A\",D18:G18,0)))=\"A\",\"A\",\"\"),_xlfn.IFNA(IF((INDEX(D18:G18,MATCH(\"n.a.\",D18:G18,0)))=\"n.a.\",\"\",\"\"),_xlfn.IFNA(IF((INDEX(D18:G18,MATCH(\"\",D18:G18,0)))=\"\",\"\",\"\"),\"\"))))))))","v":""}]
[]
[null,"Step 3: D(E) Assessment\nSkip this step if \nyour assessment above does not reveal a D(E) hazard level.\nHover over this cell for additional instructions.",null,"\nOverall hazard level\n",null,{"$f":"IF(AND(C5=\"Yes\",D19=\"\")=TRUE,\"B\",IF(D19=\"\",\"\",(IF(AND(D19=\"D (E)\",C21=\"\"),\"D (E)\"&CHAR(10)&\"Find if cat. 1 acute tox.\",(IF(D19<>\"D (E)\",D19,(IF(AND(D19=\"D (E)\",C21=\"Yes\"),\"E\",(IF(AND(D19=\"D (E)\",C21=\"No\"),\"D\",\"\"))))))))))","v":""}]

{"sheet":"10","index":11,"n_rows":21,"n_cols":7,"rows_kept":21,"cut":false,"hidden":false,"merged":[[20,3,20,4],[20,5,20,6],[1,1,1,4],[2,1,2,4],[3,2,3,6],[5,1,6,1],[5,2,6,2],[5,3,5,6],[17,1,17,2],[18,1,18,2],[18,3,18,6]]}
[null,"“Setting Priorities”\nChemical Hazard Assessment and Prioritization (CHAP)"]
[null,"Hazard Level Assessment 10\nTop 5 Chemicals - By Perceived Hazard\nComplete Steps 1, 2, and 3 below"]
[]
[null,"Chemical / Product 10: ",{"$f":"IF('Summary Sheet'!B28=\"\", \"\", 'Summary Sheet'!B28)","v":""}]
[null,"\nStep 1: Physical & Environmental Hazard Statements/Codes\nFind Section 2 of the SDS and determine if the SDS has physical and/or environmental hazard statements/codes. Hover on this cell for additional instructions.\n"]
[null,"Step 2: Health Hazard Statements/Codes\nProvide the Health Hazard Statements or Codes from Section 2 of the SDS below. Hover on this cell for additional instructions.",null,"\nHazard Level\n"]
[null,null,null,"Eye Damage","Inhalation","Local Skin Damage","Skin uptake, systemic"]
[1,null,{"$f":"_xlfn.IFNA(VLOOKUP(B8,_!$A$7:$F$210,6,FALSE),\"\")","v":""},{"$f":"_xlfn.IFNA(IF(VLOOKUP(B8,_!$A$7:$E$210,2,FALSE)=0, \"\",VLOOKUP(B8,_!$A$7:$E$210,2,FALSE)), \"\")","v":""},{"$f":"_xlfn.IFNA(IF(VLOOKUP(B8,_!$A$7:$E$210,3,FALSE)=0, \"\",VLOOKUP(B8,_!$A$7:$E$210,3,FALSE)), \"\")","v":""},{"$f":"_xlfn.IFNA(IF(VLOOKUP(B8,_!$A$7:$E$210,4,FALSE)=0, \"\", VLOOKUP(B8,_!$A$7:$E$210,4,FALSE)),\"\")","v":""},{"$f":"_xlfn.IFNA(IF(VLOOKUP(B8,_!$A$7:$E$210,5,FALSE)=0, \"\",VLOOKUP(B8,_!$A$7:$E$210,5,FALSE)), \"\")","v":""}]
[2,null,{"$f":"_xlfn.IFNA(VLOOKUP(B9,_!$A$7:$F$210,6,FALSE),\"\")","v":""},{"$f":"_xlfn.IFNA(IF(VLOOKUP(B9,_!$A$7:$E$210,2,FALSE)=0, \"\",VLOOKUP(B9,_!$A$7:$E$210,2,FALSE)), \"\")","v":""},{"$f":"_xlfn.IFNA(IF(VLOOKUP(B9,_!$A$7:$E$210,3,FALSE)=0, \"\",VLOOKUP(B9,_!$A$7:$E$210,3,FALSE)), \"\")","v":""},{"$f":"_xlfn.IFNA(IF(VLOOKUP(B9,_!$A$7:$E$210,4,FALSE)=0, \"\", VLOOKUP(B9,_!$A$7:$E$210,4,FALSE)),\"\")","v":""},{"$f":"_xlfn.IFNA(IF(VLOOKUP(B9,_!$A$7:$E$210,5,FALSE)=0, \"\",VLOOKUP(B9,_!$A$7:$E$210,5,FALSE)), \"\")","v":""}]
[3,null,{"$f":"_xlfn.IFNA(VLOOKUP(B10,_!$A$7:$F$210,6,FALSE),\"\")","v":""},{"$f":"_xlfn.IFNA(IF(VLOOKUP(B10,_!$A$7:$E$210,2,FALSE)=0, \"\",VLOOKUP(B10,_!$A$7:$E$210,2,FALSE)), \"\")","v":""},{"$f":"_xlfn.IFNA(IF(VLOOKUP(B10,_!$A$7:$E$210,3,FALSE)=0, \"\",VLOOKUP(B10,_!$A$7:$E$210,3,FALSE)), \"\")","v":""},{"$f":"_xlfn.IFNA(IF(VLOOKUP(B10,_!$A$7:$E$210,4,FALSE)=0, \"\", VLOOKUP(B10,_!$A$7:$E$210,4,FALSE)),\"\")","v":""},{"$f":"_xlfn.IFNA(IF(VLOOKUP(B10,_!$A$7:$E$210,5,FALSE)=0, \"\",VLOOKUP(B10,_!$A$7:$E$210,5,FALSE)), \"\")","v":""}]
[4,null,{"$f":"_xlfn.IFNA(VLOOKUP(B11,_!$A$7:$F$210,6,FALSE),\"\")","v":""},{"$f":"_xlfn.IFNA(IF(VLOOKUP(B11,_!$A$7:$E$210,2,FALSE)=0, \"\",VLOOKUP(B11,_!$A$7:$E$210,2,FALSE)), \"\")","v":""},{"$f":"_xlfn.IFNA(IF(VLOOKUP(B11,_!$A$7:$E$210,3,FALSE)=0, \"\",VLOOKUP(B11,_!$A$7:$E$210,3,FALSE)), \"\")","v":""},{"$f":"_xlfn.IFNA(IF(VLOOKUP(B11,_!$A$7:$E$210,4,FALSE)=0, \"\", VLOOKUP(B11,_!$A$7:$E$210,4,FALSE)),\"\")","v":""},{"$f":"_xlfn.IFNA(IF(VLOOKUP(B11,_!$A$7:$E$210,5,FALSE)=0, \"\",VLOOKUP(B11,_!$A$7:$E$210,5,FALSE)), \"\")","v":""}]
[5,null,{"$f":"_xlfn.IFNA(VLOOKUP(B12,_!$A$7:$F$210,6,FALSE),\"\")","v":""},{"$f":"_xlfn.IFNA(IF(VLOOKUP(B12,_!$A$7:$E$210,2,FALSE)=0, \"\",VLOOKUP(B12,_!$A$7:$E$210,2,FALSE)), \"\")","v":""},{"$f":"_xlfn.IFNA(IF(VLOOKUP(B12,_!$A$7:$E$210,3,FALSE)=0, \"\",VLOOKUP(B12,_!$A$7:$E$210,3,FALSE)), \"\")","v":""},{"$f":"_xlfn.IFNA(IF(VLOOKUP(B12,_!$A$7:$E$210,4,FALSE)=0, \"\", VLOOKUP(B12,_!$A$7:$E$210,4,FALSE)),\"\")","v":""},{"$f":"_xlfn.IFNA(IF(VLOOKUP(B12,_!$A$7:$E$210,5,FALSE)=0, \"\",VLOOKUP(B12,_!$A$7:$E$210,5,FALSE)), \"\")","v":""}]
[6,null,{"$f":"_xlfn.IFNA(VLOOKUP(B13,_!$A$7:$F$210,6,FALSE),\"\")","v":""},{"$f":"_xlfn.IFNA(IF(VLOOKUP(B13,_!$A$7:$E$210,2,FALSE)=0, \"\",VLOOKUP(B13,_!$A$7:$E$210,2,FALSE)), \"\")","v":""},{"$f":"_xlfn.IFNA(IF(VLOOKUP(B13,_!$A$7:$E$210,3,FALSE)=0, \"\",VLOOKUP(B13,_!$A$7:$E$210,3,FALSE)), \"\")","v":""},{"$f":"_xlfn.IFNA(IF(VLOOKUP(B13,_!$A$7:$E$210,4,FALSE)=0, \"\", VLOOKUP(B13,_!$A$7:$E$210,4,FALSE)),\"\")","v":""},{"$f":"_xlfn.IFNA(IF(VLOOKUP(B13,_!$A$7:$E$210,5,FALSE)=0, \"\",VLOOKUP(B13,_!$A$7:$E$210,5,FALSE)), \"\")","v":""}]
[7,null,{"$f":"_xlfn.IFNA(VLOOKUP(B14,_!$A$7:$F$210,6,FALSE),\"\")","v":""},{"$f":"_xlfn.IFNA(IF(VLOOKUP(B14,_!$A$7:$E$210,2,FALSE)=0, \"\",VLOOKUP(B14,_!$A$7:$E$210,2,FALSE)), \"\")","v":""},{"$f":"_xlfn.IFNA(IF(VLOOKUP(B14,_!$A$7:$E$210,3,FALSE)=0, \"\",VLOOKUP(B14,_!$A$7:$E$210,3,FALSE)), \"\")","v":""},{"$f":"_xlfn.IFNA(IF(VLOOKUP(B14,_!$A$7:$E$210,4,FALSE)=0, \"\", VLOOKUP(B14,_!$A$7:$E$210,4,FALSE)),\"\")","v":""},{"$f":"_xlfn.IFNA(IF(VLOOKUP(B14,_!$A$7:$E$210,5,FALSE)=0, \"\",VLOOKUP(B14,_!$A$7:$E$210,5,FALSE)), \"\")","v":""}]
[8,null,{"$f":"_xlfn.IFNA(VLOOKUP(B15,_!$A$7:$F$210,6,FALSE),\"\")","v":""},{"$f":"_xlfn.IFNA(IF(VLOOKUP(B15,_!$A$7:$E$210,2,FALSE)=0, \"\",VLOOKUP(B15,_!$A$7:$E$210,2,FALSE)), \"\")","v":""},{"$f":"_xlfn.IFNA(IF(VLOOKUP(B15,_!$A$7:$E$210,3,FALSE)=0, \"\",VLOOKUP(B15,_!$A$7:$E$210,3,FALSE)), \"\")","v":""},{"$f":"_xlfn.IFNA(IF(VLOOKUP(B15,_!$A$7:$E$210,4,FALSE)=0, \"\", VLOOKUP(B15,_!$A$7:$E$210,4,FALSE)),\"\")","v":""},{"$f":"_xlfn.IFNA(IF(VLOOKUP(B15,_!$A$7:$E$210,5,FALSE)=0, \"\",VLOOKUP(B15,_!$A$7:$E$210,5,FALSE)), \"\")","v":""}]
[9,null,{"$f":"_xlfn.IFNA(VLOOKUP(B16,_!$A$7:$F$210,6,FALSE),\"\")","v":""},{"$f":"_xlfn.IFNA(IF(VLOOKUP(B16,_!$A$7:$E$210,2,FALSE)=0, \"\",VLOOKUP(B16,_!$A$7:$E$210,2,FALSE)), \"\")","v":""},{"$f":"_xlfn.IFNA(IF(VLOOKUP(B16,_!$A$7:$E$210,3,FALSE)=0, \"\",VLOOKUP(B16,_!$A$7:$E$210,3,FALSE)), \"\")","v":""},{"$f":"_xlfn.IFNA(IF(VLOOKUP(B16,_!$A$7:$E$210,4,FALSE)=0, \"\", VLOOKUP(B16,_!$A$7:$E$210,4,FALSE)),\"\")","v":""},{"$f":"_xlfn.IFNA(IF(VLOOKUP(B16,_!$A$7:$E$210,5,FALSE)=0, \"\",VLOOKUP(B16,_!$A$7:$E$210,5,FALSE)), \"\")","v":""}]
[10,null,{"$f":"_xlfn.IFNA(VLOOKUP(B17,_!$A$7:$F$210,6,FALSE),\"\")","v":""},{"$f":"_xlfn.IFNA(IF(VLOOKUP(B17,_!$A$7:$E$210,2,FALSE)=0, \"\",VLOOKUP(B17,_!$A$7:$E$210,2,FALSE)), \"\")","v":""},{"$f":"_xlfn.IFNA(IF(VLOOKUP(B17,_!$A$7:$E$210,3,FALSE)=0, \"\",VLOOKUP(B17,_!$A$7:$E$210,3,FALSE)), \"\")","v":""},{"$f":"_xlfn.IFNA(IF(VLOOKUP(B17,_!$A$7:$E$210,4,FALSE)=0, \"\", VLOOKUP(B17,_!$A$7:$E$210,4,FALSE)),\"\")","v":""},{"$f":"_xlfn.IFNA(IF(VLOOKUP(B17,_!$A$7:$E$210,5,FALSE)=0, \"\",VLOOKUP(B17,_!$A$7:$E$210,5,FALSE)), \"\")","v":""}]
[null,"\nHighest hazard level for each ‘Uptake Route’\n",null,{"$f":"_xlfn.IFNA(IF((INDEX(D1:D17,MATCH(\"E\",D1:D17,0)))=\"E\",\"E\",\"\"),_xlfn.IFNA(IF((INDEX(D1:D17,MATCH(\"D\",D1:D17,0)))=\"D\",\"D\",\"\"),_xlfn.IFNA(IF((INDEX(D1:D17,MATCH(\"Ca\",D1:D17,0)))=\"Ca\",\"C\",\"\"),_xlfn.IFNA(IF((INDEX(D1:D17,MATCH(\"C\",D1:D17,0)))=\"C\",\"C\",\"\"),_xlfn.IFNA(IF((INDEX(D1:D17,MATCH(\"B\",D1:D17,0)))=\"B\",\"B\",\"\"),_xlfn.IFNA(IF((INDEX(D1:D17,MATCH(\"A\",D1:D17,0)))=\"A\",\"A\",\"\"),_xlfn.IFNA(IF((INDEX(D1:D17,MATCH(\"n.a.\",D1:D17,0)))=\"n.a.\",\"\",\"\"),_xlfn.IFNA(IF((INDEX(D1:D17,MATCH(\"\",D1:D17,0)))=\"\",\"\",\"\"),\"\"))))))))","v":""},{"$f":"_xlfn.IFNA(IF((INDEX(E1:E17,MATCH(\"E\",E1:E17,0)))=\"E\",\"E\",\"\"),_xlfn.IFNA(IF((INDEX(E1:E17,MATCH(\"D (E)c\",E1:E17,0)))=\"D (E)c\",\"D (E)c\",\"\"),_xlfn.IFNA(IF((INDEX(E1:E17,MATCH(\"Da (E)c\",E1:E17,0)))=\"Da (E)c\",\"D (E)c\",\"\"),_xlfn.IFNA(IF((INDEX(E1:E17,MATCH(\"D\",E1:E17,0)))=\"D\",\"D\",\"\"),_xlfn.IFNA(IF((INDEX(E1:E17,MATCH(\"Ca\",E1:E17,0)))=\"Ca\",\"C\",\"\"),_xlfn.IFNA(IF((INDEX(E1:E17,MATCH(\"C\",E1:E17,0)))=\"C\",\"C\",\"\"),_xlfn.IFNA(IF((INDEX(E1:E17,MATCH(\"Ba\",E1:E17,0)))=\"Ba\",\"B\",\"\"),_xlfn.IFNA(IF((INDEX(E1:E17,MATCH(\"B\",E1:E17,0)))=\"B\",\"B\",\"\"),_xlfn.IFNA(IF((INDEX(E1:E17,MATCH(\"Aa\",E1:E17,0)))=\"Aa\",\"A\",\"\"),_xlfn.IFNA(IF((INDEX(E1:E17,MATCH(\"A\",E1:E17,0)))=\"A\",\"A\",\"\"),_xlfn.IFNA(IF((INDEX(E1:E17,MATCH(\"n.a.\",E1:E17,0)))=\"n.a.\",\"\",\"\"),_xlfn.IFNA(IF((INDEX(E1:E17,MATCH(\"\",E1:E17,0)))=\"\",\"\",\"\"),\"\"))))))))))))","v":""},{"$f":"_xlfn.IFNA(IF((INDEX(F1:F17,MATCH(\"E\",F1:F17,0)))=\"E\",\"E\",\"\"),_xlfn.IFNA(IF((INDEX(F1:F17,MATCH(\"D\",F1:F17,0)))=\"D\",\"D\",\"\"),_xlfn.IFNA(IF((INDEX(F1:F17,MATCH(\"Ca\",F1:F17,0)))=\"Ca\",\"C\",\"\"),_xlfn.IFNA(IF((INDEX(F1:F17,MATCH(\"C\",F1:F17,0)))=\"C\",\"C\",\"\"),_xlfn.IFNA(IF((INDEX(F1:F17,MATCH(\"B\",F1:F17,0)))=\"B\",\"B\",\"\"),_xlfn.IFNA(IF((INDEX(F1:F17,MATCH(\"A\",F1:F17,0)))=\"A\",\"A\",\"\"),_xlfn.IFNA(IF((INDEX(F1:F17,MATCH(\"n.a.\",F1:F17,0)))=\"n.a.\",\"\",\"\"),_xlfn.IFNA(IF((INDEX(F1:F17,MATCH(\"\",F1:F17,0)))=\"\",\"\",\"\"),\"\"))))))))","v":""},{"$f":"_xlfn.IFNA(IF((INDEX(G1:G17,MATCH(\"E\",G1:G17,0)))=\"E\",\"E\",\"\"),_xlfn.IFNA(IF((INDEX(G1:G17,MATCH(\"D (E)c\",G1:G17,0)))=\"D (E)c\",\"D (E)c\",\"\"),_xlfn.IFNA(IF((INDEX(G1:G17,MATCH(\"Db (E)c\",G1:G17,0)))=\"Db (E)c\",\"D (E)c\",\"\"),_xlfn.IFNA(IF((INDEX(G1:G17,MATCH(\"D\",G1:G17,0)))=\"D\",\"D\",\"\"),_xlfn.IFNA(IF((INDEX(G1:G17,MATCH(\"Cb\",G1:G17,0)))=\"Cb\",\"C\",\"\"),_xlfn.IFNA(IF((INDEX(G1:G17,MATCH(\"C\",G1:G17,0)))=\"C\",\"C\",\"\"),_xlfn.IFNA(IF((INDEX(G1:G17,MATCH(\"Bb\",G1:G17,0)))=\"Bb\",\"B\",\"\"),_xlfn.IFNA(IF((INDEX(G1:G17,MATCH(\"B\",G1:G17,0)))=\"B\",\"B\",\"\"),_xlfn.IFNA(IF((INDEX(G1:G17,MATCH(\"Ab\",G1:G17,0)))=\"Ab\",\"A\",\"\"),_xlfn.IFNA(IF((INDEX(G1:G17,MATCH(\"A\",G1:G17,0)))=\"A\",\"A\",\"\"),_xlfn.IFNA(IF((INDEX(G1:G17,MATCH(\"n.a.\",G1:G17,0)))=\"n.a.\",\"\",\"\"),_xlfn.IFNA(IF((INDEX(G1:G17,MATCH(\"\",G1:G17,0)))=\"\",\"\",\"\"),\"\"))))))))))))","v":""}]
[null,"\nHighest hazard level for all 'Uptake Routes' \n",null,{"$f":"_xlfn.IFNA(IF((INDEX(D18:G18,MATCH(\"E\",D18:G18,0)))=\"E\",\"E\",\"\"),_xlfn.IFNA(IF((INDEX(D18:G18,MATCH(\"D (E)c\",D18:G18,0)))=\"D (E)c\",\"D (E)\",\"\"),_xlfn.IFNA(IF((INDEX(D18:G18,MATCH(\"D\",D18:G18,0)))=\"D\",\"D\",\"\"),_xlfn.IFNA(IF((INDEX(D18:G18,MATCH(\"C\",D18:G18,0)))=\"C\",\"C\",\"\"),_xlfn.IFNA(IF((INDEX(D18:G18,MATCH(\"B\",D18:G18,0)))=\"B\",\"B\",\"\"),_xlfn.IFNA(IF((INDEX(D18:G18,MATCH(\"A\",D18:G18,0)))=\"A\",\"A\",\"\"),_xlfn.IFNA(IF((INDEX(D18:G18,MATCH(\"n.a.\",D18:G18,0)))=\"n.a.\",\"\",\"\"),_xlfn.IFNA(IF((INDEX(D18:G18,MATCH(\"\",D18:G18,0)))=\"\",\"\",\"\"),\"\"))))))))","v":""}]
[]
[null,"Step 3: D(E) Assessment\nSkip this step if \nyour assessment above does not reveal a D(E) hazard level.\nHover over this cell for additional instructions.",null,"\nOverall hazard level\n",null,{"$f":"IF(AND(C5=\"Yes\",D19=\"\")=TRUE,\"B\",IF(D19=\"\",\"\",(IF(AND(D19=\"D (E)\",C21=\"\"),\"D (E)\"&CHAR(10)&\"Find if cat. 1 acute tox.\",(IF(D19<>\"D (E)\",D19,(IF(AND(D19=\"D (E)\",C21=\"Yes\"),\"E\",(IF(AND(D19=\"D (E)\",C21=\"No\"),\"D\",\"\"))))))))))","v":""}]

{"sheet":"Review and Export","index":12,"n_rows":29,"n_cols":4,"rows_kept":29,"cut":false,"hidden":false,"merged":[[2,1,2,3],[3,1,3,3]]}
[null,"“Setting Priorities”\nChemical Hazard Assessment and Prioritization (CHAP)"]
[]
[null,"Summary for Review and Export to Word"]
[null,"Chemical Hazard Assessment and Prioritization - Summary"]
[null,null,"Company name"]
[null,"Specific worksite","Name"]
[null,null,"Address"]
[null,null,"Phone number"]
[null,null,"Fax number"]
[null,"Contact person","Name"]
[null,null,"Address"]
[null,null,"Phone number"]
[null,null,"Fax number"]
[null,null,"Date last updated","2020-04-29"]
[]
[null,"Top 5 Chemicals - By Quantity Used"]
[null,"Chemical/Product Name","Hazard Level","Notes"]
[1,null,""]
[2,null,""]
[3,null,""]
[4,null,""]
[5,null,""]
[null,"Top 5 Chemicals - By Perceived Hazard"]
[null,"Chemical/Product Name","Hazard Level","Notes"]
[6,null,""]
[7,null,""]
[8,null,""]
[9,null,""]
[10,null,""]

{"sheet":"Hazard Codes & Statements","index":13,"n_rows":94,"n_cols":13,"rows_kept":94,"cut":false,"hidden":false,"merged":[[87,2,93,5],[87,9,93,12],[85,0,85,1],[85,2,85,5],[85,7,85,8],[85,9,85,12],[86,2,86,5],[86,9,86,12],[83,0,83,5],[83,7,83,12],[47,0,47,5],[48,0,48,5],[48,7,48,12],[50,0,50,1],[50,2,50,5],[50,7,50,8],[50,9,50,12],[51,2,51,5],[51,9,51,12],[52,2,80,5],[52,9,80,12],[82,0,82,5],[2,0,2,5],[3,0,3,5],[3,7,3,12],[5,0,5,1],[5,2,5,5],[5,7,5,8],[5,9,5,12]]}
["“Setting Priorities”\nChemical Hazard Assessment and Prioritization (CHAP)"]
[]
["Health Hazard Statements"]
["Hazard Statements and Hazard Levels – listed alphabetically by H Statement",null,null,null,null,null,null,"Hazard Statements and Hazard Levels – listed numerically by H Code#"]
[]
["Hazard Statements",null,"Hazard Level [aka Band] (letter code A to E)",null,null,null,null,"Hazard Statements",null,"Hazard Level [aka Band] (letter code A to E)"]
["H Statement","H Code","Eye Damage","Inhalation","Local Skin Damage","Skin uptake, systemic",null,"H Code","H Statement","Eye Damage","Inhalation","Local Skin Damage","Skin uptake, systemic"]
["Causes damage to organs (or specific organ[s], if known)","H370","B","C","n.a.","C",null,"H300","Fatal if swallowed","B","Da (E)c",null,"Db (E)c"]
["Causes damage to organs (or specific organ[s], if known) through prolonged or repeated exposure","H372","B","D","n.a.","D",null,"H301","Toxic if swallowed","B","Ca","n.a.","Cb"]
["Causes eye irritation","H320","C","B","A","n.a.",null,"H302","Harmful if swallowed","B","Ba","n.a.","Bb"]
["Causes mild skin irritation","H316","C","A","A","n.a.",null,"H303","May be harmful if swallowed","B","Aa","n.a.","Ab"]
["Causes serious eye damage","H318","D","C","B","n.a.",null,"H304","May be fatal if swallowed and enters airways","B","A","n.a.","n.a."]
["Causes serious eye irritation","H319","C","B","A","n.a.",null,"H305","May be harmful if swallowed and enters airways","B","A","n.a.","n.a."]
["Causes severe skin burns and eye damage","H314","D","D","D","n.a.",null,"H310","Fatal in contact with skin","B","n.a.","n.a.","D (E)c"]
["Causes skin irritation","H315","C","B","B","n.a.",null,"H311","Toxic in contact with skin","B","n.a.","n.a.","C"]
["Fatal if inhaled","H330","B","D (E)c","n.a.","n.a.",null,"H312","Harmful in contact with skin","B","n.a.","n.a.","B"]
["Fatal if swallowed","H300","B","Da (E)c",null,"Db (E)c",null,"H313","May be harmful in contact with skin","B","n.a.","n.a.","A"]
["Fatal in contact with skin","H310","B","n.a.","n.a.","D (E)c",null,"H314","Causes severe skin burns and eye damage","D","D","D","n.a."]
["Harmful if inhaled","H332","B","B","n.a.","n.a.",null,"H315","Causes skin irritation","C","B","B","n.a."]
["Harmful if swallowed","H302","B","Ba","n.a.","Bb",null,"H316","Causes mild skin irritation","C","A","A","n.a."]
["Harmful in contact with skin","H312","B","n.a.","n.a.","B",null,"H317","May cause an allergic skin reaction","B","C","D","D"]
["May be fatal if swallowed and enters airways","H304","B","A","n.a.","n.a.",null,"H318","Causes serious eye damage","D","C","B","n.a."]
["May be harmful if inhaled","H333","B","A","n.a.","n.a.",null,"H319","Causes serious eye irritation","C","B","A","n.a."]
["May be harmful if swallowed","H303","B","Aa","n.a.","Ab",null,"H320","Causes eye irritation","C","B","A","n.a."]
["May be harmful if swallowed and enters airways","H305","B","A","n.a.","n.a.",null,"H330","Fatal if inhaled","B","D (E)c","n.a.","n.a."]
["May be harmful in contact with skin","H313","B","n.a.","n.a.","A",null,"H331","Toxic if inhaled","B","C","n.a.","n.a."]
["May cause allergy or asthma symptoms or breathing difficulties if inhaled","H334","B","D","n.a.","C",null,"H332","Harmful if inhaled","B","B","n.a.","n.a."]
["May cause an allergic skin reaction","H317","B","C","D","D",null,"H333","May be harmful if inhaled","B","A","n.a.","n.a."]
["May cause cancer","H350","E","E","E","E",null,"H334","May cause allergy or asthma symptoms or breathing difficulties if inhaled","B","D","n.a.","C"]
["May cause cancer by inhalation","H350i","B","E","n.a.","n.a.",null,"H335","May cause respiratory irritation","C","B","A","n.a."]
["May cause damage to organs (or specific organ[s], if known)","H371","B","B","n.a.","B",null,"H336","May cause drowsiness or dizziness","B","B","n.a.","n.a."]
["May cause damage to organs (or specific organ[s], if known) through prolonged or repeated exposure","H373","B","C","n.a.","C",null,"H340","May cause genetic defects","E","E","E","E"]
["May cause drowsiness or dizziness","H336","B","B","n.a.","n.a.",null,"H341","Suspected of causing genetic defects","B","D","D","D"]
["May cause genetic defects","H340","E","E","E","E",null,"H350","May cause cancer","E","E","E","E"]
["May cause harm to breast-fed children","H362","B","C","n.a.","C",null,"H350i","May cause cancer by inhalation","B","E","n.a.","n.a."]
["May cause respiratory irritation","H335","C","B","A","n.a.",null,"H351","Suspected of causing cancer","B","D","D","D"]
["May damage fertility or the unborn child","H360","B","D","n.a.","D",null,"H360","May damage fertility or the unborn child","B","D","n.a.","D"]
["Suspected of causing cancer","H351","B","D","D","D",null,"H361","Suspected of damaging fertility or the unborn child","B","C","n.a.","C"]
["Suspected of causing genetic defects","H341","B","D","D","D",null,"H362","May cause harm to breast-fed children","B","C","n.a.","C"]
["Suspected of damaging fertility or the unborn child","H361","B","C","n.a.","C",null,"H370","Causes damage to organs (or specific organ[s], if known)","B","C","n.a.","C"]
["Toxic if inhaled","H331","B","C","n.a.","n.a.",null,"H371","May cause damage to organs (or specific organ[s], if known)","B","B","n.a.","B"]
["Toxic if swallowed","H301","B","Ca","n.a.","Cb",null,"H372","Causes damage to organs (or specific organ[s], if known) through prolonged or repeated exposure","B","D","n.a.","D"]
["Toxic in contact with skin","H311","B","n.a.","n.a.","C",null,"H373","May cause damage to organs (or specific organ[s], if known) through prolonged or repeated exposure","B","C","n.a.","C"]
["a Only applies if the assessment does not have the codes H330, H331, H332, and/or H333 (these codes correspond to inhalation exposure statements)",null,null,null,null,null,null,"a Only applies if the assessment does not have the codes H330, H331, H332, and/or H333 (these codes correspond to inhalation exposure statements)"]
["b Only applies if the assessment does not have the codes H310, H311, H312, and/or H313 (these codes correspond to dermal exposure statements)",null,null,null,null,null,null,"b Only applies if the assessment does not have the codes H310, H311, H312, and/or H313 (these codes correspond to dermal exposure statements)"]
["c  Hazard level E only applies to substances that are shown to be acute toxicity Category 1",null,null,null,null,null,null,"c  Hazard level E only applies to substances that are shown to be acute toxicity Category 1"]
[]
["Physical Hazard Statements"]
["Hazard Statements and Hazard Levels – listed alphabetically by H Statement",null,null,null,null,null,null,"Hazard Statements and Hazard Levels – listed numerically by H Code#"]
[]
["Hazard Statements",null,"Hazard Level [aka Band] (letter code A to E)",null,null,null,null,"Hazard Statements",null,"Hazard Level [aka Band] (letter code A to E)"]
["H Statement","H Code","Eye Damage",null,null,null,null,"H Code","H Statement","Eye Damage"]
["Catches fire spontaneously if exposed to air","H250","B",null,null,null,null,"H200","Unstable explosive","B"]
["Combustible liquid","H227",null,null,null,null,null,"H201","Explosive; mass explosive hazard"]
["Contains gas under pressure; may explode if heated","H280",null,null,null,null,null,"H202","Explosive; severe projection hazard"]
["Contains refrigerated gas; may cause cryogenic burns or injury","H281",null,null,null,null,null,"H203","Explosive; fire, blast or projection hazard"]
["Explosive; fire, blast or projection hazard","H203",null,null,null,null,null,"H204","Fire or projection hazard"]
["Explosive; mass explosive hazard","H201",null,null,null,null,null,"H205","May mass explode in fire"]
["Explosive; severe projection hazard","H202",null,null,null,null,null,"H220","Extremely flammable gas"]
["Extremely flammable aerosol","H222",null,null,null,null,null,"H221","Flammable gas"]
["Extremely flammable gas","H220",null,null,null,null,null,"H222","Extremely flammable aerosol"]
["Extremely flammable liquid and vapour","H224",null,null,null,null,null,"H223","Flammable aerosol"]
["Fire or projection hazard","H204",null,null,null,null,null,"H224","Extremely flammable liquid and vapour"]
["Flammable aerosol","H223",null,null,null,null,null,"H225","Highly flammable liquid and vapour"]
["Flammable gas","H221",null,null,null,null,null,"H226","Flammable liquid and vapour"]
["Flammable solid","H228",null,null,null,null,null,"H227","Combustible liquid"]
["Flammable liquid and vapour","H226",null,null,null,null,null,"H228","Flammable solid"]
["Heating may cause a fire","H242",null,null,null,null,null,"H240","Heating may cause an explosion"]
["Heating may cause a fire or explosion","H241",null,null,null,null,null,"H241","Heating may cause a fire or explosion"]
["Heating may cause an explosion","H240",null,null,null,null,null,"H242","Heating may cause a fire"]
["Highly flammable liquid and vapour","H225",null,null,null,null,null,"H250","Catches fire spontaneously if exposed to air"]
["In contact with water releases flammable gas","H261",null,null,null,null,null,"H251","Self-heating; may catch fire"]
["In contact with water releases flammable gases which may ignite spontaneously","H260",null,null,null,null,null,"H252","Self-heating; in large quantities; may catch fire"]
["May be corrosive to metals","H290",null,null,null,null,null,"H260","In contact with water releases flammable gases which may ignite spontaneously"]
["May cause fire or explosion; strong oxidizer","H271",null,null,null,null,null,"H261","In contact with water releases flammable gas"]
["May cause or intensify fire; oxidizer","H270",null,null,null,null,null,"H270","May cause or intensify fire; oxidizer"]
["May intensify fire; oxidizer","H272",null,null,null,null,null,"H271","May cause fire or explosion; strong oxidizer"]
["May mass explode in fire","H205",null,null,null,null,null,"H272","May intensify fire; oxidizer"]
["Self-heating; in large quantities; may catch fire","H252",null,null,null,null,null,"H280","Contains gas under pressure; may explode if heated"]
["Self-heating; may catch fire","H251",null,null,null,null,null,"H281","Contains refrigerated gas; may cause cryogenic burns or injury"]
["Unstable explosive","H200",null,null,null,null,null,"H290","May be corrosive to metals"]
[]
["Environmental Hazard Statements"]
["Hazard Statements and Hazard Levels – listed alphabetically by H Statement",null,null,null,null,null,null,"Hazard Statements and Hazard Levels – listed numerically by H Code#"]
[]
["Hazard Statements",null,"Hazard Level [aka Band] (letter code A to E)",null,null,null,null,"Hazard Statements",null,"Hazard Level [aka Band] (letter code A to E)"]
["H Statement","H Code","Eye Damage",null,null,null,null,"H Code","H Statement","Eye Damage"]
["Harmful to aquatic life","H402","B",null,null,null,null,"H400","Very toxic to aquatic life","B"]
["Harmful to aquatic life with long lasting effects","H412",null,null,null,null,null,"H401","Toxic to aquatic life"]
["May cause long lasting harmful effects to aquatic life","H413",null,null,null,null,null,"H402","Harmful to aquatic life"]
["Toxic to aquatic life","H401",null,null,null,null,null,"H410","Very toxic to aquatic life with long lasting effects"]
["Toxic to aquatic life with long lasting effects","H411",null,null,null,null,null,"H411","Toxic to aquatic life with long lasting effects"]
["Very toxic to aquatic life","H400",null,null,null,null,null,"H412","Harmful to aquatic life with long lasting effects"]
["Very toxic to aquatic life with long lasting effects","H410",null,null,null,null,null,"H413","May cause long lasting harmful effects to aquatic life"]

{"sheet":"What to do with results","index":14,"n_rows":1,"n_cols":2,"rows_kept":1,"cut":false,"hidden":false,"merged":[[0,1,0,11]]}
["“Setting Priorities”\nChemical Hazard Assessment and Prioritization (CHAP)","What to do with assessment results"]

{"sheet":"_","index":15,"n_rows":210,"n_cols":6,"rows_kept":210,"cut":false,"hidden":true,"merged":[[6,1,6,4]]}
["“Setting Priorities”",null,null,null,null,"Yes"]
["Chemical Hazard Assessment and Prioritization (CHAP)",null,null,null,null,"No"]
[]
[]
["           "]
[]
["Hazard Statements","Hazard Band (letter code A to E)"]
["Hazard Statement","Eye Damage","Inhalation","Local Skin Damage","Skin uptake, systemic","Hazard Code"]
["Causes damage to organs (or specific organ[s], if known)","B","C","n.a.","C","H370"]
["Causes damage to organs (or specific organ[s], if known) through prolonged or repeated exposure","B","D","n.a.","D","H372"]
["Causes eye irritation","C","B","A","n.a.","H320"]
["Causes mild skin irritation","C","A","A","n.a.","H316"]
["Causes serious eye damage","D","C","B","n.a.","H318"]
["Causes serious eye irritation","C","B","A","n.a.","H319"]
["Causes severe skin burns and eye damage","D","D","D","n.a.","H314"]
["Causes skin irritation","C","B","B","n.a.","H315"]
["Fatal if inhaled","B","D (E)c","n.a.","n.a.","H330"]
["Fatal if swallowed","B","Da (E)c",null,"Db (E)c","H300"]
["Fatal in contact with skin","B","n.a.","n.a.","D (E)c","H310"]
["Harmful if inhaled","B","B","n.a.","n.a.","H332"]
["Harmful if swallowed","B","Ba","n.a.","Bb","H302"]
["Harmful in contact with skin","B","n.a.","n.a.","B","H312"]
["May be fatal if swallowed and enters airways","B","A","n.a.","n.a.","H304"]
["May be harmful if inhaled","B","A","n.a.","n.a.","H333"]
["May be harmful if swallowed","B","Aa","n.a.","Ab","H303"]
["May be harmful if swallowed and enters airways","B","A","n.a.","n.a.","H305"]
["May be harmful in contact with skin","B","n.a.","n.a.","A","H313"]
["May cause allergy or asthma symptoms or breathing difficulties if inhaled","B","D","n.a.","C","H334"]
["May cause an allergic skin reaction","B","C","D","D","H317"]
["May cause cancer","E","E","E","E","H350"]
["May cause cancer by inhalation","B","E","n.a.","n.a.","H350i"]
["May cause damage to organs (or specific organ[s], if known)","B","B","n.a.","B","H371"]
["May cause damage to organs (or specific organ[s], if known) through prolonged or repeated exposure","B","C","n.a.","C","H373"]
["May cause drowsiness or dizziness","B","B","n.a.","n.a.","H336"]
["May cause genetic defects","E","E","E","E","H340"]
["May cause harm to breast-fed children","B","C","n.a.","C","H362"]
["May cause respiratory irritation","C","B","A","n.a.","H335"]
["May damage fertility or the unborn child","B","D","n.a.","D","H360"]
["Suspected of causing cancer","B","D","D","D","H351"]
["Suspected of causing genetic defects","B","D","D","D","H341"]
["Suspected of damaging fertility or the unborn child","B","C","n.a.","C","H361"]
["Toxic if inhaled","B","C","n.a.","n.a.","H331"]
["Toxic if swallowed","B","Ca","n.a.","Cb","H301"]
["Toxic in contact with skin","B","n.a.","n.a.","C","H311"]
["H370","B","C","n.a.","C","Causes damage to organs (or specific organ[s], if known)"]
["H372","B","D","n.a.","D","Causes damage to organs (or specific organ[s], if known) through prolonged or repeated exposure"]
["H320","C","B","A","n.a.","Causes eye irritation"]
["H316","C","A","A","n.a.","Causes mild skin irritation"]
["H318","D","C","B","n.a.","Causes serious eye damage"]
["H319","C","B","A","n.a.","Causes serious eye irritation"]
["H314","D","D","D","n.a.","Causes severe skin burns and eye damage"]
["H315","C","B","B","n.a.","Causes skin irritation"]
["H330","B","D (E)c","n.a.","n.a.","Fatal if inhaled"]
["H300","B","Da (E)c",null,"Db (E)c","Fatal if swallowed"]
["H310","B","n.a.","n.a.","D (E)c","Fatal in contact with skin"]
["H332","B","B","n.a.","n.a.","Harmful if inhaled"]
["H302","B","Ba","n.a.","Bb","Harmful if swallowed"]
["H312","B","n.a.","n.a.","B","Harmful in contact with skin"]
["H304","B","A","n.a.","n.a.","May be fatal if swallowed and enters airways"]
["H333","B","A","n.a.","n.a.","May be harmful if inhaled"]
["H303","B","Aa","n.a.","Ab","May be harmful if swallowed"]
["H305","B","A","n.a.","n.a.","May be harmful if swallowed and enters airways"]
["H313","B","n.a.","n.a.","A","May be harmful in contact with skin"]
["H334","B","D","n.a.","C","May cause allergy or asthma symptoms or breathing difficulties if inhaled"]
["H317","B","C","D","D","May cause an allergic skin reaction"]
["H350","E","E","E","E","May cause cancer"]
["H350i","B","E","n.a.","n.a.","May cause cancer by inhalation"]
["H371","B","B","n.a.","B","May cause damage to organs (or specific organ[s], if known)"]
["H373","B","C","n.a.","C","May cause damage to organs (or specific organ[s], if known) through prolonged or repeated exposure"]
["H336","B","B","n.a.","n.a.","May cause drowsiness or dizziness"]
["H340","E","E","E","E","May cause genetic defects"]
["H362","B","C","n.a.","C","May cause harm to breast-fed children"]
["H335","C","B","A","n.a.","May cause respiratory irritation"]
["H360","B","D","n.a.","D","May damage fertility or the unborn child"]
["H351","B","D","D","D","Suspected of causing cancer"]
["H341","B","D","D","D","Suspected of causing genetic defects"]
["H361","B","C","n.a.","C","Suspected of damaging fertility or the unborn child"]
["H331","B","C","n.a.","n.a.","Toxic if inhaled"]
["H301","B","Ca","n.a.","Cb","Toxic if swallowed"]
["H311","B","n.a.","n.a.","C","Toxic in contact with skin"]
["Causes damage to organs","B","C","n.a.","C","H370"]
["Causes damage to organs.","B","C","n.a.","C","H370"]
["Causes damage to organs through prolonged or repeated exposure","B","D","n.a.","D","H372"]
["Causes damage to organs through prolonged or repeated exposure.","B","D","n.a.","D","H372"]
["Causes eye irritation.","C","B","A","n.a.","H320"]
["Causes mild skin irritation.","C","A","A","n.a.","H316"]
["Causes serious eye damage.","D","C","B","n.a.","H318"]
["Causes serious eye irritation.","C","B","A","n.a.","H319"]
["Causes severe skin burns and eye damage.","D","D","D","n.a.","H314"]
["Causes skin irritation.","C","B","B","n.a.","H315"]
["Fatal if inhaled.","B","D (E)c","n.a.","n.a.","H330"]
["Fatal if swallowed.","B","Da (E)c",null,"Db (E)c","H300"]
["Fatal in contact with skin.","B","n.a.","n.a.","D (E)c","H310"]
["Harmful if inhaled.","B","B","n.a.","n.a.","H332"]
["Harmful if swallowed.","B","Ba","n.a.","Bb","H302"]
["Harmful in contact with skin.","B","n.a.","n.a.","B","H312"]
["May be fatal if swallowed and enters airways.","B","A","n.a.","n.a.","H304"]
["May be harmful if inhaled.","B","A","n.a.","n.a.","H333"]
["May be harmful if swallowed.","B","Aa","n.a.","Ab","H303"]
["May be harmful if swallowed and enters airways.","B","A","n.a.","n.a.","H305"]
["May be harmful in contact with skin.","B","n.a.","n.a.","A","H313"]
["May cause allergy or asthma symptoms or breathing difficulties if inhaled.","B","D","n.a.","C","H334"]
["May cause an allergic skin reaction.","B","C","D","D","H317"]
["May cause cancer.","E","E","E","E","H350"]
["May cause cancer by inhalation.","B","E","n.a.","n.a.","H350i"]
["May cause damage to organs","B","B","n.a.","B","H371"]
["May cause damage to organs.","B","B","n.a.","B","H371"]
["May cause damage to organs through prolonged or repeated exposure","B","C","n.a.","C","H373"]
["May cause damage to organs through prolonged or repeated exposure.","B","C","n.a.","C","H373"]
["May cause drowsiness or dizziness.","B","B","n.a.","n.a.","H336"]
["May cause genetic defects.","E","E","E","E","H340"]
["May cause harm to breast-fed children.","B","C","n.a.","C","H362"]
["May cause respiratory irritation.","C","B","A","n.a.","H335"]
["May damage fertility.","B","D","n.a.","D","H360"]
["May damage the unborn child.","B","D","n.a.","D","H360"]
["May damage fertility or the unborn child.","B","D","n.a.","D","H360"]
["Suspected of causing cancer.","B","D","D","D","H351"]
["Suspected of causing genetic defects.","B","D","D","D","H341"]
["Suspected of damaging fertility.","B","C","n.a.","C","H361"]
["Suspected of damaging the unborn child.","B","C","n.a.","C","H361"]
["Suspected of damaging fertility or the unborn child.","B","C","n.a.","C","H361"]
["Toxic if inhaled.","B","C","n.a.","n.a.","H331"]
["Toxic if swallowed.","B","Ca","n.a.","Cb","H301"]
["Toxic in contact with skin.","B","n.a.","n.a.","C","H311"]
[]
["Causes damage to organs ","B","C","n.a.","C","H370"]
["Causes damage to organs. ","B","C","n.a.","C","H370"]
["Causes damage to organs through prolonged or repeated exposure ","B","D","n.a.","D","H372"]
["Causes damage to organs through prolonged or repeated exposure. ","B","D","n.a.","D","H372"]
["Causes eye irritation. ","C","B","A","n.a.","H320"]
["Causes mild skin irritation. ","C","A","A","n.a.","H316"]
["Causes serious eye damage. ","D","C","B","n.a.","H318"]
["Causes serious eye irritation. ","C","B","A","n.a.","H319"]
["Causes severe skin burns and eye damage. ","D","D","D","n.a.","H314"]
["Causes skin irritation. ","C","B","B","n.a.","H315"]
["Fatal if inhaled. ","B","D (E)c","n.a.","n.a.","H330"]
["Fatal if swallowed. ","B","Da (E)c",null,"Db (E)c","H300"]
["Fatal in contact with skin. ","B","n.a.","n.a.","D (E)c","H310"]
["Harmful if inhaled. ","B","B","n.a.","n.a.","H332"]
["Harmful if swallowed. ","B","Ba","n.a.","Bb","H302"]
["Harmful in contact with skin. ","B","n.a.","n.a.","B","H312"]
["May be fatal if swallowed and enters airways. ","B","A","n.a.","n.a.","H304"]
["May be harmful if inhaled. ","B","A","n.a.","n.a.","H333"]
["May be harmful if swallowed. ","B","Aa","n.a.","Ab","H303"]
["May be harmful if swallowed and enters airways. ","B","A","n.a.","n.a.","H305"]
["May be harmful in contact with skin. ","B","n.a.","n.a.","A","H313"]
["May cause allergy or asthma symptoms or breathing difficulties if inhaled. ","B","D","n.a.","C","H334"]
["May cause an allergic skin reaction. ","B","C","D","D","H317"]
["May cause cancer. ","E","E","E","E","H350"]
["May cause cancer by inhalation. ","B","E","n.a.","n.a.","H350i"]
["May cause damage to organs ","B","B","n.a.","B","H371"]
["May cause damage to organs. ","B","B","n.a.","B","H371"]
["May cause damage to organs through prolonged or repeated exposure ","B","C","n.a.","C","H373"]
["May cause damage to organs through prolonged or repeated exposure. ","B","C","n.a.","C","H373"]
["May cause drowsiness or dizziness. ","B","B","n.a.","n.a.","H336"]
["May cause genetic defects. ","E","E","E","E","H340"]
["May cause harm to breast-fed children. ","B","C","n.a.","C","H362"]
["May cause respiratory irritation. ","C","B","A","n.a.","H335"]
["May damage fertility","B","D","n.a.","D","H360"]
["May damage the unborn child","B","D","n.a.","D","H360"]
["May damage fertility. ","B","D","n.a.","D","H360"]
["May damage the unborn child. ","B","D","n.a.","D","H360"]
["May damage fertility or the unborn child. ","B","D","n.a.","D","H360"]
["Suspected of causing cancer. ","B","D","D","D","H351"]
["Suspected of causing genetic defects. ","B","D","D","D","H341"]
["Suspected of damaging fertility","B","C","n.a.","C","H361"]
["Suspected of damaging the unborn child","B","C","n.a.","C","H361"]
["Suspected of damaging fertility. ","B","C","n.a.","C","H361"]
["Suspected of damaging the unborn child. ","B","C","n.a.","C","H361"]
["Suspected of damaging fertility or the unborn child. ","B","C","n.a.","C","H361"]
["Toxic if inhaled. ","B","C","n.a.","n.a.","H331"]
["Toxic if swallowed. ","B","Ca","n.a.","Cb","H301"]
["Toxic in contact with skin. ","B","n.a.","n.a.","C","H311"]
[]
["Causes eye irritation ","C","B","A","n.a.","H320"]
["Causes mild skin irritation ","C","A","A","n.a.","H316"]
["Causes serious eye damage ","D","C","B","n.a.","H318"]
["Causes serious eye irritation ","C","B","A","n.a.","H319"]
["Causes severe skin burns and eye damage ","D","D","D","n.a.","H314"]
["Causes skin irritation ","C","B","B","n.a.","H315"]
["Fatal if inhaled ","B","D (E)c","n.a.","n.a.","H330"]
["Fatal if swallowed ","B","Da (E)c",null,"Db (E)c","H300"]
["Fatal in contact with skin ","B","n.a.","n.a.","D (E)c","H310"]
["Harmful if inhaled ","B","B","n.a.","n.a.","H332"]
["Harmful if swallowed ","B","Ba","n.a.","Bb","H302"]
["Harmful in contact with skin ","B","n.a.","n.a.","B","H312"]
["May be fatal if swallowed and enters airways. ","B","A","n.a.","n.a.","H304"]
["May be harmful if inhaled. ","B","A","n.a.","n.a.","H333"]
["May be harmful if swallowed. ","B","Aa","n.a.","Ab","H303"]
["May be harmful if swallowed and enters airways ","B","A","n.a.","n.a.","H305"]
["May be harmful in contact with skin ","B","n.a.","n.a.","A","H313"]
["May cause allergy or asthma symptoms or breathing difficulties if inhaled ","B","D","n.a.","C","H334"]
["May cause an allergic skin reaction ","B","C","D","D","H317"]
["May cause cancer ","E","E","E","E","H350"]
["May cause cancer by inhalation ","B","E","n.a.","n.a.","H350i"]
["May cause drowsiness or dizziness ","B","B","n.a.","n.a.","H336"]
["May cause genetic defects ","E","E","E","E","H340"]
["May cause harm to breast-fed children ","B","C","n.a.","C","H362"]
["May cause respiratory irritation ","C","B","A","n.a.","H335"]
["May damage fertility ","B","D","n.a.","D","H360"]
["May damage the unborn child ","B","D","n.a.","D","H360"]
["May damage fertility or the unborn child ","B","D","n.a.","D","H360"]
["Suspected of causing cancer ","B","D","D","D","H351"]
["Suspected of causing genetic defects ","B","D","D","D","H341"]
["Suspected of damaging fertility ","B","C","n.a.","C","H361"]
["Suspected of damaging the unborn child ","B","C","n.a.","C","H361"]
["Suspected of damaging fertility or the unborn child ","B","C","n.a.","C","H361"]
["Toxic if inhaled ","B","C","n.a.","n.a.","H331"]
["Toxic if swallowed ","B","Ca","n.a.","Cb","H301"]
["Toxic in contact with skin ","B","n.a.","n.a.","C","H311"]