{"text_format":"1","workbook":"xlsx","n_sheets":8,"sheets":["Intro","Summary Sheet","Hazard Level Assessments","Review & Export","Hazard Codes & Statements","What to do with results","_","__"],"not_rendered":{"charts":0,"images":10,"macros":1,"external_links":3,"defined_names":10,"comments":4,"pivot_tables":0},"unopened":[],"bounds":{"document_bytes":16777216,"sheet_cells":100000,"rows_first":2000,"rows_last":500,"rows_between":2000,"halvings":0,"cell_chars":16384,"cell_head_chars":4096},"cells_cut":0,"cells_raw":0,"read":"whole","date_system":"1900"}

{"sheet":"Intro","index":0,"n_rows":47,"n_cols":3,"rows_kept":47,"cut":false,"hidden":false,"merged":[[46,2,65,3],[1,2,1,14],[18,2,18,14]]}
[null,"“Setting Priorities”\nChemical Hazard Assessment and Prioritization (CHAP)"]
[null,"eCHAP-Advanced","INSTRUCTIONS FOR USE (PLEASE READ BEFORE STARTING)"]
[null,"Research Partners:"]
[]
[]
[]
[]
[]
[]
[]
[]
[]
[]
[]
[]
[]
[]
[null,"“Setting Priorities” was funded by the Ontario Ministry of Labour Training and Skills Development through a Research Opportunities Program Grant ROP 16-E-005.\nFunding for eCHAP was provided by Ryerson University."]
[null,null,"www.ryerson.ca/chemical-hazard-assessment-prioritization/chap-tools"]
[null,"eCHAP-Advanced was developed by Thomas Tenkate and Jeremiah Joo, \nSchool of Occupational and Public Health, Ryerson University, Toronto.\neCHAP-Advanced is made available under Creative Commons Licence CC BY-NC-ND 4.0 \n(refer to https://creativecommons.org/licences/by-nc-nd/4.0/)."]
[]
[null,"If you have any questions or concerns, "]
[null,"please email thomas.tenkate@ryerson.ca and CC j1joo@ryerson.ca"]
[]
[]
[null,"Hazard Levels are adapted from Hazard Bands (Arnone et al., 2015)"]
[null,"doi: 10.1016/j.yrtph.2015.07.014"]
[]
[]
[]
[]
[]
[]
[]
[]
[]
[]
[]
[]
[]
[]
[]
[]
[]
[]
[]
[null,null,"Hover over this cell to reveal FAQs"]

{"sheet":"Summary Sheet","index":1,"n_rows":116,"n_cols":5,"rows_kept":116,"cut":false,"hidden":false,"merged":[[3,1,3,4]]}
[null,"“Setting Priorities”\nChemical Hazard Assessment and Prioritization (CHAP)"]
[]
[]
[null,"Summary Sheet"]
[null,null,null,"Company name"]
[null,null,"Specific worksite","Name"]
[null,null,null,"Address"]
[null,null,null,"Phone number"]
[null,null,null,"Fax number"]
[null,null,"Contact person","Name"]
[null,null,null,"Address"]
[null,null,null,"Phone number"]
[null,null,null,"Fax number"]
[null,null,null,"Date last updated",{"$f":"TODAY()","v":"2020-05-11"}]
[]
[null,"Chemical/Product Name","Hazard Level","Area/location/room","Additional notes"]
[{"$f":"A16+1","v":1},null,{"$f":"IF(OFFSET('Hazard Level Assessments'!$G$21,(ROWS(C$1:C1)-1)*20,0)=\"\", \"\", OFFSET('Hazard Level Assessments'!$G$21,(ROWS(C$1:C1)-1)*20,0))","v":""}]
[{"$f":"A17+1","v":2},null,{"$f":"IF(OFFSET('Hazard Level Assessments'!$G$21,(ROWS(C$1:C2)-1)*20,0)=\"\", \"\", OFFSET('Hazard Level Assessments'!$G$21,(ROWS(C$1:C2)-1)*20,0))","v":""}]
[3,null,{"$f":"IF(OFFSET('Hazard Level Assessments'!$G$21,(ROWS(C$1:C3)-1)*20,0)=\"\", \"\", OFFSET('Hazard Level Assessments'!$G$21,(ROWS(C$1:C3)-1)*20,0))","v":""}]
[4,null,{"$f":"IF(OFFSET('Hazard Level Assessments'!$G$21,(ROWS(C$1:C4)-1)*20,0)=\"\", \"\", OFFSET('Hazard Level Assessments'!$G$21,(ROWS(C$1:C4)-1)*20,0))","v":""}]
[5,null,{"$f":"IF(OFFSET('Hazard Level Assessments'!$G$21,(ROWS(C$1:C5)-1)*20,0)=\"\", \"\", OFFSET('Hazard Level Assessments'!$G$21,(ROWS(C$1:C5)-1)*20,0))","v":""}]
[6,null,{"$f":"IF(OFFSET('Hazard Level Assessments'!$G$21,(ROWS(C$1:C6)-1)*20,0)=\"\", \"\", OFFSET('Hazard Level Assessments'!$G$21,(ROWS(C$1:C6)-1)*20,0))","v":""}]
[7,null,{"$f":"IF(OFFSET('Hazard Level Assessments'!$G$21,(ROWS(C$1:C7)-1)*20,0)=\"\", \"\", OFFSET('Hazard Level Assessments'!$G$21,(ROWS(C$1:C7)-1)*20,0))","v":""}]
[8,null,{"$f":"IF(OFFSET('Hazard Level Assessments'!$G$21,(ROWS(C$1:C8)-1)*20,0)=\"\", \"\", OFFSET('Hazard Level Assessments'!$G$21,(ROWS(C$1:C8)-1)*20,0))","v":""}]
[9,null,{"$f":"IF(OFFSET('Hazard Level Assessments'!$G$21,(ROWS(C$1:C9)-1)*20,0)=\"\", \"\", OFFSET('Hazard Level Assessments'!$G$21,(ROWS(C$1:C9)-1)*20,0))","v":""}]
[10,null,{"$f":"IF(OFFSET('Hazard Level Assessments'!$G$21,(ROWS(C$1:C10)-1)*20,0)=\"\", \"\", OFFSET('Hazard Level Assessments'!$G$21,(ROWS(C$1:C10)-1)*20,0))","v":""}]
[11,null,{"$f":"IF(OFFSET('Hazard Level Assessments'!$G$21,(ROWS(C$1:C11)-1)*20,0)=\"\", \"\", OFFSET('Hazard Level Assessments'!$G$21,(ROWS(C$1:C11)-1)*20,0))","v":""}]
[12,null,{"$f":"IF(OFFSET('Hazard Level Assessments'!$G$21,(ROWS(C$1:C12)-1)*20,0)=\"\", \"\", OFFSET('Hazard Level Assessments'!$G$21,(ROWS(C$1:C12)-1)*20,0))","v":""}]
[13,null,{"$f":"IF(OFFSET('Hazard Level Assessments'!$G$21,(ROWS(C$1:C13)-1)*20,0)=\"\", \"\", OFFSET('Hazard Level Assessments'!$G$21,(ROWS(C$1:C13)-1)*20,0))","v":""}]
[14,null,{"$f":"IF(OFFSET('Hazard Level Assessments'!$G$21,(ROWS(C$1:C14)-1)*20,0)=\"\", \"\", OFFSET('Hazard Level Assessments'!$G$21,(ROWS(C$1:C14)-1)*20,0))","v":""}]
[15,null,{"$f":"IF(OFFSET('Hazard Level Assessments'!$G$21,(ROWS(C$1:C15)-1)*20,0)=\"\", \"\", OFFSET('Hazard Level Assessments'!$G$21,(ROWS(C$1:C15)-1)*20,0))","v":""}]
[16,null,{"$f":"IF(OFFSET('Hazard Level Assessments'!$G$21,(ROWS(C$1:C16)-1)*20,0)=\"\", \"\", OFFSET('Hazard Level Assessments'!$G$21,(ROWS(C$1:C16)-1)*20,0))","v":""}]
[17,null,{"$f":"IF(OFFSET('Hazard Level Assessments'!$G$21,(ROWS(C$1:C17)-1)*20,0)=\"\", \"\", OFFSET('Hazard Level Assessments'!$G$21,(ROWS(C$1:C17)-1)*20,0))","v":""}]
[18,null,{"$f":"IF(OFFSET('Hazard Level Assessments'!$G$21,(ROWS(C$1:C18)-1)*20,0)=\"\", \"\", OFFSET('Hazard Level Assessments'!$G$21,(ROWS(C$1:C18)-1)*20,0))","v":""}]
[19,null,{"$f":"IF(OFFSET('Hazard Level Assessments'!$G$21,(ROWS(C$1:C19)-1)*20,0)=\"\", \"\", OFFSET('Hazard Level Assessments'!$G$21,(ROWS(C$1:C19)-1)*20,0))","v":""}]
[20,null,{"$f":"IF(OFFSET('Hazard Level Assessments'!$G$21,(ROWS(C$1:C20)-1)*20,0)=\"\", \"\", OFFSET('Hazard Level Assessments'!$G$21,(ROWS(C$1:C20)-1)*20,0))","v":""}]
[21,null,{"$f":"IF(OFFSET('Hazard Level Assessments'!$G$21,(ROWS(C$1:C21)-1)*20,0)=\"\", \"\", OFFSET('Hazard Level Assessments'!$G$21,(ROWS(C$1:C21)-1)*20,0))","v":""}]
[22,null,{"$f":"IF(OFFSET('Hazard Level Assessments'!$G$21,(ROWS(C$1:C22)-1)*20,0)=\"\", \"\", OFFSET('Hazard Level Assessments'!$G$21,(ROWS(C$1:C22)-1)*20,0))","v":""}]
[23,null,{"$f":"IF(OFFSET('Hazard Level Assessments'!$G$21,(ROWS(C$1:C23)-1)*20,0)=\"\", \"\", OFFSET('Hazard Level Assessments'!$G$21,(ROWS(C$1:C23)-1)*20,0))","v":""}]
[24,null,{"$f":"IF(OFFSET('Hazard Level Assessments'!$G$21,(ROWS(C$1:C24)-1)*20,0)=\"\", \"\", OFFSET('Hazard Level Assessments'!$G$21,(ROWS(C$1:C24)-1)*20,0))","v":""}]
[25,null,{"$f":"IF(OFFSET('Hazard Level Assessments'!$G$21,(ROWS(C$1:C25)-1)*20,0)=\"\", \"\", OFFSET('Hazard Level Assessments'!$G$21,(ROWS(C$1:C25)-1)*20,0))","v":""}]
[26,null,{"$f":"IF(OFFSET('Hazard Level Assessments'!$G$21,(ROWS(C$1:C26)-1)*20,0)=\"\", \"\", OFFSET('Hazard Level Assessments'!$G$21,(ROWS(C$1:C26)-1)*20,0))","v":""}]
[27,null,{"$f":"IF(OFFSET('Hazard Level Assessments'!$G$21,(ROWS(C$1:C27)-1)*20,0)=\"\", \"\", OFFSET('Hazard Level Assessments'!$G$21,(ROWS(C$1:C27)-1)*20,0))","v":""}]
[28,null,{"$f":"IF(OFFSET('Hazard Level Assessments'!$G$21,(ROWS(C$1:C28)-1)*20,0)=\"\", \"\", OFFSET('Hazard Level Assessments'!$G$21,(ROWS(C$1:C28)-1)*20,0))","v":""}]
[29,null,{"$f":"IF(OFFSET('Hazard Level Assessments'!$G$21,(ROWS(C$1:C29)-1)*20,0)=\"\", \"\", OFFSET('Hazard Level Assessments'!$G$21,(ROWS(C$1:C29)-1)*20,0))","v":""}]
[30,null,{"$f":"IF(OFFSET('Hazard Level Assessments'!$G$21,(ROWS(C$1:C30)-1)*20,0)=\"\", \"\", OFFSET('Hazard Level Assessments'!$G$21,(ROWS(C$1:C30)-1)*20,0))","v":""}]
[31,null,{"$f":"IF(OFFSET('Hazard Level Assessments'!$G$21,(ROWS(C$1:C31)-1)*20,0)=\"\", \"\", OFFSET('Hazard Level Assessments'!$G$21,(ROWS(C$1:C31)-1)*20,0))","v":""}]
[32,null,{"$f":"IF(OFFSET('Hazard Level Assessments'!$G$21,(ROWS(C$1:C32)-1)*20,0)=\"\", \"\", OFFSET('Hazard Level Assessments'!$G$21,(ROWS(C$1:C32)-1)*20,0))","v":""}]
[33,null,{"$f":"IF(OFFSET('Hazard Level Assessments'!$G$21,(ROWS(C$1:C33)-1)*20,0)=\"\", \"\", OFFSET('Hazard Level Assessments'!$G$21,(ROWS(C$1:C33)-1)*20,0))","v":""}]
[34,null,{"$f":"IF(OFFSET('Hazard Level Assessments'!$G$21,(ROWS(C$1:C34)-1)*20,0)=\"\", \"\", OFFSET('Hazard Level Assessments'!$G$21,(ROWS(C$1:C34)-1)*20,0))","v":""}]
[35,null,{"$f":"IF(OFFSET('Hazard Level Assessments'!$G$21,(ROWS(C$1:C35)-1)*20,0)=\"\", \"\", OFFSET('Hazard Level Assessments'!$G$21,(ROWS(C$1:C35)-1)*20,0))","v":""}]
[36,null,{"$f":"IF(OFFSET('Hazard Level Assessments'!$G$21,(ROWS(C$1:C36)-1)*20,0)=\"\", \"\", OFFSET('Hazard Level Assessments'!$G$21,(ROWS(C$1:C36)-1)*20,0))","v":""}]
[37,null,{"$f":"IF(OFFSET('Hazard Level Assessments'!$G$21,(ROWS(C$1:C37)-1)*20,0)=\"\", \"\", OFFSET('Hazard Level Assessments'!$G$21,(ROWS(C$1:C37)-1)*20,0))","v":""}]
[38,null,{"$f":"IF(OFFSET('Hazard Level Assessments'!$G$21,(ROWS(C$1:C38)-1)*20,0)=\"\", \"\", OFFSET('Hazard Level Assessments'!$G$21,(ROWS(C$1:C38)-1)*20,0))","v":""}]
[39,null,{"$f":"IF(OFFSET('Hazard Level Assessments'!$G$21,(ROWS(C$1:C39)-1)*20,0)=\"\", \"\", OFFSET('Hazard Level Assessments'!$G$21,(ROWS(C$1:C39)-1)*20,0))","v":""}]
[40,null,{"$f":"IF(OFFSET('Hazard Level Assessments'!$G$21,(ROWS(C$1:C40)-1)*20,0)=\"\", \"\", OFFSET('Hazard Level Assessments'!$G$21,(ROWS(C$1:C40)-1)*20,0))","v":""}]
[41,null,{"$f":"IF(OFFSET('Hazard Level Assessments'!$G$21,(ROWS(C$1:C41)-1)*20,0)=\"\", \"\", OFFSET('Hazard Level Assessments'!$G$21,(ROWS(C$1:C41)-1)*20,0))","v":""}]
[42,null,{"$f":"IF(OFFSET('Hazard Level Assessments'!$G$21,(ROWS(C$1:C42)-1)*20,0)=\"\", \"\", OFFSET('Hazard Level Assessments'!$G$21,(ROWS(C$1:C42)-1)*20,0))","v":""}]
[43,null,{"$f":"IF(OFFSET('Hazard Level Assessments'!$G$21,(ROWS(C$1:C43)-1)*20,0)=\"\", \"\", OFFSET('Hazard Level Assessments'!$G$21,(ROWS(C$1:C43)-1)*20,0))","v":""}]
[44,null,{"$f":"IF(OFFSET('Hazard Level Assessments'!$G$21,(ROWS(C$1:C44)-1)*20,0)=\"\", \"\", OFFSET('Hazard Level Assessments'!$G$21,(ROWS(C$1:C44)-1)*20,0))","v":""}]
[45,null,{"$f":"IF(OFFSET('Hazard Level Assessments'!$G$21,(ROWS(C$1:C45)-1)*20,0)=\"\", \"\", OFFSET('Hazard Level Assessments'!$G$21,(ROWS(C$1:C45)-1)*20,0))","v":""}]
[46,null,{"$f":"IF(OFFSET('Hazard Level Assessments'!$G$21,(ROWS(C$1:C46)-1)*20,0)=\"\", \"\", OFFSET('Hazard Level Assessments'!$G$21,(ROWS(C$1:C46)-1)*20,0))","v":""}]
[47,null,{"$f":"IF(OFFSET('Hazard Level Assessments'!$G$21,(ROWS(C$1:C47)-1)*20,0)=\"\", \"\", OFFSET('Hazard Level Assessments'!$G$21,(ROWS(C$1:C47)-1)*20,0))","v":""}]
[48,null,{"$f":"IF(OFFSET('Hazard Level Assessments'!$G$21,(ROWS(C$1:C48)-1)*20,0)=\"\", \"\", OFFSET('Hazard Level Assessments'!$G$21,(ROWS(C$1:C48)-1)*20,0))","v":""}]
[49,null,{"$f":"IF(OFFSET('Hazard Level Assessments'!$G$21,(ROWS(C$1:C49)-1)*20,0)=\"\", \"\", OFFSET('Hazard Level Assessments'!$G$21,(ROWS(C$1:C49)-1)*20,0))","v":""}]
[50,null,{"$f":"IF(OFFSET('Hazard Level Assessments'!$G$21,(ROWS(C$1:C50)-1)*20,0)=\"\", \"\", OFFSET('Hazard Level Assessments'!$G$21,(ROWS(C$1:C50)-1)*20,0))","v":""}]
[51,null,{"$f":"IF(OFFSET('Hazard Level Assessments'!$G$21,(ROWS(C$1:C51)-1)*20,0)=\"\", \"\", OFFSET('Hazard Level Assessments'!$G$21,(ROWS(C$1:C51)-1)*20,0))","v":""}]
[52,null,{"$f":"IF(OFFSET('Hazard Level Assessments'!$G$21,(ROWS(C$1:C52)-1)*20,0)=\"\", \"\", OFFSET('Hazard Level Assessments'!$G$21,(ROWS(C$1:C52)-1)*20,0))","v":""}]
[53,null,{"$f":"IF(OFFSET('Hazard Level Assessments'!$G$21,(ROWS(C$1:C53)-1)*20,0)=\"\", \"\", OFFSET('Hazard Level Assessments'!$G$21,(ROWS(C$1:C53)-1)*20,0))","v":""}]
[54,null,{"$f":"IF(OFFSET('Hazard Level Assessments'!$G$21,(ROWS(C$1:C54)-1)*20,0)=\"\", \"\", OFFSET('Hazard Level Assessments'!$G$21,(ROWS(C$1:C54)-1)*20,0))","v":""}]
[55,null,{"$f":"IF(OFFSET('Hazard Level Assessments'!$G$21,(ROWS(C$1:C55)-1)*20,0)=\"\", \"\", OFFSET('Hazard Level Assessments'!$G$21,(ROWS(C$1:C55)-1)*20,0))","v":""}]
[56,null,{"$f":"IF(OFFSET('Hazard Level Assessments'!$G$21,(ROWS(C$1:C56)-1)*20,0)=\"\", \"\", OFFSET('Hazard Level Assessments'!$G$21,(ROWS(C$1:C56)-1)*20,0))","v":""}]
[57,null,{"$f":"IF(OFFSET('Hazard Level Assessments'!$G$21,(ROWS(C$1:C57)-1)*20,0)=\"\", \"\", OFFSET('Hazard Level Assessments'!$G$21,(ROWS(C$1:C57)-1)*20,0))","v":""}]
[58,null,{"$f":"IF(OFFSET('Hazard Level Assessments'!$G$21,(ROWS(C$1:C58)-1)*20,0)=\"\", \"\", OFFSET('Hazard Level Assessments'!$G$21,(ROWS(C$1:C58)-1)*20,0))","v":""}]
[59,null,{"$f":"IF(OFFSET('Hazard Level Assessments'!$G$21,(ROWS(C$1:C59)-1)*20,0)=\"\", \"\", OFFSET('Hazard Level Assessments'!$G$21,(ROWS(C$1:C59)-1)*20,0))","v":""}]
[60,null,{"$f":"IF(OFFSET('Hazard Level Assessments'!$G$21,(ROWS(C$1:C60)-1)*20,0)=\"\", \"\", OFFSET('Hazard Level Assessments'!$G$21,(ROWS(C$1:C60)-1)*20,0))","v":""}]
[61,null,{"$f":"IF(OFFSET('Hazard Level Assessments'!$G$21,(ROWS(C$1:C61)-1)*20,0)=\"\", \"\", OFFSET('Hazard Level Assessments'!$G$21,(ROWS(C$1:C61)-1)*20,0))","v":""}]
[62,null,{"$f":"IF(OFFSET('Hazard Level Assessments'!$G$21,(ROWS(C$1:C62)-1)*20,0)=\"\", \"\", OFFSET('Hazard Level Assessments'!$G$21,(ROWS(C$1:C62)-1)*20,0))","v":""}]
[63,null,{"$f":"IF(OFFSET('Hazard Level Assessments'!$G$21,(ROWS(C$1:C63)-1)*20,0)=\"\", \"\", OFFSET('Hazard Level Assessments'!$G$21,(ROWS(C$1:C63)-1)*20,0))","v":""}]
[64,null,{"$f":"IF(OFFSET('Hazard Level Assessments'!$G$21,(ROWS(C$1:C64)-1)*20,0)=\"\", \"\", OFFSET('Hazard Level Assessments'!$G$21,(ROWS(C$1:C64)-1)*20,0))","v":""}]
[65,null,{"$f":"IF(OFFSET('Hazard Level Assessments'!$G$21,(ROWS(C$1:C65)-1)*20,0)=\"\", \"\", OFFSET('Hazard Level Assessments'!$G$21,(ROWS(C$1:C65)-1)*20,0))","v":""}]
[{"$f":"A81+1","v":66},null,{"$f":"IF(OFFSET('Hazard Level Assessments'!$G$21,(ROWS(C$1:C66)-1)*20,0)=\"\", \"\", OFFSET('Hazard Level Assessments'!$G$21,(ROWS(C$1:C66)-1)*20,0))","v":""}]
[67,null,{"$f":"IF(OFFSET('Hazard Level Assessments'!$G$21,(ROWS(C$1:C67)-1)*20,0)=\"\", \"\", OFFSET('Hazard Level Assessments'!$G$21,(ROWS(C$1:C67)-1)*20,0))","v":""}]
[68,null,{"$f":"IF(OFFSET('Hazard Level Assessments'!$G$21,(ROWS(C$1:C68)-1)*20,0)=\"\", \"\", OFFSET('Hazard Level Assessments'!$G$21,(ROWS(C$1:C68)-1)*20,0))","v":""}]
[69,null,{"$f":"IF(OFFSET('Hazard Level Assessments'!$G$21,(ROWS(C$1:C69)-1)*20,0)=\"\", \"\", OFFSET('Hazard Level Assessments'!$G$21,(ROWS(C$1:C69)-1)*20,0))","v":""}]
[70,null,{"$f":"IF(OFFSET('Hazard Level Assessments'!$G$21,(ROWS(C$1:C70)-1)*20,0)=\"\", \"\", OFFSET('Hazard Level Assessments'!$G$21,(ROWS(C$1:C70)-1)*20,0))","v":""}]
[71,null,{"$f":"IF(OFFSET('Hazard Level Assessments'!$G$21,(ROWS(C$1:C71)-1)*20,0)=\"\", \"\", OFFSET('Hazard Level Assessments'!$G$21,(ROWS(C$1:C71)-1)*20,0))","v":""}]
[72,null,{"$f":"IF(OFFSET('Hazard Level Assessments'!$G$21,(ROWS(C$1:C72)-1)*20,0)=\"\", \"\", OFFSET('Hazard Level Assessments'!$G$21,(ROWS(C$1:C72)-1)*20,0))","v":""}]
[73,null,{"$f":"IF(OFFSET('Hazard Level Assessments'!$G$21,(ROWS(C$1:C73)-1)*20,0)=\"\", \"\", OFFSET('Hazard Level Assessments'!$G$21,(ROWS(C$1:C73)-1)*20,0))","v":""}]
[74,null,{"$f":"IF(OFFSET('Hazard Level Assessments'!$G$21,(ROWS(C$1:C74)-1)*20,0)=\"\", \"\", OFFSET('Hazard Level Assessments'!$G$21,(ROWS(C$1:C74)-1)*20,0))","v":""}]
[75,null,{"$f":"IF(OFFSET('Hazard Level Assessments'!$G$21,(ROWS(C$1:C75)-1)*20,0)=\"\", \"\", OFFSET('Hazard Level Assessments'!$G$21,(ROWS(C$1:C75)-1)*20,0))","v":""}]
[76,null,{"$f":"IF(OFFSET('Hazard Level Assessments'!$G$21,(ROWS(C$1:C76)-1)*20,0)=\"\", \"\", OFFSET('Hazard Level Assessments'!$G$21,(ROWS(C$1:C76)-1)*20,0))","v":""}]
[77,null,{"$f":"IF(OFFSET('Hazard Level Assessments'!$G$21,(ROWS(C$1:C77)-1)*20,0)=\"\", \"\", OFFSET('Hazard Level Assessments'!$G$21,(ROWS(C$1:C77)-1)*20,0))","v":""}]
[78,null,{"$f":"IF(OFFSET('Hazard Level Assessments'!$G$21,(ROWS(C$1:C78)-1)*20,0)=\"\", \"\", OFFSET('Hazard Level Assessments'!$G$21,(ROWS(C$1:C78)-1)*20,0))","v":""}]
[79,null,{"$f":"IF(OFFSET('Hazard Level Assessments'!$G$21,(ROWS(C$1:C79)-1)*20,0)=\"\", \"\", OFFSET('Hazard Level Assessments'!$G$21,(ROWS(C$1:C79)-1)*20,0))","v":""}]
[80,null,{"$f":"IF(OFFSET('Hazard Level Assessments'!$G$21,(ROWS(C$1:C80)-1)*20,0)=\"\", \"\", OFFSET('Hazard Level Assessments'!$G$21,(ROWS(C$1:C80)-1)*20,0))","v":""}]
[81,null,{"$f":"IF(OFFSET('Hazard Level Assessments'!$G$21,(ROWS(C$1:C81)-1)*20,0)=\"\", \"\", OFFSET('Hazard Level Assessments'!$G$21,(ROWS(C$1:C81)-1)*20,0))","v":""}]
[82,null,{"$f":"IF(OFFSET('Hazard Level Assessments'!$G$21,(ROWS(C$1:C82)-1)*20,0)=\"\", \"\", OFFSET('Hazard Level Assessments'!$G$21,(ROWS(C$1:C82)-1)*20,0))","v":""}]
[83,null,{"$f":"IF(OFFSET('Hazard Level Assessments'!$G$21,(ROWS(C$1:C83)-1)*20,0)=\"\", \"\", OFFSET('Hazard Level Assessments'!$G$21,(ROWS(C$1:C83)-1)*20,0))","v":""}]
[84,null,{"$f":"IF(OFFSET('Hazard Level Assessments'!$G$21,(ROWS(C$1:C84)-1)*20,0)=\"\", \"\", OFFSET('Hazard Level Assessments'!$G$21,(ROWS(C$1:C84)-1)*20,0))","v":""}]
[85,null,{"$f":"IF(OFFSET('Hazard Level Assessments'!$G$21,(ROWS(C$1:C85)-1)*20,0)=\"\", \"\", OFFSET('Hazard Level Assessments'!$G$21,(ROWS(C$1:C85)-1)*20,0))","v":""}]
[86,null,{"$f":"IF(OFFSET('Hazard Level Assessments'!$G$21,(ROWS(C$1:C86)-1)*20,0)=\"\", \"\", OFFSET('Hazard Level Assessments'!$G$21,(ROWS(C$1:C86)-1)*20,0))","v":""}]
[87,null,{"$f":"IF(OFFSET('Hazard Level Assessments'!$G$21,(ROWS(C$1:C87)-1)*20,0)=\"\", \"\", OFFSET('Hazard Level Assessments'!$G$21,(ROWS(C$1:C87)-1)*20,0))","v":""}]
[88,null,{"$f":"IF(OFFSET('Hazard Level Assessments'!$G$21,(ROWS(C$1:C88)-1)*20,0)=\"\", \"\", OFFSET('Hazard Level Assessments'!$G$21,(ROWS(C$1:C88)-1)*20,0))","v":""}]
[89,null,{"$f":"IF(OFFSET('Hazard Level Assessments'!$G$21,(ROWS(C$1:C89)-1)*20,0)=\"\", \"\", OFFSET('Hazard Level Assessments'!$G$21,(ROWS(C$1:C89)-1)*20,0))","v":""}]
[90,null,{"$f":"IF(OFFSET('Hazard Level Assessments'!$G$21,(ROWS(C$1:C90)-1)*20,0)=\"\", \"\", OFFSET('Hazard Level Assessments'!$G$21,(ROWS(C$1:C90)-1)*20,0))","v":""}]
[91,null,{"$f":"IF(OFFSET('Hazard Level Assessments'!$G$21,(ROWS(C$1:C91)-1)*20,0)=\"\", \"\", OFFSET('Hazard Level Assessments'!$G$21,(ROWS(C$1:C91)-1)*20,0))","v":""}]
[92,null,{"$f":"IF(OFFSET('Hazard Level Assessments'!$G$21,(ROWS(C$1:C92)-1)*20,0)=\"\", \"\", OFFSET('Hazard Level Assessments'!$G$21,(ROWS(C$1:C92)-1)*20,0))","v":""}]
[93,null,{"$f":"IF(OFFSET('Hazard Level Assessments'!$G$21,(ROWS(C$1:C93)-1)*20,0)=\"\", \"\", OFFSET('Hazard Level Assessments'!$G$21,(ROWS(C$1:C93)-1)*20,0))","v":""}]
[94,null,{"$f":"IF(OFFSET('Hazard Level Assessments'!$G$21,(ROWS(C$1:C94)-1)*20,0)=\"\", \"\", OFFSET('Hazard Level Assessments'!$G$21,(ROWS(C$1:C94)-1)*20,0))","v":""}]
[95,null,{"$f":"IF(OFFSET('Hazard Level Assessments'!$G$21,(ROWS(C$1:C95)-1)*20,0)=\"\", \"\", OFFSET('Hazard Level Assessments'!$G$21,(ROWS(C$1:C95)-1)*20,0))","v":""}]
[96,null,{"$f":"IF(OFFSET('Hazard Level Assessments'!$G$21,(ROWS(C$1:C96)-1)*20,0)=\"\", \"\", OFFSET('Hazard Level Assessments'!$G$21,(ROWS(C$1:C96)-1)*20,0))","v":""}]
[97,null,{"$f":"IF(OFFSET('Hazard Level Assessments'!$G$21,(ROWS(C$1:C97)-1)*20,0)=\"\", \"\", OFFSET('Hazard Level Assessments'!$G$21,(ROWS(C$1:C97)-1)*20,0))","v":""}]
[98,null,{"$f":"IF(OFFSET('Hazard Level Assessments'!$G$21,(ROWS(C$1:C98)-1)*20,0)=\"\", \"\", OFFSET('Hazard Level Assessments'!$G$21,(ROWS(C$1:C98)-1)*20,0))","v":""}]
[99,null,{"$f":"IF(OFFSET('Hazard Level Assessments'!$G$21,(ROWS(C$1:C99)-1)*20,0)=\"\", \"\", OFFSET('Hazard Level Assessments'!$G$21,(ROWS(C$1:C99)-1)*20,0))","v":""}]
[100,null,{"$f":"IF(OFFSET('Hazard Level Assessments'!$G$21,(ROWS(C$1:C100)-1)*20,0)=\"\", \"\", OFFSET('Hazard Level Assessments'!$G$21,(ROWS(C$1:C100)-1)*20,0))","v":""}]

{"sheet":"Hazard Level Assessments","index":2,"n_rows":2001,"n_cols":8,"rows_kept":2001,"cut":false,"hidden":false,"merged":[[1984,1,1985,1],[1984,2,1985,2],[1984,4,1984,7],[1996,1,1996,2],[1997,1,1998,2],[1997,4,1998,4],[2000,4,2000,5],[2000,6,2000,7],[1940,4,1940,5],[1940,6,1940,7],[1944,1,1945,1],[1944,2,1945,2],[1944,4,1944,7],[1956,1,1956,2],[1957,1,1958,2],[1957,4,1958,4],[1960,4,1960,5],[1960,6,1960,7],[1964,1,1965,1],[1964,2,1965,2],[1964,4,1964,7],[1976,1,1976,2],[1977,1,1978,2],[1977,4,1978,4],[1980,4,1980,5],[1980,6,1980,7],[1897,4,1898,4],[1900,4,1900,5],[1900,6,1900,7],[1904,1,1905,1],[1904,2,1905,2],[1904,4,1904,7],[1916,1,1916,2],[1917,1,1918,2],[1917,4,1918,4],[1920,4,1920,5],[1920,6,1920,7],[1924,1,1925,1],[1924,2,1925,2],[1924,4,1924,7],[1936,1,1936,2],[1937,1,1938,2],[1937,4,1938,4],[1897,1,1898,2],[1777,1,1778,2],[1804,2,1805,2],[1804,4,1804,7],[1816,1,1816,2],[1817,1,1818,2],[1817,4,1818,4],[1820,4,1820,5],[1820,6,1820,7],[1824,1,1825,1],[1824,2,1825,2],[1824,4,1824,7],[1684,4,1684,7],[1716,1,1716,2],[1717,1,1718,2],[1717,4,1718,4],[1720,4,1720,5],[1720,6,1720,7],[1836,1,1836,2],[1837,1,1838,2],[1837,4,1838,4],[1737,4,1738,4],[1740,4,1740,5],[1740,6,1740,7],[1744,1,1745,1],[1744,2,1745,2],[1744,4,1744,7],[1756,1,1756,2],[1757,1,1758,2],[1757,4,1758,4],[1760,4,1760,5],[1760,6,1760,7],[1764,1,1765,1],[1764,2,1765,2],[1764,4,1764,7],[1776,1,1776,2],[1584,1,1585,1],[1584,2,1585,2],[1584,4,1584,7],[1596,1,1596,2],[1597,1,1598,2],[1597,4,1598,4],[1777,4,1778,4],[1644,2,1645,2],[1644,4,1644,7],[1656,1,1656,2],[1657,1,1658,2],[1657,4,1658,4],[1660,4,1660,5],[1660,6,1660,7],[1664,1,1665,1],[1664,2,1665,2],[1664,4,1664,7],[1676,1,1676,2],[1677,1,1678,2],[1677,4,1678,4],[1680,4,1680,5],[1680,6,1680,7],[1684,1,1685,1],[1684,2,1685,2],[1604,2,1605,2],[1604,4,1604,7],[1616,1,1616,2],[1617,1,1618,2],[1617,4,1618,4],[1484,2,1485,2],[1484,4,1484,7],[1496,1,1496,2],[1497,1,1498,2],[1497,4,1498,4],[1500,4,1500,5],[1500,6,1500,7],[1504,1,1505,1],[1504,2,1505,2],[1504,4,1504,7],[1516,1,1516,2],[1517,1,1518,2],[1517,4,1518,4],[1520,4,1520,5],[1520,6,1520,7],[1524,1,1525,1],[1577,4,1578,4],[1580,4,1580,5],[1580,6,1580,7],[1440,4,1440,5],[1440,6,1440,7],[1444,1,1445,1],[1444,2,1445,2],[1444,4,1444,7],[1456,1,1456,2],[1457,1,1458,2],[1457,4,1458,4],[1417,1,1418,2],[1417,4,1418,4],[1420,4,1420,5],[1420,6,1420,7],[1424,1,1425,1],[1424,2,1425,2],[1424,4,1424,7],[1436,1,1436,2],[1437,1,1438,2],[1437,4,1438,4],[1297,1,1298,2],[1324,2,1325,2],[1324,4,1324,7],[1336,1,1336,2],[1337,1,1338,2],[1337,4,1338,4],[1340,4,1340,5],[1340,6,1340,7],[1344,1,1345,1],[1344,2,1345,2],[1344,4,1344,7],[1204,4,1204,7],[1236,1,1236,2],[1237,1,1238,2],[1237,4,1238,4],[1240,4,1240,5],[1240,6,1240,7],[1356,1,1356,2],[1357,1,1358,2],[1357,4,1358,4],[1257,4,1258,4],[1260,4,1260,5],[1260,6,1260,7],[1264,1,1265,1],[1264,2,1265,2],[1264,4,1264,7],[1276,1,1276,2],[1277,1,1278,2],[1277,4,1278,4],[1280,4,1280,5],[1280,6,1280,7],[1284,1,1285,1],[1284,2,1285,2],[1284,4,1284,7],[1296,1,1296,2],[1104,1,1105,1],[1104,2,1105,2],[1104,4,1104,7],[1116,1,1116,2],[1117,1,1118,2],[1117,4,1118,4],[1297,4,1298,4],[1164,2,1165,2],[1164,4,1164,7],[1176,1,1176,2],[1177,1,1178,2],[1177,4,1178,4],[1180,4,1180,5],[1180,6,1180,7],[1184,1,1185,1],[1184,2,1185,2],[1184,4,1184,7],[1196,1,1196,2],[1197,1,1198,2],[1197,4,1198,4],[1200,4,1200,5],[1200,6,1200,7],[1204,1,1205,1],[1204,2,1205,2],[1124,2,1125,2],[1124,4,1124,7],[1136,1,1136,2],[1137,1,1138,2],[1137,4,1138,4],[1004,2,1005,2],[1004,4,1004,7],[1016,1,1016,2],[1017,1,1018,2],[1017,4,1018,4],[1020,4,1020,5],[1020,6,1020,7],[1024,1,1025,1],[1024,2,1025,2],[1024,4,1024,7],[1036,1,1036,2],[1037,1,1038,2],[1037,4,1038,4],[1040,4,1040,5],[1040,6,1040,7],[1044,1,1045,1],[1097,4,1098,4],[1100,4,1100,5],[1100,6,1100,7],[960,4,960,5],[960,6,960,7],[964,1,965,1],[964,2,965,2],[964,4,964,7],[976,1,976,2],[977,1,978,2],[977,4,978,4],[937,1,938,2],[937,4,938,4],[940,4,940,5],[940,6,940,7],[944,1,945,1],[944,2,945,2],[944,4,944,7],[956,1,956,2],[957,1,958,2],[957,4,958,4],[817,1,818,2],[844,2,845,2],[844,4,844,7],[856,1,856,2],[857,1,858,2],[857,4,858,4],[860,4,860,5],[860,6,860,7],[864,1,865,1],[864,2,865,2],[864,4,864,7],[724,4,724,7],[756,1,756,2],[757,1,758,2],[757,4,758,4],[760,4,760,5],[760,6,760,7],[876,1,876,2],[877,1,878,2],[877,4,878,4],[777,4,778,4],[780,4,780,5],[780,6,780,7],[784,1,785,1],[784,2,785,2],[784,4,784,7],[796,1,796,2],[797,1,798,2],[797,4,798,4],[800,4,800,5],[800,6,800,7],[804,1,805,1],[804,2,805,2],[804,4,804,7],[816,1,816,2],[624,1,625,1],[624,2,625,2],[624,4,624,7],[636,1,636,2],[637,1,638,2],[637,4,638,4],[817,4,818,4],[684,2,685,2],[684,4,684,7],[696,1,696,2],[697,1,698,2],[697,4,698,4],[700,4,700,5],[700,6,700,7],[704,1,705,1],[704,2,705,2],[704,4,704,7],[716,1,716,2],[717,1,718,2],[717,4,718,4],[720,4,720,5],[720,6,720,7],[724,1,725,1],[724,2,725,2],[644,2,645,2],[644,4,644,7],[656,1,656,2],[657,1,658,2],[657,4,658,4],[524,2,525,2],[524,4,524,7],[536,1,536,2],[537,1,538,2],[537,4,538,4],[540,4,540,5],[540,6,540,7],[544,1,545,1],[544,2,545,2],[544,4,544,7],[556,1,556,2],[557,1,558,2],[557,4,558,4],[560,4,560,5],[560,6,560,7],[564,1,565,1],[617,4,618,4],[620,4,620,5],[620,6,620,7],[480,4,480,5],[480,6,480,7],[484,1,485,1],[484,2,485,2],[484,4,484,7],[496,1,496,2],[497,1,498,2],[497,4,498,4],[457,1,458,2],[457,4,458,4],[460,4,460,5],[460,6,460,7],[464,1,465,1],[464,2,465,2],[464,4,464,7],[476,1,476,2],[477,1,478,2],[477,4,478,4],[404,2,405,2],[404,4,404,7],[297,4,298,4],[300,4,300,5],[300,6,300,7],[304,1,305,1],[304,2,305,2],[304,4,304,7],[316,1,316,2],[317,1,318,2],[317,4,318,4],[320,4,320,5],[320,6,320,7],[324,1,325,1],[324,2,325,2],[324,4,324,7],[336,1,336,2],[337,1,338,2],[364,2,365,2],[364,4,364,7],[376,1,376,2],[377,1,378,2],[377,4,378,4],[380,4,380,5],[237,4,238,4],[240,4,240,5],[240,6,240,7],[276,1,276,2],[277,1,278,2],[277,4,278,4],[280,4,280,5],[280,6,280,7],[396,1,396,2],[380,6,380,7],[384,1,385,1],[384,2,385,2],[384,4,384,7],[284,1,285,1],[284,2,285,2],[284,4,284,7],[296,1,296,2],[297,1,298,2],[244,1,245,1],[244,2,245,2],[244,4,244,7],[256,1,256,2],[257,1,258,2],[257,4,258,4],[116,1,116,2],[117,1,118,2],[117,4,118,4],[120,4,120,5],[120,6,120,7],[124,1,125,1],[124,2,125,2],[124,4,124,7],[337,4,338,4],[200,4,200,5],[200,6,200,7],[204,1,205,1],[204,2,205,2],[204,4,204,7],[216,1,216,2],[217,1,218,2],[217,4,218,4],[220,4,220,5],[220,6,220,7],[224,1,225,1],[224,2,225,2],[224,4,224,7],[236,1,236,2],[237,1,238,2],[136,1,136,2],[137,1,138,2],[137,4,138,4],[140,4,140,5],[140,6,140,7],[144,1,145,1],[144,2,145,2],[144,4,144,7],[4,1,5,1],[4,2,5,2],[4,4,4,7],[16,1,16,2],[17,1,18,2],[17,4,18,4],[20,4,20,5],[20,6,20,7],[24,1,25,1],[24,2,25,2],[24,4,24,7],[36,1,36,2],[37,1,38,2],[37,4,38,4],[40,4,40,5],[40,6,40,7],[44,1,45,1],[44,2,45,2],[44,4,44,7],[56,1,56,2],[57,1,58,2],[57,4,58,4],[60,4,60,5],[60,6,60,7],[64,1,65,1],[64,2,65,2],[64,4,64,7],[1876,1,1876,2],[1877,1,1878,2],[1877,4,1878,4],[1880,4,1880,5],[1880,6,1880,7],[1884,1,1885,1],[1884,2,1885,2],[1884,4,1884,7],[1896,1,1896,2],[1856,1,1856,2],[1857,1,1858,2],[1857,4,1858,4],[1860,4,1860,5],[1860,6,1860,7],[1864,1,1865,1],[1864,2,1865,2],[1864,4,1864,7],[1780,4,1780,5],[1780,6,1780,7],[1784,1,1785,1],[1784,2,1785,2],[1784,4,1784,7],[1796,1,1796,2],[1797,1,1798,2],[1797,4,1798,4],[1800,4,1800,5],[1800,6,1800,7],[1804,1,1805,1],[1840,4,1840,5],[1840,6,1840,7],[1844,1,1845,1],[1844,2,1845,2],[1844,4,1844,7],[1724,1,1725,1],[1724,2,1725,2],[1724,4,1724,7],[1736,1,1736,2],[1737,1,1738,2],[1696,1,1696,2],[1697,1,1698,2],[1697,4,1698,4],[1700,4,1700,5],[1700,6,1700,7],[1704,1,1705,1],[1704,2,1705,2],[1704,4,1704,7],[1644,1,1645,1],[1556,1,1556,2],[1557,1,1558,2],[1557,4,1558,4],[1560,4,1560,5],[1560,6,1560,7],[1564,1,1565,1],[1564,2,1565,2],[1564,4,1564,7],[1576,1,1576,2],[1577,1,1578,2],[1620,4,1620,5],[1620,6,1620,7],[1624,1,1625,1],[1624,2,1625,2],[1624,4,1624,7],[1636,1,1636,2],[1637,1,1638,2],[1637,4,1638,4],[1640,4,1640,5],[1640,6,1640,7],[1600,4,1600,5],[1600,6,1600,7],[1604,1,1605,1],[1536,1,1536,2],[1537,1,1538,2],[1537,4,1538,4],[1540,4,1540,5],[1540,6,1540,7],[1544,1,1545,1],[1544,2,1545,2],[1544,4,1544,7],[1460,4,1460,5],[1460,6,1460,7],[1464,1,1465,1],[1464,2,1465,2],[1464,4,1464,7],[1476,1,1476,2],[1477,1,1478,2],[1477,4,1478,4],[1480,4,1480,5],[1480,6,1480,7],[1484,1,1485,1],[1524,2,1525,2],[1524,4,1524,7],[1396,1,1396,2],[1397,1,1398,2],[1397,4,1398,4],[1400,4,1400,5],[1400,6,1400,7],[1404,1,1405,1],[1404,2,1405,2],[1404,4,1404,7],[1416,1,1416,2],[1376,1,1376,2],[1377,1,1378,2],[1377,4,1378,4],[1380,4,1380,5],[1380,6,1380,7],[1384,1,1385,1],[1384,2,1385,2],[1384,4,1384,7],[1300,4,1300,5],[1300,6,1300,7],[1304,1,1305,1],[1304,2,1305,2],[1304,4,1304,7],[1316,1,1316,2],[1317,1,1318,2],[1317,4,1318,4],[1320,4,1320,5],[1320,6,1320,7],[1324,1,1325,1],[1360,4,1360,5],[1360,6,1360,7],[1364,1,1365,1],[1364,2,1365,2],[1364,4,1364,7],[1244,1,1245,1],[1244,2,1245,2],[1244,4,1244,7],[1256,1,1256,2],[1257,1,1258,2],[1216,1,1216,2],[1217,1,1218,2],[1217,4,1218,4],[1220,4,1220,5],[1220,6,1220,7],[1224,1,1225,1],[1224,2,1225,2],[1224,4,1224,7],[1164,1,1165,1],[1076,1,1076,2],[1077,1,1078,2],[1077,4,1078,4],[1080,4,1080,5],[1080,6,1080,7],[1084,1,1085,1],[1084,2,1085,2],[1084,4,1084,7],[1096,1,1096,2],[1097,1,1098,2],[1140,4,1140,5],[1140,6,1140,7],[1144,1,1145,1],[1144,2,1145,2],[1144,4,1144,7],[1156,1,1156,2],[1157,1,1158,2],[1157,4,1158,4],[1160,4,1160,5],[1160,6,1160,7],[1120,4,1120,5],[1120,6,1120,7],[1124,1,1125,1],[1056,1,1056,2],[1057,1,1058,2],[1057,4,1058,4],[1060,4,1060,5],[1060,6,1060,7],[1064,1,1065,1],[1064,2,1065,2],[1064,4,1064,7],[980,4,980,5],[980,6,980,7],[984,1,985,1],[984,2,985,2],[984,4,984,7],[996,1,996,2],[997,1,998,2],[997,4,998,4],[1000,4,1000,5],[1000,6,1000,7],[1004,1,1005,1],[1044,2,1045,2],[1044,4,1044,7],[916,1,916,2],[917,1,918,2],[917,4,918,4],[920,4,920,5],[920,6,920,7],[924,1,925,1],[924,2,925,2],[924,4,924,7],[936,1,936,2],[896,1,896,2],[897,1,898,2],[897,4,898,4],[900,4,900,5],[900,6,900,7],[904,1,905,1],[904,2,905,2],[904,4,904,7],[820,4,820,5],[820,6,820,7],[824,1,825,1],[824,2,825,2],[824,4,824,7],[836,1,836,2],[837,1,838,2],[837,4,838,4],[840,4,840,5],[840,6,840,7],[844,1,845,1],[880,4,880,5],[880,6,880,7],[884,1,885,1],[884,2,885,2],[884,4,884,7],[764,1,765,1],[764,2,765,2],[764,4,764,7],[776,1,776,2],[777,1,778,2],[736,1,736,2],[737,1,738,2],[737,4,738,4],[740,4,740,5],[740,6,740,7],[744,1,745,1],[744,2,745,2],[744,4,744,7],[684,1,685,1],[596,1,596,2],[597,1,598,2],[597,4,598,4],[600,4,600,5],[600,6,600,7],[604,1,605,1],[604,2,605,2],[604,4,604,7],[616,1,616,2],[617,1,618,2],[660,4,660,5],[660,6,660,7],[664,1,665,1],[664,2,665,2],[664,4,664,7],[676,1,676,2],[677,1,678,2],[677,4,678,4],[680,4,680,5],[680,6,680,7],[640,4,640,5],[640,6,640,7],[644,1,645,1],[576,1,576,2],[577,1,578,2],[577,4,578,4],[580,4,580,5],[580,6,580,7],[584,1,585,1],[584,2,585,2],[584,4,584,7],[500,4,500,5],[500,6,500,7],[504,1,505,1],[504,2,505,2],[504,4,504,7],[516,1,516,2],[517,1,518,2],[517,4,518,4],[520,4,520,5],[520,6,520,7],[524,1,525,1],[564,2,565,2],[564,4,564,7],[436,1,436,2],[437,1,438,2],[437,4,438,4],[440,4,440,5],[440,6,440,7],[444,1,445,1],[444,2,445,2],[444,4,444,7],[456,1,456,2],[416,1,416,2],[417,1,418,2],[417,4,418,4],[420,4,420,5],[420,6,420,7],[424,1,425,1],[424,2,425,2],[424,4,424,7],[340,4,340,5],[340,6,340,7],[344,1,345,1],[344,2,345,2],[344,4,344,7],[356,1,356,2],[357,1,358,2],[357,4,358,4],[360,4,360,5],[360,6,360,7],[364,1,365,1],[397,1,398,2],[397,4,398,4],[400,4,400,5],[400,6,400,7],[404,1,405,1],[260,4,260,5],[260,6,260,7],[264,1,265,1],[264,2,265,2],[264,4,264,7],[197,1,198,2],[197,4,198,4],[156,1,156,2],[157,1,158,2],[157,4,158,4],[160,4,160,5],[160,6,160,7],[164,1,165,1],[164,2,165,2],[164,4,164,7],[176,1,176,2],[177,1,178,2],[177,4,178,4],[180,4,180,5],[180,6,180,7],[184,1,185,1],[184,2,185,2],[184,4,184,7],[196,1,196,2],[97,1,98,2],[97,4,98,4],[100,4,100,5],[100,6,100,7],[104,1,105,1],[76,1,76,2],[77,1,78,2],[77,4,78,4],[80,4,80,5],[80,6,80,7],[84,1,85,1],[84,2,85,2],[84,4,84,7],[96,1,96,2],[104,2,105,2],[104,4,104,7]]}
[null,"“Setting Priorities”\nChemical Hazard Assessment and Prioritization (CHAP)"]
[]
[{"$f":"IF(IF(MOD(ROWS(B3:B$3),20)=1,INDEX('Summary Sheet'!$A$17:$A17,INT(ROWS(B3:B$14)/20)+1),\"\")=0,\"\",IF(MOD(ROWS(B3:B$3),20)=1,INDEX('Summary Sheet'!$A$17:$A17,INT(ROWS(B3:B$3)/20)+1),\"\"))","v":1},"Hazard Level Assessment","for",{"$f":"IF(IF(MOD(ROWS(D3:D$3),20)=1,INDEX('Summary Sheet'!$B$17:$B17,INT(ROWS(D3:D$3)/20)+1),\"\")=0,\"\",IF(MOD(ROWS(D3:D$3),20)=1,INDEX('Summary Sheet'!$B$17:$B17,INT(ROWS(D3:D$3)/20)+1),\"\"))","v":""}]
[null,"\nStep 1: Physical & Environmental Hazard Statements/Codes\nFind Section 2 of the SDS and determine if the SDS has physical and/or environmental hazard statements/codes. Hover on this cell for additional instructions.\n",null,{"$f":"IF(IF(MOD(ROWS(D$3:D4),20)=1,INDEX('Summary Sheet'!$B$17:$B17,INT(ROWS(D$3:D4)/20)+1),\"\")=0,\"\",IF(MOD(ROWS(D$3:D4),20)=1,INDEX('Summary Sheet'!$B$17:$B17,INT(ROWS(D$3:D4)/20)+1),\"\"))","v":""}]
[null,"Step 2: Health Hazard Statements/Codes\nProvide the Health Hazard Statements or Codes from Section 2 of the SDS below. Hover on this cell for additional instructions.",null,{"$f":"IF(IF(MOD(ROWS(D$3:D5),20)=1,INDEX('Summary Sheet'!$B$17:$B17,INT(ROWS(D$3:D5)/20)+1),\"\")=0,\"\",IF(MOD(ROWS(D$3:D5),20)=1,INDEX('Summary Sheet'!$B$17:$B17,INT(ROWS(D$3:D5)/20)+1),\"\"))","v":""},"\nHazard Level\n"]
[null,null,null,{"$f":"IF(IF(MOD(ROWS(D$3:D6),20)=1,INDEX('Summary Sheet'!$B$17:$B17,INT(ROWS(D$3:D6)/20)+1),\"\")=0,\"\",IF(MOD(ROWS(D$3:D6),20)=1,INDEX('Summary Sheet'!$B$17:$B17,INT(ROWS(D$3:D6)/20)+1),\"\"))","v":""},"\nEye Damage\n","\nInhalation\n","\nLocal Skin Damage\n","\nSkin uptake, systemic\n"]
[1,null,{"$f":"_xlfn.IFNA(VLOOKUP(B7,_!$A$7:$F$210,6,FALSE),\"\")","v":""},{"$f":"IF(IF(MOD(ROWS(D$3:D7),20)=1,INDEX('Summary Sheet'!$B$17:$B17,INT(ROWS(D$3:D7)/20)+1),\"\")=0,\"\",IF(MOD(ROWS(D$3:D7),20)=1,INDEX('Summary Sheet'!$B$17:$B17,INT(ROWS(D$3:D7)/20)+1),\"\"))","v":""},{"$f":"_xlfn.IFNA(IF(VLOOKUP(B7,_!$A$7:$E$210,2,FALSE)=0, \"\", VLOOKUP(B7,_!$A$7:$E$210,2,FALSE)),  \"\")","v":""},{"$f":"_xlfn.IFNA(IF(VLOOKUP(B7,_!$A$7:$E$210,3,FALSE)=0, \"\", VLOOKUP(B7,_!$A$7:$E$210,3,FALSE)), \"\")","v":""},{"$f":"_xlfn.IFNA(IF(VLOOKUP(B7,_!$A$7:$E$210,4,FALSE)=0, \"\",VLOOKUP(B7,_!$A$7:$E$210,4,FALSE)), \"\")","v":""},{"$f":"_xlfn.IFNA(IF(VLOOKUP(B7,_!$A$7:$E$210,5,FALSE)=0,\"\",VLOOKUP(B7,_!$A$7:$E$210,5,FALSE)), \"\")","v":""}]
[2,null,{"$f":"_xlfn.IFNA(VLOOKUP(B8,_!$A$7:$F$210,6,FALSE),\"\")","v":""},{"$f":"IF(IF(MOD(ROWS(D$3:D8),20)=1,INDEX('Summary Sheet'!$B$17:$B17,INT(ROWS(D$3:D8)/20)+1),\"\")=0,\"\",IF(MOD(ROWS(D$3:D8),20)=1,INDEX('Summary Sheet'!$B$17:$B17,INT(ROWS(D$3:D8)/20)+1),\"\"))","v":""},{"$f":"_xlfn.IFNA(IF(VLOOKUP(B8,_!$A$7:$E$210,2,FALSE)=0, \"\", VLOOKUP(B8,_!$A$7:$E$210,2,FALSE)),  \"\")","v":""},{"$f":"_xlfn.IFNA(IF(VLOOKUP(B8,_!$A$7:$E$210,3,FALSE)=0, \"\", VLOOKUP(B8,_!$A$7:$E$210,3,FALSE)), \"\")","v":""},{"$f":"_xlfn.IFNA(IF(VLOOKUP(B8,_!$A$7:$E$210,4,FALSE)=0, \"\",VLOOKUP(B8,_!$A$7:$E$210,4,FALSE)), \"\")","v":""},{"$f":"_xlfn.IFNA(IF(VLOOKUP(B8,_!$A$7:$E$210,5,FALSE)=0,\"\",VLOOKUP(B8,_!$A$7:$E$210,5,FALSE)), \"\")","v":""}]
[3,null,{"$f":"_xlfn.IFNA(VLOOKUP(B9,_!$A$7:$F$210,6,FALSE),\"\")","v":""},{"$f":"IF(IF(MOD(ROWS(D$3:D9),20)=1,INDEX('Summary Sheet'!$B$17:$B17,INT(ROWS(D$3:D9)/20)+1),\"\")=0,\"\",IF(MOD(ROWS(D$3:D9),20)=1,INDEX('Summary Sheet'!$B$17:$B17,INT(ROWS(D$3:D9)/20)+1),\"\"))","v":""},{"$f":"_xlfn.IFNA(IF(VLOOKUP(B9,_!$A$7:$E$210,2,FALSE)=0, \"\", VLOOKUP(B9,_!$A$7:$E$210,2,FALSE)),  \"\")","v":""},{"$f":"_xlfn.IFNA(IF(VLOOKUP(B9,_!$A$7:$E$210,3,FALSE)=0, \"\", VLOOKUP(B9,_!$A$7:$E$210,3,FALSE)), \"\")","v":""},{"$f":"_xlfn.IFNA(IF(VLOOKUP(B9,_!$A$7:$E$210,4,FALSE)=0, \"\",VLOOKUP(B9,_!$A$7:$E$210,4,FALSE)), \"\")","v":""},{"$f":"_xlfn.IFNA(IF(VLOOKUP(B9,_!$A$7:$E$210,5,FALSE)=0,\"\",VLOOKUP(B9,_!$A$7:$E$210,5,FALSE)), \"\")","v":""}]
[4,null,{"$f":"_xlfn.IFNA(VLOOKUP(B10,_!$A$7:$F$210,6,FALSE),\"\")","v":""},{"$f":"IF(IF(MOD(ROWS(D$3:D10),20)=1,INDEX('Summary Sheet'!$B$17:$B17,INT(ROWS(D$3:D10)/20)+1),\"\")=0,\"\",IF(MOD(ROWS(D$3:D10),20)=1,INDEX('Summary Sheet'!$B$17:$B17,INT(ROWS(D$3:D10)/20)+1),\"\"))","v":""},{"$f":"_xlfn.IFNA(IF(VLOOKUP(B10,_!$A$7:$E$210,2,FALSE)=0, \"\", VLOOKUP(B10,_!$A$7:$E$210,2,FALSE)),  \"\")","v":""},{"$f":"_xlfn.IFNA(IF(VLOOKUP(B10,_!$A$7:$E$210,3,FALSE)=0, \"\", VLOOKUP(B10,_!$A$7:$E$210,3,FALSE)), \"\")","v":""},{"$f":"_xlfn.IFNA(IF(VLOOKUP(B10,_!$A$7:$E$210,4,FALSE)=0, \"\",VLOOKUP(B10,_!$A$7:$E$210,4,FALSE)), \"\")","v":""},{"$f":"_xlfn.IFNA(IF(VLOOKUP(B10,_!$A$7:$E$210,5,FALSE)=0,\"\",VLOOKUP(B10,_!$A$7:$E$210,5,FALSE)), \"\")","v":""}]
[5,null,{"$f":"_xlfn.IFNA(VLOOKUP(B11,_!$A$7:$F$210,6,FALSE),\"\")","v":""},{"$f":"IF(IF(MOD(ROWS(D$3:D11),20)=1,INDEX('Summary Sheet'!$B$17:$B17,INT(ROWS(D$3:D11)/20)+1),\"\")=0,\"\",IF(MOD(ROWS(D$3:D11),20)=1,INDEX('Summary Sheet'!$B$17:$B17,INT(ROWS(D$3:D11)/20)+1),\"\"))","v":""},{"$f":"_xlfn.IFNA(IF(VLOOKUP(B11,_!$A$7:$E$210,2,FALSE)=0, \"\", VLOOKUP(B11,_!$A$7:$E$210,2,FALSE)),  \"\")","v":""},{"$f":"_xlfn.IFNA(IF(VLOOKUP(B11,_!$A$7:$E$210,3,FALSE)=0, \"\", VLOOKUP(B11,_!$A$7:$E$210,3,FALSE)), \"\")","v":""},{"$f":"_xlfn.IFNA(IF(VLOOKUP(B11,_!$A$7:$E$210,4,FALSE)=0, \"\",VLOOKUP(B11,_!$A$7:$E$210,4,FALSE)), \"\")","v":""},{"$f":"_xlfn.IFNA(IF(VLOOKUP(B11,_!$A$7:$E$210,5,FALSE)=0,\"\",VLOOKUP(B11,_!$A$7:$E$210,5,FALSE)), \"\")","v":""}]
[6,null,{"$f":"_xlfn.IFNA(VLOOKUP(B12,_!$A$7:$F$210,6,FALSE),\"\")","v":""},{"$f":"IF(IF(MOD(ROWS(D$3:D12),20)=1,INDEX('Summary Sheet'!$B$17:$B17,INT(ROWS(D$3:D12)/20)+1),\"\")=0,\"\",IF(MOD(ROWS(D$3:D12),20)=1,INDEX('Summary Sheet'!$B$17:$B17,INT(ROWS(D$3:D12)/20)+1),\"\"))","v":""},{"$f":"_xlfn.IFNA(IF(VLOOKUP(B12,_!$A$7:$E$210,2,FALSE)=0, \"\", VLOOKUP(B12,_!$A$7:$E$210,2,FALSE)),  \"\")","v":""},{"$f":"_xlfn.IFNA(IF(VLOOKUP(B12,_!$A$7:$E$210,3,FALSE)=0, \"\", VLOOKUP(B12,_!$A$7:$E$210,3,FALSE)), \"\")","v":""},{"$f":"_xlfn.IFNA(IF(VLOOKUP(B12,_!$A$7:$E$210,4,FALSE)=0, \"\",VLOOKUP(B12,_!$A$7:$E$210,4,FALSE)), \"\")","v":""},{"$f":"_xlfn.IFNA(IF(VLOOKUP(B12,_!$A$7:$E$210,5,FALSE)=0,\"\",VLOOKUP(B12,_!$A$7:$E$210,5,FALSE)), \"\")","v":""}]
[7,null,{"$f":"_xlfn.IFNA(VLOOKUP(B13,_!$A$7:$F$210,6,FALSE),\"\")","v":""},{"$f":"IF(IF(MOD(ROWS(D$3:D13),20)=1,INDEX('Summary Sheet'!$B$17:$B17,INT(ROWS(D$3:D13)/20)+1),\"\")=0,\"\",IF(MOD(ROWS(D$3:D13),20)=1,INDEX('Summary Sheet'!$B$17:$B17,INT(ROWS(D$3:D13)/20)+1),\"\"))","v":""},{"$f":"_xlfn.IFNA(IF(VLOOKUP(B13,_!$A$7:$E$210,2,FALSE)=0, \"\", VLOOKUP(B13,_!$A$7:$E$210,2,FALSE)),  \"\")","v":""},{"$f":"_xlfn.IFNA(IF(VLOOKUP(B13,_!$A$7:$E$210,3,FALSE)=0, \"\", VLOOKUP(B13,_!$A$7:$E$210,3,FALSE)), \"\")","v":""},{"$f":"_xlfn.IFNA(IF(VLOOKUP(B13,_!$A$7:$E$210,4,FALSE)=0, \"\",VLOOKUP(B13,_!$A$7:$E$210,4,FALSE)), \"\")","v":""},{"$f":"_xlfn.IFNA(IF(VLOOKUP(B13,_!$A$7:$E$210,5,FALSE)=0,\"\",VLOOKUP(B13,_!$A$7:$E$210,5,FALSE)), \"\")","v":""}]
[8,null,{"$f":"_xlfn.IFNA(VLOOKUP(B14,_!$A$7:$F$210,6,FALSE),\"\")","v":""},{"$f":"IF(IF(MOD(ROWS(D$3:D14),20)=1,INDEX('Summary Sheet'!$B$17:$B17,INT(ROWS(D$3:D14)/20)+1),\"\")=0,\"\",IF(MOD(ROWS(D$3:D14),20)=1,INDEX('Summary Sheet'!$B$17:$B17,INT(ROWS(D$3:D14)/20)+1),\"\"))","v":""},{"$f":"_xlfn.IFNA(IF(VLOOKUP(B14,_!$A$7:$E$210,2,FALSE)=0, \"\", VLOOKUP(B14,_!$A$7:$E$210,2,FALSE)),  \"\")","v":""},{"$f":"_xlfn.IFNA(IF(VLOOKUP(B14,_!$A$7:$E$210,3,FALSE)=0, \"\", VLOOKUP(B14,_!$A$7:$E$210,3,FALSE)), \"\")","v":""},{"$f":"_xlfn.IFNA(IF(VLOOKUP(B14,_!$A$7:$E$210,4,FALSE)=0, \"\",VLOOKUP(B14,_!$A$7:$E$210,4,FALSE)), \"\")","v":""},{"$f":"_xlfn.IFNA(IF(VLOOKUP(B14,_!$A$7:$E$210,5,FALSE)=0,\"\",VLOOKUP(B14,_!$A$7:$E$210,5,FALSE)), \"\")","v":""}]
[9,null,{"$f":"_xlfn.IFNA(VLOOKUP(B15,_!$A$7:$F$210,6,FALSE),\"\")","v":""},{"$f":"IF(IF(MOD(ROWS(D$3:D15),20)=1,INDEX('Summary Sheet'!$B$17:$B17,INT(ROWS(D$3:D15)/20)+1),\"\")=0,\"\",IF(MOD(ROWS(D$3:D15),20)=1,INDEX('Summary Sheet'!$B$17:$B17,INT(ROWS(D$3:D15)/20)+1),\"\"))","v":""},{"$f":"_xlfn.IFNA(IF(VLOOKUP(B15,_!$A$7:$E$210,2,FALSE)=0, \"\", VLOOKUP(B15,_!$A$7:$E$210,2,FALSE)),  \"\")","v":""},{"$f":"_xlfn.IFNA(IF(VLOOKUP(B15,_!$A$7:$E$210,3,FALSE)=0, \"\", VLOOKUP(B15,_!$A$7:$E$210,3,FALSE)), \"\")","v":""},{"$f":"_xlfn.IFNA(IF(VLOOKUP(B15,_!$A$7:$E$210,4,FALSE)=0, \"\",VLOOKUP(B15,_!$A$7:$E$210,4,FALSE)), \"\")","v":""},{"$f":"_xlfn.IFNA(IF(VLOOKUP(B15,_!$A$7:$E$210,5,FALSE)=0,\"\",VLOOKUP(B15,_!$A$7:$E$210,5,FALSE)), \"\")","v":""}]
[10,null,{"$f":"_xlfn.IFNA(VLOOKUP(B16,_!$A$7:$F$210,6,FALSE),\"\")","v":""},{"$f":"IF(IF(MOD(ROWS(D$14:D16),20)=1,INDEX('Summary Sheet'!$B$17:$B17,INT(ROWS(D$14:D16)/20)+1),\"\")=0,\"\",IF(MOD(ROWS(D$14:D16),20)=1,INDEX('Summary Sheet'!$B$17:$B17,INT(ROWS(D$14:D16)/20)+1),\"\"))","v":""},{"$f":"_xlfn.IFNA(IF(VLOOKUP(B16,_!$A$7:$E$210,2,FALSE)=0, \"\", VLOOKUP(B16,_!$A$7:$E$210,2,FALSE)),  \"\")","v":""},{"$f":"_xlfn.IFNA(IF(VLOOKUP(B16,_!$A$7:$E$210,3,FALSE)=0, \"\", VLOOKUP(B16,_!$A$7:$E$210,3,FALSE)), \"\")","v":""},{"$f":"_xlfn.IFNA(IF(VLOOKUP(B16,_!$A$7:$E$210,4,FALSE)=0, \"\",VLOOKUP(B16,_!$A$7:$E$210,4,FALSE)), \"\")","v":""},{"$f":"_xlfn.IFNA(IF(VLOOKUP(B16,_!$A$7:$E$210,5,FALSE)=0,\"\",VLOOKUP(B16,_!$A$7:$E$210,5,FALSE)), \"\")","v":""}]
[null,"\nHighest hazard level for each ‘Uptake Route’\n",null,null,{"$f":"_xlfn.IFNA(IF((INDEX(E7:E16,MATCH(\"E\",E7:E16,0)))=\"E\",\"E\",\"\"),_xlfn.IFNA(IF((INDEX(E7:E16,MATCH(\"D\",E7:E16,0)))=\"D\",\"D\",\"\"),_xlfn.IFNA(IF((INDEX(E7:E16,MATCH(\"Ca\",E7:E16,0)))=\"Ca\",\"C\",\"\"),_xlfn.IFNA(IF((INDEX(E7:E16,MATCH(\"C\",E7:E16,0)))=\"C\",\"C\",\"\"),_xlfn.IFNA(IF((INDEX(E7:E16,MATCH(\"B\",E7:E16,0)))=\"B\",\"B\",\"\"),_xlfn.IFNA(IF((INDEX(E7:E16,MATCH(\"A\",E7:E16,0)))=\"A\",\"A\",\"\"),_xlfn.IFNA(IF((INDEX(E7:E16,MATCH(\"n.a.\",E7:E16,0)))=\"n.a.\",\"\",\"\"),_xlfn.IFNA(IF((INDEX(E7:E16,MATCH(\"\",E7:E16,0)))=\"\",\"\",\"\"),\"\"))))))))","v":""},{"$f":"_xlfn.IFNA(IF((INDEX(F7:F16,MATCH(\"E\",F7:F16,0)))=\"E\",\"E\",\"\"),_xlfn.IFNA(IF((INDEX(F7:F16,MATCH(\"D (E)c\",F7:F16,0)))=\"D (E)c\",\"D (E)c\",\"\"),_xlfn.IFNA(IF((INDEX(F7:F16,MATCH(\"Da (E)c\",F7:F16,0)))=\"Da (E)c\",\"D (E)c\",\"\"),_xlfn.IFNA(IF((INDEX(F7:F16,MATCH(\"D\",F7:F16,0)))=\"D\",\"D\",\"\"),_xlfn.IFNA(IF((INDEX(F7:F16,MATCH(\"Ca\",F7:F16,0)))=\"Ca\",\"C\",\"\"),_xlfn.IFNA(IF((INDEX(F7:F16,MATCH(\"C\",F7:F16,0)))=\"C\",\"C\",\"\"),_xlfn.IFNA(IF((INDEX(F7:F16,MATCH(\"Ba\",F7:F16,0)))=\"Ba\",\"B\",\"\"),_xlfn.IFNA(IF((INDEX(F7:F16,MATCH(\"B\",F7:F16,0)))=\"B\",\"B\",\"\"),_xlfn.IFNA(IF((INDEX(F7:F16,MATCH(\"Aa\",F7:F16,0)))=\"Aa\",\"A\",\"\"),_xlfn.IFNA(IF((INDEX(F7:F16,MATCH(\"A\",F7:F16,0)))=\"A\",\"A\",\"\"),_xlfn.IFNA(IF((INDEX(F7:F16,MATCH(\"n.a.\",F7:F16,0)))=\"n.a.\",\"\",\"\"),_xlfn.IFNA(IF((INDEX(F7:F16,MATCH(\"\",F7:F16,0)))=\"\",\"\",\"\"),\"\"))))))))))))","v":""},{"$f":"_xlfn.IFNA(IF((INDEX(G7:G16,MATCH(\"E\",G7:G16,0)))=\"E\",\"E\",\"\"),_xlfn.IFNA(IF((INDEX(G7:G16,MATCH(\"D\",G7:G16,0)))=\"D\",\"D\",\"\"),_xlfn.IFNA(IF((INDEX(G7:G16,MATCH(\"Ca\",G7:G16,0)))=\"Ca\",\"C\",\"\"),_xlfn.IFNA(IF((INDEX(G7:G16,MATCH(\"C\",G7:G16,0)))=\"C\",\"C\",\"\"),_xlfn.IFNA(IF((INDEX(G7:G16,MATCH(\"B\",G7:G16,0)))=\"B\",\"B\",\"\"),_xlfn.IFNA(IF((INDEX(G7:G16,MATCH(\"A\",G7:G16,0)))=\"A\",\"A\",\"\"),_xlfn.IFNA(IF((INDEX(G7:G16,MATCH(\"n.a.\",G7:G16,0)))=\"n.a.\",\"\",\"\"),_xlfn.IFNA(IF((INDEX(G7:G16,MATCH(\"\",G7:G16,0)))=\"\",\"\",\"\"),\"\"))))))))","v":""},{"$f":"_xlfn.IFNA(IF((INDEX(H7:H16,MATCH(\"E\",H7:H16,0)))=\"E\",\"E\",\"\"),_xlfn.IFNA(IF((INDEX(H7:H16,MATCH(\"D (E)c\",H7:H16,0)))=\"D (E)c\",\"D (E)c\",\"\"),_xlfn.IFNA(IF((INDEX(H7:H16,MATCH(\"Db (E)c\",H7:H16,0)))=\"Db (E)c\",\"D (E)c\",\"\"),_xlfn.IFNA(IF((INDEX(H7:H16,MATCH(\"D\",H7:H16,0)))=\"D\",\"D\",\"\"),_xlfn.IFNA(IF((INDEX(H7:H16,MATCH(\"Cb\",H7:H16,0)))=\"Cb\",\"C\",\"\"),_xlfn.IFNA(IF((INDEX(H7:H16,MATCH(\"C\",H7:H16,0)))=\"C\",\"C\",\"\"),_xlfn.IFNA(IF((INDEX(H7:H16,MATCH(\"Bb\",H7:H16,0)))=\"Bb\",\"B\",\"\"),_xlfn.IFNA(IF((INDEX(H7:H16,MATCH(\"B\",H7:H16,0)))=\"B\",\"B\",\"\"),_xlfn.IFNA(IF((INDEX(H7:H16,MATCH(\"Ab\",H7:H16,0)))=\"Ab\",\"A\",\"\"),_xlfn.IFNA(IF((INDEX(H7:H16,MATCH(\"A\",H7:H16,0)))=\"A\",\"A\",\"\"),_xlfn.IFNA(IF((INDEX(H7:H16,MATCH(\"n.a.\",H7:H16,0)))=\"n.a.\",\"\",\"\"),_xlfn.IFNA(IF((INDEX(H7:H16,MATCH(\"\",H7:H16,0)))=\"\",\"\",\"\"),\"\"))))))))))))","v":""}]
[null,"\nHighest hazard level for all 'Uptake Routes' \n",null,null,{"$f":"_xlfn.IFNA(IF((INDEX(E17:H17,MATCH(\"E\",E17:H17,0)))=\"E\",\"E\",\"\"),_xlfn.IFNA(IF((INDEX(E17:H17,MATCH(\"D (E)c\",E17:H17,0)))=\"D (E)c\",\"D (E)\",\"\"),_xlfn.IFNA(IF((INDEX(E17:H17,MATCH(\"D\",E17:H17,0)))=\"D\",\"D\",\"\"),_xlfn.IFNA(IF((INDEX(E17:H17,MATCH(\"C\",E17:H17,0)))=\"C\",\"C\",\"\"),_xlfn.IFNA(IF((INDEX(E17:H17,MATCH(\"B\",E17:H17,0)))=\"B\",\"B\",\"\"),_xlfn.IFNA(IF((INDEX(E17:H17,MATCH(\"A\",E17:H17,0)))=\"A\",\"A\",\"\"),_xlfn.IFNA(IF((INDEX(E17:H17,MATCH(\"n.a.\",E17:H17,0)))=\"n.a.\",\"\",\"\"),_xlfn.IFNA(IF((INDEX(E17:H17,MATCH(\"\",E17:H17,0)))=\"\",\"\",\"\"),\"\"))))))))","v":""}]
[]
[]
[null,"\nStep 3: D(E) Assessment\nSkip this step if \nyour assessment above does not reveal a D(E) hazard level.\nHover over this cell for additional instructions.\n",null,null,"\nOverall hazard level\n",null,{"$f":"IF(AND(E18=\"\",C4=\"Yes\")=TRUE,\"B\",IF(E18=\"\",\"\",(IF(AND(E18=\"D (E)\",C21=\"\"),\"D (E)\"&CHAR(10)&\"Find if cat. 1 acute tox.\",(IF(E18<>\"D (E)\",E18,(IF(AND(E18=\"D (E)\",C21=\"Yes\"),\"E\",(IF(AND(E18=\"D (E)\",C21=\"No\"),\"D\",\"\"))))))))))","v":""}]
[]
[{"$f":"IF(IF(MOD(ROWS(B$3:B23),20)=1,INDEX('Summary Sheet'!$A$17:$A136,INT(ROWS(B$3:B23)/20)+1),\"\")=0,\"\",IF(MOD(ROWS(B$3:B23),20)=1,INDEX('Summary Sheet'!$A$17:$A136,INT(ROWS(B$3:B23)/20)+1),\"\"))","v":2},"Hazard Level Assessment","for",{"$f":"IF(IF(MOD(ROWS(D$3:D23),20)=1,INDEX('Summary Sheet'!$B$17:$B136,INT(ROWS(D$3:D23)/20)+1),\"\")=0,\"\",IF(MOD(ROWS(D$3:D23),20)=1,INDEX('Summary Sheet'!$B$17:$B136,INT(ROWS(D$3:D23)/20)+1),\"\"))","v":""}]
[null,"\nStep 1: Physical & Environmental Hazard Statements/Codes\nFind Section 2 of the SDS and determine if the SDS has physical and/or environmental hazard statements/codes. Hover on this cell for additional instructions.\n",null,{"$f":"IF(IF(MOD(ROWS(D$3:D24),20)=1,INDEX('Summary Sheet'!$B$17:$B136,INT(ROWS(D$3:D24)/20)+1),\"\")=0,\"\",IF(MOD(ROWS(D$3:D24),20)=1,INDEX('Summary Sheet'!$B$17:$B136,INT(ROWS(D$3:D24)/20)+1),\"\"))","v":""}]
[null,"Step 2: Health Hazard Statements/Codes\nProvide the Health Hazard Statements or Codes from Section 2 of the SDS below. Hover on this cell for additional instructions.",null,{"$f":"IF(IF(MOD(ROWS(D$3:D25),20)=1,INDEX('Summary Sheet'!$B$17:$B136,INT(ROWS(D$3:D25)/20)+1),\"\")=0,\"\",IF(MOD(ROWS(D$3:D25),20)=1,INDEX('Summary Sheet'!$B$17:$B136,INT(ROWS(D$3:D25)/20)+1),\"\"))","v":""},"\nHazard Level\n"]
[null,null,null,{"$f":"IF(IF(MOD(ROWS(D$3:D26),20)=1,INDEX('Summary Sheet'!$B$17:$B136,INT(ROWS(D$3:D26)/20)+1),\"\")=0,\"\",IF(MOD(ROWS(D$3:D26),20)=1,INDEX('Summary Sheet'!$B$17:$B136,INT(ROWS(D$3:D26)/20)+1),\"\"))","v":""},"\nEye Damage\n","\nInhalation\n","\nLocal Skin Damage\n","\nSkin uptake, systemic\n"]
[1,null,{"$f":"_xlfn.IFNA(VLOOKUP(B27,_!$A$7:$F$210,6,FALSE),\"\")","v":""},{"$f":"IF(IF(MOD(ROWS(D$3:D27),20)=1,INDEX('Summary Sheet'!$B$17:$B136,INT(ROWS(D$3:D27)/20)+1),\"\")=0,\"\",IF(MOD(ROWS(D$3:D27),20)=1,INDEX('Summary Sheet'!$B$17:$B136,INT(ROWS(D$3:D27)/20)+1),\"\"))","v":""},{"$f":"_xlfn.IFNA(IF(VLOOKUP(B27,_!$A$7:$E$210,2,FALSE)=0, \"\", VLOOKUP(B27,_!$A$7:$E$210,2,FALSE)),  \"\")","v":""},{"$f":"_xlfn.IFNA(IF(VLOOKUP(B27,_!$A$7:$E$210,3,FALSE)=0, \"\", VLOOKUP(B27,_!$A$7:$E$210,3,FALSE)), \"\")","v":""},{"$f":"_xlfn.IFNA(IF(VLOOKUP(B27,_!$A$7:$E$210,4,FALSE)=0, \"\",VLOOKUP(B27,_!$A$7:$E$210,4,FALSE)), \"\")","v":""},{"$f":"_xlfn.IFNA(IF(VLOOKUP(B27,_!$A$7:$E$210,5,FALSE)=0,\"\",VLOOKUP(B27,_!$A$7:$E$210,5,FALSE)), \"\")","v":""}]
[2,null,{"$f":"_xlfn.IFNA(VLOOKUP(B28,_!$A$7:$F$210,6,FALSE),\"\")","v":""},{"$f":"IF(IF(MOD(ROWS(D$3:D28),20)=1,INDEX('Summary Sheet'!$B$17:$B136,INT(ROWS(D$3:D28)/20)+1),\"\")=0,\"\",IF(MOD(ROWS(D$3:D28),20)=1,INDEX('Summary Sheet'!$B$17:$B136,INT(ROWS(D$3:D28)/20)+1),\"\"))","v":""},{"$f":"_xlfn.IFNA(IF(VLOOKUP(B28,_!$A$7:$E$210,2,FALSE)=0, \"\", VLOOKUP(B28,_!$A$7:$E$210,2,FALSE)),  \"\")","v":""},{"$f":"_xlfn.IFNA(IF(VLOOKUP(B28,_!$A$7:$E$210,3,FALSE)=0, \"\", VLOOKUP(B28,_!$A$7:$E$210,3,FALSE)), \"\")","v":""},{"$f":"_xlfn.IFNA(IF(VLOOKUP(B28,_!$A$7:$E$210,4,FALSE)=0, \"\",VLOOKUP(B28,_!$A$7:$E$210,4,FALSE)), \"\")","v":""},{"$f":"_xlfn.IFNA(IF(VLOOKUP(B28,_!$A$7:$E$210,5,FALSE)=0,\"\",VLOOKUP(B28,_!$A$7:$E$210,5,FALSE)), \"\")","v":""}]
[3,null,{"$f":"_xlfn.IFNA(VLOOKUP(B29,_!$A$7:$F$210,6,FALSE),\"\")","v":""},{"$f":"IF(IF(MOD(ROWS(D$3:D29),20)=1,INDEX('Summary Sheet'!$B$17:$B136,INT(ROWS(D$3:D29)/20)+1),\"\")=0,\"\",IF(MOD(ROWS(D$3:D29),20)=1,INDEX('Summary Sheet'!$B$17:$B136,INT(ROWS(D$3:D29)/20)+1),\"\"))","v":""},{"$f":"_xlfn.IFNA(IF(VLOOKUP(B29,_!$A$7:$E$210,2,FALSE)=0, \"\", VLOOKUP(B29,_!$A$7:$E$210,2,FALSE)),  \"\")","v":""},{"$f":"_xlfn.IFNA(IF(VLOOKUP(B29,_!$A$7:$E$210,3,FALSE)=0, \"\", VLOOKUP(B29,_!$A$7:$E$210,3,FALSE)), \"\")","v":""},{"$f":"_xlfn.IFNA(IF(VLOOKUP(B29,_!$A$7:$E$210,4,FALSE)=0, \"\",VLOOKUP(B29,_!$A$7:$E$210,4,FALSE)), \"\")","v":""},{"$f":"_xlfn.IFNA(IF(VLOOKUP(B29,_!$A$7:$E$210,5,FALSE)=0,\"\",VLOOKUP(B29,_!$A$7:$E$210,5,FALSE)), \"\")","v":""}]
[4,null,{"$f":"_xlfn.IFNA(VLOOKUP(B30,_!$A$7:$F$210,6,FALSE),\"\")","v":""},{"$f":"IF(IF(MOD(ROWS(D$3:D30),20)=1,INDEX('Summary Sheet'!$B$17:$B136,INT(ROWS(D$3:D30)/20)+1),\"\")=0,\"\",IF(MOD(ROWS(D$3:D30),20)=1,INDEX('Summary Sheet'!$B$17:$B136,INT(ROWS(D$3:D30)/20)+1),\"\"))","v":""},{"$f":"_xlfn.IFNA(IF(VLOOKUP(B30,_!$A$7:$E$210,2,FALSE)=0, \"\", VLOOKUP(B30,_!$A$7:$E$210,2,FALSE)),  \"\")","v":""},{"$f":"_xlfn.IFNA(IF(VLOOKUP(B30,_!$A$7:$E$210,3,FALSE)=0, \"\", VLOOKUP(B30,_!$A$7:$E$210,3,FALSE)), \"\")","v":""},{"$f":"_xlfn.IFNA(IF(VLOOKUP(B30,_!$A$7:$E$210,4,FALSE)=0, \"\",VLOOKUP(B30,_!$A$7:$E$210,4,FALSE)), \"\")","v":""},{"$f":"_xlfn.IFNA(IF(VLOOKUP(B30,_!$A$7:$E$210,5,FALSE)=0,\"\",VLOOKUP(B30,_!$A$7:$E$210,5,FALSE)), \"\")","v":""}]
[5,null,{"$f":"_xlfn.IFNA(VLOOKUP(B31,_!$A$7:$F$210,6,FALSE),\"\")","v":""},{"$f":"IF(IF(MOD(ROWS(D$3:D31),20)=1,INDEX('Summary Sheet'!$B$17:$B136,INT(ROWS(D$3:D31)/20)+1),\"\")=0,\"\",IF(MOD(ROWS(D$3:D31),20)=1,INDEX('Summary Sheet'!$B$17:$B136,INT(ROWS(D$3:D31)/20)+1),\"\"))","v":""},{"$f":"_xlfn.IFNA(IF(VLOOKUP(B31,_!$A$7:$E$210,2,FALSE)=0, \"\", VLOOKUP(B31,_!$A$7:$E$210,2,FALSE)),  \"\")","v":""},{"$f":"_xlfn.IFNA(IF(VLOOKUP(B31,_!$A$7:$E$210,3,FALSE)=0, \"\", VLOOKUP(B31,_!$A$7:$E$210,3,FALSE)), \"\")","v":""},{"$f":"_xlfn.IFNA(IF(VLOOKUP(B31,_!$A$7:$E$210,4,FALSE)=0, \"\",VLOOKUP(B31,_!$A$7:$E$210,4,FALSE)), \"\")","v":""},{"$f":"_xlfn.IFNA(IF(VLOOKUP(B31,_!$A$7:$E$210,5,FALSE)=0,\"\",VLOOKUP(B31,_!$A$7:$E$210,5,FALSE)), \"\")","v":""}]
[6,null,{"$f":"_xlfn.IFNA(VLOOKUP(B32,_!$A$7:$F$210,6,FALSE),\"\")","v":""},{"$f":"IF(IF(MOD(ROWS(D$3:D32),20)=1,INDEX('Summary Sheet'!$B$17:$B136,INT(ROWS(D$3:D32)/20)+1),\"\")=0,\"\",IF(MOD(ROWS(D$3:D32),20)=1,INDEX('Summary Sheet'!$B$17:$B136,INT(ROWS(D$3:D32)/20)+1),\"\"))","v":""},{"$f":"_xlfn.IFNA(IF(VLOOKUP(B32,_!$A$7:$E$210,2,FALSE)=0, \"\", VLOOKUP(B32,_!$A$7:$E$210,2,FALSE)),  \"\")","v":""},{"$f":"_xlfn.IFNA(IF(VLOOKUP(B32,_!$A$7:$E$210,3,FALSE)=0, \"\", VLOOKUP(B32,_!$A$7:$E$210,3,FALSE)), \"\")","v":""},{"$f":"_xlfn.IFNA(IF(VLOOKUP(B32,_!$A$7:$E$210,4,FALSE)=0, \"\",VLOOKUP(B32,_!$A$7:$E$210,4,FALSE)), \"\")","v":""},{"$f":"_xlfn.IFNA(IF(VLOOKUP(B32,_!$A$7:$E$210,5,FALSE)=0,\"\",VLOOKUP(B32,_!$A$7:$E$210,5,FALSE)), \"\")","v":""}]
[7,null,{"$f":"_xlfn.IFNA(VLOOKUP(B33,_!$A$7:$F$210,6,FALSE),\"\")","v":""},{"$f":"IF(IF(MOD(ROWS(D$3:D33),20)=1,INDEX('Summary Sheet'!$B$17:$B136,INT(ROWS(D$3:D33)/20)+1),\"\")=0,\"\",IF(MOD(ROWS(D$3:D33),20)=1,INDEX('Summary Sheet'!$B$17:$B136,INT(ROWS(D$3:D33)/20)+1),\"\"))","v":""},{"$f":"_xlfn.IFNA(IF(VLOOKUP(B33,_!$A$7:$E$210,2,FALSE)=0, \"\", VLOOKUP(B33,_!$A$7:$E$210,2,FALSE)),  \"\")","v":""},{"$f":"_xlfn.IFNA(IF(VLOOKUP(B33,_!$A$7:$E$210,3,FALSE)=0, \"\", VLOOKUP(B33,_!$A$7:$E$210,3,FALSE)), \"\")","v":""},{"$f":"_xlfn.IFNA(IF(VLOOKUP(B33,_!$A$7:$E$210,4,FALSE)=0, \"\",VLOOKUP(B33,_!$A$7:$E$210,4,FALSE)), \"\")","v":""},{"$f":"_xlfn.IFNA(IF(VLOOKUP(B33,_!$A$7:$E$210,5,FALSE)=0,\"\",VLOOKUP(B33,_!$A$7:$E$210,5,FALSE)), \"\")","v":""}]
[8,null,{"$f":"_xlfn.IFNA(VLOOKUP(B34,_!$A$7:$F$210,6,FALSE),\"\")","v":""},{"$f":"IF(IF(MOD(ROWS(D$3:D34),20)=1,INDEX('Summary Sheet'!$B$17:$B136,INT(ROWS(D$3:D34)/20)+1),\"\")=0,\"\",IF(MOD(ROWS(D$3:D34),20)=1,INDEX('Summary Sheet'!$B$17:$B136,INT(ROWS(D$3:D34)/20)+1),\"\"))","v":""},{"$f":"_xlfn.IFNA(IF(VLOOKUP(B34,_!$A$7:$E$210,2,FALSE)=0, \"\", VLOOKUP(B34,_!$A$7:$E$210,2,FALSE)),  \"\")","v":""},{"$f":"_xlfn.IFNA(IF(VLOOKUP(B34,_!$A$7:$E$210,3,FALSE)=0, \"\", VLOOKUP(B34,_!$A$7:$E$210,3,FALSE)), \"\")","v":""},{"$f":"_xlfn.IFNA(IF(VLOOKUP(B34,_!$A$7:$E$210,4,FALSE)=0, \"\",VLOOKUP(B34,_!$A$7:$E$210,4,FALSE)), \"\")","v":""},{"$f":"_xlfn.IFNA(IF(VLOOKUP(B34,_!$A$7:$E$210,5,FALSE)=0,\"\",VLOOKUP(B34,_!$A$7:$E$210,5,FALSE)), \"\")","v":""}]
[9,null,{"$f":"_xlfn.IFNA(VLOOKUP(B35,_!$A$7:$F$210,6,FALSE),\"\")","v":""},{"$f":"IF(IF(MOD(ROWS(D$3:D35),20)=1,INDEX('Summary Sheet'!$B$17:$B136,INT(ROWS(D$3:D35)/20)+1),\"\")=0,\"\",IF(MOD(ROWS(D$3:D35),20)=1,INDEX('Summary Sheet'!$B$17:$B136,INT(ROWS(D$3:D35)/20)+1),\"\"))","v":""},{"$f":"_xlfn.IFNA(IF(VLOOKUP(B35,_!$A$7:$E$210,2,FALSE)=0, \"\", VLOOKUP(B35,_!$A$7:$E$210,2,FALSE)),  \"\")","v":""},{"$f":"_xlfn.IFNA(IF(VLOOKUP(B35,_!$A$7:$E$210,3,FALSE)=0, \"\", VLOOKUP(B35,_!$A$7:$E$210,3,FALSE)), \"\")","v":""},{"$f":"_xlfn.IFNA(IF(VLOOKUP(B35,_!$A$7:$E$210,4,FALSE)=0, \"\",VLOOKUP(B35,_!$A$7:$E$210,4,FALSE)), \"\")","v":""},{"$f":"_xlfn.IFNA(IF(VLOOKUP(B35,_!$A$7:$E$210,5,FALSE)=0,\"\",VLOOKUP(B35,_!$A$7:$E$210,5,FALSE)), \"\")","v":""}]
[10,null,{"$f":"_xlfn.IFNA(VLOOKUP(B36,_!$A$7:$F$210,6,FALSE),\"\")","v":""},{"$f":"IF(IF(MOD(ROWS(D$14:D36),20)=1,INDEX('Summary Sheet'!$B$17:$B136,INT(ROWS(D$14:D36)/20)+1),\"\")=0,\"\",IF(MOD(ROWS(D$14:D36),20)=1,INDEX('Summary Sheet'!$B$17:$B136,INT(ROWS(D$14:D36)/20)+1),\"\"))","v":""},{"$f":"_xlfn.IFNA(IF(VLOOKUP(B36,_!$A$7:$E$210,2,FALSE)=0, \"\", VLOOKUP(B36,_!$A$7:$E$210,2,FALSE)),  \"\")","v":""},{"$f":"_xlfn.IFNA(IF(VLOOKUP(B36,_!$A$7:$E$210,3,FALSE)=0, \"\", VLOOKUP(B36,_!$A$7:$E$210,3,FALSE)), \"\")","v":""},{"$f":"_xlfn.IFNA(IF(VLOOKUP(B36,_!$A$7:$E$210,4,FALSE)=0, \"\",VLOOKUP(B36,_!$A$7:$E$210,4,FALSE)), \"\")","v":""},{"$f":"_xlfn.IFNA(IF(VLOOKUP(B36,_!$A$7:$E$210,5,FALSE)=0,\"\",VLOOKUP(B36,_!$A$7:$E$210,5,FALSE)), \"\")","v":""}]
[null,"\nHighest hazard level for each ‘Uptake Route’\n",null,null,{"$f":"_xlfn.IFNA(IF((INDEX(E27:E36,MATCH(\"E\",E27:E36,0)))=\"E\",\"E\",\"\"),_xlfn.IFNA(IF((INDEX(E27:E36,MATCH(\"D\",E27:E36,0)))=\"D\",\"D\",\"\"),_xlfn.IFNA(IF((INDEX(E27:E36,MATCH(\"Ca\",E27:E36,0)))=\"Ca\",\"C\",\"\"),_xlfn.IFNA(IF((INDEX(E27:E36,MATCH(\"C\",E27:E36,0)))=\"C\",\"C\",\"\"),_xlfn.IFNA(IF((INDEX(E27:E36,MATCH(\"B\",E27:E36,0)))=\"B\",\"B\",\"\"),_xlfn.IFNA(IF((INDEX(E27:E36,MATCH(\"A\",E27:E36,0)))=\"A\",\"A\",\"\"),_xlfn.IFNA(IF((INDEX(E27:E36,MATCH(\"n.a.\",E27:E36,0)))=\"n.a.\",\"\",\"\"),_xlfn.IFNA(IF((INDEX(E27:E36,MATCH(\"\",E27:E36,0)))=\"\",\"\",\"\"),\"\"))))))))","v":""},{"$f":"_xlfn.IFNA(IF((INDEX(F27:F36,MATCH(\"E\",F27:F36,0)))=\"E\",\"E\",\"\"),_xlfn.IFNA(IF((INDEX(F27:F36,MATCH(\"D (E)c\",F27:F36,0)))=\"D (E)c\",\"D (E)c\",\"\"),_xlfn.IFNA(IF((INDEX(F27:F36,MATCH(\"Da (E)c\",F27:F36,0)))=\"Da (E)c\",\"D (E)c\",\"\"),_xlfn.IFNA(IF((INDEX(F27:F36,MATCH(\"D\",F27:F36,0)))=\"D\",\"D\",\"\"),_xlfn.IFNA(IF((INDEX(F27:F36,MATCH(\"Ca\",F27:F36,0)))=\"Ca\",\"C\",\"\"),_xlfn.IFNA(IF((INDEX(F27:F36,MATCH(\"C\",F27:F36,0)))=\"C\",\"C\",\"\"),_xlfn.IFNA(IF((INDEX(F27:F36,MATCH(\"Ba\",F27:F36,0)))=\"Ba\",\"B\",\"\"),_xlfn.IFNA(IF((INDEX(F27:F36,MATCH(\"B\",F27:F36,0)))=\"B\",\"B\",\"\"),_xlfn.IFNA(IF((INDEX(F27:F36,MATCH(\"Aa\",F27:F36,0)))=\"Aa\",\"A\",\"\"),_xlfn.IFNA(IF((INDEX(F27:F36,MATCH(\"A\",F27:F36,0)))=\"A\",\"A\",\"\"),_xlfn.IFNA(IF((INDEX(F27:F36,MATCH(\"n.a.\",F27:F36,0)))=\"n.a.\",\"\",\"\"),_xlfn.IFNA(IF((INDEX(F27:F36,MATCH(\"\",F27:F36,0)))=\"\",\"\",\"\"),\"\"))))))))))))","v":""},{"$f":"_xlfn.IFNA(IF((INDEX(G27:G36,MATCH(\"E\",G27:G36,0)))=\"E\",\"E\",\"\"),_xlfn.IFNA(IF((INDEX(G27:G36,MATCH(\"D\",G27:G36,0)))=\"D\",\"D\",\"\"),_xlfn.IFNA(IF((INDEX(G27:G36,MATCH(\"Ca\",G27:G36,0)))=\"Ca\",\"C\",\"\"),_xlfn.IFNA(IF((INDEX(G27:G36,MATCH(\"C\",G27:G36,0)))=\"C\",\"C\",\"\"),_xlfn.IFNA(IF((INDEX(G27:G36,MATCH(\"B\",G27:G36,0)))=\"B\",\"B\",\"\"),_xlfn.IFNA(IF((INDEX(G27:G36,MATCH(\"A\",G27:G36,0)))=\"A\",\"A\",\"\"),_xlfn.IFNA(IF((INDEX(G27:G36,MATCH(\"n.a.\",G27:G36,0)))=\"n.a.\",\"\",\"\"),_xlfn.IFNA(IF((INDEX(G27:G36,MATCH(\"\",G27:G36,0)))=\"\",\"\",\"\"),\"\"))))))))","v":""},{"$f":"_xlfn.IFNA(IF((INDEX(H27:H36,MATCH(\"E\",H27:H36,0)))=\"E\",\"E\",\"\"),_xlfn.IFNA(IF((INDEX(H27:H36,MATCH(\"D (E)c\",H27:H36,0)))=\"D (E)c\",\"D (E)c\",\"\"),_xlfn.IFNA(IF((INDEX(H27:H36,MATCH(\"Db (E)c\",H27:H36,0)))=\"Db (E)c\",\"D (E)c\",\"\"),_xlfn.IFNA(IF((INDEX(H27:H36,MATCH(\"D\",H27:H36,0)))=\"D\",\"D\",\"\"),_xlfn.IFNA(IF((INDEX(H27:H36,MATCH(\"Cb\",H27:H36,0)))=\"Cb\",\"C\",\"\"),_xlfn.IFNA(IF((INDEX(H27:H36,MATCH(\"C\",H27:H36,0)))=\"C\",\"C\",\"\"),_xlfn.IFNA(IF((INDEX(H27:H36,MATCH(\"Bb\",H27:H36,0)))=\"Bb\",\"B\",\"\"),_xlfn.IFNA(IF((INDEX(H27:H36,MATCH(\"B\",H27:H36,0)))=\"B\",\"B\",\"\"),_xlfn.IFNA(IF((INDEX(H27:H36,MATCH(\"Ab\",H27:H36,0)))=\"Ab\",\"A\",\"\"),_xlfn.IFNA(IF((INDEX(H27:H36,MATCH(\"A\",H27:H36,0)))=\"A\",\"A\",\"\"),_xlfn.IFNA(IF((INDEX(H27:H36,MATCH(\"n.a.\",H27:H36,0)))=\"n.a.\",\"\",\"\"),_xlfn.IFNA(IF((INDEX(H27:H36,MATCH(\"\",H27:H36,0)))=\"\",\"\",\"\"),\"\"))))))))))))","v":""}]
[null,"\nHighest hazard level for all 'Uptake Routes' \n",null,null,{"$f":"_xlfn.IFNA(IF((INDEX(E37:H37,MATCH(\"E\",E37:H37,0)))=\"E\",\"E\",\"\"),_xlfn.IFNA(IF((INDEX(E37:H37,MATCH(\"D (E)c\",E37:H37,0)))=\"D (E)c\",\"D (E)\",\"\"),_xlfn.IFNA(IF((INDEX(E37:H37,MATCH(\"D\",E37:H37,0)))=\"D\",\"D\",\"\"),_xlfn.IFNA(IF((INDEX(E37:H37,MATCH(\"C\",E37:H37,0)))=\"C\",\"C\",\"\"),_xlfn.IFNA(IF((INDEX(E37:H37,MATCH(\"B\",E37:H37,0)))=\"B\",\"B\",\"\"),_xlfn.IFNA(IF((INDEX(E37:H37,MATCH(\"A\",E37:H37,0)))=\"A\",\"A\",\"\"),_xlfn.IFNA(IF((INDEX(E37:H37,MATCH(\"n.a.\",E37:H37,0)))=\"n.a.\",\"\",\"\"),_xlfn.IFNA(IF((INDEX(E37:H37,MATCH(\"\",E37:H37,0)))=\"\",\"\",\"\"),\"\"))))))))","v":""}]
[]
[]
[null,"\nStep 3: D(E) Assessment\nSkip this step if \nyour assessment above does not reveal a D(E) hazard level.\nHover over this cell for additional instructions.\n",null,null,"\nOverall hazard level\n",null,{"$f":"IF(AND(E38=\"\",C24=\"Yes\")=TRUE,\"B\",IF(E38=\"\",\"\",(IF(AND(E38=\"D (E)\",C41=\"\"),\"D (E)\"&CHAR(10)&\"Find if cat. 1 acute tox.\",(IF(E38<>\"D (E)\",E38,(IF(AND(E38=\"D (E)\",C41=\"Yes\"),\"E\",(IF(AND(E38=\"D (E)\",C41=\"No\"),\"D\",\"\"))))))))))","v":""}]
[]
[{"$f":"IF(IF(MOD(ROWS(B$3:B43),20)=1,INDEX('Summary Sheet'!$A$17:$A155,INT(ROWS(B$3:B43)/20)+1),\"\")=0,\"\",IF(MOD(ROWS(B$3:B43),20)=1,INDEX('Summary Sheet'!$A$17:$A155,INT(ROWS(B$3:B43)/20)+1),\"\"))","v":3},"Hazard Level Assessment","for",{"$f":"IF(IF(MOD(ROWS(D$3:D43),20)=1,INDEX('Summary Sheet'!$B$17:$B155,INT(ROWS(D$3:D43)/20)+1),\"\")=0,\"\",IF(MOD(ROWS(D$3:D43),20)=1,INDEX('Summary Sheet'!$B$17:$B155,INT(ROWS(D$3:D43)/20)+1),\"\"))","v":""}]
[null,"\nStep 1: Physical & Environmental Hazard Statements/Codes\nFind Section 2 of the SDS and determine if the SDS has physical and/or environmental hazard statements/codes. Hover on this cell for additional instructions.\n",null,{"$f":"IF(IF(MOD(ROWS(D$3:D44),20)=1,INDEX('Summary Sheet'!$B$17:$B155,INT(ROWS(D$3:D44)/20)+1),\"\")=0,\"\",IF(MOD(ROWS(D$3:D44),20)=1,INDEX('Summary Sheet'!$B$17:$B155,INT(ROWS(D$3:D44)/20)+1),\"\"))","v":""}]
[null,"Step 2: Health Hazard Statements/Codes\nProvide the Health Hazard Statements or Codes from Section 2 of the SDS below. Hover on this cell for additional instructions.",null,{"$f":"IF(IF(MOD(ROWS(D$3:D45),20)=1,INDEX('Summary Sheet'!$B$17:$B155,INT(ROWS(D$3:D45)/20)+1),\"\")=0,\"\",IF(MOD(ROWS(D$3:D45),20)=1,INDEX('Summary Sheet'!$B$17:$B155,INT(ROWS(D$3:D45)/20)+1),\"\"))","v":""},"\nHazard Level\n"]
[null,null,null,{"$f":"IF(IF(MOD(ROWS(D$3:D46),20)=1,INDEX('Summary Sheet'!$B$17:$B155,INT(ROWS(D$3:D46)/20)+1),\"\")=0,\"\",IF(MOD(ROWS(D$3:D46),20)=1,INDEX('Summary Sheet'!$B$17:$B155,INT(ROWS(D$3:D46)/20)+1),\"\"))","v":""},"\nEye Damage\n","\nInhalation\n","\nLocal Skin Damage\n","\nSkin uptake, systemic\n"]
[1,null,{"$f":"_xlfn.IFNA(VLOOKUP(B47,_!$A$7:$F$210,6,FALSE),\"\")","v":""},{"$f":"IF(IF(MOD(ROWS(D$3:D47),20)=1,INDEX('Summary Sheet'!$B$17:$B155,INT(ROWS(D$3:D47)/20)+1),\"\")=0,\"\",IF(MOD(ROWS(D$3:D47),20)=1,INDEX('Summary Sheet'!$B$17:$B155,INT(ROWS(D$3:D47)/20)+1),\"\"))","v":""},{"$f":"_xlfn.IFNA(IF(VLOOKUP(B47,_!$A$7:$E$210,2,FALSE)=0, \"\", VLOOKUP(B47,_!$A$7:$E$210,2,FALSE)),  \"\")","v":""},{"$f":"_xlfn.IFNA(IF(VLOOKUP(B47,_!$A$7:$E$210,3,FALSE)=0, \"\", VLOOKUP(B47,_!$A$7:$E$210,3,FALSE)), \"\")","v":""},{"$f":"_xlfn.IFNA(IF(VLOOKUP(B47,_!$A$7:$E$210,4,FALSE)=0, \"\",VLOOKUP(B47,_!$A$7:$E$210,4,FALSE)), \"\")","v":""},{"$f":"_xlfn.IFNA(IF(VLOOKUP(B47,_!$A$7:$E$210,5,FALSE)=0,\"\",VLOOKUP(B47,_!$A$7:$E$210,5,FALSE)), \"\")","v":""}]
[2,null,{"$f":"_xlfn.IFNA(VLOOKUP(B48,_!$A$7:$F$210,6,FALSE),\"\")","v":""},{"$f":"IF(IF(MOD(ROWS(D$3:D48),20)=1,INDEX('Summary Sheet'!$B$17:$B155,INT(ROWS(D$3:D48)/20)+1),\"\")=0,\"\",IF(MOD(ROWS(D$3:D48),20)=1,INDEX('Summary Sheet'!$B$17:$B155,INT(ROWS(D$3:D48)/20)+1),\"\"))","v":""},{"$f":"_xlfn.IFNA(IF(VLOOKUP(B48,_!$A$7:$E$210,2,FALSE)=0, \"\", VLOOKUP(B48,_!$A$7:$E$210,2,FALSE)),  \"\")","v":""},{"$f":"_xlfn.IFNA(IF(VLOOKUP(B48,_!$A$7:$E$210,3,FALSE)=0, \"\", VLOOKUP(B48,_!$A$7:$E$210,3,FALSE)), \"\")","v":""},{"$f":"_xlfn.IFNA(IF(VLOOKUP(B48,_!$A$7:$E$210,4,FALSE)=0, \"\",VLOOKUP(B48,_!$A$7:$E$210,4,FALSE)), \"\")","v":""},{"$f":"_xlfn.IFNA(IF(VLOOKUP(B48,_!$A$7:$E$210,5,FALSE)=0,\"\",VLOOKUP(B48,_!$A$7:$E$210,5,FALSE)), \"\")","v":""}]
[3,null,{"$f":"_xlfn.IFNA(VLOOKUP(B49,_!$A$7:$F$210,6,FALSE),\"\")","v":""},{"$f":"IF(IF(MOD(ROWS(D$3:D49),20)=1,INDEX('Summary Sheet'!$B$17:$B155,INT(ROWS(D$3:D49)/20)+1),\"\")=0,\"\",IF(MOD(ROWS(D$3:D49),20)=1,INDEX('Summary Sheet'!$B$17:$B155,INT(ROWS(D$3:D49)/20)+1),\"\"))","v":""},{"$f":"_xlfn.IFNA(IF(VLOOKUP(B49,_!$A$7:$E$210,2,FALSE)=0, \"\", VLOOKUP(B49,_!$A$7:$E$210,2,FALSE)),  \"\")","v":""},{"$f":"_xlfn.IFNA(IF(VLOOKUP(B49,_!$A$7:$E$210,3,FALSE)=0, \"\", VLOOKUP(B49,_!$A$7:$E$210,3,FALSE)), \"\")","v":""},{"$f":"_xlfn.IFNA(IF(VLOOKUP(B49,_!$A$7:$E$210,4,FALSE)=0, \"\",VLOOKUP(B49,_!$A$7:$E$210,4,FALSE)), \"\")","v":""},{"$f":"_xlfn.IFNA(IF(VLOOKUP(B49,_!$A$7:$E$210,5,FALSE)=0,\"\",VLOOKUP(B49,_!$A$7:$E$210,5,FALSE)), \"\")","v":""}]
[4,null,{"$f":"_xlfn.IFNA(VLOOKUP(B50,_!$A$7:$F$210,6,FALSE),\"\")","v":""},{"$f":"IF(IF(MOD(ROWS(D$3:D50),20)=1,INDEX('Summary Sheet'!$B$17:$B155,INT(ROWS(D$3:D50)/20)+1),\"\")=0,\"\",IF(MOD(ROWS(D$3:D50),20)=1,INDEX('Summary Sheet'!$B$17:$B155,INT(ROWS(D$3:D50)/20)+1),\"\"))","v":""},{"$f":"_xlfn.IFNA(IF(VLOOKUP(B50,_!$A$7:$E$210,2,FALSE)=0, \"\", VLOOKUP(B50,_!$A$7:$E$210,2,FALSE)),  \"\")","v":""},{"$f":"_xlfn.IFNA(IF(VLOOKUP(B50,_!$A$7:$E$210,3,FALSE)=0, \"\", VLOOKUP(B50,_!$A$7:$E$210,3,FALSE)), \"\")","v":""},{"$f":"_xlfn.IFNA(IF(VLOOKUP(B50,_!$A$7:$E$210,4,FALSE)=0, \"\",VLOOKUP(B50,_!$A$7:$E$210,4,FALSE)), \"\")","v":""},{"$f":"_xlfn.IFNA(IF(VLOOKUP(B50,_!$A$7:$E$210,5,FALSE)=0,\"\",VLOOKUP(B50,_!$A$7:$E$210,5,FALSE)), \"\")","v":""}]
[5,null,{"$f":"_xlfn.IFNA(VLOOKUP(B51,_!$A$7:$F$210,6,FALSE),\"\")","v":""},{"$f":"IF(IF(MOD(ROWS(D$3:D51),20)=1,INDEX('Summary Sheet'!$B$17:$B155,INT(ROWS(D$3:D51)/20)+1),\"\")=0,\"\",IF(MOD(ROWS(D$3:D51),20)=1,INDEX('Summary Sheet'!$B$17:$B155,INT(ROWS(D$3:D51)/20)+1),\"\"))","v":""},{"$f":"_xlfn.IFNA(IF(VLOOKUP(B51,_!$A$7:$E$210,2,FALSE)=0, \"\", VLOOKUP(B51,_!$A$7:$E$210,2,FALSE)),  \"\")","v":""},{"$f":"_xlfn.IFNA(IF(VLOOKUP(B51,_!$A$7:$E$210,3,FALSE)=0, \"\", VLOOKUP(B51,_!$A$7:$E$210,3,FALSE)), \"\")","v":""},{"$f":"_xlfn.IFNA(IF(VLOOKUP(B51,_!$A$7:$E$210,4,FALSE)=0, \"\",VLOOKUP(B51,_!$A$7:$E$210,4,FALSE)), \"\")","v":""},{"$f":"_xlfn.IFNA(IF(VLOOKUP(B51,_!$A$7:$E$210,5,FALSE)=0,\"\",VLOOKUP(B51,_!$A$7:$E$210,5,FALSE)), \"\")","v":""}]
[6,null,{"$f":"_xlfn.IFNA(VLOOKUP(B52,_!$A$7:$F$210,6,FALSE),\"\")","v":""},{"$f":"IF(IF(MOD(ROWS(D$3:D52),20)=1,INDEX('Summary Sheet'!$B$17:$B155,INT(ROWS(D$3:D52)/20)+1),\"\")=0,\"\",IF(MOD(ROWS(D$3:D52),20)=1,INDEX('Summary Sheet'!$B$17:$B155,INT(ROWS(D$3:D52)/20)+1),\"\"))","v":""},{"$f":"_xlfn.IFNA(IF(VLOOKUP(B52,_!$A$7:$E$210,2,FALSE)=0, \"\", VLOOKUP(B52,_!$A$7:$E$210,2,FALSE)),  \"\")","v":""},{"$f":"_xlfn.IFNA(IF(VLOOKUP(B52,_!$A$7:$E$210,3,FALSE)=0, \"\", VLOOKUP(B52,_!$A$7:$E$210,3,FALSE)), \"\")","v":""},{"$f":"_xlfn.IFNA(IF(VLOOKUP(B52,_!$A$7:$E$210,4,FALSE)=0, \"\",VLOOKUP(B52,_!$A$7:$E$210,4,FALSE)), \"\")","v":""},{"$f":"_xlfn.IFNA(IF(VLOOKUP(B52,_!$A$7:$E$210,5,FALSE)=0,\"\",VLOOKUP(B52,_!$A$7:$E$210,5,FALSE)), \"\")","v":""}]
[7,null,{"$f":"_xlfn.IFNA(VLOOKUP(B53,_!$A$7:$F$210,6,FALSE),\"\")","v":""},{"$f":"IF(IF(MOD(ROWS(D$3:D53),20)=1,INDEX('Summary Sheet'!$B$17:$B155,INT(ROWS(D$3:D53)/20)+1),\"\")=0,\"\",IF(MOD(ROWS(D$3:D53),20)=1,INDEX('Summary Sheet'!$B$17:$B155,INT(ROWS(D$3:D53)/20)+1),\"\"))","v":""},{"$f":"_xlfn.IFNA(IF(VLOOKUP(B53,_!$A$7:$E$210,2,FALSE)=0, \"\", VLOOKUP(B53,_!$A$7:$E$210,2,FALSE)),  \"\")","v":""},{"$f":"_xlfn.IFNA(IF(VLOOKUP(B53,_!$A$7:$E$210,3,FALSE)=0, \"\", VLOOKUP(B53,_!$A$7:$E$210,3,FALSE)), \"\")","v":""},{"$f":"_xlfn.IFNA(IF(VLOOKUP(B53,_!$A$7:$E$210,4,FALSE)=0, \"\",VLOOKUP(B53,_!$A$7:$E$210,4,FALSE)), \"\")","v":""},{"$f":"_xlfn.IFNA(IF(VLOOKUP(B53,_!$A$7:$E$210,5,FALSE)=0,\"\",VLOOKUP(B53,_!$A$7:$E$210,5,FALSE)), \"\")","v":""}]
[8,null,{"$f":"_xlfn.IFNA(VLOOKUP(B54,_!$A$7:$F$210,6,FALSE),\"\")","v":""},{"$f":"IF(IF(MOD(ROWS(D$3:D54),20)=1,INDEX('Summary Sheet'!$B$17:$B155,INT(ROWS(D$3:D54)/20)+1),\"\")=0,\"\",IF(MOD(ROWS(D$3:D54),20)=1,INDEX('Summary Sheet'!$B$17:$B155,INT(ROWS(D$3:D54)/20)+1),\"\"))","v":""},{"$f":"_xlfn.IFNA(IF(VLOOKUP(B54,_!$A$7:$E$210,2,FALSE)=0, \"\", VLOOKUP(B54,_!$A$7:$E$210,2,FALSE)),  \"\")","v":""},{"$f":"_xlfn.IFNA(IF(VLOOKUP(B54,_!$A$7:$E$210,3,FALSE)=0, \"\", VLOOKUP(B54,_!$A$7:$E$210,3,FALSE)), \"\")","v":""},{"$f":"_xlfn.IFNA(IF(VLOOKUP(B54,_!$A$7:$E$210,4,FALSE)=0, \"\",VLOOKUP(B54,_!$A$7:$E$210,4,FALSE)), \"\")","v":""},{"$f":"_xlfn.IFNA(IF(VLOOKUP(B54,_!$A$7:$E$210,5,FALSE)=0,\"\",VLOOKUP(B54,_!$A$7:$E$210,5,FALSE)), \"\")","v":""}]
[9,null,{"$f":"_xlfn.IFNA(VLOOKUP(B55,_!$A$7:$F$210,6,FALSE),\"\")","v":""},{"$f":"IF(IF(MOD(ROWS(D$3:D55),20)=1,INDEX('Summary Sheet'!$B$17:$B155,INT(ROWS(D$3:D55)/20)+1),\"\")=0,\"\",IF(MOD(ROWS(D$3:D55),20)=1,INDEX('Summary Sheet'!$B$17:$B155,INT(ROWS(D$3:D55)/20)+1),\"\"))","v":""},{"$f":"_xlfn.IFNA(IF(VLOOKUP(B55,_!$A$7:$E$210,2,FALSE)=0, \"\", VLOOKUP(B55,_!$A$7:$E$210,2,FALSE)),  \"\")","v":""},{"$f":"_xlfn.IFNA(IF(VLOOKUP(B55,_!$A$7:$E$210,3,FALSE)=0, \"\", VLOOKUP(B55,_!$A$7:$E$210,3,FALSE)), \"\")","v":""},{"$f":"_xlfn.IFNA(IF(VLOOKUP(B55,_!$A$7:$E$210,4,FALSE)=0, \"\",VLOOKUP(B55,_!$A$7:$E$210,4,FALSE)), \"\")","v":""},{"$f":"_xlfn.IFNA(IF(VLOOKUP(B55,_!$A$7:$E$210,5,FALSE)=0,\"\",VLOOKUP(B55,_!$A$7:$E$210,5,FALSE)), \"\")","v":""}]
[10,null,{"$f":"_xlfn.IFNA(VLOOKUP(B56,_!$A$7:$F$210,6,FALSE),\"\")","v":""},{"$f":"IF(IF(MOD(ROWS(D$14:D56),20)=1,INDEX('Summary Sheet'!$B$17:$B155,INT(ROWS(D$14:D56)/20)+1),\"\")=0,\"\",IF(MOD(ROWS(D$14:D56),20)=1,INDEX('Summary Sheet'!$B$17:$B155,INT(ROWS(D$14:D56)/20)+1),\"\"))","v":""},{"$f":"_xlfn.IFNA(IF(VLOOKUP(B56,_!$A$7:$E$210,2,FALSE)=0, \"\", VLOOKUP(B56,_!$A$7:$E$210,2,FALSE)),  \"\")","v":""},{"$f":"_xlfn.IFNA(IF(VLOOKUP(B56,_!$A$7:$E$210,3,FALSE)=0, \"\", VLOOKUP(B56,_!$A$7:$E$210,3,FALSE)), \"\")","v":""},{"$f":"_xlfn.IFNA(IF(VLOOKUP(B56,_!$A$7:$E$210,4,FALSE)=0, \"\",VLOOKUP(B56,_!$A$7:$E$210,4,FALSE)), \"\")","v":""},{"$f":"_xlfn.IFNA(IF(VLOOKUP(B56,_!$A$7:$E$210,5,FALSE)=0,\"\",VLOOKUP(B56,_!$A$7:$E$210,5,FALSE)), \"\")","v":""}]
[null,"\nHighest hazard level for each ‘Uptake Route’\n",null,null,{"$f":"_xlfn.IFNA(IF((INDEX(E47:E56,MATCH(\"E\",E47:E56,0)))=\"E\",\"E\",\"\"),_xlfn.IFNA(IF((INDEX(E47:E56,MATCH(\"D\",E47:E56,0)))=\"D\",\"D\",\"\"),_xlfn.IFNA(IF((INDEX(E47:E56,MATCH(\"Ca\",E47:E56,0)))=\"Ca\",\"C\",\"\"),_xlfn.IFNA(IF((INDEX(E47:E56,MATCH(\"C\",E47:E56,0)))=\"C\",\"C\",\"\"),_xlfn.IFNA(IF((INDEX(E47:E56,MATCH(\"B\",E47:E56,0)))=\"B\",\"B\",\"\"),_xlfn.IFNA(IF((INDEX(E47:E56,MATCH(\"A\",E47:E56,0)))=\"A\",\"A\",\"\"),_xlfn.IFNA(IF((INDEX(E47:E56,MATCH(\"n.a.\",E47:E56,0)))=\"n.a.\",\"\",\"\"),_xlfn.IFNA(IF((INDEX(E47:E56,MATCH(\"\",E47:E56,0)))=\"\",\"\",\"\"),\"\"))))))))","v":""},{"$f":"_xlfn.IFNA(IF((INDEX(F47:F56,MATCH(\"E\",F47:F56,0)))=\"E\",\"E\",\"\"),_xlfn.IFNA(IF((INDEX(F47:F56,MATCH(\"D (E)c\",F47:F56,0)))=\"D (E)c\",\"D (E)c\",\"\"),_xlfn.IFNA(IF((INDEX(F47:F56,MATCH(\"Da (E)c\",F47:F56,0)))=\"Da (E)c\",\"D (E)c\",\"\"),_xlfn.IFNA(IF((INDEX(F47:F56,MATCH(\"D\",F47:F56,0)))=\"D\",\"D\",\"\"),_xlfn.IFNA(IF((INDEX(F47:F56,MATCH(\"Ca\",F47:F56,0)))=\"Ca\",\"C\",\"\"),_xlfn.IFNA(IF((INDEX(F47:F56,MATCH(\"C\",F47:F56,0)))=\"C\",\"C\",\"\"),_xlfn.IFNA(IF((INDEX(F47:F56,MATCH(\"Ba\",F47:F56,0)))=\"Ba\",\"B\",\"\"),_xlfn.IFNA(IF((INDEX(F47:F56,MATCH(\"B\",F47:F56,0)))=\"B\",\"B\",\"\"),_xlfn.IFNA(IF((INDEX(F47:F56,MATCH(\"Aa\",F47:F56,0)))=\"Aa\",\"A\",\"\"),_xlfn.IFNA(IF((INDEX(F47:F56,MATCH(\"A\",F47:F56,0)))=\"A\",\"A\",\"\"),_xlfn.IFNA(IF((INDEX(F47:F56,MATCH(\"n.a.\",F47:F56,0)))=\"n.a.\",\"\",\"\"),_xlfn.IFNA(IF((INDEX(F47:F56,MATCH(\"\",F47:F56,0)))=\"\",\"\",\"\"),\"\"))))))))))))","v":""},{"$f":"_xlfn.IFNA(IF((INDEX(G47:G56,MATCH(\"E\",G47:G56,0)))=\"E\",\"E\",\"\"),_xlfn.IFNA(IF((INDEX(G47:G56,MATCH(\"D\",G47:G56,0)))=\"D\",\"D\",\"\"),_xlfn.IFNA(IF((INDEX(G47:G56,MATCH(\"Ca\",G47:G56,0)))=\"Ca\",\"C\",\"\"),_xlfn.IFNA(IF((INDEX(G47:G56,MATCH(\"C\",G47:G56,0)))=\"C\",\"C\",\"\"),_xlfn.IFNA(IF((INDEX(G47:G56,MATCH(\"B\",G47:G56,0)))=\"B\",\"B\",\"\"),_xlfn.IFNA(IF((INDEX(G47:G56,MATCH(\"A\",G47:G56,0)))=\"A\",\"A\",\"\"),_xlfn.IFNA(IF((INDEX(G47:G56,MATCH(\"n.a.\",G47:G56,0)))=\"n.a.\",\"\",\"\"),_xlfn.IFNA(IF((INDEX(G47:G56,MATCH(\"\",G47:G56,0)))=\"\",\"\",\"\"),\"\"))))))))","v":""},{"$f":"_xlfn.IFNA(IF((INDEX(H47:H56,MATCH(\"E\",H47:H56,0)))=\"E\",\"E\",\"\"),_xlfn.IFNA(IF((INDEX(H47:H56,MATCH(\"D (E)c\",H47:H56,0)))=\"D (E)c\",\"D (E)c\",\"\"),_xlfn.IFNA(IF((INDEX(H47:H56,MATCH(\"Db (E)c\",H47:H56,0)))=\"Db (E)c\",\"D (E)c\",\"\"),_xlfn.IFNA(IF((INDEX(H47:H56,MATCH(\"D\",H47:H56,0)))=\"D\",\"D\",\"\"),_xlfn.IFNA(IF((INDEX(H47:H56,MATCH(\"Cb\",H47:H56,0)))=\"Cb\",\"C\",\"\"),_xlfn.IFNA(IF((INDEX(H47:H56,MATCH(\"C\",H47:H56,0)))=\"C\",\"C\",\"\"),_xlfn.IFNA(IF((INDEX(H47:H56,MATCH(\"Bb\",H47:H56,0)))=\"Bb\",\"B\",\"\"),_xlfn.IFNA(IF((INDEX(H47:H56,MATCH(\"B\",H47:H56,0)))=\"B\",\"B\",\"\"),_xlfn.IFNA(IF((INDEX(H47:H56,MATCH(\"Ab\",H47:H56,0)))=\"Ab\",\"A\",\"\"),_xlfn.IFNA(IF((INDEX(H47:H56,MATCH(\"A\",H47:H56,0)))=\"A\",\"A\",\"\"),_xlfn.IFNA(IF((INDEX(H47:H56,MATCH(\"n.a.\",H47:H56,0)))=\"n.a.\",\"\",\"\"),_xlfn.IFNA(IF((INDEX(H47:H56,MATCH(\"\",H47:H56,0)))=\"\",\"\",\"\"),\"\"))))))))))))","v":""}]
[null,"\nHighest hazard level for all 'Uptake Routes' \n",null,null,{"$f":"_xlfn.IFNA(IF((INDEX(E57:H57,MATCH(\"E\",E57:H57,0)))=\"E\",\"E\",\"\"),_xlfn.IFNA(IF((INDEX(E57:H57,MATCH(\"D (E)c\",E57:H57,0)))=\"D (E)c\",\"D (E)\",\"\"),_xlfn.IFNA(IF((INDEX(E57:H57,MATCH(\"D\",E57:H57,0)))=\"D\",\"D\",\"\"),_xlfn.IFNA(IF((INDEX(E57:H57,MATCH(\"C\",E57:H57,0)))=\"C\",\"C\",\"\"),_xlfn.IFNA(IF((INDEX(E57:H57,MATCH(\"B\",E57:H57,0)))=\"B\",\"B\",\"\"),_xlfn.IFNA(IF((INDEX(E57:H57,MATCH(\"A\",E57:H57,0)))=\"A\",\"A\",\"\"),_xlfn.IFNA(IF((INDEX(E57:H57,MATCH(\"n.a.\",E57:H57,0)))=\"n.a.\",\"\",\"\"),_xlfn.IFNA(IF((INDEX(E57:H57,MATCH(\"\",E57:H57,0)))=\"\",\"\",\"\"),\"\"))))))))","v":""}]
[]
[]
[null,"\nStep 3: D(E) Assessment\nSkip this step if \nyour assessment above does not reveal a D(E) hazard level.\nHover over this cell for additional instructions.\n",null,null,"\nOverall hazard level\n",null,{"$f":"IF(AND(E58=\"\",C44=\"Yes\")=TRUE,\"B\",IF(E58=\"\",\"\",(IF(AND(E58=\"D (E)\",C61=\"\"),\"D (E)\"&CHAR(10)&\"Find if cat. 1 acute tox.\",(IF(E58<>\"D (E)\",E58,(IF(AND(E58=\"D (E)\",C61=\"Yes\"),\"E\",(IF(AND(E58=\"D (E)\",C61=\"No\"),\"D\",\"\"))))))))))","v":""}]
[]
[{"$f":"IF(IF(MOD(ROWS(B$3:B63),20)=1,INDEX('Summary Sheet'!$A$17:$A174,INT(ROWS(B$3:B63)/20)+1),\"\")=0,\"\",IF(MOD(ROWS(B$3:B63),20)=1,INDEX('Summary Sheet'!$A$17:$A174,INT(ROWS(B$3:B63)/20)+1),\"\"))","v":4},"Hazard Level Assessment","for",{"$f":"IF(IF(MOD(ROWS(D$3:D63),20)=1,INDEX('Summary Sheet'!$B$17:$B174,INT(ROWS(D$3:D63)/20)+1),\"\")=0,\"\",IF(MOD(ROWS(D$3:D63),20)=1,INDEX('Summary Sheet'!$B$17:$B174,INT(ROWS(D$3:D63)/20)+1),\"\"))","v":""}]
[null,"\nStep 1: Physical & Environmental Hazard Statements/Codes\nFind Section 2 of the SDS and determine if the SDS has physical and/or environmental hazard statements/codes. Hover on this cell for additional instructions.\n",null,{"$f":"IF(IF(MOD(ROWS(D$3:D64),20)=1,INDEX('Summary Sheet'!$B$17:$B174,INT(ROWS(D$3:D64)/20)+1),\"\")=0,\"\",IF(MOD(ROWS(D$3:D64),20)=1,INDEX('Summary Sheet'!$B$17:$B174,INT(ROWS(D$3:D64)/20)+1),\"\"))","v":""}]
[null,"Step 2: Health Hazard Statements/Codes\nProvide the Health Hazard Statements or Codes from Section 2 of the SDS below. Hover on this cell for additional instructions.",null,{"$f":"IF(IF(MOD(ROWS(D$3:D65),20)=1,INDEX('Summary Sheet'!$B$17:$B174,INT(ROWS(D$3:D65)/20)+1),\"\")=0,\"\",IF(MOD(ROWS(D$3:D65),20)=1,INDEX('Summary Sheet'!$B$17:$B174,INT(ROWS(D$3:D65)/20)+1),\"\"))","v":""},"\nHazard Level\n"]
[null,null,null,{"$f":"IF(IF(MOD(ROWS(D$3:D66),20)=1,INDEX('Summary Sheet'!$B$17:$B174,INT(ROWS(D$3:D66)/20)+1),\"\")=0,\"\",IF(MOD(ROWS(D$3:D66),20)=1,INDEX('Summary Sheet'!$B$17:$B174,INT(ROWS(D$3:D66)/20)+1),\"\"))","v":""},"\nEye Damage\n","\nInhalation\n","\nLocal Skin Damage\n","\nSkin uptake, systemic\n"]
[1,null,{"$f":"_xlfn.IFNA(VLOOKUP(B67,_!$A$7:$F$210,6,FALSE),\"\")","v":""},{"$f":"IF(IF(MOD(ROWS(D$3:D67),20)=1,INDEX('Summary Sheet'!$B$17:$B174,INT(ROWS(D$3:D67)/20)+1),\"\")=0,\"\",IF(MOD(ROWS(D$3:D67),20)=1,INDEX('Summary Sheet'!$B$17:$B174,INT(ROWS(D$3:D67)/20)+1),\"\"))","v":""},{"$f":"_xlfn.IFNA(IF(VLOOKUP(B67,_!$A$7:$E$210,2,FALSE)=0, \"\", VLOOKUP(B67,_!$A$7:$E$210,2,FALSE)),  \"\")","v":""},{"$f":"_xlfn.IFNA(IF(VLOOKUP(B67,_!$A$7:$E$210,3,FALSE)=0, \"\", VLOOKUP(B67,_!$A$7:$E$210,3,FALSE)), \"\")","v":""},{"$f":"_xlfn.IFNA(IF(VLOOKUP(B67,_!$A$7:$E$210,4,FALSE)=0, \"\",VLOOKUP(B67,_!$A$7:$E$210,4,FALSE)), \"\")","v":""},{"$f":"_xlfn.IFNA(IF(VLOOKUP(B67,_!$A$7:$E$210,5,FALSE)=0,\"\",VLOOKUP(B67,_!$A$7:$E$210,5,FALSE)), \"\")","v":""}]
[2,null,{"$f":"_xlfn.IFNA(VLOOKUP(B68,_!$A$7:$F$210,6,FALSE),\"\")","v":""},{"$f":"IF(IF(MOD(ROWS(D$3:D68),20)=1,INDEX('Summary Sheet'!$B$17:$B174,INT(ROWS(D$3:D68)/20)+1),\"\")=0,\"\",IF(MOD(ROWS(D$3:D68),20)=1,INDEX('Summary Sheet'!$B$17:$B174,INT(ROWS(D$3:D68)/20)+1),\"\"))","v":""},{"$f":"_xlfn.IFNA(IF(VLOOKUP(B68,_!$A$7:$E$210,2,FALSE)=0, \"\", VLOOKUP(B68,_!$A$7:$E$210,2,FALSE)),  \"\")","v":""},{"$f":"_xlfn.IFNA(IF(VLOOKUP(B68,_!$A$7:$E$210,3,FALSE)=0, \"\", VLOOKUP(B68,_!$A$7:$E$210,3,FALSE)), \"\")","v":""},{"$f":"_xlfn.IFNA(IF(VLOOKUP(B68,_!$A$7:$E$210,4,FALSE)=0, \"\",VLOOKUP(B68,_!$A$7:$E$210,4,FALSE)), \"\")","v":""},{"$f":"_xlfn.IFNA(IF(VLOOKUP(B68,_!$A$7:$E$210,5,FALSE)=0,\"\",VLOOKUP(B68,_!$A$7:$E$210,5,FALSE)), \"\")","v":""}]
[3,null,{"$f":"_xlfn.IFNA(VLOOKUP(B69,_!$A$7:$F$210,6,FALSE),\"\")","v":""},{"$f":"IF(IF(MOD(ROWS(D$3:D69),20)=1,INDEX('Summary Sheet'!$B$17:$B174,INT(ROWS(D$3:D69)/20)+1),\"\")=0,\"\",IF(MOD(ROWS(D$3:D69),20)=1,INDEX('Summary Sheet'!$B$17:$B174,INT(ROWS(D$3:D69)/20)+1),\"\"))","v":""},{"$f":"_xlfn.IFNA(IF(VLOOKUP(B69,_!$A$7:$E$210,2,FALSE)=0, \"\", VLOOKUP(B69,_!$A$7:$E$210,2,FALSE)),  \"\")","v":""},{"$f":"_xlfn.IFNA(IF(VLOOKUP(B69,_!$A$7:$E$210,3,FALSE)=0, \"\", VLOOKUP(B69,_!$A$7:$E$210,3,FALSE)), \"\")","v":""},{"$f":"_xlfn.IFNA(IF(VLOOKUP(B69,_!$A$7:$E$210,4,FALSE)=0, \"\",VLOOKUP(B69,_!$A$7:$E$210,4,FALSE)), \"\")","v":""},{"$f":"_xlfn.IFNA(IF(VLOOKUP(B69,_!$A$7:$E$210,5,FALSE)=0,\"\",VLOOKUP(B69,_!$A$7:$E$210,5,FALSE)), \"\")","v":""}]
[4,null,{"$f":"_xlfn.IFNA(VLOOKUP(B70,_!$A$7:$F$210,6,FALSE),\"\")","v":""},{"$f":"IF(IF(MOD(ROWS(D$3:D70),20)=1,INDEX('Summary Sheet'!$B$17:$B174,INT(ROWS(D$3:D70)/20)+1),\"\")=0,\"\",IF(MOD(ROWS(D$3:D70),20)=1,INDEX('Summary Sheet'!$B$17:$B174,INT(ROWS(D$3:D70)/20)+1),\"\"))","v":""},{"$f":"_xlfn.IFNA(IF(VLOOKUP(B70,_!$A$7:$E$210,2,FALSE)=0, \"\", VLOOKUP(B70,_!$A$7:$E$210,2,FALSE)),  \"\")","v":""},{"$f":"_xlfn.IFNA(IF(VLOOKUP(B70,_!$A$7:$E$210,3,FALSE)=0, \"\", VLOOKUP(B70,_!$A$7:$E$210,3,FALSE)), \"\")","v":""},{"$f":"_xlfn.IFNA(IF(VLOOKUP(B70,_!$A$7:$E$210,4,FALSE)=0, \"\",VLOOKUP(B70,_!$A$7:$E$210,4,FALSE)), \"\")","v":""},{"$f":"_xlfn.IFNA(IF(VLOOKUP(B70,_!$A$7:$E$210,5,FALSE)=0,\"\",VLOOKUP(B70,_!$A$7:$E$210,5,FALSE)), \"\")","v":""}]
[5,null,{"$f":"_xlfn.IFNA(VLOOKUP(B71,_!$A$7:$F$210,6,FALSE),\"\")","v":""},{"$f":"IF(IF(MOD(ROWS(D$3:D71),20)=1,INDEX('Summary Sheet'!$B$17:$B174,INT(ROWS(D$3:D71)/20)+1),\"\")=0,\"\",IF(MOD(ROWS(D$3:D71),20)=1,INDEX('Summary Sheet'!$B$17:$B174,INT(ROWS(D$3:D71)/20)+1),\"\"))","v":""},{"$f":"_xlfn.IFNA(IF(VLOOKUP(B71,_!$A$7:$E$210,2,FALSE)=0, \"\", VLOOKUP(B71,_!$A$7:$E$210,2,FALSE)),  \"\")","v":""},{"$f":"_xlfn.IFNA(IF(VLOOKUP(B71,_!$A$7:$E$210,3,FALSE)=0, \"\", VLOOKUP(B71,_!$A$7:$E$210,3,FALSE)), \"\")","v":""},{"$f":"_xlfn.IFNA(IF(VLOOKUP(B71,_!$A$7:$E$210,4,FALSE)=0, \"\",VLOOKUP(B71,_!$A$7:$E$210,4,FALSE)), \"\")","v":""},{"$f":"_xlfn.IFNA(IF(VLOOKUP(B71,_!$A$7:$E$210,5,FALSE)=0,\"\",VLOOKUP(B71,_!$A$7:$E$210,5,FALSE)), \"\")","v":""}]
[6,null,{"$f":"_xlfn.IFNA(VLOOKUP(B72,_!$A$7:$F$210,6,FALSE),\"\")","v":""},{"$f":"IF(IF(MOD(ROWS(D$3:D72),20)=1,INDEX('Summary Sheet'!$B$17:$B174,INT(ROWS(D$3:D72)/20)+1),\"\")=0,\"\",IF(MOD(ROWS(D$3:D72),20)=1,INDEX('Summary Sheet'!$B$17:$B174,INT(ROWS(D$3:D72)/20)+1),\"\"))","v":""},{"$f":"_xlfn.IFNA(IF(VLOOKUP(B72,_!$A$7:$E$210,2,FALSE)=0, \"\", VLOOKUP(B72,_!$A$7:$E$210,2,FALSE)),  \"\")","v":""},{"$f":"_xlfn.IFNA(IF(VLOOKUP(B72,_!$A$7:$E$210,3,FALSE)=0, \"\", VLOOKUP(B72,_!$A$7:$E$210,3,FALSE)), \"\")","v":""},{"$f":"_xlfn.IFNA(IF(VLOOKUP(B72,_!$A$7:$E$210,4,FALSE)=0, \"\",VLOOKUP(B72,_!$A$7:$E$210,4,FALSE)), \"\")","v":""},{"$f":"_xlfn.IFNA(IF(VLOOKUP(B72,_!$A$7:$E$210,5,FALSE)=0,\"\",VLOOKUP(B72,_!$A$7:$E$210,5,FALSE)), \"\")","v":""}]
[7,null,{"$f":"_xlfn.IFNA(VLOOKUP(B73,_!$A$7:$F$210,6,FALSE),\"\")","v":""},{"$f":"IF(IF(MOD(ROWS(D$3:D73),20)=1,INDEX('Summary Sheet'!$B$17:$B174,INT(ROWS(D$3:D73)/20)+1),\"\")=0,\"\",IF(MOD(ROWS(D$3:D73),20)=1,INDEX('Summary Sheet'!$B$17:$B174,INT(ROWS(D$3:D73)/20)+1),\"\"))","v":""},{"$f":"_xlfn.IFNA(IF(VLOOKUP(B73,_!$A$7:$E$210,2,FALSE)=0, \"\", VLOOKUP(B73,_!$A$7:$E$210,2,FALSE)),  \"\")","v":""},{"$f":"_xlfn.IFNA(IF(VLOOKUP(B73,_!$A$7:$E$210,3,FALSE)=0, \"\", VLOOKUP(B73,_!$A$7:$E$210,3,FALSE)), \"\")","v":""},{"$f":"_xlfn.IFNA(IF(VLOOKUP(B73,_!$A$7:$E$210,4,FALSE)=0, \"\",VLOOKUP(B73,_!$A$7:$E$210,4,FALSE)), \"\")","v":""},{"$f":"_xlfn.IFNA(IF(VLOOKUP(B73,_!$A$7:$E$210,5,FALSE)=0,\"\",VLOOKUP(B73,_!$A$7:$E$210,5,FALSE)), \"\")","v":""}]
[8,null,{"$f":"_xlfn.IFNA(VLOOKUP(B74,_!$A$7:$F$210,6,FALSE),\"\")","v":""},{"$f":"IF(IF(MOD(ROWS(D$3:D74),20)=1,INDEX('Summary Sheet'!$B$17:$B174,INT(ROWS(D$3:D74)/20)+1),\"\")=0,\"\",IF(MOD(ROWS(D$3:D74),20)=1,INDEX('Summary Sheet'!$B$17:$B174,INT(ROWS(D$3:D74)/20)+1),\"\"))","v":""},{"$f":"_xlfn.IFNA(IF(VLOOKUP(B74,_!$A$7:$E$210,2,FALSE)=0, \"\", VLOOKUP(B74,_!$A$7:$E$210,2,FALSE)),  \"\")","v":""},{"$f":"_xlfn.IFNA(IF(VLOOKUP(B74,_!$A$7:$E$210,3,FALSE)=0, \"\", VLOOKUP(B74,_!$A$7:$E$210,3,FALSE)), \"\")","v":""},{"$f":"_xlfn.IFNA(IF(VLOOKUP(B74,_!$A$7:$E$210,4,FALSE)=0, \"\",VLOOKUP(B74,_!$A$7:$E$210,4,FALSE)), \"\")","v":""},{"$f":"_xlfn.IFNA(IF(VLOOKUP(B74,_!$A$7:$E$210,5,FALSE)=0,\"\",VLOOKUP(B74,_!$A$7:$E$210,5,FALSE)), \"\")","v":""}]
[9,null,{"$f":"_xlfn.IFNA(VLOOKUP(B75,_!$A$7:$F$210,6,FALSE),\"\")","v":""},{"$f":"IF(IF(MOD(ROWS(D$3:D75),20)=1,INDEX('Summary Sheet'!$B$17:$B174,INT(ROWS(D$3:D75)/20)+1),\"\")=0,\"\",IF(MOD(ROWS(D$3:D75),20)=1,INDEX('Summary Sheet'!$B$17:$B174,INT(ROWS(D$3:D75)/20)+1),\"\"))","v":""},{"$f":"_xlfn.IFNA(IF(VLOOKUP(B75,_!$A$7:$E$210,2,FALSE)=0, \"\", VLOOKUP(B75,_!$A$7:$E$210,2,FALSE)),  \"\")","v":""},{"$f":"_xlfn.IFNA(IF(VLOOKUP(B75,_!$A$7:$E$210,3,FALSE)=0, \"\", VLOOKUP(B75,_!$A$7:$E$210,3,FALSE)), \"\")","v":""},{"$f":"_xlfn.IFNA(IF(VLOOKUP(B75,_!$A$7:$E$210,4,FALSE)=0, \"\",VLOOKUP(B75,_!$A$7:$E$210,4,FALSE)), \"\")","v":""},{"$f":"_xlfn.IFNA(IF(VLOOKUP(B75,_!$A$7:$E$210,5,FALSE)=0,\"\",VLOOKUP(B75,_!$A$7:$E$210,5,FALSE)), \"\")","v":""}]
[10,null,{"$f":"_xlfn.IFNA(VLOOKUP(B76,_!$A$7:$F$210,6,FALSE),\"\")","v":""},{"$f":"IF(IF(MOD(ROWS(D$14:D76),20)=1,INDEX('Summary Sheet'!$B$17:$B174,INT(ROWS(D$14:D76)/20)+1),\"\")=0,\"\",IF(MOD(ROWS(D$14:D76),20)=1,INDEX('Summary Sheet'!$B$17:$B174,INT(ROWS(D$14:D76)/20)+1),\"\"))","v":""},{"$f":"_xlfn.IFNA(IF(VLOOKUP(B76,_!$A$7:$E$210,2,FALSE)=0, \"\", VLOOKUP(B76,_!$A$7:$E$210,2,FALSE)),  \"\")","v":""},{"$f":"_xlfn.IFNA(IF(VLOOKUP(B76,_!$A$7:$E$210,3,FALSE)=0, \"\", VLOOKUP(B76,_!$A$7:$E$210,3,FALSE)), \"\")","v":""},{"$f":"_xlfn.IFNA(IF(VLOOKUP(B76,_!$A$7:$E$210,4,FALSE)=0, \"\",VLOOKUP(B76,_!$A$7:$E$210,4,FALSE)), \"\")","v":""},{"$f":"_xlfn.IFNA(IF(VLOOKUP(B76,_!$A$7:$E$210,5,FALSE)=0,\"\",VLOOKUP(B76,_!$A$7:$E$210,5,FALSE)), \"\")","v":""}]
[null,"\nHighest hazard level for each ‘Uptake Route’\n",null,null,{"$f":"_xlfn.IFNA(IF((INDEX(E67:E76,MATCH(\"E\",E67:E76,0)))=\"E\",\"E\",\"\"),_xlfn.IFNA(IF((INDEX(E67:E76,MATCH(\"D\",E67:E76,0)))=\"D\",\"D\",\"\"),_xlfn.IFNA(IF((INDEX(E67:E76,MATCH(\"Ca\",E67:E76,0)))=\"Ca\",\"C\",\"\"),_xlfn.IFNA(IF((INDEX(E67:E76,MATCH(\"C\",E67:E76,0)))=\"C\",\"C\",\"\"),_xlfn.IFNA(IF((INDEX(E67:E76,MATCH(\"B\",E67:E76,0)))=\"B\",\"B\",\"\"),_xlfn.IFNA(IF((INDEX(E67:E76,MATCH(\"A\",E67:E76,0)))=\"A\",\"A\",\"\"),_xlfn.IFNA(IF((INDEX(E67:E76,MATCH(\"n.a.\",E67:E76,0)))=\"n.a.\",\"\",\"\"),_xlfn.IFNA(IF((INDEX(E67:E76,MATCH(\"\",E67:E76,0)))=\"\",\"\",\"\"),\"\"))))))))","v":""},{"$f":"_xlfn.IFNA(IF((INDEX(F67:F76,MATCH(\"E\",F67:F76,0)))=\"E\",\"E\",\"\"),_xlfn.IFNA(IF((INDEX(F67:F76,MATCH(\"D (E)c\",F67:F76,0)))=\"D (E)c\",\"D (E)c\",\"\"),_xlfn.IFNA(IF((INDEX(F67:F76,MATCH(\"Da (E)c\",F67:F76,0)))=\"Da (E)c\",\"D (E)c\",\"\"),_xlfn.IFNA(IF((INDEX(F67:F76,MATCH(\"D\",F67:F76,0)))=\"D\",\"D\",\"\"),_xlfn.IFNA(IF((INDEX(F67:F76,MATCH(\"Ca\",F67:F76,0)))=\"Ca\",\"C\",\"\"),_xlfn.IFNA(IF((INDEX(F67:F76,MATCH(\"C\",F67:F76,0)))=\"C\",\"C\",\"\"),_xlfn.IFNA(IF((INDEX(F67:F76,MATCH(\"Ba\",F67:F76,0)))=\"Ba\",\"B\",\"\"),_xlfn.IFNA(IF((INDEX(F67:F76,MATCH(\"B\",F67:F76,0)))=\"B\",\"B\",\"\"),_xlfn.IFNA(IF((INDEX(F67:F76,MATCH(\"Aa\",F67:F76,0)))=\"Aa\",\"A\",\"\"),_xlfn.IFNA(IF((INDEX(F67:F76,MATCH(\"A\",F67:F76,0)))=\"A\",\"A\",\"\"),_xlfn.IFNA(IF((INDEX(F67:F76,MATCH(\"n.a.\",F67:F76,0)))=\"n.a.\",\"\",\"\"),_xlfn.IFNA(IF((INDEX(F67:F76,MATCH(\"\",F67:F76,0)))=\"\",\"\",\"\"),\"\"))))))))))))","v":""},{"$f":"_xlfn.IFNA(IF((INDEX(G67:G76,MATCH(\"E\",G67:G76,0)))=\"E\",\"E\",\"\"),_xlfn.IFNA(IF((INDEX(G67:G76,MATCH(\"D\",G67:G76,0)))=\"D\",\"D\",\"\"),_xlfn.IFNA(IF((INDEX(G67:G76,MATCH(\"Ca\",G67:G76,0)))=\"Ca\",\"C\",\"\"),_xlfn.IFNA(IF((INDEX(G67:G76,MATCH(\"C\",G67:G76,0)))=\"C\",\"C\",\"\"),_xlfn.IFNA(IF((INDEX(G67:G76,MATCH(\"B\",G67:G76,0)))=\"B\",\"B\",\"\"),_xlfn.IFNA(IF((INDEX(G67:G76,MATCH(\"A\",G67:G76,0)))=\"A\",\"A\",\"\"),_xlfn.IFNA(IF((INDEX(G67:G76,MATCH(\"n.a.\",G67:G76,0)))=\"n.a.\",\"\",\"\"),_xlfn.IFNA(IF((INDEX(G67:G76,MATCH(\"\",G67:G76,0)))=\"\",\"\",\"\"),\"\"))))))))","v":""},{"$f":"_xlfn.IFNA(IF((INDEX(H67:H76,MATCH(\"E\",H67:H76,0)))=\"E\",\"E\",\"\"),_xlfn.IFNA(IF((INDEX(H67:H76,MATCH(\"D (E)c\",H67:H76,0)))=\"D (E)c\",\"D (E)c\",\"\"),_xlfn.IFNA(IF((INDEX(H67:H76,MATCH(\"Db (E)c\",H67:H76,0)))=\"Db (E)c\",\"D (E)c\",\"\"),_xlfn.IFNA(IF((INDEX(H67:H76,MATCH(\"D\",H67:H76,0)))=\"D\",\"D\",\"\"),_xlfn.IFNA(IF((INDEX(H67:H76,MATCH(\"Cb\",H67:H76,0)))=\"Cb\",\"C\",\"\"),_xlfn.IFNA(IF((INDEX(H67:H76,MATCH(\"C\",H67:H76,0)))=\"C\",\"C\",\"\"),_xlfn.IFNA(IF((INDEX(H67:H76,MATCH(\"Bb\",H67:H76,0)))=\"Bb\",\"B\",\"\"),_xlfn.IFNA(IF((INDEX(H67:H76,MATCH(\"B\",H67:H76,0)))=\"B\",\"B\",\"\"),_xlfn.IFNA(IF((INDEX(H67:H76,MATCH(\"Ab\",H67:H76,0)))=\"Ab\",\"A\",\"\"),_xlfn.IFNA(IF((INDEX(H67:H76,MATCH(\"A\",H67:H76,0)))=\"A\",\"A\",\"\"),_xlfn.IFNA(IF((INDEX(H67:H76,MATCH(\"n.a.\",H67:H76,0)))=\"n.a.\",\"\",\"\"),_xlfn.IFNA(IF((INDEX(H67:H76,MATCH(\"\",H67:H76,0)))=\"\",\"\",\"\"),\"\"))))))))))))","v":""}]
[null,"\nHighest hazard level for all 'Uptake Routes' \n",null,null,{"$f":"_xlfn.IFNA(IF((INDEX(E77:H77,MATCH(\"E\",E77:H77,0)))=\"E\",\"E\",\"\"),_xlfn.IFNA(IF((INDEX(E77:H77,MATCH(\"D (E)c\",E77:H77,0)))=\"D (E)c\",\"D (E)\",\"\"),_xlfn.IFNA(IF((INDEX(E77:H77,MATCH(\"D\",E77:H77,0)))=\"D\",\"D\",\"\"),_xlfn.IFNA(IF((INDEX(E77:H77,MATCH(\"C\",E77:H77,0)))=\"C\",\"C\",\"\"),_xlfn.IFNA(IF((INDEX(E77:H77,MATCH(\"B\",E77:H77,0)))=\"B\",\"B\",\"\"),_xlfn.IFNA(IF((INDEX(E77:H77,MATCH(\"A\",E77:H77,0)))=\"A\",\"A\",\"\"),_xlfn.IFNA(IF((INDEX(E77:H77,MATCH(\"n.a.\",E77:H77,0)))=\"n.a.\",\"\",\"\"),_xlfn.IFNA(IF((INDEX(E77:H77,MATCH(\"\",E77:H77,0)))=\"\",\"\",\"\"),\"\"))))))))","v":""}]
[]
[]
[null,"\nStep 3: D(E) Assessment\nSkip this step if \nyour assessment above does not reveal a D(E) hazard level.\nHover over this cell for additional instructions.\n",null,null,"\nOverall hazard level\n",null,{"$f":"IF(AND(E78=\"\",C64=\"Yes\")=TRUE,\"B\",IF(E78=\"\",\"\",(IF(AND(E78=\"D (E)\",C81=\"\"),\"D (E)\"&CHAR(10)&\"Find if cat. 1 acute tox.\",(IF(E78<>\"D (E)\",E78,(IF(AND(E78=\"D (E)\",C81=\"Yes\"),\"E\",(IF(AND(E78=\"D (E)\",C81=\"No\"),\"D\",\"\"))))))))))","v":""}]
[]
[{"$f":"IF(IF(MOD(ROWS(B$3:B83),20)=1,INDEX('Summary Sheet'!$A$17:$A193,INT(ROWS(B$3:B83)/20)+1),\"\")=0,\"\",IF(MOD(ROWS(B$3:B83),20)=1,INDEX('Summary Sheet'!$A$17:$A193,INT(ROWS(B$3:B83)/20)+1),\"\"))","v":5},"Hazard Level Assessment","for",{"$f":"IF(IF(MOD(ROWS(D$3:D83),20)=1,INDEX('Summary Sheet'!$B$17:$B193,INT(ROWS(D$3:D83)/20)+1),\"\")=0,\"\",IF(MOD(ROWS(D$3:D83),20)=1,INDEX('Summary Sheet'!$B$17:$B193,INT(ROWS(D$3:D83)/20)+1),\"\"))","v":""}]
[null,"\nStep 1: Physical & Environmental Hazard Statements/Codes\nFind Section 2 of the SDS and determine if the SDS has physical and/or environmental hazard statements/codes. Hover on this cell for additional instructions.\n",null,{"$f":"IF(IF(MOD(ROWS(D$3:D84),20)=1,INDEX('Summary Sheet'!$B$17:$B193,INT(ROWS(D$3:D84)/20)+1),\"\")=0,\"\",IF(MOD(ROWS(D$3:D84),20)=1,INDEX('Summary Sheet'!$B$17:$B193,INT(ROWS(D$3:D84)/20)+1),\"\"))","v":""}]
[null,"Step 2: Health Hazard Statements/Codes\nProvide the Health Hazard Statements or Codes from Section 2 of the SDS below. Hover on this cell for additional instructions.",null,{"$f":"IF(IF(MOD(ROWS(D$3:D85),20)=1,INDEX('Summary Sheet'!$B$17:$B193,INT(ROWS(D$3:D85)/20)+1),\"\")=0,\"\",IF(MOD(ROWS(D$3:D85),20)=1,INDEX('Summary Sheet'!$B$17:$B193,INT(ROWS(D$3:D85)/20)+1),\"\"))","v":""},"\nHazard Level\n"]
[null,null,null,{"$f":"IF(IF(MOD(ROWS(D$3:D86),20)=1,INDEX('Summary Sheet'!$B$17:$B193,INT(ROWS(D$3:D86)/20)+1),\"\")=0,\"\",IF(MOD(ROWS(D$3:D86),20)=1,INDEX('Summary Sheet'!$B$17:$B193,INT(ROWS(D$3:D86)/20)+1),\"\"))","v":""},"\nEye Damage\n","\nInhalation\n","\nLocal Skin Damage\n","\nSkin uptake, systemic\n"]
[1,null,{"$f":"_xlfn.IFNA(VLOOKUP(B87,_!$A$7:$F$210,6,FALSE),\"\")","v":""},{"$f":"IF(IF(MOD(ROWS(D$3:D87),20)=1,INDEX('Summary Sheet'!$B$17:$B193,INT(ROWS(D$3:D87)/20)+1),\"\")=0,\"\",IF(MOD(ROWS(D$3:D87),20)=1,INDEX('Summary Sheet'!$B$17:$B193,INT(ROWS(D$3:D87)/20)+1),\"\"))","v":""},{"$f":"_xlfn.IFNA(IF(VLOOKUP(B87,_!$A$7:$E$210,2,FALSE)=0, \"\", VLOOKUP(B87,_!$A$7:$E$210,2,FALSE)),  \"\")","v":""},{"$f":"_xlfn.IFNA(IF(VLOOKUP(B87,_!$A$7:$E$210,3,FALSE)=0, \"\", VLOOKUP(B87,_!$A$7:$E$210,3,FALSE)), \"\")","v":""},{"$f":"_xlfn.IFNA(IF(VLOOKUP(B87,_!$A$7:$E$210,4,FALSE)=0, \"\",VLOOKUP(B87,_!$A$7:$E$210,4,FALSE)), \"\")","v":""},{"$f":"_xlfn.IFNA(IF(VLOOKUP(B87,_!$A$7:$E$210,5,FALSE)=0,\"\",VLOOKUP(B87,_!$A$7:$E$210,5,FALSE)), \"\")","v":""}]
[2,null,{"$f":"_xlfn.IFNA(VLOOKUP(B88,_!$A$7:$F$210,6,FALSE),\"\")","v":""},{"$f":"IF(IF(MOD(ROWS(D$3:D88),20)=1,INDEX('Summary Sheet'!$B$17:$B193,INT(ROWS(D$3:D88)/20)+1),\"\")=0,\"\",IF(MOD(ROWS(D$3:D88),20)=1,INDEX('Summary Sheet'!$B$17:$B193,INT(ROWS(D$3:D88)/20)+1),\"\"))","v":""},{"$f":"_xlfn.IFNA(IF(VLOOKUP(B88,_!$A$7:$E$210,2,FALSE)=0, \"\", VLOOKUP(B88,_!$A$7:$E$210,2,FALSE)),  \"\")","v":""},{"$f":"_xlfn.IFNA(IF(VLOOKUP(B88,_!$A$7:$E$210,3,FALSE)=0, \"\", VLOOKUP(B88,_!$A$7:$E$210,3,FALSE)), \"\")","v":""},{"$f":"_xlfn.IFNA(IF(VLOOKUP(B88,_!$A$7:$E$210,4,FALSE)=0, \"\",VLOOKUP(B88,_!$A$7:$E$210,4,FALSE)), \"\")","v":""},{"$f":"_xlfn.IFNA(IF(VLOOKUP(B88,_!$A$7:$E$210,5,FALSE)=0,\"\",VLOOKUP(B88,_!$A$7:$E$210,5,FALSE)), \"\")","v":""}]
[3,null,{"$f":"_xlfn.IFNA(VLOOKUP(B89,_!$A$7:$F$210,6,FALSE),\"\")","v":""},{"$f":"IF(IF(MOD(ROWS(D$3:D89),20)=1,INDEX('Summary Sheet'!$B$17:$B193,INT(ROWS(D$3:D89)/20)+1),\"\")=0,\"\",IF(MOD(ROWS(D$3:D89),20)=1,INDEX('Summary Sheet'!$B$17:$B193,INT(ROWS(D$3:D89)/20)+1),\"\"))","v":""},{"$f":"_xlfn.IFNA(IF(VLOOKUP(B89,_!$A$7:$E$210,2,FALSE)=0, \"\", VLOOKUP(B89,_!$A$7:$E$210,2,FALSE)),  \"\")","v":""},{"$f":"_xlfn.IFNA(IF(VLOOKUP(B89,_!$A$7:$E$210,3,FALSE)=0, \"\", VLOOKUP(B89,_!$A$7:$E$210,3,FALSE)), \"\")","v":""},{"$f":"_xlfn.IFNA(IF(VLOOKUP(B89,_!$A$7:$E$210,4,FALSE)=0, \"\",VLOOKUP(B89,_!$A$7:$E$210,4,FALSE)), \"\")","v":""},{"$f":"_xlfn.IFNA(IF(VLOOKUP(B89,_!$A$7:$E$210,5,FALSE)=0,\"\",VLOOKUP(B89,_!$A$7:$E$210,5,FALSE)), \"\")","v":""}]
[4,null,{"$f":"_xlfn.IFNA(VLOOKUP(B90,_!$A$7:$F$210,6,FALSE),\"\")","v":""},{"$f":"IF(IF(MOD(ROWS(D$3:D90),20)=1,INDEX('Summary Sheet'!$B$17:$B193,INT(ROWS(D$3:D90)/20)+1),\"\")=0,\"\",IF(MOD(ROWS(D$3:D90),20)=1,INDEX('Summary Sheet'!$B$17:$B193,INT(ROWS(D$3:D90)/20)+1),\"\"))","v":""},{"$f":"_xlfn.IFNA(IF(VLOOKUP(B90,_!$A$7:$E$210,2,FALSE)=0, \"\", VLOOKUP(B90,_!$A$7:$E$210,2,FALSE)),  \"\")","v":""},{"$f":"_xlfn.IFNA(IF(VLOOKUP(B90,_!$A$7:$E$210,3,FALSE)=0, \"\", VLOOKUP(B90,_!$A$7:$E$210,3,FALSE)), \"\")","v":""},{"$f":"_xlfn.IFNA(IF(VLOOKUP(B90,_!$A$7:$E$210,4,FALSE)=0, \"\",VLOOKUP(B90,_!$A$7:$E$210,4,FALSE)), \"\")","v":""},{"$f":"_xlfn.IFNA(IF(VLOOKUP(B90,_!$A$7:$E$210,5,FALSE)=0,\"\",VLOOKUP(B90,_!$A$7:$E$210,5,FALSE)), \"\")","v":""}]
[5,null,{"$f":"_xlfn.IFNA(VLOOKUP(B91,_!$A$7:$F$210,6,FALSE),\"\")","v":""},{"$f":"IF(IF(MOD(ROWS(D$3:D91),20)=1,INDEX('Summary Sheet'!$B$17:$B193,INT(ROWS(D$3:D91)/20)+1),\"\")=0,\"\",IF(MOD(ROWS(D$3:D91),20)=1,INDEX('Summary Sheet'!$B$17:$B193,INT(ROWS(D$3:D91)/20)+1),\"\"))","v":""},{"$f":"_xlfn.IFNA(IF(VLOOKUP(B91,_!$A$7:$E$210,2,FALSE)=0, \"\", VLOOKUP(B91,_!$A$7:$E$210,2,FALSE)),  \"\")","v":""},{"$f":"_xlfn.IFNA(IF(VLOOKUP(B91,_!$A$7:$E$210,3,FALSE)=0, \"\", VLOOKUP(B91,_!$A$7:$E$210,3,FALSE)), \"\")","v":""},{"$f":"_xlfn.IFNA(IF(VLOOKUP(B91,_!$A$7:$E$210,4,FALSE)=0, \"\",VLOOKUP(B91,_!$A$7:$E$210,4,FALSE)), \"\")","v":""},{"$f":"_xlfn.IFNA(IF(VLOOKUP(B91,_!$A$7:$E$210,5,FALSE)=0,\"\",VLOOKUP(B91,_!$A$7:$E$210,5,FALSE)), \"\")","v":""}]
[6,null,{"$f":"_xlfn.IFNA(VLOOKUP(B92,_!$A$7:$F$210,6,FALSE),\"\")","v":""},{"$f":"IF(IF(MOD(ROWS(D$3:D92),20)=1,INDEX('Summary Sheet'!$B$17:$B193,INT(ROWS(D$3:D92)/20)+1),\"\")=0,\"\",IF(MOD(ROWS(D$3:D92),20)=1,INDEX('Summary Sheet'!$B$17:$B193,INT(ROWS(D$3:D92)/20)+1),\"\"))","v":""},{"$f":"_xlfn.IFNA(IF(VLOOKUP(B92,_!$A$7:$E$210,2,FALSE)=0, \"\", VLOOKUP(B92,_!$A$7:$E$210,2,FALSE)),  \"\")","v":""},{"$f":"_xlfn.IFNA(IF(VLOOKUP(B92,_!$A$7:$E$210,3,FALSE)=0, \"\", VLOOKUP(B92,_!$A$7:$E$210,3,FALSE)), \"\")","v":""},{"$f":"_xlfn.IFNA(IF(VLOOKUP(B92,_!$A$7:$E$210,4,FALSE)=0, \"\",VLOOKUP(B92,_!$A$7:$E$210,4,FALSE)), \"\")","v":""},{"$f":"_xlfn.IFNA(IF(VLOOKUP(B92,_!$A$7:$E$210,5,FALSE)=0,\"\",VLOOKUP(B92,_!$A$7:$E$210,5,FALSE)), \"\")","v":""}]
[7,null,{"$f":"_xlfn.IFNA(VLOOKUP(B93,_!$A$7:$F$210,6,FALSE),\"\")","v":""},{"$f":"IF(IF(MOD(ROWS(D$3:D93),20)=1,INDEX('Summary Sheet'!$B$17:$B193,INT(ROWS(D$3:D93)/20)+1),\"\")=0,\"\",IF(MOD(ROWS(D$3:D93),20)=1,INDEX('Summary Sheet'!$B$17:$B193,INT(ROWS(D$3:D93)/20)+1),\"\"))","v":""},{"$f":"_xlfn.IFNA(IF(VLOOKUP(B93,_!$A$7:$E$210,2,FALSE)=0, \"\", VLOOKUP(B93,_!$A$7:$E$210,2,FALSE)),  \"\")","v":""},{"$f":"_xlfn.IFNA(IF(VLOOKUP(B93,_!$A$7:$E$210,3,FALSE)=0, \"\", VLOOKUP(B93,_!$A$7:$E$210,3,FALSE)), \"\")","v":""},{"$f":"_xlfn.IFNA(IF(VLOOKUP(B93,_!$A$7:$E$210,4,FALSE)=0, \"\",VLOOKUP(B93,_!$A$7:$E$210,4,FALSE)), \"\")","v":""},{"$f":"_xlfn.IFNA(IF(VLOOKUP(B93,_!$A$7:$E$210,5,FALSE)=0,\"\",VLOOKUP(B93,_!$A$7:$E$210,5,FALSE)), \"\")","v":""}]
[8,null,{"$f":"_xlfn.IFNA(VLOOKUP(B94,_!$A$7:$F$210,6,FALSE),\"\")","v":""},{"$f":"IF(IF(MOD(ROWS(D$3:D94),20)=1,INDEX('Summary Sheet'!$B$17:$B193,INT(ROWS(D$3:D94)/20)+1),\"\")=0,\"\",IF(MOD(ROWS(D$3:D94),20)=1,INDEX('Summary Sheet'!$B$17:$B193,INT(ROWS(D$3:D94)/20)+1),\"\"))","v":""},{"$f":"_xlfn.IFNA(IF(VLOOKUP(B94,_!$A$7:$E$210,2,FALSE)=0, \"\", VLOOKUP(B94,_!$A$7:$E$210,2,FALSE)),  \"\")","v":""},{"$f":"_xlfn.IFNA(IF(VLOOKUP(B94,_!$A$7:$E$210,3,FALSE)=0, \"\", VLOOKUP(B94,_!$A$7:$E$210,3,FALSE)), \"\")","v":""},{"$f":"_xlfn.IFNA(IF(VLOOKUP(B94,_!$A$7:$E$210,4,FALSE)=0, \"\",VLOOKUP(B94,_!$A$7:$E$210,4,FALSE)), \"\")","v":""},{"$f":"_xlfn.IFNA(IF(VLOOKUP(B94,_!$A$7:$E$210,5,FALSE)=0,\"\",VLOOKUP(B94,_!$A$7:$E$210,5,FALSE)), \"\")","v":""}]
[9,null,{"$f":"_xlfn.IFNA(VLOOKUP(B95,_!$A$7:$F$210,6,FALSE),\"\")","v":""},{"$f":"IF(IF(MOD(ROWS(D$3:D95),20)=1,INDEX('Summary Sheet'!$B$17:$B193,INT(ROWS(D$3:D95)/20)+1),\"\")=0,\"\",IF(MOD(ROWS(D$3:D95),20)=1,INDEX('Summary Sheet'!$B$17:$B193,INT(ROWS(D$3:D95)/20)+1),\"\"))","v":""},{"$f":"_xlfn.IFNA(IF(VLOOKUP(B95,_!$A$7:$E$210,2,FALSE)=0, \"\", VLOOKUP(B95,_!$A$7:$E$210,2,FALSE)),  \"\")","v":""},{"$f":"_xlfn.IFNA(IF(VLOOKUP(B95,_!$A$7:$E$210,3,FALSE)=0, \"\", VLOOKUP(B95,_!$A$7:$E$210,3,FALSE)), \"\")","v":""},{"$f":"_xlfn.IFNA(IF(VLOOKUP(B95,_!$A$7:$E$210,4,FALSE)=0, \"\",VLOOKUP(B95,_!$A$7:$E$210,4,FALSE)), \"\")","v":""},{"$f":"_xlfn.IFNA(IF(VLOOKUP(B95,_!$A$7:$E$210,5,FALSE)=0,\"\",VLOOKUP(B95,_!$A$7:$E$210,5,FALSE)), \"\")","v":""}]
[10,null,{"$f":"_xlfn.IFNA(VLOOKUP(B96,_!$A$7:$F$210,6,FALSE),\"\")","v":""},{"$f":"IF(IF(MOD(ROWS(D$14:D96),20)=1,INDEX('Summary Sheet'!$B$17:$B193,INT(ROWS(D$14:D96)/20)+1),\"\")=0,\"\",IF(MOD(ROWS(D$14:D96),20)=1,INDEX('Summary Sheet'!$B$17:$B193,INT(ROWS(D$14:D96)/20)+1),\"\"))","v":""},{"$f":"_xlfn.IFNA(IF(VLOOKUP(B96,_!$A$7:$E$210,2,FALSE)=0, \"\", VLOOKUP(B96,_!$A$7:$E$210,2,FALSE)),  \"\")","v":""},{"$f":"_xlfn.IFNA(IF(VLOOKUP(B96,_!$A$7:$E$210,3,FALSE)=0, \"\", VLOOKUP(B96,_!$A$7:$E$210,3,FALSE)), \"\")","v":""},{"$f":"_xlfn.IFNA(IF(VLOOKUP(B96,_!$A$7:$E$210,4,FALSE)=0, \"\",VLOOKUP(B96,_!$A$7:$E$210,4,FALSE)), \"\")","v":""},{"$f":"_xlfn.IFNA(IF(VLOOKUP(B96,_!$A$7:$E$210,5,FALSE)=0,\"\",VLOOKUP(B96,_!$A$7:$E$210,5,FALSE)), \"\")","v":""}]
[null,"\nHighest hazard level for each ‘Uptake Route’\n",null,null,{"$f":"_xlfn.IFNA(IF((INDEX(E87:E96,MATCH(\"E\",E87:E96,0)))=\"E\",\"E\",\"\"),_xlfn.IFNA(IF((INDEX(E87:E96,MATCH(\"D\",E87:E96,0)))=\"D\",\"D\",\"\"),_xlfn.IFNA(IF((INDEX(E87:E96,MATCH(\"Ca\",E87:E96,0)))=\"Ca\",\"C\",\"\"),_xlfn.IFNA(IF((INDEX(E87:E96,MATCH(\"C\",E87:E96,0)))=\"C\",\"C\",\"\"),_xlfn.IFNA(IF((INDEX(E87:E96,MATCH(\"B\",E87:E96,0)))=\"B\",\"B\",\"\"),_xlfn.IFNA(IF((INDEX(E87:E96,MATCH(\"A\",E87:E96,0)))=\"A\",\"A\",\"\"),_xlfn.IFNA(IF((INDEX(E87:E96,MATCH(\"n.a.\",E87:E96,0)))=\"n.a.\",\"\",\"\"),_xlfn.IFNA(IF((INDEX(E87:E96,MATCH(\"\",E87:E96,0)))=\"\",\"\",\"\"),\"\"))))))))","v":""},{"$f":"_xlfn.IFNA(IF((INDEX(F87:F96,MATCH(\"E\",F87:F96,0)))=\"E\",\"E\",\"\"),_xlfn.IFNA(IF((INDEX(F87:F96,MATCH(\"D (E)c\",F87:F96,0)))=\"D (E)c\",\"D (E)c\",\"\"),_xlfn.IFNA(IF((INDEX(F87:F96,MATCH(\"Da (E)c\",F87:F96,0)))=\"Da (E)c\",\"D (E)c\",\"\"),_xlfn.IFNA(IF((INDEX(F87:F96,MATCH(\"D\",F87:F96,0)))=\"D\",\"D\",\"\"),_xlfn.IFNA(IF((INDEX(F87:F96,MATCH(\"Ca\",F87:F96,0)))=\"Ca\",\"C\",\"\"),_xlfn.IFNA(IF((INDEX(F87:F96,MATCH(\"C\",F87:F96,0)))=\"C\",\"C\",\"\"),_xlfn.IFNA(IF((INDEX(F87:F96,MATCH(\"Ba\",F87:F96,0)))=\"Ba\",\"B\",\"\"),_xlfn.IFNA(IF((INDEX(F87:F96,MATCH(\"B\",F87:F96,0)))=\"B\",\"B\",\"\"),_xlfn.IFNA(IF((INDEX(F87:F96,MATCH(\"Aa\",F87:F96,0)))=\"Aa\",\"A\",\"\"),_xlfn.IFNA(IF((INDEX(F87:F96,MATCH(\"A\",F87:F96,0)))=\"A\",\"A\",\"\"),_xlfn.IFNA(IF((INDEX(F87:F96,MATCH(\"n.a.\",F87:F96,0)))=\"n.a.\",\"\",\"\"),_xlfn.IFNA(IF((INDEX(F87:F96,MATCH(\"\",F87:F96,0)))=\"\",\"\",\"\"),\"\"))))))))))))","v":""},{"$f":"_xlfn.IFNA(IF((INDEX(G87:G96,MATCH(\"E\",G87:G96,0)))=\"E\",\"E\",\"\"),_xlfn.IFNA(IF((INDEX(G87:G96,MATCH(\"D\",G87:G96,0)))=\"D\",\"D\",\"\"),_xlfn.IFNA(IF((INDEX(G87:G96,MATCH(\"Ca\",G87:G96,0)))=\"Ca\",\"C\",\"\"),_xlfn.IFNA(IF((INDEX(G87:G96,MATCH(\"C\",G87:G96,0)))=\"C\",\"C\",\"\"),_xlfn.IFNA(IF((INDEX(G87:G96,MATCH(\"B\",G87:G96,0)))=\"B\",\"B\",\"\"),_xlfn.IFNA(IF((INDEX(G87:G96,MATCH(\"A\",G87:G96,0)))=\"A\",\"A\",\"\"),_xlfn.IFNA(IF((INDEX(G87:G96,MATCH(\"n.a.\",G87:G96,0)))=\"n.a.\",\"\",\"\"),_xlfn.IFNA(IF((INDEX(G87:G96,MATCH(\"\",G87:G96,0)))=\"\",\"\",\"\"),\"\"))))))))","v":""},{"$f":"_xlfn.IFNA(IF((INDEX(H87:H96,MATCH(\"E\",H87:H96,0)))=\"E\",\"E\",\"\"),_xlfn.IFNA(IF((INDEX(H87:H96,MATCH(\"D (E)c\",H87:H96,0)))=\"D (E)c\",\"D (E)c\",\"\"),_xlfn.IFNA(IF((INDEX(H87:H96,MATCH(\"Db (E)c\",H87:H96,0)))=\"Db (E)c\",\"D (E)c\",\"\"),_xlfn.IFNA(IF((INDEX(H87:H96,MATCH(\"D\",H87:H96,0)))=\"D\",\"D\",\"\"),_xlfn.IFNA(IF((INDEX(H87:H96,MATCH(\"Cb\",H87:H96,0)))=\"Cb\",\"C\",\"\"),_xlfn.IFNA(IF((INDEX(H87:H96,MATCH(\"C\",H87:H96,0)))=\"C\",\"C\",\"\"),_xlfn.IFNA(IF((INDEX(H87:H96,MATCH(\"Bb\",H87:H96,0)))=\"Bb\",\"B\",\"\"),_xlfn.IFNA(IF((INDEX(H87:H96,MATCH(\"B\",H87:H96,0)))=\"B\",\"B\",\"\"),_xlfn.IFNA(IF((INDEX(H87:H96,MATCH(\"Ab\",H87:H96,0)))=\"Ab\",\"A\",\"\"),_xlfn.IFNA(IF((INDEX(H87:H96,MATCH(\"A\",H87:H96,0)))=\"A\",\"A\",\"\"),_xlfn.IFNA(IF((INDEX(H87:H96,MATCH(\"n.a.\",H87:H96,0)))=\"n.a.\",\"\",\"\"),_xlfn.IFNA(IF((INDEX(H87:H96,MATCH(\"\",H87:H96,0)))=\"\",\"\",\"\"),\"\"))))))))))))","v":""}]
[null,"\nHighest hazard level for all 'Uptake Routes' \n",null,null,{"$f":"_xlfn.IFNA(IF((INDEX(E97:H97,MATCH(\"E\",E97:H97,0)))=\"E\",\"E\",\"\"),_xlfn.IFNA(IF((INDEX(E97:H97,MATCH(\"D (E)c\",E97:H97,0)))=\"D (E)c\",\"D (E)\",\"\"),_xlfn.IFNA(IF((INDEX(E97:H97,MATCH(\"D\",E97:H97,0)))=\"D\",\"D\",\"\"),_xlfn.IFNA(IF((INDEX(E97:H97,MATCH(\"C\",E97:H97,0)))=\"C\",\"C\",\"\"),_xlfn.IFNA(IF((INDEX(E97:H97,MATCH(\"B\",E97:H97,0)))=\"B\",\"B\",\"\"),_xlfn.IFNA(IF((INDEX(E97:H97,MATCH(\"A\",E97:H97,0)))=\"A\",\"A\",\"\"),_xlfn.IFNA(IF((INDEX(E97:H97,MATCH(\"n.a.\",E97:H97,0)))=\"n.a.\",\"\",\"\"),_xlfn.IFNA(IF((INDEX(E97:H97,MATCH(\"\",E97:H97,0)))=\"\",\"\",\"\"),\"\"))))))))","v":""}]
[]
[]
[null,"\nStep 3: D(E) Assessment\nSkip this step if \nyour assessment above does not reveal a D(E) hazard level.\nHover over this cell for additional instructions.\n",null,null,"\nOverall hazard level\n",null,{"$f":"IF(AND(E98=\"\",C84=\"Yes\")=TRUE,\"B\",IF(E98=\"\",\"\",(IF(AND(E98=\"D (E)\",C101=\"\"),\"D (E)\"&CHAR(10)&\"Find if cat. 1 acute tox.\",(IF(E98<>\"D (E)\",E98,(IF(AND(E98=\"D (E)\",C101=\"Yes\"),\"E\",(IF(AND(E98=\"D (E)\",C101=\"No\"),\"D\",\"\"))))))))))","v":""}]
[]
[{"$f":"IF(IF(MOD(ROWS(B$3:B103),20)=1,INDEX('Summary Sheet'!$A$17:$A212,INT(ROWS(B$3:B103)/20)+1),\"\")=0,\"\",IF(MOD(ROWS(B$3:B103),20)=1,INDEX('Summary Sheet'!$A$17:$A212,INT(ROWS(B$3:B103)/20)+1),\"\"))","v":6},"Hazard Level Assessment","for",{"$f":"IF(IF(MOD(ROWS(D$3:D103),20)=1,INDEX('Summary Sheet'!$B$17:$B212,INT(ROWS(D$3:D103)/20)+1),\"\")=0,\"\",IF(MOD(ROWS(D$3:D103),20)=1,INDEX('Summary Sheet'!$B$17:$B212,INT(ROWS(D$3:D103)/20)+1),\"\"))","v":""}]
[null,"\nStep 1: Physical & Environmental Hazard Statements/Codes\nFind Section 2 of the SDS and determine if the SDS has physical and/or environmental hazard statements/codes. Hover on this cell for additional instructions.\n",null,{"$f":"IF(IF(MOD(ROWS(D$3:D104),20)=1,INDEX('Summary Sheet'!$B$17:$B212,INT(ROWS(D$3:D104)/20)+1),\"\")=0,\"\",IF(MOD(ROWS(D$3:D104),20)=1,INDEX('Summary Sheet'!$B$17:$B212,INT(ROWS(D$3:D104)/20)+1),\"\"))","v":""}]
[null,"Step 2: Health Hazard Statements/Codes\nProvide the Health Hazard Statements or Codes from Section 2 of the SDS below. Hover on this cell for additional instructions.",null,{"$f":"IF(IF(MOD(ROWS(D$3:D105),20)=1,INDEX('Summary Sheet'!$B$17:$B212,INT(ROWS(D$3:D105)/20)+1),\"\")=0,\"\",IF(MOD(ROWS(D$3:D105),20)=1,INDEX('Summary Sheet'!$B$17:$B212,INT(ROWS(D$3:D105)/20)+1),\"\"))","v":""},"\nHazard Level\n"]
[null,null,null,{"$f":"IF(IF(MOD(ROWS(D$3:D106),20)=1,INDEX('Summary Sheet'!$B$17:$B212,INT(ROWS(D$3:D106)/20)+1),\"\")=0,\"\",IF(MOD(ROWS(D$3:D106),20)=1,INDEX('Summary Sheet'!$B$17:$B212,INT(ROWS(D$3:D106)/20)+1),\"\"))","v":""},"\nEye Damage\n","\nInhalation\n","\nLocal Skin Damage\n","\nSkin uptake, systemic\n"]
[1,null,{"$f":"_xlfn.IFNA(VLOOKUP(B107,_!$A$7:$F$210,6,FALSE),\"\")","v":""},{"$f":"IF(IF(MOD(ROWS(D$3:D107),20)=1,INDEX('Summary Sheet'!$B$17:$B212,INT(ROWS(D$3:D107)/20)+1),\"\")=0,\"\",IF(MOD(ROWS(D$3:D107),20)=1,INDEX('Summary Sheet'!$B$17:$B212,INT(ROWS(D$3:D107)/20)+1),\"\"))","v":""},{"$f":"_xlfn.IFNA(IF(VLOOKUP(B107,_!$A$7:$E$210,2,FALSE)=0, \"\", VLOOKUP(B107,_!$A$7:$E$210,2,FALSE)),  \"\")","v":""},{"$f":"_xlfn.IFNA(IF(VLOOKUP(B107,_!$A$7:$E$210,3,FALSE)=0, \"\", VLOOKUP(B107,_!$A$7:$E$210,3,FALSE)), \"\")","v":""},{"$f":"_xlfn.IFNA(IF(VLOOKUP(B107,_!$A$7:$E$210,4,FALSE)=0, \"\",VLOOKUP(B107,_!$A$7:$E$210,4,FALSE)), \"\")","v":""},{"$f":"_xlfn.IFNA(IF(VLOOKUP(B107,_!$A$7:$E$210,5,FALSE)=0,\"\",VLOOKUP(B107,_!$A$7:$E$210,5,FALSE)), \"\")","v":""}]
[2,null,{"$f":"_xlfn.IFNA(VLOOKUP(B108,_!$A$7:$F$210,6,FALSE),\"\")","v":""},{"$f":"IF(IF(MOD(ROWS(D$3:D108),20)=1,INDEX('Summary Sheet'!$B$17:$B212,INT(ROWS(D$3:D108)/20)+1),\"\")=0,\"\",IF(MOD(ROWS(D$3:D108),20)=1,INDEX('Summary Sheet'!$B$17:$B212,INT(ROWS(D$3:D108)/20)+1),\"\"))","v":""},{"$f":"_xlfn.IFNA(IF(VLOOKUP(B108,_!$A$7:$E$210,2,FALSE)=0, \"\", VLOOKUP(B108,_!$A$7:$E$210,2,FALSE)),  \"\")","v":""},{"$f":"_xlfn.IFNA(IF(VLOOKUP(B108,_!$A$7:$E$210,3,FALSE)=0, \"\", VLOOKUP(B108,_!$A$7:$E$210,3,FALSE)), \"\")","v":""},{"$f":"_xlfn.IFNA(IF(VLOOKUP(B108,_!$A$7:$E$210,4,FALSE)=0, \"\",VLOOKUP(B108,_!$A$7:$E$210,4,FALSE)), \"\")","v":""},{"$f":"_xlfn.IFNA(IF(VLOOKUP(B108,_!$A$7:$E$210,5,FALSE)=0,\"\",VLOOKUP(B108,_!$A$7:$E$210,5,FALSE)), \"\")","v":""}]
[3,null,{"$f":"_xlfn.IFNA(VLOOKUP(B109,_!$A$7:$F$210,6,FALSE),\"\")","v":""},{"$f":"IF(IF(MOD(ROWS(D$3:D109),20)=1,INDEX('Summary Sheet'!$B$17:$B212,INT(ROWS(D$3:D109)/20)+1),\"\")=0,\"\",IF(MOD(ROWS(D$3:D109),20)=1,INDEX('Summary Sheet'!$B$17:$B212,INT(ROWS(D$3:D109)/20)+1),\"\"))","v":""},{"$f":"_xlfn.IFNA(IF(VLOOKUP(B109,_!$A$7:$E$210,2,FALSE)=0, \"\", VLOOKUP(B109,_!$A$7:$E$210,2,FALSE)),  \"\")","v":""},{"$f":"_xlfn.IFNA(IF(VLOOKUP(B109,_!$A$7:$E$210,3,FALSE)=0, \"\", VLOOKUP(B109,_!$A$7:$E$210,3,FALSE)), \"\")","v":""},{"$f":"_xlfn.IFNA(IF(VLOOKUP(B109,_!$A$7:$E$210,4,FALSE)=0, \"\",VLOOKUP(B109,_!$A$7:$E$210,4,FALSE)), \"\")","v":""},{"$f":"_xlfn.IFNA(IF(VLOOKUP(B109,_!$A$7:$E$210,5,FALSE)=0,\"\",VLOOKUP(B109,_!$A$7:$E$210,5,FALSE)), \"\")","v":""}]
[4,null,{"$f":"_xlfn.IFNA(VLOOKUP(B110,_!$A$7:$F$210,6,FALSE),\"\")","v":""},{"$f":"IF(IF(MOD(ROWS(D$3:D110),20)=1,INDEX('Summary Sheet'!$B$17:$B212,INT(ROWS(D$3:D110)/20)+1),\"\")=0,\"\",IF(MOD(ROWS(D$3:D110),20)=1,INDEX('Summary Sheet'!$B$17:$B212,INT(ROWS(D$3:D110)/20)+1),\"\"))","v":""},{"$f":"_xlfn.IFNA(IF(VLOOKUP(B110,_!$A$7:$E$210,2,FALSE)=0, \"\", VLOOKUP(B110,_!$A$7:$E$210,2,FALSE)),  \"\")","v":""},{"$f":"_xlfn.IFNA(IF(VLOOKUP(B110,_!$A$7:$E$210,3,FALSE)=0, \"\", VLOOKUP(B110,_!$A$7:$E$210,3,FALSE)), \"\")","v":""},{"$f":"_xlfn.IFNA(IF(VLOOKUP(B110,_!$A$7:$E$210,4,FALSE)=0, \"\",VLOOKUP(B110,_!$A$7:$E$210,4,FALSE)), \"\")","v":""},{"$f":"_xlfn.IFNA(IF(VLOOKUP(B110,_!$A$7:$E$210,5,FALSE)=0,\"\",VLOOKUP(B110,_!$A$7:$E$210,5,FALSE)), \"\")","v":""}]
[5,null,{"$f":"_xlfn.IFNA(VLOOKUP(B111,_!$A$7:$F$210,6,FALSE),\"\")","v":""},{"$f":"IF(IF(MOD(ROWS(D$3:D111),20)=1,INDEX('Summary Sheet'!$B$17:$B212,INT(ROWS(D$3:D111)/20)+1),\"\")=0,\"\",IF(MOD(ROWS(D$3:D111),20)=1,INDEX('Summary Sheet'!$B$17:$B212,INT(ROWS(D$3:D111)/20)+1),\"\"))","v":""},{"$f":"_xlfn.IFNA(IF(VLOOKUP(B111,_!$A$7:$E$210,2,FALSE)=0, \"\", VLOOKUP(B111,_!$A$7:$E$210,2,FALSE)),  \"\")","v":""},{"$f":"_xlfn.IFNA(IF(VLOOKUP(B111,_!$A$7:$E$210,3,FALSE)=0, \"\", VLOOKUP(B111,_!$A$7:$E$210,3,FALSE)), \"\")","v":""},{"$f":"_xlfn.IFNA(IF(VLOOKUP(B111,_!$A$7:$E$210,4,FALSE)=0, \"\",VLOOKUP(B111,_!$A$7:$E$210,4,FALSE)), \"\")","v":""},{"$f":"_xlfn.IFNA(IF(VLOOKUP(B111,_!$A$7:$E$210,5,FALSE)=0,\"\",VLOOKUP(B111,_!$A$7:$E$210,5,FALSE)), \"\")","v":""}]
[6,null,{"$f":"_xlfn.IFNA(VLOOKUP(B112,_!$A$7:$F$210,6,FALSE),\"\")","v":""},{"$f":"IF(IF(MOD(ROWS(D$3:D112),20)=1,INDEX('Summary Sheet'!$B$17:$B212,INT(ROWS(D$3:D112)/20)+1),\"\")=0,\"\",IF(MOD(ROWS(D$3:D112),20)=1,INDEX('Summary Sheet'!$B$17:$B212,INT(ROWS(D$3:D112)/20)+1),\"\"))","v":""},{"$f":"_xlfn.IFNA(IF(VLOOKUP(B112,_!$A$7:$E$210,2,FALSE)=0, \"\", VLOOKUP(B112,_!$A$7:$E$210,2,FALSE)),  \"\")","v":""},{"$f":"_xlfn.IFNA(IF(VLOOKUP(B112,_!$A$7:$E$210,3,FALSE)=0, \"\", VLOOKUP(B112,_!$A$7:$E$210,3,FALSE)), \"\")","v":""},{"$f":"_xlfn.IFNA(IF(VLOOKUP(B112,_!$A$7:$E$210,4,FALSE)=0, \"\",VLOOKUP(B112,_!$A$7:$E$210,4,FALSE)), \"\")","v":""},{"$f":"_xlfn.IFNA(IF(VLOOKUP(B112,_!$A$7:$E$210,5,FALSE)=0,\"\",VLOOKUP(B112,_!$A$7:$E$210,5,FALSE)), \"\")","v":""}]
[7,null,{"$f":"_xlfn.IFNA(VLOOKUP(B113,_!$A$7:$F$210,6,FALSE),\"\")","v":""},{"$f":"IF(IF(MOD(ROWS(D$3:D113),20)=1,INDEX('Summary Sheet'!$B$17:$B212,INT(ROWS(D$3:D113)/20)+1),\"\")=0,\"\",IF(MOD(ROWS(D$3:D113),20)=1,INDEX('Summary Sheet'!$B$17:$B212,INT(ROWS(D$3:D113)/20)+1),\"\"))","v":""},{"$f":"_xlfn.IFNA(IF(VLOOKUP(B113,_!$A$7:$E$210,2,FALSE)=0, \"\", VLOOKUP(B113,_!$A$7:$E$210,2,FALSE)),  \"\")","v":""},{"$f":"_xlfn.IFNA(IF(VLOOKUP(B113,_!$A$7:$E$210,3,FALSE)=0, \"\", VLOOKUP(B113,_!$A$7:$E$210,3,FALSE)), \"\")","v":""},{"$f":"_xlfn.IFNA(IF(VLOOKUP(B113,_!$A$7:$E$210,4,FALSE)=0, \"\",VLOOKUP(B113,_!$A$7:$E$210,4,FALSE)), \"\")","v":""},{"$f":"_xlfn.IFNA(IF(VLOOKUP(B113,_!$A$7:$E$210,5,FALSE)=0,\"\",VLOOKUP(B113,_!$A$7:$E$210,5,FALSE)), \"\")","v":""}]
[8,null,{"$f":"_xlfn.IFNA(VLOOKUP(B114,_!$A$7:$F$210,6,FALSE),\"\")","v":""},{"$f":"IF(IF(MOD(ROWS(D$3:D114),20)=1,INDEX('Summary Sheet'!$B$17:$B212,INT(ROWS(D$3:D114)/20)+1),\"\")=0,\"\",IF(MOD(ROWS(D$3:D114),20)=1,INDEX('Summary Sheet'!$B$17:$B212,INT(ROWS(D$3:D114)/20)+1),\"\"))","v":""},{"$f":"_xlfn.IFNA(IF(VLOOKUP(B114,_!$A$7:$E$210,2,FALSE)=0, \"\", VLOOKUP(B114,_!$A$7:$E$210,2,FALSE)),  \"\")","v":""},{"$f":"_xlfn.IFNA(IF(VLOOKUP(B114,_!$A$7:$E$210,3,FALSE)=0, \"\", VLOOKUP(B114,_!$A$7:$E$210,3,FALSE)), \"\")","v":""},{"$f":"_xlfn.IFNA(IF(VLOOKUP(B114,_!$A$7:$E$210,4,FALSE)=0, \"\",VLOOKUP(B114,_!$A$7:$E$210,4,FALSE)), \"\")","v":""},{"$f":"_xlfn.IFNA(IF(VLOOKUP(B114,_!$A$7:$E$210,5,FALSE)=0,\"\",VLOOKUP(B114,_!$A$7:$E$210,5,FALSE)), \"\")","v":""}]
[9,null,{"$f":"_xlfn.IFNA(VLOOKUP(B115,_!$A$7:$F$210,6,FALSE),\"\")","v":""},{"$f":"IF(IF(MOD(ROWS(D$3:D115),20)=1,INDEX('Summary Sheet'!$B$17:$B212,INT(ROWS(D$3:D115)/20)+1),\"\")=0,\"\",IF(MOD(ROWS(D$3:D115),20)=1,INDEX('Summary Sheet'!$B$17:$B212,INT(ROWS(D$3:D115)/20)+1),\"\"))","v":""},{"$f":"_xlfn.IFNA(IF(VLOOKUP(B115,_!$A$7:$E$210,2,FALSE)=0, \"\", VLOOKUP(B115,_!$A$7:$E$210,2,FALSE)),  \"\")","v":""},{"$f":"_xlfn.IFNA(IF(VLOOKUP(B115,_!$A$7:$E$210,3,FALSE)=0, \"\", VLOOKUP(B115,_!$A$7:$E$210,3,FALSE)), \"\")","v":""},{"$f":"_xlfn.IFNA(IF(VLOOKUP(B115,_!$A$7:$E$210,4,FALSE)=0, \"\",VLOOKUP(B115,_!$A$7:$E$210,4,FALSE)), \"\")","v":""},{"$f":"_xlfn.IFNA(IF(VLOOKUP(B115,_!$A$7:$E$210,5,FALSE)=0,\"\",VLOOKUP(B115,_!$A$7:$E$210,5,FALSE)), \"\")","v":""}]
[10,null,{"$f":"_xlfn.IFNA(VLOOKUP(B116,_!$A$7:$F$210,6,FALSE),\"\")","v":""},{"$f":"IF(IF(MOD(ROWS(D$14:D116),20)=1,INDEX('Summary Sheet'!$B$17:$B212,INT(ROWS(D$14:D116)/20)+1),\"\")=0,\"\",IF(MOD(ROWS(D$14:D116),20)=1,INDEX('Summary Sheet'!$B$17:$B212,INT(ROWS(D$14:D116)/20)+1),\"\"))","v":""},{"$f":"_xlfn.IFNA(IF(VLOOKUP(B116,_!$A$7:$E$210,2,FALSE)=0, \"\", VLOOKUP(B116,_!$A$7:$E$210,2,FALSE)),  \"\")","v":""},{"$f":"_xlfn.IFNA(IF(VLOOKUP(B116,_!$A$7:$E$210,3,FALSE)=0, \"\", VLOOKUP(B116,_!$A$7:$E$210,3,FALSE)), \"\")","v":""},{"$f":"_xlfn.IFNA(IF(VLOOKUP(B116,_!$A$7:$E$210,4,FALSE)=0, \"\",VLOOKUP(B116,_!$A$7:$E$210,4,FALSE)), \"\")","v":""},{"$f":"_xlfn.IFNA(IF(VLOOKUP(B116,_!$A$7:$E$210,5,FALSE)=0,\"\",VLOOKUP(B116,_!$A$7:$E$210,5,FALSE)), \"\")","v":""}]
[null,"\nHighest hazard level for each ‘Uptake Route’\n",null,null,{"$f":"_xlfn.IFNA(IF((INDEX(E107:E116,MATCH(\"E\",E107:E116,0)))=\"E\",\"E\",\"\"),_xlfn.IFNA(IF((INDEX(E107:E116,MATCH(\"D\",E107:E116,0)))=\"D\",\"D\",\"\"),_xlfn.IFNA(IF((INDEX(E107:E116,MATCH(\"Ca\",E107:E116,0)))=\"Ca\",\"C\",\"\"),_xlfn.IFNA(IF((INDEX(E107:E116,MATCH(\"C\",E107:E116,0)))=\"C\",\"C\",\"\"),_xlfn.IFNA(IF((INDEX(E107:E116,MATCH(\"B\",E107:E116,0)))=\"B\",\"B\",\"\"),_xlfn.IFNA(IF((INDEX(E107:E116,MATCH(\"A\",E107:E116,0)))=\"A\",\"A\",\"\"),_xlfn.IFNA(IF((INDEX(E107:E116,MATCH(\"n.a.\",E107:E116,0)))=\"n.a.\",\"\",\"\"),_xlfn.IFNA(IF((INDEX(E107:E116,MATCH(\"\",E107:E116,0)))=\"\",\"\",\"\"),\"\"))))))))","v":""},{"$f":"_xlfn.IFNA(IF((INDEX(F107:F116,MATCH(\"E\",F107:F116,0)))=\"E\",\"E\",\"\"),_xlfn.IFNA(IF((INDEX(F107:F116,MATCH(\"D (E)c\",F107:F116,0)))=\"D (E)c\",\"D (E)c\",\"\"),_xlfn.IFNA(IF((INDEX(F107:F116,MATCH(\"Da (E)c\",F107:F116,0)))=\"Da (E)c\",\"D (E)c\",\"\"),_xlfn.IFNA(IF((INDEX(F107:F116,MATCH(\"D\",F107:F116,0)))=\"D\",\"D\",\"\"),_xlfn.IFNA(IF((INDEX(F107:F116,MATCH(\"Ca\",F107:F116,0)))=\"Ca\",\"C\",\"\"),_xlfn.IFNA(IF((INDEX(F107:F116,MATCH(\"C\",F107:F116,0)))=\"C\",\"C\",\"\"),_xlfn.IFNA(IF((INDEX(F107:F116,MATCH(\"Ba\",F107:F116,0)))=\"Ba\",\"B\",\"\"),_xlfn.IFNA(IF((INDEX(F107:F116,MATCH(\"B\",F107:F116,0)))=\"B\",\"B\",\"\"),_xlfn.IFNA(IF((INDEX(F107:F116,MATCH(\"Aa\",F107:F116,0)))=\"Aa\",\"A\",\"\"),_xlfn.IFNA(IF((INDEX(F107:F116,MATCH(\"A\",F107:F116,0)))=\"A\",\"A\",\"\"),_xlfn.IFNA(IF((INDEX(F107:F116,MATCH(\"n.a.\",F107:F116,0)))=\"n.a.\",\"\",\"\"),_xlfn.IFNA(IF((INDEX(F107:F116,MATCH(\"\",F107:F116,0)))=\"\",\"\",\"\"),\"\"))))))))))))","v":""},{"$f":"_xlfn.IFNA(IF((INDEX(G107:G116,MATCH(\"E\",G107:G116,0)))=\"E\",\"E\",\"\"),_xlfn.IFNA(IF((INDEX(G107:G116,MATCH(\"D\",G107:G116,0)))=\"D\",\"D\",\"\"),_xlfn.IFNA(IF((INDEX(G107:G116,MATCH(\"Ca\",G107:G116,0)))=\"Ca\",\"C\",\"\"),_xlfn.IFNA(IF((INDEX(G107:G116,MATCH(\"C\",G107:G116,0)))=\"C\",\"C\",\"\"),_xlfn.IFNA(IF((INDEX(G107:G116,MATCH(\"B\",G107:G116,0)))=\"B\",\"B\",\"\"),_xlfn.IFNA(IF((INDEX(G107:G116,MATCH(\"A\",G107:G116,0)))=\"A\",\"A\",\"\"),_xlfn.IFNA(IF((INDEX(G107:G116,MATCH(\"n.a.\",G107:G116,0)))=\"n.a.\",\"\",\"\"),_xlfn.IFNA(IF((INDEX(G107:G116,MATCH(\"\",G107:G116,0)))=\"\",\"\",\"\"),\"\"))))))))","v":""},{"$f":"_xlfn.IFNA(IF((INDEX(H107:H116,MATCH(\"E\",H107:H116,0)))=\"E\",\"E\",\"\"),_xlfn.IFNA(IF((INDEX(H107:H116,MATCH(\"D (E)c\",H107:H116,0)))=\"D (E)c\",\"D (E)c\",\"\"),_xlfn.IFNA(IF((INDEX(H107:H116,MATCH(\"Db (E)c\",H107:H116,0)))=\"Db (E)c\",\"D (E)c\",\"\"),_xlfn.IFNA(IF((INDEX(H107:H116,MATCH(\"D\",H107:H116,0)))=\"D\",\"D\",\"\"),_xlfn.IFNA(IF((INDEX(H107:H116,MATCH(\"Cb\",H107:H116,0)))=\"Cb\",\"C\",\"\"),_xlfn.IFNA(IF((INDEX(H107:H116,MATCH(\"C\",H107:H116,0)))=\"C\",\"C\",\"\"),_xlfn.IFNA(IF((INDEX(H107:H116,MATCH(\"Bb\",H107:H116,0)))=\"Bb\",\"B\",\"\"),_xlfn.IFNA(IF((INDEX(H107:H116,MATCH(\"B\",H107:H116,0)))=\"B\",\"B\",\"\"),_xlfn.IFNA(IF((INDEX(H107:H116,MATCH(\"Ab\",H107:H116,0)))=\"Ab\",\"A\",\"\"),_xlfn.IFNA(IF((INDEX(H107:H116,MATCH(\"A\",H107:H116,0)))=\"A\",\"A\",\"\"),_xlfn.IFNA(IF((INDEX(H107:H116,MATCH(\"n.a.\",H107:H116,0)))=\"n.a.\",\"\",\"\"),_xlfn.IFNA(IF((INDEX(H107:H116,MATCH(\"\",H107:H116,0)))=\"\",\"\",\"\"),\"\"))))))))))))","v":""}]
[null,"\nHighest hazard level for all 'Uptake Routes' \n",null,null,{"$f":"_xlfn.IFNA(IF((INDEX(E117:H117,MATCH(\"E\",E117:H117,0)))=\"E\",\"E\",\"\"),_xlfn.IFNA(IF((INDEX(E117:H117,MATCH(\"D (E)c\",E117:H117,0)))=\"D (E)c\",\"D (E)\",\"\"),_xlfn.IFNA(IF((INDEX(E117:H117,MATCH(\"D\",E117:H117,0)))=\"D\",\"D\",\"\"),_xlfn.IFNA(IF((INDEX(E117:H117,MATCH(\"C\",E117:H117,0)))=\"C\",\"C\",\"\"),_xlfn.IFNA(IF((INDEX(E117:H117,MATCH(\"B\",E117:H117,0)))=\"B\",\"B\",\"\"),_xlfn.IFNA(IF((INDEX(E117:H117,MATCH(\"A\",E117:H117,0)))=\"A\",\"A\",\"\"),_xlfn.IFNA(IF((INDEX(E117:H117,MATCH(\"n.a.\",E117:H117,0)))=\"n.a.\",\"\",\"\"),_xlfn.IFNA(IF((INDEX(E117:H117,MATCH(\"\",E117:H117,0)))=\"\",\"\",\"\"),\"\"))))))))","v":""}]
[]
[]
[null,"\nStep 3: D(E) Assessment\nSkip this step if \nyour assessment above does not reveal a D(E) hazard level.\nHover over this cell for additional instructions.\n",null,null,"\nOverall hazard level\n",null,{"$f":"IF(AND(E118=\"\",C104=\"Yes\")=TRUE,\"B\",IF(E118=\"\",\"\",(IF(AND(E118=\"D (E)\",C121=\"\"),\"D (E)\"&CHAR(10)&\"Find if cat. 1 acute tox.\",(IF(E118<>\"D (E)\",E118,(IF(AND(E118=\"D (E)\",C121=\"Yes\"),\"E\",(IF(AND(E118=\"D (E)\",C121=\"No\"),\"D\",\"\"))))))))))","v":""}]
[]
[{"$f":"IF(IF(MOD(ROWS(B$3:B123),20)=1,INDEX('Summary Sheet'!$A$17:$A231,INT(ROWS(B$3:B123)/20)+1),\"\")=0,\"\",IF(MOD(ROWS(B$3:B123),20)=1,INDEX('Summary Sheet'!$A$17:$A231,INT(ROWS(B$3:B123)/20)+1),\"\"))","v":7},"Hazard Level Assessment","for",{"$f":"IF(IF(MOD(ROWS(D$3:D123),20)=1,INDEX('Summary Sheet'!$B$17:$B231,INT(ROWS(D$3:D123)/20)+1),\"\")=0,\"\",IF(MOD(ROWS(D$3:D123),20)=1,INDEX('Summary Sheet'!$B$17:$B231,INT(ROWS(D$3:D123)/20)+1),\"\"))","v":""}]
[null,"\nStep 1: Physical & Environmental Hazard Statements/Codes\nFind Section 2 of the SDS and determine if the SDS has physical and/or environmental hazard statements/codes. Hover on this cell for additional instructions.\n",null,{"$f":"IF(IF(MOD(ROWS(D$3:D124),20)=1,INDEX('Summary Sheet'!$B$17:$B231,INT(ROWS(D$3:D124)/20)+1),\"\")=0,\"\",IF(MOD(ROWS(D$3:D124),20)=1,INDEX('Summary Sheet'!$B$17:$B231,INT(ROWS(D$3:D124)/20)+1),\"\"))","v":""}]
[null,"Step 2: Health Hazard Statements/Codes\nProvide the Health Hazard Statements or Codes from Section 2 of the SDS below. Hover on this cell for additional instructions.",null,{"$f":"IF(IF(MOD(ROWS(D$3:D125),20)=1,INDEX('Summary Sheet'!$B$17:$B231,INT(ROWS(D$3:D125)/20)+1),\"\")=0,\"\",IF(MOD(ROWS(D$3:D125),20)=1,INDEX('Summary Sheet'!$B$17:$B231,INT(ROWS(D$3:D125)/20)+1),\"\"))","v":""},"\nHazard Level\n"]
[null,null,null,{"$f":"IF(IF(MOD(ROWS(D$3:D126),20)=1,INDEX('Summary Sheet'!$B$17:$B231,INT(ROWS(D$3:D126)/20)+1),\"\")=0,\"\",IF(MOD(ROWS(D$3:D126),20)=1,INDEX('Summary Sheet'!$B$17:$B231,INT(ROWS(D$3:D126)/20)+1),\"\"))","v":""},"\nEye Damage\n","\nInhalation\n","\nLocal Skin Damage\n","\nSkin uptake, systemic\n"]
[1,null,{"$f":"_xlfn.IFNA(VLOOKUP(B127,_!$A$7:$F$210,6,FALSE),\"\")","v":""},{"$f":"IF(IF(MOD(ROWS(D$3:D127),20)=1,INDEX('Summary Sheet'!$B$17:$B231,INT(ROWS(D$3:D127)/20)+1),\"\")=0,\"\",IF(MOD(ROWS(D$3:D127),20)=1,INDEX('Summary Sheet'!$B$17:$B231,INT(ROWS(D$3:D127)/20)+1),\"\"))","v":""},{"$f":"_xlfn.IFNA(IF(VLOOKUP(B127,_!$A$7:$E$210,2,FALSE)=0, \"\", VLOOKUP(B127,_!$A$7:$E$210,2,FALSE)),  \"\")","v":""},{"$f":"_xlfn.IFNA(IF(VLOOKUP(B127,_!$A$7:$E$210,3,FALSE)=0, \"\", VLOOKUP(B127,_!$A$7:$E$210,3,FALSE)), \"\")","v":""},{"$f":"_xlfn.IFNA(IF(VLOOKUP(B127,_!$A$7:$E$210,4,FALSE)=0, \"\",VLOOKUP(B127,_!$A$7:$E$210,4,FALSE)), \"\")","v":""},{"$f":"_xlfn.IFNA(IF(VLOOKUP(B127,_!$A$7:$E$210,5,FALSE)=0,\"\",VLOOKUP(B127,_!$A$7:$E$210,5,FALSE)), \"\")","v":""}]
[2,null,{"$f":"_xlfn.IFNA(VLOOKUP(B128,_!$A$7:$F$210,6,FALSE),\"\")","v":""},{"$f":"IF(IF(MOD(ROWS(D$3:D128),20)=1,INDEX('Summary Sheet'!$B$17:$B231,INT(ROWS(D$3:D128)/20)+1),\"\")=0,\"\",IF(MOD(ROWS(D$3:D128),20)=1,INDEX('Summary Sheet'!$B$17:$B231,INT(ROWS(D$3:D128)/20)+1),\"\"))","v":""},{"$f":"_xlfn.IFNA(IF(VLOOKUP(B128,_!$A$7:$E$210,2,FALSE)=0, \"\", VLOOKUP(B128,_!$A$7:$E$210,2,FALSE)),  \"\")","v":""},{"$f":"_xlfn.IFNA(IF(VLOOKUP(B128,_!$A$7:$E$210,3,FALSE)=0, \"\", VLOOKUP(B128,_!$A$7:$E$210,3,FALSE)), \"\")","v":""},{"$f":"_xlfn.IFNA(IF(VLOOKUP(B128,_!$A$7:$E$210,4,FALSE)=0, \"\",VLOOKUP(B128,_!$A$7:$E$210,4,FALSE)), \"\")","v":""},{"$f":"_xlfn.IFNA(IF(VLOOKUP(B128,_!$A$7:$E$210,5,FALSE)=0,\"\",VLOOKUP(B128,_!$A$7:$E$210,5,FALSE)), \"\")","v":""}]
[3,null,{"$f":"_xlfn.IFNA(VLOOKUP(B129,_!$A$7:$F$210,6,FALSE),\"\")","v":""},{"$f":"IF(IF(MOD(ROWS(D$3:D129),20)=1,INDEX('Summary Sheet'!$B$17:$B231,INT(ROWS(D$3:D129)/20)+1),\"\")=0,\"\",IF(MOD(ROWS(D$3:D129),20)=1,INDEX('Summary Sheet'!$B$17:$B231,INT(ROWS(D$3:D129)/20)+1),\"\"))","v":""},{"$f":"_xlfn.IFNA(IF(VLOOKUP(B129,_!$A$7:$E$210,2,FALSE)=0, \"\", VLOOKUP(B129,_!$A$7:$E$210,2,FALSE)),  \"\")","v":""},{"$f":"_xlfn.IFNA(IF(VLOOKUP(B129,_!$A$7:$E$210,3,FALSE)=0, \"\", VLOOKUP(B129,_!$A$7:$E$210,3,FALSE)), \"\")","v":""},{"$f":"_xlfn.IFNA(IF(VLOOKUP(B129,_!$A$7:$E$210,4,FALSE)=0, \"\",VLOOKUP(B129,_!$A$7:$E$210,4,FALSE)), \"\")","v":""},{"$f":"_xlfn.IFNA(IF(VLOOKUP(B129,_!$A$7:$E$210,5,FALSE)=0,\"\",VLOOKUP(B129,_!$A$7:$E$210,5,FALSE)), \"\")","v":""}]
[4,null,{"$f":"_xlfn.IFNA(VLOOKUP(B130,_!$A$7:$F$210,6,FALSE),\"\")","v":""},{"$f":"IF(IF(MOD(ROWS(D$3:D130),20)=1,INDEX('Summary Sheet'!$B$17:$B231,INT(ROWS(D$3:D130)/20)+1),\"\")=0,\"\",IF(MOD(ROWS(D$3:D130),20)=1,INDEX('Summary Sheet'!$B$17:$B231,INT(ROWS(D$3:D130)/20)+1),\"\"))","v":""},{"$f":"_xlfn.IFNA(IF(VLOOKUP(B130,_!$A$7:$E$210,2,FALSE)=0, \"\", VLOOKUP(B130,_!$A$7:$E$210,2,FALSE)),  \"\")","v":""},{"$f":"_xlfn.IFNA(IF(VLOOKUP(B130,_!$A$7:$E$210,3,FALSE)=0, \"\", VLOOKUP(B130,_!$A$7:$E$210,3,FALSE)), \"\")","v":""},{"$f":"_xlfn.IFNA(IF(VLOOKUP(B130,_!$A$7:$E$210,4,FALSE)=0, \"\",VLOOKUP(B130,_!$A$7:$E$210,4,FALSE)), \"\")","v":""},{"$f":"_xlfn.IFNA(IF(VLOOKUP(B130,_!$A$7:$E$210,5,FALSE)=0,\"\",VLOOKUP(B130,_!$A$7:$E$210,5,FALSE)), \"\")","v":""}]
[5,null,{"$f":"_xlfn.IFNA(VLOOKUP(B131,_!$A$7:$F$210,6,FALSE),\"\")","v":""},{"$f":"IF(IF(MOD(ROWS(D$3:D131),20)=1,INDEX('Summary Sheet'!$B$17:$B231,INT(ROWS(D$3:D131)/20)+1),\"\")=0,\"\",IF(MOD(ROWS(D$3:D131),20)=1,INDEX('Summary Sheet'!$B$17:$B231,INT(ROWS(D$3:D131)/20)+1),\"\"))","v":""},{"$f":"_xlfn.IFNA(IF(VLOOKUP(B131,_!$A$7:$E$210,2,FALSE)=0, \"\", VLOOKUP(B131,_!$A$7:$E$210,2,FALSE)),  \"\")","v":""},{"$f":"_xlfn.IFNA(IF(VLOOKUP(B131,_!$A$7:$E$210,3,FALSE)=0, \"\", VLOOKUP(B131,_!$A$7:$E$210,3,FALSE)), \"\")","v":""},{"$f":"_xlfn.IFNA(IF(VLOOKUP(B131,_!$A$7:$E$210,4,FALSE)=0, \"\",VLOOKUP(B131,_!$A$7:$E$210,4,FALSE)), \"\")","v":""},{"$f":"_xlfn.IFNA(IF(VLOOKUP(B131,_!$A$7:$E$210,5,FALSE)=0,\"\",VLOOKUP(B131,_!$A$7:$E$210,5,FALSE)), \"\")","v":""}]
[6,null,{"$f":"_xlfn.IFNA(VLOOKUP(B132,_!$A$7:$F$210,6,FALSE),\"\")","v":""},{"$f":"IF(IF(MOD(ROWS(D$3:D132),20)=1,INDEX('Summary Sheet'!$B$17:$B231,INT(ROWS(D$3:D132)/20)+1),\"\")=0,\"\",IF(MOD(ROWS(D$3:D132),20)=1,INDEX('Summary Sheet'!$B$17:$B231,INT(ROWS(D$3:D132)/20)+1),\"\"))","v":""},{"$f":"_xlfn.IFNA(IF(VLOOKUP(B132,_!$A$7:$E$210,2,FALSE)=0, \"\", VLOOKUP(B132,_!$A$7:$E$210,2,FALSE)),  \"\")","v":""},{"$f":"_xlfn.IFNA(IF(VLOOKUP(B132,_!$A$7:$E$210,3,FALSE)=0, \"\", VLOOKUP(B132,_!$A$7:$E$210,3,FALSE)), \"\")","v":""},{"$f":"_xlfn.IFNA(IF(VLOOKUP(B132,_!$A$7:$E$210,4,FALSE)=0, \"\",VLOOKUP(B132,_!$A$7:$E$210,4,FALSE)), \"\")","v":""},{"$f":"_xlfn.IFNA(IF(VLOOKUP(B132,_!$A$7:$E$210,5,FALSE)=0,\"\",VLOOKUP(B132,_!$A$7:$E$210,5,FALSE)), \"\")","v":""}]
[7,null,{"$f":"_xlfn.IFNA(VLOOKUP(B133,_!$A$7:$F$210,6,FALSE),\"\")","v":""},{"$f":"IF(IF(MOD(ROWS(D$3:D133),20)=1,INDEX('Summary Sheet'!$B$17:$B231,INT(ROWS(D$3:D133)/20)+1),\"\")=0,\"\",IF(MOD(ROWS(D$3:D133),20)=1,INDEX('Summary Sheet'!$B$17:$B231,INT(ROWS(D$3:D133)/20)+1),\"\"))","v":""},{"$f":"_xlfn.IFNA(IF(VLOOKUP(B133,_!$A$7:$E$210,2,FALSE)=0, \"\", VLOOKUP(B133,_!$A$7:$E$210,2,FALSE)),  \"\")","v":""},{"$f":"_xlfn.IFNA(IF(VLOOKUP(B133,_!$A$7:$E$210,3,FALSE)=0, \"\", VLOOKUP(B133,_!$A$7:$E$210,3,FALSE)), \"\")","v":""},{"$f":"_xlfn.IFNA(IF(VLOOKUP(B133,_!$A$7:$E$210,4,FALSE)=0, \"\",VLOOKUP(B133,_!$A$7:$E$210,4,FALSE)), \"\")","v":""},{"$f":"_xlfn.IFNA(IF(VLOOKUP(B133,_!$A$7:$E$210,5,FALSE)=0,\"\",VLOOKUP(B133,_!$A$7:$E$210,5,FALSE)), \"\")","v":""}]
[8,null,{"$f":"_xlfn.IFNA(VLOOKUP(B134,_!$A$7:$F$210,6,FALSE),\"\")","v":""},{"$f":"IF(IF(MOD(ROWS(D$3:D134),20)=1,INDEX('Summary Sheet'!$B$17:$B231,INT(ROWS(D$3:D134)/20)+1),\"\")=0,\"\",IF(MOD(ROWS(D$3:D134),20)=1,INDEX('Summary Sheet'!$B$17:$B231,INT(ROWS(D$3:D134)/20)+1),\"\"))","v":""},{"$f":"_xlfn.IFNA(IF(VLOOKUP(B134,_!$A$7:$E$210,2,FALSE)=0, \"\", VLOOKUP(B134,_!$A$7:$E$210,2,FALSE)),  \"\")","v":""},{"$f":"_xlfn.IFNA(IF(VLOOKUP(B134,_!$A$7:$E$210,3,FALSE)=0, \"\", VLOOKUP(B134,_!$A$7:$E$210,3,FALSE)), \"\")","v":""},{"$f":"_xlfn.IFNA(IF(VLOOKUP(B134,_!$A$7:$E$210,4,FALSE)=0, \"\",VLOOKUP(B134,_!$A$7:$E$210,4,FALSE)), \"\")","v":""},{"$f":"_xlfn.IFNA(IF(VLOOKUP(B134,_!$A$7:$E$210,5,FALSE)=0,\"\",VLOOKUP(B134,_!$A$7:$E$210,5,FALSE)), \"\")","v":""}]
[9,null,{"$f":"_xlfn.IFNA(VLOOKUP(B135,_!$A$7:$F$210,6,FALSE),\"\")","v":""},{"$f":"IF(IF(MOD(ROWS(D$3:D135),20)=1,INDEX('Summary Sheet'!$B$17:$B231,INT(ROWS(D$3:D135)/20)+1),\"\")=0,\"\",IF(MOD(ROWS(D$3:D135),20)=1,INDEX('Summary Sheet'!$B$17:$B231,INT(ROWS(D$3:D135)/20)+1),\"\"))","v":""},{"$f":"_xlfn.IFNA(IF(VLOOKUP(B135,_!$A$7:$E$210,2,FALSE)=0, \"\", VLOOKUP(B135,_!$A$7:$E$210,2,FALSE)),  \"\")","v":""},{"$f":"_xlfn.IFNA(IF(VLOOKUP(B135,_!$A$7:$E$210,3,FALSE)=0, \"\", VLOOKUP(B135,_!$A$7:$E$210,3,FALSE)), \"\")","v":""},{"$f":"_xlfn.IFNA(IF(VLOOKUP(B135,_!$A$7:$E$210,4,FALSE)=0, \"\",VLOOKUP(B135,_!$A$7:$E$210,4,FALSE)), \"\")","v":""},{"$f":"_xlfn.IFNA(IF(VLOOKUP(B135,_!$A$7:$E$210,5,FALSE)=0,\"\",VLOOKUP(B135,_!$A$7:$E$210,5,FALSE)), \"\")","v":""}]
[10,null,{"$f":"_xlfn.IFNA(VLOOKUP(B136,_!$A$7:$F$210,6,FALSE),\"\")","v":""},{"$f":"IF(IF(MOD(ROWS(D$14:D136),20)=1,INDEX('Summary Sheet'!$B$17:$B231,INT(ROWS(D$14:D136)/20)+1),\"\")=0,\"\",IF(MOD(ROWS(D$14:D136),20)=1,INDEX('Summary Sheet'!$B$17:$B231,INT(ROWS(D$14:D136)/20)+1),\"\"))","v":""},{"$f":"_xlfn.IFNA(IF(VLOOKUP(B136,_!$A$7:$E$210,2,FALSE)=0, \"\", VLOOKUP(B136,_!$A$7:$E$210,2,FALSE)),  \"\")","v":""},{"$f":"_xlfn.IFNA(IF(VLOOKUP(B136,_!$A$7:$E$210,3,FALSE)=0, \"\", VLOOKUP(B136,_!$A$7:$E$210,3,FALSE)), \"\")","v":""},{"$f":"_xlfn.IFNA(IF(VLOOKUP(B136,_!$A$7:$E$210,4,FALSE)=0, \"\",VLOOKUP(B136,_!$A$7:$E$210,4,FALSE)), \"\")","v":""},{"$f":"_xlfn.IFNA(IF(VLOOKUP(B136,_!$A$7:$E$210,5,FALSE)=0,\"\",VLOOKUP(B136,_!$A$7:$E$210,5,FALSE)), \"\")","v":""}]
[null,"\nHighest hazard level for each ‘Uptake Route’\n",null,null,{"$f":"_xlfn.IFNA(IF((INDEX(E127:E136,MATCH(\"E\",E127:E136,0)))=\"E\",\"E\",\"\"),_xlfn.IFNA(IF((INDEX(E127:E136,MATCH(\"D\",E127:E136,0)))=\"D\",\"D\",\"\"),_xlfn.IFNA(IF((INDEX(E127:E136,MATCH(\"Ca\",E127:E136,0)))=\"Ca\",\"C\",\"\"),_xlfn.IFNA(IF((INDEX(E127:E136,MATCH(\"C\",E127:E136,0)))=\"C\",\"C\",\"\"),_xlfn.IFNA(IF((INDEX(E127:E136,MATCH(\"B\",E127:E136,0)))=\"B\",\"B\",\"\"),_xlfn.IFNA(IF((INDEX(E127:E136,MATCH(\"A\",E127:E136,0)))=\"A\",\"A\",\"\"),_xlfn.IFNA(IF((INDEX(E127:E136,MATCH(\"n.a.\",E127:E136,0)))=\"n.a.\",\"\",\"\"),_xlfn.IFNA(IF((INDEX(E127:E136,MATCH(\"\",E127:E136,0)))=\"\",\"\",\"\"),\"\"))))))))","v":""},{"$f":"_xlfn.IFNA(IF((INDEX(F127:F136,MATCH(\"E\",F127:F136,0)))=\"E\",\"E\",\"\"),_xlfn.IFNA(IF((INDEX(F127:F136,MATCH(\"D (E)c\",F127:F136,0)))=\"D (E)c\",\"D (E)c\",\"\"),_xlfn.IFNA(IF((INDEX(F127:F136,MATCH(\"Da (E)c\",F127:F136,0)))=\"Da (E)c\",\"D (E)c\",\"\"),_xlfn.IFNA(IF((INDEX(F127:F136,MATCH(\"D\",F127:F136,0)))=\"D\",\"D\",\"\"),_xlfn.IFNA(IF((INDEX(F127:F136,MATCH(\"Ca\",F127:F136,0)))=\"Ca\",\"C\",\"\"),_xlfn.IFNA(IF((INDEX(F127:F136,MATCH(\"C\",F127:F136,0)))=\"C\",\"C\",\"\"),_xlfn.IFNA(IF((INDEX(F127:F136,MATCH(\"Ba\",F127:F136,0)))=\"Ba\",\"B\",\"\"),_xlfn.IFNA(IF((INDEX(F127:F136,MATCH(\"B\",F127:F136,0)))=\"B\",\"B\",\"\"),_xlfn.IFNA(IF((INDEX(F127:F136,MATCH(\"Aa\",F127:F136,0)))=\"Aa\",\"A\",\"\"),_xlfn.IFNA(IF((INDEX(F127:F136,MATCH(\"A\",F127:F136,0)))=\"A\",\"A\",\"\"),_xlfn.IFNA(IF((INDEX(F127:F136,MATCH(\"n.a.\",F127:F136,0)))=\"n.a.\",\"\",\"\"),_xlfn.IFNA(IF((INDEX(F127:F136,MATCH(\"\",F127:F136,0)))=\"\",\"\",\"\"),\"\"))))))))))))","v":""},{"$f":"_xlfn.IFNA(IF((INDEX(G127:G136,MATCH(\"E\",G127:G136,0)))=\"E\",\"E\",\"\"),_xlfn.IFNA(IF((INDEX(G127:G136,MATCH(\"D\",G127:G136,0)))=\"D\",\"D\",\"\"),_xlfn.IFNA(IF((INDEX(G127:G136,MATCH(\"Ca\",G127:G136,0)))=\"Ca\",\"C\",\"\"),_xlfn.IFNA(IF((INDEX(G127:G136,MATCH(\"C\",G127:G136,0)))=\"C\",\"C\",\"\"),_xlfn.IFNA(IF((INDEX(G127:G136,MATCH(\"B\",G127:G136,0)))=\"B\",\"B\",\"\"),_xlfn.IFNA(IF((INDEX(G127:G136,MATCH(\"A\",G127:G136,0)))=\"A\",\"A\",\"\"),_xlfn.IFNA(IF((INDEX(G127:G136,MATCH(\"n.a.\",G127:G136,0)))=\"n.a.\",\"\",\"\"),_xlfn.IFNA(IF((INDEX(G127:G136,MATCH(\"\",G127:G136,0)))=\"\",\"\",\"\"),\"\"))))))))","v":""},{"$f":"_xlfn.IFNA(IF((INDEX(H127:H136,MATCH(\"E\",H127:H136,0)))=\"E\",\"E\",\"\"),_xlfn.IFNA(IF((INDEX(H127:H136,MATCH(\"D (E)c\",H127:H136,0)))=\"D (E)c\",\"D (E)c\",\"\"),_xlfn.IFNA(IF((INDEX(H127:H136,MATCH(\"Db (E)c\",H127:H136,0)))=\"Db (E)c\",\"D (E)c\",\"\"),_xlfn.IFNA(IF((INDEX(H127:H136,MATCH(\"D\",H127:H136,0)))=\"D\",\"D\",\"\"),_xlfn.IFNA(IF((INDEX(H127:H136,MATCH(\"Cb\",H127:H136,0)))=\"Cb\",\"C\",\"\"),_xlfn.IFNA(IF((INDEX(H127:H136,MATCH(\"C\",H127:H136,0)))=\"C\",\"C\",\"\"),_xlfn.IFNA(IF((INDEX(H127:H136,MATCH(\"Bb\",H127:H136,0)))=\"Bb\",\"B\",\"\"),_xlfn.IFNA(IF((INDEX(H127:H136,MATCH(\"B\",H127:H136,0)))=\"B\",\"B\",\"\"),_xlfn.IFNA(IF((INDEX(H127:H136,MATCH(\"Ab\",H127:H136,0)))=\"Ab\",\"A\",\"\"),_xlfn.IFNA(IF((INDEX(H127:H136,MATCH(\"A\",H127:H136,0)))=\"A\",\"A\",\"\"),_xlfn.IFNA(IF((INDEX(H127:H136,MATCH(\"n.a.\",H127:H136,0)))=\"n.a.\",\"\",\"\"),_xlfn.IFNA(IF((INDEX(H127:H136,MATCH(\"\",H127:H136,0)))=\"\",\"\",\"\"),\"\"))))))))))))","v":""}]
[null,"\nHighest hazard level for all 'Uptake Routes' \n",null,null,{"$f":"_xlfn.IFNA(IF((INDEX(E137:H137,MATCH(\"E\",E137:H137,0)))=\"E\",\"E\",\"\"),_xlfn.IFNA(IF((INDEX(E137:H137,MATCH(\"D (E)c\",E137:H137,0)))=\"D (E)c\",\"D (E)\",\"\"),_xlfn.IFNA(IF((INDEX(E137:H137,MATCH(\"D\",E137:H137,0)))=\"D\",\"D\",\"\"),_xlfn.IFNA(IF((INDEX(E137:H137,MATCH(\"C\",E137:H137,0)))=\"C\",\"C\",\"\"),_xlfn.IFNA(IF((INDEX(E137:H137,MATCH(\"B\",E137:H137,0)))=\"B\",\"B\",\"\"),_xlfn.IFNA(IF((INDEX(E137:H137,MATCH(\"A\",E137:H137,0)))=\"A\",\"A\",\"\"),_xlfn.IFNA(IF((INDEX(E137:H137,MATCH(\"n.a.\",E137:H137,0)))=\"n.a.\",\"\",\"\"),_xlfn.IFNA(IF((INDEX(E137:H137,MATCH(\"\",E137:H137,0)))=\"\",\"\",\"\"),\"\"))))))))","v":""}]
[]
[]
[null,"\nStep 3: D(E) Assessment\nSkip this step if \nyour assessment above does not reveal a D(E) hazard level.\nHover over this cell for additional instructions.\n",null,null,"\nOverall hazard level\n",null,{"$f":"IF(AND(E138=\"\",C124=\"Yes\")=TRUE,\"B\",IF(E138=\"\",\"\",(IF(AND(E138=\"D (E)\",C141=\"\"),\"D (E)\"&CHAR(10)&\"Find if cat. 1 acute tox.\",(IF(E138<>\"D (E)\",E138,(IF(AND(E138=\"D (E)\",C141=\"Yes\"),\"E\",(IF(AND(E138=\"D (E)\",C141=\"No\"),\"D\",\"\"))))))))))","v":""}]
[]
[{"$f":"IF(IF(MOD(ROWS(B$3:B143),20)=1,INDEX('Summary Sheet'!$A$17:$A250,INT(ROWS(B$3:B143)/20)+1),\"\")=0,\"\",IF(MOD(ROWS(B$3:B143),20)=1,INDEX('Summary Sheet'!$A$17:$A250,INT(ROWS(B$3:B143)/20)+1),\"\"))","v":8},"Hazard Level Assessment","for",{"$f":"IF(IF(MOD(ROWS(D$3:D143),20)=1,INDEX('Summary Sheet'!$B$17:$B250,INT(ROWS(D$3:D143)/20)+1),\"\")=0,\"\",IF(MOD(ROWS(D$3:D143),20)=1,INDEX('Summary Sheet'!$B$17:$B250,INT(ROWS(D$3:D143)/20)+1),\"\"))","v":""}]
[null,"\nStep 1: Physical & Environmental Hazard Statements/Codes\nFind Section 2 of the SDS and determine if the SDS has physical and/or environmental hazard statements/codes. Hover on this cell for additional instructions.\n",null,{"$f":"IF(IF(MOD(ROWS(D$3:D144),20)=1,INDEX('Summary Sheet'!$B$17:$B250,INT(ROWS(D$3:D144)/20)+1),\"\")=0,\"\",IF(MOD(ROWS(D$3:D144),20)=1,INDEX('Summary Sheet'!$B$17:$B250,INT(ROWS(D$3:D144)/20)+1),\"\"))","v":""}]
[null,"Step 2: Health Hazard Statements/Codes\nProvide the Health Hazard Statements or Codes from Section 2 of the SDS below. Hover on this cell for additional instructions.",null,{"$f":"IF(IF(MOD(ROWS(D$3:D145),20)=1,INDEX('Summary Sheet'!$B$17:$B250,INT(ROWS(D$3:D145)/20)+1),\"\")=0,\"\",IF(MOD(ROWS(D$3:D145),20)=1,INDEX('Summary Sheet'!$B$17:$B250,INT(ROWS(D$3:D145)/20)+1),\"\"))","v":""},"\nHazard Level\n"]
[null,null,null,{"$f":"IF(IF(MOD(ROWS(D$3:D146),20)=1,INDEX('Summary Sheet'!$B$17:$B250,INT(ROWS(D$3:D146)/20)+1),\"\")=0,\"\",IF(MOD(ROWS(D$3:D146),20)=1,INDEX('Summary Sheet'!$B$17:$B250,INT(ROWS(D$3:D146)/20)+1),\"\"))","v":""},"\nEye Damage\n","\nInhalation\n","\nLocal Skin Damage\n","\nSkin uptake, systemic\n"]
[1,null,{"$f":"_xlfn.IFNA(VLOOKUP(B147,_!$A$7:$F$210,6,FALSE),\"\")","v":""},{"$f":"IF(IF(MOD(ROWS(D$3:D147),20)=1,INDEX('Summary Sheet'!$B$17:$B250,INT(ROWS(D$3:D147)/20)+1),\"\")=0,\"\",IF(MOD(ROWS(D$3:D147),20)=1,INDEX('Summary Sheet'!$B$17:$B250,INT(ROWS(D$3:D147)/20)+1),\"\"))","v":""},{"$f":"_xlfn.IFNA(IF(VLOOKUP(B147,_!$A$7:$E$210,2,FALSE)=0, \"\", VLOOKUP(B147,_!$A$7:$E$210,2,FALSE)),  \"\")","v":""},{"$f":"_xlfn.IFNA(IF(VLOOKUP(B147,_!$A$7:$E$210,3,FALSE)=0, \"\", VLOOKUP(B147,_!$A$7:$E$210,3,FALSE)), \"\")","v":""},{"$f":"_xlfn.IFNA(IF(VLOOKUP(B147,_!$A$7:$E$210,4,FALSE)=0, \"\",VLOOKUP(B147,_!$A$7:$E$210,4,FALSE)), \"\")","v":""},{"$f":"_xlfn.IFNA(IF(VLOOKUP(B147,_!$A$7:$E$210,5,FALSE)=0,\"\",VLOOKUP(B147,_!$A$7:$E$210,5,FALSE)), \"\")","v":""}]
[2,null,{"$f":"_xlfn.IFNA(VLOOKUP(B148,_!$A$7:$F$210,6,FALSE),\"\")","v":""},{"$f":"IF(IF(MOD(ROWS(D$3:D148),20)=1,INDEX('Summary Sheet'!$B$17:$B250,INT(ROWS(D$3:D148)/20)+1),\"\")=0,\"\",IF(MOD(ROWS(D$3:D148),20)=1,INDEX('Summary Sheet'!$B$17:$B250,INT(ROWS(D$3:D148)/20)+1),\"\"))","v":""},{"$f":"_xlfn.IFNA(IF(VLOOKUP(B148,_!$A$7:$E$210,2,FALSE)=0, \"\", VLOOKUP(B148,_!$A$7:$E$210,2,FALSE)),  \"\")","v":""},{"$f":"_xlfn.IFNA(IF(VLOOKUP(B148,_!$A$7:$E$210,3,FALSE)=0, \"\", VLOOKUP(B148,_!$A$7:$E$210,3,FALSE)), \"\")","v":""},{"$f":"_xlfn.IFNA(IF(VLOOKUP(B148,_!$A$7:$E$210,4,FALSE)=0, \"\",VLOOKUP(B148,_!$A$7:$E$210,4,FALSE)), \"\")","v":""},{"$f":"_xlfn.IFNA(IF(VLOOKUP(B148,_!$A$7:$E$210,5,FALSE)=0,\"\",VLOOKUP(B148,_!$A$7:$E$210,5,FALSE)), \"\")","v":""}]
[3,null,{"$f":"_xlfn.IFNA(VLOOKUP(B149,_!$A$7:$F$210,6,FALSE),\"\")","v":""},{"$f":"IF(IF(MOD(ROWS(D$3:D149),20)=1,INDEX('Summary Sheet'!$B$17:$B250,INT(ROWS(D$3:D149)/20)+1),\"\")=0,\"\",IF(MOD(ROWS(D$3:D149),20)=1,INDEX('Summary Sheet'!$B$17:$B250,INT(ROWS(D$3:D149)/20)+1),\"\"))","v":""},{"$f":"_xlfn.IFNA(IF(VLOOKUP(B149,_!$A$7:$E$210,2,FALSE)=0, \"\", VLOOKUP(B149,_!$A$7:$E$210,2,FALSE)),  \"\")","v":""},{"$f":"_xlfn.IFNA(IF(VLOOKUP(B149,_!$A$7:$E$210,3,FALSE)=0, \"\", VLOOKUP(B149,_!$A$7:$E$210,3,FALSE)), \"\")","v":""},{"$f":"_xlfn.IFNA(IF(VLOOKUP(B149,_!$A$7:$E$210,4,FALSE)=0, \"\",VLOOKUP(B149,_!$A$7:$E$210,4,FALSE)), \"\")","v":""},{"$f":"_xlfn.IFNA(IF(VLOOKUP(B149,_!$A$7:$E$210,5,FALSE)=0,\"\",VLOOKUP(B149,_!$A$7:$E$210,5,FALSE)), \"\")","v":""}]
[4,null,{"$f":"_xlfn.IFNA(VLOOKUP(B150,_!$A$7:$F$210,6,FALSE),\"\")","v":""},{"$f":"IF(IF(MOD(ROWS(D$3:D150),20)=1,INDEX('Summary Sheet'!$B$17:$B250,INT(ROWS(D$3:D150)/20)+1),\"\")=0,\"\",IF(MOD(ROWS(D$3:D150),20)=1,INDEX('Summary Sheet'!$B$17:$B250,INT(ROWS(D$3:D150)/20)+1),\"\"))","v":""},{"$f":"_xlfn.IFNA(IF(VLOOKUP(B150,_!$A$7:$E$210,2,FALSE)=0, \"\", VLOOKUP(B150,_!$A$7:$E$210,2,FALSE)),  \"\")","v":""},{"$f":"_xlfn.IFNA(IF(VLOOKUP(B150,_!$A$7:$E$210,3,FALSE)=0, \"\", VLOOKUP(B150,_!$A$7:$E$210,3,FALSE)), \"\")","v":""},{"$f":"_xlfn.IFNA(IF(VLOOKUP(B150,_!$A$7:$E$210,4,FALSE)=0, \"\",VLOOKUP(B150,_!$A$7:$E$210,4,FALSE)), \"\")","v":""},{"$f":"_xlfn.IFNA(IF(VLOOKUP(B150,_!$A$7:$E$210,5,FALSE)=0,\"\",VLOOKUP(B150,_!$A$7:$E$210,5,FALSE)), \"\")","v":""}]
[5,null,{"$f":"_xlfn.IFNA(VLOOKUP(B151,_!$A$7:$F$210,6,FALSE),\"\")","v":""},{"$f":"IF(IF(MOD(ROWS(D$3:D151),20)=1,INDEX('Summary Sheet'!$B$17:$B250,INT(ROWS(D$3:D151)/20)+1),\"\")=0,\"\",IF(MOD(ROWS(D$3:D151),20)=1,INDEX('Summary Sheet'!$B$17:$B250,INT(ROWS(D$3:D151)/20)+1),\"\"))","v":""},{"$f":"_xlfn.IFNA(IF(VLOOKUP(B151,_!$A$7:$E$210,2,FALSE)=0, \"\", VLOOKUP(B151,_!$A$7:$E$210,2,FALSE)),  \"\")","v":""},{"$f":"_xlfn.IFNA(IF(VLOOKUP(B151,_!$A$7:$E$210,3,FALSE)=0, \"\", VLOOKUP(B151,_!$A$7:$E$210,3,FALSE)), \"\")","v":""},{"$f":"_xlfn.IFNA(IF(VLOOKUP(B151,_!$A$7:$E$210,4,FALSE)=0, \"\",VLOOKUP(B151,_!$A$7:$E$210,4,FALSE)), \"\")","v":""},{"$f":"_xlfn.IFNA(IF(VLOOKUP(B151,_!$A$7:$E$210,5,FALSE)=0,\"\",VLOOKUP(B151,_!$A$7:$E$210,5,FALSE)), \"\")","v":""}]
[6,null,{"$f":"_xlfn.IFNA(VLOOKUP(B152,_!$A$7:$F$210,6,FALSE),\"\")","v":""},{"$f":"IF(IF(MOD(ROWS(D$3:D152),20)=1,INDEX('Summary Sheet'!$B$17:$B250,INT(ROWS(D$3:D152)/20)+1),\"\")=0,\"\",IF(MOD(ROWS(D$3:D152),20)=1,INDEX('Summary Sheet'!$B$17:$B250,INT(ROWS(D$3:D152)/20)+1),\"\"))","v":""},{"$f":"_xlfn.IFNA(IF(VLOOKUP(B152,_!$A$7:$E$210,2,FALSE)=0, \"\", VLOOKUP(B152,_!$A$7:$E$210,2,FALSE)),  \"\")","v":""},{"$f":"_xlfn.IFNA(IF(VLOOKUP(B152,_!$A$7:$E$210,3,FALSE)=0, \"\", VLOOKUP(B152,_!$A$7:$E$210,3,FALSE)), \"\")","v":""},{"$f":"_xlfn.IFNA(IF(VLOOKUP(B152,_!$A$7:$E$210,4,FALSE)=0, \"\",VLOOKUP(B152,_!$A$7:$E$210,4,FALSE)), \"\")","v":""},{"$f":"_xlfn.IFNA(IF(VLOOKUP(B152,_!$A$7:$E$210,5,FALSE)=0,\"\",VLOOKUP(B152,_!$A$7:$E$210,5,FALSE)), \"\")","v":""}]
[7,null,{"$f":"_xlfn.IFNA(VLOOKUP(B153,_!$A$7:$F$210,6,FALSE),\"\")","v":""},{"$f":"IF(IF(MOD(ROWS(D$3:D153),20)=1,INDEX('Summary Sheet'!$B$17:$B250,INT(ROWS(D$3:D153)/20)+1),\"\")=0,\"\",IF(MOD(ROWS(D$3:D153),20)=1,INDEX('Summary Sheet'!$B$17:$B250,INT(ROWS(D$3:D153)/20)+1),\"\"))","v":""},{"$f":"_xlfn.IFNA(IF(VLOOKUP(B153,_!$A$7:$E$210,2,FALSE)=0, \"\", VLOOKUP(B153,_!$A$7:$E$210,2,FALSE)),  \"\")","v":""},{"$f":"_xlfn.IFNA(IF(VLOOKUP(B153,_!$A$7:$E$210,3,FALSE)=0, \"\", VLOOKUP(B153,_!$A$7:$E$210,3,FALSE)), \"\")","v":""},{"$f":"_xlfn.IFNA(IF(VLOOKUP(B153,_!$A$7:$E$210,4,FALSE)=0, \"\",VLOOKUP(B153,_!$A$7:$E$210,4,FALSE)), \"\")","v":""},{"$f":"_xlfn.IFNA(IF(VLOOKUP(B153,_!$A$7:$E$210,5,FALSE)=0,\"\",VLOOKUP(B153,_!$A$7:$E$210,5,FALSE)), \"\")","v":""}]
[8,null,{"$f":"_xlfn.IFNA(VLOOKUP(B154,_!$A$7:$F$210,6,FALSE),\"\")","v":""},{"$f":"IF(IF(MOD(ROWS(D$3:D154),20)=1,INDEX('Summary Sheet'!$B$17:$B250,INT(ROWS(D$3:D154)/20)+1),\"\")=0,\"\",IF(MOD(ROWS(D$3:D154),20)=1,INDEX('Summary Sheet'!$B$17:$B250,INT(ROWS(D$3:D154)/20)+1),\"\"))","v":""},{"$f":"_xlfn.IFNA(IF(VLOOKUP(B154,_!$A$7:$E$210,2,FALSE)=0, \"\", VLOOKUP(B154,_!$A$7:$E$210,2,FALSE)),  \"\")","v":""},{"$f":"_xlfn.IFNA(IF(VLOOKUP(B154,_!$A$7:$E$210,3,FALSE)=0, \"\", VLOOKUP(B154,_!$A$7:$E$210,3,FALSE)), \"\")","v":""},{"$f":"_xlfn.IFNA(IF(VLOOKUP(B154,_!$A$7:$E$210,4,FALSE)=0, \"\",VLOOKUP(B154,_!$A$7:$E$210,4,FALSE)), \"\")","v":""},{"$f":"_xlfn.IFNA(IF(VLOOKUP(B154,_!$A$7:$E$210,5,FALSE)=0,\"\",VLOOKUP(B154,_!$A$7:$E$210,5,FALSE)), \"\")","v":""}]
[9,null,{"$f":"_xlfn.IFNA(VLOOKUP(B155,_!$A$7:$F$210,6,FALSE),\"\")","v":""},{"$f":"IF(IF(MOD(ROWS(D$3:D155),20)=1,INDEX('Summary Sheet'!$B$17:$B250,INT(ROWS(D$3:D155)/20)+1),\"\")=0,\"\",IF(MOD(ROWS(D$3:D155),20)=1,INDEX('Summary Sheet'!$B$17:$B250,INT(ROWS(D$3:D155)/20)+1),\"\"))","v":""},{"$f":"_xlfn.IFNA(IF(VLOOKUP(B155,_!$A$7:$E$210,2,FALSE)=0, \"\", VLOOKUP(B155,_!$A$7:$E$210,2,FALSE)),  \"\")","v":""},{"$f":"_xlfn.IFNA(IF(VLOOKUP(B155,_!$A$7:$E$210,3,FALSE)=0, \"\", VLOOKUP(B155,_!$A$7:$E$210,3,FALSE)), \"\")","v":""},{"$f":"_xlfn.IFNA(IF(VLOOKUP(B155,_!$A$7:$E$210,4,FALSE)=0, \"\",VLOOKUP(B155,_!$A$7:$E$210,4,FALSE)), \"\")","v":""},{"$f":"_xlfn.IFNA(IF(VLOOKUP(B155,_!$A$7:$E$210,5,FALSE)=0,\"\",VLOOKUP(B155,_!$A$7:$E$210,5,FALSE)), \"\")","v":""}]
[10,null,{"$f":"_xlfn.IFNA(VLOOKUP(B156,_!$A$7:$F$210,6,FALSE),\"\")","v":""},{"$f":"IF(IF(MOD(ROWS(D$14:D156),20)=1,INDEX('Summary Sheet'!$B$17:$B250,INT(ROWS(D$14:D156)/20)+1),\"\")=0,\"\",IF(MOD(ROWS(D$14:D156),20)=1,INDEX('Summary Sheet'!$B$17:$B250,INT(ROWS(D$14:D156)/20)+1),\"\"))","v":""},{"$f":"_xlfn.IFNA(IF(VLOOKUP(B156,_!$A$7:$E$210,2,FALSE)=0, \"\", VLOOKUP(B156,_!$A$7:$E$210,2,FALSE)),  \"\")","v":""},{"$f":"_xlfn.IFNA(IF(VLOOKUP(B156,_!$A$7:$E$210,3,FALSE)=0, \"\", VLOOKUP(B156,_!$A$7:$E$210,3,FALSE)), \"\")","v":""},{"$f":"_xlfn.IFNA(IF(VLOOKUP(B156,_!$A$7:$E$210,4,FALSE)=0, \"\",VLOOKUP(B156,_!$A$7:$E$210,4,FALSE)), \"\")","v":""},{"$f":"_xlfn.IFNA(IF(VLOOKUP(B156,_!$A$7:$E$210,5,FALSE)=0,\"\",VLOOKUP(B156,_!$A$7:$E$210,5,FALSE)), \"\")","v":""}]
[null,"\nHighest hazard level for each ‘Uptake Route’\n",null,null,{"$f":"_xlfn.IFNA(IF((INDEX(E147:E156,MATCH(\"E\",E147:E156,0)))=\"E\",\"E\",\"\"),_xlfn.IFNA(IF((INDEX(E147:E156,MATCH(\"D\",E147:E156,0)))=\"D\",\"D\",\"\"),_xlfn.IFNA(IF((INDEX(E147:E156,MATCH(\"Ca\",E147:E156,0)))=\"Ca\",\"C\",\"\"),_xlfn.IFNA(IF((INDEX(E147:E156,MATCH(\"C\",E147:E156,0)))=\"C\",\"C\",\"\"),_xlfn.IFNA(IF((INDEX(E147:E156,MATCH(\"B\",E147:E156,0)))=\"B\",\"B\",\"\"),_xlfn.IFNA(IF((INDEX(E147:E156,MATCH(\"A\",E147:E156,0)))=\"A\",\"A\",\"\"),_xlfn.IFNA(IF((INDEX(E147:E156,MATCH(\"n.a.\",E147:E156,0)))=\"n.a.\",\"\",\"\"),_xlfn.IFNA(IF((INDEX(E147:E156,MATCH(\"\",E147:E156,0)))=\"\",\"\",\"\"),\"\"))))))))","v":""},{"$f":"_xlfn.IFNA(IF((INDEX(F147:F156,MATCH(\"E\",F147:F156,0)))=\"E\",\"E\",\"\"),_xlfn.IFNA(IF((INDEX(F147:F156,MATCH(\"D (E)c\",F147:F156,0)))=\"D (E)c\",\"D (E)c\",\"\"),_xlfn.IFNA(IF((INDEX(F147:F156,MATCH(\"Da (E)c\",F147:F156,0)))=\"Da (E)c\",\"D (E)c\",\"\"),_xlfn.IFNA(IF((INDEX(F147:F156,MATCH(\"D\",F147:F156,0)))=\"D\",\"D\",\"\"),_xlfn.IFNA(IF((INDEX(F147:F156,MATCH(\"Ca\",F147:F156,0)))=\"Ca\",\"C\",\"\"),_xlfn.IFNA(IF((INDEX(F147:F156,MATCH(\"C\",F147:F156,0)))=\"C\",\"C\",\"\"),_xlfn.IFNA(IF((INDEX(F147:F156,MATCH(\"Ba\",F147:F156,0)))=\"Ba\",\"B\",\"\"),_xlfn.IFNA(IF((INDEX(F147:F156,MATCH(\"B\",F147:F156,0)))=\"B\",\"B\",\"\"),_xlfn.IFNA(IF((INDEX(F147:F156,MATCH(\"Aa\",F147:F156,0)))=\"Aa\",\"A\",\"\"),_xlfn.IFNA(IF((INDEX(F147:F156,MATCH(\"A\",F147:F156,0)))=\"A\",\"A\",\"\"),_xlfn.IFNA(IF((INDEX(F147:F156,MATCH(\"n.a.\",F147:F156,0)))=\"n.a.\",\"\",\"\"),_xlfn.IFNA(IF((INDEX(F147:F156,MATCH(\"\",F147:F156,0)))=\"\",\"\",\"\"),\"\"))))))))))))","v":""},{"$f":"_xlfn.IFNA(IF((INDEX(G147:G156,MATCH(\"E\",G147:G156,0)))=\"E\",\"E\",\"\"),_xlfn.IFNA(IF((INDEX(G147:G156,MATCH(\"D\",G147:G156,0)))=\"D\",\"D\",\"\"),_xlfn.IFNA(IF((INDEX(G147:G156,MATCH(\"Ca\",G147:G156,0)))=\"Ca\",\"C\",\"\"),_xlfn.IFNA(IF((INDEX(G147:G156,MATCH(\"C\",G147:G156,0)))=\"C\",\"C\",\"\"),_xlfn.IFNA(IF((INDEX(G147:G156,MATCH(\"B\",G147:G156,0)))=\"B\",\"B\",\"\"),_xlfn.IFNA(IF((INDEX(G147:G156,MATCH(\"A\",G147:G156,0)))=\"A\",\"A\",\"\"),_xlfn.IFNA(IF((INDEX(G147:G156,MATCH(\"n.a.\",G147:G156,0)))=\"n.a.\",\"\",\"\"),_xlfn.IFNA(IF((INDEX(G147:G156,MATCH(\"\",G147:G156,0)))=\"\",\"\",\"\"),\"\"))))))))","v":""},{"$f":"_xlfn.IFNA(IF((INDEX(H147:H156,MATCH(\"E\",H147:H156,0)))=\"E\",\"E\",\"\"),_xlfn.IFNA(IF((INDEX(H147:H156,MATCH(\"D (E)c\",H147:H156,0)))=\"D (E)c\",\"D (E)c\",\"\"),_xlfn.IFNA(IF((INDEX(H147:H156,MATCH(\"Db (E)c\",H147:H156,0)))=\"Db (E)c\",\"D (E)c\",\"\"),_xlfn.IFNA(IF((INDEX(H147:H156,MATCH(\"D\",H147:H156,0)))=\"D\",\"D\",\"\"),_xlfn.IFNA(IF((INDEX(H147:H156,MATCH(\"Cb\",H147:H156,0)))=\"Cb\",\"C\",\"\"),_xlfn.IFNA(IF((INDEX(H147:H156,MATCH(\"C\",H147:H156,0)))=\"C\",\"C\",\"\"),_xlfn.IFNA(IF((INDEX(H147:H156,MATCH(\"Bb\",H147:H156,0)))=\"Bb\",\"B\",\"\"),_xlfn.IFNA(IF((INDEX(H147:H156,MATCH(\"B\",H147:H156,0)))=\"B\",\"B\",\"\"),_xlfn.IFNA(IF((INDEX(H147:H156,MATCH(\"Ab\",H147:H156,0)))=\"Ab\",\"A\",\"\"),_xlfn.IFNA(IF((INDEX(H147:H156,MATCH(\"A\",H147:H156,0)))=\"A\",\"A\",\"\"),_xlfn.IFNA(IF((INDEX(H147:H156,MATCH(\"n.a.\",H147:H156,0)))=\"n.a.\",\"\",\"\"),_xlfn.IFNA(IF((INDEX(H147:H156,MATCH(\"\",H147:H156,0)))=\"\",\"\",\"\"),\"\"))))))))))))","v":""}]
[null,"\nHighest hazard level for all 'Uptake Routes' \n",null,null,{"$f":"_xlfn.IFNA(IF((INDEX(E157:H157,MATCH(\"E\",E157:H157,0)))=\"E\",\"E\",\"\"),_xlfn.IFNA(IF((INDEX(E157:H157,MATCH(\"D (E)c\",E157:H157,0)))=\"D (E)c\",\"D (E)\",\"\"),_xlfn.IFNA(IF((INDEX(E157:H157,MATCH(\"D\",E157:H157,0)))=\"D\",\"D\",\"\"),_xlfn.IFNA(IF((INDEX(E157:H157,MATCH(\"C\",E157:H157,0)))=\"C\",\"C\",\"\"),_xlfn.IFNA(IF((INDEX(E157:H157,MATCH(\"B\",E157:H157,0)))=\"B\",\"B\",\"\"),_xlfn.IFNA(IF((INDEX(E157:H157,MATCH(\"A\",E157:H157,0)))=\"A\",\"A\",\"\"),_xlfn.IFNA(IF((INDEX(E157:H157,MATCH(\"n.a.\",E157:H157,0)))=\"n.a.\",\"\",\"\"),_xlfn.IFNA(IF((INDEX(E157:H157,MATCH(\"\",E157:H157,0)))=\"\",\"\",\"\"),\"\"))))))))","v":""}]
[]
[]
[null,"\nStep 3: D(E) Assessment\nSkip this step if \nyour assessment above does not reveal a D(E) hazard level.\nHover over this cell for additional instructions.\n",null,null,"\nOverall hazard level\n",null,{"$f":"IF(AND(E158=\"\",C144=\"Yes\")=TRUE,\"B\",IF(E158=\"\",\"\",(IF(AND(E158=\"D (E)\",C161=\"\"),\"D (E)\"&CHAR(10)&\"Find if cat. 1 acute tox.\",(IF(E158<>\"D (E)\",E158,(IF(AND(E158=\"D (E)\",C161=\"Yes\"),\"E\",(IF(AND(E158=\"D (E)\",C161=\"No\"),\"D\",\"\"))))))))))","v":""}]
[]
[{"$f":"IF(IF(MOD(ROWS(B$3:B163),20)=1,INDEX('Summary Sheet'!$A$17:$A269,INT(ROWS(B$3:B163)/20)+1),\"\")=0,\"\",IF(MOD(ROWS(B$3:B163),20)=1,INDEX('Summary Sheet'!$A$17:$A269,INT(ROWS(B$3:B163)/20)+1),\"\"))","v":9},"Hazard Level Assessment","for",{"$f":"IF(IF(MOD(ROWS(D$3:D163),20)=1,INDEX('Summary Sheet'!$B$17:$B269,INT(ROWS(D$3:D163)/20)+1),\"\")=0,\"\",IF(MOD(ROWS(D$3:D163),20)=1,INDEX('Summary Sheet'!$B$17:$B269,INT(ROWS(D$3:D163)/20)+1),\"\"))","v":""}]
[null,"\nStep 1: Physical & Environmental Hazard Statements/Codes\nFind Section 2 of the SDS and determine if the SDS has physical and/or environmental hazard statements/codes. Hover on this cell for additional instructions.\n",null,{"$f":"IF(IF(MOD(ROWS(D$3:D164),20)=1,INDEX('Summary Sheet'!$B$17:$B269,INT(ROWS(D$3:D164)/20)+1),\"\")=0,\"\",IF(MOD(ROWS(D$3:D164),20)=1,INDEX('Summary Sheet'!$B$17:$B269,INT(ROWS(D$3:D164)/20)+1),\"\"))","v":""}]
[null,"Step 2: Health Hazard Statements/Codes\nProvide the Health Hazard Statements or Codes from Section 2 of the SDS below. Hover on this cell for additional instructions.",null,{"$f":"IF(IF(MOD(ROWS(D$3:D165),20)=1,INDEX('Summary Sheet'!$B$17:$B269,INT(ROWS(D$3:D165)/20)+1),\"\")=0,\"\",IF(MOD(ROWS(D$3:D165),20)=1,INDEX('Summary Sheet'!$B$17:$B269,INT(ROWS(D$3:D165)/20)+1),\"\"))","v":""},"\nHazard Level\n"]
[null,null,null,{"$f":"IF(IF(MOD(ROWS(D$3:D166),20)=1,INDEX('Summary Sheet'!$B$17:$B269,INT(ROWS(D$3:D166)/20)+1),\"\")=0,\"\",IF(MOD(ROWS(D$3:D166),20)=1,INDEX('Summary Sheet'!$B$17:$B269,INT(ROWS(D$3:D166)/20)+1),\"\"))","v":""},"\nEye Damage\n","\nInhalation\n","\nLocal Skin Damage\n","\nSkin uptake, systemic\n"]
[1,null,{"$f":"_xlfn.IFNA(VLOOKUP(B167,_!$A$7:$F$210,6,FALSE),\"\")","v":""},{"$f":"IF(IF(MOD(ROWS(D$3:D167),20)=1,INDEX('Summary Sheet'!$B$17:$B269,INT(ROWS(D$3:D167)/20)+1),\"\")=0,\"\",IF(MOD(ROWS(D$3:D167),20)=1,INDEX('Summary Sheet'!$B$17:$B269,INT(ROWS(D$3:D167)/20)+1),\"\"))","v":""},{"$f":"_xlfn.IFNA(IF(VLOOKUP(B167,_!$A$7:$E$210,2,FALSE)=0, \"\", VLOOKUP(B167,_!$A$7:$E$210,2,FALSE)),  \"\")","v":""},{"$f":"_xlfn.IFNA(IF(VLOOKUP(B167,_!$A$7:$E$210,3,FALSE)=0, \"\", VLOOKUP(B167,_!$A$7:$E$210,3,FALSE)), \"\")","v":""},{"$f":"_xlfn.IFNA(IF(VLOOKUP(B167,_!$A$7:$E$210,4,FALSE)=0, \"\",VLOOKUP(B167,_!$A$7:$E$210,4,FALSE)), \"\")","v":""},{"$f":"_xlfn.IFNA(IF(VLOOKUP(B167,_!$A$7:$E$210,5,FALSE)=0,\"\",VLOOKUP(B167,_!$A$7:$E$210,5,FALSE)), \"\")","v":""}]
[2,null,{"$f":"_xlfn.IFNA(VLOOKUP(B168,_!$A$7:$F$210,6,FALSE),\"\")","v":""},{"$f":"IF(IF(MOD(ROWS(D$3:D168),20)=1,INDEX('Summary Sheet'!$B$17:$B269,INT(ROWS(D$3:D168)/20)+1),\"\")=0,\"\",IF(MOD(ROWS(D$3:D168),20)=1,INDEX('Summary Sheet'!$B$17:$B269,INT(ROWS(D$3:D168)/20)+1),\"\"))","v":""},{"$f":"_xlfn.IFNA(IF(VLOOKUP(B168,_!$A$7:$E$210,2,FALSE)=0, \"\", VLOOKUP(B168,_!$A$7:$E$210,2,FALSE)),  \"\")","v":""},{"$f":"_xlfn.IFNA(IF(VLOOKUP(B168,_!$A$7:$E$210,3,FALSE)=0, \"\", VLOOKUP(B168,_!$A$7:$E$210,3,FALSE)), \"\")","v":""},{"$f":"_xlfn.IFNA(IF(VLOOKUP(B168,_!$A$7:$E$210,4,FALSE)=0, \"\",VLOOKUP(B168,_!$A$7:$E$210,4,FALSE)), \"\")","v":""},{"$f":"_xlfn.IFNA(IF(VLOOKUP(B168,_!$A$7:$E$210,5,FALSE)=0,\"\",VLOOKUP(B168,_!$A$7:$E$210,5,FALSE)), \"\")","v":""}]
[3,null,{"$f":"_xlfn.IFNA(VLOOKUP(B169,_!$A$7:$F$210,6,FALSE),\"\")","v":""},{"$f":"IF(IF(MOD(ROWS(D$3:D169),20)=1,INDEX('Summary Sheet'!$B$17:$B269,INT(ROWS(D$3:D169)/20)+1),\"\")=0,\"\",IF(MOD(ROWS(D$3:D169),20)=1,INDEX('Summary Sheet'!$B$17:$B269,INT(ROWS(D$3:D169)/20)+1),\"\"))","v":""},{"$f":"_xlfn.IFNA(IF(VLOOKUP(B169,_!$A$7:$E$210,2,FALSE)=0, \"\", VLOOKUP(B169,_!$A$7:$E$210,2,FALSE)),  \"\")","v":""},{"$f":"_xlfn.IFNA(IF(VLOOKUP(B169,_!$A$7:$E$210,3,FALSE)=0, \"\", VLOOKUP(B169,_!$A$7:$E$210,3,FALSE)), \"\")","v":""},{"$f":"_xlfn.IFNA(IF(VLOOKUP(B169,_!$A$7:$E$210,4,FALSE)=0, \"\",VLOOKUP(B169,_!$A$7:$E$210,4,FALSE)), \"\")","v":""},{"$f":"_xlfn.IFNA(IF(VLOOKUP(B169,_!$A$7:$E$210,5,FALSE)=0,\"\",VLOOKUP(B169,_!$A$7:$E$210,5,FALSE)), \"\")","v":""}]
[4,null,{"$f":"_xlfn.IFNA(VLOOKUP(B170,_!$A$7:$F$210,6,FALSE),\"\")","v":""},{"$f":"IF(IF(MOD(ROWS(D$3:D170),20)=1,INDEX('Summary Sheet'!$B$17:$B269,INT(ROWS(D$3:D170)/20)+1),\"\")=0,\"\",IF(MOD(ROWS(D$3:D170),20)=1,INDEX('Summary Sheet'!$B$17:$B269,INT(ROWS(D$3:D170)/20)+1),\"\"))","v":""},{"$f":"_xlfn.IFNA(IF(VLOOKUP(B170,_!$A$7:$E$210,2,FALSE)=0, \"\", VLOOKUP(B170,_!$A$7:$E$210,2,FALSE)),  \"\")","v":""},{"$f":"_xlfn.IFNA(IF(VLOOKUP(B170,_!$A$7:$E$210,3,FALSE)=0, \"\", VLOOKUP(B170,_!$A$7:$E$210,3,FALSE)), \"\")","v":""},{"$f":"_xlfn.IFNA(IF(VLOOKUP(B170,_!$A$7:$E$210,4,FALSE)=0, \"\",VLOOKUP(B170,_!$A$7:$E$210,4,FALSE)), \"\")","v":""},{"$f":"_xlfn.IFNA(IF(VLOOKUP(B170,_!$A$7:$E$210,5,FALSE)=0,\"\",VLOOKUP(B170,_!$A$7:$E$210,5,FALSE)), \"\")","v":""}]
[5,null,{"$f":"_xlfn.IFNA(VLOOKUP(B171,_!$A$7:$F$210,6,FALSE),\"\")","v":""},{"$f":"IF(IF(MOD(ROWS(D$3:D171),20)=1,INDEX('Summary Sheet'!$B$17:$B269,INT(ROWS(D$3:D171)/20)+1),\"\")=0,\"\",IF(MOD(ROWS(D$3:D171),20)=1,INDEX('Summary Sheet'!$B$17:$B269,INT(ROWS(D$3:D171)/20)+1),\"\"))","v":""},{"$f":"_xlfn.IFNA(IF(VLOOKUP(B171,_!$A$7:$E$210,2,FALSE)=0, \"\", VLOOKUP(B171,_!$A$7:$E$210,2,FALSE)),  \"\")","v":""},{"$f":"_xlfn.IFNA(IF(VLOOKUP(B171,_!$A$7:$E$210,3,FALSE)=0, \"\", VLOOKUP(B171,_!$A$7:$E$210,3,FALSE)), \"\")","v":""},{"$f":"_xlfn.IFNA(IF(VLOOKUP(B171,_!$A$7:$E$210,4,FALSE)=0, \"\",VLOOKUP(B171,_!$A$7:$E$210,4,FALSE)), \"\")","v":""},{"$f":"_xlfn.IFNA(IF(VLOOKUP(B171,_!$A$7:$E$210,5,FALSE)=0,\"\",VLOOKUP(B171,_!$A$7:$E$210,5,FALSE)), \"\")","v":""}]
[6,null,{"$f":"_xlfn.IFNA(VLOOKUP(B172,_!$A$7:$F$210,6,FALSE),\"\")","v":""},{"$f":"IF(IF(MOD(ROWS(D$3:D172),20)=1,INDEX('Summary Sheet'!$B$17:$B269,INT(ROWS(D$3:D172)/20)+1),\"\")=0,\"\",IF(MOD(ROWS(D$3:D172),20)=1,INDEX('Summary Sheet'!$B$17:$B269,INT(ROWS(D$3:D172)/20)+1),\"\"))","v":""},{"$f":"_xlfn.IFNA(IF(VLOOKUP(B172,_!$A$7:$E$210,2,FALSE)=0, \"\", VLOOKUP(B172,_!$A$7:$E$210,2,FALSE)),  \"\")","v":""},{"$f":"_xlfn.IFNA(IF(VLOOKUP(B172,_!$A$7:$E$210,3,FALSE)=0, \"\", VLOOKUP(B172,_!$A$7:$E$210,3,FALSE)), \"\")","v":""},{"$f":"_xlfn.IFNA(IF(VLOOKUP(B172,_!$A$7:$E$210,4,FALSE)=0, \"\",VLOOKUP(B172,_!$A$7:$E$210,4,FALSE)), \"\")","v":""},{"$f":"_xlfn.IFNA(IF(VLOOKUP(B172,_!$A$7:$E$210,5,FALSE)=0,\"\",VLOOKUP(B172,_!$A$7:$E$210,5,FALSE)), \"\")","v":""}]
[7,null,{"$f":"_xlfn.IFNA(VLOOKUP(B173,_!$A$7:$F$210,6,FALSE),\"\")","v":""},{"$f":"IF(IF(MOD(ROWS(D$3:D173),20)=1,INDEX('Summary Sheet'!$B$17:$B269,INT(ROWS(D$3:D173)/20)+1),\"\")=0,\"\",IF(MOD(ROWS(D$3:D173),20)=1,INDEX('Summary Sheet'!$B$17:$B269,INT(ROWS(D$3:D173)/20)+1),\"\"))","v":""},{"$f":"_xlfn.IFNA(IF(VLOOKUP(B173,_!$A$7:$E$210,2,FALSE)=0, \"\", VLOOKUP(B173,_!$A$7:$E$210,2,FALSE)),  \"\")","v":""},{"$f":"_xlfn.IFNA(IF(VLOOKUP(B173,_!$A$7:$E$210,3,FALSE)=0, \"\", VLOOKUP(B173,_!$A$7:$E$210,3,FALSE)), \"\")","v":""},{"$f":"_xlfn.IFNA(IF(VLOOKUP(B173,_!$A$7:$E$210,4,FALSE)=0, \"\",VLOOKUP(B173,_!$A$7:$E$210,4,FALSE)), \"\")","v":""},{"$f":"_xlfn.IFNA(IF(VLOOKUP(B173,_!$A$7:$E$210,5,FALSE)=0,\"\",VLOOKUP(B173,_!$A$7:$E$210,5,FALSE)), \"\")","v":""}]
[8,null,{"$f":"_xlfn.IFNA(VLOOKUP(B174,_!$A$7:$F$210,6,FALSE),\"\")","v":""},{"$f":"IF(IF(MOD(ROWS(D$3:D174),20)=1,INDEX('Summary Sheet'!$B$17:$B269,INT(ROWS(D$3:D174)/20)+1),\"\")=0,\"\",IF(MOD(ROWS(D$3:D174),20)=1,INDEX('Summary Sheet'!$B$17:$B269,INT(ROWS(D$3:D174)/20)+1),\"\"))","v":""},{"$f":"_xlfn.IFNA(IF(VLOOKUP(B174,_!$A$7:$E$210,2,FALSE)=0, \"\", VLOOKUP(B174,_!$A$7:$E$210,2,FALSE)),  \"\")","v":""},{"$f":"_xlfn.IFNA(IF(VLOOKUP(B174,_!$A$7:$E$210,3,FALSE)=0, \"\", VLOOKUP(B174,_!$A$7:$E$210,3,FALSE)), \"\")","v":""},{"$f":"_xlfn.IFNA(IF(VLOOKUP(B174,_!$A$7:$E$210,4,FALSE)=0, \"\",VLOOKUP(B174,_!$A$7:$E$210,4,FALSE)), \"\")","v":""},{"$f":"_xlfn.IFNA(IF(VLOOKUP(B174,_!$A$7:$E$210,5,FALSE)=0,\"\",VLOOKUP(B174,_!$A$7:$E$210,5,FALSE)), \"\")","v":""}]
[9,null,{"$f":"_xlfn.IFNA(VLOOKUP(B175,_!$A$7:$F$210,6,FALSE),\"\")","v":""},{"$f":"IF(IF(MOD(ROWS(D$3:D175),20)=1,INDEX('Summary Sheet'!$B$17:$B269,INT(ROWS(D$3:D175)/20)+1),\"\")=0,\"\",IF(MOD(ROWS(D$3:D175),20)=1,INDEX('Summary Sheet'!$B$17:$B269,INT(ROWS(D$3:D175)/20)+1),\"\"))","v":""},{"$f":"_xlfn.IFNA(IF(VLOOKUP(B175,_!$A$7:$E$210,2,FALSE)=0, \"\", VLOOKUP(B175,_!$A$7:$E$210,2,FALSE)),  \"\")","v":""},{"$f":"_xlfn.IFNA(IF(VLOOKUP(B175,_!$A$7:$E$210,3,FALSE)=0, \"\", VLOOKUP(B175,_!$A$7:$E$210,3,FALSE)), \"\")","v":""},{"$f":"_xlfn.IFNA(IF(VLOOKUP(B175,_!$A$7:$E$210,4,FALSE)=0, \"\",VLOOKUP(B175,_!$A$7:$E$210,4,FALSE)), \"\")","v":""},{"$f":"_xlfn.IFNA(IF(VLOOKUP(B175,_!$A$7:$E$210,5,FALSE)=0,\"\",VLOOKUP(B175,_!$A$7:$E$210,5,FALSE)), \"\")","v":""}]
[10,null,{"$f":"_xlfn.IFNA(VLOOKUP(B176,_!$A$7:$F$210,6,FALSE),\"\")","v":""},{"$f":"IF(IF(MOD(ROWS(D$14:D176),20)=1,INDEX('Summary Sheet'!$B$17:$B269,INT(ROWS(D$14:D176)/20)+1),\"\")=0,\"\",IF(MOD(ROWS(D$14:D176),20)=1,INDEX('Summary Sheet'!$B$17:$B269,INT(ROWS(D$14:D176)/20)+1),\"\"))","v":""},{"$f":"_xlfn.IFNA(IF(VLOOKUP(B176,_!$A$7:$E$210,2,FALSE)=0, \"\", VLOOKUP(B176,_!$A$7:$E$210,2,FALSE)),  \"\")","v":""},{"$f":"_xlfn.IFNA(IF(VLOOKUP(B176,_!$A$7:$E$210,3,FALSE)=0, \"\", VLOOKUP(B176,_!$A$7:$E$210,3,FALSE)), \"\")","v":""},{"$f":"_xlfn.IFNA(IF(VLOOKUP(B176,_!$A$7:$E$210,4,FALSE)=0, \"\",VLOOKUP(B176,_!$A$7:$E$210,4,FALSE)), \"\")","v":""},{"$f":"_xlfn.IFNA(IF(VLOOKUP(B176,_!$A$7:$E$210,5,FALSE)=0,\"\",VLOOKUP(B176,_!$A$7:$E$210,5,FALSE)), \"\")","v":""}]
[null,"\nHighest hazard level for each ‘Uptake Route’\n",null,null,{"$f":"_xlfn.IFNA(IF((INDEX(E167:E176,MATCH(\"E\",E167:E176,0)))=\"E\",\"E\",\"\"),_xlfn.IFNA(IF((INDEX(E167:E176,MATCH(\"D\",E167:E176,0)))=\"D\",\"D\",\"\"),_xlfn.IFNA(IF((INDEX(E167:E176,MATCH(\"Ca\",E167:E176,0)))=\"Ca\",\"C\",\"\"),_xlfn.IFNA(IF((INDEX(E167:E176,MATCH(\"C\",E167:E176,0)))=\"C\",\"C\",\"\"),_xlfn.IFNA(IF((INDEX(E167:E176,MATCH(\"B\",E167:E176,0)))=\"B\",\"B\",\"\"),_xlfn.IFNA(IF((INDEX(E167:E176,MATCH(\"A\",E167:E176,0)))=\"A\",\"A\",\"\"),_xlfn.IFNA(IF((INDEX(E167:E176,MATCH(\"n.a.\",E167:E176,0)))=\"n.a.\",\"\",\"\"),_xlfn.IFNA(IF((INDEX(E167:E176,MATCH(\"\",E167:E176,0)))=\"\",\"\",\"\"),\"\"))))))))","v":""},{"$f":"_xlfn.IFNA(IF((INDEX(F167:F176,MATCH(\"E\",F167:F176,0)))=\"E\",\"E\",\"\"),_xlfn.IFNA(IF((INDEX(F167:F176,MATCH(\"D (E)c\",F167:F176,0)))=\"D (E)c\",\"D (E)c\",\"\"),_xlfn.IFNA(IF((INDEX(F167:F176,MATCH(\"Da (E)c\",F167:F176,0)))=\"Da (E)c\",\"D (E)c\",\"\"),_xlfn.IFNA(IF((INDEX(F167:F176,MATCH(\"D\",F167:F176,0)))=\"D\",\"D\",\"\"),_xlfn.IFNA(IF((INDEX(F167:F176,MATCH(\"Ca\",F167:F176,0)))=\"Ca\",\"C\",\"\"),_xlfn.IFNA(IF((INDEX(F167:F176,MATCH(\"C\",F167:F176,0)))=\"C\",\"C\",\"\"),_xlfn.IFNA(IF((INDEX(F167:F176,MATCH(\"Ba\",F167:F176,0)))=\"Ba\",\"B\",\"\"),_xlfn.IFNA(IF((INDEX(F167:F176,MATCH(\"B\",F167:F176,0)))=\"B\",\"B\",\"\"),_xlfn.IFNA(IF((INDEX(F167:F176,MATCH(\"Aa\",F167:F176,0)))=\"Aa\",\"A\",\"\"),_xlfn.IFNA(IF((INDEX(F167:F176,MATCH(\"A\",F167:F176,0)))=\"A\",\"A\",\"\"),_xlfn.IFNA(IF((INDEX(F167:F176,MATCH(\"n.a.\",F167:F176,0)))=\"n.a.\",\"\",\"\"),_xlfn.IFNA(IF((INDEX(F167:F176,MATCH(\"\",F167:F176,0)))=\"\",\"\",\"\"),\"\"))))))))))))","v":""},{"$f":"_xlfn.IFNA(IF((INDEX(G167:G176,MATCH(\"E\",G167:G176,0)))=\"E\",\"E\",\"\"),_xlfn.IFNA(IF((INDEX(G167:G176,MATCH(\"D\",G167:G176,0)))=\"D\",\"D\",\"\"),_xlfn.IFNA(IF((INDEX(G167:G176,MATCH(\"Ca\",G167:G176,0)))=\"Ca\",\"C\",\"\"),_xlfn.IFNA(IF((INDEX(G167:G176,MATCH(\"C\",G167:G176,0)))=\"C\",\"C\",\"\"),_xlfn.IFNA(IF((INDEX(G167:G176,MATCH(\"B\",G167:G176,0)))=\"B\",\"B\",\"\"),_xlfn.IFNA(IF((INDEX(G167:G176,MATCH(\"A\",G167:G176,0)))=\"A\",\"A\",\"\"),_xlfn.IFNA(IF((INDEX(G167:G176,MATCH(\"n.a.\",G167:G176,0)))=\"n.a.\",\"\",\"\"),_xlfn.IFNA(IF((INDEX(G167:G176,MATCH(\"\",G167:G176,0)))=\"\",\"\",\"\"),\"\"))))))))","v":""},{"$f":"_xlfn.IFNA(IF((INDEX(H167:H176,MATCH(\"E\",H167:H176,0)))=\"E\",\"E\",\"\"),_xlfn.IFNA(IF((INDEX(H167:H176,MATCH(\"D (E)c\",H167:H176,0)))=\"D (E)c\",\"D (E)c\",\"\"),_xlfn.IFNA(IF((INDEX(H167:H176,MATCH(\"Db (E)c\",H167:H176,0)))=\"Db (E)c\",\"D (E)c\",\"\"),_xlfn.IFNA(IF((INDEX(H167:H176,MATCH(\"D\",H167:H176,0)))=\"D\",\"D\",\"\"),_xlfn.IFNA(IF((INDEX(H167:H176,MATCH(\"Cb\",H167:H176,0)))=\"Cb\",\"C\",\"\"),_xlfn.IFNA(IF((INDEX(H167:H176,MATCH(\"C\",H167:H176,0)))=\"C\",\"C\",\"\"),_xlfn.IFNA(IF((INDEX(H167:H176,MATCH(\"Bb\",H167:H176,0)))=\"Bb\",\"B\",\"\"),_xlfn.IFNA(IF((INDEX(H167:H176,MATCH(\"B\",H167:H176,0)))=\"B\",\"B\",\"\"),_xlfn.IFNA(IF((INDEX(H167:H176,MATCH(\"Ab\",H167:H176,0)))=\"Ab\",\"A\",\"\"),_xlfn.IFNA(IF((INDEX(H167:H176,MATCH(\"A\",H167:H176,0)))=\"A\",\"A\",\"\"),_xlfn.IFNA(IF((INDEX(H167:H176,MATCH(\"n.a.\",H167:H176,0)))=\"n.a.\",\"\",\"\"),_xlfn.IFNA(IF((INDEX(H167:H176,MATCH(\"\",H167:H176,0)))=\"\",\"\",\"\"),\"\"))))))))))))","v":""}]
[null,"\nHighest hazard level for all 'Uptake Routes' \n",null,null,{"$f":"_xlfn.IFNA(IF((INDEX(E177:H177,MATCH(\"E\",E177:H177,0)))=\"E\",\"E\",\"\"),_xlfn.IFNA(IF((INDEX(E177:H177,MATCH(\"D (E)c\",E177:H177,0)))=\"D (E)c\",\"D (E)\",\"\"),_xlfn.IFNA(IF((INDEX(E177:H177,MATCH(\"D\",E177:H177,0)))=\"D\",\"D\",\"\"),_xlfn.IFNA(IF((INDEX(E177:H177,MATCH(\"C\",E177:H177,0)))=\"C\",\"C\",\"\"),_xlfn.IFNA(IF((INDEX(E177:H177,MATCH(\"B\",E177:H177,0)))=\"B\",\"B\",\"\"),_xlfn.IFNA(IF((INDEX(E177:H177,MATCH(\"A\",E177:H177,0)))=\"A\",\"A\",\"\"),_xlfn.IFNA(IF((INDEX(E177:H177,MATCH(\"n.a.\",E177:H177,0)))=\"n.a.\",\"\",\"\"),_xlfn.IFNA(IF((INDEX(E177:H177,MATCH(\"\",E177:H177,0)))=\"\",\"\",\"\"),\"\"))))))))","v":""}]
[]
[]
[null,"\nStep 3: D(E) Assessment\nSkip this step if \nyour assessment above does not reveal a D(E) hazard level.\nHover over this cell for additional instructions.\n",null,null,"\nOverall hazard level\n",null,{"$f":"IF(AND(E178=\"\",C164=\"Yes\")=TRUE,\"B\",IF(E178=\"\",\"\",(IF(AND(E178=\"D (E)\",C181=\"\"),\"D (E)\"&CHAR(10)&\"Find if cat. 1 acute tox.\",(IF(E178<>\"D (E)\",E178,(IF(AND(E178=\"D (E)\",C181=\"Yes\"),\"E\",(IF(AND(E178=\"D (E)\",C181=\"No\"),\"D\",\"\"))))))))))","v":""}]
[]
[{"$f":"IF(IF(MOD(ROWS(B$3:B183),20)=1,INDEX('Summary Sheet'!$A$17:$A288,INT(ROWS(B$3:B183)/20)+1),\"\")=0,\"\",IF(MOD(ROWS(B$3:B183),20)=1,INDEX('Summary Sheet'!$A$17:$A288,INT(ROWS(B$3:B183)/20)+1),\"\"))","v":10},"Hazard Level Assessment","for",{"$f":"IF(IF(MOD(ROWS(D$3:D183),20)=1,INDEX('Summary Sheet'!$B$17:$B288,INT(ROWS(D$3:D183)/20)+1),\"\")=0,\"\",IF(MOD(ROWS(D$3:D183),20)=1,INDEX('Summary Sheet'!$B$17:$B288,INT(ROWS(D$3:D183)/20)+1),\"\"))","v":""}]
[null,"\nStep 1: Physical & Environmental Hazard Statements/Codes\nFind Section 2 of the SDS and determine if the SDS has physical and/or environmental hazard statements/codes. Hover on this cell for additional instructions.\n",null,{"$f":"IF(IF(MOD(ROWS(D$3:D184),20)=1,INDEX('Summary Sheet'!$B$17:$B288,INT(ROWS(D$3:D184)/20)+1),\"\")=0,\"\",IF(MOD(ROWS(D$3:D184),20)=1,INDEX('Summary Sheet'!$B$17:$B288,INT(ROWS(D$3:D184)/20)+1),\"\"))","v":""}]
[null,"Step 2: Health Hazard Statements/Codes\nProvide the Health Hazard Statements or Codes from Section 2 of the SDS below. Hover on this cell for additional instructions.",null,{"$f":"IF(IF(MOD(ROWS(D$3:D185),20)=1,INDEX('Summary Sheet'!$B$17:$B288,INT(ROWS(D$3:D185)/20)+1),\"\")=0,\"\",IF(MOD(ROWS(D$3:D185),20)=1,INDEX('Summary Sheet'!$B$17:$B288,INT(ROWS(D$3:D185)/20)+1),\"\"))","v":""},"\nHazard Level\n"]
[null,null,null,{"$f":"IF(IF(MOD(ROWS(D$3:D186),20)=1,INDEX('Summary Sheet'!$B$17:$B288,INT(ROWS(D$3:D186)/20)+1),\"\")=0,\"\",IF(MOD(ROWS(D$3:D186),20)=1,INDEX('Summary Sheet'!$B$17:$B288,INT(ROWS(D$3:D186)/20)+1),\"\"))","v":""},"\nEye Damage\n","\nInhalation\n","\nLocal Skin Damage\n","\nSkin uptake, systemic\n"]
[1,null,{"$f":"_xlfn.IFNA(VLOOKUP(B187,_!$A$7:$F$210,6,FALSE),\"\")","v":""},{"$f":"IF(IF(MOD(ROWS(D$3:D187),20)=1,INDEX('Summary Sheet'!$B$17:$B288,INT(ROWS(D$3:D187)/20)+1),\"\")=0,\"\",IF(MOD(ROWS(D$3:D187),20)=1,INDEX('Summary Sheet'!$B$17:$B288,INT(ROWS(D$3:D187)/20)+1),\"\"))","v":""},{"$f":"_xlfn.IFNA(IF(VLOOKUP(B187,_!$A$7:$E$210,2,FALSE)=0, \"\", VLOOKUP(B187,_!$A$7:$E$210,2,FALSE)),  \"\")","v":""},{"$f":"_xlfn.IFNA(IF(VLOOKUP(B187,_!$A$7:$E$210,3,FALSE)=0, \"\", VLOOKUP(B187,_!$A$7:$E$210,3,FALSE)), \"\")","v":""},{"$f":"_xlfn.IFNA(IF(VLOOKUP(B187,_!$A$7:$E$210,4,FALSE)=0, \"\",VLOOKUP(B187,_!$A$7:$E$210,4,FALSE)), \"\")","v":""},{"$f":"_xlfn.IFNA(IF(VLOOKUP(B187,_!$A$7:$E$210,5,FALSE)=0,\"\",VLOOKUP(B187,_!$A$7:$E$210,5,FALSE)), \"\")","v":""}]
[2,null,{"$f":"_xlfn.IFNA(VLOOKUP(B188,_!$A$7:$F$210,6,FALSE),\"\")","v":""},{"$f":"IF(IF(MOD(ROWS(D$3:D188),20)=1,INDEX('Summary Sheet'!$B$17:$B288,INT(ROWS(D$3:D188)/20)+1),\"\")=0,\"\",IF(MOD(ROWS(D$3:D188),20)=1,INDEX('Summary Sheet'!$B$17:$B288,INT(ROWS(D$3:D188)/20)+1),\"\"))","v":""},{"$f":"_xlfn.IFNA(IF(VLOOKUP(B188,_!$A$7:$E$210,2,FALSE)=0, \"\", VLOOKUP(B188,_!$A$7:$E$210,2,FALSE)),  \"\")","v":""},{"$f":"_xlfn.IFNA(IF(VLOOKUP(B188,_!$A$7:$E$210,3,FALSE)=0, \"\", VLOOKUP(B188,_!$A$7:$E$210,3,FALSE)), \"\")","v":""},{"$f":"_xlfn.IFNA(IF(VLOOKUP(B188,_!$A$7:$E$210,4,FALSE)=0, \"\",VLOOKUP(B188,_!$A$7:$E$210,4,FALSE)), \"\")","v":""},{"$f":"_xlfn.IFNA(IF(VLOOKUP(B188,_!$A$7:$E$210,5,FALSE)=0,\"\",VLOOKUP(B188,_!$A$7:$E$210,5,FALSE)), \"\")","v":""}]
[3,null,{"$f":"_xlfn.IFNA(VLOOKUP(B189,_!$A$7:$F$210,6,FALSE),\"\")","v":""},{"$f":"IF(IF(MOD(ROWS(D$3:D189),20)=1,INDEX('Summary Sheet'!$B$17:$B288,INT(ROWS(D$3:D189)/20)+1),\"\")=0,\"\",IF(MOD(ROWS(D$3:D189),20)=1,INDEX('Summary Sheet'!$B$17:$B288,INT(ROWS(D$3:D189)/20)+1),\"\"))","v":""},{"$f":"_xlfn.IFNA(IF(VLOOKUP(B189,_!$A$7:$E$210,2,FALSE)=0, \"\", VLOOKUP(B189,_!$A$7:$E$210,2,FALSE)),  \"\")","v":""},{"$f":"_xlfn.IFNA(IF(VLOOKUP(B189,_!$A$7:$E$210,3,FALSE)=0, \"\", VLOOKUP(B189,_!$A$7:$E$210,3,FALSE)), \"\")","v":""},{"$f":"_xlfn.IFNA(IF(VLOOKUP(B189,_!$A$7:$E$210,4,FALSE)=0, \"\",VLOOKUP(B189,_!$A$7:$E$210,4,FALSE)), \"\")","v":""},{"$f":"_xlfn.IFNA(IF(VLOOKUP(B189,_!$A$7:$E$210,5,FALSE)=0,\"\",VLOOKUP(B189,_!$A$7:$E$210,5,FALSE)), \"\")","v":""}]
[4,null,{"$f":"_xlfn.IFNA(VLOOKUP(B190,_!$A$7:$F$210,6,FALSE),\"\")","v":""},{"$f":"IF(IF(MOD(ROWS(D$3:D190),20)=1,INDEX('Summary Sheet'!$B$17:$B288,INT(ROWS(D$3:D190)/20)+1),\"\")=0,\"\",IF(MOD(ROWS(D$3:D190),20)=1,INDEX('Summary Sheet'!$B$17:$B288,INT(ROWS(D$3:D190)/20)+1),\"\"))","v":""},{"$f":"_xlfn.IFNA(IF(VLOOKUP(B190,_!$A$7:$E$210,2,FALSE)=0, \"\", VLOOKUP(B190,_!$A$7:$E$210,2,FALSE)),  \"\")","v":""},{"$f":"_xlfn.IFNA(IF(VLOOKUP(B190,_!$A$7:$E$210,3,FALSE)=0, \"\", VLOOKUP(B190,_!$A$7:$E$210,3,FALSE)), \"\")","v":""},{"$f":"_xlfn.IFNA(IF(VLOOKUP(B190,_!$A$7:$E$210,4,FALSE)=0, \"\",VLOOKUP(B190,_!$A$7:$E$210,4,FALSE)), \"\")","v":""},{"$f":"_xlfn.IFNA(IF(VLOOKUP(B190,_!$A$7:$E$210,5,FALSE)=0,\"\",VLOOKUP(B190,_!$A$7:$E$210,5,FALSE)), \"\")","v":""}]
[5,null,{"$f":"_xlfn.IFNA(VLOOKUP(B191,_!$A$7:$F$210,6,FALSE),\"\")","v":""},{"$f":"IF(IF(MOD(ROWS(D$3:D191),20)=1,INDEX('Summary Sheet'!$B$17:$B288,INT(ROWS(D$3:D191)/20)+1),\"\")=0,\"\",IF(MOD(ROWS(D$3:D191),20)=1,INDEX('Summary Sheet'!$B$17:$B288,INT(ROWS(D$3:D191)/20)+1),\"\"))","v":""},{"$f":"_xlfn.IFNA(IF(VLOOKUP(B191,_!$A$7:$E$210,2,FALSE)=0, \"\", VLOOKUP(B191,_!$A$7:$E$210,2,FALSE)),  \"\")","v":""},{"$f":"_xlfn.IFNA(IF(VLOOKUP(B191,_!$A$7:$E$210,3,FALSE)=0, \"\", VLOOKUP(B191,_!$A$7:$E$210,3,FALSE)), \"\")","v":""},{"$f":"_xlfn.IFNA(IF(VLOOKUP(B191,_!$A$7:$E$210,4,FALSE)=0, \"\",VLOOKUP(B191,_!$A$7:$E$210,4,FALSE)), \"\")","v":""},{"$f":"_xlfn.IFNA(IF(VLOOKUP(B191,_!$A$7:$E$210,5,FALSE)=0,\"\",VLOOKUP(B191,_!$A$7:$E$210,5,FALSE)), \"\")","v":""}]
[6,null,{"$f":"_xlfn.IFNA(VLOOKUP(B192,_!$A$7:$F$210,6,FALSE),\"\")","v":""},{"$f":"IF(IF(MOD(ROWS(D$3:D192),20)=1,INDEX('Summary Sheet'!$B$17:$B288,INT(ROWS(D$3:D192)/20)+1),\"\")=0,\"\",IF(MOD(ROWS(D$3:D192),20)=1,INDEX('Summary Sheet'!$B$17:$B288,INT(ROWS(D$3:D192)/20)+1),\"\"))","v":""},{"$f":"_xlfn.IFNA(IF(VLOOKUP(B192,_!$A$7:$E$210,2,FALSE)=0, \"\", VLOOKUP(B192,_!$A$7:$E$210,2,FALSE)),  \"\")","v":""},{"$f":"_xlfn.IFNA(IF(VLOOKUP(B192,_!$A$7:$E$210,3,FALSE)=0, \"\", VLOOKUP(B192,_!$A$7:$E$210,3,FALSE)), \"\")","v":""},{"$f":"_xlfn.IFNA(IF(VLOOKUP(B192,_!$A$7:$E$210,4,FALSE)=0, \"\",VLOOKUP(B192,_!$A$7:$E$210,4,FALSE)), \"\")","v":""},{"$f":"_xlfn.IFNA(IF(VLOOKUP(B192,_!$A$7:$E$210,5,FALSE)=0,\"\",VLOOKUP(B192,_!$A$7:$E$210,5,FALSE)), \"\")","v":""}]
[7,null,{"$f":"_xlfn.IFNA(VLOOKUP(B193,_!$A$7:$F$210,6,FALSE),\"\")","v":""},{"$f":"IF(IF(MOD(ROWS(D$3:D193),20)=1,INDEX('Summary Sheet'!$B$17:$B288,INT(ROWS(D$3:D193)/20)+1),\"\")=0,\"\",IF(MOD(ROWS(D$3:D193),20)=1,INDEX('Summary Sheet'!$B$17:$B288,INT(ROWS(D$3:D193)/20)+1),\"\"))","v":""},{"$f":"_xlfn.IFNA(IF(VLOOKUP(B193,_!$A$7:$E$210,2,FALSE)=0, \"\", VLOOKUP(B193,_!$A$7:$E$210,2,FALSE)),  \"\")","v":""},{"$f":"_xlfn.IFNA(IF(VLOOKUP(B193,_!$A$7:$E$210,3,FALSE)=0, \"\", VLOOKUP(B193,_!$A$7:$E$210,3,FALSE)), \"\")","v":""},{"$f":"_xlfn.IFNA(IF(VLOOKUP(B193,_!$A$7:$E$210,4,FALSE)=0, \"\",VLOOKUP(B193,_!$A$7:$E$210,4,FALSE)), \"\")","v":""},{"$f":"_xlfn.IFNA(IF(VLOOKUP(B193,_!$A$7:$E$210,5,FALSE)=0,\"\",VLOOKUP(B193,_!$A$7:$E$210,5,FALSE)), \"\")","v":""}]
[8,null,{"$f":"_xlfn.IFNA(VLOOKUP(B194,_!$A$7:$F$210,6,FALSE),\"\")","v":""},{"$f":"IF(IF(MOD(ROWS(D$3:D194),20)=1,INDEX('Summary Sheet'!$B$17:$B288,INT(ROWS(D$3:D194)/20)+1),\"\")=0,\"\",IF(MOD(ROWS(D$3:D194),20)=1,INDEX('Summary Sheet'!$B$17:$B288,INT(ROWS(D$3:D194)/20)+1),\"\"))","v":""},{"$f":"_xlfn.IFNA(IF(VLOOKUP(B194,_!$A$7:$E$210,2,FALSE)=0, \"\", VLOOKUP(B194,_!$A$7:$E$210,2,FALSE)),  \"\")","v":""},{"$f":"_xlfn.IFNA(IF(VLOOKUP(B194,_!$A$7:$E$210,3,FALSE)=0, \"\", VLOOKUP(B194,_!$A$7:$E$210,3,FALSE)), \"\")","v":""},{"$f":"_xlfn.IFNA(IF(VLOOKUP(B194,_!$A$7:$E$210,4,FALSE)=0, \"\",VLOOKUP(B194,_!$A$7:$E$210,4,FALSE)), \"\")","v":""},{"$f":"_xlfn.IFNA(IF(VLOOKUP(B194,_!$A$7:$E$210,5,FALSE)=0,\"\",VLOOKUP(B194,_!$A$7:$E$210,5,FALSE)), \"\")","v":""}]
[9,null,{"$f":"_xlfn.IFNA(VLOOKUP(B195,_!$A$7:$F$210,6,FALSE),\"\")","v":""},{"$f":"IF(IF(MOD(ROWS(D$3:D195),20)=1,INDEX('Summary Sheet'!$B$17:$B288,INT(ROWS(D$3:D195)/20)+1),\"\")=0,\"\",IF(MOD(ROWS(D$3:D195),20)=1,INDEX('Summary Sheet'!$B$17:$B288,INT(ROWS(D$3:D195)/20)+1),\"\"))","v":""},{"$f":"_xlfn.IFNA(IF(VLOOKUP(B195,_!$A$7:$E$210,2,FALSE)=0, \"\", VLOOKUP(B195,_!$A$7:$E$210,2,FALSE)),  \"\")","v":""},{"$f":"_xlfn.IFNA(IF(VLOOKUP(B195,_!$A$7:$E$210,3,FALSE)=0, \"\", VLOOKUP(B195,_!$A$7:$E$210,3,FALSE)), \"\")","v":""},{"$f":"_xlfn.IFNA(IF(VLOOKUP(B195,_!$A$7:$E$210,4,FALSE)=0, \"\",VLOOKUP(B195,_!$A$7:$E$210,4,FALSE)), \"\")","v":""},{"$f":"_xlfn.IFNA(IF(VLOOKUP(B195,_!$A$7:$E$210,5,FALSE)=0,\"\",VLOOKUP(B195,_!$A$7:$E$210,5,FALSE)), \"\")","v":""}]
[10,null,{"$f":"_xlfn.IFNA(VLOOKUP(B196,_!$A$7:$F$210,6,FALSE),\"\")","v":""},{"$f":"IF(IF(MOD(ROWS(D$14:D196),20)=1,INDEX('Summary Sheet'!$B$17:$B288,INT(ROWS(D$14:D196)/20)+1),\"\")=0,\"\",IF(MOD(ROWS(D$14:D196),20)=1,INDEX('Summary Sheet'!$B$17:$B288,INT(ROWS(D$14:D196)/20)+1),\"\"))","v":""},{"$f":"_xlfn.IFNA(IF(VLOOKUP(B196,_!$A$7:$E$210,2,FALSE)=0, \"\", VLOOKUP(B196,_!$A$7:$E$210,2,FALSE)),  \"\")","v":""},{"$f":"_xlfn.IFNA(IF(VLOOKUP(B196,_!$A$7:$E$210,3,FALSE)=0, \"\", VLOOKUP(B196,_!$A$7:$E$210,3,FALSE)), \"\")","v":""},{"$f":"_xlfn.IFNA(IF(VLOOKUP(B196,_!$A$7:$E$210,4,FALSE)=0, \"\",VLOOKUP(B196,_!$A$7:$E$210,4,FALSE)), \"\")","v":""},{"$f":"_xlfn.IFNA(IF(VLOOKUP(B196,_!$A$7:$E$210,5,FALSE)=0,\"\",VLOOKUP(B196,_!$A$7:$E$210,5,FALSE)), \"\")","v":""}]
[null,"\nHighest hazard level for each ‘Uptake Route’\n",null,null,{"$f":"_xlfn.IFNA(IF((INDEX(E187:E196,MATCH(\"E\",E187:E196,0)))=\"E\",\"E\",\"\"),_xlfn.IFNA(IF((INDEX(E187:E196,MATCH(\"D\",E187:E196,0)))=\"D\",\"D\",\"\"),_xlfn.IFNA(IF((INDEX(E187:E196,MATCH(\"Ca\",E187:E196,0)))=\"Ca\",\"C\",\"\"),_xlfn.IFNA(IF((INDEX(E187:E196,MATCH(\"C\",E187:E196,0)))=\"C\",\"C\",\"\"),_xlfn.IFNA(IF((INDEX(E187:E196,MATCH(\"B\",E187:E196,0)))=\"B\",\"B\",\"\"),_xlfn.IFNA(IF((INDEX(E187:E196,MATCH(\"A\",E187:E196,0)))=\"A\",\"A\",\"\"),_xlfn.IFNA(IF((INDEX(E187:E196,MATCH(\"n.a.\",E187:E196,0)))=\"n.a.\",\"\",\"\"),_xlfn.IFNA(IF((INDEX(E187:E196,MATCH(\"\",E187:E196,0)))=\"\",\"\",\"\"),\"\"))))))))","v":""},{"$f":"_xlfn.IFNA(IF((INDEX(F187:F196,MATCH(\"E\",F187:F196,0)))=\"E\",\"E\",\"\"),_xlfn.IFNA(IF((INDEX(F187:F196,MATCH(\"D (E)c\",F187:F196,0)))=\"D (E)c\",\"D (E)c\",\"\"),_xlfn.IFNA(IF((INDEX(F187:F196,MATCH(\"Da (E)c\",F187:F196,0)))=\"Da (E)c\",\"D (E)c\",\"\"),_xlfn.IFNA(IF((INDEX(F187:F196,MATCH(\"D\",F187:F196,0)))=\"D\",\"D\",\"\"),_xlfn.IFNA(IF((INDEX(F187:F196,MATCH(\"Ca\",F187:F196,0)))=\"Ca\",\"C\",\"\"),_xlfn.IFNA(IF((INDEX(F187:F196,MATCH(\"C\",F187:F196,0)))=\"C\",\"C\",\"\"),_xlfn.IFNA(IF((INDEX(F187:F196,MATCH(\"Ba\",F187:F196,0)))=\"Ba\",\"B\",\"\"),_xlfn.IFNA(IF((INDEX(F187:F196,MATCH(\"B\",F187:F196,0)))=\"B\",\"B\",\"\"),_xlfn.IFNA(IF((INDEX(F187:F196,MATCH(\"Aa\",F187:F196,0)))=\"Aa\",\"A\",\"\"),_xlfn.IFNA(IF((INDEX(F187:F196,MATCH(\"A\",F187:F196,0)))=\"A\",\"A\",\"\"),_xlfn.IFNA(IF((INDEX(F187:F196,MATCH(\"n.a.\",F187:F196,0)))=\"n.a.\",\"\",\"\"),_xlfn.IFNA(IF((INDEX(F187:F196,MATCH(\"\",F187:F196,0)))=\"\",\"\",\"\"),\"\"))))))))))))","v":""},{"$f":"_xlfn.IFNA(IF((INDEX(G187:G196,MATCH(\"E\",G187:G196,0)))=\"E\",\"E\",\"\"),_xlfn.IFNA(IF((INDEX(G187:G196,MATCH(\"D\",G187:G196,0)))=\"D\",\"D\",\"\"),_xlfn.IFNA(IF((INDEX(G187:G196,MATCH(\"Ca\",G187:G196,0)))=\"Ca\",\"C\",\"\"),_xlfn.IFNA(IF((INDEX(G187:G196,MATCH(\"C\",G187:G196,0)))=\"C\",\"C\",\"\"),_xlfn.IFNA(IF((INDEX(G187:G196,MATCH(\"B\",G187:G196,0)))=\"B\",\"B\",\"\"),_xlfn.IFNA(IF((INDEX(G187:G196,MATCH(\"A\",G187:G196,0)))=\"A\",\"A\",\"\"),_xlfn.IFNA(IF((INDEX(G187:G196,MATCH(\"n.a.\",G187:G196,0)))=\"n.a.\",\"\",\"\"),_xlfn.IFNA(IF((INDEX(G187:G196,MATCH(\"\",G187:G196,0)))=\"\",\"\",\"\"),\"\"))))))))","v":""},{"$f":"_xlfn.IFNA(IF((INDEX(H187:H196,MATCH(\"E\",H187:H196,0)))=\"E\",\"E\",\"\"),_xlfn.IFNA(IF((INDEX(H187:H196,MATCH(\"D (E)c\",H187:H196,0)))=\"D (E)c\",\"D (E)c\",\"\"),_xlfn.IFNA(IF((INDEX(H187:H196,MATCH(\"Db (E)c\",H187:H196,0)))=\"Db (E)c\",\"D (E)c\",\"\"),_xlfn.IFNA(IF((INDEX(H187:H196,MATCH(\"D\",H187:H196,0)))=\"D\",\"D\",\"\"),_xlfn.IFNA(IF((INDEX(H187:H196,MATCH(\"Cb\",H187:H196,0)))=\"Cb\",\"C\",\"\"),_xlfn.IFNA(IF((INDEX(H187:H196,MATCH(\"C\",H187:H196,0)))=\"C\",\"C\",\"\"),_xlfn.IFNA(IF((INDEX(H187:H196,MATCH(\"Bb\",H187:H196,0)))=\"Bb\",\"B\",\"\"),_xlfn.IFNA(IF((INDEX(H187:H196,MATCH(\"B\",H187:H196,0)))=\"B\",\"B\",\"\"),_xlfn.IFNA(IF((INDEX(H187:H196,MATCH(\"Ab\",H187:H196,0)))=\"Ab\",\"A\",\"\"),_xlfn.IFNA(IF((INDEX(H187:H196,MATCH(\"A\",H187:H196,0)))=\"A\",\"A\",\"\"),_xlfn.IFNA(IF((INDEX(H187:H196,MATCH(\"n.a.\",H187:H196,0)))=\"n.a.\",\"\",\"\"),_xlfn.IFNA(IF((INDEX(H187:H196,MATCH(\"\",H187:H196,0)))=\"\",\"\",\"\"),\"\"))))))))))))","v":""}]
[null,"\nHighest hazard level for all 'Uptake Routes' \n",null,null,{"$f":"_xlfn.IFNA(IF((INDEX(E197:H197,MATCH(\"E\",E197:H197,0)))=\"E\",\"E\",\"\"),_xlfn.IFNA(IF((INDEX(E197:H197,MATCH(\"D (E)c\",E197:H197,0)))=\"D (E)c\",\"D (E)\",\"\"),_xlfn.IFNA(IF((INDEX(E197:H197,MATCH(\"D\",E197:H197,0)))=\"D\",\"D\",\"\"),_xlfn.IFNA(IF((INDEX(E197:H197,MATCH(\"C\",E197:H197,0)))=\"C\",\"C\",\"\"),_xlfn.IFNA(IF((INDEX(E197:H197,MATCH(\"B\",E197:H197,0)))=\"B\",\"B\",\"\"),_xlfn.IFNA(IF((INDEX(E197:H197,MATCH(\"A\",E197:H197,0)))=\"A\",\"A\",\"\"),_xlfn.IFNA(IF((INDEX(E197:H197,MATCH(\"n.a.\",E197:H197,0)))=\"n.a.\",\"\",\"\"),_xlfn.IFNA(IF((INDEX(E197:H197,MATCH(\"\",E197:H197,0)))=\"\",\"\",\"\"),\"\"))))))))","v":""}]
[]
[]
[null,"\nStep 3: D(E) Assessment\nSkip this step if \nyour assessment above does not reveal a D(E) hazard level.\nHover over this cell for additional instructions.\n",null,null,"\nOverall hazard level\n",null,{"$f":"IF(AND(E198=\"\",C184=\"Yes\")=TRUE,\"B\",IF(E198=\"\",\"\",(IF(AND(E198=\"D (E)\",C201=\"\"),\"D (E)\"&CHAR(10)&\"Find if cat. 1 acute tox.\",(IF(E198<>\"D (E)\",E198,(IF(AND(E198=\"D (E)\",C201=\"Yes\"),\"E\",(IF(AND(E198=\"D (E)\",C201=\"No\"),\"D\",\"\"))))))))))","v":""}]
[]
[{"$f":"IF(IF(MOD(ROWS(B$3:B203),20)=1,INDEX('Summary Sheet'!$A$17:$A307,INT(ROWS(B$3:B203)/20)+1),\"\")=0,\"\",IF(MOD(ROWS(B$3:B203),20)=1,INDEX('Summary Sheet'!$A$17:$A307,INT(ROWS(B$3:B203)/20)+1),\"\"))","v":11},"Hazard Level Assessment","for",{"$f":"IF(IF(MOD(ROWS(D$3:D203),20)=1,INDEX('Summary Sheet'!$B$17:$B307,INT(ROWS(D$3:D203)/20)+1),\"\")=0,\"\",IF(MOD(ROWS(D$3:D203),20)=1,INDEX('Summary Sheet'!$B$17:$B307,INT(ROWS(D$3:D203)/20)+1),\"\"))","v":""}]
[null,"\nStep 1: Physical & Environmental Hazard Statements/Codes\nFind Section 2 of the SDS and determine if the SDS has physical and/or environmental hazard statements/codes. Hover on this cell for additional instructions.\n",null,{"$f":"IF(IF(MOD(ROWS(D$3:D204),20)=1,INDEX('Summary Sheet'!$B$17:$B307,INT(ROWS(D$3:D204)/20)+1),\"\")=0,\"\",IF(MOD(ROWS(D$3:D204),20)=1,INDEX('Summary Sheet'!$B$17:$B307,INT(ROWS(D$3:D204)/20)+1),\"\"))","v":""}]
[null,"Step 2: Health Hazard Statements/Codes\nProvide the Health Hazard Statements or Codes from Section 2 of the SDS below. Hover on this cell for additional instructions.",null,{"$f":"IF(IF(MOD(ROWS(D$3:D205),20)=1,INDEX('Summary Sheet'!$B$17:$B307,INT(ROWS(D$3:D205)/20)+1),\"\")=0,\"\",IF(MOD(ROWS(D$3:D205),20)=1,INDEX('Summary Sheet'!$B$17:$B307,INT(ROWS(D$3:D205)/20)+1),\"\"))","v":""},"\nHazard Level\n"]
[null,null,null,{"$f":"IF(IF(MOD(ROWS(D$3:D206),20)=1,INDEX('Summary Sheet'!$B$17:$B307,INT(ROWS(D$3:D206)/20)+1),\"\")=0,\"\",IF(MOD(ROWS(D$3:D206),20)=1,INDEX('Summary Sheet'!$B$17:$B307,INT(ROWS(D$3:D206)/20)+1),\"\"))","v":""},"\nEye Damage\n","\nInhalation\n","\nLocal Skin Damage\n","\nSkin uptake, systemic\n"]
[1,null,{"$f":"_xlfn.IFNA(VLOOKUP(B207,_!$A$7:$F$210,6,FALSE),\"\")","v":""},{"$f":"IF(IF(MOD(ROWS(D$3:D207),20)=1,INDEX('Summary Sheet'!$B$17:$B307,INT(ROWS(D$3:D207)/20)+1),\"\")=0,\"\",IF(MOD(ROWS(D$3:D207),20)=1,INDEX('Summary Sheet'!$B$17:$B307,INT(ROWS(D$3:D207)/20)+1),\"\"))","v":""},{"$f":"_xlfn.IFNA(IF(VLOOKUP(B207,_!$A$7:$E$210,2,FALSE)=0, \"\", VLOOKUP(B207,_!$A$7:$E$210,2,FALSE)),  \"\")","v":""},{"$f":"_xlfn.IFNA(IF(VLOOKUP(B207,_!$A$7:$E$210,3,FALSE)=0, \"\", VLOOKUP(B207,_!$A$7:$E$210,3,FALSE)), \"\")","v":""},{"$f":"_xlfn.IFNA(IF(VLOOKUP(B207,_!$A$7:$E$210,4,FALSE)=0, \"\",VLOOKUP(B207,_!$A$7:$E$210,4,FALSE)), \"\")","v":""},{"$f":"_xlfn.IFNA(IF(VLOOKUP(B207,_!$A$7:$E$210,5,FALSE)=0,\"\",VLOOKUP(B207,_!$A$7:$E$210,5,FALSE)), \"\")","v":""}]
[2,null,{"$f":"_xlfn.IFNA(VLOOKUP(B208,_!$A$7:$F$210,6,FALSE),\"\")","v":""},{"$f":"IF(IF(MOD(ROWS(D$3:D208),20)=1,INDEX('Summary Sheet'!$B$17:$B307,INT(ROWS(D$3:D208)/20)+1),\"\")=0,\"\",IF(MOD(ROWS(D$3:D208),20)=1,INDEX('Summary Sheet'!$B$17:$B307,INT(ROWS(D$3:D208)/20)+1),\"\"))","v":""},{"$f":"_xlfn.IFNA(IF(VLOOKUP(B208,_!$A$7:$E$210,2,FALSE)=0, \"\", VLOOKUP(B208,_!$A$7:$E$210,2,FALSE)),  \"\")","v":""},{"$f":"_xlfn.IFNA(IF(VLOOKUP(B208,_!$A$7:$E$210,3,FALSE)=0, \"\", VLOOKUP(B208,_!$A$7:$E$210,3,FALSE)), \"\")","v":""},{"$f":"_xlfn.IFNA(IF(VLOOKUP(B208,_!$A$7:$E$210,4,FALSE)=0, \"\",VLOOKUP(B208,_!$A$7:$E$210,4,FALSE)), \"\")","v":""},{"$f":"_xlfn.IFNA(IF(VLOOKUP(B208,_!$A$7:$E$210,5,FALSE)=0,\"\",VLOOKUP(B208,_!$A$7:$E$210,5,FALSE)), \"\")","v":""}]
[3,null,{"$f":"_xlfn.IFNA(VLOOKUP(B209,_!$A$7:$F$210,6,FALSE),\"\")","v":""},{"$f":"IF(IF(MOD(ROWS(D$3:D209),20)=1,INDEX('Summary Sheet'!$B$17:$B307,INT(ROWS(D$3:D209)/20)+1),\"\")=0,\"\",IF(MOD(ROWS(D$3:D209),20)=1,INDEX('Summary Sheet'!$B$17:$B307,INT(ROWS(D$3:D209)/20)+1),\"\"))","v":""},{"$f":"_xlfn.IFNA(IF(VLOOKUP(B209,_!$A$7:$E$210,2,FALSE)=0, \"\", VLOOKUP(B209,_!$A$7:$E$210,2,FALSE)),  \"\")","v":""},{"$f":"_xlfn.IFNA(IF(VLOOKUP(B209,_!$A$7:$E$210,3,FALSE)=0, \"\", VLOOKUP(B209,_!$A$7:$E$210,3,FALSE)), \"\")","v":""},{"$f":"_xlfn.IFNA(IF(VLOOKUP(B209,_!$A$7:$E$210,4,FALSE)=0, \"\",VLOOKUP(B209,_!$A$7:$E$210,4,FALSE)), \"\")","v":""},{"$f":"_xlfn.IFNA(IF(VLOOKUP(B209,_!$A$7:$E$210,5,FALSE)=0,\"\",VLOOKUP(B209,_!$A$7:$E$210,5,FALSE)), \"\")","v":""}]
[4,null,{"$f":"_xlfn.IFNA(VLOOKUP(B210,_!$A$7:$F$210,6,FALSE),\"\")","v":""},{"$f":"IF(IF(MOD(ROWS(D$3:D210),20)=1,INDEX('Summary Sheet'!$B$17:$B307,INT(ROWS(D$3:D210)/20)+1),\"\")=0,\"\",IF(MOD(ROWS(D$3:D210),20)=1,INDEX('Summary Sheet'!$B$17:$B307,INT(ROWS(D$3:D210)/20)+1),\"\"))","v":""},{"$f":"_xlfn.IFNA(IF(VLOOKUP(B210,_!$A$7:$E$210,2,FALSE)=0, \"\", VLOOKUP(B210,_!$A$7:$E$210,2,FALSE)),  \"\")","v":""},{"$f":"_xlfn.IFNA(IF(VLOOKUP(B210,_!$A$7:$E$210,3,FALSE)=0, \"\", VLOOKUP(B210,_!$A$7:$E$210,3,FALSE)), \"\")","v":""},{"$f":"_xlfn.IFNA(IF(VLOOKUP(B210,_!$A$7:$E$210,4,FALSE)=0, \"\",VLOOKUP(B210,_!$A$7:$E$210,4,FALSE)), \"\")","v":""},{"$f":"_xlfn.IFNA(IF(VLOOKUP(B210,_!$A$7:$E$210,5,FALSE)=0,\"\",VLOOKUP(B210,_!$A$7:$E$210,5,FALSE)), \"\")","v":""}]
[5,null,{"$f":"_xlfn.IFNA(VLOOKUP(B211,_!$A$7:$F$210,6,FALSE),\"\")","v":""},{"$f":"IF(IF(MOD(ROWS(D$3:D211),20)=1,INDEX('Summary Sheet'!$B$17:$B307,INT(ROWS(D$3:D211)/20)+1),\"\")=0,\"\",IF(MOD(ROWS(D$3:D211),20)=1,INDEX('Summary Sheet'!$B$17:$B307,INT(ROWS(D$3:D211)/20)+1),\"\"))","v":""},{"$f":"_xlfn.IFNA(IF(VLOOKUP(B211,_!$A$7:$E$210,2,FALSE)=0, \"\", VLOOKUP(B211,_!$A$7:$E$210,2,FALSE)),  \"\")","v":""},{"$f":"_xlfn.IFNA(IF(VLOOKUP(B211,_!$A$7:$E$210,3,FALSE)=0, \"\", VLOOKUP(B211,_!$A$7:$E$210,3,FALSE)), \"\")","v":""},{"$f":"_xlfn.IFNA(IF(VLOOKUP(B211,_!$A$7:$E$210,4,FALSE)=0, \"\",VLOOKUP(B211,_!$A$7:$E$210,4,FALSE)), \"\")","v":""},{"$f":"_xlfn.IFNA(IF(VLOOKUP(B211,_!$A$7:$E$210,5,FALSE)=0,\"\",VLOOKUP(B211,_!$A$7:$E$210,5,FALSE)), \"\")","v":""}]
[6,null,{"$f":"_xlfn.IFNA(VLOOKUP(B212,_!$A$7:$F$210,6,FALSE),\"\")","v":""},{"$f":"IF(IF(MOD(ROWS(D$3:D212),20)=1,INDEX('Summary Sheet'!$B$17:$B307,INT(ROWS(D$3:D212)/20)+1),\"\")=0,\"\",IF(MOD(ROWS(D$3:D212),20)=1,INDEX('Summary Sheet'!$B$17:$B307,INT(ROWS(D$3:D212)/20)+1),\"\"))","v":""},{"$f":"_xlfn.IFNA(IF(VLOOKUP(B212,_!$A$7:$E$210,2,FALSE)=0, \"\", VLOOKUP(B212,_!$A$7:$E$210,2,FALSE)),  \"\")","v":""},{"$f":"_xlfn.IFNA(IF(VLOOKUP(B212,_!$A$7:$E$210,3,FALSE)=0, \"\", VLOOKUP(B212,_!$A$7:$E$210,3,FALSE)), \"\")","v":""},{"$f":"_xlfn.IFNA(IF(VLOOKUP(B212,_!$A$7:$E$210,4,FALSE)=0, \"\",VLOOKUP(B212,_!$A$7:$E$210,4,FALSE)), \"\")","v":""},{"$f":"_xlfn.IFNA(IF(VLOOKUP(B212,_!$A$7:$E$210,5,FALSE)=0,\"\",VLOOKUP(B212,_!$A$7:$E$210,5,FALSE)), \"\")","v":""}]
[7,null,{"$f":"_xlfn.IFNA(VLOOKUP(B213,_!$A$7:$F$210,6,FALSE),\"\")","v":""},{"$f":"IF(IF(MOD(ROWS(D$3:D213),20)=1,INDEX('Summary Sheet'!$B$17:$B307,INT(ROWS(D$3:D213)/20)+1),\"\")=0,\"\",IF(MOD(ROWS(D$3:D213),20)=1,INDEX('Summary Sheet'!$B$17:$B307,INT(ROWS(D$3:D213)/20)+1),\"\"))","v":""},{"$f":"_xlfn.IFNA(IF(VLOOKUP(B213,_!$A$7:$E$210,2,FALSE)=0, \"\", VLOOKUP(B213,_!$A$7:$E$210,2,FALSE)),  \"\")","v":""},{"$f":"_xlfn.IFNA(IF(VLOOKUP(B213,_!$A$7:$E$210,3,FALSE)=0, \"\", VLOOKUP(B213,_!$A$7:$E$210,3,FALSE)), \"\")","v":""},{"$f":"_xlfn.IFNA(IF(VLOOKUP(B213,_!$A$7:$E$210,4,FALSE)=0, \"\",VLOOKUP(B213,_!$A$7:$E$210,4,FALSE)), \"\")","v":""},{"$f":"_xlfn.IFNA(IF(VLOOKUP(B213,_!$A$7:$E$210,5,FALSE)=0,\"\",VLOOKUP(B213,_!$A$7:$E$210,5,FALSE)), \"\")","v":""}]
[8,null,{"$f":"_xlfn.IFNA(VLOOKUP(B214,_!$A$7:$F$210,6,FALSE),\"\")","v":""},{"$f":"IF(IF(MOD(ROWS(D$3:D214),20)=1,INDEX('Summary Sheet'!$B$17:$B307,INT(ROWS(D$3:D214)/20)+1),\"\")=0,\"\",IF(MOD(ROWS(D$3:D214),20)=1,INDEX('Summary Sheet'!$B$17:$B307,INT(ROWS(D$3:D214)/20)+1),\"\"))","v":""},{"$f":"_xlfn.IFNA(IF(VLOOKUP(B214,_!$A$7:$E$210,2,FALSE)=0, \"\", VLOOKUP(B214,_!$A$7:$E$210,2,FALSE)),  \"\")","v":""},{"$f":"_xlfn.IFNA(IF(VLOOKUP(B214,_!$A$7:$E$210,3,FALSE)=0, \"\", VLOOKUP(B214,_!$A$7:$E$210,3,FALSE)), \"\")","v":""},{"$f":"_xlfn.IFNA(IF(VLOOKUP(B214,_!$A$7:$E$210,4,FALSE)=0, \"\",VLOOKUP(B214,_!$A$7:$E$210,4,FALSE)), \"\")","v":""},{"$f":"_xlfn.IFNA(IF(VLOOKUP(B214,_!$A$7:$E$210,5,FALSE)=0,\"\",VLOOKUP(B214,_!$A$7:$E$210,5,FALSE)), \"\")","v":""}]
[9,null,{"$f":"_xlfn.IFNA(VLOOKUP(B215,_!$A$7:$F$210,6,FALSE),\"\")","v":""},{"$f":"IF(IF(MOD(ROWS(D$3:D215),20)=1,INDEX('Summary Sheet'!$B$17:$B307,INT(ROWS(D$3:D215)/20)+1),\"\")=0,\"\",IF(MOD(ROWS(D$3:D215),20)=1,INDEX('Summary Sheet'!$B$17:$B307,INT(ROWS(D$3:D215)/20)+1),\"\"))","v":""},{"$f":"_xlfn.IFNA(IF(VLOOKUP(B215,_!$A$7:$E$210,2,FALSE)=0, \"\", VLOOKUP(B215,_!$A$7:$E$210,2,FALSE)),  \"\")","v":""},{"$f":"_xlfn.IFNA(IF(VLOOKUP(B215,_!$A$7:$E$210,3,FALSE)=0, \"\", VLOOKUP(B215,_!$A$7:$E$210,3,FALSE)), \"\")","v":""},{"$f":"_xlfn.IFNA(IF(VLOOKUP(B215,_!$A$7:$E$210,4,FALSE)=0, \"\",VLOOKUP(B215,_!$A$7:$E$210,4,FALSE)), \"\")","v":""},{"$f":"_xlfn.IFNA(IF(VLOOKUP(B215,_!$A$7:$E$210,5,FALSE)=0,\"\",VLOOKUP(B215,_!$A$7:$E$210,5,FALSE)), \"\")","v":""}]
[10,null,{"$f":"_xlfn.IFNA(VLOOKUP(B216,_!$A$7:$F$210,6,FALSE),\"\")","v":""},{"$f":"IF(IF(MOD(ROWS(D$14:D216),20)=1,INDEX('Summary Sheet'!$B$17:$B307,INT(ROWS(D$14:D216)/20)+1),\"\")=0,\"\",IF(MOD(ROWS(D$14:D216),20)=1,INDEX('Summary Sheet'!$B$17:$B307,INT(ROWS(D$14:D216)/20)+1),\"\"))","v":""},{"$f":"_xlfn.IFNA(IF(VLOOKUP(B216,_!$A$7:$E$210,2,FALSE)=0, \"\", VLOOKUP(B216,_!$A$7:$E$210,2,FALSE)),  \"\")","v":""},{"$f":"_xlfn.IFNA(IF(VLOOKUP(B216,_!$A$7:$E$210,3,FALSE)=0, \"\", VLOOKUP(B216,_!$A$7:$E$210,3,FALSE)), \"\")","v":""},{"$f":"_xlfn.IFNA(IF(VLOOKUP(B216,_!$A$7:$E$210,4,FALSE)=0, \"\",VLOOKUP(B216,_!$A$7:$E$210,4,FALSE)), \"\")","v":""},{"$f":"_xlfn.IFNA(IF(VLOOKUP(B216,_!$A$7:$E$210,5,FALSE)=0,\"\",VLOOKUP(B216,_!$A$7:$E$210,5,FALSE)), \"\")","v":""}]
[null,"\nHighest hazard level for each ‘Uptake Route’\n",null,null,{"$f":"_xlfn.IFNA(IF((INDEX(E207:E216,MATCH(\"E\",E207:E216,0)))=\"E\",\"E\",\"\"),_xlfn.IFNA(IF((INDEX(E207:E216,MATCH(\"D\",E207:E216,0)))=\"D\",\"D\",\"\"),_xlfn.IFNA(IF((INDEX(E207:E216,MATCH(\"Ca\",E207:E216,0)))=\"Ca\",\"C\",\"\"),_xlfn.IFNA(IF((INDEX(E207:E216,MATCH(\"C\",E207:E216,0)))=\"C\",\"C\",\"\"),_xlfn.IFNA(IF((INDEX(E207:E216,MATCH(\"B\",E207:E216,0)))=\"B\",\"B\",\"\"),_xlfn.IFNA(IF((INDEX(E207:E216,MATCH(\"A\",E207:E216,0)))=\"A\",\"A\",\"\"),_xlfn.IFNA(IF((INDEX(E207:E216,MATCH(\"n.a.\",E207:E216,0)))=\"n.a.\",\"\",\"\"),_xlfn.IFNA(IF((INDEX(E207:E216,MATCH(\"\",E207:E216,0)))=\"\",\"\",\"\"),\"\"))))))))","v":""},{"$f":"_xlfn.IFNA(IF((INDEX(F207:F216,MATCH(\"E\",F207:F216,0)))=\"E\",\"E\",\"\"),_xlfn.IFNA(IF((INDEX(F207:F216,MATCH(\"D (E)c\",F207:F216,0)))=\"D (E)c\",\"D (E)c\",\"\"),_xlfn.IFNA(IF((INDEX(F207:F216,MATCH(\"Da (E)c\",F207:F216,0)))=\"Da (E)c\",\"D (E)c\",\"\"),_xlfn.IFNA(IF((INDEX(F207:F216,MATCH(\"D\",F207:F216,0)))=\"D\",\"D\",\"\"),_xlfn.IFNA(IF((INDEX(F207:F216,MATCH(\"Ca\",F207:F216,0)))=\"Ca\",\"C\",\"\"),_xlfn.IFNA(IF((INDEX(F207:F216,MATCH(\"C\",F207:F216,0)))=\"C\",\"C\",\"\"),_xlfn.IFNA(IF((INDEX(F207:F216,MATCH(\"Ba\",F207:F216,0)))=\"Ba\",\"B\",\"\"),_xlfn.IFNA(IF((INDEX(F207:F216,MATCH(\"B\",F207:F216,0)))=\"B\",\"B\",\"\"),_xlfn.IFNA(IF((INDEX(F207:F216,MATCH(\"Aa\",F207:F216,0)))=\"Aa\",\"A\",\"\"),_xlfn.IFNA(IF((INDEX(F207:F216,MATCH(\"A\",F207:F216,0)))=\"A\",\"A\",\"\"),_xlfn.IFNA(IF((INDEX(F207:F216,MATCH(\"n.a.\",F207:F216,0)))=\"n.a.\",\"\",\"\"),_xlfn.IFNA(IF((INDEX(F207:F216,MATCH(\"\",F207:F216,0)))=\"\",\"\",\"\"),\"\"))))))))))))","v":""},{"$f":"_xlfn.IFNA(IF((INDEX(G207:G216,MATCH(\"E\",G207:G216,0)))=\"E\",\"E\",\"\"),_xlfn.IFNA(IF((INDEX(G207:G216,MATCH(\"D\",G207:G216,0)))=\"D\",\"D\",\"\"),_xlfn.IFNA(IF((INDEX(G207:G216,MATCH(\"Ca\",G207:G216,0)))=\"Ca\",\"C\",\"\"),_xlfn.IFNA(IF((INDEX(G207:G216,MATCH(\"C\",G207:G216,0)))=\"C\",\"C\",\"\"),_xlfn.IFNA(IF((INDEX(G207:G216,MATCH(\"B\",G207:G216,0)))=\"B\",\"B\",\"\"),_xlfn.IFNA(IF((INDEX(G207:G216,MATCH(\"A\",G207:G216,0)))=\"A\",\"A\",\"\"),_xlfn.IFNA(IF((INDEX(G207:G216,MATCH(\"n.a.\",G207:G216,0)))=\"n.a.\",\"\",\"\"),_xlfn.IFNA(IF((INDEX(G207:G216,MATCH(\"\",G207:G216,0)))=\"\",\"\",\"\"),\"\"))))))))","v":""},{"$f":"_xlfn.IFNA(IF((INDEX(H207:H216,MATCH(\"E\",H207:H216,0)))=\"E\",\"E\",\"\"),_xlfn.IFNA(IF((INDEX(H207:H216,MATCH(\"D (E)c\",H207:H216,0)))=\"D (E)c\",\"D (E)c\",\"\"),_xlfn.IFNA(IF((INDEX(H207:H216,MATCH(\"Db (E)c\",H207:H216,0)))=\"Db (E)c\",\"D (E)c\",\"\"),_xlfn.IFNA(IF((INDEX(H207:H216,MATCH(\"D\",H207:H216,0)))=\"D\",\"D\",\"\"),_xlfn.IFNA(IF((INDEX(H207:H216,MATCH(\"Cb\",H207:H216,0)))=\"Cb\",\"C\",\"\"),_xlfn.IFNA(IF((INDEX(H207:H216,MATCH(\"C\",H207:H216,0)))=\"C\",\"C\",\"\"),_xlfn.IFNA(IF((INDEX(H207:H216,MATCH(\"Bb\",H207:H216,0)))=\"Bb\",\"B\",\"\"),_xlfn.IFNA(IF((INDEX(H207:H216,MATCH(\"B\",H207:H216,0)))=\"B\",\"B\",\"\"),_xlfn.IFNA(IF((INDEX(H207:H216,MATCH(\"Ab\",H207:H216,0)))=\"Ab\",\"A\",\"\"),_xlfn.IFNA(IF((INDEX(H207:H216,MATCH(\"A\",H207:H216,0)))=\"A\",\"A\",\"\"),_xlfn.IFNA(IF((INDEX(H207:H216,MATCH(\"n.a.\",H207:H216,0)))=\"n.a.\",\"\",\"\"),_xlfn.IFNA(IF((INDEX(H207:H216,MATCH(\"\",H207:H216,0)))=\"\",\"\",\"\"),\"\"))))))))))))","v":""}]
[null,"\nHighest hazard level for all 'Uptake Routes' \n",null,null,{"$f":"_xlfn.IFNA(IF((INDEX(E217:H217,MATCH(\"E\",E217:H217,0)))=\"E\",\"E\",\"\"),_xlfn.IFNA(IF((INDEX(E217:H217,MATCH(\"D (E)c\",E217:H217,0)))=\"D (E)c\",\"D (E)\",\"\"),_xlfn.IFNA(IF((INDEX(E217:H217,MATCH(\"D\",E217:H217,0)))=\"D\",\"D\",\"\"),_xlfn.IFNA(IF((INDEX(E217:H217,MATCH(\"C\",E217:H217,0)))=\"C\",\"C\",\"\"),_xlfn.IFNA(IF((INDEX(E217:H217,MATCH(\"B\",E217:H217,0)))=\"B\",\"B\",\"\"),_xlfn.IFNA(IF((INDEX(E217:H217,MATCH(\"A\",E217:H217,0)))=\"A\",\"A\",\"\"),_xlfn.IFNA(IF((INDEX(E217:H217,MATCH(\"n.a.\",E217:H217,0)))=\"n.a.\",\"\",\"\"),_xlfn.IFNA(IF((INDEX(E217:H217,MATCH(\"\",E217:H217,0)))=\"\",\"\",\"\"),\"\"))))))))","v":""}]
[]
[]
[null,"\nStep 3: D(E) Assessment\nSkip this step if \nyour assessment above does not reveal a D(E) hazard level.\nHover over this cell for additional instructions.\n",null,null,"\nOverall hazard level\n",null,{"$f":"IF(AND(E218=\"\",C204=\"Yes\")=TRUE,\"B\",IF(E218=\"\",\"\",(IF(AND(E218=\"D (E)\",C221=\"\"),\"D (E)\"&CHAR(10)&\"Find if cat. 1 acute tox.\",(IF(E218<>\"D (E)\",E218,(IF(AND(E218=\"D (E)\",C221=\"Yes\"),\"E\",(IF(AND(E218=\"D (E)\",C221=\"No\"),\"D\",\"\"))))))))))","v":""}]
[]
[{"$f":"IF(IF(MOD(ROWS(B$3:B223),20)=1,INDEX('Summary Sheet'!$A$17:$A326,INT(ROWS(B$3:B223)/20)+1),\"\")=0,\"\",IF(MOD(ROWS(B$3:B223),20)=1,INDEX('Summary Sheet'!$A$17:$A326,INT(ROWS(B$3:B223)/20)+1),\"\"))","v":12},"Hazard Level Assessment","for",{"$f":"IF(IF(MOD(ROWS(D$3:D223),20)=1,INDEX('Summary Sheet'!$B$17:$B326,INT(ROWS(D$3:D223)/20)+1),\"\")=0,\"\",IF(MOD(ROWS(D$3:D223),20)=1,INDEX('Summary Sheet'!$B$17:$B326,INT(ROWS(D$3:D223)/20)+1),\"\"))","v":""}]
[null,"\nStep 1: Physical & Environmental Hazard Statements/Codes\nFind Section 2 of the SDS and determine if the SDS has physical and/or environmental hazard statements/codes. Hover on this cell for additional instructions.\n",null,{"$f":"IF(IF(MOD(ROWS(D$3:D224),20)=1,INDEX('Summary Sheet'!$B$17:$B326,INT(ROWS(D$3:D224)/20)+1),\"\")=0,\"\",IF(MOD(ROWS(D$3:D224),20)=1,INDEX('Summary Sheet'!$B$17:$B326,INT(ROWS(D$3:D224)/20)+1),\"\"))","v":""}]
[null,"Step 2: Health Hazard Statements/Codes\nProvide the Health Hazard Statements or Codes from Section 2 of the SDS below. Hover on this cell for additional instructions.",null,{"$f":"IF(IF(MOD(ROWS(D$3:D225),20)=1,INDEX('Summary Sheet'!$B$17:$B326,INT(ROWS(D$3:D225)/20)+1),\"\")=0,\"\",IF(MOD(ROWS(D$3:D225),20)=1,INDEX('Summary Sheet'!$B$17:$B326,INT(ROWS(D$3:D225)/20)+1),\"\"))","v":""},"\nHazard Level\n"]
[null,null,null,{"$f":"IF(IF(MOD(ROWS(D$3:D226),20)=1,INDEX('Summary Sheet'!$B$17:$B326,INT(ROWS(D$3:D226)/20)+1),\"\")=0,\"\",IF(MOD(ROWS(D$3:D226),20)=1,INDEX('Summary Sheet'!$B$17:$B326,INT(ROWS(D$3:D226)/20)+1),\"\"))","v":""},"\nEye Damage\n","\nInhalation\n","\nLocal Skin Damage\n","\nSkin uptake, systemic\n"]
[1,null,{"$f":"_xlfn.IFNA(VLOOKUP(B227,_!$A$7:$F$210,6,FALSE),\"\")","v":""},{"$f":"IF(IF(MOD(ROWS(D$3:D227),20)=1,INDEX('Summary Sheet'!$B$17:$B326,INT(ROWS(D$3:D227)/20)+1),\"\")=0,\"\",IF(MOD(ROWS(D$3:D227),20)=1,INDEX('Summary Sheet'!$B$17:$B326,INT(ROWS(D$3:D227)/20)+1),\"\"))","v":""},{"$f":"_xlfn.IFNA(IF(VLOOKUP(B227,_!$A$7:$E$210,2,FALSE)=0, \"\", VLOOKUP(B227,_!$A$7:$E$210,2,FALSE)),  \"\")","v":""},{"$f":"_xlfn.IFNA(IF(VLOOKUP(B227,_!$A$7:$E$210,3,FALSE)=0, \"\", VLOOKUP(B227,_!$A$7:$E$210,3,FALSE)), \"\")","v":""},{"$f":"_xlfn.IFNA(IF(VLOOKUP(B227,_!$A$7:$E$210,4,FALSE)=0, \"\",VLOOKUP(B227,_!$A$7:$E$210,4,FALSE)), \"\")","v":""},{"$f":"_xlfn.IFNA(IF(VLOOKUP(B227,_!$A$7:$E$210,5,FALSE)=0,\"\",VLOOKUP(B227,_!$A$7:$E$210,5,FALSE)), \"\")","v":""}]
[2,null,{"$f":"_xlfn.IFNA(VLOOKUP(B228,_!$A$7:$F$210,6,FALSE),\"\")","v":""},{"$f":"IF(IF(MOD(ROWS(D$3:D228),20)=1,INDEX('Summary Sheet'!$B$17:$B326,INT(ROWS(D$3:D228)/20)+1),\"\")=0,\"\",IF(MOD(ROWS(D$3:D228),20)=1,INDEX('Summary Sheet'!$B$17:$B326,INT(ROWS(D$3:D228)/20)+1),\"\"))","v":""},{"$f":"_xlfn.IFNA(IF(VLOOKUP(B228,_!$A$7:$E$210,2,FALSE)=0, \"\", VLOOKUP(B228,_!$A$7:$E$210,2,FALSE)),  \"\")","v":""},{"$f":"_xlfn.IFNA(IF(VLOOKUP(B228,_!$A$7:$E$210,3,FALSE)=0, \"\", VLOOKUP(B228,_!$A$7:$E$210,3,FALSE)), \"\")","v":""},{"$f":"_xlfn.IFNA(IF(VLOOKUP(B228,_!$A$7:$E$210,4,FALSE)=0, \"\",VLOOKUP(B228,_!$A$7:$E$210,4,FALSE)), \"\")","v":""},{"$f":"_xlfn.IFNA(IF(VLOOKUP(B228,_!$A$7:$E$210,5,FALSE)=0,\"\",VLOOKUP(B228,_!$A$7:$E$210,5,FALSE)), \"\")","v":""}]
[3,null,{"$f":"_xlfn.IFNA(VLOOKUP(B229,_!$A$7:$F$210,6,FALSE),\"\")","v":""},{"$f":"IF(IF(MOD(ROWS(D$3:D229),20)=1,INDEX('Summary Sheet'!$B$17:$B326,INT(ROWS(D$3:D229)/20)+1),\"\")=0,\"\",IF(MOD(ROWS(D$3:D229),20)=1,INDEX('Summary Sheet'!$B$17:$B326,INT(ROWS(D$3:D229)/20)+1),\"\"))","v":""},{"$f":"_xlfn.IFNA(IF(VLOOKUP(B229,_!$A$7:$E$210,2,FALSE)=0, \"\", VLOOKUP(B229,_!$A$7:$E$210,2,FALSE)),  \"\")","v":""},{"$f":"_xlfn.IFNA(IF(VLOOKUP(B229,_!$A$7:$E$210,3,FALSE)=0, \"\", VLOOKUP(B229,_!$A$7:$E$210,3,FALSE)), \"\")","v":""},{"$f":"_xlfn.IFNA(IF(VLOOKUP(B229,_!$A$7:$E$210,4,FALSE)=0, \"\",VLOOKUP(B229,_!$A$7:$E$210,4,FALSE)), \"\")","v":""},{"$f":"_xlfn.IFNA(IF(VLOOKUP(B229,_!$A$7:$E$210,5,FALSE)=0,\"\",VLOOKUP(B229,_!$A$7:$E$210,5,FALSE)), \"\")","v":""}]
[4,null,{"$f":"_xlfn.IFNA(VLOOKUP(B230,_!$A$7:$F$210,6,FALSE),\"\")","v":""},{"$f":"IF(IF(MOD(ROWS(D$3:D230),20)=1,INDEX('Summary Sheet'!$B$17:$B326,INT(ROWS(D$3:D230)/20)+1),\"\")=0,\"\",IF(MOD(ROWS(D$3:D230),20)=1,INDEX('Summary Sheet'!$B$17:$B326,INT(ROWS(D$3:D230)/20)+1),\"\"))","v":""},{"$f":"_xlfn.IFNA(IF(VLOOKUP(B230,_!$A$7:$E$210,2,FALSE)=0, \"\", VLOOKUP(B230,_!$A$7:$E$210,2,FALSE)),  \"\")","v":""},{"$f":"_xlfn.IFNA(IF(VLOOKUP(B230,_!$A$7:$E$210,3,FALSE)=0, \"\", VLOOKUP(B230,_!$A$7:$E$210,3,FALSE)), \"\")","v":""},{"$f":"_xlfn.IFNA(IF(VLOOKUP(B230,_!$A$7:$E$210,4,FALSE)=0, \"\",VLOOKUP(B230,_!$A$7:$E$210,4,FALSE)), \"\")","v":""},{"$f":"_xlfn.IFNA(IF(VLOOKUP(B230,_!$A$7:$E$210,5,FALSE)=0,\"\",VLOOKUP(B230,_!$A$7:$E$210,5,FALSE)), \"\")","v":""}]
[5,null,{"$f":"_xlfn.IFNA(VLOOKUP(B231,_!$A$7:$F$210,6,FALSE),\"\")","v":""},{"$f":"IF(IF(MOD(ROWS(D$3:D231),20)=1,INDEX('Summary Sheet'!$B$17:$B326,INT(ROWS(D$3:D231)/20)+1),\"\")=0,\"\",IF(MOD(ROWS(D$3:D231),20)=1,INDEX('Summary Sheet'!$B$17:$B326,INT(ROWS(D$3:D231)/20)+1),\"\"))","v":""},{"$f":"_xlfn.IFNA(IF(VLOOKUP(B231,_!$A$7:$E$210,2,FALSE)=0, \"\", VLOOKUP(B231,_!$A$7:$E$210,2,FALSE)),  \"\")","v":""},{"$f":"_xlfn.IFNA(IF(VLOOKUP(B231,_!$A$7:$E$210,3,FALSE)=0, \"\", VLOOKUP(B231,_!$A$7:$E$210,3,FALSE)), \"\")","v":""},{"$f":"_xlfn.IFNA(IF(VLOOKUP(B231,_!$A$7:$E$210,4,FALSE)=0, \"\",VLOOKUP(B231,_!$A$7:$E$210,4,FALSE)), \"\")","v":""},{"$f":"_xlfn.IFNA(IF(VLOOKUP(B231,_!$A$7:$E$210,5,FALSE)=0,\"\",VLOOKUP(B231,_!$A$7:$E$210,5,FALSE)), \"\")","v":""}]
[6,null,{"$f":"_xlfn.IFNA(VLOOKUP(B232,_!$A$7:$F$210,6,FALSE),\"\")","v":""},{"$f":"IF(IF(MOD(ROWS(D$3:D232),20)=1,INDEX('Summary Sheet'!$B$17:$B326,INT(ROWS(D$3:D232)/20)+1),\"\")=0,\"\",IF(MOD(ROWS(D$3:D232),20)=1,INDEX('Summary Sheet'!$B$17:$B326,INT(ROWS(D$3:D232)/20)+1),\"\"))","v":""},{"$f":"_xlfn.IFNA(IF(VLOOKUP(B232,_!$A$7:$E$210,2,FALSE)=0, \"\", VLOOKUP(B232,_!$A$7:$E$210,2,FALSE)),  \"\")","v":""},{"$f":"_xlfn.IFNA(IF(VLOOKUP(B232,_!$A$7:$E$210,3,FALSE)=0, \"\", VLOOKUP(B232,_!$A$7:$E$210,3,FALSE)), \"\")","v":""},{"$f":"_xlfn.IFNA(IF(VLOOKUP(B232,_!$A$7:$E$210,4,FALSE)=0, \"\",VLOOKUP(B232,_!$A$7:$E$210,4,FALSE)), \"\")","v":""},{"$f":"_xlfn.IFNA(IF(VLOOKUP(B232,_!$A$7:$E$210,5,FALSE)=0,\"\",VLOOKUP(B232,_!$A$7:$E$210,5,FALSE)), \"\")","v":""}]
[7,null,{"$f":"_xlfn.IFNA(VLOOKUP(B233,_!$A$7:$F$210,6,FALSE),\"\")","v":""},{"$f":"IF(IF(MOD(ROWS(D$3:D233),20)=1,INDEX('Summary Sheet'!$B$17:$B326,INT(ROWS(D$3:D233)/20)+1),\"\")=0,\"\",IF(MOD(ROWS(D$3:D233),20)=1,INDEX('Summary Sheet'!$B$17:$B326,INT(ROWS(D$3:D233)/20)+1),\"\"))","v":""},{"$f":"_xlfn.IFNA(IF(VLOOKUP(B233,_!$A$7:$E$210,2,FALSE)=0, \"\", VLOOKUP(B233,_!$A$7:$E$210,2,FALSE)),  \"\")","v":""},{"$f":"_xlfn.IFNA(IF(VLOOKUP(B233,_!$A$7:$E$210,3,FALSE)=0, \"\", VLOOKUP(B233,_!$A$7:$E$210,3,FALSE)), \"\")","v":""},{"$f":"_xlfn.IFNA(IF(VLOOKUP(B233,_!$A$7:$E$210,4,FALSE)=0, \"\",VLOOKUP(B233,_!$A$7:$E$210,4,FALSE)), \"\")","v":""},{"$f":"_xlfn.IFNA(IF(VLOOKUP(B233,_!$A$7:$E$210,5,FALSE)=0,\"\",VLOOKUP(B233,_!$A$7:$E$210,5,FALSE)), \"\")","v":""}]
[8,null,{"$f":"_xlfn.IFNA(VLOOKUP(B234,_!$A$7:$F$210,6,FALSE),\"\")","v":""},{"$f":"IF(IF(MOD(ROWS(D$3:D234),20)=1,INDEX('Summary Sheet'!$B$17:$B326,INT(ROWS(D$3:D234)/20)+1),\"\")=0,\"\",IF(MOD(ROWS(D$3:D234),20)=1,INDEX('Summary Sheet'!$B$17:$B326,INT(ROWS(D$3:D234)/20)+1),\"\"))","v":""},{"$f":"_xlfn.IFNA(IF(VLOOKUP(B234,_!$A$7:$E$210,2,FALSE)=0, \"\", VLOOKUP(B234,_!$A$7:$E$210,2,FALSE)),  \"\")","v":""},{"$f":"_xlfn.IFNA(IF(VLOOKUP(B234,_!$A$7:$E$210,3,FALSE)=0, \"\", VLOOKUP(B234,_!$A$7:$E$210,3,FALSE)), \"\")","v":""},{"$f":"_xlfn.IFNA(IF(VLOOKUP(B234,_!$A$7:$E$210,4,FALSE)=0, \"\",VLOOKUP(B234,_!$A$7:$E$210,4,FALSE)), \"\")","v":""},{"$f":"_xlfn.IFNA(IF(VLOOKUP(B234,_!$A$7:$E$210,5,FALSE)=0,\"\",VLOOKUP(B234,_!$A$7:$E$210,5,FALSE)), \"\")","v":""}]
[9,null,{"$f":"_xlfn.IFNA(VLOOKUP(B235,_!$A$7:$F$210,6,FALSE),\"\")","v":""},{"$f":"IF(IF(MOD(ROWS(D$3:D235),20)=1,INDEX('Summary Sheet'!$B$17:$B326,INT(ROWS(D$3:D235)/20)+1),\"\")=0,\"\",IF(MOD(ROWS(D$3:D235),20)=1,INDEX('Summary Sheet'!$B$17:$B326,INT(ROWS(D$3:D235)/20)+1),\"\"))","v":""},{"$f":"_xlfn.IFNA(IF(VLOOKUP(B235,_!$A$7:$E$210,2,FALSE)=0, \"\", VLOOKUP(B235,_!$A$7:$E$210,2,FALSE)),  \"\")","v":""},{"$f":"_xlfn.IFNA(IF(VLOOKUP(B235,_!$A$7:$E$210,3,FALSE)=0, \"\", VLOOKUP(B235,_!$A$7:$E$210,3,FALSE)), \"\")","v":""},{"$f":"_xlfn.IFNA(IF(VLOOKUP(B235,_!$A$7:$E$210,4,FALSE)=0, \"\",VLOOKUP(B235,_!$A$7:$E$210,4,FALSE)), \"\")","v":""},{"$f":"_xlfn.IFNA(IF(VLOOKUP(B235,_!$A$7:$E$210,5,FALSE)=0,\"\",VLOOKUP(B235,_!$A$7:$E$210,5,FALSE)), \"\")","v":""}]
[10,null,{"$f":"_xlfn.IFNA(VLOOKUP(B236,_!$A$7:$F$210,6,FALSE),\"\")","v":""},{"$f":"IF(IF(MOD(ROWS(D$14:D236),20)=1,INDEX('Summary Sheet'!$B$17:$B326,INT(ROWS(D$14:D236)/20)+1),\"\")=0,\"\",IF(MOD(ROWS(D$14:D236),20)=1,INDEX('Summary Sheet'!$B$17:$B326,INT(ROWS(D$14:D236)/20)+1),\"\"))","v":""},{"$f":"_xlfn.IFNA(IF(VLOOKUP(B236,_!$A$7:$E$210,2,FALSE)=0, \"\", VLOOKUP(B236,_!$A$7:$E$210,2,FALSE)),  \"\")","v":""},{"$f":"_xlfn.IFNA(IF(VLOOKUP(B236,_!$A$7:$E$210,3,FALSE)=0, \"\", VLOOKUP(B236,_!$A$7:$E$210,3,FALSE)), \"\")","v":""},{"$f":"_xlfn.IFNA(IF(VLOOKUP(B236,_!$A$7:$E$210,4,FALSE)=0, \"\",VLOOKUP(B236,_!$A$7:$E$210,4,FALSE)), \"\")","v":""},{"$f":"_xlfn.IFNA(IF(VLOOKUP(B236,_!$A$7:$E$210,5,FALSE)=0,\"\",VLOOKUP(B236,_!$A$7:$E$210,5,FALSE)), \"\")","v":""}]
[null,"\nHighest hazard level for each ‘Uptake Route’\n",null,null,{"$f":"_xlfn.IFNA(IF((INDEX(E227:E236,MATCH(\"E\",E227:E236,0)))=\"E\",\"E\",\"\"),_xlfn.IFNA(IF((INDEX(E227:E236,MATCH(\"D\",E227:E236,0)))=\"D\",\"D\",\"\"),_xlfn.IFNA(IF((INDEX(E227:E236,MATCH(\"Ca\",E227:E236,0)))=\"Ca\",\"C\",\"\"),_xlfn.IFNA(IF((INDEX(E227:E236,MATCH(\"C\",E227:E236,0)))=\"C\",\"C\",\"\"),_xlfn.IFNA(IF((INDEX(E227:E236,MATCH(\"B\",E227:E236,0)))=\"B\",\"B\",\"\"),_xlfn.IFNA(IF((INDEX(E227:E236,MATCH(\"A\",E227:E236,0)))=\"A\",\"A\",\"\"),_xlfn.IFNA(IF((INDEX(E227:E236,MATCH(\"n.a.\",E227:E236,0)))=\"n.a.\",\"\",\"\"),_xlfn.IFNA(IF((INDEX(E227:E236,MATCH(\"\",E227:E236,0)))=\"\",\"\",\"\"),\"\"))))))))","v":""},{"$f":"_xlfn.IFNA(IF((INDEX(F227:F236,MATCH(\"E\",F227:F236,0)))=\"E\",\"E\",\"\"),_xlfn.IFNA(IF((INDEX(F227:F236,MATCH(\"D (E)c\",F227:F236,0)))=\"D (E)c\",\"D (E)c\",\"\"),_xlfn.IFNA(IF((INDEX(F227:F236,MATCH(\"Da (E)c\",F227:F236,0)))=\"Da (E)c\",\"D (E)c\",\"\"),_xlfn.IFNA(IF((INDEX(F227:F236,MATCH(\"D\",F227:F236,0)))=\"D\",\"D\",\"\"),_xlfn.IFNA(IF((INDEX(F227:F236,MATCH(\"Ca\",F227:F236,0)))=\"Ca\",\"C\",\"\"),_xlfn.IFNA(IF((INDEX(F227:F236,MATCH(\"C\",F227:F236,0)))=\"C\",\"C\",\"\"),_xlfn.IFNA(IF((INDEX(F227:F236,MATCH(\"Ba\",F227:F236,0)))=\"Ba\",\"B\",\"\"),_xlfn.IFNA(IF((INDEX(F227:F236,MATCH(\"B\",F227:F236,0)))=\"B\",\"B\",\"\"),_xlfn.IFNA(IF((INDEX(F227:F236,MATCH(\"Aa\",F227:F236,0)))=\"Aa\",\"A\",\"\"),_xlfn.IFNA(IF((INDEX(F227:F236,MATCH(\"A\",F227:F236,0)))=\"A\",\"A\",\"\"),_xlfn.IFNA(IF((INDEX(F227:F236,MATCH(\"n.a.\",F227:F236,0)))=\"n.a.\",\"\",\"\"),_xlfn.IFNA(IF((INDEX(F227:F236,MATCH(\"\",F227:F236,0)))=\"\",\"\",\"\"),\"\"))))))))))))","v":""},{"$f":"_xlfn.IFNA(IF((INDEX(G227:G236,MATCH(\"E\",G227:G236,0)))=\"E\",\"E\",\"\"),_xlfn.IFNA(IF((INDEX(G227:G236,MATCH(\"D\",G227:G236,0)))=\"D\",\"D\",\"\"),_xlfn.IFNA(IF((INDEX(G227:G236,MATCH(\"Ca\",G227:G236,0)))=\"Ca\",\"C\",\"\"),_xlfn.IFNA(IF((INDEX(G227:G236,MATCH(\"C\",G227:G236,0)))=\"C\",\"C\",\"\"),_xlfn.IFNA(IF((INDEX(G227:G236,MATCH(\"B\",G227:G236,0)))=\"B\",\"B\",\"\"),_xlfn.IFNA(IF((INDEX(G227:G236,MATCH(\"A\",G227:G236,0)))=\"A\",\"A\",\"\"),_xlfn.IFNA(IF((INDEX(G227:G236,MATCH(\"n.a.\",G227:G236,0)))=\"n.a.\",\"\",\"\"),_xlfn.IFNA(IF((INDEX(G227:G236,MATCH(\"\",G227:G236,0)))=\"\",\"\",\"\"),\"\"))))))))","v":""},{"$f":"_xlfn.IFNA(IF((INDEX(H227:H236,MATCH(\"E\",H227:H236,0)))=\"E\",\"E\",\"\"),_xlfn.IFNA(IF((INDEX(H227:H236,MATCH(\"D (E)c\",H227:H236,0)))=\"D (E)c\",\"D (E)c\",\"\"),_xlfn.IFNA(IF((INDEX(H227:H236,MATCH(\"Db (E)c\",H227:H236,0)))=\"Db (E)c\",\"D (E)c\",\"\"),_xlfn.IFNA(IF((INDEX(H227:H236,MATCH(\"D\",H227:H236,0)))=\"D\",\"D\",\"\"),_xlfn.IFNA(IF((INDEX(H227:H236,MATCH(\"Cb\",H227:H236,0)))=\"Cb\",\"C\",\"\"),_xlfn.IFNA(IF((INDEX(H227:H236,MATCH(\"C\",H227:H236,0)))=\"C\",\"C\",\"\"),_xlfn.IFNA(IF((INDEX(H227:H236,MATCH(\"Bb\",H227:H236,0)))=\"Bb\",\"B\",\"\"),_xlfn.IFNA(IF((INDEX(H227:H236,MATCH(\"B\",H227:H236,0)))=\"B\",\"B\",\"\"),_xlfn.IFNA(IF((INDEX(H227:H236,MATCH(\"Ab\",H227:H236,0)))=\"Ab\",\"A\",\"\"),_xlfn.IFNA(IF((INDEX(H227:H236,MATCH(\"A\",H227:H236,0)))=\"A\",\"A\",\"\"),_xlfn.IFNA(IF((INDEX(H227:H236,MATCH(\"n.a.\",H227:H236,0)))=\"n.a.\",\"\",\"\"),_xlfn.IFNA(IF((INDEX(H227:H236,MATCH(\"\",H227:H236,0)))=\"\",\"\",\"\"),\"\"))))))))))))","v":""}]
[null,"\nHighest hazard level for all 'Uptake Routes' \n",null,null,{"$f":"_xlfn.IFNA(IF((INDEX(E237:H237,MATCH(\"E\",E237:H237,0)))=\"E\",\"E\",\"\"),_xlfn.IFNA(IF((INDEX(E237:H237,MATCH(\"D (E)c\",E237:H237,0)))=\"D (E)c\",\"D (E)\",\"\"),_xlfn.IFNA(IF((INDEX(E237:H237,MATCH(\"D\",E237:H237,0)))=\"D\",\"D\",\"\"),_xlfn.IFNA(IF((INDEX(E237:H237,MATCH(\"C\",E237:H237,0)))=\"C\",\"C\",\"\"),_xlfn.IFNA(IF((INDEX(E237:H237,MATCH(\"B\",E237:H237,0)))=\"B\",\"B\",\"\"),_xlfn.IFNA(IF((INDEX(E237:H237,MATCH(\"A\",E237:H237,0)))=\"A\",\"A\",\"\"),_xlfn.IFNA(IF((INDEX(E237:H237,MATCH(\"n.a.\",E237:H237,0)))=\"n.a.\",\"\",\"\"),_xlfn.IFNA(IF((INDEX(E237:H237,MATCH(\"\",E237:H237,0)))=\"\",\"\",\"\"),\"\"))))))))","v":""}]
[]
[]
[null,"\nStep 3: D(E) Assessment\nSkip this step if \nyour assessment above does not reveal a D(E) hazard level.\nHover over this cell for additional instructions.\n",null,null,"\nOverall hazard level\n",null,{"$f":"IF(AND(E238=\"\",C224=\"Yes\")=TRUE,\"B\",IF(E238=\"\",\"\",(IF(AND(E238=\"D (E)\",C241=\"\"),\"D (E)\"&CHAR(10)&\"Find if cat. 1 acute tox.\",(IF(E238<>\"D (E)\",E238,(IF(AND(E238=\"D (E)\",C241=\"Yes\"),\"E\",(IF(AND(E238=\"D (E)\",C241=\"No\"),\"D\",\"\"))))))))))","v":""}]
[]
[{"$f":"IF(IF(MOD(ROWS(B$3:B243),20)=1,INDEX('Summary Sheet'!$A$17:$A345,INT(ROWS(B$3:B243)/20)+1),\"\")=0,\"\",IF(MOD(ROWS(B$3:B243),20)=1,INDEX('Summary Sheet'!$A$17:$A345,INT(ROWS(B$3:B243)/20)+1),\"\"))","v":13},"Hazard Level Assessment","for",{"$f":"IF(IF(MOD(ROWS(D$3:D243),20)=1,INDEX('Summary Sheet'!$B$17:$B345,INT(ROWS(D$3:D243)/20)+1),\"\")=0,\"\",IF(MOD(ROWS(D$3:D243),20)=1,INDEX('Summary Sheet'!$B$17:$B345,INT(ROWS(D$3:D243)/20)+1),\"\"))","v":""}]
[null,"\nStep 1: Physical & Environmental Hazard Statements/Codes\nFind Section 2 of the SDS and determine if the SDS has physical and/or environmental hazard statements/codes. Hover on this cell for additional instructions.\n",null,{"$f":"IF(IF(MOD(ROWS(D$3:D244),20)=1,INDEX('Summary Sheet'!$B$17:$B345,INT(ROWS(D$3:D244)/20)+1),\"\")=0,\"\",IF(MOD(ROWS(D$3:D244),20)=1,INDEX('Summary Sheet'!$B$17:$B345,INT(ROWS(D$3:D244)/20)+1),\"\"))","v":""}]
[null,"Step 2: Health Hazard Statements/Codes\nProvide the Health Hazard Statements or Codes from Section 2 of the SDS below. Hover on this cell for additional instructions.",null,{"$f":"IF(IF(MOD(ROWS(D$3:D245),20)=1,INDEX('Summary Sheet'!$B$17:$B345,INT(ROWS(D$3:D245)/20)+1),\"\")=0,\"\",IF(MOD(ROWS(D$3:D245),20)=1,INDEX('Summary Sheet'!$B$17:$B345,INT(ROWS(D$3:D245)/20)+1),\"\"))","v":""},"\nHazard Level\n"]
[null,null,null,{"$f":"IF(IF(MOD(ROWS(D$3:D246),20)=1,INDEX('Summary Sheet'!$B$17:$B345,INT(ROWS(D$3:D246)/20)+1),\"\")=0,\"\",IF(MOD(ROWS(D$3:D246),20)=1,INDEX('Summary Sheet'!$B$17:$B345,INT(ROWS(D$3:D246)/20)+1),\"\"))","v":""},"\nEye Damage\n","\nInhalation\n","\nLocal Skin Damage\n","\nSkin uptake, systemic\n"]
[1,null,{"$f":"_xlfn.IFNA(VLOOKUP(B247,_!$A$7:$F$210,6,FALSE),\"\")","v":""},{"$f":"IF(IF(MOD(ROWS(D$3:D247),20)=1,INDEX('Summary Sheet'!$B$17:$B345,INT(ROWS(D$3:D247)/20)+1),\"\")=0,\"\",IF(MOD(ROWS(D$3:D247),20)=1,INDEX('Summary Sheet'!$B$17:$B345,INT(ROWS(D$3:D247)/20)+1),\"\"))","v":""},{"$f":"_xlfn.IFNA(IF(VLOOKUP(B247,_!$A$7:$E$210,2,FALSE)=0, \"\", VLOOKUP(B247,_!$A$7:$E$210,2,FALSE)),  \"\")","v":""},{"$f":"_xlfn.IFNA(IF(VLOOKUP(B247,_!$A$7:$E$210,3,FALSE)=0, \"\", VLOOKUP(B247,_!$A$7:$E$210,3,FALSE)), \"\")","v":""},{"$f":"_xlfn.IFNA(IF(VLOOKUP(B247,_!$A$7:$E$210,4,FALSE)=0, \"\",VLOOKUP(B247,_!$A$7:$E$210,4,FALSE)), \"\")","v":""},{"$f":"_xlfn.IFNA(IF(VLOOKUP(B247,_!$A$7:$E$210,5,FALSE)=0,\"\",VLOOKUP(B247,_!$A$7:$E$210,5,FALSE)), \"\")","v":""}]
[2,null,{"$f":"_xlfn.IFNA(VLOOKUP(B248,_!$A$7:$F$210,6,FALSE),\"\")","v":""},{"$f":"IF(IF(MOD(ROWS(D$3:D248),20)=1,INDEX('Summary Sheet'!$B$17:$B345,INT(ROWS(D$3:D248)/20)+1),\"\")=0,\"\",IF(MOD(ROWS(D$3:D248),20)=1,INDEX('Summary Sheet'!$B$17:$B345,INT(ROWS(D$3:D248)/20)+1),\"\"))","v":""},{"$f":"_xlfn.IFNA(IF(VLOOKUP(B248,_!$A$7:$E$210,2,FALSE)=0, \"\", VLOOKUP(B248,_!$A$7:$E$210,2,FALSE)),  \"\")","v":""},{"$f":"_xlfn.IFNA(IF(VLOOKUP(B248,_!$A$7:$E$210,3,FALSE)=0, \"\", VLOOKUP(B248,_!$A$7:$E$210,3,FALSE)), \"\")","v":""},{"$f":"_xlfn.IFNA(IF(VLOOKUP(B248,_!$A$7:$E$210,4,FALSE)=0, \"\",VLOOKUP(B248,_!$A$7:$E$210,4,FALSE)), \"\")","v":""},{"$f":"_xlfn.IFNA(IF(VLOOKUP(B248,_!$A$7:$E$210,5,FALSE)=0,\"\",VLOOKUP(B248,_!$A$7:$E$210,5,FALSE)), \"\")","v":""}]
[3,null,{"$f":"_xlfn.IFNA(VLOOKUP(B249,_!$A$7:$F$210,6,FALSE),\"\")","v":""},{"$f":"IF(IF(MOD(ROWS(D$3:D249),20)=1,INDEX('Summary Sheet'!$B$17:$B345,INT(ROWS(D$3:D249)/20)+1),\"\")=0,\"\",IF(MOD(ROWS(D$3:D249),20)=1,INDEX('Summary Sheet'!$B$17:$B345,INT(ROWS(D$3:D249)/20)+1),\"\"))","v":""},{"$f":"_xlfn.IFNA(IF(VLOOKUP(B249,_!$A$7:$E$210,2,FALSE)=0, \"\", VLOOKUP(B249,_!$A$7:$E$210,2,FALSE)),  \"\")","v":""},{"$f":"_xlfn.IFNA(IF(VLOOKUP(B249,_!$A$7:$E$210,3,FALSE)=0, \"\", VLOOKUP(B249,_!$A$7:$E$210,3,FALSE)), \"\")","v":""},{"$f":"_xlfn.IFNA(IF(VLOOKUP(B249,_!$A$7:$E$210,4,FALSE)=0, \"\",VLOOKUP(B249,_!$A$7:$E$210,4,FALSE)), \"\")","v":""},{"$f":"_xlfn.IFNA(IF(VLOOKUP(B249,_!$A$7:$E$210,5,FALSE)=0,\"\",VLOOKUP(B249,_!$A$7:$E$210,5,FALSE)), \"\")","v":""}]
[4,null,{"$f":"_xlfn.IFNA(VLOOKUP(B250,_!$A$7:$F$210,6,FALSE),\"\")","v":""},{"$f":"IF(IF(MOD(ROWS(D$3:D250),20)=1,INDEX('Summary Sheet'!$B$17:$B345,INT(ROWS(D$3:D250)/20)+1),\"\")=0,\"\",IF(MOD(ROWS(D$3:D250),20)=1,INDEX('Summary Sheet'!$B$17:$B345,INT(ROWS(D$3:D250)/20)+1),\"\"))","v":""},{"$f":"_xlfn.IFNA(IF(VLOOKUP(B250,_!$A$7:$E$210,2,FALSE)=0, \"\", VLOOKUP(B250,_!$A$7:$E$210,2,FALSE)),  \"\")","v":""},{"$f":"_xlfn.IFNA(IF(VLOOKUP(B250,_!$A$7:$E$210,3,FALSE)=0, \"\", VLOOKUP(B250,_!$A$7:$E$210,3,FALSE)), \"\")","v":""},{"$f":"_xlfn.IFNA(IF(VLOOKUP(B250,_!$A$7:$E$210,4,FALSE)=0, \"\",VLOOKUP(B250,_!$A$7:$E$210,4,FALSE)), \"\")","v":""},{"$f":"_xlfn.IFNA(IF(VLOOKUP(B250,_!$A$7:$E$210,5,FALSE)=0,\"\",VLOOKUP(B250,_!$A$7:$E$210,5,FALSE)), \"\")","v":""}]
[5,null,{"$f":"_xlfn.IFNA(VLOOKUP(B251,_!$A$7:$F$210,6,FALSE),\"\")","v":""},{"$f":"IF(IF(MOD(ROWS(D$3:D251),20)=1,INDEX('Summary Sheet'!$B$17:$B345,INT(ROWS(D$3:D251)/20)+1),\"\")=0,\"\",IF(MOD(ROWS(D$3:D251),20)=1,INDEX('Summary Sheet'!$B$17:$B345,INT(ROWS(D$3:D251)/20)+1),\"\"))","v":""},{"$f":"_xlfn.IFNA(IF(VLOOKUP(B251,_!$A$7:$E$210,2,FALSE)=0, \"\", VLOOKUP(B251,_!$A$7:$E$210,2,FALSE)),  \"\")","v":""},{"$f":"_xlfn.IFNA(IF(VLOOKUP(B251,_!$A$7:$E$210,3,FALSE)=0, \"\", VLOOKUP(B251,_!$A$7:$E$210,3,FALSE)), \"\")","v":""},{"$f":"_xlfn.IFNA(IF(VLOOKUP(B251,_!$A$7:$E$210,4,FALSE)=0, \"\",VLOOKUP(B251,_!$A$7:$E$210,4,FALSE)), \"\")","v":""},{"$f":"_xlfn.IFNA(IF(VLOOKUP(B251,_!$A$7:$E$210,5,FALSE)=0,\"\",VLOOKUP(B251,_!$A$7:$E$210,5,FALSE)), \"\")","v":""}]
[6,null,{"$f":"_xlfn.IFNA(VLOOKUP(B252,_!$A$7:$F$210,6,FALSE),\"\")","v":""},{"$f":"IF(IF(MOD(ROWS(D$3:D252),20)=1,INDEX('Summary Sheet'!$B$17:$B345,INT(ROWS(D$3:D252)/20)+1),\"\")=0,\"\",IF(MOD(ROWS(D$3:D252),20)=1,INDEX('Summary Sheet'!$B$17:$B345,INT(ROWS(D$3:D252)/20)+1),\"\"))","v":""},{"$f":"_xlfn.IFNA(IF(VLOOKUP(B252,_!$A$7:$E$210,2,FALSE)=0, \"\", VLOOKUP(B252,_!$A$7:$E$210,2,FALSE)),  \"\")","v":""},{"$f":"_xlfn.IFNA(IF(VLOOKUP(B252,_!$A$7:$E$210,3,FALSE)=0, \"\", VLOOKUP(B252,_!$A$7:$E$210,3,FALSE)), \"\")","v":""},{"$f":"_xlfn.IFNA(IF(VLOOKUP(B252,_!$A$7:$E$210,4,FALSE)=0, \"\",VLOOKUP(B252,_!$A$7:$E$210,4,FALSE)), \"\")","v":""},{"$f":"_xlfn.IFNA(IF(VLOOKUP(B252,_!$A$7:$E$210,5,FALSE)=0,\"\",VLOOKUP(B252,_!$A$7:$E$210,5,FALSE)), \"\")","v":""}]
[7,null,{"$f":"_xlfn.IFNA(VLOOKUP(B253,_!$A$7:$F$210,6,FALSE),\"\")","v":""},{"$f":"IF(IF(MOD(ROWS(D$3:D253),20)=1,INDEX('Summary Sheet'!$B$17:$B345,INT(ROWS(D$3:D253)/20)+1),\"\")=0,\"\",IF(MOD(ROWS(D$3:D253),20)=1,INDEX('Summary Sheet'!$B$17:$B345,INT(ROWS(D$3:D253)/20)+1),\"\"))","v":""},{"$f":"_xlfn.IFNA(IF(VLOOKUP(B253,_!$A$7:$E$210,2,FALSE)=0, \"\", VLOOKUP(B253,_!$A$7:$E$210,2,FALSE)),  \"\")","v":""},{"$f":"_xlfn.IFNA(IF(VLOOKUP(B253,_!$A$7:$E$210,3,FALSE)=0, \"\", VLOOKUP(B253,_!$A$7:$E$210,3,FALSE)), \"\")","v":""},{"$f":"_xlfn.IFNA(IF(VLOOKUP(B253,_!$A$7:$E$210,4,FALSE)=0, \"\",VLOOKUP(B253,_!$A$7:$E$210,4,FALSE)), \"\")","v":""},{"$f":"_xlfn.IFNA(IF(VLOOKUP(B253,_!$A$7:$E$210,5,FALSE)=0,\"\",VLOOKUP(B253,_!$A$7:$E$210,5,FALSE)), \"\")","v":""}]
[8,null,{"$f":"_xlfn.IFNA(VLOOKUP(B254,_!$A$7:$F$210,6,FALSE),\"\")","v":""},{"$f":"IF(IF(MOD(ROWS(D$3:D254),20)=1,INDEX('Summary Sheet'!$B$17:$B345,INT(ROWS(D$3:D254)/20)+1),\"\")=0,\"\",IF(MOD(ROWS(D$3:D254),20)=1,INDEX('Summary Sheet'!$B$17:$B345,INT(ROWS(D$3:D254)/20)+1),\"\"))","v":""},{"$f":"_xlfn.IFNA(IF(VLOOKUP(B254,_!$A$7:$E$210,2,FALSE)=0, \"\", VLOOKUP(B254,_!$A$7:$E$210,2,FALSE)),  \"\")","v":""},{"$f":"_xlfn.IFNA(IF(VLOOKUP(B254,_!$A$7:$E$210,3,FALSE)=0, \"\", VLOOKUP(B254,_!$A$7:$E$210,3,FALSE)), \"\")","v":""},{"$f":"_xlfn.IFNA(IF(VLOOKUP(B254,_!$A$7:$E$210,4,FALSE)=0, \"\",VLOOKUP(B254,_!$A$7:$E$210,4,FALSE)), \"\")","v":""},{"$f":"_xlfn.IFNA(IF(VLOOKUP(B254,_!$A$7:$E$210,5,FALSE)=0,\"\",VLOOKUP(B254,_!$A$7:$E$210,5,FALSE)), \"\")","v":""}]
[9,null,{"$f":"_xlfn.IFNA(VLOOKUP(B255,_!$A$7:$F$210,6,FALSE),\"\")","v":""},{"$f":"IF(IF(MOD(ROWS(D$3:D255),20)=1,INDEX('Summary Sheet'!$B$17:$B345,INT(ROWS(D$3:D255)/20)+1),\"\")=0,\"\",IF(MOD(ROWS(D$3:D255),20)=1,INDEX('Summary Sheet'!$B$17:$B345,INT(ROWS(D$3:D255)/20)+1),\"\"))","v":""},{"$f":"_xlfn.IFNA(IF(VLOOKUP(B255,_!$A$7:$E$210,2,FALSE)=0, \"\", VLOOKUP(B255,_!$A$7:$E$210,2,FALSE)),  \"\")","v":""},{"$f":"_xlfn.IFNA(IF(VLOOKUP(B255,_!$A$7:$E$210,3,FALSE)=0, \"\", VLOOKUP(B255,_!$A$7:$E$210,3,FALSE)), \"\")","v":""},{"$f":"_xlfn.IFNA(IF(VLOOKUP(B255,_!$A$7:$E$210,4,FALSE)=0, \"\",VLOOKUP(B255,_!$A$7:$E$210,4,FALSE)), \"\")","v":""},{"$f":"_xlfn.IFNA(IF(VLOOKUP(B255,_!$A$7:$E$210,5,FALSE)=0,\"\",VLOOKUP(B255,_!$A$7:$E$210,5,FALSE)), \"\")","v":""}]
[10,null,{"$f":"_xlfn.IFNA(VLOOKUP(B256,_!$A$7:$F$210,6,FALSE),\"\")","v":""},{"$f":"IF(IF(MOD(ROWS(D$14:D256),20)=1,INDEX('Summary Sheet'!$B$17:$B345,INT(ROWS(D$14:D256)/20)+1),\"\")=0,\"\",IF(MOD(ROWS(D$14:D256),20)=1,INDEX('Summary Sheet'!$B$17:$B345,INT(ROWS(D$14:D256)/20)+1),\"\"))","v":""},{"$f":"_xlfn.IFNA(IF(VLOOKUP(B256,_!$A$7:$E$210,2,FALSE)=0, \"\", VLOOKUP(B256,_!$A$7:$E$210,2,FALSE)),  \"\")","v":""},{"$f":"_xlfn.IFNA(IF(VLOOKUP(B256,_!$A$7:$E$210,3,FALSE)=0, \"\", VLOOKUP(B256,_!$A$7:$E$210,3,FALSE)), \"\")","v":""},{"$f":"_xlfn.IFNA(IF(VLOOKUP(B256,_!$A$7:$E$210,4,FALSE)=0, \"\",VLOOKUP(B256,_!$A$7:$E$210,4,FALSE)), \"\")","v":""},{"$f":"_xlfn.IFNA(IF(VLOOKUP(B256,_!$A$7:$E$210,5,FALSE)=0,\"\",VLOOKUP(B256,_!$A$7:$E$210,5,FALSE)), \"\")","v":""}]
[null,"\nHighest hazard level for each ‘Uptake Route’\n",null,null,{"$f":"_xlfn.IFNA(IF((INDEX(E247:E256,MATCH(\"E\",E247:E256,0)))=\"E\",\"E\",\"\"),_xlfn.IFNA(IF((INDEX(E247:E256,MATCH(\"D\",E247:E256,0)))=\"D\",\"D\",\"\"),_xlfn.IFNA(IF((INDEX(E247:E256,MATCH(\"Ca\",E247:E256,0)))=\"Ca\",\"C\",\"\"),_xlfn.IFNA(IF((INDEX(E247:E256,MATCH(\"C\",E247:E256,0)))=\"C\",\"C\",\"\"),_xlfn.IFNA(IF((INDEX(E247:E256,MATCH(\"B\",E247:E256,0)))=\"B\",\"B\",\"\"),_xlfn.IFNA(IF((INDEX(E247:E256,MATCH(\"A\",E247:E256,0)))=\"A\",\"A\",\"\"),_xlfn.IFNA(IF((INDEX(E247:E256,MATCH(\"n.a.\",E247:E256,0)))=\"n.a.\",\"\",\"\"),_xlfn.IFNA(IF((INDEX(E247:E256,MATCH(\"\",E247:E256,0)))=\"\",\"\",\"\"),\"\"))))))))","v":""},{"$f":"_xlfn.IFNA(IF((INDEX(F247:F256,MATCH(\"E\",F247:F256,0)))=\"E\",\"E\",\"\"),_xlfn.IFNA(IF((INDEX(F247:F256,MATCH(\"D (E)c\",F247:F256,0)))=\"D (E)c\",\"D (E)c\",\"\"),_xlfn.IFNA(IF((INDEX(F247:F256,MATCH(\"Da (E)c\",F247:F256,0)))=\"Da (E)c\",\"D (E)c\",\"\"),_xlfn.IFNA(IF((INDEX(F247:F256,MATCH(\"D\",F247:F256,0)))=\"D\",\"D\",\"\"),_xlfn.IFNA(IF((INDEX(F247:F256,MATCH(\"Ca\",F247:F256,0)))=\"Ca\",\"C\",\"\"),_xlfn.IFNA(IF((INDEX(F247:F256,MATCH(\"C\",F247:F256,0)))=\"C\",\"C\",\"\"),_xlfn.IFNA(IF((INDEX(F247:F256,MATCH(\"Ba\",F247:F256,0)))=\"Ba\",\"B\",\"\"),_xlfn.IFNA(IF((INDEX(F247:F256,MATCH(\"B\",F247:F256,0)))=\"B\",\"B\",\"\"),_xlfn.IFNA(IF((INDEX(F247:F256,MATCH(\"Aa\",F247:F256,0)))=\"Aa\",\"A\",\"\"),_xlfn.IFNA(IF((INDEX(F247:F256,MATCH(\"A\",F247:F256,0)))=\"A\",\"A\",\"\"),_xlfn.IFNA(IF((INDEX(F247:F256,MATCH(\"n.a.\",F247:F256,0)))=\"n.a.\",\"\",\"\"),_xlfn.IFNA(IF((INDEX(F247:F256,MATCH(\"\",F247:F256,0)))=\"\",\"\",\"\"),\"\"))))))))))))","v":""},{"$f":"_xlfn.IFNA(IF((INDEX(G247:G256,MATCH(\"E\",G247:G256,0)))=\"E\",\"E\",\"\"),_xlfn.IFNA(IF((INDEX(G247:G256,MATCH(\"D\",G247:G256,0)))=\"D\",\"D\",\"\"),_xlfn.IFNA(IF((INDEX(G247:G256,MATCH(\"Ca\",G247:G256,0)))=\"Ca\",\"C\",\"\"),_xlfn.IFNA(IF((INDEX(G247:G256,MATCH(\"C\",G247:G256,0)))=\"C\",\"C\",\"\"),_xlfn.IFNA(IF((INDEX(G247:G256,MATCH(\"B\",G247:G256,0)))=\"B\",\"B\",\"\"),_xlfn.IFNA(IF((INDEX(G247:G256,MATCH(\"A\",G247:G256,0)))=\"A\",\"A\",\"\"),_xlfn.IFNA(IF((INDEX(G247:G256,MATCH(\"n.a.\",G247:G256,0)))=\"n.a.\",\"\",\"\"),_xlfn.IFNA(IF((INDEX(G247:G256,MATCH(\"\",G247:G256,0)))=\"\",\"\",\"\"),\"\"))))))))","v":""},{"$f":"_xlfn.IFNA(IF((INDEX(H247:H256,MATCH(\"E\",H247:H256,0)))=\"E\",\"E\",\"\"),_xlfn.IFNA(IF((INDEX(H247:H256,MATCH(\"D (E)c\",H247:H256,0)))=\"D (E)c\",\"D (E)c\",\"\"),_xlfn.IFNA(IF((INDEX(H247:H256,MATCH(\"Db (E)c\",H247:H256,0)))=\"Db (E)c\",\"D (E)c\",\"\"),_xlfn.IFNA(IF((INDEX(H247:H256,MATCH(\"D\",H247:H256,0)))=\"D\",\"D\",\"\"),_xlfn.IFNA(IF((INDEX(H247:H256,MATCH(\"Cb\",H247:H256,0)))=\"Cb\",\"C\",\"\"),_xlfn.IFNA(IF((INDEX(H247:H256,MATCH(\"C\",H247:H256,0)))=\"C\",\"C\",\"\"),_xlfn.IFNA(IF((INDEX(H247:H256,MATCH(\"Bb\",H247:H256,0)))=\"Bb\",\"B\",\"\"),_xlfn.IFNA(IF((INDEX(H247:H256,MATCH(\"B\",H247:H256,0)))=\"B\",\"B\",\"\"),_xlfn.IFNA(IF((INDEX(H247:H256,MATCH(\"Ab\",H247:H256,0)))=\"Ab\",\"A\",\"\"),_xlfn.IFNA(IF((INDEX(H247:H256,MATCH(\"A\",H247:H256,0)))=\"A\",\"A\",\"\"),_xlfn.IFNA(IF((INDEX(H247:H256,MATCH(\"n.a.\",H247:H256,0)))=\"n.a.\",\"\",\"\"),_xlfn.IFNA(IF((INDEX(H247:H256,MATCH(\"\",H247:H256,0)))=\"\",\"\",\"\"),\"\"))))))))))))","v":""}]
[null,"\nHighest hazard level for all 'Uptake Routes' \n",null,null,{"$f":"_xlfn.IFNA(IF((INDEX(E257:H257,MATCH(\"E\",E257:H257,0)))=\"E\",\"E\",\"\"),_xlfn.IFNA(IF((INDEX(E257:H257,MATCH(\"D (E)c\",E257:H257,0)))=\"D (E)c\",\"D (E)\",\"\"),_xlfn.IFNA(IF((INDEX(E257:H257,MATCH(\"D\",E257:H257,0)))=\"D\",\"D\",\"\"),_xlfn.IFNA(IF((INDEX(E257:H257,MATCH(\"C\",E257:H257,0)))=\"C\",\"C\",\"\"),_xlfn.IFNA(IF((INDEX(E257:H257,MATCH(\"B\",E257:H257,0)))=\"B\",\"B\",\"\"),_xlfn.IFNA(IF((INDEX(E257:H257,MATCH(\"A\",E257:H257,0)))=\"A\",\"A\",\"\"),_xlfn.IFNA(IF((INDEX(E257:H257,MATCH(\"n.a.\",E257:H257,0)))=\"n.a.\",\"\",\"\"),_xlfn.IFNA(IF((INDEX(E257:H257,MATCH(\"\",E257:H257,0)))=\"\",\"\",\"\"),\"\"))))))))","v":""}]
[]
[]
[null,"\nStep 3: D(E) Assessment\nSkip this step if \nyour assessment above does not reveal a D(E) hazard level.\nHover over this cell for additional instructions.\n",null,null,"\nOverall hazard level\n",null,{"$f":"IF(AND(E258=\"\",C244=\"Yes\")=TRUE,\"B\",IF(E258=\"\",\"\",(IF(AND(E258=\"D (E)\",C261=\"\"),\"D (E)\"&CHAR(10)&\"Find if cat. 1 acute tox.\",(IF(E258<>\"D (E)\",E258,(IF(AND(E258=\"D (E)\",C261=\"Yes\"),\"E\",(IF(AND(E258=\"D (E)\",C261=\"No\"),\"D\",\"\"))))))))))","v":""}]
[]
[{"$f":"IF(IF(MOD(ROWS(B$3:B263),20)=1,INDEX('Summary Sheet'!$A$17:$A364,INT(ROWS(B$3:B263)/20)+1),\"\")=0,\"\",IF(MOD(ROWS(B$3:B263),20)=1,INDEX('Summary Sheet'!$A$17:$A364,INT(ROWS(B$3:B263)/20)+1),\"\"))","v":14},"Hazard Level Assessment","for",{"$f":"IF(IF(MOD(ROWS(D$3:D263),20)=1,INDEX('Summary Sheet'!$B$17:$B364,INT(ROWS(D$3:D263)/20)+1),\"\")=0,\"\",IF(MOD(ROWS(D$3:D263),20)=1,INDEX('Summary Sheet'!$B$17:$B364,INT(ROWS(D$3:D263)/20)+1),\"\"))","v":""}]
[null,"\nStep 1: Physical & Environmental Hazard Statements/Codes\nFind Section 2 of the SDS and determine if the SDS has physical and/or environmental hazard statements/codes. Hover on this cell for additional instructions.\n",null,{"$f":"IF(IF(MOD(ROWS(D$3:D264),20)=1,INDEX('Summary Sheet'!$B$17:$B364,INT(ROWS(D$3:D264)/20)+1),\"\")=0,\"\",IF(MOD(ROWS(D$3:D264),20)=1,INDEX('Summary Sheet'!$B$17:$B364,INT(ROWS(D$3:D264)/20)+1),\"\"))","v":""}]
[null,"Step 2: Health Hazard Statements/Codes\nProvide the Health Hazard Statements or Codes from Section 2 of the SDS below. Hover on this cell for additional instructions.",null,{"$f":"IF(IF(MOD(ROWS(D$3:D265),20)=1,INDEX('Summary Sheet'!$B$17:$B364,INT(ROWS(D$3:D265)/20)+1),\"\")=0,\"\",IF(MOD(ROWS(D$3:D265),20)=1,INDEX('Summary Sheet'!$B$17:$B364,INT(ROWS(D$3:D265)/20)+1),\"\"))","v":""},"\nHazard Level\n"]
[null,null,null,{"$f":"IF(IF(MOD(ROWS(D$3:D266),20)=1,INDEX('Summary Sheet'!$B$17:$B364,INT(ROWS(D$3:D266)/20)+1),\"\")=0,\"\",IF(MOD(ROWS(D$3:D266),20)=1,INDEX('Summary Sheet'!$B$17:$B364,INT(ROWS(D$3:D266)/20)+1),\"\"))","v":""},"\nEye Damage\n","\nInhalation\n","\nLocal Skin Damage\n","\nSkin uptake, systemic\n"]
[1,null,{"$f":"_xlfn.IFNA(VLOOKUP(B267,_!$A$7:$F$210,6,FALSE),\"\")","v":""},{"$f":"IF(IF(MOD(ROWS(D$3:D267),20)=1,INDEX('Summary Sheet'!$B$17:$B364,INT(ROWS(D$3:D267)/20)+1),\"\")=0,\"\",IF(MOD(ROWS(D$3:D267),20)=1,INDEX('Summary Sheet'!$B$17:$B364,INT(ROWS(D$3:D267)/20)+1),\"\"))","v":""},{"$f":"_xlfn.IFNA(IF(VLOOKUP(B267,_!$A$7:$E$210,2,FALSE)=0, \"\", VLOOKUP(B267,_!$A$7:$E$210,2,FALSE)),  \"\")","v":""},{"$f":"_xlfn.IFNA(IF(VLOOKUP(B267,_!$A$7:$E$210,3,FALSE)=0, \"\", VLOOKUP(B267,_!$A$7:$E$210,3,FALSE)), \"\")","v":""},{"$f":"_xlfn.IFNA(IF(VLOOKUP(B267,_!$A$7:$E$210,4,FALSE)=0, \"\",VLOOKUP(B267,_!$A$7:$E$210,4,FALSE)), \"\")","v":""},{"$f":"_xlfn.IFNA(IF(VLOOKUP(B267,_!$A$7:$E$210,5,FALSE)=0,\"\",VLOOKUP(B267,_!$A$7:$E$210,5,FALSE)), \"\")","v":""}]
[2,null,{"$f":"_xlfn.IFNA(VLOOKUP(B268,_!$A$7:$F$210,6,FALSE),\"\")","v":""},{"$f":"IF(IF(MOD(ROWS(D$3:D268),20)=1,INDEX('Summary Sheet'!$B$17:$B364,INT(ROWS(D$3:D268)/20)+1),\"\")=0,\"\",IF(MOD(ROWS(D$3:D268),20)=1,INDEX('Summary Sheet'!$B$17:$B364,INT(ROWS(D$3:D268)/20)+1),\"\"))","v":""},{"$f":"_xlfn.IFNA(IF(VLOOKUP(B268,_!$A$7:$E$210,2,FALSE)=0, \"\", VLOOKUP(B268,_!$A$7:$E$210,2,FALSE)),  \"\")","v":""},{"$f":"_xlfn.IFNA(IF(VLOOKUP(B268,_!$A$7:$E$210,3,FALSE)=0, \"\", VLOOKUP(B268,_!$A$7:$E$210,3,FALSE)), \"\")","v":""},{"$f":"_xlfn.IFNA(IF(VLOOKUP(B268,_!$A$7:$E$210,4,FALSE)=0, \"\",VLOOKUP(B268,_!$A$7:$E$210,4,FALSE)), \"\")","v":""},{"$f":"_xlfn.IFNA(IF(VLOOKUP(B268,_!$A$7:$E$210,5,FALSE)=0,\"\",VLOOKUP(B268,_!$A$7:$E$210,5,FALSE)), \"\")","v":""}]
[3,null,{"$f":"_xlfn.IFNA(VLOOKUP(B269,_!$A$7:$F$210,6,FALSE),\"\")","v":""},{"$f":"IF(IF(MOD(ROWS(D$3:D269),20)=1,INDEX('Summary Sheet'!$B$17:$B364,INT(ROWS(D$3:D269)/20)+1),\"\")=0,\"\",IF(MOD(ROWS(D$3:D269),20)=1,INDEX('Summary Sheet'!$B$17:$B364,INT(ROWS(D$3:D269)/20)+1),\"\"))","v":""},{"$f":"_xlfn.IFNA(IF(VLOOKUP(B269,_!$A$7:$E$210,2,FALSE)=0, \"\", VLOOKUP(B269,_!$A$7:$E$210,2,FALSE)),  \"\")","v":""},{"$f":"_xlfn.IFNA(IF(VLOOKUP(B269,_!$A$7:$E$210,3,FALSE)=0, \"\", VLOOKUP(B269,_!$A$7:$E$210,3,FALSE)), \"\")","v":""},{"$f":"_xlfn.IFNA(IF(VLOOKUP(B269,_!$A$7:$E$210,4,FALSE)=0, \"\",VLOOKUP(B269,_!$A$7:$E$210,4,FALSE)), \"\")","v":""},{"$f":"_xlfn.IFNA(IF(VLOOKUP(B269,_!$A$7:$E$210,5,FALSE)=0,\"\",VLOOKUP(B269,_!$A$7:$E$210,5,FALSE)), \"\")","v":""}]
[4,null,{"$f":"_xlfn.IFNA(VLOOKUP(B270,_!$A$7:$F$210,6,FALSE),\"\")","v":""},{"$f":"IF(IF(MOD(ROWS(D$3:D270),20)=1,INDEX('Summary Sheet'!$B$17:$B364,INT(ROWS(D$3:D270)/20)+1),\"\")=0,\"\",IF(MOD(ROWS(D$3:D270),20)=1,INDEX('Summary Sheet'!$B$17:$B364,INT(ROWS(D$3:D270)/20)+1),\"\"))","v":""},{"$f":"_xlfn.IFNA(IF(VLOOKUP(B270,_!$A$7:$E$210,2,FALSE)=0, \"\", VLOOKUP(B270,_!$A$7:$E$210,2,FALSE)),  \"\")","v":""},{"$f":"_xlfn.IFNA(IF(VLOOKUP(B270,_!$A$7:$E$210,3,FALSE)=0, \"\", VLOOKUP(B270,_!$A$7:$E$210,3,FALSE)), \"\")","v":""},{"$f":"_xlfn.IFNA(IF(VLOOKUP(B270,_!$A$7:$E$210,4,FALSE)=0, \"\",VLOOKUP(B270,_!$A$7:$E$210,4,FALSE)), \"\")","v":""},{"$f":"_xlfn.IFNA(IF(VLOOKUP(B270,_!$A$7:$E$210,5,FALSE)=0,\"\",VLOOKUP(B270,_!$A$7:$E$210,5,FALSE)), \"\")","v":""}]
[5,null,{"$f":"_xlfn.IFNA(VLOOKUP(B271,_!$A$7:$F$210,6,FALSE),\"\")","v":""},{"$f":"IF(IF(MOD(ROWS(D$3:D271),20)=1,INDEX('Summary Sheet'!$B$17:$B364,INT(ROWS(D$3:D271)/20)+1),\"\")=0,\"\",IF(MOD(ROWS(D$3:D271),20)=1,INDEX('Summary Sheet'!$B$17:$B364,INT(ROWS(D$3:D271)/20)+1),\"\"))","v":""},{"$f":"_xlfn.IFNA(IF(VLOOKUP(B271,_!$A$7:$E$210,2,FALSE)=0, \"\", VLOOKUP(B271,_!$A$7:$E$210,2,FALSE)),  \"\")","v":""},{"$f":"_xlfn.IFNA(IF(VLOOKUP(B271,_!$A$7:$E$210,3,FALSE)=0, \"\", VLOOKUP(B271,_!$A$7:$E$210,3,FALSE)), \"\")","v":""},{"$f":"_xlfn.IFNA(IF(VLOOKUP(B271,_!$A$7:$E$210,4,FALSE)=0, \"\",VLOOKUP(B271,_!$A$7:$E$210,4,FALSE)), \"\")","v":""},{"$f":"_xlfn.IFNA(IF(VLOOKUP(B271,_!$A$7:$E$210,5,FALSE)=0,\"\",VLOOKUP(B271,_!$A$7:$E$210,5,FALSE)), \"\")","v":""}]
[6,null,{"$f":"_xlfn.IFNA(VLOOKUP(B272,_!$A$7:$F$210,6,FALSE),\"\")","v":""},{"$f":"IF(IF(MOD(ROWS(D$3:D272),20)=1,INDEX('Summary Sheet'!$B$17:$B364,INT(ROWS(D$3:D272)/20)+1),\"\")=0,\"\",IF(MOD(ROWS(D$3:D272),20)=1,INDEX('Summary Sheet'!$B$17:$B364,INT(ROWS(D$3:D272)/20)+1),\"\"))","v":""},{"$f":"_xlfn.IFNA(IF(VLOOKUP(B272,_!$A$7:$E$210,2,FALSE)=0, \"\", VLOOKUP(B272,_!$A$7:$E$210,2,FALSE)),  \"\")","v":""},{"$f":"_xlfn.IFNA(IF(VLOOKUP(B272,_!$A$7:$E$210,3,FALSE)=0, \"\", VLOOKUP(B272,_!$A$7:$E$210,3,FALSE)), \"\")","v":""},{"$f":"_xlfn.IFNA(IF(VLOOKUP(B272,_!$A$7:$E$210,4,FALSE)=0, \"\",VLOOKUP(B272,_!$A$7:$E$210,4,FALSE)), \"\")","v":""},{"$f":"_xlfn.IFNA(IF(VLOOKUP(B272,_!$A$7:$E$210,5,FALSE)=0,\"\",VLOOKUP(B272,_!$A$7:$E$210,5,FALSE)), \"\")","v":""}]
[7,null,{"$f":"_xlfn.IFNA(VLOOKUP(B273,_!$A$7:$F$210,6,FALSE),\"\")","v":""},{"$f":"IF(IF(MOD(ROWS(D$3:D273),20)=1,INDEX('Summary Sheet'!$B$17:$B364,INT(ROWS(D$3:D273)/20)+1),\"\")=0,\"\",IF(MOD(ROWS(D$3:D273),20)=1,INDEX('Summary Sheet'!$B$17:$B364,INT(ROWS(D$3:D273)/20)+1),\"\"))","v":""},{"$f":"_xlfn.IFNA(IF(VLOOKUP(B273,_!$A$7:$E$210,2,FALSE)=0, \"\", VLOOKUP(B273,_!$A$7:$E$210,2,FALSE)),  \"\")","v":""},{"$f":"_xlfn.IFNA(IF(VLOOKUP(B273,_!$A$7:$E$210,3,FALSE)=0, \"\", VLOOKUP(B273,_!$A$7:$E$210,3,FALSE)), \"\")","v":""},{"$f":"_xlfn.IFNA(IF(VLOOKUP(B273,_!$A$7:$E$210,4,FALSE)=0, \"\",VLOOKUP(B273,_!$A$7:$E$210,4,FALSE)), \"\")","v":""},{"$f":"_xlfn.IFNA(IF(VLOOKUP(B273,_!$A$7:$E$210,5,FALSE)=0,\"\",VLOOKUP(B273,_!$A$7:$E$210,5,FALSE)), \"\")","v":""}]
[8,null,{"$f":"_xlfn.IFNA(VLOOKUP(B274,_!$A$7:$F$210,6,FALSE),\"\")","v":""},{"$f":"IF(IF(MOD(ROWS(D$3:D274),20)=1,INDEX('Summary Sheet'!$B$17:$B364,INT(ROWS(D$3:D274)/20)+1),\"\")=0,\"\",IF(MOD(ROWS(D$3:D274),20)=1,INDEX('Summary Sheet'!$B$17:$B364,INT(ROWS(D$3:D274)/20)+1),\"\"))","v":""},{"$f":"_xlfn.IFNA(IF(VLOOKUP(B274,_!$A$7:$E$210,2,FALSE)=0, \"\", VLOOKUP(B274,_!$A$7:$E$210,2,FALSE)),  \"\")","v":""},{"$f":"_xlfn.IFNA(IF(VLOOKUP(B274,_!$A$7:$E$210,3,FALSE)=0, \"\", VLOOKUP(B274,_!$A$7:$E$210,3,FALSE)), \"\")","v":""},{"$f":"_xlfn.IFNA(IF(VLOOKUP(B274,_!$A$7:$E$210,4,FALSE)=0, \"\",VLOOKUP(B274,_!$A$7:$E$210,4,FALSE)), \"\")","v":""},{"$f":"_xlfn.IFNA(IF(VLOOKUP(B274,_!$A$7:$E$210,5,FALSE)=0,\"\",VLOOKUP(B274,_!$A$7:$E$210,5,FALSE)), \"\")","v":""}]
[9,null,{"$f":"_xlfn.IFNA(VLOOKUP(B275,_!$A$7:$F$210,6,FALSE),\"\")","v":""},{"$f":"IF(IF(MOD(ROWS(D$3:D275),20)=1,INDEX('Summary Sheet'!$B$17:$B364,INT(ROWS(D$3:D275)/20)+1),\"\")=0,\"\",IF(MOD(ROWS(D$3:D275),20)=1,INDEX('Summary Sheet'!$B$17:$B364,INT(ROWS(D$3:D275)/20)+1),\"\"))","v":""},{"$f":"_xlfn.IFNA(IF(VLOOKUP(B275,_!$A$7:$E$210,2,FALSE)=0, \"\", VLOOKUP(B275,_!$A$7:$E$210,2,FALSE)),  \"\")","v":""},{"$f":"_xlfn.IFNA(IF(VLOOKUP(B275,_!$A$7:$E$210,3,FALSE)=0, \"\", VLOOKUP(B275,_!$A$7:$E$210,3,FALSE)), \"\")","v":""},{"$f":"_xlfn.IFNA(IF(VLOOKUP(B275,_!$A$7:$E$210,4,FALSE)=0, \"\",VLOOKUP(B275,_!$A$7:$E$210,4,FALSE)), \"\")","v":""},{"$f":"_xlfn.IFNA(IF(VLOOKUP(B275,_!$A$7:$E$210,5,FALSE)=0,\"\",VLOOKUP(B275,_!$A$7:$E$210,5,FALSE)), \"\")","v":""}]
[10,null,{"$f":"_xlfn.IFNA(VLOOKUP(B276,_!$A$7:$F$210,6,FALSE),\"\")","v":""},{"$f":"IF(IF(MOD(ROWS(D$14:D276),20)=1,INDEX('Summary Sheet'!$B$17:$B364,INT(ROWS(D$14:D276)/20)+1),\"\")=0,\"\",IF(MOD(ROWS(D$14:D276),20)=1,INDEX('Summary Sheet'!$B$17:$B364,INT(ROWS(D$14:D276)/20)+1),\"\"))","v":""},{"$f":"_xlfn.IFNA(IF(VLOOKUP(B276,_!$A$7:$E$210,2,FALSE)=0, \"\", VLOOKUP(B276,_!$A$7:$E$210,2,FALSE)),  \"\")","v":""},{"$f":"_xlfn.IFNA(IF(VLOOKUP(B276,_!$A$7:$E$210,3,FALSE)=0, \"\", VLOOKUP(B276,_!$A$7:$E$210,3,FALSE)), \"\")","v":""},{"$f":"_xlfn.IFNA(IF(VLOOKUP(B276,_!$A$7:$E$210,4,FALSE)=0, \"\",VLOOKUP(B276,_!$A$7:$E$210,4,FALSE)), \"\")","v":""},{"$f":"_xlfn.IFNA(IF(VLOOKUP(B276,_!$A$7:$E$210,5,FALSE)=0,\"\",VLOOKUP(B276,_!$A$7:$E$210,5,FALSE)), \"\")","v":""}]
[null,"\nHighest hazard level for each ‘Uptake Route’\n",null,null,{"$f":"_xlfn.IFNA(IF((INDEX(E267:E276,MATCH(\"E\",E267:E276,0)))=\"E\",\"E\",\"\"),_xlfn.IFNA(IF((INDEX(E267:E276,MATCH(\"D\",E267:E276,0)))=\"D\",\"D\",\"\"),_xlfn.IFNA(IF((INDEX(E267:E276,MATCH(\"Ca\",E267:E276,0)))=\"Ca\",\"C\",\"\"),_xlfn.IFNA(IF((INDEX(E267:E276,MATCH(\"C\",E267:E276,0)))=\"C\",\"C\",\"\"),_xlfn.IFNA(IF((INDEX(E267:E276,MATCH(\"B\",E267:E276,0)))=\"B\",\"B\",\"\"),_xlfn.IFNA(IF((INDEX(E267:E276,MATCH(\"A\",E267:E276,0)))=\"A\",\"A\",\"\"),_xlfn.IFNA(IF((INDEX(E267:E276,MATCH(\"n.a.\",E267:E276,0)))=\"n.a.\",\"\",\"\"),_xlfn.IFNA(IF((INDEX(E267:E276,MATCH(\"\",E267:E276,0)))=\"\",\"\",\"\"),\"\"))))))))","v":""},{"$f":"_xlfn.IFNA(IF((INDEX(F267:F276,MATCH(\"E\",F267:F276,0)))=\"E\",\"E\",\"\"),_xlfn.IFNA(IF((INDEX(F267:F276,MATCH(\"D (E)c\",F267:F276,0)))=\"D (E)c\",\"D (E)c\",\"\"),_xlfn.IFNA(IF((INDEX(F267:F276,MATCH(\"Da (E)c\",F267:F276,0)))=\"Da (E)c\",\"D (E)c\",\"\"),_xlfn.IFNA(IF((INDEX(F267:F276,MATCH(\"D\",F267:F276,0)))=\"D\",\"D\",\"\"),_xlfn.IFNA(IF((INDEX(F267:F276,MATCH(\"Ca\",F267:F276,0)))=\"Ca\",\"C\",\"\"),_xlfn.IFNA(IF((INDEX(F267:F276,MATCH(\"C\",F267:F276,0)))=\"C\",\"C\",\"\"),_xlfn.IFNA(IF((INDEX(F267:F276,MATCH(\"Ba\",F267:F276,0)))=\"Ba\",\"B\",\"\"),_xlfn.IFNA(IF((INDEX(F267:F276,MATCH(\"B\",F267:F276,0)))=\"B\",\"B\",\"\"),_xlfn.IFNA(IF((INDEX(F267:F276,MATCH(\"Aa\",F267:F276,0)))=\"Aa\",\"A\",\"\"),_xlfn.IFNA(IF((INDEX(F267:F276,MATCH(\"A\",F267:F276,0)))=\"A\",\"A\",\"\"),_xlfn.IFNA(IF((INDEX(F267:F276,MATCH(\"n.a.\",F267:F276,0)))=\"n.a.\",\"\",\"\"),_xlfn.IFNA(IF((INDEX(F267:F276,MATCH(\"\",F267:F276,0)))=\"\",\"\",\"\"),\"\"))))))))))))","v":""},{"$f":"_xlfn.IFNA(IF((INDEX(G267:G276,MATCH(\"E\",G267:G276,0)))=\"E\",\"E\",\"\"),_xlfn.IFNA(IF((INDEX(G267:G276,MATCH(\"D\",G267:G276,0)))=\"D\",\"D\",\"\"),_xlfn.IFNA(IF((INDEX(G267:G276,MATCH(\"Ca\",G267:G276,0)))=\"Ca\",\"C\",\"\"),_xlfn.IFNA(IF((INDEX(G267:G276,MATCH(\"C\",G267:G276,0)))=\"C\",\"C\",\"\"),_xlfn.IFNA(IF((INDEX(G267:G276,MATCH(\"B\",G267:G276,0)))=\"B\",\"B\",\"\"),_xlfn.IFNA(IF((INDEX(G267:G276,MATCH(\"A\",G267:G276,0)))=\"A\",\"A\",\"\"),_xlfn.IFNA(IF((INDEX(G267:G276,MATCH(\"n.a.\",G267:G276,0)))=\"n.a.\",\"\",\"\"),_xlfn.IFNA(IF((INDEX(G267:G276,MATCH(\"\",G267:G276,0)))=\"\",\"\",\"\"),\"\"))))))))","v":""},{"$f":"_xlfn.IFNA(IF((INDEX(H267:H276,MATCH(\"E\",H267:H276,0)))=\"E\",\"E\",\"\"),_xlfn.IFNA(IF((INDEX(H267:H276,MATCH(\"D (E)c\",H267:H276,0)))=\"D (E)c\",\"D (E)c\",\"\"),_xlfn.IFNA(IF((INDEX(H267:H276,MATCH(\"Db (E)c\",H267:H276,0)))=\"Db (E)c\",\"D (E)c\",\"\"),_xlfn.IFNA(IF((INDEX(H267:H276,MATCH(\"D\",H267:H276,0)))=\"D\",\"D\",\"\"),_xlfn.IFNA(IF((INDEX(H267:H276,MATCH(\"Cb\",H267:H276,0)))=\"Cb\",\"C\",\"\"),_xlfn.IFNA(IF((INDEX(H267:H276,MATCH(\"C\",H267:H276,0)))=\"C\",\"C\",\"\"),_xlfn.IFNA(IF((INDEX(H267:H276,MATCH(\"Bb\",H267:H276,0)))=\"Bb\",\"B\",\"\"),_xlfn.IFNA(IF((INDEX(H267:H276,MATCH(\"B\",H267:H276,0)))=\"B\",\"B\",\"\"),_xlfn.IFNA(IF((INDEX(H267:H276,MATCH(\"Ab\",H267:H276,0)))=\"Ab\",\"A\",\"\"),_xlfn.IFNA(IF((INDEX(H267:H276,MATCH(\"A\",H267:H276,0)))=\"A\",\"A\",\"\"),_xlfn.IFNA(IF((INDEX(H267:H276,MATCH(\"n.a.\",H267:H276,0)))=\"n.a.\",\"\",\"\"),_xlfn.IFNA(IF((INDEX(H267:H276,MATCH(\"\",H267:H276,0)))=\"\",\"\",\"\"),\"\"))))))))))))","v":""}]
[null,"\nHighest hazard level for all 'Uptake Routes' \n",null,null,{"$f":"_xlfn.IFNA(IF((INDEX(E277:H277,MATCH(\"E\",E277:H277,0)))=\"E\",\"E\",\"\"),_xlfn.IFNA(IF((INDEX(E277:H277,MATCH(\"D (E)c\",E277:H277,0)))=\"D (E)c\",\"D (E)\",\"\"),_xlfn.IFNA(IF((INDEX(E277:H277,MATCH(\"D\",E277:H277,0)))=\"D\",\"D\",\"\"),_xlfn.IFNA(IF((INDEX(E277:H277,MATCH(\"C\",E277:H277,0)))=\"C\",\"C\",\"\"),_xlfn.IFNA(IF((INDEX(E277:H277,MATCH(\"B\",E277:H277,0)))=\"B\",\"B\",\"\"),_xlfn.IFNA(IF((INDEX(E277:H277,MATCH(\"A\",E277:H277,0)))=\"A\",\"A\",\"\"),_xlfn.IFNA(IF((INDEX(E277:H277,MATCH(\"n.a.\",E277:H277,0)))=\"n.a.\",\"\",\"\"),_xlfn.IFNA(IF((INDEX(E277:H277,MATCH(\"\",E277:H277,0)))=\"\",\"\",\"\"),\"\"))))))))","v":""}]
[]
[]
[null,"\nStep 3: D(E) Assessment\nSkip this step if \nyour assessment above does not reveal a D(E) hazard level.\nHover over this cell for additional instructions.\n",null,null,"\nOverall hazard level\n",null,{"$f":"IF(AND(E278=\"\",C264=\"Yes\")=TRUE,\"B\",IF(E278=\"\",\"\",(IF(AND(E278=\"D (E)\",C281=\"\"),\"D (E)\"&CHAR(10)&\"Find if cat. 1 acute tox.\",(IF(E278<>\"D (E)\",E278,(IF(AND(E278=\"D (E)\",C281=\"Yes\"),\"E\",(IF(AND(E278=\"D (E)\",C281=\"No\"),\"D\",\"\"))))))))))","v":""}]
[]
[{"$f":"IF(IF(MOD(ROWS(B$3:B283),20)=1,INDEX('Summary Sheet'!$A$17:$A383,INT(ROWS(B$3:B283)/20)+1),\"\")=0,\"\",IF(MOD(ROWS(B$3:B283),20)=1,INDEX('Summary Sheet'!$A$17:$A383,INT(ROWS(B$3:B283)/20)+1),\"\"))","v":15},"Hazard Level Assessment","for",{"$f":"IF(IF(MOD(ROWS(D$3:D283),20)=1,INDEX('Summary Sheet'!$B$17:$B383,INT(ROWS(D$3:D283)/20)+1),\"\")=0,\"\",IF(MOD(ROWS(D$3:D283),20)=1,INDEX('Summary Sheet'!$B$17:$B383,INT(ROWS(D$3:D283)/20)+1),\"\"))","v":""}]
[null,"\nStep 1: Physical & Environmental Hazard Statements/Codes\nFind Section 2 of the SDS and determine if the SDS has physical and/or environmental hazard statements/codes. Hover on this cell for additional instructions.\n",null,{"$f":"IF(IF(MOD(ROWS(D$3:D284),20)=1,INDEX('Summary Sheet'!$B$17:$B383,INT(ROWS(D$3:D284)/20)+1),\"\")=0,\"\",IF(MOD(ROWS(D$3:D284),20)=1,INDEX('Summary Sheet'!$B$17:$B383,INT(ROWS(D$3:D284)/20)+1),\"\"))","v":""}]
[null,"Step 2: Health Hazard Statements/Codes\nProvide the Health Hazard Statements or Codes from Section 2 of the SDS below. Hover on this cell for additional instructions.",null,{"$f":"IF(IF(MOD(ROWS(D$3:D285),20)=1,INDEX('Summary Sheet'!$B$17:$B383,INT(ROWS(D$3:D285)/20)+1),\"\")=0,\"\",IF(MOD(ROWS(D$3:D285),20)=1,INDEX('Summary Sheet'!$B$17:$B383,INT(ROWS(D$3:D285)/20)+1),\"\"))","v":""},"\nHazard Level\n"]
[null,null,null,{"$f":"IF(IF(MOD(ROWS(D$3:D286),20)=1,INDEX('Summary Sheet'!$B$17:$B383,INT(ROWS(D$3:D286)/20)+1),\"\")=0,\"\",IF(MOD(ROWS(D$3:D286),20)=1,INDEX('Summary Sheet'!$B$17:$B383,INT(ROWS(D$3:D286)/20)+1),\"\"))","v":""},"\nEye Damage\n","\nInhalation\n","\nLocal Skin Damage\n","\nSkin uptake, systemic\n"]
[1,null,{"$f":"_xlfn.IFNA(VLOOKUP(B287,_!$A$7:$F$210,6,FALSE),\"\")","v":""},{"$f":"IF(IF(MOD(ROWS(D$3:D287),20)=1,INDEX('Summary Sheet'!$B$17:$B383,INT(ROWS(D$3:D287)/20)+1),\"\")=0,\"\",IF(MOD(ROWS(D$3:D287),20)=1,INDEX('Summary Sheet'!$B$17:$B383,INT(ROWS(D$3:D287)/20)+1),\"\"))","v":""},{"$f":"_xlfn.IFNA(IF(VLOOKUP(B287,_!$A$7:$E$210,2,FALSE)=0, \"\", VLOOKUP(B287,_!$A$7:$E$210,2,FALSE)),  \"\")","v":""},{"$f":"_xlfn.IFNA(IF(VLOOKUP(B287,_!$A$7:$E$210,3,FALSE)=0, \"\", VLOOKUP(B287,_!$A$7:$E$210,3,FALSE)), \"\")","v":""},{"$f":"_xlfn.IFNA(IF(VLOOKUP(B287,_!$A$7:$E$210,4,FALSE)=0, \"\",VLOOKUP(B287,_!$A$7:$E$210,4,FALSE)), \"\")","v":""},{"$f":"_xlfn.IFNA(IF(VLOOKUP(B287,_!$A$7:$E$210,5,FALSE)=0,\"\",VLOOKUP(B287,_!$A$7:$E$210,5,FALSE)), \"\")","v":""}]
[2,null,{"$f":"_xlfn.IFNA(VLOOKUP(B288,_!$A$7:$F$210,6,FALSE),\"\")","v":""},{"$f":"IF(IF(MOD(ROWS(D$3:D288),20)=1,INDEX('Summary Sheet'!$B$17:$B383,INT(ROWS(D$3:D288)/20)+1),\"\")=0,\"\",IF(MOD(ROWS(D$3:D288),20)=1,INDEX('Summary Sheet'!$B$17:$B383,INT(ROWS(D$3:D288)/20)+1),\"\"))","v":""},{"$f":"_xlfn.IFNA(IF(VLOOKUP(B288,_!$A$7:$E$210,2,FALSE)=0, \"\", VLOOKUP(B288,_!$A$7:$E$210,2,FALSE)),  \"\")","v":""},{"$f":"_xlfn.IFNA(IF(VLOOKUP(B288,_!$A$7:$E$210,3,FALSE)=0, \"\", VLOOKUP(B288,_!$A$7:$E$210,3,FALSE)), \"\")","v":""},{"$f":"_xlfn.IFNA(IF(VLOOKUP(B288,_!$A$7:$E$210,4,FALSE)=0, \"\",VLOOKUP(B288,_!$A$7:$E$210,4,FALSE)), \"\")","v":""},{"$f":"_xlfn.IFNA(IF(VLOOKUP(B288,_!$A$7:$E$210,5,FALSE)=0,\"\",VLOOKUP(B288,_!$A$7:$E$210,5,FALSE)), \"\")","v":""}]
[3,null,{"$f":"_xlfn.IFNA(VLOOKUP(B289,_!$A$7:$F$210,6,FALSE),\"\")","v":""},{"$f":"IF(IF(MOD(ROWS(D$3:D289),20)=1,INDEX('Summary Sheet'!$B$17:$B383,INT(ROWS(D$3:D289)/20)+1),\"\")=0,\"\",IF(MOD(ROWS(D$3:D289),20)=1,INDEX('Summary Sheet'!$B$17:$B383,INT(ROWS(D$3:D289)/20)+1),\"\"))","v":""},{"$f":"_xlfn.IFNA(IF(VLOOKUP(B289,_!$A$7:$E$210,2,FALSE)=0, \"\", VLOOKUP(B289,_!$A$7:$E$210,2,FALSE)),  \"\")","v":""},{"$f":"_xlfn.IFNA(IF(VLOOKUP(B289,_!$A$7:$E$210,3,FALSE)=0, \"\", VLOOKUP(B289,_!$A$7:$E$210,3,FALSE)), \"\")","v":""},{"$f":"_xlfn.IFNA(IF(VLOOKUP(B289,_!$A$7:$E$210,4,FALSE)=0, \"\",VLOOKUP(B289,_!$A$7:$E$210,4,FALSE)), \"\")","v":""},{"$f":"_xlfn.IFNA(IF(VLOOKUP(B289,_!$A$7:$E$210,5,FALSE)=0,\"\",VLOOKUP(B289,_!$A$7:$E$210,5,FALSE)), \"\")","v":""}]
[4,null,{"$f":"_xlfn.IFNA(VLOOKUP(B290,_!$A$7:$F$210,6,FALSE),\"\")","v":""},{"$f":"IF(IF(MOD(ROWS(D$3:D290),20)=1,INDEX('Summary Sheet'!$B$17:$B383,INT(ROWS(D$3:D290)/20)+1),\"\")=0,\"\",IF(MOD(ROWS(D$3:D290),20)=1,INDEX('Summary Sheet'!$B$17:$B383,INT(ROWS(D$3:D290)/20)+1),\"\"))","v":""},{"$f":"_xlfn.IFNA(IF(VLOOKUP(B290,_!$A$7:$E$210,2,FALSE)=0, \"\", VLOOKUP(B290,_!$A$7:$E$210,2,FALSE)),  \"\")","v":""},{"$f":"_xlfn.IFNA(IF(VLOOKUP(B290,_!$A$7:$E$210,3,FALSE)=0, \"\", VLOOKUP(B290,_!$A$7:$E$210,3,FALSE)), \"\")","v":""},{"$f":"_xlfn.IFNA(IF(VLOOKUP(B290,_!$A$7:$E$210,4,FALSE)=0, \"\",VLOOKUP(B290,_!$A$7:$E$210,4,FALSE)), \"\")","v":""},{"$f":"_xlfn.IFNA(IF(VLOOKUP(B290,_!$A$7:$E$210,5,FALSE)=0,\"\",VLOOKUP(B290,_!$A$7:$E$210,5,FALSE)), \"\")","v":""}]
[5,null,{"$f":"_xlfn.IFNA(VLOOKUP(B291,_!$A$7:$F$210,6,FALSE),\"\")","v":""},{"$f":"IF(IF(MOD(ROWS(D$3:D291),20)=1,INDEX('Summary Sheet'!$B$17:$B383,INT(ROWS(D$3:D291)/20)+1),\"\")=0,\"\",IF(MOD(ROWS(D$3:D291),20)=1,INDEX('Summary Sheet'!$B$17:$B383,INT(ROWS(D$3:D291)/20)+1),\"\"))","v":""},{"$f":"_xlfn.IFNA(IF(VLOOKUP(B291,_!$A$7:$E$210,2,FALSE)=0, \"\", VLOOKUP(B291,_!$A$7:$E$210,2,FALSE)),  \"\")","v":""},{"$f":"_xlfn.IFNA(IF(VLOOKUP(B291,_!$A$7:$E$210,3,FALSE)=0, \"\", VLOOKUP(B291,_!$A$7:$E$210,3,FALSE)), \"\")","v":""},{"$f":"_xlfn.IFNA(IF(VLOOKUP(B291,_!$A$7:$E$210,4,FALSE)=0, \"\",VLOOKUP(B291,_!$A$7:$E$210,4,FALSE)), \"\")","v":""},{"$f":"_xlfn.IFNA(IF(VLOOKUP(B291,_!$A$7:$E$210,5,FALSE)=0,\"\",VLOOKUP(B291,_!$A$7:$E$210,5,FALSE)), \"\")","v":""}]
[6,null,{"$f":"_xlfn.IFNA(VLOOKUP(B292,_!$A$7:$F$210,6,FALSE),\"\")","v":""},{"$f":"IF(IF(MOD(ROWS(D$3:D292),20)=1,INDEX('Summary Sheet'!$B$17:$B383,INT(ROWS(D$3:D292)/20)+1),\"\")=0,\"\",IF(MOD(ROWS(D$3:D292),20)=1,INDEX('Summary Sheet'!$B$17:$B383,INT(ROWS(D$3:D292)/20)+1),\"\"))","v":""},{"$f":"_xlfn.IFNA(IF(VLOOKUP(B292,_!$A$7:$E$210,2,FALSE)=0, \"\", VLOOKUP(B292,_!$A$7:$E$210,2,FALSE)),  \"\")","v":""},{"$f":"_xlfn.IFNA(IF(VLOOKUP(B292,_!$A$7:$E$210,3,FALSE)=0, \"\", VLOOKUP(B292,_!$A$7:$E$210,3,FALSE)), \"\")","v":""},{"$f":"_xlfn.IFNA(IF(VLOOKUP(B292,_!$A$7:$E$210,4,FALSE)=0, \"\",VLOOKUP(B292,_!$A$7:$E$210,4,FALSE)), \"\")","v":""},{"$f":"_xlfn.IFNA(IF(VLOOKUP(B292,_!$A$7:$E$210,5,FALSE)=0,\"\",VLOOKUP(B292,_!$A$7:$E$210,5,FALSE)), \"\")","v":""}]
[7,null,{"$f":"_xlfn.IFNA(VLOOKUP(B293,_!$A$7:$F$210,6,FALSE),\"\")","v":""},{"$f":"IF(IF(MOD(ROWS(D$3:D293),20)=1,INDEX('Summary Sheet'!$B$17:$B383,INT(ROWS(D$3:D293)/20)+1),\"\")=0,\"\",IF(MOD(ROWS(D$3:D293),20)=1,INDEX('Summary Sheet'!$B$17:$B383,INT(ROWS(D$3:D293)/20)+1),\"\"))","v":""},{"$f":"_xlfn.IFNA(IF(VLOOKUP(B293,_!$A$7:$E$210,2,FALSE)=0, \"\", VLOOKUP(B293,_!$A$7:$E$210,2,FALSE)),  \"\")","v":""},{"$f":"_xlfn.IFNA(IF(VLOOKUP(B293,_!$A$7:$E$210,3,FALSE)=0, \"\", VLOOKUP(B293,_!$A$7:$E$210,3,FALSE)), \"\")","v":""},{"$f":"_xlfn.IFNA(IF(VLOOKUP(B293,_!$A$7:$E$210,4,FALSE)=0, \"\",VLOOKUP(B293,_!$A$7:$E$210,4,FALSE)), \"\")","v":""},{"$f":"_xlfn.IFNA(IF(VLOOKUP(B293,_!$A$7:$E$210,5,FALSE)=0,\"\",VLOOKUP(B293,_!$A$7:$E$210,5,FALSE)), \"\")","v":""}]
[8,null,{"$f":"_xlfn.IFNA(VLOOKUP(B294,_!$A$7:$F$210,6,FALSE),\"\")","v":""},{"$f":"IF(IF(MOD(ROWS(D$3:D294),20)=1,INDEX('Summary Sheet'!$B$17:$B383,INT(ROWS(D$3:D294)/20)+1),\"\")=0,\"\",IF(MOD(ROWS(D$3:D294),20)=1,INDEX('Summary Sheet'!$B$17:$B383,INT(ROWS(D$3:D294)/20)+1),\"\"))","v":""},{"$f":"_xlfn.IFNA(IF(VLOOKUP(B294,_!$A$7:$E$210,2,FALSE)=0, \"\", VLOOKUP(B294,_!$A$7:$E$210,2,FALSE)),  \"\")","v":""},{"$f":"_xlfn.IFNA(IF(VLOOKUP(B294,_!$A$7:$E$210,3,FALSE)=0, \"\", VLOOKUP(B294,_!$A$7:$E$210,3,FALSE)), \"\")","v":""},{"$f":"_xlfn.IFNA(IF(VLOOKUP(B294,_!$A$7:$E$210,4,FALSE)=0, \"\",VLOOKUP(B294,_!$A$7:$E$210,4,FALSE)), \"\")","v":""},{"$f":"_xlfn.IFNA(IF(VLOOKUP(B294,_!$A$7:$E$210,5,FALSE)=0,\"\",VLOOKUP(B294,_!$A$7:$E$210,5,FALSE)), \"\")","v":""}]
[9,null,{"$f":"_xlfn.IFNA(VLOOKUP(B295,_!$A$7:$F$210,6,FALSE),\"\")","v":""},{"$f":"IF(IF(MOD(ROWS(D$3:D295),20)=1,INDEX('Summary Sheet'!$B$17:$B383,INT(ROWS(D$3:D295)/20)+1),\"\")=0,\"\",IF(MOD(ROWS(D$3:D295),20)=1,INDEX('Summary Sheet'!$B$17:$B383,INT(ROWS(D$3:D295)/20)+1),\"\"))","v":""},{"$f":"_xlfn.IFNA(IF(VLOOKUP(B295,_!$A$7:$E$210,2,FALSE)=0, \"\", VLOOKUP(B295,_!$A$7:$E$210,2,FALSE)),  \"\")","v":""},{"$f":"_xlfn.IFNA(IF(VLOOKUP(B295,_!$A$7:$E$210,3,FALSE)=0, \"\", VLOOKUP(B295,_!$A$7:$E$210,3,FALSE)), \"\")","v":""},{"$f":"_xlfn.IFNA(IF(VLOOKUP(B295,_!$A$7:$E$210,4,FALSE)=0, \"\",VLOOKUP(B295,_!$A$7:$E$210,4,FALSE)), \"\")","v":""},{"$f":"_xlfn.IFNA(IF(VLOOKUP(B295,_!$A$7:$E$210,5,FALSE)=0,\"\",VLOOKUP(B295,_!$A$7:$E$210,5,FALSE)), \"\")","v":""}]
[10,null,{"$f":"_xlfn.IFNA(VLOOKUP(B296,_!$A$7:$F$210,6,FALSE),\"\")","v":""},{"$f":"IF(IF(MOD(ROWS(D$14:D296),20)=1,INDEX('Summary Sheet'!$B$17:$B383,INT(ROWS(D$14:D296)/20)+1),\"\")=0,\"\",IF(MOD(ROWS(D$14:D296),20)=1,INDEX('Summary Sheet'!$B$17:$B383,INT(ROWS(D$14:D296)/20)+1),\"\"))","v":""},{"$f":"_xlfn.IFNA(IF(VLOOKUP(B296,_!$A$7:$E$210,2,FALSE)=0, \"\", VLOOKUP(B296,_!$A$7:$E$210,2,FALSE)),  \"\")","v":""},{"$f":"_xlfn.IFNA(IF(VLOOKUP(B296,_!$A$7:$E$210,3,FALSE)=0, \"\", VLOOKUP(B296,_!$A$7:$E$210,3,FALSE)), \"\")","v":""},{"$f":"_xlfn.IFNA(IF(VLOOKUP(B296,_!$A$7:$E$210,4,FALSE)=0, \"\",VLOOKUP(B296,_!$A$7:$E$210,4,FALSE)), \"\")","v":""},{"$f":"_xlfn.IFNA(IF(VLOOKUP(B296,_!$A$7:$E$210,5,FALSE)=0,\"\",VLOOKUP(B296,_!$A$7:$E$210,5,FALSE)), \"\")","v":""}]
[null,"\nHighest hazard level for each ‘Uptake Route’\n",null,null,{"$f":"_xlfn.IFNA(IF((INDEX(E287:E296,MATCH(\"E\",E287:E296,0)))=\"E\",\"E\",\"\"),_xlfn.IFNA(IF((INDEX(E287:E296,MATCH(\"D\",E287:E296,0)))=\"D\",\"D\",\"\"),_xlfn.IFNA(IF((INDEX(E287:E296,MATCH(\"Ca\",E287:E296,0)))=\"Ca\",\"C\",\"\"),_xlfn.IFNA(IF((INDEX(E287:E296,MATCH(\"C\",E287:E296,0)))=\"C\",\"C\",\"\"),_xlfn.IFNA(IF((INDEX(E287:E296,MATCH(\"B\",E287:E296,0)))=\"B\",\"B\",\"\"),_xlfn.IFNA(IF((INDEX(E287:E296,MATCH(\"A\",E287:E296,0)))=\"A\",\"A\",\"\"),_xlfn.IFNA(IF((INDEX(E287:E296,MATCH(\"n.a.\",E287:E296,0)))=\"n.a.\",\"\",\"\"),_xlfn.IFNA(IF((INDEX(E287:E296,MATCH(\"\",E287:E296,0)))=\"\",\"\",\"\"),\"\"))))))))","v":""},{"$f":"_xlfn.IFNA(IF((INDEX(F287:F296,MATCH(\"E\",F287:F296,0)))=\"E\",\"E\",\"\"),_xlfn.IFNA(IF((INDEX(F287:F296,MATCH(\"D (E)c\",F287:F296,0)))=\"D (E)c\",\"D (E)c\",\"\"),_xlfn.IFNA(IF((INDEX(F287:F296,MATCH(\"Da (E)c\",F287:F296,0)))=\"Da (E)c\",\"D (E)c\",\"\"),_xlfn.IFNA(IF((INDEX(F287:F296,MATCH(\"D\",F287:F296,0)))=\"D\",\"D\",\"\"),_xlfn.IFNA(IF((INDEX(F287:F296,MATCH(\"Ca\",F287:F296,0)))=\"Ca\",\"C\",\"\"),_xlfn.IFNA(IF((INDEX(F287:F296,MATCH(\"C\",F287:F296,0)))=\"C\",\"C\",\"\"),_xlfn.IFNA(IF((INDEX(F287:F296,MATCH(\"Ba\",F287:F296,0)))=\"Ba\",\"B\",\"\"),_xlfn.IFNA(IF((INDEX(F287:F296,MATCH(\"B\",F287:F296,0)))=\"B\",\"B\",\"\"),_xlfn.IFNA(IF((INDEX(F287:F296,MATCH(\"Aa\",F287:F296,0)))=\"Aa\",\"A\",\"\"),_xlfn.IFNA(IF((INDEX(F287:F296,MATCH(\"A\",F287:F296,0)))=\"A\",\"A\",\"\"),_xlfn.IFNA(IF((INDEX(F287:F296,MATCH(\"n.a.\",F287:F296,0)))=\"n.a.\",\"\",\"\"),_xlfn.IFNA(IF((INDEX(F287:F296,MATCH(\"\",F287:F296,0)))=\"\",\"\",\"\"),\"\"))))))))))))","v":""},{"$f":"_xlfn.IFNA(IF((INDEX(G287:G296,MATCH(\"E\",G287:G296,0)))=\"E\",\"E\",\"\"),_xlfn.IFNA(IF((INDEX(G287:G296,MATCH(\"D\",G287:G296,0)))=\"D\",\"D\",\"\"),_xlfn.IFNA(IF((INDEX(G287:G296,MATCH(\"Ca\",G287:G296,0)))=\"Ca\",\"C\",\"\"),_xlfn.IFNA(IF((INDEX(G287:G296,MATCH(\"C\",G287:G296,0)))=\"C\",\"C\",\"\"),_xlfn.IFNA(IF((INDEX(G287:G296,MATCH(\"B\",G287:G296,0)))=\"B\",\"B\",\"\"),_xlfn.IFNA(IF((INDEX(G287:G296,MATCH(\"A\",G287:G296,0)))=\"A\",\"A\",\"\"),_xlfn.IFNA(IF((INDEX(G287:G296,MATCH(\"n.a.\",G287:G296,0)))=\"n.a.\",\"\",\"\"),_xlfn.IFNA(IF((INDEX(G287:G296,MATCH(\"\",G287:G296,0)))=\"\",\"\",\"\"),\"\"))))))))","v":""},{"$f":"_xlfn.IFNA(IF((INDEX(H287:H296,MATCH(\"E\",H287:H296,0)))=\"E\",\"E\",\"\"),_xlfn.IFNA(IF((INDEX(H287:H296,MATCH(\"D (E)c\",H287:H296,0)))=\"D (E)c\",\"D (E)c\",\"\"),_xlfn.IFNA(IF((INDEX(H287:H296,MATCH(\"Db (E)c\",H287:H296,0)))=\"Db (E)c\",\"D (E)c\",\"\"),_xlfn.IFNA(IF((INDEX(H287:H296,MATCH(\"D\",H287:H296,0)))=\"D\",\"D\",\"\"),_xlfn.IFNA(IF((INDEX(H287:H296,MATCH(\"Cb\",H287:H296,0)))=\"Cb\",\"C\",\"\"),_xlfn.IFNA(IF((INDEX(H287:H296,MATCH(\"C\",H287:H296,0)))=\"C\",\"C\",\"\"),_xlfn.IFNA(IF((INDEX(H287:H296,MATCH(\"Bb\",H287:H296,0)))=\"Bb\",\"B\",\"\"),_xlfn.IFNA(IF((INDEX(H287:H296,MATCH(\"B\",H287:H296,0)))=\"B\",\"B\",\"\"),_xlfn.IFNA(IF((INDEX(H287:H296,MATCH(\"Ab\",H287:H296,0)))=\"Ab\",\"A\",\"\"),_xlfn.IFNA(IF((INDEX(H287:H296,MATCH(\"A\",H287:H296,0)))=\"A\",\"A\",\"\"),_xlfn.IFNA(IF((INDEX(H287:H296,MATCH(\"n.a.\",H287:H296,0)))=\"n.a.\",\"\",\"\"),_xlfn.IFNA(IF((INDEX(H287:H296,MATCH(\"\",H287:H296,0)))=\"\",\"\",\"\"),\"\"))))))))))))","v":""}]
[null,"\nHighest hazard level for all 'Uptake Routes' \n",null,null,{"$f":"_xlfn.IFNA(IF((INDEX(E297:H297,MATCH(\"E\",E297:H297,0)))=\"E\",\"E\",\"\"),_xlfn.IFNA(IF((INDEX(E297:H297,MATCH(\"D (E)c\",E297:H297,0)))=\"D (E)c\",\"D (E)\",\"\"),_xlfn.IFNA(IF((INDEX(E297:H297,MATCH(\"D\",E297:H297,0)))=\"D\",\"D\",\"\"),_xlfn.IFNA(IF((INDEX(E297:H297,MATCH(\"C\",E297:H297,0)))=\"C\",\"C\",\"\"),_xlfn.IFNA(IF((INDEX(E297:H297,MATCH(\"B\",E297:H297,0)))=\"B\",\"B\",\"\"),_xlfn.IFNA(IF((INDEX(E297:H297,MATCH(\"A\",E297:H297,0)))=\"A\",\"A\",\"\"),_xlfn.IFNA(IF((INDEX(E297:H297,MATCH(\"n.a.\",E297:H297,0)))=\"n.a.\",\"\",\"\"),_xlfn.IFNA(IF((INDEX(E297:H297,MATCH(\"\",E297:H297,0)))=\"\",\"\",\"\"),\"\"))))))))","v":""}]
[]
[]
[null,"\nStep 3: D(E) Assessment\nSkip this step if \nyour assessment above does not reveal a D(E) hazard level.\nHover over this cell for additional instructions.\n",null,null,"\nOverall hazard level\n",null,{"$f":"IF(AND(E298=\"\",C284=\"Yes\")=TRUE,\"B\",IF(E298=\"\",\"\",(IF(AND(E298=\"D (E)\",C301=\"\"),\"D (E)\"&CHAR(10)&\"Find if cat. 1 acute tox.\",(IF(E298<>\"D (E)\",E298,(IF(AND(E298=\"D (E)\",C301=\"Yes\"),\"E\",(IF(AND(E298=\"D (E)\",C301=\"No\"),\"D\",\"\"))))))))))","v":""}]
[]
[{"$f":"IF(IF(MOD(ROWS(B$3:B303),20)=1,INDEX('Summary Sheet'!$A$17:$A402,INT(ROWS(B$3:B303)/20)+1),\"\")=0,\"\",IF(MOD(ROWS(B$3:B303),20)=1,INDEX('Summary Sheet'!$A$17:$A402,INT(ROWS(B$3:B303)/20)+1),\"\"))","v":16},"Hazard Level Assessment","for",{"$f":"IF(IF(MOD(ROWS(D$3:D303),20)=1,INDEX('Summary Sheet'!$B$17:$B402,INT(ROWS(D$3:D303)/20)+1),\"\")=0,\"\",IF(MOD(ROWS(D$3:D303),20)=1,INDEX('Summary Sheet'!$B$17:$B402,INT(ROWS(D$3:D303)/20)+1),\"\"))","v":""}]
[null,"\nStep 1: Physical & Environmental Hazard Statements/Codes\nFind Section 2 of the SDS and determine if the SDS has physical and/or environmental hazard statements/codes. Hover on this cell for additional instructions.\n",null,{"$f":"IF(IF(MOD(ROWS(D$3:D304),20)=1,INDEX('Summary Sheet'!$B$17:$B402,INT(ROWS(D$3:D304)/20)+1),\"\")=0,\"\",IF(MOD(ROWS(D$3:D304),20)=1,INDEX('Summary Sheet'!$B$17:$B402,INT(ROWS(D$3:D304)/20)+1),\"\"))","v":""}]
[null,"Step 2: Health Hazard Statements/Codes\nProvide the Health Hazard Statements or Codes from Section 2 of the SDS below. Hover on this cell for additional instructions.",null,{"$f":"IF(IF(MOD(ROWS(D$3:D305),20)=1,INDEX('Summary Sheet'!$B$17:$B402,INT(ROWS(D$3:D305)/20)+1),\"\")=0,\"\",IF(MOD(ROWS(D$3:D305),20)=1,INDEX('Summary Sheet'!$B$17:$B402,INT(ROWS(D$3:D305)/20)+1),\"\"))","v":""},"\nHazard Level\n"]
[null,null,null,{"$f":"IF(IF(MOD(ROWS(D$3:D306),20)=1,INDEX('Summary Sheet'!$B$17:$B402,INT(ROWS(D$3:D306)/20)+1),\"\")=0,\"\",IF(MOD(ROWS(D$3:D306),20)=1,INDEX('Summary Sheet'!$B$17:$B402,INT(ROWS(D$3:D306)/20)+1),\"\"))","v":""},"\nEye Damage\n","\nInhalation\n","\nLocal Skin Damage\n","\nSkin uptake, systemic\n"]
[1,null,{"$f":"_xlfn.IFNA(VLOOKUP(B307,_!$A$7:$F$210,6,FALSE),\"\")","v":""},{"$f":"IF(IF(MOD(ROWS(D$3:D307),20)=1,INDEX('Summary Sheet'!$B$17:$B402,INT(ROWS(D$3:D307)/20)+1),\"\")=0,\"\",IF(MOD(ROWS(D$3:D307),20)=1,INDEX('Summary Sheet'!$B$17:$B402,INT(ROWS(D$3:D307)/20)+1),\"\"))","v":""},{"$f":"_xlfn.IFNA(IF(VLOOKUP(B307,_!$A$7:$E$210,2,FALSE)=0, \"\", VLOOKUP(B307,_!$A$7:$E$210,2,FALSE)),  \"\")","v":""},{"$f":"_xlfn.IFNA(IF(VLOOKUP(B307,_!$A$7:$E$210,3,FALSE)=0, \"\", VLOOKUP(B307,_!$A$7:$E$210,3,FALSE)), \"\")","v":""},{"$f":"_xlfn.IFNA(IF(VLOOKUP(B307,_!$A$7:$E$210,4,FALSE)=0, \"\",VLOOKUP(B307,_!$A$7:$E$210,4,FALSE)), \"\")","v":""},{"$f":"_xlfn.IFNA(IF(VLOOKUP(B307,_!$A$7:$E$210,5,FALSE)=0,\"\",VLOOKUP(B307,_!$A$7:$E$210,5,FALSE)), \"\")","v":""}]
[2,null,{"$f":"_xlfn.IFNA(VLOOKUP(B308,_!$A$7:$F$210,6,FALSE),\"\")","v":""},{"$f":"IF(IF(MOD(ROWS(D$3:D308),20)=1,INDEX('Summary Sheet'!$B$17:$B402,INT(ROWS(D$3:D308)/20)+1),\"\")=0,\"\",IF(MOD(ROWS(D$3:D308),20)=1,INDEX('Summary Sheet'!$B$17:$B402,INT(ROWS(D$3:D308)/20)+1),\"\"))","v":""},{"$f":"_xlfn.IFNA(IF(VLOOKUP(B308,_!$A$7:$E$210,2,FALSE)=0, \"\", VLOOKUP(B308,_!$A$7:$E$210,2,FALSE)),  \"\")","v":""},{"$f":"_xlfn.IFNA(IF(VLOOKUP(B308,_!$A$7:$E$210,3,FALSE)=0, \"\", VLOOKUP(B308,_!$A$7:$E$210,3,FALSE)), \"\")","v":""},{"$f":"_xlfn.IFNA(IF(VLOOKUP(B308,_!$A$7:$E$210,4,FALSE)=0, \"\",VLOOKUP(B308,_!$A$7:$E$210,4,FALSE)), \"\")","v":""},{"$f":"_xlfn.IFNA(IF(VLOOKUP(B308,_!$A$7:$E$210,5,FALSE)=0,\"\",VLOOKUP(B308,_!$A$7:$E$210,5,FALSE)), \"\")","v":""}]
[3,null,{"$f":"_xlfn.IFNA(VLOOKUP(B309,_!$A$7:$F$210,6,FALSE),\"\")","v":""},{"$f":"IF(IF(MOD(ROWS(D$3:D309),20)=1,INDEX('Summary Sheet'!$B$17:$B402,INT(ROWS(D$3:D309)/20)+1),\"\")=0,\"\",IF(MOD(ROWS(D$3:D309),20)=1,INDEX('Summary Sheet'!$B$17:$B402,INT(ROWS(D$3:D309)/20)+1),\"\"))","v":""},{"$f":"_xlfn.IFNA(IF(VLOOKUP(B309,_!$A$7:$E$210,2,FALSE)=0, \"\", VLOOKUP(B309,_!$A$7:$E$210,2,FALSE)),  \"\")","v":""},{"$f":"_xlfn.IFNA(IF(VLOOKUP(B309,_!$A$7:$E$210,3,FALSE)=0, \"\", VLOOKUP(B309,_!$A$7:$E$210,3,FALSE)), \"\")","v":""},{"$f":"_xlfn.IFNA(IF(VLOOKUP(B309,_!$A$7:$E$210,4,FALSE)=0, \"\",VLOOKUP(B309,_!$A$7:$E$210,4,FALSE)), \"\")","v":""},{"$f":"_xlfn.IFNA(IF(VLOOKUP(B309,_!$A$7:$E$210,5,FALSE)=0,\"\",VLOOKUP(B309,_!$A$7:$E$210,5,FALSE)), \"\")","v":""}]
[4,null,{"$f":"_xlfn.IFNA(VLOOKUP(B310,_!$A$7:$F$210,6,FALSE),\"\")","v":""},{"$f":"IF(IF(MOD(ROWS(D$3:D310),20)=1,INDEX('Summary Sheet'!$B$17:$B402,INT(ROWS(D$3:D310)/20)+1),\"\")=0,\"\",IF(MOD(ROWS(D$3:D310),20)=1,INDEX('Summary Sheet'!$B$17:$B402,INT(ROWS(D$3:D310)/20)+1),\"\"))","v":""},{"$f":"_xlfn.IFNA(IF(VLOOKUP(B310,_!$A$7:$E$210,2,FALSE)=0, \"\", VLOOKUP(B310,_!$A$7:$E$210,2,FALSE)),  \"\")","v":""},{"$f":"_xlfn.IFNA(IF(VLOOKUP(B310,_!$A$7:$E$210,3,FALSE)=0, \"\", VLOOKUP(B310,_!$A$7:$E$210,3,FALSE)), \"\")","v":""},{"$f":"_xlfn.IFNA(IF(VLOOKUP(B310,_!$A$7:$E$210,4,FALSE)=0, \"\",VLOOKUP(B310,_!$A$7:$E$210,4,FALSE)), \"\")","v":""},{"$f":"_xlfn.IFNA(IF(VLOOKUP(B310,_!$A$7:$E$210,5,FALSE)=0,\"\",VLOOKUP(B310,_!$A$7:$E$210,5,FALSE)), \"\")","v":""}]
[5,null,{"$f":"_xlfn.IFNA(VLOOKUP(B311,_!$A$7:$F$210,6,FALSE),\"\")","v":""},{"$f":"IF(IF(MOD(ROWS(D$3:D311),20)=1,INDEX('Summary Sheet'!$B$17:$B402,INT(ROWS(D$3:D311)/20)+1),\"\")=0,\"\",IF(MOD(ROWS(D$3:D311),20)=1,INDEX('Summary Sheet'!$B$17:$B402,INT(ROWS(D$3:D311)/20)+1),\"\"))","v":""},{"$f":"_xlfn.IFNA(IF(VLOOKUP(B311,_!$A$7:$E$210,2,FALSE)=0, \"\", VLOOKUP(B311,_!$A$7:$E$210,2,FALSE)),  \"\")","v":""},{"$f":"_xlfn.IFNA(IF(VLOOKUP(B311,_!$A$7:$E$210,3,FALSE)=0, \"\", VLOOKUP(B311,_!$A$7:$E$210,3,FALSE)), \"\")","v":""},{"$f":"_xlfn.IFNA(IF(VLOOKUP(B311,_!$A$7:$E$210,4,FALSE)=0, \"\",VLOOKUP(B311,_!$A$7:$E$210,4,FALSE)), \"\")","v":""},{"$f":"_xlfn.IFNA(IF(VLOOKUP(B311,_!$A$7:$E$210,5,FALSE)=0,\"\",VLOOKUP(B311,_!$A$7:$E$210,5,FALSE)), \"\")","v":""}]
[6,null,{"$f":"_xlfn.IFNA(VLOOKUP(B312,_!$A$7:$F$210,6,FALSE),\"\")","v":""},{"$f":"IF(IF(MOD(ROWS(D$3:D312),20)=1,INDEX('Summary Sheet'!$B$17:$B402,INT(ROWS(D$3:D312)/20)+1),\"\")=0,\"\",IF(MOD(ROWS(D$3:D312),20)=1,INDEX('Summary Sheet'!$B$17:$B402,INT(ROWS(D$3:D312)/20)+1),\"\"))","v":""},{"$f":"_xlfn.IFNA(IF(VLOOKUP(B312,_!$A$7:$E$210,2,FALSE)=0, \"\", VLOOKUP(B312,_!$A$7:$E$210,2,FALSE)),  \"\")","v":""},{"$f":"_xlfn.IFNA(IF(VLOOKUP(B312,_!$A$7:$E$210,3,FALSE)=0, \"\", VLOOKUP(B312,_!$A$7:$E$210,3,FALSE)), \"\")","v":""},{"$f":"_xlfn.IFNA(IF(VLOOKUP(B312,_!$A$7:$E$210,4,FALSE)=0, \"\",VLOOKUP(B312,_!$A$7:$E$210,4,FALSE)), \"\")","v":""},{"$f":"_xlfn.IFNA(IF(VLOOKUP(B312,_!$A$7:$E$210,5,FALSE)=0,\"\",VLOOKUP(B312,_!$A$7:$E$210,5,FALSE)), \"\")","v":""}]
[7,null,{"$f":"_xlfn.IFNA(VLOOKUP(B313,_!$A$7:$F$210,6,FALSE),\"\")","v":""},{"$f":"IF(IF(MOD(ROWS(D$3:D313),20)=1,INDEX('Summary Sheet'!$B$17:$B402,INT(ROWS(D$3:D313)/20)+1),\"\")=0,\"\",IF(MOD(ROWS(D$3:D313),20)=1,INDEX('Summary Sheet'!$B$17:$B402,INT(ROWS(D$3:D313)/20)+1),\"\"))","v":""},{"$f":"_xlfn.IFNA(IF(VLOOKUP(B313,_!$A$7:$E$210,2,FALSE)=0, \"\", VLOOKUP(B313,_!$A$7:$E$210,2,FALSE)),  \"\")","v":""},{"$f":"_xlfn.IFNA(IF(VLOOKUP(B313,_!$A$7:$E$210,3,FALSE)=0, \"\", VLOOKUP(B313,_!$A$7:$E$210,3,FALSE)), \"\")","v":""},{"$f":"_xlfn.IFNA(IF(VLOOKUP(B313,_!$A$7:$E$210,4,FALSE)=0, \"\",VLOOKUP(B313,_!$A$7:$E$210,4,FALSE)), \"\")","v":""},{"$f":"_xlfn.IFNA(IF(VLOOKUP(B313,_!$A$7:$E$210,5,FALSE)=0,\"\",VLOOKUP(B313,_!$A$7:$E$210,5,FALSE)), \"\")","v":""}]
[8,null,{"$f":"_xlfn.IFNA(VLOOKUP(B314,_!$A$7:$F$210,6,FALSE),\"\")","v":""},{"$f":"IF(IF(MOD(ROWS(D$3:D314),20)=1,INDEX('Summary Sheet'!$B$17:$B402,INT(ROWS(D$3:D314)/20)+1),\"\")=0,\"\",IF(MOD(ROWS(D$3:D314),20)=1,INDEX('Summary Sheet'!$B$17:$B402,INT(ROWS(D$3:D314)/20)+1),\"\"))","v":""},{"$f":"_xlfn.IFNA(IF(VLOOKUP(B314,_!$A$7:$E$210,2,FALSE)=0, \"\", VLOOKUP(B314,_!$A$7:$E$210,2,FALSE)),  \"\")","v":""},{"$f":"_xlfn.IFNA(IF(VLOOKUP(B314,_!$A$7:$E$210,3,FALSE)=0, \"\", VLOOKUP(B314,_!$A$7:$E$210,3,FALSE)), \"\")","v":""},{"$f":"_xlfn.IFNA(IF(VLOOKUP(B314,_!$A$7:$E$210,4,FALSE)=0, \"\",VLOOKUP(B314,_!$A$7:$E$210,4,FALSE)), \"\")","v":""},{"$f":"_xlfn.IFNA(IF(VLOOKUP(B314,_!$A$7:$E$210,5,FALSE)=0,\"\",VLOOKUP(B314,_!$A$7:$E$210,5,FALSE)), \"\")","v":""}]
[9,null,{"$f":"_xlfn.IFNA(VLOOKUP(B315,_!$A$7:$F$210,6,FALSE),\"\")","v":""},{"$f":"IF(IF(MOD(ROWS(D$3:D315),20)=1,INDEX('Summary Sheet'!$B$17:$B402,INT(ROWS(D$3:D315)/20)+1),\"\")=0,\"\",IF(MOD(ROWS(D$3:D315),20)=1,INDEX('Summary Sheet'!$B$17:$B402,INT(ROWS(D$3:D315)/20)+1),\"\"))","v":""},{"$f":"_xlfn.IFNA(IF(VLOOKUP(B315,_!$A$7:$E$210,2,FALSE)=0, \"\", VLOOKUP(B315,_!$A$7:$E$210,2,FALSE)),  \"\")","v":""},{"$f":"_xlfn.IFNA(IF(VLOOKUP(B315,_!$A$7:$E$210,3,FALSE)=0, \"\", VLOOKUP(B315,_!$A$7:$E$210,3,FALSE)), \"\")","v":""},{"$f":"_xlfn.IFNA(IF(VLOOKUP(B315,_!$A$7:$E$210,4,FALSE)=0, \"\",VLOOKUP(B315,_!$A$7:$E$210,4,FALSE)), \"\")","v":""},{"$f":"_xlfn.IFNA(IF(VLOOKUP(B315,_!$A$7:$E$210,5,FALSE)=0,\"\",VLOOKUP(B315,_!$A$7:$E$210,5,FALSE)), \"\")","v":""}]
[10,null,{"$f":"_xlfn.IFNA(VLOOKUP(B316,_!$A$7:$F$210,6,FALSE),\"\")","v":""},{"$f":"IF(IF(MOD(ROWS(D$14:D316),20)=1,INDEX('Summary Sheet'!$B$17:$B402,INT(ROWS(D$14:D316)/20)+1),\"\")=0,\"\",IF(MOD(ROWS(D$14:D316),20)=1,INDEX('Summary Sheet'!$B$17:$B402,INT(ROWS(D$14:D316)/20)+1),\"\"))","v":""},{"$f":"_xlfn.IFNA(IF(VLOOKUP(B316,_!$A$7:$E$210,2,FALSE)=0, \"\", VLOOKUP(B316,_!$A$7:$E$210,2,FALSE)),  \"\")","v":""},{"$f":"_xlfn.IFNA(IF(VLOOKUP(B316,_!$A$7:$E$210,3,FALSE)=0, \"\", VLOOKUP(B316,_!$A$7:$E$210,3,FALSE)), \"\")","v":""},{"$f":"_xlfn.IFNA(IF(VLOOKUP(B316,_!$A$7:$E$210,4,FALSE)=0, \"\",VLOOKUP(B316,_!$A$7:$E$210,4,FALSE)), \"\")","v":""},{"$f":"_xlfn.IFNA(IF(VLOOKUP(B316,_!$A$7:$E$210,5,FALSE)=0,\"\",VLOOKUP(B316,_!$A$7:$E$210,5,FALSE)), \"\")","v":""}]
[null,"\nHighest hazard level for each ‘Uptake Route’\n",null,null,{"$f":"_xlfn.IFNA(IF((INDEX(E307:E316,MATCH(\"E\",E307:E316,0)))=\"E\",\"E\",\"\"),_xlfn.IFNA(IF((INDEX(E307:E316,MATCH(\"D\",E307:E316,0)))=\"D\",\"D\",\"\"),_xlfn.IFNA(IF((INDEX(E307:E316,MATCH(\"Ca\",E307:E316,0)))=\"Ca\",\"C\",\"\"),_xlfn.IFNA(IF((INDEX(E307:E316,MATCH(\"C\",E307:E316,0)))=\"C\",\"C\",\"\"),_xlfn.IFNA(IF((INDEX(E307:E316,MATCH(\"B\",E307:E316,0)))=\"B\",\"B\",\"\"),_xlfn.IFNA(IF((INDEX(E307:E316,MATCH(\"A\",E307:E316,0)))=\"A\",\"A\",\"\"),_xlfn.IFNA(IF((INDEX(E307:E316,MATCH(\"n.a.\",E307:E316,0)))=\"n.a.\",\"\",\"\"),_xlfn.IFNA(IF((INDEX(E307:E316,MATCH(\"\",E307:E316,0)))=\"\",\"\",\"\"),\"\"))))))))","v":""},{"$f":"_xlfn.IFNA(IF((INDEX(F307:F316,MATCH(\"E\",F307:F316,0)))=\"E\",\"E\",\"\"),_xlfn.IFNA(IF((INDEX(F307:F316,MATCH(\"D (E)c\",F307:F316,0)))=\"D (E)c\",\"D (E)c\",\"\"),_xlfn.IFNA(IF((INDEX(F307:F316,MATCH(\"Da (E)c\",F307:F316,0)))=\"Da (E)c\",\"D (E)c\",\"\"),_xlfn.IFNA(IF((INDEX(F307:F316,MATCH(\"D\",F307:F316,0)))=\"D\",\"D\",\"\"),_xlfn.IFNA(IF((INDEX(F307:F316,MATCH(\"Ca\",F307:F316,0)))=\"Ca\",\"C\",\"\"),_xlfn.IFNA(IF((INDEX(F307:F316,MATCH(\"C\",F307:F316,0)))=\"C\",\"C\",\"\"),_xlfn.IFNA(IF((INDEX(F307:F316,MATCH(\"Ba\",F307:F316,0)))=\"Ba\",\"B\",\"\"),_xlfn.IFNA(IF((INDEX(F307:F316,MATCH(\"B\",F307:F316,0)))=\"B\",\"B\",\"\"),_xlfn.IFNA(IF((INDEX(F307:F316,MATCH(\"Aa\",F307:F316,0)))=\"Aa\",\"A\",\"\"),_xlfn.IFNA(IF((INDEX(F307:F316,MATCH(\"A\",F307:F316,0)))=\"A\",\"A\",\"\"),_xlfn.IFNA(IF((INDEX(F307:F316,MATCH(\"n.a.\",F307:F316,0)))=\"n.a.\",\"\",\"\"),_xlfn.IFNA(IF((INDEX(F307:F316,MATCH(\"\",F307:F316,0)))=\"\",\"\",\"\"),\"\"))))))))))))","v":""},{"$f":"_xlfn.IFNA(IF((INDEX(G307:G316,MATCH(\"E\",G307:G316,0)))=\"E\",\"E\",\"\"),_xlfn.IFNA(IF((INDEX(G307:G316,MATCH(\"D\",G307:G316,0)))=\"D\",\"D\",\"\"),_xlfn.IFNA(IF((INDEX(G307:G316,MATCH(\"Ca\",G307:G316,0)))=\"Ca\",\"C\",\"\"),_xlfn.IFNA(IF((INDEX(G307:G316,MATCH(\"C\",G307:G316,0)))=\"C\",\"C\",\"\"),_xlfn.IFNA(IF((INDEX(G307:G316,MATCH(\"B\",G307:G316,0)))=\"B\",\"B\",\"\"),_xlfn.IFNA(IF((INDEX(G307:G316,MATCH(\"A\",G307:G316,0)))=\"A\",\"A\",\"\"),_xlfn.IFNA(IF((INDEX(G307:G316,MATCH(\"n.a.\",G307:G316,0)))=\"n.a.\",\"\",\"\"),_xlfn.IFNA(IF((INDEX(G307:G316,MATCH(\"\",G307:G316,0)))=\"\",\"\",\"\"),\"\"))))))))","v":""},{"$f":"_xlfn.IFNA(IF((INDEX(H307:H316,MATCH(\"E\",H307:H316,0)))=\"E\",\"E\",\"\"),_xlfn.IFNA(IF((INDEX(H307:H316,MATCH(\"D (E)c\",H307:H316,0)))=\"D (E)c\",\"D (E)c\",\"\"),_xlfn.IFNA(IF((INDEX(H307:H316,MATCH(\"Db (E)c\",H307:H316,0)))=\"Db (E)c\",\"D (E)c\",\"\"),_xlfn.IFNA(IF((INDEX(H307:H316,MATCH(\"D\",H307:H316,0)))=\"D\",\"D\",\"\"),_xlfn.IFNA(IF((INDEX(H307:H316,MATCH(\"Cb\",H307:H316,0)))=\"Cb\",\"C\",\"\"),_xlfn.IFNA(IF((INDEX(H307:H316,MATCH(\"C\",H307:H316,0)))=\"C\",\"C\",\"\"),_xlfn.IFNA(IF((INDEX(H307:H316,MATCH(\"Bb\",H307:H316,0)))=\"Bb\",\"B\",\"\"),_xlfn.IFNA(IF((INDEX(H307:H316,MATCH(\"B\",H307:H316,0)))=\"B\",\"B\",\"\"),_xlfn.IFNA(IF((INDEX(H307:H316,MATCH(\"Ab\",H307:H316,0)))=\"Ab\",\"A\",\"\"),_xlfn.IFNA(IF((INDEX(H307:H316,MATCH(\"A\",H307:H316,0)))=\"A\",\"A\",\"\"),_xlfn.IFNA(IF((INDEX(H307:H316,MATCH(\"n.a.\",H307:H316,0)))=\"n.a.\",\"\",\"\"),_xlfn.IFNA(IF((INDEX(H307:H316,MATCH(\"\",H307:H316,0)))=\"\",\"\",\"\"),\"\"))))))))))))","v":""}]
[null,"\nHighest hazard level for all 'Uptake Routes' \n",null,null,{"$f":"_xlfn.IFNA(IF((INDEX(E317:H317,MATCH(\"E\",E317:H317,0)))=\"E\",\"E\",\"\"),_xlfn.IFNA(IF((INDEX(E317:H317,MATCH(\"D (E)c\",E317:H317,0)))=\"D (E)c\",\"D (E)\",\"\"),_xlfn.IFNA(IF((INDEX(E317:H317,MATCH(\"D\",E317:H317,0)))=\"D\",\"D\",\"\"),_xlfn.IFNA(IF((INDEX(E317:H317,MATCH(\"C\",E317:H317,0)))=\"C\",\"C\",\"\"),_xlfn.IFNA(IF((INDEX(E317:H317,MATCH(\"B\",E317:H317,0)))=\"B\",\"B\",\"\"),_xlfn.IFNA(IF((INDEX(E317:H317,MATCH(\"A\",E317:H317,0)))=\"A\",\"A\",\"\"),_xlfn.IFNA(IF((INDEX(E317:H317,MATCH(\"n.a.\",E317:H317,0)))=\"n.a.\",\"\",\"\"),_xlfn.IFNA(IF((INDEX(E317:H317,MATCH(\"\",E317:H317,0)))=\"\",\"\",\"\"),\"\"))))))))","v":""}]
[]
[]
[null,"\nStep 3: D(E) Assessment\nSkip this step if \nyour assessment above does not reveal a D(E) hazard level.\nHover over this cell for additional instructions.\n",null,null,"\nOverall hazard level\n",null,{"$f":"IF(AND(E318=\"\",C304=\"Yes\")=TRUE,\"B\",IF(E318=\"\",\"\",(IF(AND(E318=\"D (E)\",C321=\"\"),\"D (E)\"&CHAR(10)&\"Find if cat. 1 acute tox.\",(IF(E318<>\"D (E)\",E318,(IF(AND(E318=\"D (E)\",C321=\"Yes\"),\"E\",(IF(AND(E318=\"D (E)\",C321=\"No\"),\"D\",\"\"))))))))))","v":""}]
[]
[{"$f":"IF(IF(MOD(ROWS(B$3:B323),20)=1,INDEX('Summary Sheet'!$A$17:$A421,INT(ROWS(B$3:B323)/20)+1),\"\")=0,\"\",IF(MOD(ROWS(B$3:B323),20)=1,INDEX('Summary Sheet'!$A$17:$A421,INT(ROWS(B$3:B323)/20)+1),\"\"))","v":17},"Hazard Level Assessment","for",{"$f":"IF(IF(MOD(ROWS(D$3:D323),20)=1,INDEX('Summary Sheet'!$B$17:$B421,INT(ROWS(D$3:D323)/20)+1),\"\")=0,\"\",IF(MOD(ROWS(D$3:D323),20)=1,INDEX('Summary Sheet'!$B$17:$B421,INT(ROWS(D$3:D323)/20)+1),\"\"))","v":""}]
[null,"\nStep 1: Physical & Environmental Hazard Statements/Codes\nFind Section 2 of the SDS and determine if the SDS has physical and/or environmental hazard statements/codes. Hover on this cell for additional instructions.\n",null,{"$f":"IF(IF(MOD(ROWS(D$3:D324),20)=1,INDEX('Summary Sheet'!$B$17:$B421,INT(ROWS(D$3:D324)/20)+1),\"\")=0,\"\",IF(MOD(ROWS(D$3:D324),20)=1,INDEX('Summary Sheet'!$B$17:$B421,INT(ROWS(D$3:D324)/20)+1),\"\"))","v":""}]
[null,"Step 2: Health Hazard Statements/Codes\nProvide the Health Hazard Statements or Codes from Section 2 of the SDS below. Hover on this cell for additional instructions.",null,{"$f":"IF(IF(MOD(ROWS(D$3:D325),20)=1,INDEX('Summary Sheet'!$B$17:$B421,INT(ROWS(D$3:D325)/20)+1),\"\")=0,\"\",IF(MOD(ROWS(D$3:D325),20)=1,INDEX('Summary Sheet'!$B$17:$B421,INT(ROWS(D$3:D325)/20)+1),\"\"))","v":""},"\nHazard Level\n"]
[null,null,null,{"$f":"IF(IF(MOD(ROWS(D$3:D326),20)=1,INDEX('Summary Sheet'!$B$17:$B421,INT(ROWS(D$3:D326)/20)+1),\"\")=0,\"\",IF(MOD(ROWS(D$3:D326),20)=1,INDEX('Summary Sheet'!$B$17:$B421,INT(ROWS(D$3:D326)/20)+1),\"\"))","v":""},"\nEye Damage\n","\nInhalation\n","\nLocal Skin Damage\n","\nSkin uptake, systemic\n"]
[1,null,{"$f":"_xlfn.IFNA(VLOOKUP(B327,_!$A$7:$F$210,6,FALSE),\"\")","v":""},{"$f":"IF(IF(MOD(ROWS(D$3:D327),20)=1,INDEX('Summary Sheet'!$B$17:$B421,INT(ROWS(D$3:D327)/20)+1),\"\")=0,\"\",IF(MOD(ROWS(D$3:D327),20)=1,INDEX('Summary Sheet'!$B$17:$B421,INT(ROWS(D$3:D327)/20)+1),\"\"))","v":""},{"$f":"_xlfn.IFNA(IF(VLOOKUP(B327,_!$A$7:$E$210,2,FALSE)=0, \"\", VLOOKUP(B327,_!$A$7:$E$210,2,FALSE)),  \"\")","v":""},{"$f":"_xlfn.IFNA(IF(VLOOKUP(B327,_!$A$7:$E$210,3,FALSE)=0, \"\", VLOOKUP(B327,_!$A$7:$E$210,3,FALSE)), \"\")","v":""},{"$f":"_xlfn.IFNA(IF(VLOOKUP(B327,_!$A$7:$E$210,4,FALSE)=0, \"\",VLOOKUP(B327,_!$A$7:$E$210,4,FALSE)), \"\")","v":""},{"$f":"_xlfn.IFNA(IF(VLOOKUP(B327,_!$A$7:$E$210,5,FALSE)=0,\"\",VLOOKUP(B327,_!$A$7:$E$210,5,FALSE)), \"\")","v":""}]
[2,null,{"$f":"_xlfn.IFNA(VLOOKUP(B328,_!$A$7:$F$210,6,FALSE),\"\")","v":""},{"$f":"IF(IF(MOD(ROWS(D$3:D328),20)=1,INDEX('Summary Sheet'!$B$17:$B421,INT(ROWS(D$3:D328)/20)+1),\"\")=0,\"\",IF(MOD(ROWS(D$3:D328),20)=1,INDEX('Summary Sheet'!$B$17:$B421,INT(ROWS(D$3:D328)/20)+1),\"\"))","v":""},{"$f":"_xlfn.IFNA(IF(VLOOKUP(B328,_!$A$7:$E$210,2,FALSE)=0, \"\", VLOOKUP(B328,_!$A$7:$E$210,2,FALSE)),  \"\")","v":""},{"$f":"_xlfn.IFNA(IF(VLOOKUP(B328,_!$A$7:$E$210,3,FALSE)=0, \"\", VLOOKUP(B328,_!$A$7:$E$210,3,FALSE)), \"\")","v":""},{"$f":"_xlfn.IFNA(IF(VLOOKUP(B328,_!$A$7:$E$210,4,FALSE)=0, \"\",VLOOKUP(B328,_!$A$7:$E$210,4,FALSE)), \"\")","v":""},{"$f":"_xlfn.IFNA(IF(VLOOKUP(B328,_!$A$7:$E$210,5,FALSE)=0,\"\",VLOOKUP(B328,_!$A$7:$E$210,5,FALSE)), \"\")","v":""}]
[3,null,{"$f":"_xlfn.IFNA(VLOOKUP(B329,_!$A$7:$F$210,6,FALSE),\"\")","v":""},{"$f":"IF(IF(MOD(ROWS(D$3:D329),20)=1,INDEX('Summary Sheet'!$B$17:$B421,INT(ROWS(D$3:D329)/20)+1),\"\")=0,\"\",IF(MOD(ROWS(D$3:D329),20)=1,INDEX('Summary Sheet'!$B$17:$B421,INT(ROWS(D$3:D329)/20)+1),\"\"))","v":""},{"$f":"_xlfn.IFNA(IF(VLOOKUP(B329,_!$A$7:$E$210,2,FALSE)=0, \"\", VLOOKUP(B329,_!$A$7:$E$210,2,FALSE)),  \"\")","v":""},{"$f":"_xlfn.IFNA(IF(VLOOKUP(B329,_!$A$7:$E$210,3,FALSE)=0, \"\", VLOOKUP(B329,_!$A$7:$E$210,3,FALSE)), \"\")","v":""},{"$f":"_xlfn.IFNA(IF(VLOOKUP(B329,_!$A$7:$E$210,4,FALSE)=0, \"\",VLOOKUP(B329,_!$A$7:$E$210,4,FALSE)), \"\")","v":""},{"$f":"_xlfn.IFNA(IF(VLOOKUP(B329,_!$A$7:$E$210,5,FALSE)=0,\"\",VLOOKUP(B329,_!$A$7:$E$210,5,FALSE)), \"\")","v":""}]
[4,null,{"$f":"_xlfn.IFNA(VLOOKUP(B330,_!$A$7:$F$210,6,FALSE),\"\")","v":""},{"$f":"IF(IF(MOD(ROWS(D$3:D330),20)=1,INDEX('Summary Sheet'!$B$17:$B421,INT(ROWS(D$3:D330)/20)+1),\"\")=0,\"\",IF(MOD(ROWS(D$3:D330),20)=1,INDEX('Summary Sheet'!$B$17:$B421,INT(ROWS(D$3:D330)/20)+1),\"\"))","v":""},{"$f":"_xlfn.IFNA(IF(VLOOKUP(B330,_!$A$7:$E$210,2,FALSE)=0, \"\", VLOOKUP(B330,_!$A$7:$E$210,2,FALSE)),  \"\")","v":""},{"$f":"_xlfn.IFNA(IF(VLOOKUP(B330,_!$A$7:$E$210,3,FALSE)=0, \"\", VLOOKUP(B330,_!$A$7:$E$210,3,FALSE)), \"\")","v":""},{"$f":"_xlfn.IFNA(IF(VLOOKUP(B330,_!$A$7:$E$210,4,FALSE)=0, \"\",VLOOKUP(B330,_!$A$7:$E$210,4,FALSE)), \"\")","v":""},{"$f":"_xlfn.IFNA(IF(VLOOKUP(B330,_!$A$7:$E$210,5,FALSE)=0,\"\",VLOOKUP(B330,_!$A$7:$E$210,5,FALSE)), \"\")","v":""}]
[5,null,{"$f":"_xlfn.IFNA(VLOOKUP(B331,_!$A$7:$F$210,6,FALSE),\"\")","v":""},{"$f":"IF(IF(MOD(ROWS(D$3:D331),20)=1,INDEX('Summary Sheet'!$B$17:$B421,INT(ROWS(D$3:D331)/20)+1),\"\")=0,\"\",IF(MOD(ROWS(D$3:D331),20)=1,INDEX('Summary Sheet'!$B$17:$B421,INT(ROWS(D$3:D331)/20)+1),\"\"))","v":""},{"$f":"_xlfn.IFNA(IF(VLOOKUP(B331,_!$A$7:$E$210,2,FALSE)=0, \"\", VLOOKUP(B331,_!$A$7:$E$210,2,FALSE)),  \"\")","v":""},{"$f":"_xlfn.IFNA(IF(VLOOKUP(B331,_!$A$7:$E$210,3,FALSE)=0, \"\", VLOOKUP(B331,_!$A$7:$E$210,3,FALSE)), \"\")","v":""},{"$f":"_xlfn.IFNA(IF(VLOOKUP(B331,_!$A$7:$E$210,4,FALSE)=0, \"\",VLOOKUP(B331,_!$A$7:$E$210,4,FALSE)), \"\")","v":""},{"$f":"_xlfn.IFNA(IF(VLOOKUP(B331,_!$A$7:$E$210,5,FALSE)=0,\"\",VLOOKUP(B331,_!$A$7:$E$210,5,FALSE)), \"\")","v":""}]
[6,null,{"$f":"_xlfn.IFNA(VLOOKUP(B332,_!$A$7:$F$210,6,FALSE),\"\")","v":""},{"$f":"IF(IF(MOD(ROWS(D$3:D332),20)=1,INDEX('Summary Sheet'!$B$17:$B421,INT(ROWS(D$3:D332)/20)+1),\"\")=0,\"\",IF(MOD(ROWS(D$3:D332),20)=1,INDEX('Summary Sheet'!$B$17:$B421,INT(ROWS(D$3:D332)/20)+1),\"\"))","v":""},{"$f":"_xlfn.IFNA(IF(VLOOKUP(B332,_!$A$7:$E$210,2,FALSE)=0, \"\", VLOOKUP(B332,_!$A$7:$E$210,2,FALSE)),  \"\")","v":""},{"$f":"_xlfn.IFNA(IF(VLOOKUP(B332,_!$A$7:$E$210,3,FALSE)=0, \"\", VLOOKUP(B332,_!$A$7:$E$210,3,FALSE)), \"\")","v":""},{"$f":"_xlfn.IFNA(IF(VLOOKUP(B332,_!$A$7:$E$210,4,FALSE)=0, \"\",VLOOKUP(B332,_!$A$7:$E$210,4,FALSE)), \"\")","v":""},{"$f":"_xlfn.IFNA(IF(VLOOKUP(B332,_!$A$7:$E$210,5,FALSE)=0,\"\",VLOOKUP(B332,_!$A$7:$E$210,5,FALSE)), \"\")","v":""}]
[7,null,{"$f":"_xlfn.IFNA(VLOOKUP(B333,_!$A$7:$F$210,6,FALSE),\"\")","v":""},{"$f":"IF(IF(MOD(ROWS(D$3:D333),20)=1,INDEX('Summary Sheet'!$B$17:$B421,INT(ROWS(D$3:D333)/20)+1),\"\")=0,\"\",IF(MOD(ROWS(D$3:D333),20)=1,INDEX('Summary Sheet'!$B$17:$B421,INT(ROWS(D$3:D333)/20)+1),\"\"))","v":""},{"$f":"_xlfn.IFNA(IF(VLOOKUP(B333,_!$A$7:$E$210,2,FALSE)=0, \"\", VLOOKUP(B333,_!$A$7:$E$210,2,FALSE)),  \"\")","v":""},{"$f":"_xlfn.IFNA(IF(VLOOKUP(B333,_!$A$7:$E$210,3,FALSE)=0, \"\", VLOOKUP(B333,_!$A$7:$E$210,3,FALSE)), \"\")","v":""},{"$f":"_xlfn.IFNA(IF(VLOOKUP(B333,_!$A$7:$E$210,4,FALSE)=0, \"\",VLOOKUP(B333,_!$A$7:$E$210,4,FALSE)), \"\")","v":""},{"$f":"_xlfn.IFNA(IF(VLOOKUP(B333,_!$A$7:$E$210,5,FALSE)=0,\"\",VLOOKUP(B333,_!$A$7:$E$210,5,FALSE)), \"\")","v":""}]
[8,null,{"$f":"_xlfn.IFNA(VLOOKUP(B334,_!$A$7:$F$210,6,FALSE),\"\")","v":""},{"$f":"IF(IF(MOD(ROWS(D$3:D334),20)=1,INDEX('Summary Sheet'!$B$17:$B421,INT(ROWS(D$3:D334)/20)+1),\"\")=0,\"\",IF(MOD(ROWS(D$3:D334),20)=1,INDEX('Summary Sheet'!$B$17:$B421,INT(ROWS(D$3:D334)/20)+1),\"\"))","v":""},{"$f":"_xlfn.IFNA(IF(VLOOKUP(B334,_!$A$7:$E$210,2,FALSE)=0, \"\", VLOOKUP(B334,_!$A$7:$E$210,2,FALSE)),  \"\")","v":""},{"$f":"_xlfn.IFNA(IF(VLOOKUP(B334,_!$A$7:$E$210,3,FALSE)=0, \"\", VLOOKUP(B334,_!$A$7:$E$210,3,FALSE)), \"\")","v":""},{"$f":"_xlfn.IFNA(IF(VLOOKUP(B334,_!$A$7:$E$210,4,FALSE)=0, \"\",VLOOKUP(B334,_!$A$7:$E$210,4,FALSE)), \"\")","v":""},{"$f":"_xlfn.IFNA(IF(VLOOKUP(B334,_!$A$7:$E$210,5,FALSE)=0,\"\",VLOOKUP(B334,_!$A$7:$E$210,5,FALSE)), \"\")","v":""}]
[9,null,{"$f":"_xlfn.IFNA(VLOOKUP(B335,_!$A$7:$F$210,6,FALSE),\"\")","v":""},{"$f":"IF(IF(MOD(ROWS(D$3:D335),20)=1,INDEX('Summary Sheet'!$B$17:$B421,INT(ROWS(D$3:D335)/20)+1),\"\")=0,\"\",IF(MOD(ROWS(D$3:D335),20)=1,INDEX('Summary Sheet'!$B$17:$B421,INT(ROWS(D$3:D335)/20)+1),\"\"))","v":""},{"$f":"_xlfn.IFNA(IF(VLOOKUP(B335,_!$A$7:$E$210,2,FALSE)=0, \"\", VLOOKUP(B335,_!$A$7:$E$210,2,FALSE)),  \"\")","v":""},{"$f":"_xlfn.IFNA(IF(VLOOKUP(B335,_!$A$7:$E$210,3,FALSE)=0, \"\", VLOOKUP(B335,_!$A$7:$E$210,3,FALSE)), \"\")","v":""},{"$f":"_xlfn.IFNA(IF(VLOOKUP(B335,_!$A$7:$E$210,4,FALSE)=0, \"\",VLOOKUP(B335,_!$A$7:$E$210,4,FALSE)), \"\")","v":""},{"$f":"_xlfn.IFNA(IF(VLOOKUP(B335,_!$A$7:$E$210,5,FALSE)=0,\"\",VLOOKUP(B335,_!$A$7:$E$210,5,FALSE)), \"\")","v":""}]
[10,null,{"$f":"_xlfn.IFNA(VLOOKUP(B336,_!$A$7:$F$210,6,FALSE),\"\")","v":""},{"$f":"IF(IF(MOD(ROWS(D$14:D336),20)=1,INDEX('Summary Sheet'!$B$17:$B421,INT(ROWS(D$14:D336)/20)+1),\"\")=0,\"\",IF(MOD(ROWS(D$14:D336),20)=1,INDEX('Summary Sheet'!$B$17:$B421,INT(ROWS(D$14:D336)/20)+1),\"\"))","v":""},{"$f":"_xlfn.IFNA(IF(VLOOKUP(B336,_!$A$7:$E$210,2,FALSE)=0, \"\", VLOOKUP(B336,_!$A$7:$E$210,2,FALSE)),  \"\")","v":""},{"$f":"_xlfn.IFNA(IF(VLOOKUP(B336,_!$A$7:$E$210,3,FALSE)=0, \"\", VLOOKUP(B336,_!$A$7:$E$210,3,FALSE)), \"\")","v":""},{"$f":"_xlfn.IFNA(IF(VLOOKUP(B336,_!$A$7:$E$210,4,FALSE)=0, \"\",VLOOKUP(B336,_!$A$7:$E$210,4,FALSE)), \"\")","v":""},{"$f":"_xlfn.IFNA(IF(VLOOKUP(B336,_!$A$7:$E$210,5,FALSE)=0,\"\",VLOOKUP(B336,_!$A$7:$E$210,5,FALSE)), \"\")","v":""}]
[null,"\nHighest hazard level for each ‘Uptake Route’\n",null,null,{"$f":"_xlfn.IFNA(IF((INDEX(E327:E336,MATCH(\"E\",E327:E336,0)))=\"E\",\"E\",\"\"),_xlfn.IFNA(IF((INDEX(E327:E336,MATCH(\"D\",E327:E336,0)))=\"D\",\"D\",\"\"),_xlfn.IFNA(IF((INDEX(E327:E336,MATCH(\"Ca\",E327:E336,0)))=\"Ca\",\"C\",\"\"),_xlfn.IFNA(IF((INDEX(E327:E336,MATCH(\"C\",E327:E336,0)))=\"C\",\"C\",\"\"),_xlfn.IFNA(IF((INDEX(E327:E336,MATCH(\"B\",E327:E336,0)))=\"B\",\"B\",\"\"),_xlfn.IFNA(IF((INDEX(E327:E336,MATCH(\"A\",E327:E336,0)))=\"A\",\"A\",\"\"),_xlfn.IFNA(IF((INDEX(E327:E336,MATCH(\"n.a.\",E327:E336,0)))=\"n.a.\",\"\",\"\"),_xlfn.IFNA(IF((INDEX(E327:E336,MATCH(\"\",E327:E336,0)))=\"\",\"\",\"\"),\"\"))))))))","v":""},{"$f":"_xlfn.IFNA(IF((INDEX(F327:F336,MATCH(\"E\",F327:F336,0)))=\"E\",\"E\",\"\"),_xlfn.IFNA(IF((INDEX(F327:F336,MATCH(\"D (E)c\",F327:F336,0)))=\"D (E)c\",\"D (E)c\",\"\"),_xlfn.IFNA(IF((INDEX(F327:F336,MATCH(\"Da (E)c\",F327:F336,0)))=\"Da (E)c\",\"D (E)c\",\"\"),_xlfn.IFNA(IF((INDEX(F327:F336,MATCH(\"D\",F327:F336,0)))=\"D\",\"D\",\"\"),_xlfn.IFNA(IF((INDEX(F327:F336,MATCH(\"Ca\",F327:F336,0)))=\"Ca\",\"C\",\"\"),_xlfn.IFNA(IF((INDEX(F327:F336,MATCH(\"C\",F327:F336,0)))=\"C\",\"C\",\"\"),_xlfn.IFNA(IF((INDEX(F327:F336,MATCH(\"Ba\",F327:F336,0)))=\"Ba\",\"B\",\"\"),_xlfn.IFNA(IF((INDEX(F327:F336,MATCH(\"B\",F327:F336,0)))=\"B\",\"B\",\"\"),_xlfn.IFNA(IF((INDEX(F327:F336,MATCH(\"Aa\",F327:F336,0)))=\"Aa\",\"A\",\"\"),_xlfn.IFNA(IF((INDEX(F327:F336,MATCH(\"A\",F327:F336,0)))=\"A\",\"A\",\"\"),_xlfn.IFNA(IF((INDEX(F327:F336,MATCH(\"n.a.\",F327:F336,0)))=\"n.a.\",\"\",\"\"),_xlfn.IFNA(IF((INDEX(F327:F336,MATCH(\"\",F327:F336,0)))=\"\",\"\",\"\"),\"\"))))))))))))","v":""},{"$f":"_xlfn.IFNA(IF((INDEX(G327:G336,MATCH(\"E\",G327:G336,0)))=\"E\",\"E\",\"\"),_xlfn.IFNA(IF((INDEX(G327:G336,MATCH(\"D\",G327:G336,0)))=\"D\",\"D\",\"\"),_xlfn.IFNA(IF((INDEX(G327:G336,MATCH(\"Ca\",G327:G336,0)))=\"Ca\",\"C\",\"\"),_xlfn.IFNA(IF((INDEX(G327:G336,MATCH(\"C\",G327:G336,0)))=\"C\",\"C\",\"\"),_xlfn.IFNA(IF((INDEX(G327:G336,MATCH(\"B\",G327:G336,0)))=\"B\",\"B\",\"\"),_xlfn.IFNA(IF((INDEX(G327:G336,MATCH(\"A\",G327:G336,0)))=\"A\",\"A\",\"\"),_xlfn.IFNA(IF((INDEX(G327:G336,MATCH(\"n.a.\",G327:G336,0)))=\"n.a.\",\"\",\"\"),_xlfn.IFNA(IF((INDEX(G327:G336,MATCH(\"\",G327:G336,0)))=\"\",\"\",\"\"),\"\"))))))))","v":""},{"$f":"_xlfn.IFNA(IF((INDEX(H327:H336,MATCH(\"E\",H327:H336,0)))=\"E\",\"E\",\"\"),_xlfn.IFNA(IF((INDEX(H327:H336,MATCH(\"D (E)c\",H327:H336,0)))=\"D (E)c\",\"D (E)c\",\"\"),_xlfn.IFNA(IF((INDEX(H327:H336,MATCH(\"Db (E)c\",H327:H336,0)))=\"Db (E)c\",\"D (E)c\",\"\"),_xlfn.IFNA(IF((INDEX(H327:H336,MATCH(\"D\",H327:H336,0)))=\"D\",\"D\",\"\"),_xlfn.IFNA(IF((INDEX(H327:H336,MATCH(\"Cb\",H327:H336,0)))=\"Cb\",\"C\",\"\"),_xlfn.IFNA(IF((INDEX(H327:H336,MATCH(\"C\",H327:H336,0)))=\"C\",\"C\",\"\"),_xlfn.IFNA(IF((INDEX(H327:H336,MATCH(\"Bb\",H327:H336,0)))=\"Bb\",\"B\",\"\"),_xlfn.IFNA(IF((INDEX(H327:H336,MATCH(\"B\",H327:H336,0)))=\"B\",\"B\",\"\"),_xlfn.IFNA(IF((INDEX(H327:H336,MATCH(\"Ab\",H327:H336,0)))=\"Ab\",\"A\",\"\"),_xlfn.IFNA(IF((INDEX(H327:H336,MATCH(\"A\",H327:H336,0)))=\"A\",\"A\",\"\"),_xlfn.IFNA(IF((INDEX(H327:H336,MATCH(\"n.a.\",H327:H336,0)))=\"n.a.\",\"\",\"\"),_xlfn.IFNA(IF((INDEX(H327:H336,MATCH(\"\",H327:H336,0)))=\"\",\"\",\"\"),\"\"))))))))))))","v":""}]
[null,"\nHighest hazard level for all 'Uptake Routes' \n",null,null,{"$f":"_xlfn.IFNA(IF((INDEX(E337:H337,MATCH(\"E\",E337:H337,0)))=\"E\",\"E\",\"\"),_xlfn.IFNA(IF((INDEX(E337:H337,MATCH(\"D (E)c\",E337:H337,0)))=\"D (E)c\",\"D (E)\",\"\"),_xlfn.IFNA(IF((INDEX(E337:H337,MATCH(\"D\",E337:H337,0)))=\"D\",\"D\",\"\"),_xlfn.IFNA(IF((INDEX(E337:H337,MATCH(\"C\",E337:H337,0)))=\"C\",\"C\",\"\"),_xlfn.IFNA(IF((INDEX(E337:H337,MATCH(\"B\",E337:H337,0)))=\"B\",\"B\",\"\"),_xlfn.IFNA(IF((INDEX(E337:H337,MATCH(\"A\",E337:H337,0)))=\"A\",\"A\",\"\"),_xlfn.IFNA(IF((INDEX(E337:H337,MATCH(\"n.a.\",E337:H337,0)))=\"n.a.\",\"\",\"\"),_xlfn.IFNA(IF((INDEX(E337:H337,MATCH(\"\",E337:H337,0)))=\"\",\"\",\"\"),\"\"))))))))","v":""}]
[]
[]
[null,"\nStep 3: D(E) Assessment\nSkip this step if \nyour assessment above does not reveal a D(E) hazard level.\nHover over this cell for additional instructions.\n",null,null,"\nOverall hazard level\n",null,{"$f":"IF(AND(E338=\"\",C324=\"Yes\")=TRUE,\"B\",IF(E338=\"\",\"\",(IF(AND(E338=\"D (E)\",C341=\"\"),\"D (E)\"&CHAR(10)&\"Find if cat. 1 acute tox.\",(IF(E338<>\"D (E)\",E338,(IF(AND(E338=\"D (E)\",C341=\"Yes\"),\"E\",(IF(AND(E338=\"D (E)\",C341=\"No\"),\"D\",\"\"))))))))))","v":""}]
[]
[{"$f":"IF(IF(MOD(ROWS(B$3:B343),20)=1,INDEX('Summary Sheet'!$A$17:$A440,INT(ROWS(B$3:B343)/20)+1),\"\")=0,\"\",IF(MOD(ROWS(B$3:B343),20)=1,INDEX('Summary Sheet'!$A$17:$A440,INT(ROWS(B$3:B343)/20)+1),\"\"))","v":18},"Hazard Level Assessment","for",{"$f":"IF(IF(MOD(ROWS(D$3:D343),20)=1,INDEX('Summary Sheet'!$B$17:$B440,INT(ROWS(D$3:D343)/20)+1),\"\")=0,\"\",IF(MOD(ROWS(D$3:D343),20)=1,INDEX('Summary Sheet'!$B$17:$B440,INT(ROWS(D$3:D343)/20)+1),\"\"))","v":""}]
[null,"\nStep 1: Physical & Environmental Hazard Statements/Codes\nFind Section 2 of the SDS and determine if the SDS has physical and/or environmental hazard statements/codes. Hover on this cell for additional instructions.\n",null,{"$f":"IF(IF(MOD(ROWS(D$3:D344),20)=1,INDEX('Summary Sheet'!$B$17:$B440,INT(ROWS(D$3:D344)/20)+1),\"\")=0,\"\",IF(MOD(ROWS(D$3:D344),20)=1,INDEX('Summary Sheet'!$B$17:$B440,INT(ROWS(D$3:D344)/20)+1),\"\"))","v":""}]
[null,"Step 2: Health Hazard Statements/Codes\nProvide the Health Hazard Statements or Codes from Section 2 of the SDS below. Hover on this cell for additional instructions.",null,{"$f":"IF(IF(MOD(ROWS(D$3:D345),20)=1,INDEX('Summary Sheet'!$B$17:$B440,INT(ROWS(D$3:D345)/20)+1),\"\")=0,\"\",IF(MOD(ROWS(D$3:D345),20)=1,INDEX('Summary Sheet'!$B$17:$B440,INT(ROWS(D$3:D345)/20)+1),\"\"))","v":""},"\nHazard Level\n"]
[null,null,null,{"$f":"IF(IF(MOD(ROWS(D$3:D346),20)=1,INDEX('Summary Sheet'!$B$17:$B440,INT(ROWS(D$3:D346)/20)+1),\"\")=0,\"\",IF(MOD(ROWS(D$3:D346),20)=1,INDEX('Summary Sheet'!$B$17:$B440,INT(ROWS(D$3:D346)/20)+1),\"\"))","v":""},"\nEye Damage\n","\nInhalation\n","\nLocal Skin Damage\n","\nSkin uptake, systemic\n"]
[1,null,{"$f":"_xlfn.IFNA(VLOOKUP(B347,_!$A$7:$F$210,6,FALSE),\"\")","v":""},{"$f":"IF(IF(MOD(ROWS(D$3:D347),20)=1,INDEX('Summary Sheet'!$B$17:$B440,INT(ROWS(D$3:D347)/20)+1),\"\")=0,\"\",IF(MOD(ROWS(D$3:D347),20)=1,INDEX('Summary Sheet'!$B$17:$B440,INT(ROWS(D$3:D347)/20)+1),\"\"))","v":""},{"$f":"_xlfn.IFNA(IF(VLOOKUP(B347,_!$A$7:$E$210,2,FALSE)=0, \"\", VLOOKUP(B347,_!$A$7:$E$210,2,FALSE)),  \"\")","v":""},{"$f":"_xlfn.IFNA(IF(VLOOKUP(B347,_!$A$7:$E$210,3,FALSE)=0, \"\", VLOOKUP(B347,_!$A$7:$E$210,3,FALSE)), \"\")","v":""},{"$f":"_xlfn.IFNA(IF(VLOOKUP(B347,_!$A$7:$E$210,4,FALSE)=0, \"\",VLOOKUP(B347,_!$A$7:$E$210,4,FALSE)), \"\")","v":""},{"$f":"_xlfn.IFNA(IF(VLOOKUP(B347,_!$A$7:$E$210,5,FALSE)=0,\"\",VLOOKUP(B347,_!$A$7:$E$210,5,FALSE)), \"\")","v":""}]
[2,null,{"$f":"_xlfn.IFNA(VLOOKUP(B348,_!$A$7:$F$210,6,FALSE),\"\")","v":""},{"$f":"IF(IF(MOD(ROWS(D$3:D348),20)=1,INDEX('Summary Sheet'!$B$17:$B440,INT(ROWS(D$3:D348)/20)+1),\"\")=0,\"\",IF(MOD(ROWS(D$3:D348),20)=1,INDEX('Summary Sheet'!$B$17:$B440,INT(ROWS(D$3:D348)/20)+1),\"\"))","v":""},{"$f":"_xlfn.IFNA(IF(VLOOKUP(B348,_!$A$7:$E$210,2,FALSE)=0, \"\", VLOOKUP(B348,_!$A$7:$E$210,2,FALSE)),  \"\")","v":""},{"$f":"_xlfn.IFNA(IF(VLOOKUP(B348,_!$A$7:$E$210,3,FALSE)=0, \"\", VLOOKUP(B348,_!$A$7:$E$210,3,FALSE)), \"\")","v":""},{"$f":"_xlfn.IFNA(IF(VLOOKUP(B348,_!$A$7:$E$210,4,FALSE)=0, \"\",VLOOKUP(B348,_!$A$7:$E$210,4,FALSE)), \"\")","v":""},{"$f":"_xlfn.IFNA(IF(VLOOKUP(B348,_!$A$7:$E$210,5,FALSE)=0,\"\",VLOOKUP(B348,_!$A$7:$E$210,5,FALSE)), \"\")","v":""}]
[3,null,{"$f":"_xlfn.IFNA(VLOOKUP(B349,_!$A$7:$F$210,6,FALSE),\"\")","v":""},{"$f":"IF(IF(MOD(ROWS(D$3:D349),20)=1,INDEX('Summary Sheet'!$B$17:$B440,INT(ROWS(D$3:D349)/20)+1),\"\")=0,\"\",IF(MOD(ROWS(D$3:D349),20)=1,INDEX('Summary Sheet'!$B$17:$B440,INT(ROWS(D$3:D349)/20)+1),\"\"))","v":""},{"$f":"_xlfn.IFNA(IF(VLOOKUP(B349,_!$A$7:$E$210,2,FALSE)=0, \"\", VLOOKUP(B349,_!$A$7:$E$210,2,FALSE)),  \"\")","v":""},{"$f":"_xlfn.IFNA(IF(VLOOKUP(B349,_!$A$7:$E$210,3,FALSE)=0, \"\", VLOOKUP(B349,_!$A$7:$E$210,3,FALSE)), \"\")","v":""},{"$f":"_xlfn.IFNA(IF(VLOOKUP(B349,_!$A$7:$E$210,4,FALSE)=0, \"\",VLOOKUP(B349,_!$A$7:$E$210,4,FALSE)), \"\")","v":""},{"$f":"_xlfn.IFNA(IF(VLOOKUP(B349,_!$A$7:$E$210,5,FALSE)=0,\"\",VLOOKUP(B349,_!$A$7:$E$210,5,FALSE)), \"\")","v":""}]
[4,null,{"$f":"_xlfn.IFNA(VLOOKUP(B350,_!$A$7:$F$210,6,FALSE),\"\")","v":""},{"$f":"IF(IF(MOD(ROWS(D$3:D350),20)=1,INDEX('Summary Sheet'!$B$17:$B440,INT(ROWS(D$3:D350)/20)+1),\"\")=0,\"\",IF(MOD(ROWS(D$3:D350),20)=1,INDEX('Summary Sheet'!$B$17:$B440,INT(ROWS(D$3:D350)/20)+1),\"\"))","v":""},{"$f":"_xlfn.IFNA(IF(VLOOKUP(B350,_!$A$7:$E$210,2,FALSE)=0, \"\", VLOOKUP(B350,_!$A$7:$E$210,2,FALSE)),  \"\")","v":""},{"$f":"_xlfn.IFNA(IF(VLOOKUP(B350,_!$A$7:$E$210,3,FALSE)=0, \"\", VLOOKUP(B350,_!$A$7:$E$210,3,FALSE)), \"\")","v":""},{"$f":"_xlfn.IFNA(IF(VLOOKUP(B350,_!$A$7:$E$210,4,FALSE)=0, \"\",VLOOKUP(B350,_!$A$7:$E$210,4,FALSE)), \"\")","v":""},{"$f":"_xlfn.IFNA(IF(VLOOKUP(B350,_!$A$7:$E$210,5,FALSE)=0,\"\",VLOOKUP(B350,_!$A$7:$E$210,5,FALSE)), \"\")","v":""}]
[5,null,{"$f":"_xlfn.IFNA(VLOOKUP(B351,_!$A$7:$F$210,6,FALSE),\"\")","v":""},{"$f":"IF(IF(MOD(ROWS(D$3:D351),20)=1,INDEX('Summary Sheet'!$B$17:$B440,INT(ROWS(D$3:D351)/20)+1),\"\")=0,\"\",IF(MOD(ROWS(D$3:D351),20)=1,INDEX('Summary Sheet'!$B$17:$B440,INT(ROWS(D$3:D351)/20)+1),\"\"))","v":""},{"$f":"_xlfn.IFNA(IF(VLOOKUP(B351,_!$A$7:$E$210,2,FALSE)=0, \"\", VLOOKUP(B351,_!$A$7:$E$210,2,FALSE)),  \"\")","v":""},{"$f":"_xlfn.IFNA(IF(VLOOKUP(B351,_!$A$7:$E$210,3,FALSE)=0, \"\", VLOOKUP(B351,_!$A$7:$E$210,3,FALSE)), \"\")","v":""},{"$f":"_xlfn.IFNA(IF(VLOOKUP(B351,_!$A$7:$E$210,4,FALSE)=0, \"\",VLOOKUP(B351,_!$A$7:$E$210,4,FALSE)), \"\")","v":""},{"$f":"_xlfn.IFNA(IF(VLOOKUP(B351,_!$A$7:$E$210,5,FALSE)=0,\"\",VLOOKUP(B351,_!$A$7:$E$210,5,FALSE)), \"\")","v":""}]
[6,null,{"$f":"_xlfn.IFNA(VLOOKUP(B352,_!$A$7:$F$210,6,FALSE),\"\")","v":""},{"$f":"IF(IF(MOD(ROWS(D$3:D352),20)=1,INDEX('Summary Sheet'!$B$17:$B440,INT(ROWS(D$3:D352)/20)+1),\"\")=0,\"\",IF(MOD(ROWS(D$3:D352),20)=1,INDEX('Summary Sheet'!$B$17:$B440,INT(ROWS(D$3:D352)/20)+1),\"\"))","v":""},{"$f":"_xlfn.IFNA(IF(VLOOKUP(B352,_!$A$7:$E$210,2,FALSE)=0, \"\", VLOOKUP(B352,_!$A$7:$E$210,2,FALSE)),  \"\")","v":""},{"$f":"_xlfn.IFNA(IF(VLOOKUP(B352,_!$A$7:$E$210,3,FALSE)=0, \"\", VLOOKUP(B352,_!$A$7:$E$210,3,FALSE)), \"\")","v":""},{"$f":"_xlfn.IFNA(IF(VLOOKUP(B352,_!$A$7:$E$210,4,FALSE)=0, \"\",VLOOKUP(B352,_!$A$7:$E$210,4,FALSE)), \"\")","v":""},{"$f":"_xlfn.IFNA(IF(VLOOKUP(B352,_!$A$7:$E$210,5,FALSE)=0,\"\",VLOOKUP(B352,_!$A$7:$E$210,5,FALSE)), \"\")","v":""}]
[7,null,{"$f":"_xlfn.IFNA(VLOOKUP(B353,_!$A$7:$F$210,6,FALSE),\"\")","v":""},{"$f":"IF(IF(MOD(ROWS(D$3:D353),20)=1,INDEX('Summary Sheet'!$B$17:$B440,INT(ROWS(D$3:D353)/20)+1),\"\")=0,\"\",IF(MOD(ROWS(D$3:D353),20)=1,INDEX('Summary Sheet'!$B$17:$B440,INT(ROWS(D$3:D353)/20)+1),\"\"))","v":""},{"$f":"_xlfn.IFNA(IF(VLOOKUP(B353,_!$A$7:$E$210,2,FALSE)=0, \"\", VLOOKUP(B353,_!$A$7:$E$210,2,FALSE)),  \"\")","v":""},{"$f":"_xlfn.IFNA(IF(VLOOKUP(B353,_!$A$7:$E$210,3,FALSE)=0, \"\", VLOOKUP(B353,_!$A$7:$E$210,3,FALSE)), \"\")","v":""},{"$f":"_xlfn.IFNA(IF(VLOOKUP(B353,_!$A$7:$E$210,4,FALSE)=0, \"\",VLOOKUP(B353,_!$A$7:$E$210,4,FALSE)), \"\")","v":""},{"$f":"_xlfn.IFNA(IF(VLOOKUP(B353,_!$A$7:$E$210,5,FALSE)=0,\"\",VLOOKUP(B353,_!$A$7:$E$210,5,FALSE)), \"\")","v":""}]
[8,null,{"$f":"_xlfn.IFNA(VLOOKUP(B354,_!$A$7:$F$210,6,FALSE),\"\")","v":""},{"$f":"IF(IF(MOD(ROWS(D$3:D354),20)=1,INDEX('Summary Sheet'!$B$17:$B440,INT(ROWS(D$3:D354)/20)+1),\"\")=0,\"\",IF(MOD(ROWS(D$3:D354),20)=1,INDEX('Summary Sheet'!$B$17:$B440,INT(ROWS(D$3:D354)/20)+1),\"\"))","v":""},{"$f":"_xlfn.IFNA(IF(VLOOKUP(B354,_!$A$7:$E$210,2,FALSE)=0, \"\", VLOOKUP(B354,_!$A$7:$E$210,2,FALSE)),  \"\")","v":""},{"$f":"_xlfn.IFNA(IF(VLOOKUP(B354,_!$A$7:$E$210,3,FALSE)=0, \"\", VLOOKUP(B354,_!$A$7:$E$210,3,FALSE)), \"\")","v":""},{"$f":"_xlfn.IFNA(IF(VLOOKUP(B354,_!$A$7:$E$210,4,FALSE)=0, \"\",VLOOKUP(B354,_!$A$7:$E$210,4,FALSE)), \"\")","v":""},{"$f":"_xlfn.IFNA(IF(VLOOKUP(B354,_!$A$7:$E$210,5,FALSE)=0,\"\",VLOOKUP(B354,_!$A$7:$E$210,5,FALSE)), \"\")","v":""}]
[9,null,{"$f":"_xlfn.IFNA(VLOOKUP(B355,_!$A$7:$F$210,6,FALSE),\"\")","v":""},{"$f":"IF(IF(MOD(ROWS(D$3:D355),20)=1,INDEX('Summary Sheet'!$B$17:$B440,INT(ROWS(D$3:D355)/20)+1),\"\")=0,\"\",IF(MOD(ROWS(D$3:D355),20)=1,INDEX('Summary Sheet'!$B$17:$B440,INT(ROWS(D$3:D355)/20)+1),\"\"))","v":""},{"$f":"_xlfn.IFNA(IF(VLOOKUP(B355,_!$A$7:$E$210,2,FALSE)=0, \"\", VLOOKUP(B355,_!$A$7:$E$210,2,FALSE)),  \"\")","v":""},{"$f":"_xlfn.IFNA(IF(VLOOKUP(B355,_!$A$7:$E$210,3,FALSE)=0, \"\", VLOOKUP(B355,_!$A$7:$E$210,3,FALSE)), \"\")","v":""},{"$f":"_xlfn.IFNA(IF(VLOOKUP(B355,_!$A$7:$E$210,4,FALSE)=0, \"\",VLOOKUP(B355,_!$A$7:$E$210,4,FALSE)), \"\")","v":""},{"$f":"_xlfn.IFNA(IF(VLOOKUP(B355,_!$A$7:$E$210,5,FALSE)=0,\"\",VLOOKUP(B355,_!$A$7:$E$210,5,FALSE)), \"\")","v":""}]
[10,null,{"$f":"_xlfn.IFNA(VLOOKUP(B356,_!$A$7:$F$210,6,FALSE),\"\")","v":""},{"$f":"IF(IF(MOD(ROWS(D$14:D356),20)=1,INDEX('Summary Sheet'!$B$17:$B440,INT(ROWS(D$14:D356)/20)+1),\"\")=0,\"\",IF(MOD(ROWS(D$14:D356),20)=1,INDEX('Summary Sheet'!$B$17:$B440,INT(ROWS(D$14:D356)/20)+1),\"\"))","v":""},{"$f":"_xlfn.IFNA(IF(VLOOKUP(B356,_!$A$7:$E$210,2,FALSE)=0, \"\", VLOOKUP(B356,_!$A$7:$E$210,2,FALSE)),  \"\")","v":""},{"$f":"_xlfn.IFNA(IF(VLOOKUP(B356,_!$A$7:$E$210,3,FALSE)=0, \"\", VLOOKUP(B356,_!$A$7:$E$210,3,FALSE)), \"\")","v":""},{"$f":"_xlfn.IFNA(IF(VLOOKUP(B356,_!$A$7:$E$210,4,FALSE)=0, \"\",VLOOKUP(B356,_!$A$7:$E$210,4,FALSE)), \"\")","v":""},{"$f":"_xlfn.IFNA(IF(VLOOKUP(B356,_!$A$7:$E$210,5,FALSE)=0,\"\",VLOOKUP(B356,_!$A$7:$E$210,5,FALSE)), \"\")","v":""}]
[null,"\nHighest hazard level for each ‘Uptake Route’\n",null,null,{"$f":"_xlfn.IFNA(IF((INDEX(E347:E356,MATCH(\"E\",E347:E356,0)))=\"E\",\"E\",\"\"),_xlfn.IFNA(IF((INDEX(E347:E356,MATCH(\"D\",E347:E356,0)))=\"D\",\"D\",\"\"),_xlfn.IFNA(IF((INDEX(E347:E356,MATCH(\"Ca\",E347:E356,0)))=\"Ca\",\"C\",\"\"),_xlfn.IFNA(IF((INDEX(E347:E356,MATCH(\"C\",E347:E356,0)))=\"C\",\"C\",\"\"),_xlfn.IFNA(IF((INDEX(E347:E356,MATCH(\"B\",E347:E356,0)))=\"B\",\"B\",\"\"),_xlfn.IFNA(IF((INDEX(E347:E356,MATCH(\"A\",E347:E356,0)))=\"A\",\"A\",\"\"),_xlfn.IFNA(IF((INDEX(E347:E356,MATCH(\"n.a.\",E347:E356,0)))=\"n.a.\",\"\",\"\"),_xlfn.IFNA(IF((INDEX(E347:E356,MATCH(\"\",E347:E356,0)))=\"\",\"\",\"\"),\"\"))))))))","v":""},{"$f":"_xlfn.IFNA(IF((INDEX(F347:F356,MATCH(\"E\",F347:F356,0)))=\"E\",\"E\",\"\"),_xlfn.IFNA(IF((INDEX(F347:F356,MATCH(\"D (E)c\",F347:F356,0)))=\"D (E)c\",\"D (E)c\",\"\"),_xlfn.IFNA(IF((INDEX(F347:F356,MATCH(\"Da (E)c\",F347:F356,0)))=\"Da (E)c\",\"D (E)c\",\"\"),_xlfn.IFNA(IF((INDEX(F347:F356,MATCH(\"D\",F347:F356,0)))=\"D\",\"D\",\"\"),_xlfn.IFNA(IF((INDEX(F347:F356,MATCH(\"Ca\",F347:F356,0)))=\"Ca\",\"C\",\"\"),_xlfn.IFNA(IF((INDEX(F347:F356,MATCH(\"C\",F347:F356,0)))=\"C\",\"C\",\"\"),_xlfn.IFNA(IF((INDEX(F347:F356,MATCH(\"Ba\",F347:F356,0)))=\"Ba\",\"B\",\"\"),_xlfn.IFNA(IF((INDEX(F347:F356,MATCH(\"B\",F347:F356,0)))=\"B\",\"B\",\"\"),_xlfn.IFNA(IF((INDEX(F347:F356,MATCH(\"Aa\",F347:F356,0)))=\"Aa\",\"A\",\"\"),_xlfn.IFNA(IF((INDEX(F347:F356,MATCH(\"A\",F347:F356,0)))=\"A\",\"A\",\"\"),_xlfn.IFNA(IF((INDEX(F347:F356,MATCH(\"n.a.\",F347:F356,0)))=\"n.a.\",\"\",\"\"),_xlfn.IFNA(IF((INDEX(F347:F356,MATCH(\"\",F347:F356,0)))=\"\",\"\",\"\"),\"\"))))))))))))","v":""},{"$f":"_xlfn.IFNA(IF((INDEX(G347:G356,MATCH(\"E\",G347:G356,0)))=\"E\",\"E\",\"\"),_xlfn.IFNA(IF((INDEX(G347:G356,MATCH(\"D\",G347:G356,0)))=\"D\",\"D\",\"\"),_xlfn.IFNA(IF((INDEX(G347:G356,MATCH(\"Ca\",G347:G356,0)))=\"Ca\",\"C\",\"\"),_xlfn.IFNA(IF((INDEX(G347:G356,MATCH(\"C\",G347:G356,0)))=\"C\",\"C\",\"\"),_xlfn.IFNA(IF((INDEX(G347:G356,MATCH(\"B\",G347:G356,0)))=\"B\",\"B\",\"\"),_xlfn.IFNA(IF((INDEX(G347:G356,MATCH(\"A\",G347:G356,0)))=\"A\",\"A\",\"\"),_xlfn.IFNA(IF((INDEX(G347:G356,MATCH(\"n.a.\",G347:G356,0)))=\"n.a.\",\"\",\"\"),_xlfn.IFNA(IF((INDEX(G347:G356,MATCH(\"\",G347:G356,0)))=\"\",\"\",\"\"),\"\"))))))))","v":""},{"$f":"_xlfn.IFNA(IF((INDEX(H347:H356,MATCH(\"E\",H347:H356,0)))=\"E\",\"E\",\"\"),_xlfn.IFNA(IF((INDEX(H347:H356,MATCH(\"D (E)c\",H347:H356,0)))=\"D (E)c\",\"D (E)c\",\"\"),_xlfn.IFNA(IF((INDEX(H347:H356,MATCH(\"Db (E)c\",H347:H356,0)))=\"Db (E)c\",\"D (E)c\",\"\"),_xlfn.IFNA(IF((INDEX(H347:H356,MATCH(\"D\",H347:H356,0)))=\"D\",\"D\",\"\"),_xlfn.IFNA(IF((INDEX(H347:H356,MATCH(\"Cb\",H347:H356,0)))=\"Cb\",\"C\",\"\"),_xlfn.IFNA(IF((INDEX(H347:H356,MATCH(\"C\",H347:H356,0)))=\"C\",\"C\",\"\"),_xlfn.IFNA(IF((INDEX(H347:H356,MATCH(\"Bb\",H347:H356,0)))=\"Bb\",\"B\",\"\"),_xlfn.IFNA(IF((INDEX(H347:H356,MATCH(\"B\",H347:H356,0)))=\"B\",\"B\",\"\"),_xlfn.IFNA(IF((INDEX(H347:H356,MATCH(\"Ab\",H347:H356,0)))=\"Ab\",\"A\",\"\"),_xlfn.IFNA(IF((INDEX(H347:H356,MATCH(\"A\",H347:H356,0)))=\"A\",\"A\",\"\"),_xlfn.IFNA(IF((INDEX(H347:H356,MATCH(\"n.a.\",H347:H356,0)))=\"n.a.\",\"\",\"\"),_xlfn.IFNA(IF((INDEX(H347:H356,MATCH(\"\",H347:H356,0)))=\"\",\"\",\"\"),\"\"))))))))))))","v":""}]
[null,"\nHighest hazard level for all 'Uptake Routes' \n",null,null,{"$f":"_xlfn.IFNA(IF((INDEX(E357:H357,MATCH(\"E\",E357:H357,0)))=\"E\",\"E\",\"\"),_xlfn.IFNA(IF((INDEX(E357:H357,MATCH(\"D (E)c\",E357:H357,0)))=\"D (E)c\",\"D (E)\",\"\"),_xlfn.IFNA(IF((INDEX(E357:H357,MATCH(\"D\",E357:H357,0)))=\"D\",\"D\",\"\"),_xlfn.IFNA(IF((INDEX(E357:H357,MATCH(\"C\",E357:H357,0)))=\"C\",\"C\",\"\"),_xlfn.IFNA(IF((INDEX(E357:H357,MATCH(\"B\",E357:H357,0)))=\"B\",\"B\",\"\"),_xlfn.IFNA(IF((INDEX(E357:H357,MATCH(\"A\",E357:H357,0)))=\"A\",\"A\",\"\"),_xlfn.IFNA(IF((INDEX(E357:H357,MATCH(\"n.a.\",E357:H357,0)))=\"n.a.\",\"\",\"\"),_xlfn.IFNA(IF((INDEX(E357:H357,MATCH(\"\",E357:H357,0)))=\"\",\"\",\"\"),\"\"))))))))","v":""}]
[]
[]
[null,"\nStep 3: D(E) Assessment\nSkip this step if \nyour assessment above does not reveal a D(E) hazard level.\nHover over this cell for additional instructions.\n",null,null,"\nOverall hazard level\n",null,{"$f":"IF(AND(E358=\"\",C344=\"Yes\")=TRUE,\"B\",IF(E358=\"\",\"\",(IF(AND(E358=\"D (E)\",C361=\"\"),\"D (E)\"&CHAR(10)&\"Find if cat. 1 acute tox.\",(IF(E358<>\"D (E)\",E358,(IF(AND(E358=\"D (E)\",C361=\"Yes\"),\"E\",(IF(AND(E358=\"D (E)\",C361=\"No\"),\"D\",\"\"))))))))))","v":""}]
[]
[{"$f":"IF(IF(MOD(ROWS(B$3:B363),20)=1,INDEX('Summary Sheet'!$A$17:$A459,INT(ROWS(B$3:B363)/20)+1),\"\")=0,\"\",IF(MOD(ROWS(B$3:B363),20)=1,INDEX('Summary Sheet'!$A$17:$A459,INT(ROWS(B$3:B363)/20)+1),\"\"))","v":19},"Hazard Level Assessment","for",{"$f":"IF(IF(MOD(ROWS(D$3:D363),20)=1,INDEX('Summary Sheet'!$B$17:$B459,INT(ROWS(D$3:D363)/20)+1),\"\")=0,\"\",IF(MOD(ROWS(D$3:D363),20)=1,INDEX('Summary Sheet'!$B$17:$B459,INT(ROWS(D$3:D363)/20)+1),\"\"))","v":""}]
[null,"\nStep 1: Physical & Environmental Hazard Statements/Codes\nFind Section 2 of the SDS and determine if the SDS has physical and/or environmental hazard statements/codes. Hover on this cell for additional instructions.\n",null,{"$f":"IF(IF(MOD(ROWS(D$3:D364),20)=1,INDEX('Summary Sheet'!$B$17:$B459,INT(ROWS(D$3:D364)/20)+1),\"\")=0,\"\",IF(MOD(ROWS(D$3:D364),20)=1,INDEX('Summary Sheet'!$B$17:$B459,INT(ROWS(D$3:D364)/20)+1),\"\"))","v":""}]
[null,"Step 2: Health Hazard Statements/Codes\nProvide the Health Hazard Statements or Codes from Section 2 of the SDS below. Hover on this cell for additional instructions.",null,{"$f":"IF(IF(MOD(ROWS(D$3:D365),20)=1,INDEX('Summary Sheet'!$B$17:$B459,INT(ROWS(D$3:D365)/20)+1),\"\")=0,\"\",IF(MOD(ROWS(D$3:D365),20)=1,INDEX('Summary Sheet'!$B$17:$B459,INT(ROWS(D$3:D365)/20)+1),\"\"))","v":""},"\nHazard Level\n"]
[null,null,null,{"$f":"IF(IF(MOD(ROWS(D$3:D366),20)=1,INDEX('Summary Sheet'!$B$17:$B459,INT(ROWS(D$3:D366)/20)+1),\"\")=0,\"\",IF(MOD(ROWS(D$3:D366),20)=1,INDEX('Summary Sheet'!$B$17:$B459,INT(ROWS(D$3:D366)/20)+1),\"\"))","v":""},"\nEye Damage\n","\nInhalation\n","\nLocal Skin Damage\n","\nSkin uptake, systemic\n"]
[1,null,{"$f":"_xlfn.IFNA(VLOOKUP(B367,_!$A$7:$F$210,6,FALSE),\"\")","v":""},{"$f":"IF(IF(MOD(ROWS(D$3:D367),20)=1,INDEX('Summary Sheet'!$B$17:$B459,INT(ROWS(D$3:D367)/20)+1),\"\")=0,\"\",IF(MOD(ROWS(D$3:D367),20)=1,INDEX('Summary Sheet'!$B$17:$B459,INT(ROWS(D$3:D367)/20)+1),\"\"))","v":""},{"$f":"_xlfn.IFNA(IF(VLOOKUP(B367,_!$A$7:$E$210,2,FALSE)=0, \"\", VLOOKUP(B367,_!$A$7:$E$210,2,FALSE)),  \"\")","v":""},{"$f":"_xlfn.IFNA(IF(VLOOKUP(B367,_!$A$7:$E$210,3,FALSE)=0, \"\", VLOOKUP(B367,_!$A$7:$E$210,3,FALSE)), \"\")","v":""},{"$f":"_xlfn.IFNA(IF(VLOOKUP(B367,_!$A$7:$E$210,4,FALSE)=0, \"\",VLOOKUP(B367,_!$A$7:$E$210,4,FALSE)), \"\")","v":""},{"$f":"_xlfn.IFNA(IF(VLOOKUP(B367,_!$A$7:$E$210,5,FALSE)=0,\"\",VLOOKUP(B367,_!$A$7:$E$210,5,FALSE)), \"\")","v":""}]
[2,null,{"$f":"_xlfn.IFNA(VLOOKUP(B368,_!$A$7:$F$210,6,FALSE),\"\")","v":""},{"$f":"IF(IF(MOD(ROWS(D$3:D368),20)=1,INDEX('Summary Sheet'!$B$17:$B459,INT(ROWS(D$3:D368)/20)+1),\"\")=0,\"\",IF(MOD(ROWS(D$3:D368),20)=1,INDEX('Summary Sheet'!$B$17:$B459,INT(ROWS(D$3:D368)/20)+1),\"\"))","v":""},{"$f":"_xlfn.IFNA(IF(VLOOKUP(B368,_!$A$7:$E$210,2,FALSE)=0, \"\", VLOOKUP(B368,_!$A$7:$E$210,2,FALSE)),  \"\")","v":""},{"$f":"_xlfn.IFNA(IF(VLOOKUP(B368,_!$A$7:$E$210,3,FALSE)=0, \"\", VLOOKUP(B368,_!$A$7:$E$210,3,FALSE)), \"\")","v":""},{"$f":"_xlfn.IFNA(IF(VLOOKUP(B368,_!$A$7:$E$210,4,FALSE)=0, \"\",VLOOKUP(B368,_!$A$7:$E$210,4,FALSE)), \"\")","v":""},{"$f":"_xlfn.IFNA(IF(VLOOKUP(B368,_!$A$7:$E$210,5,FALSE)=0,\"\",VLOOKUP(B368,_!$A$7:$E$210,5,FALSE)), \"\")","v":""}]
[3,null,{"$f":"_xlfn.IFNA(VLOOKUP(B369,_!$A$7:$F$210,6,FALSE),\"\")","v":""},{"$f":"IF(IF(MOD(ROWS(D$3:D369),20)=1,INDEX('Summary Sheet'!$B$17:$B459,INT(ROWS(D$3:D369)/20)+1),\"\")=0,\"\",IF(MOD(ROWS(D$3:D369),20)=1,INDEX('Summary Sheet'!$B$17:$B459,INT(ROWS(D$3:D369)/20)+1),\"\"))","v":""},{"$f":"_xlfn.IFNA(IF(VLOOKUP(B369,_!$A$7:$E$210,2,FALSE)=0, \"\", VLOOKUP(B369,_!$A$7:$E$210,2,FALSE)),  \"\")","v":""},{"$f":"_xlfn.IFNA(IF(VLOOKUP(B369,_!$A$7:$E$210,3,FALSE)=0, \"\", VLOOKUP(B369,_!$A$7:$E$210,3,FALSE)), \"\")","v":""},{"$f":"_xlfn.IFNA(IF(VLOOKUP(B369,_!$A$7:$E$210,4,FALSE)=0, \"\",VLOOKUP(B369,_!$A$7:$E$210,4,FALSE)), \"\")","v":""},{"$f":"_xlfn.IFNA(IF(VLOOKUP(B369,_!$A$7:$E$210,5,FALSE)=0,\"\",VLOOKUP(B369,_!$A$7:$E$210,5,FALSE)), \"\")","v":""}]
[4,null,{"$f":"_xlfn.IFNA(VLOOKUP(B370,_!$A$7:$F$210,6,FALSE),\"\")","v":""},{"$f":"IF(IF(MOD(ROWS(D$3:D370),20)=1,INDEX('Summary Sheet'!$B$17:$B459,INT(ROWS(D$3:D370)/20)+1),\"\")=0,\"\",IF(MOD(ROWS(D$3:D370),20)=1,INDEX('Summary Sheet'!$B$17:$B459,INT(ROWS(D$3:D370)/20)+1),\"\"))","v":""},{"$f":"_xlfn.IFNA(IF(VLOOKUP(B370,_!$A$7:$E$210,2,FALSE)=0, \"\", VLOOKUP(B370,_!$A$7:$E$210,2,FALSE)),  \"\")","v":""},{"$f":"_xlfn.IFNA(IF(VLOOKUP(B370,_!$A$7:$E$210,3,FALSE)=0, \"\", VLOOKUP(B370,_!$A$7:$E$210,3,FALSE)), \"\")","v":""},{"$f":"_xlfn.IFNA(IF(VLOOKUP(B370,_!$A$7:$E$210,4,FALSE)=0, \"\",VLOOKUP(B370,_!$A$7:$E$210,4,FALSE)), \"\")","v":""},{"$f":"_xlfn.IFNA(IF(VLOOKUP(B370,_!$A$7:$E$210,5,FALSE)=0,\"\",VLOOKUP(B370,_!$A$7:$E$210,5,FALSE)), \"\")","v":""}]
[5,null,{"$f":"_xlfn.IFNA(VLOOKUP(B371,_!$A$7:$F$210,6,FALSE),\"\")","v":""},{"$f":"IF(IF(MOD(ROWS(D$3:D371),20)=1,INDEX('Summary Sheet'!$B$17:$B459,INT(ROWS(D$3:D371)/20)+1),\"\")=0,\"\",IF(MOD(ROWS(D$3:D371),20)=1,INDEX('Summary Sheet'!$B$17:$B459,INT(ROWS(D$3:D371)/20)+1),\"\"))","v":""},{"$f":"_xlfn.IFNA(IF(VLOOKUP(B371,_!$A$7:$E$210,2,FALSE)=0, \"\", VLOOKUP(B371,_!$A$7:$E$210,2,FALSE)),  \"\")","v":""},{"$f":"_xlfn.IFNA(IF(VLOOKUP(B371,_!$A$7:$E$210,3,FALSE)=0, \"\", VLOOKUP(B371,_!$A$7:$E$210,3,FALSE)), \"\")","v":""},{"$f":"_xlfn.IFNA(IF(VLOOKUP(B371,_!$A$7:$E$210,4,FALSE)=0, \"\",VLOOKUP(B371,_!$A$7:$E$210,4,FALSE)), \"\")","v":""},{"$f":"_xlfn.IFNA(IF(VLOOKUP(B371,_!$A$7:$E$210,5,FALSE)=0,\"\",VLOOKUP(B371,_!$A$7:$E$210,5,FALSE)), \"\")","v":""}]
[6,null,{"$f":"_xlfn.IFNA(VLOOKUP(B372,_!$A$7:$F$210,6,FALSE),\"\")","v":""},{"$f":"IF(IF(MOD(ROWS(D$3:D372),20)=1,INDEX('Summary Sheet'!$B$17:$B459,INT(ROWS(D$3:D372)/20)+1),\"\")=0,\"\",IF(MOD(ROWS(D$3:D372),20)=1,INDEX('Summary Sheet'!$B$17:$B459,INT(ROWS(D$3:D372)/20)+1),\"\"))","v":""},{"$f":"_xlfn.IFNA(IF(VLOOKUP(B372,_!$A$7:$E$210,2,FALSE)=0, \"\", VLOOKUP(B372,_!$A$7:$E$210,2,FALSE)),  \"\")","v":""},{"$f":"_xlfn.IFNA(IF(VLOOKUP(B372,_!$A$7:$E$210,3,FALSE)=0, \"\", VLOOKUP(B372,_!$A$7:$E$210,3,FALSE)), \"\")","v":""},{"$f":"_xlfn.IFNA(IF(VLOOKUP(B372,_!$A$7:$E$210,4,FALSE)=0, \"\",VLOOKUP(B372,_!$A$7:$E$210,4,FALSE)), \"\")","v":""},{"$f":"_xlfn.IFNA(IF(VLOOKUP(B372,_!$A$7:$E$210,5,FALSE)=0,\"\",VLOOKUP(B372,_!$A$7:$E$210,5,FALSE)), \"\")","v":""}]
[7,null,{"$f":"_xlfn.IFNA(VLOOKUP(B373,_!$A$7:$F$210,6,FALSE),\"\")","v":""},{"$f":"IF(IF(MOD(ROWS(D$3:D373),20)=1,INDEX('Summary Sheet'!$B$17:$B459,INT(ROWS(D$3:D373)/20)+1),\"\")=0,\"\",IF(MOD(ROWS(D$3:D373),20)=1,INDEX('Summary Sheet'!$B$17:$B459,INT(ROWS(D$3:D373)/20)+1),\"\"))","v":""},{"$f":"_xlfn.IFNA(IF(VLOOKUP(B373,_!$A$7:$E$210,2,FALSE)=0, \"\", VLOOKUP(B373,_!$A$7:$E$210,2,FALSE)),  \"\")","v":""},{"$f":"_xlfn.IFNA(IF(VLOOKUP(B373,_!$A$7:$E$210,3,FALSE)=0, \"\", VLOOKUP(B373,_!$A$7:$E$210,3,FALSE)), \"\")","v":""},{"$f":"_xlfn.IFNA(IF(VLOOKUP(B373,_!$A$7:$E$210,4,FALSE)=0, \"\",VLOOKUP(B373,_!$A$7:$E$210,4,FALSE)), \"\")","v":""},{"$f":"_xlfn.IFNA(IF(VLOOKUP(B373,_!$A$7:$E$210,5,FALSE)=0,\"\",VLOOKUP(B373,_!$A$7:$E$210,5,FALSE)), \"\")","v":""}]
[8,null,{"$f":"_xlfn.IFNA(VLOOKUP(B374,_!$A$7:$F$210,6,FALSE),\"\")","v":""},{"$f":"IF(IF(MOD(ROWS(D$3:D374),20)=1,INDEX('Summary Sheet'!$B$17:$B459,INT(ROWS(D$3:D374)/20)+1),\"\")=0,\"\",IF(MOD(ROWS(D$3:D374),20)=1,INDEX('Summary Sheet'!$B$17:$B459,INT(ROWS(D$3:D374)/20)+1),\"\"))","v":""},{"$f":"_xlfn.IFNA(IF(VLOOKUP(B374,_!$A$7:$E$210,2,FALSE)=0, \"\", VLOOKUP(B374,_!$A$7:$E$210,2,FALSE)),  \"\")","v":""},{"$f":"_xlfn.IFNA(IF(VLOOKUP(B374,_!$A$7:$E$210,3,FALSE)=0, \"\", VLOOKUP(B374,_!$A$7:$E$210,3,FALSE)), \"\")","v":""},{"$f":"_xlfn.IFNA(IF(VLOOKUP(B374,_!$A$7:$E$210,4,FALSE)=0, \"\",VLOOKUP(B374,_!$A$7:$E$210,4,FALSE)), \"\")","v":""},{"$f":"_xlfn.IFNA(IF(VLOOKUP(B374,_!$A$7:$E$210,5,FALSE)=0,\"\",VLOOKUP(B374,_!$A$7:$E$210,5,FALSE)), \"\")","v":""}]
[9,null,{"$f":"_xlfn.IFNA(VLOOKUP(B375,_!$A$7:$F$210,6,FALSE),\"\")","v":""},{"$f":"IF(IF(MOD(ROWS(D$3:D375),20)=1,INDEX('Summary Sheet'!$B$17:$B459,INT(ROWS(D$3:D375)/20)+1),\"\")=0,\"\",IF(MOD(ROWS(D$3:D375),20)=1,INDEX('Summary Sheet'!$B$17:$B459,INT(ROWS(D$3:D375)/20)+1),\"\"))","v":""},{"$f":"_xlfn.IFNA(IF(VLOOKUP(B375,_!$A$7:$E$210,2,FALSE)=0, \"\", VLOOKUP(B375,_!$A$7:$E$210,2,FALSE)),  \"\")","v":""},{"$f":"_xlfn.IFNA(IF(VLOOKUP(B375,_!$A$7:$E$210,3,FALSE)=0, \"\", VLOOKUP(B375,_!$A$7:$E$210,3,FALSE)), \"\")","v":""},{"$f":"_xlfn.IFNA(IF(VLOOKUP(B375,_!$A$7:$E$210,4,FALSE)=0, \"\",VLOOKUP(B375,_!$A$7:$E$210,4,FALSE)), \"\")","v":""},{"$f":"_xlfn.IFNA(IF(VLOOKUP(B375,_!$A$7:$E$210,5,FALSE)=0,\"\",VLOOKUP(B375,_!$A$7:$E$210,5,FALSE)), \"\")","v":""}]
[10,null,{"$f":"_xlfn.IFNA(VLOOKUP(B376,_!$A$7:$F$210,6,FALSE),\"\")","v":""},{"$f":"IF(IF(MOD(ROWS(D$14:D376),20)=1,INDEX('Summary Sheet'!$B$17:$B459,INT(ROWS(D$14:D376)/20)+1),\"\")=0,\"\",IF(MOD(ROWS(D$14:D376),20)=1,INDEX('Summary Sheet'!$B$17:$B459,INT(ROWS(D$14:D376)/20)+1),\"\"))","v":""},{"$f":"_xlfn.IFNA(IF(VLOOKUP(B376,_!$A$7:$E$210,2,FALSE)=0, \"\", VLOOKUP(B376,_!$A$7:$E$210,2,FALSE)),  \"\")","v":""},{"$f":"_xlfn.IFNA(IF(VLOOKUP(B376,_!$A$7:$E$210,3,FALSE)=0, \"\", VLOOKUP(B376,_!$A$7:$E$210,3,FALSE)), \"\")","v":""},{"$f":"_xlfn.IFNA(IF(VLOOKUP(B376,_!$A$7:$E$210,4,FALSE)=0, \"\",VLOOKUP(B376,_!$A$7:$E$210,4,FALSE)), \"\")","v":""},{"$f":"_xlfn.IFNA(IF(VLOOKUP(B376,_!$A$7:$E$210,5,FALSE)=0,\"\",VLOOKUP(B376,_!$A$7:$E$210,5,FALSE)), \"\")","v":""}]
[null,"\nHighest hazard level for each ‘Uptake Route’\n",null,null,{"$f":"_xlfn.IFNA(IF((INDEX(E367:E376,MATCH(\"E\",E367:E376,0)))=\"E\",\"E\",\"\"),_xlfn.IFNA(IF((INDEX(E367:E376,MATCH(\"D\",E367:E376,0)))=\"D\",\"D\",\"\"),_xlfn.IFNA(IF((INDEX(E367:E376,MATCH(\"Ca\",E367:E376,0)))=\"Ca\",\"C\",\"\"),_xlfn.IFNA(IF((INDEX(E367:E376,MATCH(\"C\",E367:E376,0)))=\"C\",\"C\",\"\"),_xlfn.IFNA(IF((INDEX(E367:E376,MATCH(\"B\",E367:E376,0)))=\"B\",\"B\",\"\"),_xlfn.IFNA(IF((INDEX(E367:E376,MATCH(\"A\",E367:E376,0)))=\"A\",\"A\",\"\"),_xlfn.IFNA(IF((INDEX(E367:E376,MATCH(\"n.a.\",E367:E376,0)))=\"n.a.\",\"\",\"\"),_xlfn.IFNA(IF((INDEX(E367:E376,MATCH(\"\",E367:E376,0)))=\"\",\"\",\"\"),\"\"))))))))","v":""},{"$f":"_xlfn.IFNA(IF((INDEX(F367:F376,MATCH(\"E\",F367:F376,0)))=\"E\",\"E\",\"\"),_xlfn.IFNA(IF((INDEX(F367:F376,MATCH(\"D (E)c\",F367:F376,0)))=\"D (E)c\",\"D (E)c\",\"\"),_xlfn.IFNA(IF((INDEX(F367:F376,MATCH(\"Da (E)c\",F367:F376,0)))=\"Da (E)c\",\"D (E)c\",\"\"),_xlfn.IFNA(IF((INDEX(F367:F376,MATCH(\"D\",F367:F376,0)))=\"D\",\"D\",\"\"),_xlfn.IFNA(IF((INDEX(F367:F376,MATCH(\"Ca\",F367:F376,0)))=\"Ca\",\"C\",\"\"),_xlfn.IFNA(IF((INDEX(F367:F376,MATCH(\"C\",F367:F376,0)))=\"C\",\"C\",\"\"),_xlfn.IFNA(IF((INDEX(F367:F376,MATCH(\"Ba\",F367:F376,0)))=\"Ba\",\"B\",\"\"),_xlfn.IFNA(IF((INDEX(F367:F376,MATCH(\"B\",F367:F376,0)))=\"B\",\"B\",\"\"),_xlfn.IFNA(IF((INDEX(F367:F376,MATCH(\"Aa\",F367:F376,0)))=\"Aa\",\"A\",\"\"),_xlfn.IFNA(IF((INDEX(F367:F376,MATCH(\"A\",F367:F376,0)))=\"A\",\"A\",\"\"),_xlfn.IFNA(IF((INDEX(F367:F376,MATCH(\"n.a.\",F367:F376,0)))=\"n.a.\",\"\",\"\"),_xlfn.IFNA(IF((INDEX(F367:F376,MATCH(\"\",F367:F376,0)))=\"\",\"\",\"\"),\"\"))))))))))))","v":""},{"$f":"_xlfn.IFNA(IF((INDEX(G367:G376,MATCH(\"E\",G367:G376,0)))=\"E\",\"E\",\"\"),_xlfn.IFNA(IF((INDEX(G367:G376,MATCH(\"D\",G367:G376,0)))=\"D\",\"D\",\"\"),_xlfn.IFNA(IF((INDEX(G367:G376,MATCH(\"Ca\",G367:G376,0)))=\"Ca\",\"C\",\"\"),_xlfn.IFNA(IF((INDEX(G367:G376,MATCH(\"C\",G367:G376,0)))=\"C\",\"C\",\"\"),_xlfn.IFNA(IF((INDEX(G367:G376,MATCH(\"B\",G367:G376,0)))=\"B\",\"B\",\"\"),_xlfn.IFNA(IF((INDEX(G367:G376,MATCH(\"A\",G367:G376,0)))=\"A\",\"A\",\"\"),_xlfn.IFNA(IF((INDEX(G367:G376,MATCH(\"n.a.\",G367:G376,0)))=\"n.a.\",\"\",\"\"),_xlfn.IFNA(IF((INDEX(G367:G376,MATCH(\"\",G367:G376,0)))=\"\",\"\",\"\"),\"\"))))))))","v":""},{"$f":"_xlfn.IFNA(IF((INDEX(H367:H376,MATCH(\"E\",H367:H376,0)))=\"E\",\"E\",\"\"),_xlfn.IFNA(IF((INDEX(H367:H376,MATCH(\"D (E)c\",H367:H376,0)))=\"D (E)c\",\"D (E)c\",\"\"),_xlfn.IFNA(IF((INDEX(H367:H376,MATCH(\"Db (E)c\",H367:H376,0)))=\"Db (E)c\",\"D (E)c\",\"\"),_xlfn.IFNA(IF((INDEX(H367:H376,MATCH(\"D\",H367:H376,0)))=\"D\",\"D\",\"\"),_xlfn.IFNA(IF((INDEX(H367:H376,MATCH(\"Cb\",H367:H376,0)))=\"Cb\",\"C\",\"\"),_xlfn.IFNA(IF((INDEX(H367:H376,MATCH(\"C\",H367:H376,0)))=\"C\",\"C\",\"\"),_xlfn.IFNA(IF((INDEX(H367:H376,MATCH(\"Bb\",H367:H376,0)))=\"Bb\",\"B\",\"\"),_xlfn.IFNA(IF((INDEX(H367:H376,MATCH(\"B\",H367:H376,0)))=\"B\",\"B\",\"\"),_xlfn.IFNA(IF((INDEX(H367:H376,MATCH(\"Ab\",H367:H376,0)))=\"Ab\",\"A\",\"\"),_xlfn.IFNA(IF((INDEX(H367:H376,MATCH(\"A\",H367:H376,0)))=\"A\",\"A\",\"\"),_xlfn.IFNA(IF((INDEX(H367:H376,MATCH(\"n.a.\",H367:H376,0)))=\"n.a.\",\"\",\"\"),_xlfn.IFNA(IF((INDEX(H367:H376,MATCH(\"\",H367:H376,0)))=\"\",\"\",\"\"),\"\"))))))))))))","v":""}]
[null,"\nHighest hazard level for all 'Uptake Routes' \n",null,null,{"$f":"_xlfn.IFNA(IF((INDEX(E377:H377,MATCH(\"E\",E377:H377,0)))=\"E\",\"E\",\"\"),_xlfn.IFNA(IF((INDEX(E377:H377,MATCH(\"D (E)c\",E377:H377,0)))=\"D (E)c\",\"D (E)\",\"\"),_xlfn.IFNA(IF((INDEX(E377:H377,MATCH(\"D\",E377:H377,0)))=\"D\",\"D\",\"\"),_xlfn.IFNA(IF((INDEX(E377:H377,MATCH(\"C\",E377:H377,0)))=\"C\",\"C\",\"\"),_xlfn.IFNA(IF((INDEX(E377:H377,MATCH(\"B\",E377:H377,0)))=\"B\",\"B\",\"\"),_xlfn.IFNA(IF((INDEX(E377:H377,MATCH(\"A\",E377:H377,0)))=\"A\",\"A\",\"\"),_xlfn.IFNA(IF((INDEX(E377:H377,MATCH(\"n.a.\",E377:H377,0)))=\"n.a.\",\"\",\"\"),_xlfn.IFNA(IF((INDEX(E377:H377,MATCH(\"\",E377:H377,0)))=\"\",\"\",\"\"),\"\"))))))))","v":""}]
[]
[]
[null,"\nStep 3: D(E) Assessment\nSkip this step if \nyour assessment above does not reveal a D(E) hazard level.\nHover over this cell for additional instructions.\n",null,null,"\nOverall hazard level\n",null,{"$f":"IF(AND(E378=\"\",C364=\"Yes\")=TRUE,\"B\",IF(E378=\"\",\"\",(IF(AND(E378=\"D (E)\",C381=\"\"),\"D (E)\"&CHAR(10)&\"Find if cat. 1 acute tox.\",(IF(E378<>\"D (E)\",E378,(IF(AND(E378=\"D (E)\",C381=\"Yes\"),\"E\",(IF(AND(E378=\"D (E)\",C381=\"No\"),\"D\",\"\"))))))))))","v":""}]
[]
[{"$f":"IF(IF(MOD(ROWS(B$3:B383),20)=1,INDEX('Summary Sheet'!$A$17:$A478,INT(ROWS(B$3:B383)/20)+1),\"\")=0,\"\",IF(MOD(ROWS(B$3:B383),20)=1,INDEX('Summary Sheet'!$A$17:$A478,INT(ROWS(B$3:B383)/20)+1),\"\"))","v":20},"Hazard Level Assessment","for",{"$f":"IF(IF(MOD(ROWS(D$3:D383),20)=1,INDEX('Summary Sheet'!$B$17:$B478,INT(ROWS(D$3:D383)/20)+1),\"\")=0,\"\",IF(MOD(ROWS(D$3:D383),20)=1,INDEX('Summary Sheet'!$B$17:$B478,INT(ROWS(D$3:D383)/20)+1),\"\"))","v":""}]
[null,"\nStep 1: Physical & Environmental Hazard Statements/Codes\nFind Section 2 of the SDS and determine if the SDS has physical and/or environmental hazard statements/codes. Hover on this cell for additional instructions.\n",null,{"$f":"IF(IF(MOD(ROWS(D$3:D384),20)=1,INDEX('Summary Sheet'!$B$17:$B478,INT(ROWS(D$3:D384)/20)+1),\"\")=0,\"\",IF(MOD(ROWS(D$3:D384),20)=1,INDEX('Summary Sheet'!$B$17:$B478,INT(ROWS(D$3:D384)/20)+1),\"\"))","v":""}]
[null,"Step 2: Health Hazard Statements/Codes\nProvide the Health Hazard Statements or Codes from Section 2 of the SDS below. Hover on this cell for additional instructions.",null,{"$f":"IF(IF(MOD(ROWS(D$3:D385),20)=1,INDEX('Summary Sheet'!$B$17:$B478,INT(ROWS(D$3:D385)/20)+1),\"\")=0,\"\",IF(MOD(ROWS(D$3:D385),20)=1,INDEX('Summary Sheet'!$B$17:$B478,INT(ROWS(D$3:D385)/20)+1),\"\"))","v":""},"\nHazard Level\n"]
[null,null,null,{"$f":"IF(IF(MOD(ROWS(D$3:D386),20)=1,INDEX('Summary Sheet'!$B$17:$B478,INT(ROWS(D$3:D386)/20)+1),\"\")=0,\"\",IF(MOD(ROWS(D$3:D386),20)=1,INDEX('Summary Sheet'!$B$17:$B478,INT(ROWS(D$3:D386)/20)+1),\"\"))","v":""},"\nEye Damage\n","\nInhalation\n","\nLocal Skin Damage\n","\nSkin uptake, systemic\n"]
[1,null,{"$f":"_xlfn.IFNA(VLOOKUP(B387,_!$A$7:$F$210,6,FALSE),\"\")","v":""},{"$f":"IF(IF(MOD(ROWS(D$3:D387),20)=1,INDEX('Summary Sheet'!$B$17:$B478,INT(ROWS(D$3:D387)/20)+1),\"\")=0,\"\",IF(MOD(ROWS(D$3:D387),20)=1,INDEX('Summary Sheet'!$B$17:$B478,INT(ROWS(D$3:D387)/20)+1),\"\"))","v":""},{"$f":"_xlfn.IFNA(IF(VLOOKUP(B387,_!$A$7:$E$210,2,FALSE)=0, \"\", VLOOKUP(B387,_!$A$7:$E$210,2,FALSE)),  \"\")","v":""},{"$f":"_xlfn.IFNA(IF(VLOOKUP(B387,_!$A$7:$E$210,3,FALSE)=0, \"\", VLOOKUP(B387,_!$A$7:$E$210,3,FALSE)), \"\")","v":""},{"$f":"_xlfn.IFNA(IF(VLOOKUP(B387,_!$A$7:$E$210,4,FALSE)=0, \"\",VLOOKUP(B387,_!$A$7:$E$210,4,FALSE)), \"\")","v":""},{"$f":"_xlfn.IFNA(IF(VLOOKUP(B387,_!$A$7:$E$210,5,FALSE)=0,\"\",VLOOKUP(B387,_!$A$7:$E$210,5,FALSE)), \"\")","v":""}]
[2,null,{"$f":"_xlfn.IFNA(VLOOKUP(B388,_!$A$7:$F$210,6,FALSE),\"\")","v":""},{"$f":"IF(IF(MOD(ROWS(D$3:D388),20)=1,INDEX('Summary Sheet'!$B$17:$B478,INT(ROWS(D$3:D388)/20)+1),\"\")=0,\"\",IF(MOD(ROWS(D$3:D388),20)=1,INDEX('Summary Sheet'!$B$17:$B478,INT(ROWS(D$3:D388)/20)+1),\"\"))","v":""},{"$f":"_xlfn.IFNA(IF(VLOOKUP(B388,_!$A$7:$E$210,2,FALSE)=0, \"\", VLOOKUP(B388,_!$A$7:$E$210,2,FALSE)),  \"\")","v":""},{"$f":"_xlfn.IFNA(IF(VLOOKUP(B388,_!$A$7:$E$210,3,FALSE)=0, \"\", VLOOKUP(B388,_!$A$7:$E$210,3,FALSE)), \"\")","v":""},{"$f":"_xlfn.IFNA(IF(VLOOKUP(B388,_!$A$7:$E$210,4,FALSE)=0, \"\",VLOOKUP(B388,_!$A$7:$E$210,4,FALSE)), \"\")","v":""},{"$f":"_xlfn.IFNA(IF(VLOOKUP(B388,_!$A$7:$E$210,5,FALSE)=0,\"\",VLOOKUP(B388,_!$A$7:$E$210,5,FALSE)), \"\")","v":""}]
[3,null,{"$f":"_xlfn.IFNA(VLOOKUP(B389,_!$A$7:$F$210,6,FALSE),\"\")","v":""},{"$f":"IF(IF(MOD(ROWS(D$3:D389),20)=1,INDEX('Summary Sheet'!$B$17:$B478,INT(ROWS(D$3:D389)/20)+1),\"\")=0,\"\",IF(MOD(ROWS(D$3:D389),20)=1,INDEX('Summary Sheet'!$B$17:$B478,INT(ROWS(D$3:D389)/20)+1),\"\"))","v":""},{"$f":"_xlfn.IFNA(IF(VLOOKUP(B389,_!$A$7:$E$210,2,FALSE)=0, \"\", VLOOKUP(B389,_!$A$7:$E$210,2,FALSE)),  \"\")","v":""},{"$f":"_xlfn.IFNA(IF(VLOOKUP(B389,_!$A$7:$E$210,3,FALSE)=0, \"\", VLOOKUP(B389,_!$A$7:$E$210,3,FALSE)), \"\")","v":""},{"$f":"_xlfn.IFNA(IF(VLOOKUP(B389,_!$A$7:$E$210,4,FALSE)=0, \"\",VLOOKUP(B389,_!$A$7:$E$210,4,FALSE)), \"\")","v":""},{"$f":"_xlfn.IFNA(IF(VLOOKUP(B389,_!$A$7:$E$210,5,FALSE)=0,\"\",VLOOKUP(B389,_!$A$7:$E$210,5,FALSE)), \"\")","v":""}]
[4,null,{"$f":"_xlfn.IFNA(VLOOKUP(B390,_!$A$7:$F$210,6,FALSE),\"\")","v":""},{"$f":"IF(IF(MOD(ROWS(D$3:D390),20)=1,INDEX('Summary Sheet'!$B$17:$B478,INT(ROWS(D$3:D390)/20)+1),\"\")=0,\"\",IF(MOD(ROWS(D$3:D390),20)=1,INDEX('Summary Sheet'!$B$17:$B478,INT(ROWS(D$3:D390)/20)+1),\"\"))","v":""},{"$f":"_xlfn.IFNA(IF(VLOOKUP(B390,_!$A$7:$E$210,2,FALSE)=0, \"\", VLOOKUP(B390,_!$A$7:$E$210,2,FALSE)),  \"\")","v":""},{"$f":"_xlfn.IFNA(IF(VLOOKUP(B390,_!$A$7:$E$210,3,FALSE)=0, \"\", VLOOKUP(B390,_!$A$7:$E$210,3,FALSE)), \"\")","v":""},{"$f":"_xlfn.IFNA(IF(VLOOKUP(B390,_!$A$7:$E$210,4,FALSE)=0, \"\",VLOOKUP(B390,_!$A$7:$E$210,4,FALSE)), \"\")","v":""},{"$f":"_xlfn.IFNA(IF(VLOOKUP(B390,_!$A$7:$E$210,5,FALSE)=0,\"\",VLOOKUP(B390,_!$A$7:$E$210,5,FALSE)), \"\")","v":""}]
[5,null,{"$f":"_xlfn.IFNA(VLOOKUP(B391,_!$A$7:$F$210,6,FALSE),\"\")","v":""},{"$f":"IF(IF(MOD(ROWS(D$3:D391),20)=1,INDEX('Summary Sheet'!$B$17:$B478,INT(ROWS(D$3:D391)/20)+1),\"\")=0,\"\",IF(MOD(ROWS(D$3:D391),20)=1,INDEX('Summary Sheet'!$B$17:$B478,INT(ROWS(D$3:D391)/20)+1),\"\"))","v":""},{"$f":"_xlfn.IFNA(IF(VLOOKUP(B391,_!$A$7:$E$210,2,FALSE)=0, \"\", VLOOKUP(B391,_!$A$7:$E$210,2,FALSE)),  \"\")","v":""},{"$f":"_xlfn.IFNA(IF(VLOOKUP(B391,_!$A$7:$E$210,3,FALSE)=0, \"\", VLOOKUP(B391,_!$A$7:$E$210,3,FALSE)), \"\")","v":""},{"$f":"_xlfn.IFNA(IF(VLOOKUP(B391,_!$A$7:$E$210,4,FALSE)=0, \"\",VLOOKUP(B391,_!$A$7:$E$210,4,FALSE)), \"\")","v":""},{"$f":"_xlfn.IFNA(IF(VLOOKUP(B391,_!$A$7:$E$210,5,FALSE)=0,\"\",VLOOKUP(B391,_!$A$7:$E$210,5,FALSE)), \"\")","v":""}]
[6,null,{"$f":"_xlfn.IFNA(VLOOKUP(B392,_!$A$7:$F$210,6,FALSE),\"\")","v":""},{"$f":"IF(IF(MOD(ROWS(D$3:D392),20)=1,INDEX('Summary Sheet'!$B$17:$B478,INT(ROWS(D$3:D392)/20)+1),\"\")=0,\"\",IF(MOD(ROWS(D$3:D392),20)=1,INDEX('Summary Sheet'!$B$17:$B478,INT(ROWS(D$3:D392)/20)+1),\"\"))","v":""},{"$f":"_xlfn.IFNA(IF(VLOOKUP(B392,_!$A$7:$E$210,2,FALSE)=0, \"\", VLOOKUP(B392,_!$A$7:$E$210,2,FALSE)),  \"\")","v":""},{"$f":"_xlfn.IFNA(IF(VLOOKUP(B392,_!$A$7:$E$210,3,FALSE)=0, \"\", VLOOKUP(B392,_!$A$7:$E$210,3,FALSE)), \"\")","v":""},{"$f":"_xlfn.IFNA(IF(VLOOKUP(B392,_!$A$7:$E$210,4,FALSE)=0, \"\",VLOOKUP(B392,_!$A$7:$E$210,4,FALSE)), \"\")","v":""},{"$f":"_xlfn.IFNA(IF(VLOOKUP(B392,_!$A$7:$E$210,5,FALSE)=0,\"\",VLOOKUP(B392,_!$A$7:$E$210,5,FALSE)), \"\")","v":""}]
[7,null,{"$f":"_xlfn.IFNA(VLOOKUP(B393,_!$A$7:$F$210,6,FALSE),\"\")","v":""},{"$f":"IF(IF(MOD(ROWS(D$3:D393),20)=1,INDEX('Summary Sheet'!$B$17:$B478,INT(ROWS(D$3:D393)/20)+1),\"\")=0,\"\",IF(MOD(ROWS(D$3:D393),20)=1,INDEX('Summary Sheet'!$B$17:$B478,INT(ROWS(D$3:D393)/20)+1),\"\"))","v":""},{"$f":"_xlfn.IFNA(IF(VLOOKUP(B393,_!$A$7:$E$210,2,FALSE)=0, \"\", VLOOKUP(B393,_!$A$7:$E$210,2,FALSE)),  \"\")","v":""},{"$f":"_xlfn.IFNA(IF(VLOOKUP(B393,_!$A$7:$E$210,3,FALSE)=0, \"\", VLOOKUP(B393,_!$A$7:$E$210,3,FALSE)), \"\")","v":""},{"$f":"_xlfn.IFNA(IF(VLOOKUP(B393,_!$A$7:$E$210,4,FALSE)=0, \"\",VLOOKUP(B393,_!$A$7:$E$210,4,FALSE)), \"\")","v":""},{"$f":"_xlfn.IFNA(IF(VLOOKUP(B393,_!$A$7:$E$210,5,FALSE)=0,\"\",VLOOKUP(B393,_!$A$7:$E$210,5,FALSE)), \"\")","v":""}]
[8,null,{"$f":"_xlfn.IFNA(VLOOKUP(B394,_!$A$7:$F$210,6,FALSE),\"\")","v":""},{"$f":"IF(IF(MOD(ROWS(D$3:D394),20)=1,INDEX('Summary Sheet'!$B$17:$B478,INT(ROWS(D$3:D394)/20)+1),\"\")=0,\"\",IF(MOD(ROWS(D$3:D394),20)=1,INDEX('Summary Sheet'!$B$17:$B478,INT(ROWS(D$3:D394)/20)+1),\"\"))","v":""},{"$f":"_xlfn.IFNA(IF(VLOOKUP(B394,_!$A$7:$E$210,2,FALSE)=0, \"\", VLOOKUP(B394,_!$A$7:$E$210,2,FALSE)),  \"\")","v":""},{"$f":"_xlfn.IFNA(IF(VLOOKUP(B394,_!$A$7:$E$210,3,FALSE)=0, \"\", VLOOKUP(B394,_!$A$7:$E$210,3,FALSE)), \"\")","v":""},{"$f":"_xlfn.IFNA(IF(VLOOKUP(B394,_!$A$7:$E$210,4,FALSE)=0, \"\",VLOOKUP(B394,_!$A$7:$E$210,4,FALSE)), \"\")","v":""},{"$f":"_xlfn.IFNA(IF(VLOOKUP(B394,_!$A$7:$E$210,5,FALSE)=0,\"\",VLOOKUP(B394,_!$A$7:$E$210,5,FALSE)), \"\")","v":""}]
[9,null,{"$f":"_xlfn.IFNA(VLOOKUP(B395,_!$A$7:$F$210,6,FALSE),\"\")","v":""},{"$f":"IF(IF(MOD(ROWS(D$3:D395),20)=1,INDEX('Summary Sheet'!$B$17:$B478,INT(ROWS(D$3:D395)/20)+1),\"\")=0,\"\",IF(MOD(ROWS(D$3:D395),20)=1,INDEX('Summary Sheet'!$B$17:$B478,INT(ROWS(D$3:D395)/20)+1),\"\"))","v":""},{"$f":"_xlfn.IFNA(IF(VLOOKUP(B395,_!$A$7:$E$210,2,FALSE)=0, \"\", VLOOKUP(B395,_!$A$7:$E$210,2,FALSE)),  \"\")","v":""},{"$f":"_xlfn.IFNA(IF(VLOOKUP(B395,_!$A$7:$E$210,3,FALSE)=0, \"\", VLOOKUP(B395,_!$A$7:$E$210,3,FALSE)), \"\")","v":""},{"$f":"_xlfn.IFNA(IF(VLOOKUP(B395,_!$A$7:$E$210,4,FALSE)=0, \"\",VLOOKUP(B395,_!$A$7:$E$210,4,FALSE)), \"\")","v":""},{"$f":"_xlfn.IFNA(IF(VLOOKUP(B395,_!$A$7:$E$210,5,FALSE)=0,\"\",VLOOKUP(B395,_!$A$7:$E$210,5,FALSE)), \"\")","v":""}]
[10,null,{"$f":"_xlfn.IFNA(VLOOKUP(B396,_!$A$7:$F$210,6,FALSE),\"\")","v":""},{"$f":"IF(IF(MOD(ROWS(D$14:D396),20)=1,INDEX('Summary Sheet'!$B$17:$B478,INT(ROWS(D$14:D396)/20)+1),\"\")=0,\"\",IF(MOD(ROWS(D$14:D396),20)=1,INDEX('Summary Sheet'!$B$17:$B478,INT(ROWS(D$14:D396)/20)+1),\"\"))","v":""},{"$f":"_xlfn.IFNA(IF(VLOOKUP(B396,_!$A$7:$E$210,2,FALSE)=0, \"\", VLOOKUP(B396,_!$A$7:$E$210,2,FALSE)),  \"\")","v":""},{"$f":"_xlfn.IFNA(IF(VLOOKUP(B396,_!$A$7:$E$210,3,FALSE)=0, \"\", VLOOKUP(B396,_!$A$7:$E$210,3,FALSE)), \"\")","v":""},{"$f":"_xlfn.IFNA(IF(VLOOKUP(B396,_!$A$7:$E$210,4,FALSE)=0, \"\",VLOOKUP(B396,_!$A$7:$E$210,4,FALSE)), \"\")","v":""},{"$f":"_xlfn.IFNA(IF(VLOOKUP(B396,_!$A$7:$E$210,5,FALSE)=0,\"\",VLOOKUP(B396,_!$A$7:$E$210,5,FALSE)), \"\")","v":""}]
[null,"\nHighest hazard level for each ‘Uptake Route’\n",null,null,{"$f":"_xlfn.IFNA(IF((INDEX(E387:E396,MATCH(\"E\",E387:E396,0)))=\"E\",\"E\",\"\"),_xlfn.IFNA(IF((INDEX(E387:E396,MATCH(\"D\",E387:E396,0)))=\"D\",\"D\",\"\"),_xlfn.IFNA(IF((INDEX(E387:E396,MATCH(\"Ca\",E387:E396,0)))=\"Ca\",\"C\",\"\"),_xlfn.IFNA(IF((INDEX(E387:E396,MATCH(\"C\",E387:E396,0)))=\"C\",\"C\",\"\"),_xlfn.IFNA(IF((INDEX(E387:E396,MATCH(\"B\",E387:E396,0)))=\"B\",\"B\",\"\"),_xlfn.IFNA(IF((INDEX(E387:E396,MATCH(\"A\",E387:E396,0)))=\"A\",\"A\",\"\"),_xlfn.IFNA(IF((INDEX(E387:E396,MATCH(\"n.a.\",E387:E396,0)))=\"n.a.\",\"\",\"\"),_xlfn.IFNA(IF((INDEX(E387:E396,MATCH(\"\",E387:E396,0)))=\"\",\"\",\"\"),\"\"))))))))","v":""},{"$f":"_xlfn.IFNA(IF((INDEX(F387:F396,MATCH(\"E\",F387:F396,0)))=\"E\",\"E\",\"\"),_xlfn.IFNA(IF((INDEX(F387:F396,MATCH(\"D (E)c\",F387:F396,0)))=\"D (E)c\",\"D (E)c\",\"\"),_xlfn.IFNA(IF((INDEX(F387:F396,MATCH(\"Da (E)c\",F387:F396,0)))=\"Da (E)c\",\"D (E)c\",\"\"),_xlfn.IFNA(IF((INDEX(F387:F396,MATCH(\"D\",F387:F396,0)))=\"D\",\"D\",\"\"),_xlfn.IFNA(IF((INDEX(F387:F396,MATCH(\"Ca\",F387:F396,0)))=\"Ca\",\"C\",\"\"),_xlfn.IFNA(IF((INDEX(F387:F396,MATCH(\"C\",F387:F396,0)))=\"C\",\"C\",\"\"),_xlfn.IFNA(IF((INDEX(F387:F396,MATCH(\"Ba\",F387:F396,0)))=\"Ba\",\"B\",\"\"),_xlfn.IFNA(IF((INDEX(F387:F396,MATCH(\"B\",F387:F396,0)))=\"B\",\"B\",\"\"),_xlfn.IFNA(IF((INDEX(F387:F396,MATCH(\"Aa\",F387:F396,0)))=\"Aa\",\"A\",\"\"),_xlfn.IFNA(IF((INDEX(F387:F396,MATCH(\"A\",F387:F396,0)))=\"A\",\"A\",\"\"),_xlfn.IFNA(IF((INDEX(F387:F396,MATCH(\"n.a.\",F387:F396,0)))=\"n.a.\",\"\",\"\"),_xlfn.IFNA(IF((INDEX(F387:F396,MATCH(\"\",F387:F396,0)))=\"\",\"\",\"\"),\"\"))))))))))))","v":""},{"$f":"_xlfn.IFNA(IF((INDEX(G387:G396,MATCH(\"E\",G387:G396,0)))=\"E\",\"E\",\"\"),_xlfn.IFNA(IF((INDEX(G387:G396,MATCH(\"D\",G387:G396,0)))=\"D\",\"D\",\"\"),_xlfn.IFNA(IF((INDEX(G387:G396,MATCH(\"Ca\",G387:G396,0)))=\"Ca\",\"C\",\"\"),_xlfn.IFNA(IF((INDEX(G387:G396,MATCH(\"C\",G387:G396,0)))=\"C\",\"C\",\"\"),_xlfn.IFNA(IF((INDEX(G387:G396,MATCH(\"B\",G387:G396,0)))=\"B\",\"B\",\"\"),_xlfn.IFNA(IF((INDEX(G387:G396,MATCH(\"A\",G387:G396,0)))=\"A\",\"A\",\"\"),_xlfn.IFNA(IF((INDEX(G387:G396,MATCH(\"n.a.\",G387:G396,0)))=\"n.a.\",\"\",\"\"),_xlfn.IFNA(IF((INDEX(G387:G396,MATCH(\"\",G387:G396,0)))=\"\",\"\",\"\"),\"\"))))))))","v":""},{"$f":"_xlfn.IFNA(IF((INDEX(H387:H396,MATCH(\"E\",H387:H396,0)))=\"E\",\"E\",\"\"),_xlfn.IFNA(IF((INDEX(H387:H396,MATCH(\"D (E)c\",H387:H396,0)))=\"D (E)c\",\"D (E)c\",\"\"),_xlfn.IFNA(IF((INDEX(H387:H396,MATCH(\"Db (E)c\",H387:H396,0)))=\"Db (E)c\",\"D (E)c\",\"\"),_xlfn.IFNA(IF((INDEX(H387:H396,MATCH(\"D\",H387:H396,0)))=\"D\",\"D\",\"\"),_xlfn.IFNA(IF((INDEX(H387:H396,MATCH(\"Cb\",H387:H396,0)))=\"Cb\",\"C\",\"\"),_xlfn.IFNA(IF((INDEX(H387:H396,MATCH(\"C\",H387:H396,0)))=\"C\",\"C\",\"\"),_xlfn.IFNA(IF((INDEX(H387:H396,MATCH(\"Bb\",H387:H396,0)))=\"Bb\",\"B\",\"\"),_xlfn.IFNA(IF((INDEX(H387:H396,MATCH(\"B\",H387:H396,0)))=\"B\",\"B\",\"\"),_xlfn.IFNA(IF((INDEX(H387:H396,MATCH(\"Ab\",H387:H396,0)))=\"Ab\",\"A\",\"\"),_xlfn.IFNA(IF((INDEX(H387:H396,MATCH(\"A\",H387:H396,0)))=\"A\",\"A\",\"\"),_xlfn.IFNA(IF((INDEX(H387:H396,MATCH(\"n.a.\",H387:H396,0)))=\"n.a.\",\"\",\"\"),_xlfn.IFNA(IF((INDEX(H387:H396,MATCH(\"\",H387:H396,0)))=\"\",\"\",\"\"),\"\"))))))))))))","v":""}]
[null,"\nHighest hazard level for all 'Uptake Routes' \n",null,null,{"$f":"_xlfn.IFNA(IF((INDEX(E397:H397,MATCH(\"E\",E397:H397,0)))=\"E\",\"E\",\"\"),_xlfn.IFNA(IF((INDEX(E397:H397,MATCH(\"D (E)c\",E397:H397,0)))=\"D (E)c\",\"D (E)\",\"\"),_xlfn.IFNA(IF((INDEX(E397:H397,MATCH(\"D\",E397:H397,0)))=\"D\",\"D\",\"\"),_xlfn.IFNA(IF((INDEX(E397:H397,MATCH(\"C\",E397:H397,0)))=\"C\",\"C\",\"\"),_xlfn.IFNA(IF((INDEX(E397:H397,MATCH(\"B\",E397:H397,0)))=\"B\",\"B\",\"\"),_xlfn.IFNA(IF((INDEX(E397:H397,MATCH(\"A\",E397:H397,0)))=\"A\",\"A\",\"\"),_xlfn.IFNA(IF((INDEX(E397:H397,MATCH(\"n.a.\",E397:H397,0)))=\"n.a.\",\"\",\"\"),_xlfn.IFNA(IF((INDEX(E397:H397,MATCH(\"\",E397:H397,0)))=\"\",\"\",\"\"),\"\"))))))))","v":""}]
[]
[]
[null,"\nStep 3: D(E) Assessment\nSkip this step if \nyour assessment above does not reveal a D(E) hazard level.\nHover over this cell for additional instructions.\n",null,null,"\nOverall hazard level\n",null,{"$f":"IF(AND(E398=\"\",C384=\"Yes\")=TRUE,\"B\",IF(E398=\"\",\"\",(IF(AND(E398=\"D (E)\",C401=\"\"),\"D (E)\"&CHAR(10)&\"Find if cat. 1 acute tox.\",(IF(E398<>\"D (E)\",E398,(IF(AND(E398=\"D (E)\",C401=\"Yes\"),\"E\",(IF(AND(E398=\"D (E)\",C401=\"No\"),\"D\",\"\"))))))))))","v":""}]
[]
[{"$f":"IF(IF(MOD(ROWS(B$3:B403),20)=1,INDEX('Summary Sheet'!$A$17:$A497,INT(ROWS(B$3:B403)/20)+1),\"\")=0,\"\",IF(MOD(ROWS(B$3:B403),20)=1,INDEX('Summary Sheet'!$A$17:$A497,INT(ROWS(B$3:B403)/20)+1),\"\"))","v":21},"Hazard Level Assessment","for",{"$f":"IF(IF(MOD(ROWS(D$3:D403),20)=1,INDEX('Summary Sheet'!$B$17:$B497,INT(ROWS(D$3:D403)/20)+1),\"\")=0,\"\",IF(MOD(ROWS(D$3:D403),20)=1,INDEX('Summary Sheet'!$B$17:$B497,INT(ROWS(D$3:D403)/20)+1),\"\"))","v":""}]
[null,"\nStep 1: Physical & Environmental Hazard Statements/Codes\nFind Section 2 of the SDS and determine if the SDS has physical and/or environmental hazard statements/codes. Hover on this cell for additional instructions.\n",null,{"$f":"IF(IF(MOD(ROWS(D$3:D404),20)=1,INDEX('Summary Sheet'!$B$17:$B497,INT(ROWS(D$3:D404)/20)+1),\"\")=0,\"\",IF(MOD(ROWS(D$3:D404),20)=1,INDEX('Summary Sheet'!$B$17:$B497,INT(ROWS(D$3:D404)/20)+1),\"\"))","v":""}]
[null,"Step 2: Health Hazard Statements/Codes\nProvide the Health Hazard Statements or Codes from Section 2 of the SDS below. Hover on this cell for additional instructions.",null,{"$f":"IF(IF(MOD(ROWS(D$3:D405),20)=1,INDEX('Summary Sheet'!$B$17:$B497,INT(ROWS(D$3:D405)/20)+1),\"\")=0,\"\",IF(MOD(ROWS(D$3:D405),20)=1,INDEX('Summary Sheet'!$B$17:$B497,INT(ROWS(D$3:D405)/20)+1),\"\"))","v":""},"\nHazard Level\n"]
[null,null,null,{"$f":"IF(IF(MOD(ROWS(D$3:D406),20)=1,INDEX('Summary Sheet'!$B$17:$B497,INT(ROWS(D$3:D406)/20)+1),\"\")=0,\"\",IF(MOD(ROWS(D$3:D406),20)=1,INDEX('Summary Sheet'!$B$17:$B497,INT(ROWS(D$3:D406)/20)+1),\"\"))","v":""},"\nEye Damage\n","\nInhalation\n","\nLocal Skin Damage\n","\nSkin uptake, systemic\n"]
[1,null,{"$f":"_xlfn.IFNA(VLOOKUP(B407,_!$A$7:$F$210,6,FALSE),\"\")","v":""},{"$f":"IF(IF(MOD(ROWS(D$3:D407),20)=1,INDEX('Summary Sheet'!$B$17:$B497,INT(ROWS(D$3:D407)/20)+1),\"\")=0,\"\",IF(MOD(ROWS(D$3:D407),20)=1,INDEX('Summary Sheet'!$B$17:$B497,INT(ROWS(D$3:D407)/20)+1),\"\"))","v":""},{"$f":"_xlfn.IFNA(IF(VLOOKUP(B407,_!$A$7:$E$210,2,FALSE)=0, \"\", VLOOKUP(B407,_!$A$7:$E$210,2,FALSE)),  \"\")","v":""},{"$f":"_xlfn.IFNA(IF(VLOOKUP(B407,_!$A$7:$E$210,3,FALSE)=0, \"\", VLOOKUP(B407,_!$A$7:$E$210,3,FALSE)), \"\")","v":""},{"$f":"_xlfn.IFNA(IF(VLOOKUP(B407,_!$A$7:$E$210,4,FALSE)=0, \"\",VLOOKUP(B407,_!$A$7:$E$210,4,FALSE)), \"\")","v":""},{"$f":"_xlfn.IFNA(IF(VLOOKUP(B407,_!$A$7:$E$210,5,FALSE)=0,\"\",VLOOKUP(B407,_!$A$7:$E$210,5,FALSE)), \"\")","v":""}]
[2,null,{"$f":"_xlfn.IFNA(VLOOKUP(B408,_!$A$7:$F$210,6,FALSE),\"\")","v":""},{"$f":"IF(IF(MOD(ROWS(D$3:D408),20)=1,INDEX('Summary Sheet'!$B$17:$B497,INT(ROWS(D$3:D408)/20)+1),\"\")=0,\"\",IF(MOD(ROWS(D$3:D408),20)=1,INDEX('Summary Sheet'!$B$17:$B497,INT(ROWS(D$3:D408)/20)+1),\"\"))","v":""},{"$f":"_xlfn.IFNA(IF(VLOOKUP(B408,_!$A$7:$E$210,2,FALSE)=0, \"\", VLOOKUP(B408,_!$A$7:$E$210,2,FALSE)),  \"\")","v":""},{"$f":"_xlfn.IFNA(IF(VLOOKUP(B408,_!$A$7:$E$210,3,FALSE)=0, \"\", VLOOKUP(B408,_!$A$7:$E$210,3,FALSE)), \"\")","v":""},{"$f":"_xlfn.IFNA(IF(VLOOKUP(B408,_!$A$7:$E$210,4,FALSE)=0, \"\",VLOOKUP(B408,_!$A$7:$E$210,4,FALSE)), \"\")","v":""},{"$f":"_xlfn.IFNA(IF(VLOOKUP(B408,_!$A$7:$E$210,5,FALSE)=0,\"\",VLOOKUP(B408,_!$A$7:$E$210,5,FALSE)), \"\")","v":""}]
[3,null,{"$f":"_xlfn.IFNA(VLOOKUP(B409,_!$A$7:$F$210,6,FALSE),\"\")","v":""},{"$f":"IF(IF(MOD(ROWS(D$3:D409),20)=1,INDEX('Summary Sheet'!$B$17:$B497,INT(ROWS(D$3:D409)/20)+1),\"\")=0,\"\",IF(MOD(ROWS(D$3:D409),20)=1,INDEX('Summary Sheet'!$B$17:$B497,INT(ROWS(D$3:D409)/20)+1),\"\"))","v":""},{"$f":"_xlfn.IFNA(IF(VLOOKUP(B409,_!$A$7:$E$210,2,FALSE)=0, \"\", VLOOKUP(B409,_!$A$7:$E$210,2,FALSE)),  \"\")","v":""},{"$f":"_xlfn.IFNA(IF(VLOOKUP(B409,_!$A$7:$E$210,3,FALSE)=0, \"\", VLOOKUP(B409,_!$A$7:$E$210,3,FALSE)), \"\")","v":""},{"$f":"_xlfn.IFNA(IF(VLOOKUP(B409,_!$A$7:$E$210,4,FALSE)=0, \"\",VLOOKUP(B409,_!$A$7:$E$210,4,FALSE)), \"\")","v":""},{"$f":"_xlfn.IFNA(IF(VLOOKUP(B409,_!$A$7:$E$210,5,FALSE)=0,\"\",VLOOKUP(B409,_!$A$7:$E$210,5,FALSE)), \"\")","v":""}]
[4,null,{"$f":"_xlfn.IFNA(VLOOKUP(B410,_!$A$7:$F$210,6,FALSE),\"\")","v":""},{"$f":"IF(IF(MOD(ROWS(D$3:D410),20)=1,INDEX('Summary Sheet'!$B$17:$B497,INT(ROWS(D$3:D410)/20)+1),\"\")=0,\"\",IF(MOD(ROWS(D$3:D410),20)=1,INDEX('Summary Sheet'!$B$17:$B497,INT(ROWS(D$3:D410)/20)+1),\"\"))","v":""},{"$f":"_xlfn.IFNA(IF(VLOOKUP(B410,_!$A$7:$E$210,2,FALSE)=0, \"\", VLOOKUP(B410,_!$A$7:$E$210,2,FALSE)),  \"\")","v":""},{"$f":"_xlfn.IFNA(IF(VLOOKUP(B410,_!$A$7:$E$210,3,FALSE)=0, \"\", VLOOKUP(B410,_!$A$7:$E$210,3,FALSE)), \"\")","v":""},{"$f":"_xlfn.IFNA(IF(VLOOKUP(B410,_!$A$7:$E$210,4,FALSE)=0, \"\",VLOOKUP(B410,_!$A$7:$E$210,4,FALSE)), \"\")","v":""},{"$f":"_xlfn.IFNA(IF(VLOOKUP(B410,_!$A$7:$E$210,5,FALSE)=0,\"\",VLOOKUP(B410,_!$A$7:$E$210,5,FALSE)), \"\")","v":""}]
[5,null,{"$f":"_xlfn.IFNA(VLOOKUP(B411,_!$A$7:$F$210,6,FALSE),\"\")","v":""},{"$f":"IF(IF(MOD(ROWS(D$3:D411),20)=1,INDEX('Summary Sheet'!$B$17:$B497,INT(ROWS(D$3:D411)/20)+1),\"\")=0,\"\",IF(MOD(ROWS(D$3:D411),20)=1,INDEX('Summary Sheet'!$B$17:$B497,INT(ROWS(D$3:D411)/20)+1),\"\"))","v":""},{"$f":"_xlfn.IFNA(IF(VLOOKUP(B411,_!$A$7:$E$210,2,FALSE)=0, \"\", VLOOKUP(B411,_!$A$7:$E$210,2,FALSE)),  \"\")","v":""},{"$f":"_xlfn.IFNA(IF(VLOOKUP(B411,_!$A$7:$E$210,3,FALSE)=0, \"\", VLOOKUP(B411,_!$A$7:$E$210,3,FALSE)), \"\")","v":""},{"$f":"_xlfn.IFNA(IF(VLOOKUP(B411,_!$A$7:$E$210,4,FALSE)=0, \"\",VLOOKUP(B411,_!$A$7:$E$210,4,FALSE)), \"\")","v":""},{"$f":"_xlfn.IFNA(IF(VLOOKUP(B411,_!$A$7:$E$210,5,FALSE)=0,\"\",VLOOKUP(B411,_!$A$7:$E$210,5,FALSE)), \"\")","v":""}]
[6,null,{"$f":"_xlfn.IFNA(VLOOKUP(B412,_!$A$7:$F$210,6,FALSE),\"\")","v":""},{"$f":"IF(IF(MOD(ROWS(D$3:D412),20)=1,INDEX('Summary Sheet'!$B$17:$B497,INT(ROWS(D$3:D412)/20)+1),\"\")=0,\"\",IF(MOD(ROWS(D$3:D412),20)=1,INDEX('Summary Sheet'!$B$17:$B497,INT(ROWS(D$3:D412)/20)+1),\"\"))","v":""},{"$f":"_xlfn.IFNA(IF(VLOOKUP(B412,_!$A$7:$E$210,2,FALSE)=0, \"\", VLOOKUP(B412,_!$A$7:$E$210,2,FALSE)),  \"\")","v":""},{"$f":"_xlfn.IFNA(IF(VLOOKUP(B412,_!$A$7:$E$210,3,FALSE)=0, \"\", VLOOKUP(B412,_!$A$7:$E$210,3,FALSE)), \"\")","v":""},{"$f":"_xlfn.IFNA(IF(VLOOKUP(B412,_!$A$7:$E$210,4,FALSE)=0, \"\",VLOOKUP(B412,_!$A$7:$E$210,4,FALSE)), \"\")","v":""},{"$f":"_xlfn.IFNA(IF(VLOOKUP(B412,_!$A$7:$E$210,5,FALSE)=0,\"\",VLOOKUP(B412,_!$A$7:$E$210,5,FALSE)), \"\")","v":""}]
[7,null,{"$f":"_xlfn.IFNA(VLOOKUP(B413,_!$A$7:$F$210,6,FALSE),\"\")","v":""},{"$f":"IF(IF(MOD(ROWS(D$3:D413),20)=1,INDEX('Summary Sheet'!$B$17:$B497,INT(ROWS(D$3:D413)/20)+1),\"\")=0,\"\",IF(MOD(ROWS(D$3:D413),20)=1,INDEX('Summary Sheet'!$B$17:$B497,INT(ROWS(D$3:D413)/20)+1),\"\"))","v":""},{"$f":"_xlfn.IFNA(IF(VLOOKUP(B413,_!$A$7:$E$210,2,FALSE)=0, \"\", VLOOKUP(B413,_!$A$7:$E$210,2,FALSE)),  \"\")","v":""},{"$f":"_xlfn.IFNA(IF(VLOOKUP(B413,_!$A$7:$E$210,3,FALSE)=0, \"\", VLOOKUP(B413,_!$A$7:$E$210,3,FALSE)), \"\")","v":""},{"$f":"_xlfn.IFNA(IF(VLOOKUP(B413,_!$A$7:$E$210,4,FALSE)=0, \"\",VLOOKUP(B413,_!$A$7:$E$210,4,FALSE)), \"\")","v":""},{"$f":"_xlfn.IFNA(IF(VLOOKUP(B413,_!$A$7:$E$210,5,FALSE)=0,\"\",VLOOKUP(B413,_!$A$7:$E$210,5,FALSE)), \"\")","v":""}]
[8,null,{"$f":"_xlfn.IFNA(VLOOKUP(B414,_!$A$7:$F$210,6,FALSE),\"\")","v":""},{"$f":"IF(IF(MOD(ROWS(D$3:D414),20)=1,INDEX('Summary Sheet'!$B$17:$B497,INT(ROWS(D$3:D414)/20)+1),\"\")=0,\"\",IF(MOD(ROWS(D$3:D414),20)=1,INDEX('Summary Sheet'!$B$17:$B497,INT(ROWS(D$3:D414)/20)+1),\"\"))","v":""},{"$f":"_xlfn.IFNA(IF(VLOOKUP(B414,_!$A$7:$E$210,2,FALSE)=0, \"\", VLOOKUP(B414,_!$A$7:$E$210,2,FALSE)),  \"\")","v":""},{"$f":"_xlfn.IFNA(IF(VLOOKUP(B414,_!$A$7:$E$210,3,FALSE)=0, \"\", VLOOKUP(B414,_!$A$7:$E$210,3,FALSE)), \"\")","v":""},{"$f":"_xlfn.IFNA(IF(VLOOKUP(B414,_!$A$7:$E$210,4,FALSE)=0, \"\",VLOOKUP(B414,_!$A$7:$E$210,4,FALSE)), \"\")","v":""},{"$f":"_xlfn.IFNA(IF(VLOOKUP(B414,_!$A$7:$E$210,5,FALSE)=0,\"\",VLOOKUP(B414,_!$A$7:$E$210,5,FALSE)), \"\")","v":""}]
[9,null,{"$f":"_xlfn.IFNA(VLOOKUP(B415,_!$A$7:$F$210,6,FALSE),\"\")","v":""},{"$f":"IF(IF(MOD(ROWS(D$3:D415),20)=1,INDEX('Summary Sheet'!$B$17:$B497,INT(ROWS(D$3:D415)/20)+1),\"\")=0,\"\",IF(MOD(ROWS(D$3:D415),20)=1,INDEX('Summary Sheet'!$B$17:$B497,INT(ROWS(D$3:D415)/20)+1),\"\"))","v":""},{"$f":"_xlfn.IFNA(IF(VLOOKUP(B415,_!$A$7:$E$210,2,FALSE)=0, \"\", VLOOKUP(B415,_!$A$7:$E$210,2,FALSE)),  \"\")","v":""},{"$f":"_xlfn.IFNA(IF(VLOOKUP(B415,_!$A$7:$E$210,3,FALSE)=0, \"\", VLOOKUP(B415,_!$A$7:$E$210,3,FALSE)), \"\")","v":""},{"$f":"_xlfn.IFNA(IF(VLOOKUP(B415,_!$A$7:$E$210,4,FALSE)=0, \"\",VLOOKUP(B415,_!$A$7:$E$210,4,FALSE)), \"\")","v":""},{"$f":"_xlfn.IFNA(IF(VLOOKUP(B415,_!$A$7:$E$210,5,FALSE)=0,\"\",VLOOKUP(B415,_!$A$7:$E$210,5,FALSE)), \"\")","v":""}]
[10,null,{"$f":"_xlfn.IFNA(VLOOKUP(B416,_!$A$7:$F$210,6,FALSE),\"\")","v":""},{"$f":"IF(IF(MOD(ROWS(D$14:D416),20)=1,INDEX('Summary Sheet'!$B$17:$B497,INT(ROWS(D$14:D416)/20)+1),\"\")=0,\"\",IF(MOD(ROWS(D$14:D416),20)=1,INDEX('Summary Sheet'!$B$17:$B497,INT(ROWS(D$14:D416)/20)+1),\"\"))","v":""},{"$f":"_xlfn.IFNA(IF(VLOOKUP(B416,_!$A$7:$E$210,2,FALSE)=0, \"\", VLOOKUP(B416,_!$A$7:$E$210,2,FALSE)),  \"\")","v":""},{"$f":"_xlfn.IFNA(IF(VLOOKUP(B416,_!$A$7:$E$210,3,FALSE)=0, \"\", VLOOKUP(B416,_!$A$7:$E$210,3,FALSE)), \"\")","v":""},{"$f":"_xlfn.IFNA(IF(VLOOKUP(B416,_!$A$7:$E$210,4,FALSE)=0, \"\",VLOOKUP(B416,_!$A$7:$E$210,4,FALSE)), \"\")","v":""},{"$f":"_xlfn.IFNA(IF(VLOOKUP(B416,_!$A$7:$E$210,5,FALSE)=0,\"\",VLOOKUP(B416,_!$A$7:$E$210,5,FALSE)), \"\")","v":""}]
[null,"\nHighest hazard level for each ‘Uptake Route’\n",null,null,{"$f":"_xlfn.IFNA(IF((INDEX(E407:E416,MATCH(\"E\",E407:E416,0)))=\"E\",\"E\",\"\"),_xlfn.IFNA(IF((INDEX(E407:E416,MATCH(\"D\",E407:E416,0)))=\"D\",\"D\",\"\"),_xlfn.IFNA(IF((INDEX(E407:E416,MATCH(\"Ca\",E407:E416,0)))=\"Ca\",\"C\",\"\"),_xlfn.IFNA(IF((INDEX(E407:E416,MATCH(\"C\",E407:E416,0)))=\"C\",\"C\",\"\"),_xlfn.IFNA(IF((INDEX(E407:E416,MATCH(\"B\",E407:E416,0)))=\"B\",\"B\",\"\"),_xlfn.IFNA(IF((INDEX(E407:E416,MATCH(\"A\",E407:E416,0)))=\"A\",\"A\",\"\"),_xlfn.IFNA(IF((INDEX(E407:E416,MATCH(\"n.a.\",E407:E416,0)))=\"n.a.\",\"\",\"\"),_xlfn.IFNA(IF((INDEX(E407:E416,MATCH(\"\",E407:E416,0)))=\"\",\"\",\"\"),\"\"))))))))","v":""},{"$f":"_xlfn.IFNA(IF((INDEX(F407:F416,MATCH(\"E\",F407:F416,0)))=\"E\",\"E\",\"\"),_xlfn.IFNA(IF((INDEX(F407:F416,MATCH(\"D (E)c\",F407:F416,0)))=\"D (E)c\",\"D (E)c\",\"\"),_xlfn.IFNA(IF((INDEX(F407:F416,MATCH(\"Da (E)c\",F407:F416,0)))=\"Da (E)c\",\"D (E)c\",\"\"),_xlfn.IFNA(IF((INDEX(F407:F416,MATCH(\"D\",F407:F416,0)))=\"D\",\"D\",\"\"),_xlfn.IFNA(IF((INDEX(F407:F416,MATCH(\"Ca\",F407:F416,0)))=\"Ca\",\"C\",\"\"),_xlfn.IFNA(IF((INDEX(F407:F416,MATCH(\"C\",F407:F416,0)))=\"C\",\"C\",\"\"),_xlfn.IFNA(IF((INDEX(F407:F416,MATCH(\"Ba\",F407:F416,0)))=\"Ba\",\"B\",\"\"),_xlfn.IFNA(IF((INDEX(F407:F416,MATCH(\"B\",F407:F416,0)))=\"B\",\"B\",\"\"),_xlfn.IFNA(IF((INDEX(F407:F416,MATCH(\"Aa\",F407:F416,0)))=\"Aa\",\"A\",\"\"),_xlfn.IFNA(IF((INDEX(F407:F416,MATCH(\"A\",F407:F416,0)))=\"A\",\"A\",\"\"),_xlfn.IFNA(IF((INDEX(F407:F416,MATCH(\"n.a.\",F407:F416,0)))=\"n.a.\",\"\",\"\"),_xlfn.IFNA(IF((INDEX(F407:F416,MATCH(\"\",F407:F416,0)))=\"\",\"\",\"\"),\"\"))))))))))))","v":""},{"$f":"_xlfn.IFNA(IF((INDEX(G407:G416,MATCH(\"E\",G407:G416,0)))=\"E\",\"E\",\"\"),_xlfn.IFNA(IF((INDEX(G407:G416,MATCH(\"D\",G407:G416,0)))=\"D\",\"D\",\"\"),_xlfn.IFNA(IF((INDEX(G407:G416,MATCH(\"Ca\",G407:G416,0)))=\"Ca\",\"C\",\"\"),_xlfn.IFNA(IF((INDEX(G407:G416,MATCH(\"C\",G407:G416,0)))=\"C\",\"C\",\"\"),_xlfn.IFNA(IF((INDEX(G407:G416,MATCH(\"B\",G407:G416,0)))=\"B\",\"B\",\"\"),_xlfn.IFNA(IF((INDEX(G407:G416,MATCH(\"A\",G407:G416,0)))=\"A\",\"A\",\"\"),_xlfn.IFNA(IF((INDEX(G407:G416,MATCH(\"n.a.\",G407:G416,0)))=\"n.a.\",\"\",\"\"),_xlfn.IFNA(IF((INDEX(G407:G416,MATCH(\"\",G407:G416,0)))=\"\",\"\",\"\"),\"\"))))))))","v":""},{"$f":"_xlfn.IFNA(IF((INDEX(H407:H416,MATCH(\"E\",H407:H416,0)))=\"E\",\"E\",\"\"),_xlfn.IFNA(IF((INDEX(H407:H416,MATCH(\"D (E)c\",H407:H416,0)))=\"D (E)c\",\"D (E)c\",\"\"),_xlfn.IFNA(IF((INDEX(H407:H416,MATCH(\"Db (E)c\",H407:H416,0)))=\"Db (E)c\",\"D (E)c\",\"\"),_xlfn.IFNA(IF((INDEX(H407:H416,MATCH(\"D\",H407:H416,0)))=\"D\",\"D\",\"\"),_xlfn.IFNA(IF((INDEX(H407:H416,MATCH(\"Cb\",H407:H416,0)))=\"Cb\",\"C\",\"\"),_xlfn.IFNA(IF((INDEX(H407:H416,MATCH(\"C\",H407:H416,0)))=\"C\",\"C\",\"\"),_xlfn.IFNA(IF((INDEX(H407:H416,MATCH(\"Bb\",H407:H416,0)))=\"Bb\",\"B\",\"\"),_xlfn.IFNA(IF((INDEX(H407:H416,MATCH(\"B\",H407:H416,0)))=\"B\",\"B\",\"\"),_xlfn.IFNA(IF((INDEX(H407:H416,MATCH(\"Ab\",H407:H416,0)))=\"Ab\",\"A\",\"\"),_xlfn.IFNA(IF((INDEX(H407:H416,MATCH(\"A\",H407:H416,0)))=\"A\",\"A\",\"\"),_xlfn.IFNA(IF((INDEX(H407:H416,MATCH(\"n.a.\",H407:H416,0)))=\"n.a.\",\"\",\"\"),_xlfn.IFNA(IF((INDEX(H407:H416,MATCH(\"\",H407:H416,0)))=\"\",\"\",\"\"),\"\"))))))))))))","v":""}]
[null,"\nHighest hazard level for all 'Uptake Routes' \n",null,null,{"$f":"_xlfn.IFNA(IF((INDEX(E417:H417,MATCH(\"E\",E417:H417,0)))=\"E\",\"E\",\"\"),_xlfn.IFNA(IF((INDEX(E417:H417,MATCH(\"D (E)c\",E417:H417,0)))=\"D (E)c\",\"D (E)\",\"\"),_xlfn.IFNA(IF((INDEX(E417:H417,MATCH(\"D\",E417:H417,0)))=\"D\",\"D\",\"\"),_xlfn.IFNA(IF((INDEX(E417:H417,MATCH(\"C\",E417:H417,0)))=\"C\",\"C\",\"\"),_xlfn.IFNA(IF((INDEX(E417:H417,MATCH(\"B\",E417:H417,0)))=\"B\",\"B\",\"\"),_xlfn.IFNA(IF((INDEX(E417:H417,MATCH(\"A\",E417:H417,0)))=\"A\",\"A\",\"\"),_xlfn.IFNA(IF((INDEX(E417:H417,MATCH(\"n.a.\",E417:H417,0)))=\"n.a.\",\"\",\"\"),_xlfn.IFNA(IF((INDEX(E417:H417,MATCH(\"\",E417:H417,0)))=\"\",\"\",\"\"),\"\"))))))))","v":""}]
[]
[]
[null,"\nStep 3: D(E) Assessment\nSkip this step if \nyour assessment above does not reveal a D(E) hazard level.\nHover over this cell for additional instructions.\n",null,null,"\nOverall hazard level\n",null,{"$f":"IF(AND(E418=\"\",C404=\"Yes\")=TRUE,\"B\",IF(E418=\"\",\"\",(IF(AND(E418=\"D (E)\",C421=\"\"),\"D (E)\"&CHAR(10)&\"Find if cat. 1 acute tox.\",(IF(E418<>\"D (E)\",E418,(IF(AND(E418=\"D (E)\",C421=\"Yes\"),\"E\",(IF(AND(E418=\"D (E)\",C421=\"No\"),\"D\",\"\"))))))))))","v":""}]
[]
[{"$f":"IF(IF(MOD(ROWS(B$3:B423),20)=1,INDEX('Summary Sheet'!$A$17:$A516,INT(ROWS(B$3:B423)/20)+1),\"\")=0,\"\",IF(MOD(ROWS(B$3:B423),20)=1,INDEX('Summary Sheet'!$A$17:$A516,INT(ROWS(B$3:B423)/20)+1),\"\"))","v":22},"Hazard Level Assessment","for",{"$f":"IF(IF(MOD(ROWS(D$3:D423),20)=1,INDEX('Summary Sheet'!$B$17:$B516,INT(ROWS(D$3:D423)/20)+1),\"\")=0,\"\",IF(MOD(ROWS(D$3:D423),20)=1,INDEX('Summary Sheet'!$B$17:$B516,INT(ROWS(D$3:D423)/20)+1),\"\"))","v":""}]
[null,"\nStep 1: Physical & Environmental Hazard Statements/Codes\nFind Section 2 of the SDS and determine if the SDS has physical and/or environmental hazard statements/codes. Hover on this cell for additional instructions.\n",null,{"$f":"IF(IF(MOD(ROWS(D$3:D424),20)=1,INDEX('Summary Sheet'!$B$17:$B516,INT(ROWS(D$3:D424)/20)+1),\"\")=0,\"\",IF(MOD(ROWS(D$3:D424),20)=1,INDEX('Summary Sheet'!$B$17:$B516,INT(ROWS(D$3:D424)/20)+1),\"\"))","v":""}]
[null,"Step 2: Health Hazard Statements/Codes\nProvide the Health Hazard Statements or Codes from Section 2 of the SDS below. Hover on this cell for additional instructions.",null,{"$f":"IF(IF(MOD(ROWS(D$3:D425),20)=1,INDEX('Summary Sheet'!$B$17:$B516,INT(ROWS(D$3:D425)/20)+1),\"\")=0,\"\",IF(MOD(ROWS(D$3:D425),20)=1,INDEX('Summary Sheet'!$B$17:$B516,INT(ROWS(D$3:D425)/20)+1),\"\"))","v":""},"\nHazard Level\n"]
[null,null,null,{"$f":"IF(IF(MOD(ROWS(D$3:D426),20)=1,INDEX('Summary Sheet'!$B$17:$B516,INT(ROWS(D$3:D426)/20)+1),\"\")=0,\"\",IF(MOD(ROWS(D$3:D426),20)=1,INDEX('Summary Sheet'!$B$17:$B516,INT(ROWS(D$3:D426)/20)+1),\"\"))","v":""},"\nEye Damage\n","\nInhalation\n","\nLocal Skin Damage\n","\nSkin uptake, systemic\n"]
[1,null,{"$f":"_xlfn.IFNA(VLOOKUP(B427,_!$A$7:$F$210,6,FALSE),\"\")","v":""},{"$f":"IF(IF(MOD(ROWS(D$3:D427),20)=1,INDEX('Summary Sheet'!$B$17:$B516,INT(ROWS(D$3:D427)/20)+1),\"\")=0,\"\",IF(MOD(ROWS(D$3:D427),20)=1,INDEX('Summary Sheet'!$B$17:$B516,INT(ROWS(D$3:D427)/20)+1),\"\"))","v":""},{"$f":"_xlfn.IFNA(IF(VLOOKUP(B427,_!$A$7:$E$210,2,FALSE)=0, \"\", VLOOKUP(B427,_!$A$7:$E$210,2,FALSE)),  \"\")","v":""},{"$f":"_xlfn.IFNA(IF(VLOOKUP(B427,_!$A$7:$E$210,3,FALSE)=0, \"\", VLOOKUP(B427,_!$A$7:$E$210,3,FALSE)), \"\")","v":""},{"$f":"_xlfn.IFNA(IF(VLOOKUP(B427,_!$A$7:$E$210,4,FALSE)=0, \"\",VLOOKUP(B427,_!$A$7:$E$210,4,FALSE)), \"\")","v":""},{"$f":"_xlfn.IFNA(IF(VLOOKUP(B427,_!$A$7:$E$210,5,FALSE)=0,\"\",VLOOKUP(B427,_!$A$7:$E$210,5,FALSE)), \"\")","v":""}]
[2,null,{"$f":"_xlfn.IFNA(VLOOKUP(B428,_!$A$7:$F$210,6,FALSE),\"\")","v":""},{"$f":"IF(IF(MOD(ROWS(D$3:D428),20)=1,INDEX('Summary Sheet'!$B$17:$B516,INT(ROWS(D$3:D428)/20)+1),\"\")=0,\"\",IF(MOD(ROWS(D$3:D428),20)=1,INDEX('Summary Sheet'!$B$17:$B516,INT(ROWS(D$3:D428)/20)+1),\"\"))","v":""},{"$f":"_xlfn.IFNA(IF(VLOOKUP(B428,_!$A$7:$E$210,2,FALSE)=0, \"\", VLOOKUP(B428,_!$A$7:$E$210,2,FALSE)),  \"\")","v":""},{"$f":"_xlfn.IFNA(IF(VLOOKUP(B428,_!$A$7:$E$210,3,FALSE)=0, \"\", VLOOKUP(B428,_!$A$7:$E$210,3,FALSE)), \"\")","v":""},{"$f":"_xlfn.IFNA(IF(VLOOKUP(B428,_!$A$7:$E$210,4,FALSE)=0, \"\",VLOOKUP(B428,_!$A$7:$E$210,4,FALSE)), \"\")","v":""},{"$f":"_xlfn.IFNA(IF(VLOOKUP(B428,_!$A$7:$E$210,5,FALSE)=0,\"\",VLOOKUP(B428,_!$A$7:$E$210,5,FALSE)), \"\")","v":""}]
[3,null,{"$f":"_xlfn.IFNA(VLOOKUP(B429,_!$A$7:$F$210,6,FALSE),\"\")","v":""},{"$f":"IF(IF(MOD(ROWS(D$3:D429),20)=1,INDEX('Summary Sheet'!$B$17:$B516,INT(ROWS(D$3:D429)/20)+1),\"\")=0,\"\",IF(MOD(ROWS(D$3:D429),20)=1,INDEX('Summary Sheet'!$B$17:$B516,INT(ROWS(D$3:D429)/20)+1),\"\"))","v":""},{"$f":"_xlfn.IFNA(IF(VLOOKUP(B429,_!$A$7:$E$210,2,FALSE)=0, \"\", VLOOKUP(B429,_!$A$7:$E$210,2,FALSE)),  \"\")","v":""},{"$f":"_xlfn.IFNA(IF(VLOOKUP(B429,_!$A$7:$E$210,3,FALSE)=0, \"\", VLOOKUP(B429,_!$A$7:$E$210,3,FALSE)), \"\")","v":""},{"$f":"_xlfn.IFNA(IF(VLOOKUP(B429,_!$A$7:$E$210,4,FALSE)=0, \"\",VLOOKUP(B429,_!$A$7:$E$210,4,FALSE)), \"\")","v":""},{"$f":"_xlfn.IFNA(IF(VLOOKUP(B429,_!$A$7:$E$210,5,FALSE)=0,\"\",VLOOKUP(B429,_!$A$7:$E$210,5,FALSE)), \"\")","v":""}]
[4,null,{"$f":"_xlfn.IFNA(VLOOKUP(B430,_!$A$7:$F$210,6,FALSE),\"\")","v":""},{"$f":"IF(IF(MOD(ROWS(D$3:D430),20)=1,INDEX('Summary Sheet'!$B$17:$B516,INT(ROWS(D$3:D430)/20)+1),\"\")=0,\"\",IF(MOD(ROWS(D$3:D430),20)=1,INDEX('Summary Sheet'!$B$17:$B516,INT(ROWS(D$3:D430)/20)+1),\"\"))","v":""},{"$f":"_xlfn.IFNA(IF(VLOOKUP(B430,_!$A$7:$E$210,2,FALSE)=0, \"\", VLOOKUP(B430,_!$A$7:$E$210,2,FALSE)),  \"\")","v":""},{"$f":"_xlfn.IFNA(IF(VLOOKUP(B430,_!$A$7:$E$210,3,FALSE)=0, \"\", VLOOKUP(B430,_!$A$7:$E$210,3,FALSE)), \"\")","v":""},{"$f":"_xlfn.IFNA(IF(VLOOKUP(B430,_!$A$7:$E$210,4,FALSE)=0, \"\",VLOOKUP(B430,_!$A$7:$E$210,4,FALSE)), \"\")","v":""},{"$f":"_xlfn.IFNA(IF(VLOOKUP(B430,_!$A$7:$E$210,5,FALSE)=0,\"\",VLOOKUP(B430,_!$A$7:$E$210,5,FALSE)), \"\")","v":""}]
[5,null,{"$f":"_xlfn.IFNA(VLOOKUP(B431,_!$A$7:$F$210,6,FALSE),\"\")","v":""},{"$f":"IF(IF(MOD(ROWS(D$3:D431),20)=1,INDEX('Summary Sheet'!$B$17:$B516,INT(ROWS(D$3:D431)/20)+1),\"\")=0,\"\",IF(MOD(ROWS(D$3:D431),20)=1,INDEX('Summary Sheet'!$B$17:$B516,INT(ROWS(D$3:D431)/20)+1),\"\"))","v":""},{"$f":"_xlfn.IFNA(IF(VLOOKUP(B431,_!$A$7:$E$210,2,FALSE)=0, \"\", VLOOKUP(B431,_!$A$7:$E$210,2,FALSE)),  \"\")","v":""},{"$f":"_xlfn.IFNA(IF(VLOOKUP(B431,_!$A$7:$E$210,3,FALSE)=0, \"\", VLOOKUP(B431,_!$A$7:$E$210,3,FALSE)), \"\")","v":""},{"$f":"_xlfn.IFNA(IF(VLOOKUP(B431,_!$A$7:$E$210,4,FALSE)=0, \"\",VLOOKUP(B431,_!$A$7:$E$210,4,FALSE)), \"\")","v":""},{"$f":"_xlfn.IFNA(IF(VLOOKUP(B431,_!$A$7:$E$210,5,FALSE)=0,\"\",VLOOKUP(B431,_!$A$7:$E$210,5,FALSE)), \"\")","v":""}]
[6,null,{"$f":"_xlfn.IFNA(VLOOKUP(B432,_!$A$7:$F$210,6,FALSE),\"\")","v":""},{"$f":"IF(IF(MOD(ROWS(D$3:D432),20)=1,INDEX('Summary Sheet'!$B$17:$B516,INT(ROWS(D$3:D432)/20)+1),\"\")=0,\"\",IF(MOD(ROWS(D$3:D432),20)=1,INDEX('Summary Sheet'!$B$17:$B516,INT(ROWS(D$3:D432)/20)+1),\"\"))","v":""},{"$f":"_xlfn.IFNA(IF(VLOOKUP(B432,_!$A$7:$E$210,2,FALSE)=0, \"\", VLOOKUP(B432,_!$A$7:$E$210,2,FALSE)),  \"\")","v":""},{"$f":"_xlfn.IFNA(IF(VLOOKUP(B432,_!$A$7:$E$210,3,FALSE)=0, \"\", VLOOKUP(B432,_!$A$7:$E$210,3,FALSE)), \"\")","v":""},{"$f":"_xlfn.IFNA(IF(VLOOKUP(B432,_!$A$7:$E$210,4,FALSE)=0, \"\",VLOOKUP(B432,_!$A$7:$E$210,4,FALSE)), \"\")","v":""},{"$f":"_xlfn.IFNA(IF(VLOOKUP(B432,_!$A$7:$E$210,5,FALSE)=0,\"\",VLOOKUP(B432,_!$A$7:$E$210,5,FALSE)), \"\")","v":""}]
[7,null,{"$f":"_xlfn.IFNA(VLOOKUP(B433,_!$A$7:$F$210,6,FALSE),\"\")","v":""},{"$f":"IF(IF(MOD(ROWS(D$3:D433),20)=1,INDEX('Summary Sheet'!$B$17:$B516,INT(ROWS(D$3:D433)/20)+1),\"\")=0,\"\",IF(MOD(ROWS(D$3:D433),20)=1,INDEX('Summary Sheet'!$B$17:$B516,INT(ROWS(D$3:D433)/20)+1),\"\"))","v":""},{"$f":"_xlfn.IFNA(IF(VLOOKUP(B433,_!$A$7:$E$210,2,FALSE)=0, \"\", VLOOKUP(B433,_!$A$7:$E$210,2,FALSE)),  \"\")","v":""},{"$f":"_xlfn.IFNA(IF(VLOOKUP(B433,_!$A$7:$E$210,3,FALSE)=0, \"\", VLOOKUP(B433,_!$A$7:$E$210,3,FALSE)), \"\")","v":""},{"$f":"_xlfn.IFNA(IF(VLOOKUP(B433,_!$A$7:$E$210,4,FALSE)=0, \"\",VLOOKUP(B433,_!$A$7:$E$210,4,FALSE)), \"\")","v":""},{"$f":"_xlfn.IFNA(IF(VLOOKUP(B433,_!$A$7:$E$210,5,FALSE)=0,\"\",VLOOKUP(B433,_!$A$7:$E$210,5,FALSE)), \"\")","v":""}]
[8,null,{"$f":"_xlfn.IFNA(VLOOKUP(B434,_!$A$7:$F$210,6,FALSE),\"\")","v":""},{"$f":"IF(IF(MOD(ROWS(D$3:D434),20)=1,INDEX('Summary Sheet'!$B$17:$B516,INT(ROWS(D$3:D434)/20)+1),\"\")=0,\"\",IF(MOD(ROWS(D$3:D434),20)=1,INDEX('Summary Sheet'!$B$17:$B516,INT(ROWS(D$3:D434)/20)+1),\"\"))","v":""},{"$f":"_xlfn.IFNA(IF(VLOOKUP(B434,_!$A$7:$E$210,2,FALSE)=0, \"\", VLOOKUP(B434,_!$A$7:$E$210,2,FALSE)),  \"\")","v":""},{"$f":"_xlfn.IFNA(IF(VLOOKUP(B434,_!$A$7:$E$210,3,FALSE)=0, \"\", VLOOKUP(B434,_!$A$7:$E$210,3,FALSE)), \"\")","v":""},{"$f":"_xlfn.IFNA(IF(VLOOKUP(B434,_!$A$7:$E$210,4,FALSE)=0, \"\",VLOOKUP(B434,_!$A$7:$E$210,4,FALSE)), \"\")","v":""},{"$f":"_xlfn.IFNA(IF(VLOOKUP(B434,_!$A$7:$E$210,5,FALSE)=0,\"\",VLOOKUP(B434,_!$A$7:$E$210,5,FALSE)), \"\")","v":""}]
[9,null,{"$f":"_xlfn.IFNA(VLOOKUP(B435,_!$A$7:$F$210,6,FALSE),\"\")","v":""},{"$f":"IF(IF(MOD(ROWS(D$3:D435),20)=1,INDEX('Summary Sheet'!$B$17:$B516,INT(ROWS(D$3:D435)/20)+1),\"\")=0,\"\",IF(MOD(ROWS(D$3:D435),20)=1,INDEX('Summary Sheet'!$B$17:$B516,INT(ROWS(D$3:D435)/20)+1),\"\"))","v":""},{"$f":"_xlfn.IFNA(IF(VLOOKUP(B435,_!$A$7:$E$210,2,FALSE)=0, \"\", VLOOKUP(B435,_!$A$7:$E$210,2,FALSE)),  \"\")","v":""},{"$f":"_xlfn.IFNA(IF(VLOOKUP(B435,_!$A$7:$E$210,3,FALSE)=0, \"\", VLOOKUP(B435,_!$A$7:$E$210,3,FALSE)), \"\")","v":""},{"$f":"_xlfn.IFNA(IF(VLOOKUP(B435,_!$A$7:$E$210,4,FALSE)=0, \"\",VLOOKUP(B435,_!$A$7:$E$210,4,FALSE)), \"\")","v":""},{"$f":"_xlfn.IFNA(IF(VLOOKUP(B435,_!$A$7:$E$210,5,FALSE)=0,\"\",VLOOKUP(B435,_!$A$7:$E$210,5,FALSE)), \"\")","v":""}]
[10,null,{"$f":"_xlfn.IFNA(VLOOKUP(B436,_!$A$7:$F$210,6,FALSE),\"\")","v":""},{"$f":"IF(IF(MOD(ROWS(D$14:D436),20)=1,INDEX('Summary Sheet'!$B$17:$B516,INT(ROWS(D$14:D436)/20)+1),\"\")=0,\"\",IF(MOD(ROWS(D$14:D436),20)=1,INDEX('Summary Sheet'!$B$17:$B516,INT(ROWS(D$14:D436)/20)+1),\"\"))","v":""},{"$f":"_xlfn.IFNA(IF(VLOOKUP(B436,_!$A$7:$E$210,2,FALSE)=0, \"\", VLOOKUP(B436,_!$A$7:$E$210,2,FALSE)),  \"\")","v":""},{"$f":"_xlfn.IFNA(IF(VLOOKUP(B436,_!$A$7:$E$210,3,FALSE)=0, \"\", VLOOKUP(B436,_!$A$7:$E$210,3,FALSE)), \"\")","v":""},{"$f":"_xlfn.IFNA(IF(VLOOKUP(B436,_!$A$7:$E$210,4,FALSE)=0, \"\",VLOOKUP(B436,_!$A$7:$E$210,4,FALSE)), \"\")","v":""},{"$f":"_xlfn.IFNA(IF(VLOOKUP(B436,_!$A$7:$E$210,5,FALSE)=0,\"\",VLOOKUP(B436,_!$A$7:$E$210,5,FALSE)), \"\")","v":""}]
[null,"\nHighest hazard level for each ‘Uptake Route’\n",null,null,{"$f":"_xlfn.IFNA(IF((INDEX(E427:E436,MATCH(\"E\",E427:E436,0)))=\"E\",\"E\",\"\"),_xlfn.IFNA(IF((INDEX(E427:E436,MATCH(\"D\",E427:E436,0)))=\"D\",\"D\",\"\"),_xlfn.IFNA(IF((INDEX(E427:E436,MATCH(\"Ca\",E427:E436,0)))=\"Ca\",\"C\",\"\"),_xlfn.IFNA(IF((INDEX(E427:E436,MATCH(\"C\",E427:E436,0)))=\"C\",\"C\",\"\"),_xlfn.IFNA(IF((INDEX(E427:E436,MATCH(\"B\",E427:E436,0)))=\"B\",\"B\",\"\"),_xlfn.IFNA(IF((INDEX(E427:E436,MATCH(\"A\",E427:E436,0)))=\"A\",\"A\",\"\"),_xlfn.IFNA(IF((INDEX(E427:E436,MATCH(\"n.a.\",E427:E436,0)))=\"n.a.\",\"\",\"\"),_xlfn.IFNA(IF((INDEX(E427:E436,MATCH(\"\",E427:E436,0)))=\"\",\"\",\"\"),\"\"))))))))","v":""},{"$f":"_xlfn.IFNA(IF((INDEX(F427:F436,MATCH(\"E\",F427:F436,0)))=\"E\",\"E\",\"\"),_xlfn.IFNA(IF((INDEX(F427:F436,MATCH(\"D (E)c\",F427:F436,0)))=\"D (E)c\",\"D (E)c\",\"\"),_xlfn.IFNA(IF((INDEX(F427:F436,MATCH(\"Da (E)c\",F427:F436,0)))=\"Da (E)c\",\"D (E)c\",\"\"),_xlfn.IFNA(IF((INDEX(F427:F436,MATCH(\"D\",F427:F436,0)))=\"D\",\"D\",\"\"),_xlfn.IFNA(IF((INDEX(F427:F436,MATCH(\"Ca\",F427:F436,0)))=\"Ca\",\"C\",\"\"),_xlfn.IFNA(IF((INDEX(F427:F436,MATCH(\"C\",F427:F436,0)))=\"C\",\"C\",\"\"),_xlfn.IFNA(IF((INDEX(F427:F436,MATCH(\"Ba\",F427:F436,0)))=\"Ba\",\"B\",\"\"),_xlfn.IFNA(IF((INDEX(F427:F436,MATCH(\"B\",F427:F436,0)))=\"B\",\"B\",\"\"),_xlfn.IFNA(IF((INDEX(F427:F436,MATCH(\"Aa\",F427:F436,0)))=\"Aa\",\"A\",\"\"),_xlfn.IFNA(IF((INDEX(F427:F436,MATCH(\"A\",F427:F436,0)))=\"A\",\"A\",\"\"),_xlfn.IFNA(IF((INDEX(F427:F436,MATCH(\"n.a.\",F427:F436,0)))=\"n.a.\",\"\",\"\"),_xlfn.IFNA(IF((INDEX(F427:F436,MATCH(\"\",F427:F436,0)))=\"\",\"\",\"\"),\"\"))))))))))))","v":""},{"$f":"_xlfn.IFNA(IF((INDEX(G427:G436,MATCH(\"E\",G427:G436,0)))=\"E\",\"E\",\"\"),_xlfn.IFNA(IF((INDEX(G427:G436,MATCH(\"D\",G427:G436,0)))=\"D\",\"D\",\"\"),_xlfn.IFNA(IF((INDEX(G427:G436,MATCH(\"Ca\",G427:G436,0)))=\"Ca\",\"C\",\"\"),_xlfn.IFNA(IF((INDEX(G427:G436,MATCH(\"C\",G427:G436,0)))=\"C\",\"C\",\"\"),_xlfn.IFNA(IF((INDEX(G427:G436,MATCH(\"B\",G427:G436,0)))=\"B\",\"B\",\"\"),_xlfn.IFNA(IF((INDEX(G427:G436,MATCH(\"A\",G427:G436,0)))=\"A\",\"A\",\"\"),_xlfn.IFNA(IF((INDEX(G427:G436,MATCH(\"n.a.\",G427:G436,0)))=\"n.a.\",\"\",\"\"),_xlfn.IFNA(IF((INDEX(G427:G436,MATCH(\"\",G427:G436,0)))=\"\",\"\",\"\"),\"\"))))))))","v":""},{"$f":"_xlfn.IFNA(IF((INDEX(H427:H436,MATCH(\"E\",H427:H436,0)))=\"E\",\"E\",\"\"),_xlfn.IFNA(IF((INDEX(H427:H436,MATCH(\"D (E)c\",H427:H436,0)))=\"D (E)c\",\"D (E)c\",\"\"),_xlfn.IFNA(IF((INDEX(H427:H436,MATCH(\"Db (E)c\",H427:H436,0)))=\"Db (E)c\",\"D (E)c\",\"\"),_xlfn.IFNA(IF((INDEX(H427:H436,MATCH(\"D\",H427:H436,0)))=\"D\",\"D\",\"\"),_xlfn.IFNA(IF((INDEX(H427:H436,MATCH(\"Cb\",H427:H436,0)))=\"Cb\",\"C\",\"\"),_xlfn.IFNA(IF((INDEX(H427:H436,MATCH(\"C\",H427:H436,0)))=\"C\",\"C\",\"\"),_xlfn.IFNA(IF((INDEX(H427:H436,MATCH(\"Bb\",H427:H436,0)))=\"Bb\",\"B\",\"\"),_xlfn.IFNA(IF((INDEX(H427:H436,MATCH(\"B\",H427:H436,0)))=\"B\",\"B\",\"\"),_xlfn.IFNA(IF((INDEX(H427:H436,MATCH(\"Ab\",H427:H436,0)))=\"Ab\",\"A\",\"\"),_xlfn.IFNA(IF((INDEX(H427:H436,MATCH(\"A\",H427:H436,0)))=\"A\",\"A\",\"\"),_xlfn.IFNA(IF((INDEX(H427:H436,MATCH(\"n.a.\",H427:H436,0)))=\"n.a.\",\"\",\"\"),_xlfn.IFNA(IF((INDEX(H427:H436,MATCH(\"\",H427:H436,0)))=\"\",\"\",\"\"),\"\"))))))))))))","v":""}]
[null,"\nHighest hazard level for all 'Uptake Routes' \n",null,null,{"$f":"_xlfn.IFNA(IF((INDEX(E437:H437,MATCH(\"E\",E437:H437,0)))=\"E\",\"E\",\"\"),_xlfn.IFNA(IF((INDEX(E437:H437,MATCH(\"D (E)c\",E437:H437,0)))=\"D (E)c\",\"D (E)\",\"\"),_xlfn.IFNA(IF((INDEX(E437:H437,MATCH(\"D\",E437:H437,0)))=\"D\",\"D\",\"\"),_xlfn.IFNA(IF((INDEX(E437:H437,MATCH(\"C\",E437:H437,0)))=\"C\",\"C\",\"\"),_xlfn.IFNA(IF((INDEX(E437:H437,MATCH(\"B\",E437:H437,0)))=\"B\",\"B\",\"\"),_xlfn.IFNA(IF((INDEX(E437:H437,MATCH(\"A\",E437:H437,0)))=\"A\",\"A\",\"\"),_xlfn.IFNA(IF((INDEX(E437:H437,MATCH(\"n.a.\",E437:H437,0)))=\"n.a.\",\"\",\"\"),_xlfn.IFNA(IF((INDEX(E437:H437,MATCH(\"\",E437:H437,0)))=\"\",\"\",\"\"),\"\"))))))))","v":""}]
[]
[]
[null,"\nStep 3: D(E) Assessment\nSkip this step if \nyour assessment above does not reveal a D(E) hazard level.\nHover over this cell for additional instructions.\n",null,null,"\nOverall hazard level\n",null,{"$f":"IF(AND(E438=\"\",C424=\"Yes\")=TRUE,\"B\",IF(E438=\"\",\"\",(IF(AND(E438=\"D (E)\",C441=\"\"),\"D (E)\"&CHAR(10)&\"Find if cat. 1 acute tox.\",(IF(E438<>\"D (E)\",E438,(IF(AND(E438=\"D (E)\",C441=\"Yes\"),\"E\",(IF(AND(E438=\"D (E)\",C441=\"No\"),\"D\",\"\"))))))))))","v":""}]
[]
[{"$f":"IF(IF(MOD(ROWS(B$3:B443),20)=1,INDEX('Summary Sheet'!$A$17:$A535,INT(ROWS(B$3:B443)/20)+1),\"\")=0,\"\",IF(MOD(ROWS(B$3:B443),20)=1,INDEX('Summary Sheet'!$A$17:$A535,INT(ROWS(B$3:B443)/20)+1),\"\"))","v":23},"Hazard Level Assessment","for",{"$f":"IF(IF(MOD(ROWS(D$3:D443),20)=1,INDEX('Summary Sheet'!$B$17:$B535,INT(ROWS(D$3:D443)/20)+1),\"\")=0,\"\",IF(MOD(ROWS(D$3:D443),20)=1,INDEX('Summary Sheet'!$B$17:$B535,INT(ROWS(D$3:D443)/20)+1),\"\"))","v":""}]
[null,"\nStep 1: Physical & Environmental Hazard Statements/Codes\nFind Section 2 of the SDS and determine if the SDS has physical and/or environmental hazard statements/codes. Hover on this cell for additional instructions.\n",null,{"$f":"IF(IF(MOD(ROWS(D$3:D444),20)=1,INDEX('Summary Sheet'!$B$17:$B535,INT(ROWS(D$3:D444)/20)+1),\"\")=0,\"\",IF(MOD(ROWS(D$3:D444),20)=1,INDEX('Summary Sheet'!$B$17:$B535,INT(ROWS(D$3:D444)/20)+1),\"\"))","v":""}]
[null,"Step 2: Health Hazard Statements/Codes\nProvide the Health Hazard Statements or Codes from Section 2 of the SDS below. Hover on this cell for additional instructions.",null,{"$f":"IF(IF(MOD(ROWS(D$3:D445),20)=1,INDEX('Summary Sheet'!$B$17:$B535,INT(ROWS(D$3:D445)/20)+1),\"\")=0,\"\",IF(MOD(ROWS(D$3:D445),20)=1,INDEX('Summary Sheet'!$B$17:$B535,INT(ROWS(D$3:D445)/20)+1),\"\"))","v":""},"\nHazard Level\n"]
[null,null,null,{"$f":"IF(IF(MOD(ROWS(D$3:D446),20)=1,INDEX('Summary Sheet'!$B$17:$B535,INT(ROWS(D$3:D446)/20)+1),\"\")=0,\"\",IF(MOD(ROWS(D$3:D446),20)=1,INDEX('Summary Sheet'!$B$17:$B535,INT(ROWS(D$3:D446)/20)+1),\"\"))","v":""},"\nEye Damage\n","\nInhalation\n","\nLocal Skin Damage\n","\nSkin uptake, systemic\n"]
[1,null,{"$f":"_xlfn.IFNA(VLOOKUP(B447,_!$A$7:$F$210,6,FALSE),\"\")","v":""},{"$f":"IF(IF(MOD(ROWS(D$3:D447),20)=1,INDEX('Summary Sheet'!$B$17:$B535,INT(ROWS(D$3:D447)/20)+1),\"\")=0,\"\",IF(MOD(ROWS(D$3:D447),20)=1,INDEX('Summary Sheet'!$B$17:$B535,INT(ROWS(D$3:D447)/20)+1),\"\"))","v":""},{"$f":"_xlfn.IFNA(IF(VLOOKUP(B447,_!$A$7:$E$210,2,FALSE)=0, \"\", VLOOKUP(B447,_!$A$7:$E$210,2,FALSE)),  \"\")","v":""},{"$f":"_xlfn.IFNA(IF(VLOOKUP(B447,_!$A$7:$E$210,3,FALSE)=0, \"\", VLOOKUP(B447,_!$A$7:$E$210,3,FALSE)), \"\")","v":""},{"$f":"_xlfn.IFNA(IF(VLOOKUP(B447,_!$A$7:$E$210,4,FALSE)=0, \"\",VLOOKUP(B447,_!$A$7:$E$210,4,FALSE)), \"\")","v":""},{"$f":"_xlfn.IFNA(IF(VLOOKUP(B447,_!$A$7:$E$210,5,FALSE)=0,\"\",VLOOKUP(B447,_!$A$7:$E$210,5,FALSE)), \"\")","v":""}]
[2,null,{"$f":"_xlfn.IFNA(VLOOKUP(B448,_!$A$7:$F$210,6,FALSE),\"\")","v":""},{"$f":"IF(IF(MOD(ROWS(D$3:D448),20)=1,INDEX('Summary Sheet'!$B$17:$B535,INT(ROWS(D$3:D448)/20)+1),\"\")=0,\"\",IF(MOD(ROWS(D$3:D448),20)=1,INDEX('Summary Sheet'!$B$17:$B535,INT(ROWS(D$3:D448)/20)+1),\"\"))","v":""},{"$f":"_xlfn.IFNA(IF(VLOOKUP(B448,_!$A$7:$E$210,2,FALSE)=0, \"\", VLOOKUP(B448,_!$A$7:$E$210,2,FALSE)),  \"\")","v":""},{"$f":"_xlfn.IFNA(IF(VLOOKUP(B448,_!$A$7:$E$210,3,FALSE)=0, \"\", VLOOKUP(B448,_!$A$7:$E$210,3,FALSE)), \"\")","v":""},{"$f":"_xlfn.IFNA(IF(VLOOKUP(B448,_!$A$7:$E$210,4,FALSE)=0, \"\",VLOOKUP(B448,_!$A$7:$E$210,4,FALSE)), \"\")","v":""},{"$f":"_xlfn.IFNA(IF(VLOOKUP(B448,_!$A$7:$E$210,5,FALSE)=0,\"\",VLOOKUP(B448,_!$A$7:$E$210,5,FALSE)), \"\")","v":""}]
[3,null,{"$f":"_xlfn.IFNA(VLOOKUP(B449,_!$A$7:$F$210,6,FALSE),\"\")","v":""},{"$f":"IF(IF(MOD(ROWS(D$3:D449),20)=1,INDEX('Summary Sheet'!$B$17:$B535,INT(ROWS(D$3:D449)/20)+1),\"\")=0,\"\",IF(MOD(ROWS(D$3:D449),20)=1,INDEX('Summary Sheet'!$B$17:$B535,INT(ROWS(D$3:D449)/20)+1),\"\"))","v":""},{"$f":"_xlfn.IFNA(IF(VLOOKUP(B449,_!$A$7:$E$210,2,FALSE)=0, \"\", VLOOKUP(B449,_!$A$7:$E$210,2,FALSE)),  \"\")","v":""},{"$f":"_xlfn.IFNA(IF(VLOOKUP(B449,_!$A$7:$E$210,3,FALSE)=0, \"\", VLOOKUP(B449,_!$A$7:$E$210,3,FALSE)), \"\")","v":""},{"$f":"_xlfn.IFNA(IF(VLOOKUP(B449,_!$A$7:$E$210,4,FALSE)=0, \"\",VLOOKUP(B449,_!$A$7:$E$210,4,FALSE)), \"\")","v":""},{"$f":"_xlfn.IFNA(IF(VLOOKUP(B449,_!$A$7:$E$210,5,FALSE)=0,\"\",VLOOKUP(B449,_!$A$7:$E$210,5,FALSE)), \"\")","v":""}]
[4,null,{"$f":"_xlfn.IFNA(VLOOKUP(B450,_!$A$7:$F$210,6,FALSE),\"\")","v":""},{"$f":"IF(IF(MOD(ROWS(D$3:D450),20)=1,INDEX('Summary Sheet'!$B$17:$B535,INT(ROWS(D$3:D450)/20)+1),\"\")=0,\"\",IF(MOD(ROWS(D$3:D450),20)=1,INDEX('Summary Sheet'!$B$17:$B535,INT(ROWS(D$3:D450)/20)+1),\"\"))","v":""},{"$f":"_xlfn.IFNA(IF(VLOOKUP(B450,_!$A$7:$E$210,2,FALSE)=0, \"\", VLOOKUP(B450,_!$A$7:$E$210,2,FALSE)),  \"\")","v":""},{"$f":"_xlfn.IFNA(IF(VLOOKUP(B450,_!$A$7:$E$210,3,FALSE)=0, \"\", VLOOKUP(B450,_!$A$7:$E$210,3,FALSE)), \"\")","v":""},{"$f":"_xlfn.IFNA(IF(VLOOKUP(B450,_!$A$7:$E$210,4,FALSE)=0, \"\",VLOOKUP(B450,_!$A$7:$E$210,4,FALSE)), \"\")","v":""},{"$f":"_xlfn.IFNA(IF(VLOOKUP(B450,_!$A$7:$E$210,5,FALSE)=0,\"\",VLOOKUP(B450,_!$A$7:$E$210,5,FALSE)), \"\")","v":""}]
[5,null,{"$f":"_xlfn.IFNA(VLOOKUP(B451,_!$A$7:$F$210,6,FALSE),\"\")","v":""},{"$f":"IF(IF(MOD(ROWS(D$3:D451),20)=1,INDEX('Summary Sheet'!$B$17:$B535,INT(ROWS(D$3:D451)/20)+1),\"\")=0,\"\",IF(MOD(ROWS(D$3:D451),20)=1,INDEX('Summary Sheet'!$B$17:$B535,INT(ROWS(D$3:D451)/20)+1),\"\"))","v":""},{"$f":"_xlfn.IFNA(IF(VLOOKUP(B451,_!$A$7:$E$210,2,FALSE)=0, \"\", VLOOKUP(B451,_!$A$7:$E$210,2,FALSE)),  \"\")","v":""},{"$f":"_xlfn.IFNA(IF(VLOOKUP(B451,_!$A$7:$E$210,3,FALSE)=0, \"\", VLOOKUP(B451,_!$A$7:$E$210,3,FALSE)), \"\")","v":""},{"$f":"_xlfn.IFNA(IF(VLOOKUP(B451,_!$A$7:$E$210,4,FALSE)=0, \"\",VLOOKUP(B451,_!$A$7:$E$210,4,FALSE)), \"\")","v":""},{"$f":"_xlfn.IFNA(IF(VLOOKUP(B451,_!$A$7:$E$210,5,FALSE)=0,\"\",VLOOKUP(B451,_!$A$7:$E$210,5,FALSE)), \"\")","v":""}]
[6,null,{"$f":"_xlfn.IFNA(VLOOKUP(B452,_!$A$7:$F$210,6,FALSE),\"\")","v":""},{"$f":"IF(IF(MOD(ROWS(D$3:D452),20)=1,INDEX('Summary Sheet'!$B$17:$B535,INT(ROWS(D$3:D452)/20)+1),\"\")=0,\"\",IF(MOD(ROWS(D$3:D452),20)=1,INDEX('Summary Sheet'!$B$17:$B535,INT(ROWS(D$3:D452)/20)+1),\"\"))","v":""},{"$f":"_xlfn.IFNA(IF(VLOOKUP(B452,_!$A$7:$E$210,2,FALSE)=0, \"\", VLOOKUP(B452,_!$A$7:$E$210,2,FALSE)),  \"\")","v":""},{"$f":"_xlfn.IFNA(IF(VLOOKUP(B452,_!$A$7:$E$210,3,FALSE)=0, \"\", VLOOKUP(B452,_!$A$7:$E$210,3,FALSE)), \"\")","v":""},{"$f":"_xlfn.IFNA(IF(VLOOKUP(B452,_!$A$7:$E$210,4,FALSE)=0, \"\",VLOOKUP(B452,_!$A$7:$E$210,4,FALSE)), \"\")","v":""},{"$f":"_xlfn.IFNA(IF(VLOOKUP(B452,_!$A$7:$E$210,5,FALSE)=0,\"\",VLOOKUP(B452,_!$A$7:$E$210,5,FALSE)), \"\")","v":""}]
[7,null,{"$f":"_xlfn.IFNA(VLOOKUP(B453,_!$A$7:$F$210,6,FALSE),\"\")","v":""},{"$f":"IF(IF(MOD(ROWS(D$3:D453),20)=1,INDEX('Summary Sheet'!$B$17:$B535,INT(ROWS(D$3:D453)/20)+1),\"\")=0,\"\",IF(MOD(ROWS(D$3:D453),20)=1,INDEX('Summary Sheet'!$B$17:$B535,INT(ROWS(D$3:D453)/20)+1),\"\"))","v":""},{"$f":"_xlfn.IFNA(IF(VLOOKUP(B453,_!$A$7:$E$210,2,FALSE)=0, \"\", VLOOKUP(B453,_!$A$7:$E$210,2,FALSE)),  \"\")","v":""},{"$f":"_xlfn.IFNA(IF(VLOOKUP(B453,_!$A$7:$E$210,3,FALSE)=0, \"\", VLOOKUP(B453,_!$A$7:$E$210,3,FALSE)), \"\")","v":""},{"$f":"_xlfn.IFNA(IF(VLOOKUP(B453,_!$A$7:$E$210,4,FALSE)=0, \"\",VLOOKUP(B453,_!$A$7:$E$210,4,FALSE)), \"\")","v":""},{"$f":"_xlfn.IFNA(IF(VLOOKUP(B453,_!$A$7:$E$210,5,FALSE)=0,\"\",VLOOKUP(B453,_!$A$7:$E$210,5,FALSE)), \"\")","v":""}]
[8,null,{"$f":"_xlfn.IFNA(VLOOKUP(B454,_!$A$7:$F$210,6,FALSE),\"\")","v":""},{"$f":"IF(IF(MOD(ROWS(D$3:D454),20)=1,INDEX('Summary Sheet'!$B$17:$B535,INT(ROWS(D$3:D454)/20)+1),\"\")=0,\"\",IF(MOD(ROWS(D$3:D454),20)=1,INDEX('Summary Sheet'!$B$17:$B535,INT(ROWS(D$3:D454)/20)+1),\"\"))","v":""},{"$f":"_xlfn.IFNA(IF(VLOOKUP(B454,_!$A$7:$E$210,2,FALSE)=0, \"\", VLOOKUP(B454,_!$A$7:$E$210,2,FALSE)),  \"\")","v":""},{"$f":"_xlfn.IFNA(IF(VLOOKUP(B454,_!$A$7:$E$210,3,FALSE)=0, \"\", VLOOKUP(B454,_!$A$7:$E$210,3,FALSE)), \"\")","v":""},{"$f":"_xlfn.IFNA(IF(VLOOKUP(B454,_!$A$7:$E$210,4,FALSE)=0, \"\",VLOOKUP(B454,_!$A$7:$E$210,4,FALSE)), \"\")","v":""},{"$f":"_xlfn.IFNA(IF(VLOOKUP(B454,_!$A$7:$E$210,5,FALSE)=0,\"\",VLOOKUP(B454,_!$A$7:$E$210,5,FALSE)), \"\")","v":""}]
[9,null,{"$f":"_xlfn.IFNA(VLOOKUP(B455,_!$A$7:$F$210,6,FALSE),\"\")","v":""},{"$f":"IF(IF(MOD(ROWS(D$3:D455),20)=1,INDEX('Summary Sheet'!$B$17:$B535,INT(ROWS(D$3:D455)/20)+1),\"\")=0,\"\",IF(MOD(ROWS(D$3:D455),20)=1,INDEX('Summary Sheet'!$B$17:$B535,INT(ROWS(D$3:D455)/20)+1),\"\"))","v":""},{"$f":"_xlfn.IFNA(IF(VLOOKUP(B455,_!$A$7:$E$210,2,FALSE)=0, \"\", VLOOKUP(B455,_!$A$7:$E$210,2,FALSE)),  \"\")","v":""},{"$f":"_xlfn.IFNA(IF(VLOOKUP(B455,_!$A$7:$E$210,3,FALSE)=0, \"\", VLOOKUP(B455,_!$A$7:$E$210,3,FALSE)), \"\")","v":""},{"$f":"_xlfn.IFNA(IF(VLOOKUP(B455,_!$A$7:$E$210,4,FALSE)=0, \"\",VLOOKUP(B455,_!$A$7:$E$210,4,FALSE)), \"\")","v":""},{"$f":"_xlfn.IFNA(IF(VLOOKUP(B455,_!$A$7:$E$210,5,FALSE)=0,\"\",VLOOKUP(B455,_!$A$7:$E$210,5,FALSE)), \"\")","v":""}]
[10,null,{"$f":"_xlfn.IFNA(VLOOKUP(B456,_!$A$7:$F$210,6,FALSE),\"\")","v":""},{"$f":"IF(IF(MOD(ROWS(D$14:D456),20)=1,INDEX('Summary Sheet'!$B$17:$B535,INT(ROWS(D$14:D456)/20)+1),\"\")=0,\"\",IF(MOD(ROWS(D$14:D456),20)=1,INDEX('Summary Sheet'!$B$17:$B535,INT(ROWS(D$14:D456)/20)+1),\"\"))","v":""},{"$f":"_xlfn.IFNA(IF(VLOOKUP(B456,_!$A$7:$E$210,2,FALSE)=0, \"\", VLOOKUP(B456,_!$A$7:$E$210,2,FALSE)),  \"\")","v":""},{"$f":"_xlfn.IFNA(IF(VLOOKUP(B456,_!$A$7:$E$210,3,FALSE)=0, \"\", VLOOKUP(B456,_!$A$7:$E$210,3,FALSE)), \"\")","v":""},{"$f":"_xlfn.IFNA(IF(VLOOKUP(B456,_!$A$7:$E$210,4,FALSE)=0, \"\",VLOOKUP(B456,_!$A$7:$E$210,4,FALSE)), \"\")","v":""},{"$f":"_xlfn.IFNA(IF(VLOOKUP(B456,_!$A$7:$E$210,5,FALSE)=0,\"\",VLOOKUP(B456,_!$A$7:$E$210,5,FALSE)), \"\")","v":""}]
[null,"\nHighest hazard level for each ‘Uptake Route’\n",null,null,{"$f":"_xlfn.IFNA(IF((INDEX(E447:E456,MATCH(\"E\",E447:E456,0)))=\"E\",\"E\",\"\"),_xlfn.IFNA(IF((INDEX(E447:E456,MATCH(\"D\",E447:E456,0)))=\"D\",\"D\",\"\"),_xlfn.IFNA(IF((INDEX(E447:E456,MATCH(\"Ca\",E447:E456,0)))=\"Ca\",\"C\",\"\"),_xlfn.IFNA(IF((INDEX(E447:E456,MATCH(\"C\",E447:E456,0)))=\"C\",\"C\",\"\"),_xlfn.IFNA(IF((INDEX(E447:E456,MATCH(\"B\",E447:E456,0)))=\"B\",\"B\",\"\"),_xlfn.IFNA(IF((INDEX(E447:E456,MATCH(\"A\",E447:E456,0)))=\"A\",\"A\",\"\"),_xlfn.IFNA(IF((INDEX(E447:E456,MATCH(\"n.a.\",E447:E456,0)))=\"n.a.\",\"\",\"\"),_xlfn.IFNA(IF((INDEX(E447:E456,MATCH(\"\",E447:E456,0)))=\"\",\"\",\"\"),\"\"))))))))","v":""},{"$f":"_xlfn.IFNA(IF((INDEX(F447:F456,MATCH(\"E\",F447:F456,0)))=\"E\",\"E\",\"\"),_xlfn.IFNA(IF((INDEX(F447:F456,MATCH(\"D (E)c\",F447:F456,0)))=\"D (E)c\",\"D (E)c\",\"\"),_xlfn.IFNA(IF((INDEX(F447:F456,MATCH(\"Da (E)c\",F447:F456,0)))=\"Da (E)c\",\"D (E)c\",\"\"),_xlfn.IFNA(IF((INDEX(F447:F456,MATCH(\"D\",F447:F456,0)))=\"D\",\"D\",\"\"),_xlfn.IFNA(IF((INDEX(F447:F456,MATCH(\"Ca\",F447:F456,0)))=\"Ca\",\"C\",\"\"),_xlfn.IFNA(IF((INDEX(F447:F456,MATCH(\"C\",F447:F456,0)))=\"C\",\"C\",\"\"),_xlfn.IFNA(IF((INDEX(F447:F456,MATCH(\"Ba\",F447:F456,0)))=\"Ba\",\"B\",\"\"),_xlfn.IFNA(IF((INDEX(F447:F456,MATCH(\"B\",F447:F456,0)))=\"B\",\"B\",\"\"),_xlfn.IFNA(IF((INDEX(F447:F456,MATCH(\"Aa\",F447:F456,0)))=\"Aa\",\"A\",\"\"),_xlfn.IFNA(IF((INDEX(F447:F456,MATCH(\"A\",F447:F456,0)))=\"A\",\"A\",\"\"),_xlfn.IFNA(IF((INDEX(F447:F456,MATCH(\"n.a.\",F447:F456,0)))=\"n.a.\",\"\",\"\"),_xlfn.IFNA(IF((INDEX(F447:F456,MATCH(\"\",F447:F456,0)))=\"\",\"\",\"\"),\"\"))))))))))))","v":""},{"$f":"_xlfn.IFNA(IF((INDEX(G447:G456,MATCH(\"E\",G447:G456,0)))=\"E\",\"E\",\"\"),_xlfn.IFNA(IF((INDEX(G447:G456,MATCH(\"D\",G447:G456,0)))=\"D\",\"D\",\"\"),_xlfn.IFNA(IF((INDEX(G447:G456,MATCH(\"Ca\",G447:G456,0)))=\"Ca\",\"C\",\"\"),_xlfn.IFNA(IF((INDEX(G447:G456,MATCH(\"C\",G447:G456,0)))=\"C\",\"C\",\"\"),_xlfn.IFNA(IF((INDEX(G447:G456,MATCH(\"B\",G447:G456,0)))=\"B\",\"B\",\"\"),_xlfn.IFNA(IF((INDEX(G447:G456,MATCH(\"A\",G447:G456,0)))=\"A\",\"A\",\"\"),_xlfn.IFNA(IF((INDEX(G447:G456,MATCH(\"n.a.\",G447:G456,0)))=\"n.a.\",\"\",\"\"),_xlfn.IFNA(IF((INDEX(G447:G456,MATCH(\"\",G447:G456,0)))=\"\",\"\",\"\"),\"\"))))))))","v":""},{"$f":"_xlfn.IFNA(IF((INDEX(H447:H456,MATCH(\"E\",H447:H456,0)))=\"E\",\"E\",\"\"),_xlfn.IFNA(IF((INDEX(H447:H456,MATCH(\"D (E)c\",H447:H456,0)))=\"D (E)c\",\"D (E)c\",\"\"),_xlfn.IFNA(IF((INDEX(H447:H456,MATCH(\"Db (E)c\",H447:H456,0)))=\"Db (E)c\",\"D (E)c\",\"\"),_xlfn.IFNA(IF((INDEX(H447:H456,MATCH(\"D\",H447:H456,0)))=\"D\",\"D\",\"\"),_xlfn.IFNA(IF((INDEX(H447:H456,MATCH(\"Cb\",H447:H456,0)))=\"Cb\",\"C\",\"\"),_xlfn.IFNA(IF((INDEX(H447:H456,MATCH(\"C\",H447:H456,0)))=\"C\",\"C\",\"\"),_xlfn.IFNA(IF((INDEX(H447:H456,MATCH(\"Bb\",H447:H456,0)))=\"Bb\",\"B\",\"\"),_xlfn.IFNA(IF((INDEX(H447:H456,MATCH(\"B\",H447:H456,0)))=\"B\",\"B\",\"\"),_xlfn.IFNA(IF((INDEX(H447:H456,MATCH(\"Ab\",H447:H456,0)))=\"Ab\",\"A\",\"\"),_xlfn.IFNA(IF((INDEX(H447:H456,MATCH(\"A\",H447:H456,0)))=\"A\",\"A\",\"\"),_xlfn.IFNA(IF((INDEX(H447:H456,MATCH(\"n.a.\",H447:H456,0)))=\"n.a.\",\"\",\"\"),_xlfn.IFNA(IF((INDEX(H447:H456,MATCH(\"\",H447:H456,0)))=\"\",\"\",\"\"),\"\"))))))))))))","v":""}]
[null,"\nHighest hazard level for all 'Uptake Routes' \n",null,null,{"$f":"_xlfn.IFNA(IF((INDEX(E457:H457,MATCH(\"E\",E457:H457,0)))=\"E\",\"E\",\"\"),_xlfn.IFNA(IF((INDEX(E457:H457,MATCH(\"D (E)c\",E457:H457,0)))=\"D (E)c\",\"D (E)\",\"\"),_xlfn.IFNA(IF((INDEX(E457:H457,MATCH(\"D\",E457:H457,0)))=\"D\",\"D\",\"\"),_xlfn.IFNA(IF((INDEX(E457:H457,MATCH(\"C\",E457:H457,0)))=\"C\",\"C\",\"\"),_xlfn.IFNA(IF((INDEX(E457:H457,MATCH(\"B\",E457:H457,0)))=\"B\",\"B\",\"\"),_xlfn.IFNA(IF((INDEX(E457:H457,MATCH(\"A\",E457:H457,0)))=\"A\",\"A\",\"\"),_xlfn.IFNA(IF((INDEX(E457:H457,MATCH(\"n.a.\",E457:H457,0)))=\"n.a.\",\"\",\"\"),_xlfn.IFNA(IF((INDEX(E457:H457,MATCH(\"\",E457:H457,0)))=\"\",\"\",\"\"),\"\"))))))))","v":""}]
[]
[]
[null,"\nStep 3: D(E) Assessment\nSkip this step if \nyour assessment above does not reveal a D(E) hazard level.\nHover over this cell for additional instructions.\n",null,null,"\nOverall hazard level\n",null,{"$f":"IF(AND(E458=\"\",C444=\"Yes\")=TRUE,\"B\",IF(E458=\"\",\"\",(IF(AND(E458=\"D (E)\",C461=\"\"),\"D (E)\"&CHAR(10)&\"Find if cat. 1 acute tox.\",(IF(E458<>\"D (E)\",E458,(IF(AND(E458=\"D (E)\",C461=\"Yes\"),\"E\",(IF(AND(E458=\"D (E)\",C461=\"No\"),\"D\",\"\"))))))))))","v":""}]
[]
[{"$f":"IF(IF(MOD(ROWS(B$3:B463),20)=1,INDEX('Summary Sheet'!$A$17:$A554,INT(ROWS(B$3:B463)/20)+1),\"\")=0,\"\",IF(MOD(ROWS(B$3:B463),20)=1,INDEX('Summary Sheet'!$A$17:$A554,INT(ROWS(B$3:B463)/20)+1),\"\"))","v":24},"Hazard Level Assessment","for",{"$f":"IF(IF(MOD(ROWS(D$3:D463),20)=1,INDEX('Summary Sheet'!$B$17:$B554,INT(ROWS(D$3:D463)/20)+1),\"\")=0,\"\",IF(MOD(ROWS(D$3:D463),20)=1,INDEX('Summary Sheet'!$B$17:$B554,INT(ROWS(D$3:D463)/20)+1),\"\"))","v":""}]
[null,"\nStep 1: Physical & Environmental Hazard Statements/Codes\nFind Section 2 of the SDS and determine if the SDS has physical and/or environmental hazard statements/codes. Hover on this cell for additional instructions.\n",null,{"$f":"IF(IF(MOD(ROWS(D$3:D464),20)=1,INDEX('Summary Sheet'!$B$17:$B554,INT(ROWS(D$3:D464)/20)+1),\"\")=0,\"\",IF(MOD(ROWS(D$3:D464),20)=1,INDEX('Summary Sheet'!$B$17:$B554,INT(ROWS(D$3:D464)/20)+1),\"\"))","v":""}]
[null,"Step 2: Health Hazard Statements/Codes\nProvide the Health Hazard Statements or Codes from Section 2 of the SDS below. Hover on this cell for additional instructions.",null,{"$f":"IF(IF(MOD(ROWS(D$3:D465),20)=1,INDEX('Summary Sheet'!$B$17:$B554,INT(ROWS(D$3:D465)/20)+1),\"\")=0,\"\",IF(MOD(ROWS(D$3:D465),20)=1,INDEX('Summary Sheet'!$B$17:$B554,INT(ROWS(D$3:D465)/20)+1),\"\"))","v":""},"\nHazard Level\n"]
[null,null,null,{"$f":"IF(IF(MOD(ROWS(D$3:D466),20)=1,INDEX('Summary Sheet'!$B$17:$B554,INT(ROWS(D$3:D466)/20)+1),\"\")=0,\"\",IF(MOD(ROWS(D$3:D466),20)=1,INDEX('Summary Sheet'!$B$17:$B554,INT(ROWS(D$3:D466)/20)+1),\"\"))","v":""},"\nEye Damage\n","\nInhalation\n","\nLocal Skin Damage\n","\nSkin uptake, systemic\n"]
[1,null,{"$f":"_xlfn.IFNA(VLOOKUP(B467,_!$A$7:$F$210,6,FALSE),\"\")","v":""},{"$f":"IF(IF(MOD(ROWS(D$3:D467),20)=1,INDEX('Summary Sheet'!$B$17:$B554,INT(ROWS(D$3:D467)/20)+1),\"\")=0,\"\",IF(MOD(ROWS(D$3:D467),20)=1,INDEX('Summary Sheet'!$B$17:$B554,INT(ROWS(D$3:D467)/20)+1),\"\"))","v":""},{"$f":"_xlfn.IFNA(IF(VLOOKUP(B467,_!$A$7:$E$210,2,FALSE)=0, \"\", VLOOKUP(B467,_!$A$7:$E$210,2,FALSE)),  \"\")","v":""},{"$f":"_xlfn.IFNA(IF(VLOOKUP(B467,_!$A$7:$E$210,3,FALSE)=0, \"\", VLOOKUP(B467,_!$A$7:$E$210,3,FALSE)), \"\")","v":""},{"$f":"_xlfn.IFNA(IF(VLOOKUP(B467,_!$A$7:$E$210,4,FALSE)=0, \"\",VLOOKUP(B467,_!$A$7:$E$210,4,FALSE)), \"\")","v":""},{"$f":"_xlfn.IFNA(IF(VLOOKUP(B467,_!$A$7:$E$210,5,FALSE)=0,\"\",VLOOKUP(B467,_!$A$7:$E$210,5,FALSE)), \"\")","v":""}]
[2,null,{"$f":"_xlfn.IFNA(VLOOKUP(B468,_!$A$7:$F$210,6,FALSE),\"\")","v":""},{"$f":"IF(IF(MOD(ROWS(D$3:D468),20)=1,INDEX('Summary Sheet'!$B$17:$B554,INT(ROWS(D$3:D468)/20)+1),\"\")=0,\"\",IF(MOD(ROWS(D$3:D468),20)=1,INDEX('Summary Sheet'!$B$17:$B554,INT(ROWS(D$3:D468)/20)+1),\"\"))","v":""},{"$f":"_xlfn.IFNA(IF(VLOOKUP(B468,_!$A$7:$E$210,2,FALSE)=0, \"\", VLOOKUP(B468,_!$A$7:$E$210,2,FALSE)),  \"\")","v":""},{"$f":"_xlfn.IFNA(IF(VLOOKUP(B468,_!$A$7:$E$210,3,FALSE)=0, \"\", VLOOKUP(B468,_!$A$7:$E$210,3,FALSE)), \"\")","v":""},{"$f":"_xlfn.IFNA(IF(VLOOKUP(B468,_!$A$7:$E$210,4,FALSE)=0, \"\",VLOOKUP(B468,_!$A$7:$E$210,4,FALSE)), \"\")","v":""},{"$f":"_xlfn.IFNA(IF(VLOOKUP(B468,_!$A$7:$E$210,5,FALSE)=0,\"\",VLOOKUP(B468,_!$A$7:$E$210,5,FALSE)), \"\")","v":""}]
[3,null,{"$f":"_xlfn.IFNA(VLOOKUP(B469,_!$A$7:$F$210,6,FALSE),\"\")","v":""},{"$f":"IF(IF(MOD(ROWS(D$3:D469),20)=1,INDEX('Summary Sheet'!$B$17:$B554,INT(ROWS(D$3:D469)/20)+1),\"\")=0,\"\",IF(MOD(ROWS(D$3:D469),20)=1,INDEX('Summary Sheet'!$B$17:$B554,INT(ROWS(D$3:D469)/20)+1),\"\"))","v":""},{"$f":"_xlfn.IFNA(IF(VLOOKUP(B469,_!$A$7:$E$210,2,FALSE)=0, \"\", VLOOKUP(B469,_!$A$7:$E$210,2,FALSE)),  \"\")","v":""},{"$f":"_xlfn.IFNA(IF(VLOOKUP(B469,_!$A$7:$E$210,3,FALSE)=0, \"\", VLOOKUP(B469,_!$A$7:$E$210,3,FALSE)), \"\")","v":""},{"$f":"_xlfn.IFNA(IF(VLOOKUP(B469,_!$A$7:$E$210,4,FALSE)=0, \"\",VLOOKUP(B469,_!$A$7:$E$210,4,FALSE)), \"\")","v":""},{"$f":"_xlfn.IFNA(IF(VLOOKUP(B469,_!$A$7:$E$210,5,FALSE)=0,\"\",VLOOKUP(B469,_!$A$7:$E$210,5,FALSE)), \"\")","v":""}]
[4,null,{"$f":"_xlfn.IFNA(VLOOKUP(B470,_!$A$7:$F$210,6,FALSE),\"\")","v":""},{"$f":"IF(IF(MOD(ROWS(D$3:D470),20)=1,INDEX('Summary Sheet'!$B$17:$B554,INT(ROWS(D$3:D470)/20)+1),\"\")=0,\"\",IF(MOD(ROWS(D$3:D470),20)=1,INDEX('Summary Sheet'!$B$17:$B554,INT(ROWS(D$3:D470)/20)+1),\"\"))","v":""},{"$f":"_xlfn.IFNA(IF(VLOOKUP(B470,_!$A$7:$E$210,2,FALSE)=0, \"\", VLOOKUP(B470,_!$A$7:$E$210,2,FALSE)),  \"\")","v":""},{"$f":"_xlfn.IFNA(IF(VLOOKUP(B470,_!$A$7:$E$210,3,FALSE)=0, \"\", VLOOKUP(B470,_!$A$7:$E$210,3,FALSE)), \"\")","v":""},{"$f":"_xlfn.IFNA(IF(VLOOKUP(B470,_!$A$7:$E$210,4,FALSE)=0, \"\",VLOOKUP(B470,_!$A$7:$E$210,4,FALSE)), \"\")","v":""},{"$f":"_xlfn.IFNA(IF(VLOOKUP(B470,_!$A$7:$E$210,5,FALSE)=0,\"\",VLOOKUP(B470,_!$A$7:$E$210,5,FALSE)), \"\")","v":""}]
[5,null,{"$f":"_xlfn.IFNA(VLOOKUP(B471,_!$A$7:$F$210,6,FALSE),\"\")","v":""},{"$f":"IF(IF(MOD(ROWS(D$3:D471),20)=1,INDEX('Summary Sheet'!$B$17:$B554,INT(ROWS(D$3:D471)/20)+1),\"\")=0,\"\",IF(MOD(ROWS(D$3:D471),20)=1,INDEX('Summary Sheet'!$B$17:$B554,INT(ROWS(D$3:D471)/20)+1),\"\"))","v":""},{"$f":"_xlfn.IFNA(IF(VLOOKUP(B471,_!$A$7:$E$210,2,FALSE)=0, \"\", VLOOKUP(B471,_!$A$7:$E$210,2,FALSE)),  \"\")","v":""},{"$f":"_xlfn.IFNA(IF(VLOOKUP(B471,_!$A$7:$E$210,3,FALSE)=0, \"\", VLOOKUP(B471,_!$A$7:$E$210,3,FALSE)), \"\")","v":""},{"$f":"_xlfn.IFNA(IF(VLOOKUP(B471,_!$A$7:$E$210,4,FALSE)=0, \"\",VLOOKUP(B471,_!$A$7:$E$210,4,FALSE)), \"\")","v":""},{"$f":"_xlfn.IFNA(IF(VLOOKUP(B471,_!$A$7:$E$210,5,FALSE)=0,\"\",VLOOKUP(B471,_!$A$7:$E$210,5,FALSE)), \"\")","v":""}]
[6,null,{"$f":"_xlfn.IFNA(VLOOKUP(B472,_!$A$7:$F$210,6,FALSE),\"\")","v":""},{"$f":"IF(IF(MOD(ROWS(D$3:D472),20)=1,INDEX('Summary Sheet'!$B$17:$B554,INT(ROWS(D$3:D472)/20)+1),\"\")=0,\"\",IF(MOD(ROWS(D$3:D472),20)=1,INDEX('Summary Sheet'!$B$17:$B554,INT(ROWS(D$3:D472)/20)+1),\"\"))","v":""},{"$f":"_xlfn.IFNA(IF(VLOOKUP(B472,_!$A$7:$E$210,2,FALSE)=0, \"\", VLOOKUP(B472,_!$A$7:$E$210,2,FALSE)),  \"\")","v":""},{"$f":"_xlfn.IFNA(IF(VLOOKUP(B472,_!$A$7:$E$210,3,FALSE)=0, \"\", VLOOKUP(B472,_!$A$7:$E$210,3,FALSE)), \"\")","v":""},{"$f":"_xlfn.IFNA(IF(VLOOKUP(B472,_!$A$7:$E$210,4,FALSE)=0, \"\",VLOOKUP(B472,_!$A$7:$E$210,4,FALSE)), \"\")","v":""},{"$f":"_xlfn.IFNA(IF(VLOOKUP(B472,_!$A$7:$E$210,5,FALSE)=0,\"\",VLOOKUP(B472,_!$A$7:$E$210,5,FALSE)), \"\")","v":""}]
[7,null,{"$f":"_xlfn.IFNA(VLOOKUP(B473,_!$A$7:$F$210,6,FALSE),\"\")","v":""},{"$f":"IF(IF(MOD(ROWS(D$3:D473),20)=1,INDEX('Summary Sheet'!$B$17:$B554,INT(ROWS(D$3:D473)/20)+1),\"\")=0,\"\",IF(MOD(ROWS(D$3:D473),20)=1,INDEX('Summary Sheet'!$B$17:$B554,INT(ROWS(D$3:D473)/20)+1),\"\"))","v":""},{"$f":"_xlfn.IFNA(IF(VLOOKUP(B473,_!$A$7:$E$210,2,FALSE)=0, \"\", VLOOKUP(B473,_!$A$7:$E$210,2,FALSE)),  \"\")","v":""},{"$f":"_xlfn.IFNA(IF(VLOOKUP(B473,_!$A$7:$E$210,3,FALSE)=0, \"\", VLOOKUP(B473,_!$A$7:$E$210,3,FALSE)), \"\")","v":""},{"$f":"_xlfn.IFNA(IF(VLOOKUP(B473,_!$A$7:$E$210,4,FALSE)=0, \"\",VLOOKUP(B473,_!$A$7:$E$210,4,FALSE)), \"\")","v":""},{"$f":"_xlfn.IFNA(IF(VLOOKUP(B473,_!$A$7:$E$210,5,FALSE)=0,\"\",VLOOKUP(B473,_!$A$7:$E$210,5,FALSE)), \"\")","v":""}]
[8,null,{"$f":"_xlfn.IFNA(VLOOKUP(B474,_!$A$7:$F$210,6,FALSE),\"\")","v":""},{"$f":"IF(IF(MOD(ROWS(D$3:D474),20)=1,INDEX('Summary Sheet'!$B$17:$B554,INT(ROWS(D$3:D474)/20)+1),\"\")=0,\"\",IF(MOD(ROWS(D$3:D474),20)=1,INDEX('Summary Sheet'!$B$17:$B554,INT(ROWS(D$3:D474)/20)+1),\"\"))","v":""},{"$f":"_xlfn.IFNA(IF(VLOOKUP(B474,_!$A$7:$E$210,2,FALSE)=0, \"\", VLOOKUP(B474,_!$A$7:$E$210,2,FALSE)),  \"\")","v":""},{"$f":"_xlfn.IFNA(IF(VLOOKUP(B474,_!$A$7:$E$210,3,FALSE)=0, \"\", VLOOKUP(B474,_!$A$7:$E$210,3,FALSE)), \"\")","v":""},{"$f":"_xlfn.IFNA(IF(VLOOKUP(B474,_!$A$7:$E$210,4,FALSE)=0, \"\",VLOOKUP(B474,_!$A$7:$E$210,4,FALSE)), \"\")","v":""},{"$f":"_xlfn.IFNA(IF(VLOOKUP(B474,_!$A$7:$E$210,5,FALSE)=0,\"\",VLOOKUP(B474,_!$A$7:$E$210,5,FALSE)), \"\")","v":""}]
[9,null,{"$f":"_xlfn.IFNA(VLOOKUP(B475,_!$A$7:$F$210,6,FALSE),\"\")","v":""},{"$f":"IF(IF(MOD(ROWS(D$3:D475),20)=1,INDEX('Summary Sheet'!$B$17:$B554,INT(ROWS(D$3:D475)/20)+1),\"\")=0,\"\",IF(MOD(ROWS(D$3:D475),20)=1,INDEX('Summary Sheet'!$B$17:$B554,INT(ROWS(D$3:D475)/20)+1),\"\"))","v":""},{"$f":"_xlfn.IFNA(IF(VLOOKUP(B475,_!$A$7:$E$210,2,FALSE)=0, \"\", VLOOKUP(B475,_!$A$7:$E$210,2,FALSE)),  \"\")","v":""},{"$f":"_xlfn.IFNA(IF(VLOOKUP(B475,_!$A$7:$E$210,3,FALSE)=0, \"\", VLOOKUP(B475,_!$A$7:$E$210,3,FALSE)), \"\")","v":""},{"$f":"_xlfn.IFNA(IF(VLOOKUP(B475,_!$A$7:$E$210,4,FALSE)=0, \"\",VLOOKUP(B475,_!$A$7:$E$210,4,FALSE)), \"\")","v":""},{"$f":"_xlfn.IFNA(IF(VLOOKUP(B475,_!$A$7:$E$210,5,FALSE)=0,\"\",VLOOKUP(B475,_!$A$7:$E$210,5,FALSE)), \"\")","v":""}]
[10,null,{"$f":"_xlfn.IFNA(VLOOKUP(B476,_!$A$7:$F$210,6,FALSE),\"\")","v":""},{"$f":"IF(IF(MOD(ROWS(D$14:D476),20)=1,INDEX('Summary Sheet'!$B$17:$B554,INT(ROWS(D$14:D476)/20)+1),\"\")=0,\"\",IF(MOD(ROWS(D$14:D476),20)=1,INDEX('Summary Sheet'!$B$17:$B554,INT(ROWS(D$14:D476)/20)+1),\"\"))","v":""},{"$f":"_xlfn.IFNA(IF(VLOOKUP(B476,_!$A$7:$E$210,2,FALSE)=0, \"\", VLOOKUP(B476,_!$A$7:$E$210,2,FALSE)),  \"\")","v":""},{"$f":"_xlfn.IFNA(IF(VLOOKUP(B476,_!$A$7:$E$210,3,FALSE)=0, \"\", VLOOKUP(B476,_!$A$7:$E$210,3,FALSE)), \"\")","v":""},{"$f":"_xlfn.IFNA(IF(VLOOKUP(B476,_!$A$7:$E$210,4,FALSE)=0, \"\",VLOOKUP(B476,_!$A$7:$E$210,4,FALSE)), \"\")","v":""},{"$f":"_xlfn.IFNA(IF(VLOOKUP(B476,_!$A$7:$E$210,5,FALSE)=0,\"\",VLOOKUP(B476,_!$A$7:$E$210,5,FALSE)), \"\")","v":""}]
[null,"\nHighest hazard level for each ‘Uptake Route’\n",null,null,{"$f":"_xlfn.IFNA(IF((INDEX(E467:E476,MATCH(\"E\",E467:E476,0)))=\"E\",\"E\",\"\"),_xlfn.IFNA(IF((INDEX(E467:E476,MATCH(\"D\",E467:E476,0)))=\"D\",\"D\",\"\"),_xlfn.IFNA(IF((INDEX(E467:E476,MATCH(\"Ca\",E467:E476,0)))=\"Ca\",\"C\",\"\"),_xlfn.IFNA(IF((INDEX(E467:E476,MATCH(\"C\",E467:E476,0)))=\"C\",\"C\",\"\"),_xlfn.IFNA(IF((INDEX(E467:E476,MATCH(\"B\",E467:E476,0)))=\"B\",\"B\",\"\"),_xlfn.IFNA(IF((INDEX(E467:E476,MATCH(\"A\",E467:E476,0)))=\"A\",\"A\",\"\"),_xlfn.IFNA(IF((INDEX(E467:E476,MATCH(\"n.a.\",E467:E476,0)))=\"n.a.\",\"\",\"\"),_xlfn.IFNA(IF((INDEX(E467:E476,MATCH(\"\",E467:E476,0)))=\"\",\"\",\"\"),\"\"))))))))","v":""},{"$f":"_xlfn.IFNA(IF((INDEX(F467:F476,MATCH(\"E\",F467:F476,0)))=\"E\",\"E\",\"\"),_xlfn.IFNA(IF((INDEX(F467:F476,MATCH(\"D (E)c\",F467:F476,0)))=\"D (E)c\",\"D (E)c\",\"\"),_xlfn.IFNA(IF((INDEX(F467:F476,MATCH(\"Da (E)c\",F467:F476,0)))=\"Da (E)c\",\"D (E)c\",\"\"),_xlfn.IFNA(IF((INDEX(F467:F476,MATCH(\"D\",F467:F476,0)))=\"D\",\"D\",\"\"),_xlfn.IFNA(IF((INDEX(F467:F476,MATCH(\"Ca\",F467:F476,0)))=\"Ca\",\"C\",\"\"),_xlfn.IFNA(IF((INDEX(F467:F476,MATCH(\"C\",F467:F476,0)))=\"C\",\"C\",\"\"),_xlfn.IFNA(IF((INDEX(F467:F476,MATCH(\"Ba\",F467:F476,0)))=\"Ba\",\"B\",\"\"),_xlfn.IFNA(IF((INDEX(F467:F476,MATCH(\"B\",F467:F476,0)))=\"B\",\"B\",\"\"),_xlfn.IFNA(IF((INDEX(F467:F476,MATCH(\"Aa\",F467:F476,0)))=\"Aa\",\"A\",\"\"),_xlfn.IFNA(IF((INDEX(F467:F476,MATCH(\"A\",F467:F476,0)))=\"A\",\"A\",\"\"),_xlfn.IFNA(IF((INDEX(F467:F476,MATCH(\"n.a.\",F467:F476,0)))=\"n.a.\",\"\",\"\"),_xlfn.IFNA(IF((INDEX(F467:F476,MATCH(\"\",F467:F476,0)))=\"\",\"\",\"\"),\"\"))))))))))))","v":""},{"$f":"_xlfn.IFNA(IF((INDEX(G467:G476,MATCH(\"E\",G467:G476,0)))=\"E\",\"E\",\"\"),_xlfn.IFNA(IF((INDEX(G467:G476,MATCH(\"D\",G467:G476,0)))=\"D\",\"D\",\"\"),_xlfn.IFNA(IF((INDEX(G467:G476,MATCH(\"Ca\",G467:G476,0)))=\"Ca\",\"C\",\"\"),_xlfn.IFNA(IF((INDEX(G467:G476,MATCH(\"C\",G467:G476,0)))=\"C\",\"C\",\"\"),_xlfn.IFNA(IF((INDEX(G467:G476,MATCH(\"B\",G467:G476,0)))=\"B\",\"B\",\"\"),_xlfn.IFNA(IF((INDEX(G467:G476,MATCH(\"A\",G467:G476,0)))=\"A\",\"A\",\"\"),_xlfn.IFNA(IF((INDEX(G467:G476,MATCH(\"n.a.\",G467:G476,0)))=\"n.a.\",\"\",\"\"),_xlfn.IFNA(IF((INDEX(G467:G476,MATCH(\"\",G467:G476,0)))=\"\",\"\",\"\"),\"\"))))))))","v":""},{"$f":"_xlfn.IFNA(IF((INDEX(H467:H476,MATCH(\"E\",H467:H476,0)))=\"E\",\"E\",\"\"),_xlfn.IFNA(IF((INDEX(H467:H476,MATCH(\"D (E)c\",H467:H476,0)))=\"D (E)c\",\"D (E)c\",\"\"),_xlfn.IFNA(IF((INDEX(H467:H476,MATCH(\"Db (E)c\",H467:H476,0)))=\"Db (E)c\",\"D (E)c\",\"\"),_xlfn.IFNA(IF((INDEX(H467:H476,MATCH(\"D\",H467:H476,0)))=\"D\",\"D\",\"\"),_xlfn.IFNA(IF((INDEX(H467:H476,MATCH(\"Cb\",H467:H476,0)))=\"Cb\",\"C\",\"\"),_xlfn.IFNA(IF((INDEX(H467:H476,MATCH(\"C\",H467:H476,0)))=\"C\",\"C\",\"\"),_xlfn.IFNA(IF((INDEX(H467:H476,MATCH(\"Bb\",H467:H476,0)))=\"Bb\",\"B\",\"\"),_xlfn.IFNA(IF((INDEX(H467:H476,MATCH(\"B\",H467:H476,0)))=\"B\",\"B\",\"\"),_xlfn.IFNA(IF((INDEX(H467:H476,MATCH(\"Ab\",H467:H476,0)))=\"Ab\",\"A\",\"\"),_xlfn.IFNA(IF((INDEX(H467:H476,MATCH(\"A\",H467:H476,0)))=\"A\",\"A\",\"\"),_xlfn.IFNA(IF((INDEX(H467:H476,MATCH(\"n.a.\",H467:H476,0)))=\"n.a.\",\"\",\"\"),_xlfn.IFNA(IF((INDEX(H467:H476,MATCH(\"\",H467:H476,0)))=\"\",\"\",\"\"),\"\"))))))))))))","v":""}]
[null,"\nHighest hazard level for all 'Uptake Routes' \n",null,null,{"$f":"_xlfn.IFNA(IF((INDEX(E477:H477,MATCH(\"E\",E477:H477,0)))=\"E\",\"E\",\"\"),_xlfn.IFNA(IF((INDEX(E477:H477,MATCH(\"D (E)c\",E477:H477,0)))=\"D (E)c\",\"D (E)\",\"\"),_xlfn.IFNA(IF((INDEX(E477:H477,MATCH(\"D\",E477:H477,0)))=\"D\",\"D\",\"\"),_xlfn.IFNA(IF((INDEX(E477:H477,MATCH(\"C\",E477:H477,0)))=\"C\",\"C\",\"\"),_xlfn.IFNA(IF((INDEX(E477:H477,MATCH(\"B\",E477:H477,0)))=\"B\",\"B\",\"\"),_xlfn.IFNA(IF((INDEX(E477:H477,MATCH(\"A\",E477:H477,0)))=\"A\",\"A\",\"\"),_xlfn.IFNA(IF((INDEX(E477:H477,MATCH(\"n.a.\",E477:H477,0)))=\"n.a.\",\"\",\"\"),_xlfn.IFNA(IF((INDEX(E477:H477,MATCH(\"\",E477:H477,0)))=\"\",\"\",\"\"),\"\"))))))))","v":""}]
[]
[]
[null,"\nStep 3: D(E) Assessment\nSkip this step if \nyour assessment above does not reveal a D(E) hazard level.\nHover over this cell for additional instructions.\n",null,null,"\nOverall hazard level\n",null,{"$f":"IF(AND(E478=\"\",C464=\"Yes\")=TRUE,\"B\",IF(E478=\"\",\"\",(IF(AND(E478=\"D (E)\",C481=\"\"),\"D (E)\"&CHAR(10)&\"Find if cat. 1 acute tox.\",(IF(E478<>\"D (E)\",E478,(IF(AND(E478=\"D (E)\",C481=\"Yes\"),\"E\",(IF(AND(E478=\"D (E)\",C481=\"No\"),\"D\",\"\"))))))))))","v":""}]
[]
[{"$f":"IF(IF(MOD(ROWS(B$3:B483),20)=1,INDEX('Summary Sheet'!$A$17:$A573,INT(ROWS(B$3:B483)/20)+1),\"\")=0,\"\",IF(MOD(ROWS(B$3:B483),20)=1,INDEX('Summary Sheet'!$A$17:$A573,INT(ROWS(B$3:B483)/20)+1),\"\"))","v":25},"Hazard Level Assessment","for",{"$f":"IF(IF(MOD(ROWS(D$3:D483),20)=1,INDEX('Summary Sheet'!$B$17:$B573,INT(ROWS(D$3:D483)/20)+1),\"\")=0,\"\",IF(MOD(ROWS(D$3:D483),20)=1,INDEX('Summary Sheet'!$B$17:$B573,INT(ROWS(D$3:D483)/20)+1),\"\"))","v":""}]
[null,"\nStep 1: Physical & Environmental Hazard Statements/Codes\nFind Section 2 of the SDS and determine if the SDS has physical and/or environmental hazard statements/codes. Hover on this cell for additional instructions.\n",null,{"$f":"IF(IF(MOD(ROWS(D$3:D484),20)=1,INDEX('Summary Sheet'!$B$17:$B573,INT(ROWS(D$3:D484)/20)+1),\"\")=0,\"\",IF(MOD(ROWS(D$3:D484),20)=1,INDEX('Summary Sheet'!$B$17:$B573,INT(ROWS(D$3:D484)/20)+1),\"\"))","v":""}]
[null,"Step 2: Health Hazard Statements/Codes\nProvide the Health Hazard Statements or Codes from Section 2 of the SDS below. Hover on this cell for additional instructions.",null,{"$f":"IF(IF(MOD(ROWS(D$3:D485),20)=1,INDEX('Summary Sheet'!$B$17:$B573,INT(ROWS(D$3:D485)/20)+1),\"\")=0,\"\",IF(MOD(ROWS(D$3:D485),20)=1,INDEX('Summary Sheet'!$B$17:$B573,INT(ROWS(D$3:D485)/20)+1),\"\"))","v":""},"\nHazard Level\n"]
[null,null,null,{"$f":"IF(IF(MOD(ROWS(D$3:D486),20)=1,INDEX('Summary Sheet'!$B$17:$B573,INT(ROWS(D$3:D486)/20)+1),\"\")=0,\"\",IF(MOD(ROWS(D$3:D486),20)=1,INDEX('Summary Sheet'!$B$17:$B573,INT(ROWS(D$3:D486)/20)+1),\"\"))","v":""},"\nEye Damage\n","\nInhalation\n","\nLocal Skin Damage\n","\nSkin uptake, systemic\n"]
[1,null,{"$f":"_xlfn.IFNA(VLOOKUP(B487,_!$A$7:$F$210,6,FALSE),\"\")","v":""},{"$f":"IF(IF(MOD(ROWS(D$3:D487),20)=1,INDEX('Summary Sheet'!$B$17:$B573,INT(ROWS(D$3:D487)/20)+1),\"\")=0,\"\",IF(MOD(ROWS(D$3:D487),20)=1,INDEX('Summary Sheet'!$B$17:$B573,INT(ROWS(D$3:D487)/20)+1),\"\"))","v":""},{"$f":"_xlfn.IFNA(IF(VLOOKUP(B487,_!$A$7:$E$210,2,FALSE)=0, \"\", VLOOKUP(B487,_!$A$7:$E$210,2,FALSE)),  \"\")","v":""},{"$f":"_xlfn.IFNA(IF(VLOOKUP(B487,_!$A$7:$E$210,3,FALSE)=0, \"\", VLOOKUP(B487,_!$A$7:$E$210,3,FALSE)), \"\")","v":""},{"$f":"_xlfn.IFNA(IF(VLOOKUP(B487,_!$A$7:$E$210,4,FALSE)=0, \"\",VLOOKUP(B487,_!$A$7:$E$210,4,FALSE)), \"\")","v":""},{"$f":"_xlfn.IFNA(IF(VLOOKUP(B487,_!$A$7:$E$210,5,FALSE)=0,\"\",VLOOKUP(B487,_!$A$7:$E$210,5,FALSE)), \"\")","v":""}]
[2,null,{"$f":"_xlfn.IFNA(VLOOKUP(B488,_!$A$7:$F$210,6,FALSE),\"\")","v":""},{"$f":"IF(IF(MOD(ROWS(D$3:D488),20)=1,INDEX('Summary Sheet'!$B$17:$B573,INT(ROWS(D$3:D488)/20)+1),\"\")=0,\"\",IF(MOD(ROWS(D$3:D488),20)=1,INDEX('Summary Sheet'!$B$17:$B573,INT(ROWS(D$3:D488)/20)+1),\"\"))","v":""},{"$f":"_xlfn.IFNA(IF(VLOOKUP(B488,_!$A$7:$E$210,2,FALSE)=0, \"\", VLOOKUP(B488,_!$A$7:$E$210,2,FALSE)),  \"\")","v":""},{"$f":"_xlfn.IFNA(IF(VLOOKUP(B488,_!$A$7:$E$210,3,FALSE)=0, \"\", VLOOKUP(B488,_!$A$7:$E$210,3,FALSE)), \"\")","v":""},{"$f":"_xlfn.IFNA(IF(VLOOKUP(B488,_!$A$7:$E$210,4,FALSE)=0, \"\",VLOOKUP(B488,_!$A$7:$E$210,4,FALSE)), \"\")","v":""},{"$f":"_xlfn.IFNA(IF(VLOOKUP(B488,_!$A$7:$E$210,5,FALSE)=0,\"\",VLOOKUP(B488,_!$A$7:$E$210,5,FALSE)), \"\")","v":""}]
[3,null,{"$f":"_xlfn.IFNA(VLOOKUP(B489,_!$A$7:$F$210,6,FALSE),\"\")","v":""},{"$f":"IF(IF(MOD(ROWS(D$3:D489),20)=1,INDEX('Summary Sheet'!$B$17:$B573,INT(ROWS(D$3:D489)/20)+1),\"\")=0,\"\",IF(MOD(ROWS(D$3:D489),20)=1,INDEX('Summary Sheet'!$B$17:$B573,INT(ROWS(D$3:D489)/20)+1),\"\"))","v":""},{"$f":"_xlfn.IFNA(IF(VLOOKUP(B489,_!$A$7:$E$210,2,FALSE)=0, \"\", VLOOKUP(B489,_!$A$7:$E$210,2,FALSE)),  \"\")","v":""},{"$f":"_xlfn.IFNA(IF(VLOOKUP(B489,_!$A$7:$E$210,3,FALSE)=0, \"\", VLOOKUP(B489,_!$A$7:$E$210,3,FALSE)), \"\")","v":""},{"$f":"_xlfn.IFNA(IF(VLOOKUP(B489,_!$A$7:$E$210,4,FALSE)=0, \"\",VLOOKUP(B489,_!$A$7:$E$210,4,FALSE)), \"\")","v":""},{"$f":"_xlfn.IFNA(IF(VLOOKUP(B489,_!$A$7:$E$210,5,FALSE)=0,\"\",VLOOKUP(B489,_!$A$7:$E$210,5,FALSE)), \"\")","v":""}]
[4,null,{"$f":"_xlfn.IFNA(VLOOKUP(B490,_!$A$7:$F$210,6,FALSE),\"\")","v":""},{"$f":"IF(IF(MOD(ROWS(D$3:D490),20)=1,INDEX('Summary Sheet'!$B$17:$B573,INT(ROWS(D$3:D490)/20)+1),\"\")=0,\"\",IF(MOD(ROWS(D$3:D490),20)=1,INDEX('Summary Sheet'!$B$17:$B573,INT(ROWS(D$3:D490)/20)+1),\"\"))","v":""},{"$f":"_xlfn.IFNA(IF(VLOOKUP(B490,_!$A$7:$E$210,2,FALSE)=0, \"\", VLOOKUP(B490,_!$A$7:$E$210,2,FALSE)),  \"\")","v":""},{"$f":"_xlfn.IFNA(IF(VLOOKUP(B490,_!$A$7:$E$210,3,FALSE)=0, \"\", VLOOKUP(B490,_!$A$7:$E$210,3,FALSE)), \"\")","v":""},{"$f":"_xlfn.IFNA(IF(VLOOKUP(B490,_!$A$7:$E$210,4,FALSE)=0, \"\",VLOOKUP(B490,_!$A$7:$E$210,4,FALSE)), \"\")","v":""},{"$f":"_xlfn.IFNA(IF(VLOOKUP(B490,_!$A$7:$E$210,5,FALSE)=0,\"\",VLOOKUP(B490,_!$A$7:$E$210,5,FALSE)), \"\")","v":""}]
[5,null,{"$f":"_xlfn.IFNA(VLOOKUP(B491,_!$A$7:$F$210,6,FALSE),\"\")","v":""},{"$f":"IF(IF(MOD(ROWS(D$3:D491),20)=1,INDEX('Summary Sheet'!$B$17:$B573,INT(ROWS(D$3:D491)/20)+1),\"\")=0,\"\",IF(MOD(ROWS(D$3:D491),20)=1,INDEX('Summary Sheet'!$B$17:$B573,INT(ROWS(D$3:D491)/20)+1),\"\"))","v":""},{"$f":"_xlfn.IFNA(IF(VLOOKUP(B491,_!$A$7:$E$210,2,FALSE)=0, \"\", VLOOKUP(B491,_!$A$7:$E$210,2,FALSE)),  \"\")","v":""},{"$f":"_xlfn.IFNA(IF(VLOOKUP(B491,_!$A$7:$E$210,3,FALSE)=0, \"\", VLOOKUP(B491,_!$A$7:$E$210,3,FALSE)), \"\")","v":""},{"$f":"_xlfn.IFNA(IF(VLOOKUP(B491,_!$A$7:$E$210,4,FALSE)=0, \"\",VLOOKUP(B491,_!$A$7:$E$210,4,FALSE)), \"\")","v":""},{"$f":"_xlfn.IFNA(IF(VLOOKUP(B491,_!$A$7:$E$210,5,FALSE)=0,\"\",VLOOKUP(B491,_!$A$7:$E$210,5,FALSE)), \"\")","v":""}]
[6,null,{"$f":"_xlfn.IFNA(VLOOKUP(B492,_!$A$7:$F$210,6,FALSE),\"\")","v":""},{"$f":"IF(IF(MOD(ROWS(D$3:D492),20)=1,INDEX('Summary Sheet'!$B$17:$B573,INT(ROWS(D$3:D492)/20)+1),\"\")=0,\"\",IF(MOD(ROWS(D$3:D492),20)=1,INDEX('Summary Sheet'!$B$17:$B573,INT(ROWS(D$3:D492)/20)+1),\"\"))","v":""},{"$f":"_xlfn.IFNA(IF(VLOOKUP(B492,_!$A$7:$E$210,2,FALSE)=0, \"\", VLOOKUP(B492,_!$A$7:$E$210,2,FALSE)),  \"\")","v":""},{"$f":"_xlfn.IFNA(IF(VLOOKUP(B492,_!$A$7:$E$210,3,FALSE)=0, \"\", VLOOKUP(B492,_!$A$7:$E$210,3,FALSE)), \"\")","v":""},{"$f":"_xlfn.IFNA(IF(VLOOKUP(B492,_!$A$7:$E$210,4,FALSE)=0, \"\",VLOOKUP(B492,_!$A$7:$E$210,4,FALSE)), \"\")","v":""},{"$f":"_xlfn.IFNA(IF(VLOOKUP(B492,_!$A$7:$E$210,5,FALSE)=0,\"\",VLOOKUP(B492,_!$A$7:$E$210,5,FALSE)), \"\")","v":""}]
[7,null,{"$f":"_xlfn.IFNA(VLOOKUP(B493,_!$A$7:$F$210,6,FALSE),\"\")","v":""},{"$f":"IF(IF(MOD(ROWS(D$3:D493),20)=1,INDEX('Summary Sheet'!$B$17:$B573,INT(ROWS(D$3:D493)/20)+1),\"\")=0,\"\",IF(MOD(ROWS(D$3:D493),20)=1,INDEX('Summary Sheet'!$B$17:$B573,INT(ROWS(D$3:D493)/20)+1),\"\"))","v":""},{"$f":"_xlfn.IFNA(IF(VLOOKUP(B493,_!$A$7:$E$210,2,FALSE)=0, \"\", VLOOKUP(B493,_!$A$7:$E$210,2,FALSE)),  \"\")","v":""},{"$f":"_xlfn.IFNA(IF(VLOOKUP(B493,_!$A$7:$E$210,3,FALSE)=0, \"\", VLOOKUP(B493,_!$A$7:$E$210,3,FALSE)), \"\")","v":""},{"$f":"_xlfn.IFNA(IF(VLOOKUP(B493,_!$A$7:$E$210,4,FALSE)=0, \"\",VLOOKUP(B493,_!$A$7:$E$210,4,FALSE)), \"\")","v":""},{"$f":"_xlfn.IFNA(IF(VLOOKUP(B493,_!$A$7:$E$210,5,FALSE)=0,\"\",VLOOKUP(B493,_!$A$7:$E$210,5,FALSE)), \"\")","v":""}]
[8,null,{"$f":"_xlfn.IFNA(VLOOKUP(B494,_!$A$7:$F$210,6,FALSE),\"\")","v":""},{"$f":"IF(IF(MOD(ROWS(D$3:D494),20)=1,INDEX('Summary Sheet'!$B$17:$B573,INT(ROWS(D$3:D494)/20)+1),\"\")=0,\"\",IF(MOD(ROWS(D$3:D494),20)=1,INDEX('Summary Sheet'!$B$17:$B573,INT(ROWS(D$3:D494)/20)+1),\"\"))","v":""},{"$f":"_xlfn.IFNA(IF(VLOOKUP(B494,_!$A$7:$E$210,2,FALSE)=0, \"\", VLOOKUP(B494,_!$A$7:$E$210,2,FALSE)),  \"\")","v":""},{"$f":"_xlfn.IFNA(IF(VLOOKUP(B494,_!$A$7:$E$210,3,FALSE)=0, \"\", VLOOKUP(B494,_!$A$7:$E$210,3,FALSE)), \"\")","v":""},{"$f":"_xlfn.IFNA(IF(VLOOKUP(B494,_!$A$7:$E$210,4,FALSE)=0, \"\",VLOOKUP(B494,_!$A$7:$E$210,4,FALSE)), \"\")","v":""},{"$f":"_xlfn.IFNA(IF(VLOOKUP(B494,_!$A$7:$E$210,5,FALSE)=0,\"\",VLOOKUP(B494,_!$A$7:$E$210,5,FALSE)), \"\")","v":""}]
[9,null,{"$f":"_xlfn.IFNA(VLOOKUP(B495,_!$A$7:$F$210,6,FALSE),\"\")","v":""},{"$f":"IF(IF(MOD(ROWS(D$3:D495),20)=1,INDEX('Summary Sheet'!$B$17:$B573,INT(ROWS(D$3:D495)/20)+1),\"\")=0,\"\",IF(MOD(ROWS(D$3:D495),20)=1,INDEX('Summary Sheet'!$B$17:$B573,INT(ROWS(D$3:D495)/20)+1),\"\"))","v":""},{"$f":"_xlfn.IFNA(IF(VLOOKUP(B495,_!$A$7:$E$210,2,FALSE)=0, \"\", VLOOKUP(B495,_!$A$7:$E$210,2,FALSE)),  \"\")","v":""},{"$f":"_xlfn.IFNA(IF(VLOOKUP(B495,_!$A$7:$E$210,3,FALSE)=0, \"\", VLOOKUP(B495,_!$A$7:$E$210,3,FALSE)), \"\")","v":""},{"$f":"_xlfn.IFNA(IF(VLOOKUP(B495,_!$A$7:$E$210,4,FALSE)=0, \"\",VLOOKUP(B495,_!$A$7:$E$210,4,FALSE)), \"\")","v":""},{"$f":"_xlfn.IFNA(IF(VLOOKUP(B495,_!$A$7:$E$210,5,FALSE)=0,\"\",VLOOKUP(B495,_!$A$7:$E$210,5,FALSE)), \"\")","v":""}]
[10,null,{"$f":"_xlfn.IFNA(VLOOKUP(B496,_!$A$7:$F$210,6,FALSE),\"\")","v":""},{"$f":"IF(IF(MOD(ROWS(D$14:D496),20)=1,INDEX('Summary Sheet'!$B$17:$B573,INT(ROWS(D$14:D496)/20)+1),\"\")=0,\"\",IF(MOD(ROWS(D$14:D496),20)=1,INDEX('Summary Sheet'!$B$17:$B573,INT(ROWS(D$14:D496)/20)+1),\"\"))","v":""},{"$f":"_xlfn.IFNA(IF(VLOOKUP(B496,_!$A$7:$E$210,2,FALSE)=0, \"\", VLOOKUP(B496,_!$A$7:$E$210,2,FALSE)),  \"\")","v":""},{"$f":"_xlfn.IFNA(IF(VLOOKUP(B496,_!$A$7:$E$210,3,FALSE)=0, \"\", VLOOKUP(B496,_!$A$7:$E$210,3,FALSE)), \"\")","v":""},{"$f":"_xlfn.IFNA(IF(VLOOKUP(B496,_!$A$7:$E$210,4,FALSE)=0, \"\",VLOOKUP(B496,_!$A$7:$E$210,4,FALSE)), \"\")","v":""},{"$f":"_xlfn.IFNA(IF(VLOOKUP(B496,_!$A$7:$E$210,5,FALSE)=0,\"\",VLOOKUP(B496,_!$A$7:$E$210,5,FALSE)), \"\")","v":""}]
[null,"\nHighest hazard level for each ‘Uptake Route’\n",null,null,{"$f":"_xlfn.IFNA(IF((INDEX(E487:E496,MATCH(\"E\",E487:E496,0)))=\"E\",\"E\",\"\"),_xlfn.IFNA(IF((INDEX(E487:E496,MATCH(\"D\",E487:E496,0)))=\"D\",\"D\",\"\"),_xlfn.IFNA(IF((INDEX(E487:E496,MATCH(\"Ca\",E487:E496,0)))=\"Ca\",\"C\",\"\"),_xlfn.IFNA(IF((INDEX(E487:E496,MATCH(\"C\",E487:E496,0)))=\"C\",\"C\",\"\"),_xlfn.IFNA(IF((INDEX(E487:E496,MATCH(\"B\",E487:E496,0)))=\"B\",\"B\",\"\"),_xlfn.IFNA(IF((INDEX(E487:E496,MATCH(\"A\",E487:E496,0)))=\"A\",\"A\",\"\"),_xlfn.IFNA(IF((INDEX(E487:E496,MATCH(\"n.a.\",E487:E496,0)))=\"n.a.\",\"\",\"\"),_xlfn.IFNA(IF((INDEX(E487:E496,MATCH(\"\",E487:E496,0)))=\"\",\"\",\"\"),\"\"))))))))","v":""},{"$f":"_xlfn.IFNA(IF((INDEX(F487:F496,MATCH(\"E\",F487:F496,0)))=\"E\",\"E\",\"\"),_xlfn.IFNA(IF((INDEX(F487:F496,MATCH(\"D (E)c\",F487:F496,0)))=\"D (E)c\",\"D (E)c\",\"\"),_xlfn.IFNA(IF((INDEX(F487:F496,MATCH(\"Da (E)c\",F487:F496,0)))=\"Da (E)c\",\"D (E)c\",\"\"),_xlfn.IFNA(IF((INDEX(F487:F496,MATCH(\"D\",F487:F496,0)))=\"D\",\"D\",\"\"),_xlfn.IFNA(IF((INDEX(F487:F496,MATCH(\"Ca\",F487:F496,0)))=\"Ca\",\"C\",\"\"),_xlfn.IFNA(IF((INDEX(F487:F496,MATCH(\"C\",F487:F496,0)))=\"C\",\"C\",\"\"),_xlfn.IFNA(IF((INDEX(F487:F496,MATCH(\"Ba\",F487:F496,0)))=\"Ba\",\"B\",\"\"),_xlfn.IFNA(IF((INDEX(F487:F496,MATCH(\"B\",F487:F496,0)))=\"B\",\"B\",\"\"),_xlfn.IFNA(IF((INDEX(F487:F496,MATCH(\"Aa\",F487:F496,0)))=\"Aa\",\"A\",\"\"),_xlfn.IFNA(IF((INDEX(F487:F496,MATCH(\"A\",F487:F496,0)))=\"A\",\"A\",\"\"),_xlfn.IFNA(IF((INDEX(F487:F496,MATCH(\"n.a.\",F487:F496,0)))=\"n.a.\",\"\",\"\"),_xlfn.IFNA(IF((INDEX(F487:F496,MATCH(\"\",F487:F496,0)))=\"\",\"\",\"\"),\"\"))))))))))))","v":""},{"$f":"_xlfn.IFNA(IF((INDEX(G487:G496,MATCH(\"E\",G487:G496,0)))=\"E\",\"E\",\"\"),_xlfn.IFNA(IF((INDEX(G487:G496,MATCH(\"D\",G487:G496,0)))=\"D\",\"D\",\"\"),_xlfn.IFNA(IF((INDEX(G487:G496,MATCH(\"Ca\",G487:G496,0)))=\"Ca\",\"C\",\"\"),_xlfn.IFNA(IF((INDEX(G487:G496,MATCH(\"C\",G487:G496,0)))=\"C\",\"C\",\"\"),_xlfn.IFNA(IF((INDEX(G487:G496,MATCH(\"B\",G487:G496,0)))=\"B\",\"B\",\"\"),_xlfn.IFNA(IF((INDEX(G487:G496,MATCH(\"A\",G487:G496,0)))=\"A\",\"A\",\"\"),_xlfn.IFNA(IF((INDEX(G487:G496,MATCH(\"n.a.\",G487:G496,0)))=\"n.a.\",\"\",\"\"),_xlfn.IFNA(IF((INDEX(G487:G496,MATCH(\"\",G487:G496,0)))=\"\",\"\",\"\"),\"\"))))))))","v":""},{"$f":"_xlfn.IFNA(IF((INDEX(H487:H496,MATCH(\"E\",H487:H496,0)))=\"E\",\"E\",\"\"),_xlfn.IFNA(IF((INDEX(H487:H496,MATCH(\"D (E)c\",H487:H496,0)))=\"D (E)c\",\"D (E)c\",\"\"),_xlfn.IFNA(IF((INDEX(H487:H496,MATCH(\"Db (E)c\",H487:H496,0)))=\"Db (E)c\",\"D (E)c\",\"\"),_xlfn.IFNA(IF((INDEX(H487:H496,MATCH(\"D\",H487:H496,0)))=\"D\",\"D\",\"\"),_xlfn.IFNA(IF((INDEX(H487:H496,MATCH(\"Cb\",H487:H496,0)))=\"Cb\",\"C\",\"\"),_xlfn.IFNA(IF((INDEX(H487:H496,MATCH(\"C\",H487:H496,0)))=\"C\",\"C\",\"\"),_xlfn.IFNA(IF((INDEX(H487:H496,MATCH(\"Bb\",H487:H496,0)))=\"Bb\",\"B\",\"\"),_xlfn.IFNA(IF((INDEX(H487:H496,MATCH(\"B\",H487:H496,0)))=\"B\",\"B\",\"\"),_xlfn.IFNA(IF((INDEX(H487:H496,MATCH(\"Ab\",H487:H496,0)))=\"Ab\",\"A\",\"\"),_xlfn.IFNA(IF((INDEX(H487:H496,MATCH(\"A\",H487:H496,0)))=\"A\",\"A\",\"\"),_xlfn.IFNA(IF((INDEX(H487:H496,MATCH(\"n.a.\",H487:H496,0)))=\"n.a.\",\"\",\"\"),_xlfn.IFNA(IF((INDEX(H487:H496,MATCH(\"\",H487:H496,0)))=\"\",\"\",\"\"),\"\"))))))))))))","v":""}]
[null,"\nHighest hazard level for all 'Uptake Routes' \n",null,null,{"$f":"_xlfn.IFNA(IF((INDEX(E497:H497,MATCH(\"E\",E497:H497,0)))=\"E\",\"E\",\"\"),_xlfn.IFNA(IF((INDEX(E497:H497,MATCH(\"D (E)c\",E497:H497,0)))=\"D (E)c\",\"D (E)\",\"\"),_xlfn.IFNA(IF((INDEX(E497:H497,MATCH(\"D\",E497:H497,0)))=\"D\",\"D\",\"\"),_xlfn.IFNA(IF((INDEX(E497:H497,MATCH(\"C\",E497:H497,0)))=\"C\",\"C\",\"\"),_xlfn.IFNA(IF((INDEX(E497:H497,MATCH(\"B\",E497:H497,0)))=\"B\",\"B\",\"\"),_xlfn.IFNA(IF((INDEX(E497:H497,MATCH(\"A\",E497:H497,0)))=\"A\",\"A\",\"\"),_xlfn.IFNA(IF((INDEX(E497:H497,MATCH(\"n.a.\",E497:H497,0)))=\"n.a.\",\"\",\"\"),_xlfn.IFNA(IF((INDEX(E497:H497,MATCH(\"\",E497:H497,0)))=\"\",\"\",\"\"),\"\"))))))))","v":""}]
[]
[]
[null,"\nStep 3: D(E) Assessment\nSkip this step if \nyour assessment above does not reveal a D(E) hazard level.\nHover over this cell for additional instructions.\n",null,null,"\nOverall hazard level\n",null,{"$f":"IF(AND(E498=\"\",C484=\"Yes\")=TRUE,\"B\",IF(E498=\"\",\"\",(IF(AND(E498=\"D (E)\",C501=\"\"),\"D (E)\"&CHAR(10)&\"Find if cat. 1 acute tox.\",(IF(E498<>\"D (E)\",E498,(IF(AND(E498=\"D (E)\",C501=\"Yes\"),\"E\",(IF(AND(E498=\"D (E)\",C501=\"No\"),\"D\",\"\"))))))))))","v":""}]
[]
[{"$f":"IF(IF(MOD(ROWS(B$3:B503),20)=1,INDEX('Summary Sheet'!$A$17:$A592,INT(ROWS(B$3:B503)/20)+1),\"\")=0,\"\",IF(MOD(ROWS(B$3:B503),20)=1,INDEX('Summary Sheet'!$A$17:$A592,INT(ROWS(B$3:B503)/20)+1),\"\"))","v":26},"Hazard Level Assessment","for",{"$f":"IF(IF(MOD(ROWS(D$3:D503),20)=1,INDEX('Summary Sheet'!$B$17:$B592,INT(ROWS(D$3:D503)/20)+1),\"\")=0,\"\",IF(MOD(ROWS(D$3:D503),20)=1,INDEX('Summary Sheet'!$B$17:$B592,INT(ROWS(D$3:D503)/20)+1),\"\"))","v":""}]
[null,"\nStep 1: Physical & Environmental Hazard Statements/Codes\nFind Section 2 of the SDS and determine if the SDS has physical and/or environmental hazard statements/codes. Hover on this cell for additional instructions.\n",null,{"$f":"IF(IF(MOD(ROWS(D$3:D504),20)=1,INDEX('Summary Sheet'!$B$17:$B592,INT(ROWS(D$3:D504)/20)+1),\"\")=0,\"\",IF(MOD(ROWS(D$3:D504),20)=1,INDEX('Summary Sheet'!$B$17:$B592,INT(ROWS(D$3:D504)/20)+1),\"\"))","v":""}]
[null,"Step 2: Health Hazard Statements/Codes\nProvide the Health Hazard Statements or Codes from Section 2 of the SDS below. Hover on this cell for additional instructions.",null,{"$f":"IF(IF(MOD(ROWS(D$3:D505),20)=1,INDEX('Summary Sheet'!$B$17:$B592,INT(ROWS(D$3:D505)/20)+1),\"\")=0,\"\",IF(MOD(ROWS(D$3:D505),20)=1,INDEX('Summary Sheet'!$B$17:$B592,INT(ROWS(D$3:D505)/20)+1),\"\"))","v":""},"\nHazard Level\n"]
[null,null,null,{"$f":"IF(IF(MOD(ROWS(D$3:D506),20)=1,INDEX('Summary Sheet'!$B$17:$B592,INT(ROWS(D$3:D506)/20)+1),\"\")=0,\"\",IF(MOD(ROWS(D$3:D506),20)=1,INDEX('Summary Sheet'!$B$17:$B592,INT(ROWS(D$3:D506)/20)+1),\"\"))","v":""},"\nEye Damage\n","\nInhalation\n","\nLocal Skin Damage\n","\nSkin uptake, systemic\n"]
[1,null,{"$f":"_xlfn.IFNA(VLOOKUP(B507,_!$A$7:$F$210,6,FALSE),\"\")","v":""},{"$f":"IF(IF(MOD(ROWS(D$3:D507),20)=1,INDEX('Summary Sheet'!$B$17:$B592,INT(ROWS(D$3:D507)/20)+1),\"\")=0,\"\",IF(MOD(ROWS(D$3:D507),20)=1,INDEX('Summary Sheet'!$B$17:$B592,INT(ROWS(D$3:D507)/20)+1),\"\"))","v":""},{"$f":"_xlfn.IFNA(IF(VLOOKUP(B507,_!$A$7:$E$210,2,FALSE)=0, \"\", VLOOKUP(B507,_!$A$7:$E$210,2,FALSE)),  \"\")","v":""},{"$f":"_xlfn.IFNA(IF(VLOOKUP(B507,_!$A$7:$E$210,3,FALSE)=0, \"\", VLOOKUP(B507,_!$A$7:$E$210,3,FALSE)), \"\")","v":""},{"$f":"_xlfn.IFNA(IF(VLOOKUP(B507,_!$A$7:$E$210,4,FALSE)=0, \"\",VLOOKUP(B507,_!$A$7:$E$210,4,FALSE)), \"\")","v":""},{"$f":"_xlfn.IFNA(IF(VLOOKUP(B507,_!$A$7:$E$210,5,FALSE)=0,\"\",VLOOKUP(B507,_!$A$7:$E$210,5,FALSE)), \"\")","v":""}]
[2,null,{"$f":"_xlfn.IFNA(VLOOKUP(B508,_!$A$7:$F$210,6,FALSE),\"\")","v":""},{"$f":"IF(IF(MOD(ROWS(D$3:D508),20)=1,INDEX('Summary Sheet'!$B$17:$B592,INT(ROWS(D$3:D508)/20)+1),\"\")=0,\"\",IF(MOD(ROWS(D$3:D508),20)=1,INDEX('Summary Sheet'!$B$17:$B592,INT(ROWS(D$3:D508)/20)+1),\"\"))","v":""},{"$f":"_xlfn.IFNA(IF(VLOOKUP(B508,_!$A$7:$E$210,2,FALSE)=0, \"\", VLOOKUP(B508,_!$A$7:$E$210,2,FALSE)),  \"\")","v":""},{"$f":"_xlfn.IFNA(IF(VLOOKUP(B508,_!$A$7:$E$210,3,FALSE)=0, \"\", VLOOKUP(B508,_!$A$7:$E$210,3,FALSE)), \"\")","v":""},{"$f":"_xlfn.IFNA(IF(VLOOKUP(B508,_!$A$7:$E$210,4,FALSE)=0, \"\",VLOOKUP(B508,_!$A$7:$E$210,4,FALSE)), \"\")","v":""},{"$f":"_xlfn.IFNA(IF(VLOOKUP(B508,_!$A$7:$E$210,5,FALSE)=0,\"\",VLOOKUP(B508,_!$A$7:$E$210,5,FALSE)), \"\")","v":""}]
[3,null,{"$f":"_xlfn.IFNA(VLOOKUP(B509,_!$A$7:$F$210,6,FALSE),\"\")","v":""},{"$f":"IF(IF(MOD(ROWS(D$3:D509),20)=1,INDEX('Summary Sheet'!$B$17:$B592,INT(ROWS(D$3:D509)/20)+1),\"\")=0,\"\",IF(MOD(ROWS(D$3:D509),20)=1,INDEX('Summary Sheet'!$B$17:$B592,INT(ROWS(D$3:D509)/20)+1),\"\"))","v":""},{"$f":"_xlfn.IFNA(IF(VLOOKUP(B509,_!$A$7:$E$210,2,FALSE)=0, \"\", VLOOKUP(B509,_!$A$7:$E$210,2,FALSE)),  \"\")","v":""},{"$f":"_xlfn.IFNA(IF(VLOOKUP(B509,_!$A$7:$E$210,3,FALSE)=0, \"\", VLOOKUP(B509,_!$A$7:$E$210,3,FALSE)), \"\")","v":""},{"$f":"_xlfn.IFNA(IF(VLOOKUP(B509,_!$A$7:$E$210,4,FALSE)=0, \"\",VLOOKUP(B509,_!$A$7:$E$210,4,FALSE)), \"\")","v":""},{"$f":"_xlfn.IFNA(IF(VLOOKUP(B509,_!$A$7:$E$210,5,FALSE)=0,\"\",VLOOKUP(B509,_!$A$7:$E$210,5,FALSE)), \"\")","v":""}]
[4,null,{"$f":"_xlfn.IFNA(VLOOKUP(B510,_!$A$7:$F$210,6,FALSE),\"\")","v":""},{"$f":"IF(IF(MOD(ROWS(D$3:D510),20)=1,INDEX('Summary Sheet'!$B$17:$B592,INT(ROWS(D$3:D510)/20)+1),\"\")=0,\"\",IF(MOD(ROWS(D$3:D510),20)=1,INDEX('Summary Sheet'!$B$17:$B592,INT(ROWS(D$3:D510)/20)+1),\"\"))","v":""},{"$f":"_xlfn.IFNA(IF(VLOOKUP(B510,_!$A$7:$E$210,2,FALSE)=0, \"\", VLOOKUP(B510,_!$A$7:$E$210,2,FALSE)),  \"\")","v":""},{"$f":"_xlfn.IFNA(IF(VLOOKUP(B510,_!$A$7:$E$210,3,FALSE)=0, \"\", VLOOKUP(B510,_!$A$7:$E$210,3,FALSE)), \"\")","v":""},{"$f":"_xlfn.IFNA(IF(VLOOKUP(B510,_!$A$7:$E$210,4,FALSE)=0, \"\",VLOOKUP(B510,_!$A$7:$E$210,4,FALSE)), \"\")","v":""},{"$f":"_xlfn.IFNA(IF(VLOOKUP(B510,_!$A$7:$E$210,5,FALSE)=0,\"\",VLOOKUP(B510,_!$A$7:$E$210,5,FALSE)), \"\")","v":""}]
[5,null,{"$f":"_xlfn.IFNA(VLOOKUP(B511,_!$A$7:$F$210,6,FALSE),\"\")","v":""},{"$f":"IF(IF(MOD(ROWS(D$3:D511),20)=1,INDEX('Summary Sheet'!$B$17:$B592,INT(ROWS(D$3:D511)/20)+1),\"\")=0,\"\",IF(MOD(ROWS(D$3:D511),20)=1,INDEX('Summary Sheet'!$B$17:$B592,INT(ROWS(D$3:D511)/20)+1),\"\"))","v":""},{"$f":"_xlfn.IFNA(IF(VLOOKUP(B511,_!$A$7:$E$210,2,FALSE)=0, \"\", VLOOKUP(B511,_!$A$7:$E$210,2,FALSE)),  \"\")","v":""},{"$f":"_xlfn.IFNA(IF(VLOOKUP(B511,_!$A$7:$E$210,3,FALSE)=0, \"\", VLOOKUP(B511,_!$A$7:$E$210,3,FALSE)), \"\")","v":""},{"$f":"_xlfn.IFNA(IF(VLOOKUP(B511,_!$A$7:$E$210,4,FALSE)=0, \"\",VLOOKUP(B511,_!$A$7:$E$210,4,FALSE)), \"\")","v":""},{"$f":"_xlfn.IFNA(IF(VLOOKUP(B511,_!$A$7:$E$210,5,FALSE)=0,\"\",VLOOKUP(B511,_!$A$7:$E$210,5,FALSE)), \"\")","v":""}]
[6,null,{"$f":"_xlfn.IFNA(VLOOKUP(B512,_!$A$7:$F$210,6,FALSE),\"\")","v":""},{"$f":"IF(IF(MOD(ROWS(D$3:D512),20)=1,INDEX('Summary Sheet'!$B$17:$B592,INT(ROWS(D$3:D512)/20)+1),\"\")=0,\"\",IF(MOD(ROWS(D$3:D512),20)=1,INDEX('Summary Sheet'!$B$17:$B592,INT(ROWS(D$3:D512)/20)+1),\"\"))","v":""},{"$f":"_xlfn.IFNA(IF(VLOOKUP(B512,_!$A$7:$E$210,2,FALSE)=0, \"\", VLOOKUP(B512,_!$A$7:$E$210,2,FALSE)),  \"\")","v":""},{"$f":"_xlfn.IFNA(IF(VLOOKUP(B512,_!$A$7:$E$210,3,FALSE)=0, \"\", VLOOKUP(B512,_!$A$7:$E$210,3,FALSE)), \"\")","v":""},{"$f":"_xlfn.IFNA(IF(VLOOKUP(B512,_!$A$7:$E$210,4,FALSE)=0, \"\",VLOOKUP(B512,_!$A$7:$E$210,4,FALSE)), \"\")","v":""},{"$f":"_xlfn.IFNA(IF(VLOOKUP(B512,_!$A$7:$E$210,5,FALSE)=0,\"\",VLOOKUP(B512,_!$A$7:$E$210,5,FALSE)), \"\")","v":""}]
[7,null,{"$f":"_xlfn.IFNA(VLOOKUP(B513,_!$A$7:$F$210,6,FALSE),\"\")","v":""},{"$f":"IF(IF(MOD(ROWS(D$3:D513),20)=1,INDEX('Summary Sheet'!$B$17:$B592,INT(ROWS(D$3:D513)/20)+1),\"\")=0,\"\",IF(MOD(ROWS(D$3:D513),20)=1,INDEX('Summary Sheet'!$B$17:$B592,INT(ROWS(D$3:D513)/20)+1),\"\"))","v":""},{"$f":"_xlfn.IFNA(IF(VLOOKUP(B513,_!$A$7:$E$210,2,FALSE)=0, \"\", VLOOKUP(B513,_!$A$7:$E$210,2,FALSE)),  \"\")","v":""},{"$f":"_xlfn.IFNA(IF(VLOOKUP(B513,_!$A$7:$E$210,3,FALSE)=0, \"\", VLOOKUP(B513,_!$A$7:$E$210,3,FALSE)), \"\")","v":""},{"$f":"_xlfn.IFNA(IF(VLOOKUP(B513,_!$A$7:$E$210,4,FALSE)=0, \"\",VLOOKUP(B513,_!$A$7:$E$210,4,FALSE)), \"\")","v":""},{"$f":"_xlfn.IFNA(IF(VLOOKUP(B513,_!$A$7:$E$210,5,FALSE)=0,\"\",VLOOKUP(B513,_!$A$7:$E$210,5,FALSE)), \"\")","v":""}]
[8,null,{"$f":"_xlfn.IFNA(VLOOKUP(B514,_!$A$7:$F$210,6,FALSE),\"\")","v":""},{"$f":"IF(IF(MOD(ROWS(D$3:D514),20)=1,INDEX('Summary Sheet'!$B$17:$B592,INT(ROWS(D$3:D514)/20)+1),\"\")=0,\"\",IF(MOD(ROWS(D$3:D514),20)=1,INDEX('Summary Sheet'!$B$17:$B592,INT(ROWS(D$3:D514)/20)+1),\"\"))","v":""},{"$f":"_xlfn.IFNA(IF(VLOOKUP(B514,_!$A$7:$E$210,2,FALSE)=0, \"\", VLOOKUP(B514,_!$A$7:$E$210,2,FALSE)),  \"\")","v":""},{"$f":"_xlfn.IFNA(IF(VLOOKUP(B514,_!$A$7:$E$210,3,FALSE)=0, \"\", VLOOKUP(B514,_!$A$7:$E$210,3,FALSE)), \"\")","v":""},{"$f":"_xlfn.IFNA(IF(VLOOKUP(B514,_!$A$7:$E$210,4,FALSE)=0, \"\",VLOOKUP(B514,_!$A$7:$E$210,4,FALSE)), \"\")","v":""},{"$f":"_xlfn.IFNA(IF(VLOOKUP(B514,_!$A$7:$E$210,5,FALSE)=0,\"\",VLOOKUP(B514,_!$A$7:$E$210,5,FALSE)), \"\")","v":""}]
[9,null,{"$f":"_xlfn.IFNA(VLOOKUP(B515,_!$A$7:$F$210,6,FALSE),\"\")","v":""},{"$f":"IF(IF(MOD(ROWS(D$3:D515),20)=1,INDEX('Summary Sheet'!$B$17:$B592,INT(ROWS(D$3:D515)/20)+1),\"\")=0,\"\",IF(MOD(ROWS(D$3:D515),20)=1,INDEX('Summary Sheet'!$B$17:$B592,INT(ROWS(D$3:D515)/20)+1),\"\"))","v":""},{"$f":"_xlfn.IFNA(IF(VLOOKUP(B515,_!$A$7:$E$210,2,FALSE)=0, \"\", VLOOKUP(B515,_!$A$7:$E$210,2,FALSE)),  \"\")","v":""},{"$f":"_xlfn.IFNA(IF(VLOOKUP(B515,_!$A$7:$E$210,3,FALSE)=0, \"\", VLOOKUP(B515,_!$A$7:$E$210,3,FALSE)), \"\")","v":""},{"$f":"_xlfn.IFNA(IF(VLOOKUP(B515,_!$A$7:$E$210,4,FALSE)=0, \"\",VLOOKUP(B515,_!$A$7:$E$210,4,FALSE)), \"\")","v":""},{"$f":"_xlfn.IFNA(IF(VLOOKUP(B515,_!$A$7:$E$210,5,FALSE)=0,\"\",VLOOKUP(B515,_!$A$7:$E$210,5,FALSE)), \"\")","v":""}]
[10,null,{"$f":"_xlfn.IFNA(VLOOKUP(B516,_!$A$7:$F$210,6,FALSE),\"\")","v":""},{"$f":"IF(IF(MOD(ROWS(D$14:D516),20)=1,INDEX('Summary Sheet'!$B$17:$B592,INT(ROWS(D$14:D516)/20)+1),\"\")=0,\"\",IF(MOD(ROWS(D$14:D516),20)=1,INDEX('Summary Sheet'!$B$17:$B592,INT(ROWS(D$14:D516)/20)+1),\"\"))","v":""},{"$f":"_xlfn.IFNA(IF(VLOOKUP(B516,_!$A$7:$E$210,2,FALSE)=0, \"\", VLOOKUP(B516,_!$A$7:$E$210,2,FALSE)),  \"\")","v":""},{"$f":"_xlfn.IFNA(IF(VLOOKUP(B516,_!$A$7:$E$210,3,FALSE)=0, \"\", VLOOKUP(B516,_!$A$7:$E$210,3,FALSE)), \"\")","v":""},{"$f":"_xlfn.IFNA(IF(VLOOKUP(B516,_!$A$7:$E$210,4,FALSE)=0, \"\",VLOOKUP(B516,_!$A$7:$E$210,4,FALSE)), \"\")","v":""},{"$f":"_xlfn.IFNA(IF(VLOOKUP(B516,_!$A$7:$E$210,5,FALSE)=0,\"\",VLOOKUP(B516,_!$A$7:$E$210,5,FALSE)), \"\")","v":""}]
[null,"\nHighest hazard level for each ‘Uptake Route’\n",null,null,{"$f":"_xlfn.IFNA(IF((INDEX(E507:E516,MATCH(\"E\",E507:E516,0)))=\"E\",\"E\",\"\"),_xlfn.IFNA(IF((INDEX(E507:E516,MATCH(\"D\",E507:E516,0)))=\"D\",\"D\",\"\"),_xlfn.IFNA(IF((INDEX(E507:E516,MATCH(\"Ca\",E507:E516,0)))=\"Ca\",\"C\",\"\"),_xlfn.IFNA(IF((INDEX(E507:E516,MATCH(\"C\",E507:E516,0)))=\"C\",\"C\",\"\"),_xlfn.IFNA(IF((INDEX(E507:E516,MATCH(\"B\",E507:E516,0)))=\"B\",\"B\",\"\"),_xlfn.IFNA(IF((INDEX(E507:E516,MATCH(\"A\",E507:E516,0)))=\"A\",\"A\",\"\"),_xlfn.IFNA(IF((INDEX(E507:E516,MATCH(\"n.a.\",E507:E516,0)))=\"n.a.\",\"\",\"\"),_xlfn.IFNA(IF((INDEX(E507:E516,MATCH(\"\",E507:E516,0)))=\"\",\"\",\"\"),\"\"))))))))","v":""},{"$f":"_xlfn.IFNA(IF((INDEX(F507:F516,MATCH(\"E\",F507:F516,0)))=\"E\",\"E\",\"\"),_xlfn.IFNA(IF((INDEX(F507:F516,MATCH(\"D (E)c\",F507:F516,0)))=\"D (E)c\",\"D (E)c\",\"\"),_xlfn.IFNA(IF((INDEX(F507:F516,MATCH(\"Da (E)c\",F507:F516,0)))=\"Da (E)c\",\"D (E)c\",\"\"),_xlfn.IFNA(IF((INDEX(F507:F516,MATCH(\"D\",F507:F516,0)))=\"D\",\"D\",\"\"),_xlfn.IFNA(IF((INDEX(F507:F516,MATCH(\"Ca\",F507:F516,0)))=\"Ca\",\"C\",\"\"),_xlfn.IFNA(IF((INDEX(F507:F516,MATCH(\"C\",F507:F516,0)))=\"C\",\"C\",\"\"),_xlfn.IFNA(IF((INDEX(F507:F516,MATCH(\"Ba\",F507:F516,0)))=\"Ba\",\"B\",\"\"),_xlfn.IFNA(IF((INDEX(F507:F516,MATCH(\"B\",F507:F516,0)))=\"B\",\"B\",\"\"),_xlfn.IFNA(IF((INDEX(F507:F516,MATCH(\"Aa\",F507:F516,0)))=\"Aa\",\"A\",\"\"),_xlfn.IFNA(IF((INDEX(F507:F516,MATCH(\"A\",F507:F516,0)))=\"A\",\"A\",\"\"),_xlfn.IFNA(IF((INDEX(F507:F516,MATCH(\"n.a.\",F507:F516,0)))=\"n.a.\",\"\",\"\"),_xlfn.IFNA(IF((INDEX(F507:F516,MATCH(\"\",F507:F516,0)))=\"\",\"\",\"\"),\"\"))))))))))))","v":""},{"$f":"_xlfn.IFNA(IF((INDEX(G507:G516,MATCH(\"E\",G507:G516,0)))=\"E\",\"E\",\"\"),_xlfn.IFNA(IF((INDEX(G507:G516,MATCH(\"D\",G507:G516,0)))=\"D\",\"D\",\"\"),_xlfn.IFNA(IF((INDEX(G507:G516,MATCH(\"Ca\",G507:G516,0)))=\"Ca\",\"C\",\"\"),_xlfn.IFNA(IF((INDEX(G507:G516,MATCH(\"C\",G507:G516,0)))=\"C\",\"C\",\"\"),_xlfn.IFNA(IF((INDEX(G507:G516,MATCH(\"B\",G507:G516,0)))=\"B\",\"B\",\"\"),_xlfn.IFNA(IF((INDEX(G507:G516,MATCH(\"A\",G507:G516,0)))=\"A\",\"A\",\"\"),_xlfn.IFNA(IF((INDEX(G507:G516,MATCH(\"n.a.\",G507:G516,0)))=\"n.a.\",\"\",\"\"),_xlfn.IFNA(IF((INDEX(G507:G516,MATCH(\"\",G507:G516,0)))=\"\",\"\",\"\"),\"\"))))))))","v":""},{"$f":"_xlfn.IFNA(IF((INDEX(H507:H516,MATCH(\"E\",H507:H516,0)))=\"E\",\"E\",\"\"),_xlfn.IFNA(IF((INDEX(H507:H516,MATCH(\"D (E)c\",H507:H516,0)))=\"D (E)c\",\"D (E)c\",\"\"),_xlfn.IFNA(IF((INDEX(H507:H516,MATCH(\"Db (E)c\",H507:H516,0)))=\"Db (E)c\",\"D (E)c\",\"\"),_xlfn.IFNA(IF((INDEX(H507:H516,MATCH(\"D\",H507:H516,0)))=\"D\",\"D\",\"\"),_xlfn.IFNA(IF((INDEX(H507:H516,MATCH(\"Cb\",H507:H516,0)))=\"Cb\",\"C\",\"\"),_xlfn.IFNA(IF((INDEX(H507:H516,MATCH(\"C\",H507:H516,0)))=\"C\",\"C\",\"\"),_xlfn.IFNA(IF((INDEX(H507:H516,MATCH(\"Bb\",H507:H516,0)))=\"Bb\",\"B\",\"\"),_xlfn.IFNA(IF((INDEX(H507:H516,MATCH(\"B\",H507:H516,0)))=\"B\",\"B\",\"\"),_xlfn.IFNA(IF((INDEX(H507:H516,MATCH(\"Ab\",H507:H516,0)))=\"Ab\",\"A\",\"\"),_xlfn.IFNA(IF((INDEX(H507:H516,MATCH(\"A\",H507:H516,0)))=\"A\",\"A\",\"\"),_xlfn.IFNA(IF((INDEX(H507:H516,MATCH(\"n.a.\",H507:H516,0)))=\"n.a.\",\"\",\"\"),_xlfn.IFNA(IF((INDEX(H507:H516,MATCH(\"\",H507:H516,0)))=\"\",\"\",\"\"),\"\"))))))))))))","v":""}]
[null,"\nHighest hazard level for all 'Uptake Routes' \n",null,null,{"$f":"_xlfn.IFNA(IF((INDEX(E517:H517,MATCH(\"E\",E517:H517,0)))=\"E\",\"E\",\"\"),_xlfn.IFNA(IF((INDEX(E517:H517,MATCH(\"D (E)c\",E517:H517,0)))=\"D (E)c\",\"D (E)\",\"\"),_xlfn.IFNA(IF((INDEX(E517:H517,MATCH(\"D\",E517:H517,0)))=\"D\",\"D\",\"\"),_xlfn.IFNA(IF((INDEX(E517:H517,MATCH(\"C\",E517:H517,0)))=\"C\",\"C\",\"\"),_xlfn.IFNA(IF((INDEX(E517:H517,MATCH(\"B\",E517:H517,0)))=\"B\",\"B\",\"\"),_xlfn.IFNA(IF((INDEX(E517:H517,MATCH(\"A\",E517:H517,0)))=\"A\",\"A\",\"\"),_xlfn.IFNA(IF((INDEX(E517:H517,MATCH(\"n.a.\",E517:H517,0)))=\"n.a.\",\"\",\"\"),_xlfn.IFNA(IF((INDEX(E517:H517,MATCH(\"\",E517:H517,0)))=\"\",\"\",\"\"),\"\"))))))))","v":""}]
[]
[]
[null,"\nStep 3: D(E) Assessment\nSkip this step if \nyour assessment above does not reveal a D(E) hazard level.\nHover over this cell for additional instructions.\n",null,null,"\nOverall hazard level\n",null,{"$f":"IF(AND(E518=\"\",C504=\"Yes\")=TRUE,\"B\",IF(E518=\"\",\"\",(IF(AND(E518=\"D (E)\",C521=\"\"),\"D (E)\"&CHAR(10)&\"Find if cat. 1 acute tox.\",(IF(E518<>\"D (E)\",E518,(IF(AND(E518=\"D (E)\",C521=\"Yes\"),\"E\",(IF(AND(E518=\"D (E)\",C521=\"No\"),\"D\",\"\"))))))))))","v":""}]
[]
[{"$f":"IF(IF(MOD(ROWS(B$3:B523),20)=1,INDEX('Summary Sheet'!$A$17:$A611,INT(ROWS(B$3:B523)/20)+1),\"\")=0,\"\",IF(MOD(ROWS(B$3:B523),20)=1,INDEX('Summary Sheet'!$A$17:$A611,INT(ROWS(B$3:B523)/20)+1),\"\"))","v":27},"Hazard Level Assessment","for",{"$f":"IF(IF(MOD(ROWS(D$3:D523),20)=1,INDEX('Summary Sheet'!$B$17:$B611,INT(ROWS(D$3:D523)/20)+1),\"\")=0,\"\",IF(MOD(ROWS(D$3:D523),20)=1,INDEX('Summary Sheet'!$B$17:$B611,INT(ROWS(D$3:D523)/20)+1),\"\"))","v":""}]
[null,"\nStep 1: Physical & Environmental Hazard Statements/Codes\nFind Section 2 of the SDS and determine if the SDS has physical and/or environmental hazard statements/codes. Hover on this cell for additional instructions.\n",null,{"$f":"IF(IF(MOD(ROWS(D$3:D524),20)=1,INDEX('Summary Sheet'!$B$17:$B611,INT(ROWS(D$3:D524)/20)+1),\"\")=0,\"\",IF(MOD(ROWS(D$3:D524),20)=1,INDEX('Summary Sheet'!$B$17:$B611,INT(ROWS(D$3:D524)/20)+1),\"\"))","v":""}]
[null,"Step 2: Health Hazard Statements/Codes\nProvide the Health Hazard Statements or Codes from Section 2 of the SDS below. Hover on this cell for additional instructions.",null,{"$f":"IF(IF(MOD(ROWS(D$3:D525),20)=1,INDEX('Summary Sheet'!$B$17:$B611,INT(ROWS(D$3:D525)/20)+1),\"\")=0,\"\",IF(MOD(ROWS(D$3:D525),20)=1,INDEX('Summary Sheet'!$B$17:$B611,INT(ROWS(D$3:D525)/20)+1),\"\"))","v":""},"\nHazard Level\n"]
[null,null,null,{"$f":"IF(IF(MOD(ROWS(D$3:D526),20)=1,INDEX('Summary Sheet'!$B$17:$B611,INT(ROWS(D$3:D526)/20)+1),\"\")=0,\"\",IF(MOD(ROWS(D$3:D526),20)=1,INDEX('Summary Sheet'!$B$17:$B611,INT(ROWS(D$3:D526)/20)+1),\"\"))","v":""},"\nEye Damage\n","\nInhalation\n","\nLocal Skin Damage\n","\nSkin uptake, systemic\n"]
[1,null,{"$f":"_xlfn.IFNA(VLOOKUP(B527,_!$A$7:$F$210,6,FALSE),\"\")","v":""},{"$f":"IF(IF(MOD(ROWS(D$3:D527),20)=1,INDEX('Summary Sheet'!$B$17:$B611,INT(ROWS(D$3:D527)/20)+1),\"\")=0,\"\",IF(MOD(ROWS(D$3:D527),20)=1,INDEX('Summary Sheet'!$B$17:$B611,INT(ROWS(D$3:D527)/20)+1),\"\"))","v":""},{"$f":"_xlfn.IFNA(IF(VLOOKUP(B527,_!$A$7:$E$210,2,FALSE)=0, \"\", VLOOKUP(B527,_!$A$7:$E$210,2,FALSE)),  \"\")","v":""},{"$f":"_xlfn.IFNA(IF(VLOOKUP(B527,_!$A$7:$E$210,3,FALSE)=0, \"\", VLOOKUP(B527,_!$A$7:$E$210,3,FALSE)), \"\")","v":""},{"$f":"_xlfn.IFNA(IF(VLOOKUP(B527,_!$A$7:$E$210,4,FALSE)=0, \"\",VLOOKUP(B527,_!$A$7:$E$210,4,FALSE)), \"\")","v":""},{"$f":"_xlfn.IFNA(IF(VLOOKUP(B527,_!$A$7:$E$210,5,FALSE)=0,\"\",VLOOKUP(B527,_!$A$7:$E$210,5,FALSE)), \"\")","v":""}]
[2,null,{"$f":"_xlfn.IFNA(VLOOKUP(B528,_!$A$7:$F$210,6,FALSE),\"\")","v":""},{"$f":"IF(IF(MOD(ROWS(D$3:D528),20)=1,INDEX('Summary Sheet'!$B$17:$B611,INT(ROWS(D$3:D528)/20)+1),\"\")=0,\"\",IF(MOD(ROWS(D$3:D528),20)=1,INDEX('Summary Sheet'!$B$17:$B611,INT(ROWS(D$3:D528)/20)+1),\"\"))","v":""},{"$f":"_xlfn.IFNA(IF(VLOOKUP(B528,_!$A$7:$E$210,2,FALSE)=0, \"\", VLOOKUP(B528,_!$A$7:$E$210,2,FALSE)),  \"\")","v":""},{"$f":"_xlfn.IFNA(IF(VLOOKUP(B528,_!$A$7:$E$210,3,FALSE)=0, \"\", VLOOKUP(B528,_!$A$7:$E$210,3,FALSE)), \"\")","v":""},{"$f":"_xlfn.IFNA(IF(VLOOKUP(B528,_!$A$7:$E$210,4,FALSE)=0, \"\",VLOOKUP(B528,_!$A$7:$E$210,4,FALSE)), \"\")","v":""},{"$f":"_xlfn.IFNA(IF(VLOOKUP(B528,_!$A$7:$E$210,5,FALSE)=0,\"\",VLOOKUP(B528,_!$A$7:$E$210,5,FALSE)), \"\")","v":""}]
[3,null,{"$f":"_xlfn.IFNA(VLOOKUP(B529,_!$A$7:$F$210,6,FALSE),\"\")","v":""},{"$f":"IF(IF(MOD(ROWS(D$3:D529),20)=1,INDEX('Summary Sheet'!$B$17:$B611,INT(ROWS(D$3:D529)/20)+1),\"\")=0,\"\",IF(MOD(ROWS(D$3:D529),20)=1,INDEX('Summary Sheet'!$B$17:$B611,INT(ROWS(D$3:D529)/20)+1),\"\"))","v":""},{"$f":"_xlfn.IFNA(IF(VLOOKUP(B529,_!$A$7:$E$210,2,FALSE)=0, \"\", VLOOKUP(B529,_!$A$7:$E$210,2,FALSE)),  \"\")","v":""},{"$f":"_xlfn.IFNA(IF(VLOOKUP(B529,_!$A$7:$E$210,3,FALSE)=0, \"\", VLOOKUP(B529,_!$A$7:$E$210,3,FALSE)), \"\")","v":""},{"$f":"_xlfn.IFNA(IF(VLOOKUP(B529,_!$A$7:$E$210,4,FALSE)=0, \"\",VLOOKUP(B529,_!$A$7:$E$210,4,FALSE)), \"\")","v":""},{"$f":"_xlfn.IFNA(IF(VLOOKUP(B529,_!$A$7:$E$210,5,FALSE)=0,\"\",VLOOKUP(B529,_!$A$7:$E$210,5,FALSE)), \"\")","v":""}]
[4,null,{"$f":"_xlfn.IFNA(VLOOKUP(B530,_!$A$7:$F$210,6,FALSE),\"\")","v":""},{"$f":"IF(IF(MOD(ROWS(D$3:D530),20)=1,INDEX('Summary Sheet'!$B$17:$B611,INT(ROWS(D$3:D530)/20)+1),\"\")=0,\"\",IF(MOD(ROWS(D$3:D530),20)=1,INDEX('Summary Sheet'!$B$17:$B611,INT(ROWS(D$3:D530)/20)+1),\"\"))","v":""},{"$f":"_xlfn.IFNA(IF(VLOOKUP(B530,_!$A$7:$E$210,2,FALSE)=0, \"\", VLOOKUP(B530,_!$A$7:$E$210,2,FALSE)),  \"\")","v":""},{"$f":"_xlfn.IFNA(IF(VLOOKUP(B530,_!$A$7:$E$210,3,FALSE)=0, \"\", VLOOKUP(B530,_!$A$7:$E$210,3,FALSE)), \"\")","v":""},{"$f":"_xlfn.IFNA(IF(VLOOKUP(B530,_!$A$7:$E$210,4,FALSE)=0, \"\",VLOOKUP(B530,_!$A$7:$E$210,4,FALSE)), \"\")","v":""},{"$f":"_xlfn.IFNA(IF(VLOOKUP(B530,_!$A$7:$E$210,5,FALSE)=0,\"\",VLOOKUP(B530,_!$A$7:$E$210,5,FALSE)), \"\")","v":""}]
[5,null,{"$f":"_xlfn.IFNA(VLOOKUP(B531,_!$A$7:$F$210,6,FALSE),\"\")","v":""},{"$f":"IF(IF(MOD(ROWS(D$3:D531),20)=1,INDEX('Summary Sheet'!$B$17:$B611,INT(ROWS(D$3:D531)/20)+1),\"\")=0,\"\",IF(MOD(ROWS(D$3:D531),20)=1,INDEX('Summary Sheet'!$B$17:$B611,INT(ROWS(D$3:D531)/20)+1),\"\"))","v":""},{"$f":"_xlfn.IFNA(IF(VLOOKUP(B531,_!$A$7:$E$210,2,FALSE)=0, \"\", VLOOKUP(B531,_!$A$7:$E$210,2,FALSE)),  \"\")","v":""},{"$f":"_xlfn.IFNA(IF(VLOOKUP(B531,_!$A$7:$E$210,3,FALSE)=0, \"\", VLOOKUP(B531,_!$A$7:$E$210,3,FALSE)), \"\")","v":""},{"$f":"_xlfn.IFNA(IF(VLOOKUP(B531,_!$A$7:$E$210,4,FALSE)=0, \"\",VLOOKUP(B531,_!$A$7:$E$210,4,FALSE)), \"\")","v":""},{"$f":"_xlfn.IFNA(IF(VLOOKUP(B531,_!$A$7:$E$210,5,FALSE)=0,\"\",VLOOKUP(B531,_!$A$7:$E$210,5,FALSE)), \"\")","v":""}]
[6,null,{"$f":"_xlfn.IFNA(VLOOKUP(B532,_!$A$7:$F$210,6,FALSE),\"\")","v":""},{"$f":"IF(IF(MOD(ROWS(D$3:D532),20)=1,INDEX('Summary Sheet'!$B$17:$B611,INT(ROWS(D$3:D532)/20)+1),\"\")=0,\"\",IF(MOD(ROWS(D$3:D532),20)=1,INDEX('Summary Sheet'!$B$17:$B611,INT(ROWS(D$3:D532)/20)+1),\"\"))","v":""},{"$f":"_xlfn.IFNA(IF(VLOOKUP(B532,_!$A$7:$E$210,2,FALSE)=0, \"\", VLOOKUP(B532,_!$A$7:$E$210,2,FALSE)),  \"\")","v":""},{"$f":"_xlfn.IFNA(IF(VLOOKUP(B532,_!$A$7:$E$210,3,FALSE)=0, \"\", VLOOKUP(B532,_!$A$7:$E$210,3,FALSE)), \"\")","v":""},{"$f":"_xlfn.IFNA(IF(VLOOKUP(B532,_!$A$7:$E$210,4,FALSE)=0, \"\",VLOOKUP(B532,_!$A$7:$E$210,4,FALSE)), \"\")","v":""},{"$f":"_xlfn.IFNA(IF(VLOOKUP(B532,_!$A$7:$E$210,5,FALSE)=0,\"\",VLOOKUP(B532,_!$A$7:$E$210,5,FALSE)), \"\")","v":""}]
[7,null,{"$f":"_xlfn.IFNA(VLOOKUP(B533,_!$A$7:$F$210,6,FALSE),\"\")","v":""},{"$f":"IF(IF(MOD(ROWS(D$3:D533),20)=1,INDEX('Summary Sheet'!$B$17:$B611,INT(ROWS(D$3:D533)/20)+1),\"\")=0,\"\",IF(MOD(ROWS(D$3:D533),20)=1,INDEX('Summary Sheet'!$B$17:$B611,INT(ROWS(D$3:D533)/20)+1),\"\"))","v":""},{"$f":"_xlfn.IFNA(IF(VLOOKUP(B533,_!$A$7:$E$210,2,FALSE)=0, \"\", VLOOKUP(B533,_!$A$7:$E$210,2,FALSE)),  \"\")","v":""},{"$f":"_xlfn.IFNA(IF(VLOOKUP(B533,_!$A$7:$E$210,3,FALSE)=0, \"\", VLOOKUP(B533,_!$A$7:$E$210,3,FALSE)), \"\")","v":""},{"$f":"_xlfn.IFNA(IF(VLOOKUP(B533,_!$A$7:$E$210,4,FALSE)=0, \"\",VLOOKUP(B533,_!$A$7:$E$210,4,FALSE)), \"\")","v":""},{"$f":"_xlfn.IFNA(IF(VLOOKUP(B533,_!$A$7:$E$210,5,FALSE)=0,\"\",VLOOKUP(B533,_!$A$7:$E$210,5,FALSE)), \"\")","v":""}]
[8,null,{"$f":"_xlfn.IFNA(VLOOKUP(B534,_!$A$7:$F$210,6,FALSE),\"\")","v":""},{"$f":"IF(IF(MOD(ROWS(D$3:D534),20)=1,INDEX('Summary Sheet'!$B$17:$B611,INT(ROWS(D$3:D534)/20)+1),\"\")=0,\"\",IF(MOD(ROWS(D$3:D534),20)=1,INDEX('Summary Sheet'!$B$17:$B611,INT(ROWS(D$3:D534)/20)+1),\"\"))","v":""},{"$f":"_xlfn.IFNA(IF(VLOOKUP(B534,_!$A$7:$E$210,2,FALSE)=0, \"\", VLOOKUP(B534,_!$A$7:$E$210,2,FALSE)),  \"\")","v":""},{"$f":"_xlfn.IFNA(IF(VLOOKUP(B534,_!$A$7:$E$210,3,FALSE)=0, \"\", VLOOKUP(B534,_!$A$7:$E$210,3,FALSE)), \"\")","v":""},{"$f":"_xlfn.IFNA(IF(VLOOKUP(B534,_!$A$7:$E$210,4,FALSE)=0, \"\",VLOOKUP(B534,_!$A$7:$E$210,4,FALSE)), \"\")","v":""},{"$f":"_xlfn.IFNA(IF(VLOOKUP(B534,_!$A$7:$E$210,5,FALSE)=0,\"\",VLOOKUP(B534,_!$A$7:$E$210,5,FALSE)), \"\")","v":""}]
[9,null,{"$f":"_xlfn.IFNA(VLOOKUP(B535,_!$A$7:$F$210,6,FALSE),\"\")","v":""},{"$f":"IF(IF(MOD(ROWS(D$3:D535),20)=1,INDEX('Summary Sheet'!$B$17:$B611,INT(ROWS(D$3:D535)/20)+1),\"\")=0,\"\",IF(MOD(ROWS(D$3:D535),20)=1,INDEX('Summary Sheet'!$B$17:$B611,INT(ROWS(D$3:D535)/20)+1),\"\"))","v":""},{"$f":"_xlfn.IFNA(IF(VLOOKUP(B535,_!$A$7:$E$210,2,FALSE)=0, \"\", VLOOKUP(B535,_!$A$7:$E$210,2,FALSE)),  \"\")","v":""},{"$f":"_xlfn.IFNA(IF(VLOOKUP(B535,_!$A$7:$E$210,3,FALSE)=0, \"\", VLOOKUP(B535,_!$A$7:$E$210,3,FALSE)), \"\")","v":""},{"$f":"_xlfn.IFNA(IF(VLOOKUP(B535,_!$A$7:$E$210,4,FALSE)=0, \"\",VLOOKUP(B535,_!$A$7:$E$210,4,FALSE)), \"\")","v":""},{"$f":"_xlfn.IFNA(IF(VLOOKUP(B535,_!$A$7:$E$210,5,FALSE)=0,\"\",VLOOKUP(B535,_!$A$7:$E$210,5,FALSE)), \"\")","v":""}]
[10,null,{"$f":"_xlfn.IFNA(VLOOKUP(B536,_!$A$7:$F$210,6,FALSE),\"\")","v":""},{"$f":"IF(IF(MOD(ROWS(D$14:D536),20)=1,INDEX('Summary Sheet'!$B$17:$B611,INT(ROWS(D$14:D536)/20)+1),\"\")=0,\"\",IF(MOD(ROWS(D$14:D536),20)=1,INDEX('Summary Sheet'!$B$17:$B611,INT(ROWS(D$14:D536)/20)+1),\"\"))","v":""},{"$f":"_xlfn.IFNA(IF(VLOOKUP(B536,_!$A$7:$E$210,2,FALSE)=0, \"\", VLOOKUP(B536,_!$A$7:$E$210,2,FALSE)),  \"\")","v":""},{"$f":"_xlfn.IFNA(IF(VLOOKUP(B536,_!$A$7:$E$210,3,FALSE)=0, \"\", VLOOKUP(B536,_!$A$7:$E$210,3,FALSE)), \"\")","v":""},{"$f":"_xlfn.IFNA(IF(VLOOKUP(B536,_!$A$7:$E$210,4,FALSE)=0, \"\",VLOOKUP(B536,_!$A$7:$E$210,4,FALSE)), \"\")","v":""},{"$f":"_xlfn.IFNA(IF(VLOOKUP(B536,_!$A$7:$E$210,5,FALSE)=0,\"\",VLOOKUP(B536,_!$A$7:$E$210,5,FALSE)), \"\")","v":""}]
[null,"\nHighest hazard level for each ‘Uptake Route’\n",null,null,{"$f":"_xlfn.IFNA(IF((INDEX(E527:E536,MATCH(\"E\",E527:E536,0)))=\"E\",\"E\",\"\"),_xlfn.IFNA(IF((INDEX(E527:E536,MATCH(\"D\",E527:E536,0)))=\"D\",\"D\",\"\"),_xlfn.IFNA(IF((INDEX(E527:E536,MATCH(\"Ca\",E527:E536,0)))=\"Ca\",\"C\",\"\"),_xlfn.IFNA(IF((INDEX(E527:E536,MATCH(\"C\",E527:E536,0)))=\"C\",\"C\",\"\"),_xlfn.IFNA(IF((INDEX(E527:E536,MATCH(\"B\",E527:E536,0)))=\"B\",\"B\",\"\"),_xlfn.IFNA(IF((INDEX(E527:E536,MATCH(\"A\",E527:E536,0)))=\"A\",\"A\",\"\"),_xlfn.IFNA(IF((INDEX(E527:E536,MATCH(\"n.a.\",E527:E536,0)))=\"n.a.\",\"\",\"\"),_xlfn.IFNA(IF((INDEX(E527:E536,MATCH(\"\",E527:E536,0)))=\"\",\"\",\"\"),\"\"))))))))","v":""},{"$f":"_xlfn.IFNA(IF((INDEX(F527:F536,MATCH(\"E\",F527:F536,0)))=\"E\",\"E\",\"\"),_xlfn.IFNA(IF((INDEX(F527:F536,MATCH(\"D (E)c\",F527:F536,0)))=\"D (E)c\",\"D (E)c\",\"\"),_xlfn.IFNA(IF((INDEX(F527:F536,MATCH(\"Da (E)c\",F527:F536,0)))=\"Da (E)c\",\"D (E)c\",\"\"),_xlfn.IFNA(IF((INDEX(F527:F536,MATCH(\"D\",F527:F536,0)))=\"D\",\"D\",\"\"),_xlfn.IFNA(IF((INDEX(F527:F536,MATCH(\"Ca\",F527:F536,0)))=\"Ca\",\"C\",\"\"),_xlfn.IFNA(IF((INDEX(F527:F536,MATCH(\"C\",F527:F536,0)))=\"C\",\"C\",\"\"),_xlfn.IFNA(IF((INDEX(F527:F536,MATCH(\"Ba\",F527:F536,0)))=\"Ba\",\"B\",\"\"),_xlfn.IFNA(IF((INDEX(F527:F536,MATCH(\"B\",F527:F536,0)))=\"B\",\"B\",\"\"),_xlfn.IFNA(IF((INDEX(F527:F536,MATCH(\"Aa\",F527:F536,0)))=\"Aa\",\"A\",\"\"),_xlfn.IFNA(IF((INDEX(F527:F536,MATCH(\"A\",F527:F536,0)))=\"A\",\"A\",\"\"),_xlfn.IFNA(IF((INDEX(F527:F536,MATCH(\"n.a.\",F527:F536,0)))=\"n.a.\",\"\",\"\"),_xlfn.IFNA(IF((INDEX(F527:F536,MATCH(\"\",F527:F536,0)))=\"\",\"\",\"\"),\"\"))))))))))))","v":""},{"$f":"_xlfn.IFNA(IF((INDEX(G527:G536,MATCH(\"E\",G527:G536,0)))=\"E\",\"E\",\"\"),_xlfn.IFNA(IF((INDEX(G527:G536,MATCH(\"D\",G527:G536,0)))=\"D\",\"D\",\"\"),_xlfn.IFNA(IF((INDEX(G527:G536,MATCH(\"Ca\",G527:G536,0)))=\"Ca\",\"C\",\"\"),_xlfn.IFNA(IF((INDEX(G527:G536,MATCH(\"C\",G527:G536,0)))=\"C\",\"C\",\"\"),_xlfn.IFNA(IF((INDEX(G527:G536,MATCH(\"B\",G527:G536,0)))=\"B\",\"B\",\"\"),_xlfn.IFNA(IF((INDEX(G527:G536,MATCH(\"A\",G527:G536,0)))=\"A\",\"A\",\"\"),_xlfn.IFNA(IF((INDEX(G527:G536,MATCH(\"n.a.\",G527:G536,0)))=\"n.a.\",\"\",\"\"),_xlfn.IFNA(IF((INDEX(G527:G536,MATCH(\"\",G527:G536,0)))=\"\",\"\",\"\"),\"\"))))))))","v":""},{"$f":"_xlfn.IFNA(IF((INDEX(H527:H536,MATCH(\"E\",H527:H536,0)))=\"E\",\"E\",\"\"),_xlfn.IFNA(IF((INDEX(H527:H536,MATCH(\"D (E)c\",H527:H536,0)))=\"D (E)c\",\"D (E)c\",\"\"),_xlfn.IFNA(IF((INDEX(H527:H536,MATCH(\"Db (E)c\",H527:H536,0)))=\"Db (E)c\",\"D (E)c\",\"\"),_xlfn.IFNA(IF((INDEX(H527:H536,MATCH(\"D\",H527:H536,0)))=\"D\",\"D\",\"\"),_xlfn.IFNA(IF((INDEX(H527:H536,MATCH(\"Cb\",H527:H536,0)))=\"Cb\",\"C\",\"\"),_xlfn.IFNA(IF((INDEX(H527:H536,MATCH(\"C\",H527:H536,0)))=\"C\",\"C\",\"\"),_xlfn.IFNA(IF((INDEX(H527:H536,MATCH(\"Bb\",H527:H536,0)))=\"Bb\",\"B\",\"\"),_xlfn.IFNA(IF((INDEX(H527:H536,MATCH(\"B\",H527:H536,0)))=\"B\",\"B\",\"\"),_xlfn.IFNA(IF((INDEX(H527:H536,MATCH(\"Ab\",H527:H536,0)))=\"Ab\",\"A\",\"\"),_xlfn.IFNA(IF((INDEX(H527:H536,MATCH(\"A\",H527:H536,0)))=\"A\",\"A\",\"\"),_xlfn.IFNA(IF((INDEX(H527:H536,MATCH(\"n.a.\",H527:H536,0)))=\"n.a.\",\"\",\"\"),_xlfn.IFNA(IF((INDEX(H527:H536,MATCH(\"\",H527:H536,0)))=\"\",\"\",\"\"),\"\"))))))))))))","v":""}]
[null,"\nHighest hazard level for all 'Uptake Routes' \n",null,null,{"$f":"_xlfn.IFNA(IF((INDEX(E537:H537,MATCH(\"E\",E537:H537,0)))=\"E\",\"E\",\"\"),_xlfn.IFNA(IF((INDEX(E537:H537,MATCH(\"D (E)c\",E537:H537,0)))=\"D (E)c\",\"D (E)\",\"\"),_xlfn.IFNA(IF((INDEX(E537:H537,MATCH(\"D\",E537:H537,0)))=\"D\",\"D\",\"\"),_xlfn.IFNA(IF((INDEX(E537:H537,MATCH(\"C\",E537:H537,0)))=\"C\",\"C\",\"\"),_xlfn.IFNA(IF((INDEX(E537:H537,MATCH(\"B\",E537:H537,0)))=\"B\",\"B\",\"\"),_xlfn.IFNA(IF((INDEX(E537:H537,MATCH(\"A\",E537:H537,0)))=\"A\",\"A\",\"\"),_xlfn.IFNA(IF((INDEX(E537:H537,MATCH(\"n.a.\",E537:H537,0)))=\"n.a.\",\"\",\"\"),_xlfn.IFNA(IF((INDEX(E537:H537,MATCH(\"\",E537:H537,0)))=\"\",\"\",\"\"),\"\"))))))))","v":""}]
[]
[]
[null,"\nStep 3: D(E) Assessment\nSkip this step if \nyour assessment above does not reveal a D(E) hazard level.\nHover over this cell for additional instructions.\n",null,null,"\nOverall hazard level\n",null,{"$f":"IF(AND(E538=\"\",C524=\"Yes\")=TRUE,\"B\",IF(E538=\"\",\"\",(IF(AND(E538=\"D (E)\",C541=\"\"),\"D (E)\"&CHAR(10)&\"Find if cat. 1 acute tox.\",(IF(E538<>\"D (E)\",E538,(IF(AND(E538=\"D (E)\",C541=\"Yes\"),\"E\",(IF(AND(E538=\"D (E)\",C541=\"No\"),\"D\",\"\"))))))))))","v":""}]
[]
[{"$f":"IF(IF(MOD(ROWS(B$3:B543),20)=1,INDEX('Summary Sheet'!$A$17:$A630,INT(ROWS(B$3:B543)/20)+1),\"\")=0,\"\",IF(MOD(ROWS(B$3:B543),20)=1,INDEX('Summary Sheet'!$A$17:$A630,INT(ROWS(B$3:B543)/20)+1),\"\"))","v":28},"Hazard Level Assessment","for",{"$f":"IF(IF(MOD(ROWS(D$3:D543),20)=1,INDEX('Summary Sheet'!$B$17:$B630,INT(ROWS(D$3:D543)/20)+1),\"\")=0,\"\",IF(MOD(ROWS(D$3:D543),20)=1,INDEX('Summary Sheet'!$B$17:$B630,INT(ROWS(D$3:D543)/20)+1),\"\"))","v":""}]
[null,"\nStep 1: Physical & Environmental Hazard Statements/Codes\nFind Section 2 of the SDS and determine if the SDS has physical and/or environmental hazard statements/codes. Hover on this cell for additional instructions.\n",null,{"$f":"IF(IF(MOD(ROWS(D$3:D544),20)=1,INDEX('Summary Sheet'!$B$17:$B630,INT(ROWS(D$3:D544)/20)+1),\"\")=0,\"\",IF(MOD(ROWS(D$3:D544),20)=1,INDEX('Summary Sheet'!$B$17:$B630,INT(ROWS(D$3:D544)/20)+1),\"\"))","v":""}]
[null,"Step 2: Health Hazard Statements/Codes\nProvide the Health Hazard Statements or Codes from Section 2 of the SDS below. Hover on this cell for additional instructions.",null,{"$f":"IF(IF(MOD(ROWS(D$3:D545),20)=1,INDEX('Summary Sheet'!$B$17:$B630,INT(ROWS(D$3:D545)/20)+1),\"\")=0,\"\",IF(MOD(ROWS(D$3:D545),20)=1,INDEX('Summary Sheet'!$B$17:$B630,INT(ROWS(D$3:D545)/20)+1),\"\"))","v":""},"\nHazard Level\n"]
[null,null,null,{"$f":"IF(IF(MOD(ROWS(D$3:D546),20)=1,INDEX('Summary Sheet'!$B$17:$B630,INT(ROWS(D$3:D546)/20)+1),\"\")=0,\"\",IF(MOD(ROWS(D$3:D546),20)=1,INDEX('Summary Sheet'!$B$17:$B630,INT(ROWS(D$3:D546)/20)+1),\"\"))","v":""},"\nEye Damage\n","\nInhalation\n","\nLocal Skin Damage\n","\nSkin uptake, systemic\n"]
[1,null,{"$f":"_xlfn.IFNA(VLOOKUP(B547,_!$A$7:$F$210,6,FALSE),\"\")","v":""},{"$f":"IF(IF(MOD(ROWS(D$3:D547),20)=1,INDEX('Summary Sheet'!$B$17:$B630,INT(ROWS(D$3:D547)/20)+1),\"\")=0,\"\",IF(MOD(ROWS(D$3:D547),20)=1,INDEX('Summary Sheet'!$B$17:$B630,INT(ROWS(D$3:D547)/20)+1),\"\"))","v":""},{"$f":"_xlfn.IFNA(IF(VLOOKUP(B547,_!$A$7:$E$210,2,FALSE)=0, \"\", VLOOKUP(B547,_!$A$7:$E$210,2,FALSE)),  \"\")","v":""},{"$f":"_xlfn.IFNA(IF(VLOOKUP(B547,_!$A$7:$E$210,3,FALSE)=0, \"\", VLOOKUP(B547,_!$A$7:$E$210,3,FALSE)), \"\")","v":""},{"$f":"_xlfn.IFNA(IF(VLOOKUP(B547,_!$A$7:$E$210,4,FALSE)=0, \"\",VLOOKUP(B547,_!$A$7:$E$210,4,FALSE)), \"\")","v":""},{"$f":"_xlfn.IFNA(IF(VLOOKUP(B547,_!$A$7:$E$210,5,FALSE)=0,\"\",VLOOKUP(B547,_!$A$7:$E$210,5,FALSE)), \"\")","v":""}]
[2,null,{"$f":"_xlfn.IFNA(VLOOKUP(B548,_!$A$7:$F$210,6,FALSE),\"\")","v":""},{"$f":"IF(IF(MOD(ROWS(D$3:D548),20)=1,INDEX('Summary Sheet'!$B$17:$B630,INT(ROWS(D$3:D548)/20)+1),\"\")=0,\"\",IF(MOD(ROWS(D$3:D548),20)=1,INDEX('Summary Sheet'!$B$17:$B630,INT(ROWS(D$3:D548)/20)+1),\"\"))","v":""},{"$f":"_xlfn.IFNA(IF(VLOOKUP(B548,_!$A$7:$E$210,2,FALSE)=0, \"\", VLOOKUP(B548,_!$A$7:$E$210,2,FALSE)),  \"\")","v":""},{"$f":"_xlfn.IFNA(IF(VLOOKUP(B548,_!$A$7:$E$210,3,FALSE)=0, \"\", VLOOKUP(B548,_!$A$7:$E$210,3,FALSE)), \"\")","v":""},{"$f":"_xlfn.IFNA(IF(VLOOKUP(B548,_!$A$7:$E$210,4,FALSE)=0, \"\",VLOOKUP(B548,_!$A$7:$E$210,4,FALSE)), \"\")","v":""},{"$f":"_xlfn.IFNA(IF(VLOOKUP(B548,_!$A$7:$E$210,5,FALSE)=0,\"\",VLOOKUP(B548,_!$A$7:$E$210,5,FALSE)), \"\")","v":""}]
[3,null,{"$f":"_xlfn.IFNA(VLOOKUP(B549,_!$A$7:$F$210,6,FALSE),\"\")","v":""},{"$f":"IF(IF(MOD(ROWS(D$3:D549),20)=1,INDEX('Summary Sheet'!$B$17:$B630,INT(ROWS(D$3:D549)/20)+1),\"\")=0,\"\",IF(MOD(ROWS(D$3:D549),20)=1,INDEX('Summary Sheet'!$B$17:$B630,INT(ROWS(D$3:D549)/20)+1),\"\"))","v":""},{"$f":"_xlfn.IFNA(IF(VLOOKUP(B549,_!$A$7:$E$210,2,FALSE)=0, \"\", VLOOKUP(B549,_!$A$7:$E$210,2,FALSE)),  \"\")","v":""},{"$f":"_xlfn.IFNA(IF(VLOOKUP(B549,_!$A$7:$E$210,3,FALSE)=0, \"\", VLOOKUP(B549,_!$A$7:$E$210,3,FALSE)), \"\")","v":""},{"$f":"_xlfn.IFNA(IF(VLOOKUP(B549,_!$A$7:$E$210,4,FALSE)=0, \"\",VLOOKUP(B549,_!$A$7:$E$210,4,FALSE)), \"\")","v":""},{"$f":"_xlfn.IFNA(IF(VLOOKUP(B549,_!$A$7:$E$210,5,FALSE)=0,\"\",VLOOKUP(B549,_!$A$7:$E$210,5,FALSE)), \"\")","v":""}]
[4,null,{"$f":"_xlfn.IFNA(VLOOKUP(B550,_!$A$7:$F$210,6,FALSE),\"\")","v":""},{"$f":"IF(IF(MOD(ROWS(D$3:D550),20)=1,INDEX('Summary Sheet'!$B$17:$B630,INT(ROWS(D$3:D550)/20)+1),\"\")=0,\"\",IF(MOD(ROWS(D$3:D550),20)=1,INDEX('Summary Sheet'!$B$17:$B630,INT(ROWS(D$3:D550)/20)+1),\"\"))","v":""},{"$f":"_xlfn.IFNA(IF(VLOOKUP(B550,_!$A$7:$E$210,2,FALSE)=0, \"\", VLOOKUP(B550,_!$A$7:$E$210,2,FALSE)),  \"\")","v":""},{"$f":"_xlfn.IFNA(IF(VLOOKUP(B550,_!$A$7:$E$210,3,FALSE)=0, \"\", VLOOKUP(B550,_!$A$7:$E$210,3,FALSE)), \"\")","v":""},{"$f":"_xlfn.IFNA(IF(VLOOKUP(B550,_!$A$7:$E$210,4,FALSE)=0, \"\",VLOOKUP(B550,_!$A$7:$E$210,4,FALSE)), \"\")","v":""},{"$f":"_xlfn.IFNA(IF(VLOOKUP(B550,_!$A$7:$E$210,5,FALSE)=0,\"\",VLOOKUP(B550,_!$A$7:$E$210,5,FALSE)), \"\")","v":""}]
[5,null,{"$f":"_xlfn.IFNA(VLOOKUP(B551,_!$A$7:$F$210,6,FALSE),\"\")","v":""},{"$f":"IF(IF(MOD(ROWS(D$3:D551),20)=1,INDEX('Summary Sheet'!$B$17:$B630,INT(ROWS(D$3:D551)/20)+1),\"\")=0,\"\",IF(MOD(ROWS(D$3:D551),20)=1,INDEX('Summary Sheet'!$B$17:$B630,INT(ROWS(D$3:D551)/20)+1),\"\"))","v":""},{"$f":"_xlfn.IFNA(IF(VLOOKUP(B551,_!$A$7:$E$210,2,FALSE)=0, \"\", VLOOKUP(B551,_!$A$7:$E$210,2,FALSE)),  \"\")","v":""},{"$f":"_xlfn.IFNA(IF(VLOOKUP(B551,_!$A$7:$E$210,3,FALSE)=0, \"\", VLOOKUP(B551,_!$A$7:$E$210,3,FALSE)), \"\")","v":""},{"$f":"_xlfn.IFNA(IF(VLOOKUP(B551,_!$A$7:$E$210,4,FALSE)=0, \"\",VLOOKUP(B551,_!$A$7:$E$210,4,FALSE)), \"\")","v":""},{"$f":"_xlfn.IFNA(IF(VLOOKUP(B551,_!$A$7:$E$210,5,FALSE)=0,\"\",VLOOKUP(B551,_!$A$7:$E$210,5,FALSE)), \"\")","v":""}]
[6,null,{"$f":"_xlfn.IFNA(VLOOKUP(B552,_!$A$7:$F$210,6,FALSE),\"\")","v":""},{"$f":"IF(IF(MOD(ROWS(D$3:D552),20)=1,INDEX('Summary Sheet'!$B$17:$B630,INT(ROWS(D$3:D552)/20)+1),\"\")=0,\"\",IF(MOD(ROWS(D$3:D552),20)=1,INDEX('Summary Sheet'!$B$17:$B630,INT(ROWS(D$3:D552)/20)+1),\"\"))","v":""},{"$f":"_xlfn.IFNA(IF(VLOOKUP(B552,_!$A$7:$E$210,2,FALSE)=0, \"\", VLOOKUP(B552,_!$A$7:$E$210,2,FALSE)),  \"\")","v":""},{"$f":"_xlfn.IFNA(IF(VLOOKUP(B552,_!$A$7:$E$210,3,FALSE)=0, \"\", VLOOKUP(B552,_!$A$7:$E$210,3,FALSE)), \"\")","v":""},{"$f":"_xlfn.IFNA(IF(VLOOKUP(B552,_!$A$7:$E$210,4,FALSE)=0, \"\",VLOOKUP(B552,_!$A$7:$E$210,4,FALSE)), \"\")","v":""},{"$f":"_xlfn.IFNA(IF(VLOOKUP(B552,_!$A$7:$E$210,5,FALSE)=0,\"\",VLOOKUP(B552,_!$A$7:$E$210,5,FALSE)), \"\")","v":""}]
[7,null,{"$f":"_xlfn.IFNA(VLOOKUP(B553,_!$A$7:$F$210,6,FALSE),\"\")","v":""},{"$f":"IF(IF(MOD(ROWS(D$3:D553),20)=1,INDEX('Summary Sheet'!$B$17:$B630,INT(ROWS(D$3:D553)/20)+1),\"\")=0,\"\",IF(MOD(ROWS(D$3:D553),20)=1,INDEX('Summary Sheet'!$B$17:$B630,INT(ROWS(D$3:D553)/20)+1),\"\"))","v":""},{"$f":"_xlfn.IFNA(IF(VLOOKUP(B553,_!$A$7:$E$210,2,FALSE)=0, \"\", VLOOKUP(B553,_!$A$7:$E$210,2,FALSE)),  \"\")","v":""},{"$f":"_xlfn.IFNA(IF(VLOOKUP(B553,_!$A$7:$E$210,3,FALSE)=0, \"\", VLOOKUP(B553,_!$A$7:$E$210,3,FALSE)), \"\")","v":""},{"$f":"_xlfn.IFNA(IF(VLOOKUP(B553,_!$A$7:$E$210,4,FALSE)=0, \"\",VLOOKUP(B553,_!$A$7:$E$210,4,FALSE)), \"\")","v":""},{"$f":"_xlfn.IFNA(IF(VLOOKUP(B553,_!$A$7:$E$210,5,FALSE)=0,\"\",VLOOKUP(B553,_!$A$7:$E$210,5,FALSE)), \"\")","v":""}]
[8,null,{"$f":"_xlfn.IFNA(VLOOKUP(B554,_!$A$7:$F$210,6,FALSE),\"\")","v":""},{"$f":"IF(IF(MOD(ROWS(D$3:D554),20)=1,INDEX('Summary Sheet'!$B$17:$B630,INT(ROWS(D$3:D554)/20)+1),\"\")=0,\"\",IF(MOD(ROWS(D$3:D554),20)=1,INDEX('Summary Sheet'!$B$17:$B630,INT(ROWS(D$3:D554)/20)+1),\"\"))","v":""},{"$f":"_xlfn.IFNA(IF(VLOOKUP(B554,_!$A$7:$E$210,2,FALSE)=0, \"\", VLOOKUP(B554,_!$A$7:$E$210,2,FALSE)),  \"\")","v":""},{"$f":"_xlfn.IFNA(IF(VLOOKUP(B554,_!$A$7:$E$210,3,FALSE)=0, \"\", VLOOKUP(B554,_!$A$7:$E$210,3,FALSE)), \"\")","v":""},{"$f":"_xlfn.IFNA(IF(VLOOKUP(B554,_!$A$7:$E$210,4,FALSE)=0, \"\",VLOOKUP(B554,_!$A$7:$E$210,4,FALSE)), \"\")","v":""},{"$f":"_xlfn.IFNA(IF(VLOOKUP(B554,_!$A$7:$E$210,5,FALSE)=0,\"\",VLOOKUP(B554,_!$A$7:$E$210,5,FALSE)), \"\")","v":""}]
[9,null,{"$f":"_xlfn.IFNA(VLOOKUP(B555,_!$A$7:$F$210,6,FALSE),\"\")","v":""},{"$f":"IF(IF(MOD(ROWS(D$3:D555),20)=1,INDEX('Summary Sheet'!$B$17:$B630,INT(ROWS(D$3:D555)/20)+1),\"\")=0,\"\",IF(MOD(ROWS(D$3:D555),20)=1,INDEX('Summary Sheet'!$B$17:$B630,INT(ROWS(D$3:D555)/20)+1),\"\"))","v":""},{"$f":"_xlfn.IFNA(IF(VLOOKUP(B555,_!$A$7:$E$210,2,FALSE)=0, \"\", VLOOKUP(B555,_!$A$7:$E$210,2,FALSE)),  \"\")","v":""},{"$f":"_xlfn.IFNA(IF(VLOOKUP(B555,_!$A$7:$E$210,3,FALSE)=0, \"\", VLOOKUP(B555,_!$A$7:$E$210,3,FALSE)), \"\")","v":""},{"$f":"_xlfn.IFNA(IF(VLOOKUP(B555,_!$A$7:$E$210,4,FALSE)=0, \"\",VLOOKUP(B555,_!$A$7:$E$210,4,FALSE)), \"\")","v":""},{"$f":"_xlfn.IFNA(IF(VLOOKUP(B555,_!$A$7:$E$210,5,FALSE)=0,\"\",VLOOKUP(B555,_!$A$7:$E$210,5,FALSE)), \"\")","v":""}]
[10,null,{"$f":"_xlfn.IFNA(VLOOKUP(B556,_!$A$7:$F$210,6,FALSE),\"\")","v":""},{"$f":"IF(IF(MOD(ROWS(D$14:D556),20)=1,INDEX('Summary Sheet'!$B$17:$B630,INT(ROWS(D$14:D556)/20)+1),\"\")=0,\"\",IF(MOD(ROWS(D$14:D556),20)=1,INDEX('Summary Sheet'!$B$17:$B630,INT(ROWS(D$14:D556)/20)+1),\"\"))","v":""},{"$f":"_xlfn.IFNA(IF(VLOOKUP(B556,_!$A$7:$E$210,2,FALSE)=0, \"\", VLOOKUP(B556,_!$A$7:$E$210,2,FALSE)),  \"\")","v":""},{"$f":"_xlfn.IFNA(IF(VLOOKUP(B556,_!$A$7:$E$210,3,FALSE)=0, \"\", VLOOKUP(B556,_!$A$7:$E$210,3,FALSE)), \"\")","v":""},{"$f":"_xlfn.IFNA(IF(VLOOKUP(B556,_!$A$7:$E$210,4,FALSE)=0, \"\",VLOOKUP(B556,_!$A$7:$E$210,4,FALSE)), \"\")","v":""},{"$f":"_xlfn.IFNA(IF(VLOOKUP(B556,_!$A$7:$E$210,5,FALSE)=0,\"\",VLOOKUP(B556,_!$A$7:$E$210,5,FALSE)), \"\")","v":""}]
[null,"\nHighest hazard level for each ‘Uptake Route’\n",null,null,{"$f":"_xlfn.IFNA(IF((INDEX(E547:E556,MATCH(\"E\",E547:E556,0)))=\"E\",\"E\",\"\"),_xlfn.IFNA(IF((INDEX(E547:E556,MATCH(\"D\",E547:E556,0)))=\"D\",\"D\",\"\"),_xlfn.IFNA(IF((INDEX(E547:E556,MATCH(\"Ca\",E547:E556,0)))=\"Ca\",\"C\",\"\"),_xlfn.IFNA(IF((INDEX(E547:E556,MATCH(\"C\",E547:E556,0)))=\"C\",\"C\",\"\"),_xlfn.IFNA(IF((INDEX(E547:E556,MATCH(\"B\",E547:E556,0)))=\"B\",\"B\",\"\"),_xlfn.IFNA(IF((INDEX(E547:E556,MATCH(\"A\",E547:E556,0)))=\"A\",\"A\",\"\"),_xlfn.IFNA(IF((INDEX(E547:E556,MATCH(\"n.a.\",E547:E556,0)))=\"n.a.\",\"\",\"\"),_xlfn.IFNA(IF((INDEX(E547:E556,MATCH(\"\",E547:E556,0)))=\"\",\"\",\"\"),\"\"))))))))","v":""},{"$f":"_xlfn.IFNA(IF((INDEX(F547:F556,MATCH(\"E\",F547:F556,0)))=\"E\",\"E\",\"\"),_xlfn.IFNA(IF((INDEX(F547:F556,MATCH(\"D (E)c\",F547:F556,0)))=\"D (E)c\",\"D (E)c\",\"\"),_xlfn.IFNA(IF((INDEX(F547:F556,MATCH(\"Da (E)c\",F547:F556,0)))=\"Da (E)c\",\"D (E)c\",\"\"),_xlfn.IFNA(IF((INDEX(F547:F556,MATCH(\"D\",F547:F556,0)))=\"D\",\"D\",\"\"),_xlfn.IFNA(IF((INDEX(F547:F556,MATCH(\"Ca\",F547:F556,0)))=\"Ca\",\"C\",\"\"),_xlfn.IFNA(IF((INDEX(F547:F556,MATCH(\"C\",F547:F556,0)))=\"C\",\"C\",\"\"),_xlfn.IFNA(IF((INDEX(F547:F556,MATCH(\"Ba\",F547:F556,0)))=\"Ba\",\"B\",\"\"),_xlfn.IFNA(IF((INDEX(F547:F556,MATCH(\"B\",F547:F556,0)))=\"B\",\"B\",\"\"),_xlfn.IFNA(IF((INDEX(F547:F556,MATCH(\"Aa\",F547:F556,0)))=\"Aa\",\"A\",\"\"),_xlfn.IFNA(IF((INDEX(F547:F556,MATCH(\"A\",F547:F556,0)))=\"A\",\"A\",\"\"),_xlfn.IFNA(IF((INDEX(F547:F556,MATCH(\"n.a.\",F547:F556,0)))=\"n.a.\",\"\",\"\"),_xlfn.IFNA(IF((INDEX(F547:F556,MATCH(\"\",F547:F556,0)))=\"\",\"\",\"\"),\"\"))))))))))))","v":""},{"$f":"_xlfn.IFNA(IF((INDEX(G547:G556,MATCH(\"E\",G547:G556,0)))=\"E\",\"E\",\"\"),_xlfn.IFNA(IF((INDEX(G547:G556,MATCH(\"D\",G547:G556,0)))=\"D\",\"D\",\"\"),_xlfn.IFNA(IF((INDEX(G547:G556,MATCH(\"Ca\",G547:G556,0)))=\"Ca\",\"C\",\"\"),_xlfn.IFNA(IF((INDEX(G547:G556,MATCH(\"C\",G547:G556,0)))=\"C\",\"C\",\"\"),_xlfn.IFNA(IF((INDEX(G547:G556,MATCH(\"B\",G547:G556,0)))=\"B\",\"B\",\"\"),_xlfn.IFNA(IF((INDEX(G547:G556,MATCH(\"A\",G547:G556,0)))=\"A\",\"A\",\"\"),_xlfn.IFNA(IF((INDEX(G547:G556,MATCH(\"n.a.\",G547:G556,0)))=\"n.a.\",\"\",\"\"),_xlfn.IFNA(IF((INDEX(G547:G556,MATCH(\"\",G547:G556,0)))=\"\",\"\",\"\"),\"\"))))))))","v":""},{"$f":"_xlfn.IFNA(IF((INDEX(H547:H556,MATCH(\"E\",H547:H556,0)))=\"E\",\"E\",\"\"),_xlfn.IFNA(IF((INDEX(H547:H556,MATCH(\"D (E)c\",H547:H556,0)))=\"D (E)c\",\"D (E)c\",\"\"),_xlfn.IFNA(IF((INDEX(H547:H556,MATCH(\"Db (E)c\",H547:H556,0)))=\"Db (E)c\",\"D (E)c\",\"\"),_xlfn.IFNA(IF((INDEX(H547:H556,MATCH(\"D\",H547:H556,0)))=\"D\",\"D\",\"\"),_xlfn.IFNA(IF((INDEX(H547:H556,MATCH(\"Cb\",H547:H556,0)))=\"Cb\",\"C\",\"\"),_xlfn.IFNA(IF((INDEX(H547:H556,MATCH(\"C\",H547:H556,0)))=\"C\",\"C\",\"\"),_xlfn.IFNA(IF((INDEX(H547:H556,MATCH(\"Bb\",H547:H556,0)))=\"Bb\",\"B\",\"\"),_xlfn.IFNA(IF((INDEX(H547:H556,MATCH(\"B\",H547:H556,0)))=\"B\",\"B\",\"\"),_xlfn.IFNA(IF((INDEX(H547:H556,MATCH(\"Ab\",H547:H556,0)))=\"Ab\",\"A\",\"\"),_xlfn.IFNA(IF((INDEX(H547:H556,MATCH(\"A\",H547:H556,0)))=\"A\",\"A\",\"\"),_xlfn.IFNA(IF((INDEX(H547:H556,MATCH(\"n.a.\",H547:H556,0)))=\"n.a.\",\"\",\"\"),_xlfn.IFNA(IF((INDEX(H547:H556,MATCH(\"\",H547:H556,0)))=\"\",\"\",\"\"),\"\"))))))))))))","v":""}]
[null,"\nHighest hazard level for all 'Uptake Routes' \n",null,null,{"$f":"_xlfn.IFNA(IF((INDEX(E557:H557,MATCH(\"E\",E557:H557,0)))=\"E\",\"E\",\"\"),_xlfn.IFNA(IF((INDEX(E557:H557,MATCH(\"D (E)c\",E557:H557,0)))=\"D (E)c\",\"D (E)\",\"\"),_xlfn.IFNA(IF((INDEX(E557:H557,MATCH(\"D\",E557:H557,0)))=\"D\",\"D\",\"\"),_xlfn.IFNA(IF((INDEX(E557:H557,MATCH(\"C\",E557:H557,0)))=\"C\",\"C\",\"\"),_xlfn.IFNA(IF((INDEX(E557:H557,MATCH(\"B\",E557:H557,0)))=\"B\",\"B\",\"\"),_xlfn.IFNA(IF((INDEX(E557:H557,MATCH(\"A\",E557:H557,0)))=\"A\",\"A\",\"\"),_xlfn.IFNA(IF((INDEX(E557:H557,MATCH(\"n.a.\",E557:H557,0)))=\"n.a.\",\"\",\"\"),_xlfn.IFNA(IF((INDEX(E557:H557,MATCH(\"\",E557:H557,0)))=\"\",\"\",\"\"),\"\"))))))))","v":""}]
[]
[]
[null,"\nStep 3: D(E) Assessment\nSkip this step if \nyour assessment above does not reveal a D(E) hazard level.\nHover over this cell for additional instructions.\n",null,null,"\nOverall hazard level\n",null,{"$f":"IF(AND(E558=\"\",C544=\"Yes\")=TRUE,\"B\",IF(E558=\"\",\"\",(IF(AND(E558=\"D (E)\",C561=\"\"),\"D (E)\"&CHAR(10)&\"Find if cat. 1 acute tox.\",(IF(E558<>\"D (E)\",E558,(IF(AND(E558=\"D (E)\",C561=\"Yes\"),\"E\",(IF(AND(E558=\"D (E)\",C561=\"No\"),\"D\",\"\"))))))))))","v":""}]
[]
[{"$f":"IF(IF(MOD(ROWS(B$3:B563),20)=1,INDEX('Summary Sheet'!$A$17:$A649,INT(ROWS(B$3:B563)/20)+1),\"\")=0,\"\",IF(MOD(ROWS(B$3:B563),20)=1,INDEX('Summary Sheet'!$A$17:$A649,INT(ROWS(B$3:B563)/20)+1),\"\"))","v":29},"Hazard Level Assessment","for",{"$f":"IF(IF(MOD(ROWS(D$3:D563),20)=1,INDEX('Summary Sheet'!$B$17:$B649,INT(ROWS(D$3:D563)/20)+1),\"\")=0,\"\",IF(MOD(ROWS(D$3:D563),20)=1,INDEX('Summary Sheet'!$B$17:$B649,INT(ROWS(D$3:D563)/20)+1),\"\"))","v":""}]
[null,"\nStep 1: Physical & Environmental Hazard Statements/Codes\nFind Section 2 of the SDS and determine if the SDS has physical and/or environmental hazard statements/codes. Hover on this cell for additional instructions.\n",null,{"$f":"IF(IF(MOD(ROWS(D$3:D564),20)=1,INDEX('Summary Sheet'!$B$17:$B649,INT(ROWS(D$3:D564)/20)+1),\"\")=0,\"\",IF(MOD(ROWS(D$3:D564),20)=1,INDEX('Summary Sheet'!$B$17:$B649,INT(ROWS(D$3:D564)/20)+1),\"\"))","v":""}]
[null,"Step 2: Health Hazard Statements/Codes\nProvide the Health Hazard Statements or Codes from Section 2 of the SDS below. Hover on this cell for additional instructions.",null,{"$f":"IF(IF(MOD(ROWS(D$3:D565),20)=1,INDEX('Summary Sheet'!$B$17:$B649,INT(ROWS(D$3:D565)/20)+1),\"\")=0,\"\",IF(MOD(ROWS(D$3:D565),20)=1,INDEX('Summary Sheet'!$B$17:$B649,INT(ROWS(D$3:D565)/20)+1),\"\"))","v":""},"\nHazard Level\n"]
[null,null,null,{"$f":"IF(IF(MOD(ROWS(D$3:D566),20)=1,INDEX('Summary Sheet'!$B$17:$B649,INT(ROWS(D$3:D566)/20)+1),\"\")=0,\"\",IF(MOD(ROWS(D$3:D566),20)=1,INDEX('Summary Sheet'!$B$17:$B649,INT(ROWS(D$3:D566)/20)+1),\"\"))","v":""},"\nEye Damage\n","\nInhalation\n","\nLocal Skin Damage\n","\nSkin uptake, systemic\n"]
[1,null,{"$f":"_xlfn.IFNA(VLOOKUP(B567,_!$A$7:$F$210,6,FALSE),\"\")","v":""},{"$f":"IF(IF(MOD(ROWS(D$3:D567),20)=1,INDEX('Summary Sheet'!$B$17:$B649,INT(ROWS(D$3:D567)/20)+1),\"\")=0,\"\",IF(MOD(ROWS(D$3:D567),20)=1,INDEX('Summary Sheet'!$B$17:$B649,INT(ROWS(D$3:D567)/20)+1),\"\"))","v":""},{"$f":"_xlfn.IFNA(IF(VLOOKUP(B567,_!$A$7:$E$210,2,FALSE)=0, \"\", VLOOKUP(B567,_!$A$7:$E$210,2,FALSE)),  \"\")","v":""},{"$f":"_xlfn.IFNA(IF(VLOOKUP(B567,_!$A$7:$E$210,3,FALSE)=0, \"\", VLOOKUP(B567,_!$A$7:$E$210,3,FALSE)), \"\")","v":""},{"$f":"_xlfn.IFNA(IF(VLOOKUP(B567,_!$A$7:$E$210,4,FALSE)=0, \"\",VLOOKUP(B567,_!$A$7:$E$210,4,FALSE)), \"\")","v":""},{"$f":"_xlfn.IFNA(IF(VLOOKUP(B567,_!$A$7:$E$210,5,FALSE)=0,\"\",VLOOKUP(B567,_!$A$7:$E$210,5,FALSE)), \"\")","v":""}]
[2,null,{"$f":"_xlfn.IFNA(VLOOKUP(B568,_!$A$7:$F$210,6,FALSE),\"\")","v":""},{"$f":"IF(IF(MOD(ROWS(D$3:D568),20)=1,INDEX('Summary Sheet'!$B$17:$B649,INT(ROWS(D$3:D568)/20)+1),\"\")=0,\"\",IF(MOD(ROWS(D$3:D568),20)=1,INDEX('Summary Sheet'!$B$17:$B649,INT(ROWS(D$3:D568)/20)+1),\"\"))","v":""},{"$f":"_xlfn.IFNA(IF(VLOOKUP(B568,_!$A$7:$E$210,2,FALSE)=0, \"\", VLOOKUP(B568,_!$A$7:$E$210,2,FALSE)),  \"\")","v":""},{"$f":"_xlfn.IFNA(IF(VLOOKUP(B568,_!$A$7:$E$210,3,FALSE)=0, \"\", VLOOKUP(B568,_!$A$7:$E$210,3,FALSE)), \"\")","v":""},{"$f":"_xlfn.IFNA(IF(VLOOKUP(B568,_!$A$7:$E$210,4,FALSE)=0, \"\",VLOOKUP(B568,_!$A$7:$E$210,4,FALSE)), \"\")","v":""},{"$f":"_xlfn.IFNA(IF(VLOOKUP(B568,_!$A$7:$E$210,5,FALSE)=0,\"\",VLOOKUP(B568,_!$A$7:$E$210,5,FALSE)), \"\")","v":""}]
[3,null,{"$f":"_xlfn.IFNA(VLOOKUP(B569,_!$A$7:$F$210,6,FALSE),\"\")","v":""},{"$f":"IF(IF(MOD(ROWS(D$3:D569),20)=1,INDEX('Summary Sheet'!$B$17:$B649,INT(ROWS(D$3:D569)/20)+1),\"\")=0,\"\",IF(MOD(ROWS(D$3:D569),20)=1,INDEX('Summary Sheet'!$B$17:$B649,INT(ROWS(D$3:D569)/20)+1),\"\"))","v":""},{"$f":"_xlfn.IFNA(IF(VLOOKUP(B569,_!$A$7:$E$210,2,FALSE)=0, \"\", VLOOKUP(B569,_!$A$7:$E$210,2,FALSE)),  \"\")","v":""},{"$f":"_xlfn.IFNA(IF(VLOOKUP(B569,_!$A$7:$E$210,3,FALSE)=0, \"\", VLOOKUP(B569,_!$A$7:$E$210,3,FALSE)), \"\")","v":""},{"$f":"_xlfn.IFNA(IF(VLOOKUP(B569,_!$A$7:$E$210,4,FALSE)=0, \"\",VLOOKUP(B569,_!$A$7:$E$210,4,FALSE)), \"\")","v":""},{"$f":"_xlfn.IFNA(IF(VLOOKUP(B569,_!$A$7:$E$210,5,FALSE)=0,\"\",VLOOKUP(B569,_!$A$7:$E$210,5,FALSE)), \"\")","v":""}]
[4,null,{"$f":"_xlfn.IFNA(VLOOKUP(B570,_!$A$7:$F$210,6,FALSE),\"\")","v":""},{"$f":"IF(IF(MOD(ROWS(D$3:D570),20)=1,INDEX('Summary Sheet'!$B$17:$B649,INT(ROWS(D$3:D570)/20)+1),\"\")=0,\"\",IF(MOD(ROWS(D$3:D570),20)=1,INDEX('Summary Sheet'!$B$17:$B649,INT(ROWS(D$3:D570)/20)+1),\"\"))","v":""},{"$f":"_xlfn.IFNA(IF(VLOOKUP(B570,_!$A$7:$E$210,2,FALSE)=0, \"\", VLOOKUP(B570,_!$A$7:$E$210,2,FALSE)),  \"\")","v":""},{"$f":"_xlfn.IFNA(IF(VLOOKUP(B570,_!$A$7:$E$210,3,FALSE)=0, \"\", VLOOKUP(B570,_!$A$7:$E$210,3,FALSE)), \"\")","v":""},{"$f":"_xlfn.IFNA(IF(VLOOKUP(B570,_!$A$7:$E$210,4,FALSE)=0, \"\",VLOOKUP(B570,_!$A$7:$E$210,4,FALSE)), \"\")","v":""},{"$f":"_xlfn.IFNA(IF(VLOOKUP(B570,_!$A$7:$E$210,5,FALSE)=0,\"\",VLOOKUP(B570,_!$A$7:$E$210,5,FALSE)), \"\")","v":""}]
[5,null,{"$f":"_xlfn.IFNA(VLOOKUP(B571,_!$A$7:$F$210,6,FALSE),\"\")","v":""},{"$f":"IF(IF(MOD(ROWS(D$3:D571),20)=1,INDEX('Summary Sheet'!$B$17:$B649,INT(ROWS(D$3:D571)/20)+1),\"\")=0,\"\",IF(MOD(ROWS(D$3:D571),20)=1,INDEX('Summary Sheet'!$B$17:$B649,INT(ROWS(D$3:D571)/20)+1),\"\"))","v":""},{"$f":"_xlfn.IFNA(IF(VLOOKUP(B571,_!$A$7:$E$210,2,FALSE)=0, \"\", VLOOKUP(B571,_!$A$7:$E$210,2,FALSE)),  \"\")","v":""},{"$f":"_xlfn.IFNA(IF(VLOOKUP(B571,_!$A$7:$E$210,3,FALSE)=0, \"\", VLOOKUP(B571,_!$A$7:$E$210,3,FALSE)), \"\")","v":""},{"$f":"_xlfn.IFNA(IF(VLOOKUP(B571,_!$A$7:$E$210,4,FALSE)=0, \"\",VLOOKUP(B571,_!$A$7:$E$210,4,FALSE)), \"\")","v":""},{"$f":"_xlfn.IFNA(IF(VLOOKUP(B571,_!$A$7:$E$210,5,FALSE)=0,\"\",VLOOKUP(B571,_!$A$7:$E$210,5,FALSE)), \"\")","v":""}]
[6,null,{"$f":"_xlfn.IFNA(VLOOKUP(B572,_!$A$7:$F$210,6,FALSE),\"\")","v":""},{"$f":"IF(IF(MOD(ROWS(D$3:D572),20)=1,INDEX('Summary Sheet'!$B$17:$B649,INT(ROWS(D$3:D572)/20)+1),\"\")=0,\"\",IF(MOD(ROWS(D$3:D572),20)=1,INDEX('Summary Sheet'!$B$17:$B649,INT(ROWS(D$3:D572)/20)+1),\"\"))","v":""},{"$f":"_xlfn.IFNA(IF(VLOOKUP(B572,_!$A$7:$E$210,2,FALSE)=0, \"\", VLOOKUP(B572,_!$A$7:$E$210,2,FALSE)),  \"\")","v":""},{"$f":"_xlfn.IFNA(IF(VLOOKUP(B572,_!$A$7:$E$210,3,FALSE)=0, \"\", VLOOKUP(B572,_!$A$7:$E$210,3,FALSE)), \"\")","v":""},{"$f":"_xlfn.IFNA(IF(VLOOKUP(B572,_!$A$7:$E$210,4,FALSE)=0, \"\",VLOOKUP(B572,_!$A$7:$E$210,4,FALSE)), \"\")","v":""},{"$f":"_xlfn.IFNA(IF(VLOOKUP(B572,_!$A$7:$E$210,5,FALSE)=0,\"\",VLOOKUP(B572,_!$A$7:$E$210,5,FALSE)), \"\")","v":""}]
[7,null,{"$f":"_xlfn.IFNA(VLOOKUP(B573,_!$A$7:$F$210,6,FALSE),\"\")","v":""},{"$f":"IF(IF(MOD(ROWS(D$3:D573),20)=1,INDEX('Summary Sheet'!$B$17:$B649,INT(ROWS(D$3:D573)/20)+1),\"\")=0,\"\",IF(MOD(ROWS(D$3:D573),20)=1,INDEX('Summary Sheet'!$B$17:$B649,INT(ROWS(D$3:D573)/20)+1),\"\"))","v":""},{"$f":"_xlfn.IFNA(IF(VLOOKUP(B573,_!$A$7:$E$210,2,FALSE)=0, \"\", VLOOKUP(B573,_!$A$7:$E$210,2,FALSE)),  \"\")","v":""},{"$f":"_xlfn.IFNA(IF(VLOOKUP(B573,_!$A$7:$E$210,3,FALSE)=0, \"\", VLOOKUP(B573,_!$A$7:$E$210,3,FALSE)), \"\")","v":""},{"$f":"_xlfn.IFNA(IF(VLOOKUP(B573,_!$A$7:$E$210,4,FALSE)=0, \"\",VLOOKUP(B573,_!$A$7:$E$210,4,FALSE)), \"\")","v":""},{"$f":"_xlfn.IFNA(IF(VLOOKUP(B573,_!$A$7:$E$210,5,FALSE)=0,\"\",VLOOKUP(B573,_!$A$7:$E$210,5,FALSE)), \"\")","v":""}]
[8,null,{"$f":"_xlfn.IFNA(VLOOKUP(B574,_!$A$7:$F$210,6,FALSE),\"\")","v":""},{"$f":"IF(IF(MOD(ROWS(D$3:D574),20)=1,INDEX('Summary Sheet'!$B$17:$B649,INT(ROWS(D$3:D574)/20)+1),\"\")=0,\"\",IF(MOD(ROWS(D$3:D574),20)=1,INDEX('Summary Sheet'!$B$17:$B649,INT(ROWS(D$3:D574)/20)+1),\"\"))","v":""},{"$f":"_xlfn.IFNA(IF(VLOOKUP(B574,_!$A$7:$E$210,2,FALSE)=0, \"\", VLOOKUP(B574,_!$A$7:$E$210,2,FALSE)),  \"\")","v":""},{"$f":"_xlfn.IFNA(IF(VLOOKUP(B574,_!$A$7:$E$210,3,FALSE)=0, \"\", VLOOKUP(B574,_!$A$7:$E$210,3,FALSE)), \"\")","v":""},{"$f":"_xlfn.IFNA(IF(VLOOKUP(B574,_!$A$7:$E$210,4,FALSE)=0, \"\",VLOOKUP(B574,_!$A$7:$E$210,4,FALSE)), \"\")","v":""},{"$f":"_xlfn.IFNA(IF(VLOOKUP(B574,_!$A$7:$E$210,5,FALSE)=0,\"\",VLOOKUP(B574,_!$A$7:$E$210,5,FALSE)), \"\")","v":""}]
[9,null,{"$f":"_xlfn.IFNA(VLOOKUP(B575,_!$A$7:$F$210,6,FALSE),\"\")","v":""},{"$f":"IF(IF(MOD(ROWS(D$3:D575),20)=1,INDEX('Summary Sheet'!$B$17:$B649,INT(ROWS(D$3:D575)/20)+1),\"\")=0,\"\",IF(MOD(ROWS(D$3:D575),20)=1,INDEX('Summary Sheet'!$B$17:$B649,INT(ROWS(D$3:D575)/20)+1),\"\"))","v":""},{"$f":"_xlfn.IFNA(IF(VLOOKUP(B575,_!$A$7:$E$210,2,FALSE)=0, \"\", VLOOKUP(B575,_!$A$7:$E$210,2,FALSE)),  \"\")","v":""},{"$f":"_xlfn.IFNA(IF(VLOOKUP(B575,_!$A$7:$E$210,3,FALSE)=0, \"\", VLOOKUP(B575,_!$A$7:$E$210,3,FALSE)), \"\")","v":""},{"$f":"_xlfn.IFNA(IF(VLOOKUP(B575,_!$A$7:$E$210,4,FALSE)=0, \"\",VLOOKUP(B575,_!$A$7:$E$210,4,FALSE)), \"\")","v":""},{"$f":"_xlfn.IFNA(IF(VLOOKUP(B575,_!$A$7:$E$210,5,FALSE)=0,\"\",VLOOKUP(B575,_!$A$7:$E$210,5,FALSE)), \"\")","v":""}]
[10,null,{"$f":"_xlfn.IFNA(VLOOKUP(B576,_!$A$7:$F$210,6,FALSE),\"\")","v":""},{"$f":"IF(IF(MOD(ROWS(D$14:D576),20)=1,INDEX('Summary Sheet'!$B$17:$B649,INT(ROWS(D$14:D576)/20)+1),\"\")=0,\"\",IF(MOD(ROWS(D$14:D576),20)=1,INDEX('Summary Sheet'!$B$17:$B649,INT(ROWS(D$14:D576)/20)+1),\"\"))","v":""},{"$f":"_xlfn.IFNA(IF(VLOOKUP(B576,_!$A$7:$E$210,2,FALSE)=0, \"\", VLOOKUP(B576,_!$A$7:$E$210,2,FALSE)),  \"\")","v":""},{"$f":"_xlfn.IFNA(IF(VLOOKUP(B576,_!$A$7:$E$210,3,FALSE)=0, \"\", VLOOKUP(B576,_!$A$7:$E$210,3,FALSE)), \"\")","v":""},{"$f":"_xlfn.IFNA(IF(VLOOKUP(B576,_!$A$7:$E$210,4,FALSE)=0, \"\",VLOOKUP(B576,_!$A$7:$E$210,4,FALSE)), \"\")","v":""},{"$f":"_xlfn.IFNA(IF(VLOOKUP(B576,_!$A$7:$E$210,5,FALSE)=0,\"\",VLOOKUP(B576,_!$A$7:$E$210,5,FALSE)), \"\")","v":""}]
[null,"\nHighest hazard level for each ‘Uptake Route’\n",null,null,{"$f":"_xlfn.IFNA(IF((INDEX(E567:E576,MATCH(\"E\",E567:E576,0)))=\"E\",\"E\",\"\"),_xlfn.IFNA(IF((INDEX(E567:E576,MATCH(\"D\",E567:E576,0)))=\"D\",\"D\",\"\"),_xlfn.IFNA(IF((INDEX(E567:E576,MATCH(\"Ca\",E567:E576,0)))=\"Ca\",\"C\",\"\"),_xlfn.IFNA(IF((INDEX(E567:E576,MATCH(\"C\",E567:E576,0)))=\"C\",\"C\",\"\"),_xlfn.IFNA(IF((INDEX(E567:E576,MATCH(\"B\",E567:E576,0)))=\"B\",\"B\",\"\"),_xlfn.IFNA(IF((INDEX(E567:E576,MATCH(\"A\",E567:E576,0)))=\"A\",\"A\",\"\"),_xlfn.IFNA(IF((INDEX(E567:E576,MATCH(\"n.a.\",E567:E576,0)))=\"n.a.\",\"\",\"\"),_xlfn.IFNA(IF((INDEX(E567:E576,MATCH(\"\",E567:E576,0)))=\"\",\"\",\"\"),\"\"))))))))","v":""},{"$f":"_xlfn.IFNA(IF((INDEX(F567:F576,MATCH(\"E\",F567:F576,0)))=\"E\",\"E\",\"\"),_xlfn.IFNA(IF((INDEX(F567:F576,MATCH(\"D (E)c\",F567:F576,0)))=\"D (E)c\",\"D (E)c\",\"\"),_xlfn.IFNA(IF((INDEX(F567:F576,MATCH(\"Da (E)c\",F567:F576,0)))=\"Da (E)c\",\"D (E)c\",\"\"),_xlfn.IFNA(IF((INDEX(F567:F576,MATCH(\"D\",F567:F576,0)))=\"D\",\"D\",\"\"),_xlfn.IFNA(IF((INDEX(F567:F576,MATCH(\"Ca\",F567:F576,0)))=\"Ca\",\"C\",\"\"),_xlfn.IFNA(IF((INDEX(F567:F576,MATCH(\"C\",F567:F576,0)))=\"C\",\"C\",\"\"),_xlfn.IFNA(IF((INDEX(F567:F576,MATCH(\"Ba\",F567:F576,0)))=\"Ba\",\"B\",\"\"),_xlfn.IFNA(IF((INDEX(F567:F576,MATCH(\"B\",F567:F576,0)))=\"B\",\"B\",\"\"),_xlfn.IFNA(IF((INDEX(F567:F576,MATCH(\"Aa\",F567:F576,0)))=\"Aa\",\"A\",\"\"),_xlfn.IFNA(IF((INDEX(F567:F576,MATCH(\"A\",F567:F576,0)))=\"A\",\"A\",\"\"),_xlfn.IFNA(IF((INDEX(F567:F576,MATCH(\"n.a.\",F567:F576,0)))=\"n.a.\",\"\",\"\"),_xlfn.IFNA(IF((INDEX(F567:F576,MATCH(\"\",F567:F576,0)))=\"\",\"\",\"\"),\"\"))))))))))))","v":""},{"$f":"_xlfn.IFNA(IF((INDEX(G567:G576,MATCH(\"E\",G567:G576,0)))=\"E\",\"E\",\"\"),_xlfn.IFNA(IF((INDEX(G567:G576,MATCH(\"D\",G567:G576,0)))=\"D\",\"D\",\"\"),_xlfn.IFNA(IF((INDEX(G567:G576,MATCH(\"Ca\",G567:G576,0)))=\"Ca\",\"C\",\"\"),_xlfn.IFNA(IF((INDEX(G567:G576,MATCH(\"C\",G567:G576,0)))=\"C\",\"C\",\"\"),_xlfn.IFNA(IF((INDEX(G567:G576,MATCH(\"B\",G567:G576,0)))=\"B\",\"B\",\"\"),_xlfn.IFNA(IF((INDEX(G567:G576,MATCH(\"A\",G567:G576,0)))=\"A\",\"A\",\"\"),_xlfn.IFNA(IF((INDEX(G567:G576,MATCH(\"n.a.\",G567:G576,0)))=\"n.a.\",\"\",\"\"),_xlfn.IFNA(IF((INDEX(G567:G576,MATCH(\"\",G567:G576,0)))=\"\",\"\",\"\"),\"\"))))))))","v":""},{"$f":"_xlfn.IFNA(IF((INDEX(H567:H576,MATCH(\"E\",H567:H576,0)))=\"E\",\"E\",\"\"),_xlfn.IFNA(IF((INDEX(H567:H576,MATCH(\"D (E)c\",H567:H576,0)))=\"D (E)c\",\"D (E)c\",\"\"),_xlfn.IFNA(IF((INDEX(H567:H576,MATCH(\"Db (E)c\",H567:H576,0)))=\"Db (E)c\",\"D (E)c\",\"\"),_xlfn.IFNA(IF((INDEX(H567:H576,MATCH(\"D\",H567:H576,0)))=\"D\",\"D\",\"\"),_xlfn.IFNA(IF((INDEX(H567:H576,MATCH(\"Cb\",H567:H576,0)))=\"Cb\",\"C\",\"\"),_xlfn.IFNA(IF((INDEX(H567:H576,MATCH(\"C\",H567:H576,0)))=\"C\",\"C\",\"\"),_xlfn.IFNA(IF((INDEX(H567:H576,MATCH(\"Bb\",H567:H576,0)))=\"Bb\",\"B\",\"\"),_xlfn.IFNA(IF((INDEX(H567:H576,MATCH(\"B\",H567:H576,0)))=\"B\",\"B\",\"\"),_xlfn.IFNA(IF((INDEX(H567:H576,MATCH(\"Ab\",H567:H576,0)))=\"Ab\",\"A\",\"\"),_xlfn.IFNA(IF((INDEX(H567:H576,MATCH(\"A\",H567:H576,0)))=\"A\",\"A\",\"\"),_xlfn.IFNA(IF((INDEX(H567:H576,MATCH(\"n.a.\",H567:H576,0)))=\"n.a.\",\"\",\"\"),_xlfn.IFNA(IF((INDEX(H567:H576,MATCH(\"\",H567:H576,0)))=\"\",\"\",\"\"),\"\"))))))))))))","v":""}]
[null,"\nHighest hazard level for all 'Uptake Routes' \n",null,null,{"$f":"_xlfn.IFNA(IF((INDEX(E577:H577,MATCH(\"E\",E577:H577,0)))=\"E\",\"E\",\"\"),_xlfn.IFNA(IF((INDEX(E577:H577,MATCH(\"D (E)c\",E577:H577,0)))=\"D (E)c\",\"D (E)\",\"\"),_xlfn.IFNA(IF((INDEX(E577:H577,MATCH(\"D\",E577:H577,0)))=\"D\",\"D\",\"\"),_xlfn.IFNA(IF((INDEX(E577:H577,MATCH(\"C\",E577:H577,0)))=\"C\",\"C\",\"\"),_xlfn.IFNA(IF((INDEX(E577:H577,MATCH(\"B\",E577:H577,0)))=\"B\",\"B\",\"\"),_xlfn.IFNA(IF((INDEX(E577:H577,MATCH(\"A\",E577:H577,0)))=\"A\",\"A\",\"\"),_xlfn.IFNA(IF((INDEX(E577:H577,MATCH(\"n.a.\",E577:H577,0)))=\"n.a.\",\"\",\"\"),_xlfn.IFNA(IF((INDEX(E577:H577,MATCH(\"\",E577:H577,0)))=\"\",\"\",\"\"),\"\"))))))))","v":""}]
[]
[]
[null,"\nStep 3: D(E) Assessment\nSkip this step if \nyour assessment above does not reveal a D(E) hazard level.\nHover over this cell for additional instructions.\n",null,null,"\nOverall hazard level\n",null,{"$f":"IF(AND(E578=\"\",C564=\"Yes\")=TRUE,\"B\",IF(E578=\"\",\"\",(IF(AND(E578=\"D (E)\",C581=\"\"),\"D (E)\"&CHAR(10)&\"Find if cat. 1 acute tox.\",(IF(E578<>\"D (E)\",E578,(IF(AND(E578=\"D (E)\",C581=\"Yes\"),\"E\",(IF(AND(E578=\"D (E)\",C581=\"No\"),\"D\",\"\"))))))))))","v":""}]
[]
[{"$f":"IF(IF(MOD(ROWS(B$3:B583),20)=1,INDEX('Summary Sheet'!$A$17:$A668,INT(ROWS(B$3:B583)/20)+1),\"\")=0,\"\",IF(MOD(ROWS(B$3:B583),20)=1,INDEX('Summary Sheet'!$A$17:$A668,INT(ROWS(B$3:B583)/20)+1),\"\"))","v":30},"Hazard Level Assessment","for",{"$f":"IF(IF(MOD(ROWS(D$3:D583),20)=1,INDEX('Summary Sheet'!$B$17:$B668,INT(ROWS(D$3:D583)/20)+1),\"\")=0,\"\",IF(MOD(ROWS(D$3:D583),20)=1,INDEX('Summary Sheet'!$B$17:$B668,INT(ROWS(D$3:D583)/20)+1),\"\"))","v":""}]
[null,"\nStep 1: Physical & Environmental Hazard Statements/Codes\nFind Section 2 of the SDS and determine if the SDS has physical and/or environmental hazard statements/codes. Hover on this cell for additional instructions.\n",null,{"$f":"IF(IF(MOD(ROWS(D$3:D584),20)=1,INDEX('Summary Sheet'!$B$17:$B668,INT(ROWS(D$3:D584)/20)+1),\"\")=0,\"\",IF(MOD(ROWS(D$3:D584),20)=1,INDEX('Summary Sheet'!$B$17:$B668,INT(ROWS(D$3:D584)/20)+1),\"\"))","v":""}]
[null,"Step 2: Health Hazard Statements/Codes\nProvide the Health Hazard Statements or Codes from Section 2 of the SDS below. Hover on this cell for additional instructions.",null,{"$f":"IF(IF(MOD(ROWS(D$3:D585),20)=1,INDEX('Summary Sheet'!$B$17:$B668,INT(ROWS(D$3:D585)/20)+1),\"\")=0,\"\",IF(MOD(ROWS(D$3:D585),20)=1,INDEX('Summary Sheet'!$B$17:$B668,INT(ROWS(D$3:D585)/20)+1),\"\"))","v":""},"\nHazard Level\n"]
[null,null,null,{"$f":"IF(IF(MOD(ROWS(D$3:D586),20)=1,INDEX('Summary Sheet'!$B$17:$B668,INT(ROWS(D$3:D586)/20)+1),\"\")=0,\"\",IF(MOD(ROWS(D$3:D586),20)=1,INDEX('Summary Sheet'!$B$17:$B668,INT(ROWS(D$3:D586)/20)+1),\"\"))","v":""},"\nEye Damage\n","\nInhalation\n","\nLocal Skin Damage\n","\nSkin uptake, systemic\n"]
[1,null,{"$f":"_xlfn.IFNA(VLOOKUP(B587,_!$A$7:$F$210,6,FALSE),\"\")","v":""},{"$f":"IF(IF(MOD(ROWS(D$3:D587),20)=1,INDEX('Summary Sheet'!$B$17:$B668,INT(ROWS(D$3:D587)/20)+1),\"\")=0,\"\",IF(MOD(ROWS(D$3:D587),20)=1,INDEX('Summary Sheet'!$B$17:$B668,INT(ROWS(D$3:D587)/20)+1),\"\"))","v":""},{"$f":"_xlfn.IFNA(IF(VLOOKUP(B587,_!$A$7:$E$210,2,FALSE)=0, \"\", VLOOKUP(B587,_!$A$7:$E$210,2,FALSE)),  \"\")","v":""},{"$f":"_xlfn.IFNA(IF(VLOOKUP(B587,_!$A$7:$E$210,3,FALSE)=0, \"\", VLOOKUP(B587,_!$A$7:$E$210,3,FALSE)), \"\")","v":""},{"$f":"_xlfn.IFNA(IF(VLOOKUP(B587,_!$A$7:$E$210,4,FALSE)=0, \"\",VLOOKUP(B587,_!$A$7:$E$210,4,FALSE)), \"\")","v":""},{"$f":"_xlfn.IFNA(IF(VLOOKUP(B587,_!$A$7:$E$210,5,FALSE)=0,\"\",VLOOKUP(B587,_!$A$7:$E$210,5,FALSE)), \"\")","v":""}]
[2,null,{"$f":"_xlfn.IFNA(VLOOKUP(B588,_!$A$7:$F$210,6,FALSE),\"\")","v":""},{"$f":"IF(IF(MOD(ROWS(D$3:D588),20)=1,INDEX('Summary Sheet'!$B$17:$B668,INT(ROWS(D$3:D588)/20)+1),\"\")=0,\"\",IF(MOD(ROWS(D$3:D588),20)=1,INDEX('Summary Sheet'!$B$17:$B668,INT(ROWS(D$3:D588)/20)+1),\"\"))","v":""},{"$f":"_xlfn.IFNA(IF(VLOOKUP(B588,_!$A$7:$E$210,2,FALSE)=0, \"\", VLOOKUP(B588,_!$A$7:$E$210,2,FALSE)),  \"\")","v":""},{"$f":"_xlfn.IFNA(IF(VLOOKUP(B588,_!$A$7:$E$210,3,FALSE)=0, \"\", VLOOKUP(B588,_!$A$7:$E$210,3,FALSE)), \"\")","v":""},{"$f":"_xlfn.IFNA(IF(VLOOKUP(B588,_!$A$7:$E$210,4,FALSE)=0, \"\",VLOOKUP(B588,_!$A$7:$E$210,4,FALSE)), \"\")","v":""},{"$f":"_xlfn.IFNA(IF(VLOOKUP(B588,_!$A$7:$E$210,5,FALSE)=0,\"\",VLOOKUP(B588,_!$A$7:$E$210,5,FALSE)), \"\")","v":""}]
[3,null,{"$f":"_xlfn.IFNA(VLOOKUP(B589,_!$A$7:$F$210,6,FALSE),\"\")","v":""},{"$f":"IF(IF(MOD(ROWS(D$3:D589),20)=1,INDEX('Summary Sheet'!$B$17:$B668,INT(ROWS(D$3:D589)/20)+1),\"\")=0,\"\",IF(MOD(ROWS(D$3:D589),20)=1,INDEX('Summary Sheet'!$B$17:$B668,INT(ROWS(D$3:D589)/20)+1),\"\"))","v":""},{"$f":"_xlfn.IFNA(IF(VLOOKUP(B589,_!$A$7:$E$210,2,FALSE)=0, \"\", VLOOKUP(B589,_!$A$7:$E$210,2,FALSE)),  \"\")","v":""},{"$f":"_xlfn.IFNA(IF(VLOOKUP(B589,_!$A$7:$E$210,3,FALSE)=0, \"\", VLOOKUP(B589,_!$A$7:$E$210,3,FALSE)), \"\")","v":""},{"$f":"_xlfn.IFNA(IF(VLOOKUP(B589,_!$A$7:$E$210,4,FALSE)=0, \"\",VLOOKUP(B589,_!$A$7:$E$210,4,FALSE)), \"\")","v":""},{"$f":"_xlfn.IFNA(IF(VLOOKUP(B589,_!$A$7:$E$210,5,FALSE)=0,\"\",VLOOKUP(B589,_!$A$7:$E$210,5,FALSE)), \"\")","v":""}]
[4,null,{"$f":"_xlfn.IFNA(VLOOKUP(B590,_!$A$7:$F$210,6,FALSE),\"\")","v":""},{"$f":"IF(IF(MOD(ROWS(D$3:D590),20)=1,INDEX('Summary Sheet'!$B$17:$B668,INT(ROWS(D$3:D590)/20)+1),\"\")=0,\"\",IF(MOD(ROWS(D$3:D590),20)=1,INDEX('Summary Sheet'!$B$17:$B668,INT(ROWS(D$3:D590)/20)+1),\"\"))","v":""},{"$f":"_xlfn.IFNA(IF(VLOOKUP(B590,_!$A$7:$E$210,2,FALSE)=0, \"\", VLOOKUP(B590,_!$A$7:$E$210,2,FALSE)),  \"\")","v":""},{"$f":"_xlfn.IFNA(IF(VLOOKUP(B590,_!$A$7:$E$210,3,FALSE)=0, \"\", VLOOKUP(B590,_!$A$7:$E$210,3,FALSE)), \"\")","v":""},{"$f":"_xlfn.IFNA(IF(VLOOKUP(B590,_!$A$7:$E$210,4,FALSE)=0, \"\",VLOOKUP(B590,_!$A$7:$E$210,4,FALSE)), \"\")","v":""},{"$f":"_xlfn.IFNA(IF(VLOOKUP(B590,_!$A$7:$E$210,5,FALSE)=0,\"\",VLOOKUP(B590,_!$A$7:$E$210,5,FALSE)), \"\")","v":""}]
[5,null,{"$f":"_xlfn.IFNA(VLOOKUP(B591,_!$A$7:$F$210,6,FALSE),\"\")","v":""},{"$f":"IF(IF(MOD(ROWS(D$3:D591),20)=1,INDEX('Summary Sheet'!$B$17:$B668,INT(ROWS(D$3:D591)/20)+1),\"\")=0,\"\",IF(MOD(ROWS(D$3:D591),20)=1,INDEX('Summary Sheet'!$B$17:$B668,INT(ROWS(D$3:D591)/20)+1),\"\"))","v":""},{"$f":"_xlfn.IFNA(IF(VLOOKUP(B591,_!$A$7:$E$210,2,FALSE)=0, \"\", VLOOKUP(B591,_!$A$7:$E$210,2,FALSE)),  \"\")","v":""},{"$f":"_xlfn.IFNA(IF(VLOOKUP(B591,_!$A$7:$E$210,3,FALSE)=0, \"\", VLOOKUP(B591,_!$A$7:$E$210,3,FALSE)), \"\")","v":""},{"$f":"_xlfn.IFNA(IF(VLOOKUP(B591,_!$A$7:$E$210,4,FALSE)=0, \"\",VLOOKUP(B591,_!$A$7:$E$210,4,FALSE)), \"\")","v":""},{"$f":"_xlfn.IFNA(IF(VLOOKUP(B591,_!$A$7:$E$210,5,FALSE)=0,\"\",VLOOKUP(B591,_!$A$7:$E$210,5,FALSE)), \"\")","v":""}]
[6,null,{"$f":"_xlfn.IFNA(VLOOKUP(B592,_!$A$7:$F$210,6,FALSE),\"\")","v":""},{"$f":"IF(IF(MOD(ROWS(D$3:D592),20)=1,INDEX('Summary Sheet'!$B$17:$B668,INT(ROWS(D$3:D592)/20)+1),\"\")=0,\"\",IF(MOD(ROWS(D$3:D592),20)=1,INDEX('Summary Sheet'!$B$17:$B668,INT(ROWS(D$3:D592)/20)+1),\"\"))","v":""},{"$f":"_xlfn.IFNA(IF(VLOOKUP(B592,_!$A$7:$E$210,2,FALSE)=0, \"\", VLOOKUP(B592,_!$A$7:$E$210,2,FALSE)),  \"\")","v":""},{"$f":"_xlfn.IFNA(IF(VLOOKUP(B592,_!$A$7:$E$210,3,FALSE)=0, \"\", VLOOKUP(B592,_!$A$7:$E$210,3,FALSE)), \"\")","v":""},{"$f":"_xlfn.IFNA(IF(VLOOKUP(B592,_!$A$7:$E$210,4,FALSE)=0, \"\",VLOOKUP(B592,_!$A$7:$E$210,4,FALSE)), \"\")","v":""},{"$f":"_xlfn.IFNA(IF(VLOOKUP(B592,_!$A$7:$E$210,5,FALSE)=0,\"\",VLOOKUP(B592,_!$A$7:$E$210,5,FALSE)), \"\")","v":""}]
[7,null,{"$f":"_xlfn.IFNA(VLOOKUP(B593,_!$A$7:$F$210,6,FALSE),\"\")","v":""},{"$f":"IF(IF(MOD(ROWS(D$3:D593),20)=1,INDEX('Summary Sheet'!$B$17:$B668,INT(ROWS(D$3:D593)/20)+1),\"\")=0,\"\",IF(MOD(ROWS(D$3:D593),20)=1,INDEX('Summary Sheet'!$B$17:$B668,INT(ROWS(D$3:D593)/20)+1),\"\"))","v":""},{"$f":"_xlfn.IFNA(IF(VLOOKUP(B593,_!$A$7:$E$210,2,FALSE)=0, \"\", VLOOKUP(B593,_!$A$7:$E$210,2,FALSE)),  \"\")","v":""},{"$f":"_xlfn.IFNA(IF(VLOOKUP(B593,_!$A$7:$E$210,3,FALSE)=0, \"\", VLOOKUP(B593,_!$A$7:$E$210,3,FALSE)), \"\")","v":""},{"$f":"_xlfn.IFNA(IF(VLOOKUP(B593,_!$A$7:$E$210,4,FALSE)=0, \"\",VLOOKUP(B593,_!$A$7:$E$210,4,FALSE)), \"\")","v":""},{"$f":"_xlfn.IFNA(IF(VLOOKUP(B593,_!$A$7:$E$210,5,FALSE)=0,\"\",VLOOKUP(B593,_!$A$7:$E$210,5,FALSE)), \"\")","v":""}]
[8,null,{"$f":"_xlfn.IFNA(VLOOKUP(B594,_!$A$7:$F$210,6,FALSE),\"\")","v":""},{"$f":"IF(IF(MOD(ROWS(D$3:D594),20)=1,INDEX('Summary Sheet'!$B$17:$B668,INT(ROWS(D$3:D594)/20)+1),\"\")=0,\"\",IF(MOD(ROWS(D$3:D594),20)=1,INDEX('Summary Sheet'!$B$17:$B668,INT(ROWS(D$3:D594)/20)+1),\"\"))","v":""},{"$f":"_xlfn.IFNA(IF(VLOOKUP(B594,_!$A$7:$E$210,2,FALSE)=0, \"\", VLOOKUP(B594,_!$A$7:$E$210,2,FALSE)),  \"\")","v":""},{"$f":"_xlfn.IFNA(IF(VLOOKUP(B594,_!$A$7:$E$210,3,FALSE)=0, \"\", VLOOKUP(B594,_!$A$7:$E$210,3,FALSE)), \"\")","v":""},{"$f":"_xlfn.IFNA(IF(VLOOKUP(B594,_!$A$7:$E$210,4,FALSE)=0, \"\",VLOOKUP(B594,_!$A$7:$E$210,4,FALSE)), \"\")","v":""},{"$f":"_xlfn.IFNA(IF(VLOOKUP(B594,_!$A$7:$E$210,5,FALSE)=0,\"\",VLOOKUP(B594,_!$A$7:$E$210,5,FALSE)), \"\")","v":""}]
[9,null,{"$f":"_xlfn.IFNA(VLOOKUP(B595,_!$A$7:$F$210,6,FALSE),\"\")","v":""},{"$f":"IF(IF(MOD(ROWS(D$3:D595),20)=1,INDEX('Summary Sheet'!$B$17:$B668,INT(ROWS(D$3:D595)/20)+1),\"\")=0,\"\",IF(MOD(ROWS(D$3:D595),20)=1,INDEX('Summary Sheet'!$B$17:$B668,INT(ROWS(D$3:D595)/20)+1),\"\"))","v":""},{"$f":"_xlfn.IFNA(IF(VLOOKUP(B595,_!$A$7:$E$210,2,FALSE)=0, \"\", VLOOKUP(B595,_!$A$7:$E$210,2,FALSE)),  \"\")","v":""},{"$f":"_xlfn.IFNA(IF(VLOOKUP(B595,_!$A$7:$E$210,3,FALSE)=0, \"\", VLOOKUP(B595,_!$A$7:$E$210,3,FALSE)), \"\")","v":""},{"$f":"_xlfn.IFNA(IF(VLOOKUP(B595,_!$A$7:$E$210,4,FALSE)=0, \"\",VLOOKUP(B595,_!$A$7:$E$210,4,FALSE)), \"\")","v":""},{"$f":"_xlfn.IFNA(IF(VLOOKUP(B595,_!$A$7:$E$210,5,FALSE)=0,\"\",VLOOKUP(B595,_!$A$7:$E$210,5,FALSE)), \"\")","v":""}]
[10,null,{"$f":"_xlfn.IFNA(VLOOKUP(B596,_!$A$7:$F$210,6,FALSE),\"\")","v":""},{"$f":"IF(IF(MOD(ROWS(D$14:D596),20)=1,INDEX('Summary Sheet'!$B$17:$B668,INT(ROWS(D$14:D596)/20)+1),\"\")=0,\"\",IF(MOD(ROWS(D$14:D596),20)=1,INDEX('Summary Sheet'!$B$17:$B668,INT(ROWS(D$14:D596)/20)+1),\"\"))","v":""},{"$f":"_xlfn.IFNA(IF(VLOOKUP(B596,_!$A$7:$E$210,2,FALSE)=0, \"\", VLOOKUP(B596,_!$A$7:$E$210,2,FALSE)),  \"\")","v":""},{"$f":"_xlfn.IFNA(IF(VLOOKUP(B596,_!$A$7:$E$210,3,FALSE)=0, \"\", VLOOKUP(B596,_!$A$7:$E$210,3,FALSE)), \"\")","v":""},{"$f":"_xlfn.IFNA(IF(VLOOKUP(B596,_!$A$7:$E$210,4,FALSE)=0, \"\",VLOOKUP(B596,_!$A$7:$E$210,4,FALSE)), \"\")","v":""},{"$f":"_xlfn.IFNA(IF(VLOOKUP(B596,_!$A$7:$E$210,5,FALSE)=0,\"\",VLOOKUP(B596,_!$A$7:$E$210,5,FALSE)), \"\")","v":""}]
[null,"\nHighest hazard level for each ‘Uptake Route’\n",null,null,{"$f":"_xlfn.IFNA(IF((INDEX(E587:E596,MATCH(\"E\",E587:E596,0)))=\"E\",\"E\",\"\"),_xlfn.IFNA(IF((INDEX(E587:E596,MATCH(\"D\",E587:E596,0)))=\"D\",\"D\",\"\"),_xlfn.IFNA(IF((INDEX(E587:E596,MATCH(\"Ca\",E587:E596,0)))=\"Ca\",\"C\",\"\"),_xlfn.IFNA(IF((INDEX(E587:E596,MATCH(\"C\",E587:E596,0)))=\"C\",\"C\",\"\"),_xlfn.IFNA(IF((INDEX(E587:E596,MATCH(\"B\",E587:E596,0)))=\"B\",\"B\",\"\"),_xlfn.IFNA(IF((INDEX(E587:E596,MATCH(\"A\",E587:E596,0)))=\"A\",\"A\",\"\"),_xlfn.IFNA(IF((INDEX(E587:E596,MATCH(\"n.a.\",E587:E596,0)))=\"n.a.\",\"\",\"\"),_xlfn.IFNA(IF((INDEX(E587:E596,MATCH(\"\",E587:E596,0)))=\"\",\"\",\"\"),\"\"))))))))","v":""},{"$f":"_xlfn.IFNA(IF((INDEX(F587:F596,MATCH(\"E\",F587:F596,0)))=\"E\",\"E\",\"\"),_xlfn.IFNA(IF((INDEX(F587:F596,MATCH(\"D (E)c\",F587:F596,0)))=\"D (E)c\",\"D (E)c\",\"\"),_xlfn.IFNA(IF((INDEX(F587:F596,MATCH(\"Da (E)c\",F587:F596,0)))=\"Da (E)c\",\"D (E)c\",\"\"),_xlfn.IFNA(IF((INDEX(F587:F596,MATCH(\"D\",F587:F596,0)))=\"D\",\"D\",\"\"),_xlfn.IFNA(IF((INDEX(F587:F596,MATCH(\"Ca\",F587:F596,0)))=\"Ca\",\"C\",\"\"),_xlfn.IFNA(IF((INDEX(F587:F596,MATCH(\"C\",F587:F596,0)))=\"C\",\"C\",\"\"),_xlfn.IFNA(IF((INDEX(F587:F596,MATCH(\"Ba\",F587:F596,0)))=\"Ba\",\"B\",\"\"),_xlfn.IFNA(IF((INDEX(F587:F596,MATCH(\"B\",F587:F596,0)))=\"B\",\"B\",\"\"),_xlfn.IFNA(IF((INDEX(F587:F596,MATCH(\"Aa\",F587:F596,0)))=\"Aa\",\"A\",\"\"),_xlfn.IFNA(IF((INDEX(F587:F596,MATCH(\"A\",F587:F596,0)))=\"A\",\"A\",\"\"),_xlfn.IFNA(IF((INDEX(F587:F596,MATCH(\"n.a.\",F587:F596,0)))=\"n.a.\",\"\",\"\"),_xlfn.IFNA(IF((INDEX(F587:F596,MATCH(\"\",F587:F596,0)))=\"\",\"\",\"\"),\"\"))))))))))))","v":""},{"$f":"_xlfn.IFNA(IF((INDEX(G587:G596,MATCH(\"E\",G587:G596,0)))=\"E\",\"E\",\"\"),_xlfn.IFNA(IF((INDEX(G587:G596,MATCH(\"D\",G587:G596,0)))=\"D\",\"D\",\"\"),_xlfn.IFNA(IF((INDEX(G587:G596,MATCH(\"Ca\",G587:G596,0)))=\"Ca\",\"C\",\"\"),_xlfn.IFNA(IF((INDEX(G587:G596,MATCH(\"C\",G587:G596,0)))=\"C\",\"C\",\"\"),_xlfn.IFNA(IF((INDEX(G587:G596,MATCH(\"B\",G587:G596,0)))=\"B\",\"B\",\"\"),_xlfn.IFNA(IF((INDEX(G587:G596,MATCH(\"A\",G587:G596,0)))=\"A\",\"A\",\"\"),_xlfn.IFNA(IF((INDEX(G587:G596,MATCH(\"n.a.\",G587:G596,0)))=\"n.a.\",\"\",\"\"),_xlfn.IFNA(IF((INDEX(G587:G596,MATCH(\"\",G587:G596,0)))=\"\",\"\",\"\"),\"\"))))))))","v":""},{"$f":"_xlfn.IFNA(IF((INDEX(H587:H596,MATCH(\"E\",H587:H596,0)))=\"E\",\"E\",\"\"),_xlfn.IFNA(IF((INDEX(H587:H596,MATCH(\"D (E)c\",H587:H596,0)))=\"D (E)c\",\"D (E)c\",\"\"),_xlfn.IFNA(IF((INDEX(H587:H596,MATCH(\"Db (E)c\",H587:H596,0)))=\"Db (E)c\",\"D (E)c\",\"\"),_xlfn.IFNA(IF((INDEX(H587:H596,MATCH(\"D\",H587:H596,0)))=\"D\",\"D\",\"\"),_xlfn.IFNA(IF((INDEX(H587:H596,MATCH(\"Cb\",H587:H596,0)))=\"Cb\",\"C\",\"\"),_xlfn.IFNA(IF((INDEX(H587:H596,MATCH(\"C\",H587:H596,0)))=\"C\",\"C\",\"\"),_xlfn.IFNA(IF((INDEX(H587:H596,MATCH(\"Bb\",H587:H596,0)))=\"Bb\",\"B\",\"\"),_xlfn.IFNA(IF((INDEX(H587:H596,MATCH(\"B\",H587:H596,0)))=\"B\",\"B\",\"\"),_xlfn.IFNA(IF((INDEX(H587:H596,MATCH(\"Ab\",H587:H596,0)))=\"Ab\",\"A\",\"\"),_xlfn.IFNA(IF((INDEX(H587:H596,MATCH(\"A\",H587:H596,0)))=\"A\",\"A\",\"\"),_xlfn.IFNA(IF((INDEX(H587:H596,MATCH(\"n.a.\",H587:H596,0)))=\"n.a.\",\"\",\"\"),_xlfn.IFNA(IF((INDEX(H587:H596,MATCH(\"\",H587:H596,0)))=\"\",\"\",\"\"),\"\"))))))))))))","v":""}]
[null,"\nHighest hazard level for all 'Uptake Routes' \n",null,null,{"$f":"_xlfn.IFNA(IF((INDEX(E597:H597,MATCH(\"E\",E597:H597,0)))=\"E\",\"E\",\"\"),_xlfn.IFNA(IF((INDEX(E597:H597,MATCH(\"D (E)c\",E597:H597,0)))=\"D (E)c\",\"D (E)\",\"\"),_xlfn.IFNA(IF((INDEX(E597:H597,MATCH(\"D\",E597:H597,0)))=\"D\",\"D\",\"\"),_xlfn.IFNA(IF((INDEX(E597:H597,MATCH(\"C\",E597:H597,0)))=\"C\",\"C\",\"\"),_xlfn.IFNA(IF((INDEX(E597:H597,MATCH(\"B\",E597:H597,0)))=\"B\",\"B\",\"\"),_xlfn.IFNA(IF((INDEX(E597:H597,MATCH(\"A\",E597:H597,0)))=\"A\",\"A\",\"\"),_xlfn.IFNA(IF((INDEX(E597:H597,MATCH(\"n.a.\",E597:H597,0)))=\"n.a.\",\"\",\"\"),_xlfn.IFNA(IF((INDEX(E597:H597,MATCH(\"\",E597:H597,0)))=\"\",\"\",\"\"),\"\"))))))))","v":""}]
[]
[]
[null,"\nStep 3: D(E) Assessment\nSkip this step if \nyour assessment above does not reveal a D(E) hazard level.\nHover over this cell for additional instructions.\n",null,null,"\nOverall hazard level\n",null,{"$f":"IF(AND(E598=\"\",C584=\"Yes\")=TRUE,\"B\",IF(E598=\"\",\"\",(IF(AND(E598=\"D (E)\",C601=\"\"),\"D (E)\"&CHAR(10)&\"Find if cat. 1 acute tox.\",(IF(E598<>\"D (E)\",E598,(IF(AND(E598=\"D (E)\",C601=\"Yes\"),\"E\",(IF(AND(E598=\"D (E)\",C601=\"No\"),\"D\",\"\"))))))))))","v":""}]
[]
[{"$f":"IF(IF(MOD(ROWS(B$3:B603),20)=1,INDEX('Summary Sheet'!$A$17:$A687,INT(ROWS(B$3:B603)/20)+1),\"\")=0,\"\",IF(MOD(ROWS(B$3:B603),20)=1,INDEX('Summary Sheet'!$A$17:$A687,INT(ROWS(B$3:B603)/20)+1),\"\"))","v":31},"Hazard Level Assessment","for",{"$f":"IF(IF(MOD(ROWS(D$3:D603),20)=1,INDEX('Summary Sheet'!$B$17:$B687,INT(ROWS(D$3:D603)/20)+1),\"\")=0,\"\",IF(MOD(ROWS(D$3:D603),20)=1,INDEX('Summary Sheet'!$B$17:$B687,INT(ROWS(D$3:D603)/20)+1),\"\"))","v":""}]
[null,"\nStep 1: Physical & Environmental Hazard Statements/Codes\nFind Section 2 of the SDS and determine if the SDS has physical and/or environmental hazard statements/codes. Hover on this cell for additional instructions.\n",null,{"$f":"IF(IF(MOD(ROWS(D$3:D604),20)=1,INDEX('Summary Sheet'!$B$17:$B687,INT(ROWS(D$3:D604)/20)+1),\"\")=0,\"\",IF(MOD(ROWS(D$3:D604),20)=1,INDEX('Summary Sheet'!$B$17:$B687,INT(ROWS(D$3:D604)/20)+1),\"\"))","v":""}]
[null,"Step 2: Health Hazard Statements/Codes\nProvide the Health Hazard Statements or Codes from Section 2 of the SDS below. Hover on this cell for additional instructions.",null,{"$f":"IF(IF(MOD(ROWS(D$3:D605),20)=1,INDEX('Summary Sheet'!$B$17:$B687,INT(ROWS(D$3:D605)/20)+1),\"\")=0,\"\",IF(MOD(ROWS(D$3:D605),20)=1,INDEX('Summary Sheet'!$B$17:$B687,INT(ROWS(D$3:D605)/20)+1),\"\"))","v":""},"\nHazard Level\n"]
[null,null,null,{"$f":"IF(IF(MOD(ROWS(D$3:D606),20)=1,INDEX('Summary Sheet'!$B$17:$B687,INT(ROWS(D$3:D606)/20)+1),\"\")=0,\"\",IF(MOD(ROWS(D$3:D606),20)=1,INDEX('Summary Sheet'!$B$17:$B687,INT(ROWS(D$3:D606)/20)+1),\"\"))","v":""},"\nEye Damage\n","\nInhalation\n","\nLocal Skin Damage\n","\nSkin uptake, systemic\n"]
[1,null,{"$f":"_xlfn.IFNA(VLOOKUP(B607,_!$A$7:$F$210,6,FALSE),\"\")","v":""},{"$f":"IF(IF(MOD(ROWS(D$3:D607),20)=1,INDEX('Summary Sheet'!$B$17:$B687,INT(ROWS(D$3:D607)/20)+1),\"\")=0,\"\",IF(MOD(ROWS(D$3:D607),20)=1,INDEX('Summary Sheet'!$B$17:$B687,INT(ROWS(D$3:D607)/20)+1),\"\"))","v":""},{"$f":"_xlfn.IFNA(IF(VLOOKUP(B607,_!$A$7:$E$210,2,FALSE)=0, \"\", VLOOKUP(B607,_!$A$7:$E$210,2,FALSE)),  \"\")","v":""},{"$f":"_xlfn.IFNA(IF(VLOOKUP(B607,_!$A$7:$E$210,3,FALSE)=0, \"\", VLOOKUP(B607,_!$A$7:$E$210,3,FALSE)), \"\")","v":""},{"$f":"_xlfn.IFNA(IF(VLOOKUP(B607,_!$A$7:$E$210,4,FALSE)=0, \"\",VLOOKUP(B607,_!$A$7:$E$210,4,FALSE)), \"\")","v":""},{"$f":"_xlfn.IFNA(IF(VLOOKUP(B607,_!$A$7:$E$210,5,FALSE)=0,\"\",VLOOKUP(B607,_!$A$7:$E$210,5,FALSE)), \"\")","v":""}]
[2,null,{"$f":"_xlfn.IFNA(VLOOKUP(B608,_!$A$7:$F$210,6,FALSE),\"\")","v":""},{"$f":"IF(IF(MOD(ROWS(D$3:D608),20)=1,INDEX('Summary Sheet'!$B$17:$B687,INT(ROWS(D$3:D608)/20)+1),\"\")=0,\"\",IF(MOD(ROWS(D$3:D608),20)=1,INDEX('Summary Sheet'!$B$17:$B687,INT(ROWS(D$3:D608)/20)+1),\"\"))","v":""},{"$f":"_xlfn.IFNA(IF(VLOOKUP(B608,_!$A$7:$E$210,2,FALSE)=0, \"\", VLOOKUP(B608,_!$A$7:$E$210,2,FALSE)),  \"\")","v":""},{"$f":"_xlfn.IFNA(IF(VLOOKUP(B608,_!$A$7:$E$210,3,FALSE)=0, \"\", VLOOKUP(B608,_!$A$7:$E$210,3,FALSE)), \"\")","v":""},{"$f":"_xlfn.IFNA(IF(VLOOKUP(B608,_!$A$7:$E$210,4,FALSE)=0, \"\",VLOOKUP(B608,_!$A$7:$E$210,4,FALSE)), \"\")","v":""},{"$f":"_xlfn.IFNA(IF(VLOOKUP(B608,_!$A$7:$E$210,5,FALSE)=0,\"\",VLOOKUP(B608,_!$A$7:$E$210,5,FALSE)), \"\")","v":""}]
[3,null,{"$f":"_xlfn.IFNA(VLOOKUP(B609,_!$A$7:$F$210,6,FALSE),\"\")","v":""},{"$f":"IF(IF(MOD(ROWS(D$3:D609),20)=1,INDEX('Summary Sheet'!$B$17:$B687,INT(ROWS(D$3:D609)/20)+1),\"\")=0,\"\",IF(MOD(ROWS(D$3:D609),20)=1,INDEX('Summary Sheet'!$B$17:$B687,INT(ROWS(D$3:D609)/20)+1),\"\"))","v":""},{"$f":"_xlfn.IFNA(IF(VLOOKUP(B609,_!$A$7:$E$210,2,FALSE)=0, \"\", VLOOKUP(B609,_!$A$7:$E$210,2,FALSE)),  \"\")","v":""},{"$f":"_xlfn.IFNA(IF(VLOOKUP(B609,_!$A$7:$E$210,3,FALSE)=0, \"\", VLOOKUP(B609,_!$A$7:$E$210,3,FALSE)), \"\")","v":""},{"$f":"_xlfn.IFNA(IF(VLOOKUP(B609,_!$A$7:$E$210,4,FALSE)=0, \"\",VLOOKUP(B609,_!$A$7:$E$210,4,FALSE)), \"\")","v":""},{"$f":"_xlfn.IFNA(IF(VLOOKUP(B609,_!$A$7:$E$210,5,FALSE)=0,\"\",VLOOKUP(B609,_!$A$7:$E$210,5,FALSE)), \"\")","v":""}]
[4,null,{"$f":"_xlfn.IFNA(VLOOKUP(B610,_!$A$7:$F$210,6,FALSE),\"\")","v":""},{"$f":"IF(IF(MOD(ROWS(D$3:D610),20)=1,INDEX('Summary Sheet'!$B$17:$B687,INT(ROWS(D$3:D610)/20)+1),\"\")=0,\"\",IF(MOD(ROWS(D$3:D610),20)=1,INDEX('Summary Sheet'!$B$17:$B687,INT(ROWS(D$3:D610)/20)+1),\"\"))","v":""},{"$f":"_xlfn.IFNA(IF(VLOOKUP(B610,_!$A$7:$E$210,2,FALSE)=0, \"\", VLOOKUP(B610,_!$A$7:$E$210,2,FALSE)),  \"\")","v":""},{"$f":"_xlfn.IFNA(IF(VLOOKUP(B610,_!$A$7:$E$210,3,FALSE)=0, \"\", VLOOKUP(B610,_!$A$7:$E$210,3,FALSE)), \"\")","v":""},{"$f":"_xlfn.IFNA(IF(VLOOKUP(B610,_!$A$7:$E$210,4,FALSE)=0, \"\",VLOOKUP(B610,_!$A$7:$E$210,4,FALSE)), \"\")","v":""},{"$f":"_xlfn.IFNA(IF(VLOOKUP(B610,_!$A$7:$E$210,5,FALSE)=0,\"\",VLOOKUP(B610,_!$A$7:$E$210,5,FALSE)), \"\")","v":""}]
[5,null,{"$f":"_xlfn.IFNA(VLOOKUP(B611,_!$A$7:$F$210,6,FALSE),\"\")","v":""},{"$f":"IF(IF(MOD(ROWS(D$3:D611),20)=1,INDEX('Summary Sheet'!$B$17:$B687,INT(ROWS(D$3:D611)/20)+1),\"\")=0,\"\",IF(MOD(ROWS(D$3:D611),20)=1,INDEX('Summary Sheet'!$B$17:$B687,INT(ROWS(D$3:D611)/20)+1),\"\"))","v":""},{"$f":"_xlfn.IFNA(IF(VLOOKUP(B611,_!$A$7:$E$210,2,FALSE)=0, \"\", VLOOKUP(B611,_!$A$7:$E$210,2,FALSE)),  \"\")","v":""},{"$f":"_xlfn.IFNA(IF(VLOOKUP(B611,_!$A$7:$E$210,3,FALSE)=0, \"\", VLOOKUP(B611,_!$A$7:$E$210,3,FALSE)), \"\")","v":""},{"$f":"_xlfn.IFNA(IF(VLOOKUP(B611,_!$A$7:$E$210,4,FALSE)=0, \"\",VLOOKUP(B611,_!$A$7:$E$210,4,FALSE)), \"\")","v":""},{"$f":"_xlfn.IFNA(IF(VLOOKUP(B611,_!$A$7:$E$210,5,FALSE)=0,\"\",VLOOKUP(B611,_!$A$7:$E$210,5,FALSE)), \"\")","v":""}]
[6,null,{"$f":"_xlfn.IFNA(VLOOKUP(B612,_!$A$7:$F$210,6,FALSE),\"\")","v":""},{"$f":"IF(IF(MOD(ROWS(D$3:D612),20)=1,INDEX('Summary Sheet'!$B$17:$B687,INT(ROWS(D$3:D612)/20)+1),\"\")=0,\"\",IF(MOD(ROWS(D$3:D612),20)=1,INDEX('Summary Sheet'!$B$17:$B687,INT(ROWS(D$3:D612)/20)+1),\"\"))","v":""},{"$f":"_xlfn.IFNA(IF(VLOOKUP(B612,_!$A$7:$E$210,2,FALSE)=0, \"\", VLOOKUP(B612,_!$A$7:$E$210,2,FALSE)),  \"\")","v":""},{"$f":"_xlfn.IFNA(IF(VLOOKUP(B612,_!$A$7:$E$210,3,FALSE)=0, \"\", VLOOKUP(B612,_!$A$7:$E$210,3,FALSE)), \"\")","v":""},{"$f":"_xlfn.IFNA(IF(VLOOKUP(B612,_!$A$7:$E$210,4,FALSE)=0, \"\",VLOOKUP(B612,_!$A$7:$E$210,4,FALSE)), \"\")","v":""},{"$f":"_xlfn.IFNA(IF(VLOOKUP(B612,_!$A$7:$E$210,5,FALSE)=0,\"\",VLOOKUP(B612,_!$A$7:$E$210,5,FALSE)), \"\")","v":""}]
[7,null,{"$f":"_xlfn.IFNA(VLOOKUP(B613,_!$A$7:$F$210,6,FALSE),\"\")","v":""},{"$f":"IF(IF(MOD(ROWS(D$3:D613),20)=1,INDEX('Summary Sheet'!$B$17:$B687,INT(ROWS(D$3:D613)/20)+1),\"\")=0,\"\",IF(MOD(ROWS(D$3:D613),20)=1,INDEX('Summary Sheet'!$B$17:$B687,INT(ROWS(D$3:D613)/20)+1),\"\"))","v":""},{"$f":"_xlfn.IFNA(IF(VLOOKUP(B613,_!$A$7:$E$210,2,FALSE)=0, \"\", VLOOKUP(B613,_!$A$7:$E$210,2,FALSE)),  \"\")","v":""},{"$f":"_xlfn.IFNA(IF(VLOOKUP(B613,_!$A$7:$E$210,3,FALSE)=0, \"\", VLOOKUP(B613,_!$A$7:$E$210,3,FALSE)), \"\")","v":""},{"$f":"_xlfn.IFNA(IF(VLOOKUP(B613,_!$A$7:$E$210,4,FALSE)=0, \"\",VLOOKUP(B613,_!$A$7:$E$210,4,FALSE)), \"\")","v":""},{"$f":"_xlfn.IFNA(IF(VLOOKUP(B613,_!$A$7:$E$210,5,FALSE)=0,\"\",VLOOKUP(B613,_!$A$7:$E$210,5,FALSE)), \"\")","v":""}]
[8,null,{"$f":"_xlfn.IFNA(VLOOKUP(B614,_!$A$7:$F$210,6,FALSE),\"\")","v":""},{"$f":"IF(IF(MOD(ROWS(D$3:D614),20)=1,INDEX('Summary Sheet'!$B$17:$B687,INT(ROWS(D$3:D614)/20)+1),\"\")=0,\"\",IF(MOD(ROWS(D$3:D614),20)=1,INDEX('Summary Sheet'!$B$17:$B687,INT(ROWS(D$3:D614)/20)+1),\"\"))","v":""},{"$f":"_xlfn.IFNA(IF(VLOOKUP(B614,_!$A$7:$E$210,2,FALSE)=0, \"\", VLOOKUP(B614,_!$A$7:$E$210,2,FALSE)),  \"\")","v":""},{"$f":"_xlfn.IFNA(IF(VLOOKUP(B614,_!$A$7:$E$210,3,FALSE)=0, \"\", VLOOKUP(B614,_!$A$7:$E$210,3,FALSE)), \"\")","v":""},{"$f":"_xlfn.IFNA(IF(VLOOKUP(B614,_!$A$7:$E$210,4,FALSE)=0, \"\",VLOOKUP(B614,_!$A$7:$E$210,4,FALSE)), \"\")","v":""},{"$f":"_xlfn.IFNA(IF(VLOOKUP(B614,_!$A$7:$E$210,5,FALSE)=0,\"\",VLOOKUP(B614,_!$A$7:$E$210,5,FALSE)), \"\")","v":""}]
[9,null,{"$f":"_xlfn.IFNA(VLOOKUP(B615,_!$A$7:$F$210,6,FALSE),\"\")","v":""},{"$f":"IF(IF(MOD(ROWS(D$3:D615),20)=1,INDEX('Summary Sheet'!$B$17:$B687,INT(ROWS(D$3:D615)/20)+1),\"\")=0,\"\",IF(MOD(ROWS(D$3:D615),20)=1,INDEX('Summary Sheet'!$B$17:$B687,INT(ROWS(D$3:D615)/20)+1),\"\"))","v":""},{"$f":"_xlfn.IFNA(IF(VLOOKUP(B615,_!$A$7:$E$210,2,FALSE)=0, \"\", VLOOKUP(B615,_!$A$7:$E$210,2,FALSE)),  \"\")","v":""},{"$f":"_xlfn.IFNA(IF(VLOOKUP(B615,_!$A$7:$E$210,3,FALSE)=0, \"\", VLOOKUP(B615,_!$A$7:$E$210,3,FALSE)), \"\")","v":""},{"$f":"_xlfn.IFNA(IF(VLOOKUP(B615,_!$A$7:$E$210,4,FALSE)=0, \"\",VLOOKUP(B615,_!$A$7:$E$210,4,FALSE)), \"\")","v":""},{"$f":"_xlfn.IFNA(IF(VLOOKUP(B615,_!$A$7:$E$210,5,FALSE)=0,\"\",VLOOKUP(B615,_!$A$7:$E$210,5,FALSE)), \"\")","v":""}]
[10,null,{"$f":"_xlfn.IFNA(VLOOKUP(B616,_!$A$7:$F$210,6,FALSE),\"\")","v":""},{"$f":"IF(IF(MOD(ROWS(D$14:D616),20)=1,INDEX('Summary Sheet'!$B$17:$B687,INT(ROWS(D$14:D616)/20)+1),\"\")=0,\"\",IF(MOD(ROWS(D$14:D616),20)=1,INDEX('Summary Sheet'!$B$17:$B687,INT(ROWS(D$14:D616)/20)+1),\"\"))","v":""},{"$f":"_xlfn.IFNA(IF(VLOOKUP(B616,_!$A$7:$E$210,2,FALSE)=0, \"\", VLOOKUP(B616,_!$A$7:$E$210,2,FALSE)),  \"\")","v":""},{"$f":"_xlfn.IFNA(IF(VLOOKUP(B616,_!$A$7:$E$210,3,FALSE)=0, \"\", VLOOKUP(B616,_!$A$7:$E$210,3,FALSE)), \"\")","v":""},{"$f":"_xlfn.IFNA(IF(VLOOKUP(B616,_!$A$7:$E$210,4,FALSE)=0, \"\",VLOOKUP(B616,_!$A$7:$E$210,4,FALSE)), \"\")","v":""},{"$f":"_xlfn.IFNA(IF(VLOOKUP(B616,_!$A$7:$E$210,5,FALSE)=0,\"\",VLOOKUP(B616,_!$A$7:$E$210,5,FALSE)), \"\")","v":""}]
[null,"\nHighest hazard level for each ‘Uptake Route’\n",null,null,{"$f":"_xlfn.IFNA(IF((INDEX(E607:E616,MATCH(\"E\",E607:E616,0)))=\"E\",\"E\",\"\"),_xlfn.IFNA(IF((INDEX(E607:E616,MATCH(\"D\",E607:E616,0)))=\"D\",\"D\",\"\"),_xlfn.IFNA(IF((INDEX(E607:E616,MATCH(\"Ca\",E607:E616,0)))=\"Ca\",\"C\",\"\"),_xlfn.IFNA(IF((INDEX(E607:E616,MATCH(\"C\",E607:E616,0)))=\"C\",\"C\",\"\"),_xlfn.IFNA(IF((INDEX(E607:E616,MATCH(\"B\",E607:E616,0)))=\"B\",\"B\",\"\"),_xlfn.IFNA(IF((INDEX(E607:E616,MATCH(\"A\",E607:E616,0)))=\"A\",\"A\",\"\"),_xlfn.IFNA(IF((INDEX(E607:E616,MATCH(\"n.a.\",E607:E616,0)))=\"n.a.\",\"\",\"\"),_xlfn.IFNA(IF((INDEX(E607:E616,MATCH(\"\",E607:E616,0)))=\"\",\"\",\"\"),\"\"))))))))","v":""},{"$f":"_xlfn.IFNA(IF((INDEX(F607:F616,MATCH(\"E\",F607:F616,0)))=\"E\",\"E\",\"\"),_xlfn.IFNA(IF((INDEX(F607:F616,MATCH(\"D (E)c\",F607:F616,0)))=\"D (E)c\",\"D (E)c\",\"\"),_xlfn.IFNA(IF((INDEX(F607:F616,MATCH(\"Da (E)c\",F607:F616,0)))=\"Da (E)c\",\"D (E)c\",\"\"),_xlfn.IFNA(IF((INDEX(F607:F616,MATCH(\"D\",F607:F616,0)))=\"D\",\"D\",\"\"),_xlfn.IFNA(IF((INDEX(F607:F616,MATCH(\"Ca\",F607:F616,0)))=\"Ca\",\"C\",\"\"),_xlfn.IFNA(IF((INDEX(F607:F616,MATCH(\"C\",F607:F616,0)))=\"C\",\"C\",\"\"),_xlfn.IFNA(IF((INDEX(F607:F616,MATCH(\"Ba\",F607:F616,0)))=\"Ba\",\"B\",\"\"),_xlfn.IFNA(IF((INDEX(F607:F616,MATCH(\"B\",F607:F616,0)))=\"B\",\"B\",\"\"),_xlfn.IFNA(IF((INDEX(F607:F616,MATCH(\"Aa\",F607:F616,0)))=\"Aa\",\"A\",\"\"),_xlfn.IFNA(IF((INDEX(F607:F616,MATCH(\"A\",F607:F616,0)))=\"A\",\"A\",\"\"),_xlfn.IFNA(IF((INDEX(F607:F616,MATCH(\"n.a.\",F607:F616,0)))=\"n.a.\",\"\",\"\"),_xlfn.IFNA(IF((INDEX(F607:F616,MATCH(\"\",F607:F616,0)))=\"\",\"\",\"\"),\"\"))))))))))))","v":""},{"$f":"_xlfn.IFNA(IF((INDEX(G607:G616,MATCH(\"E\",G607:G616,0)))=\"E\",\"E\",\"\"),_xlfn.IFNA(IF((INDEX(G607:G616,MATCH(\"D\",G607:G616,0)))=\"D\",\"D\",\"\"),_xlfn.IFNA(IF((INDEX(G607:G616,MATCH(\"Ca\",G607:G616,0)))=\"Ca\",\"C\",\"\"),_xlfn.IFNA(IF((INDEX(G607:G616,MATCH(\"C\",G607:G616,0)))=\"C\",\"C\",\"\"),_xlfn.IFNA(IF((INDEX(G607:G616,MATCH(\"B\",G607:G616,0)))=\"B\",\"B\",\"\"),_xlfn.IFNA(IF((INDEX(G607:G616,MATCH(\"A\",G607:G616,0)))=\"A\",\"A\",\"\"),_xlfn.IFNA(IF((INDEX(G607:G616,MATCH(\"n.a.\",G607:G616,0)))=\"n.a.\",\"\",\"\"),_xlfn.IFNA(IF((INDEX(G607:G616,MATCH(\"\",G607:G616,0)))=\"\",\"\",\"\"),\"\"))))))))","v":""},{"$f":"_xlfn.IFNA(IF((INDEX(H607:H616,MATCH(\"E\",H607:H616,0)))=\"E\",\"E\",\"\"),_xlfn.IFNA(IF((INDEX(H607:H616,MATCH(\"D (E)c\",H607:H616,0)))=\"D (E)c\",\"D (E)c\",\"\"),_xlfn.IFNA(IF((INDEX(H607:H616,MATCH(\"Db (E)c\",H607:H616,0)))=\"Db (E)c\",\"D (E)c\",\"\"),_xlfn.IFNA(IF((INDEX(H607:H616,MATCH(\"D\",H607:H616,0)))=\"D\",\"D\",\"\"),_xlfn.IFNA(IF((INDEX(H607:H616,MATCH(\"Cb\",H607:H616,0)))=\"Cb\",\"C\",\"\"),_xlfn.IFNA(IF((INDEX(H607:H616,MATCH(\"C\",H607:H616,0)))=\"C\",\"C\",\"\"),_xlfn.IFNA(IF((INDEX(H607:H616,MATCH(\"Bb\",H607:H616,0)))=\"Bb\",\"B\",\"\"),_xlfn.IFNA(IF((INDEX(H607:H616,MATCH(\"B\",H607:H616,0)))=\"B\",\"B\",\"\"),_xlfn.IFNA(IF((INDEX(H607:H616,MATCH(\"Ab\",H607:H616,0)))=\"Ab\",\"A\",\"\"),_xlfn.IFNA(IF((INDEX(H607:H616,MATCH(\"A\",H607:H616,0)))=\"A\",\"A\",\"\"),_xlfn.IFNA(IF((INDEX(H607:H616,MATCH(\"n.a.\",H607:H616,0)))=\"n.a.\",\"\",\"\"),_xlfn.IFNA(IF((INDEX(H607:H616,MATCH(\"\",H607:H616,0)))=\"\",\"\",\"\"),\"\"))))))))))))","v":""}]
[null,"\nHighest hazard level for all 'Uptake Routes' \n",null,null,{"$f":"_xlfn.IFNA(IF((INDEX(E617:H617,MATCH(\"E\",E617:H617,0)))=\"E\",\"E\",\"\"),_xlfn.IFNA(IF((INDEX(E617:H617,MATCH(\"D (E)c\",E617:H617,0)))=\"D (E)c\",\"D (E)\",\"\"),_xlfn.IFNA(IF((INDEX(E617:H617,MATCH(\"D\",E617:H617,0)))=\"D\",\"D\",\"\"),_xlfn.IFNA(IF((INDEX(E617:H617,MATCH(\"C\",E617:H617,0)))=\"C\",\"C\",\"\"),_xlfn.IFNA(IF((INDEX(E617:H617,MATCH(\"B\",E617:H617,0)))=\"B\",\"B\",\"\"),_xlfn.IFNA(IF((INDEX(E617:H617,MATCH(\"A\",E617:H617,0)))=\"A\",\"A\",\"\"),_xlfn.IFNA(IF((INDEX(E617:H617,MATCH(\"n.a.\",E617:H617,0)))=\"n.a.\",\"\",\"\"),_xlfn.IFNA(IF((INDEX(E617:H617,MATCH(\"\",E617:H617,0)))=\"\",\"\",\"\"),\"\"))))))))","v":""}]
[]
[]
[null,"\nStep 3: D(E) Assessment\nSkip this step if \nyour assessment above does not reveal a D(E) hazard level.\nHover over this cell for additional instructions.\n",null,null,"\nOverall hazard level\n",null,{"$f":"IF(AND(E618=\"\",C604=\"Yes\")=TRUE,\"B\",IF(E618=\"\",\"\",(IF(AND(E618=\"D (E)\",C621=\"\"),\"D (E)\"&CHAR(10)&\"Find if cat. 1 acute tox.\",(IF(E618<>\"D (E)\",E618,(IF(AND(E618=\"D (E)\",C621=\"Yes\"),\"E\",(IF(AND(E618=\"D (E)\",C621=\"No\"),\"D\",\"\"))))))))))","v":""}]
[]
[{"$f":"IF(IF(MOD(ROWS(B$3:B623),20)=1,INDEX('Summary Sheet'!$A$17:$A706,INT(ROWS(B$3:B623)/20)+1),\"\")=0,\"\",IF(MOD(ROWS(B$3:B623),20)=1,INDEX('Summary Sheet'!$A$17:$A706,INT(ROWS(B$3:B623)/20)+1),\"\"))","v":32},"Hazard Level Assessment","for",{"$f":"IF(IF(MOD(ROWS(D$3:D623),20)=1,INDEX('Summary Sheet'!$B$17:$B706,INT(ROWS(D$3:D623)/20)+1),\"\")=0,\"\",IF(MOD(ROWS(D$3:D623),20)=1,INDEX('Summary Sheet'!$B$17:$B706,INT(ROWS(D$3:D623)/20)+1),\"\"))","v":""}]
[null,"\nStep 1: Physical & Environmental Hazard Statements/Codes\nFind Section 2 of the SDS and determine if the SDS has physical and/or environmental hazard statements/codes. Hover on this cell for additional instructions.\n",null,{"$f":"IF(IF(MOD(ROWS(D$3:D624),20)=1,INDEX('Summary Sheet'!$B$17:$B706,INT(ROWS(D$3:D624)/20)+1),\"\")=0,\"\",IF(MOD(ROWS(D$3:D624),20)=1,INDEX('Summary Sheet'!$B$17:$B706,INT(ROWS(D$3:D624)/20)+1),\"\"))","v":""}]
[null,"Step 2: Health Hazard Statements/Codes\nProvide the Health Hazard Statements or Codes from Section 2 of the SDS below. Hover on this cell for additional instructions.",null,{"$f":"IF(IF(MOD(ROWS(D$3:D625),20)=1,INDEX('Summary Sheet'!$B$17:$B706,INT(ROWS(D$3:D625)/20)+1),\"\")=0,\"\",IF(MOD(ROWS(D$3:D625),20)=1,INDEX('Summary Sheet'!$B$17:$B706,INT(ROWS(D$3:D625)/20)+1),\"\"))","v":""},"\nHazard Level\n"]
[null,null,null,{"$f":"IF(IF(MOD(ROWS(D$3:D626),20)=1,INDEX('Summary Sheet'!$B$17:$B706,INT(ROWS(D$3:D626)/20)+1),\"\")=0,\"\",IF(MOD(ROWS(D$3:D626),20)=1,INDEX('Summary Sheet'!$B$17:$B706,INT(ROWS(D$3:D626)/20)+1),\"\"))","v":""},"\nEye Damage\n","\nInhalation\n","\nLocal Skin Damage\n","\nSkin uptake, systemic\n"]
[1,null,{"$f":"_xlfn.IFNA(VLOOKUP(B627,_!$A$7:$F$210,6,FALSE),\"\")","v":""},{"$f":"IF(IF(MOD(ROWS(D$3:D627),20)=1,INDEX('Summary Sheet'!$B$17:$B706,INT(ROWS(D$3:D627)/20)+1),\"\")=0,\"\",IF(MOD(ROWS(D$3:D627),20)=1,INDEX('Summary Sheet'!$B$17:$B706,INT(ROWS(D$3:D627)/20)+1),\"\"))","v":""},{"$f":"_xlfn.IFNA(IF(VLOOKUP(B627,_!$A$7:$E$210,2,FALSE)=0, \"\", VLOOKUP(B627,_!$A$7:$E$210,2,FALSE)),  \"\")","v":""},{"$f":"_xlfn.IFNA(IF(VLOOKUP(B627,_!$A$7:$E$210,3,FALSE)=0, \"\", VLOOKUP(B627,_!$A$7:$E$210,3,FALSE)), \"\")","v":""},{"$f":"_xlfn.IFNA(IF(VLOOKUP(B627,_!$A$7:$E$210,4,FALSE)=0, \"\",VLOOKUP(B627,_!$A$7:$E$210,4,FALSE)), \"\")","v":""},{"$f":"_xlfn.IFNA(IF(VLOOKUP(B627,_!$A$7:$E$210,5,FALSE)=0,\"\",VLOOKUP(B627,_!$A$7:$E$210,5,FALSE)), \"\")","v":""}]
[2,null,{"$f":"_xlfn.IFNA(VLOOKUP(B628,_!$A$7:$F$210,6,FALSE),\"\")","v":""},{"$f":"IF(IF(MOD(ROWS(D$3:D628),20)=1,INDEX('Summary Sheet'!$B$17:$B706,INT(ROWS(D$3:D628)/20)+1),\"\")=0,\"\",IF(MOD(ROWS(D$3:D628),20)=1,INDEX('Summary Sheet'!$B$17:$B706,INT(ROWS(D$3:D628)/20)+1),\"\"))","v":""},{"$f":"_xlfn.IFNA(IF(VLOOKUP(B628,_!$A$7:$E$210,2,FALSE)=0, \"\", VLOOKUP(B628,_!$A$7:$E$210,2,FALSE)),  \"\")","v":""},{"$f":"_xlfn.IFNA(IF(VLOOKUP(B628,_!$A$7:$E$210,3,FALSE)=0, \"\", VLOOKUP(B628,_!$A$7:$E$210,3,FALSE)), \"\")","v":""},{"$f":"_xlfn.IFNA(IF(VLOOKUP(B628,_!$A$7:$E$210,4,FALSE)=0, \"\",VLOOKUP(B628,_!$A$7:$E$210,4,FALSE)), \"\")","v":""},{"$f":"_xlfn.IFNA(IF(VLOOKUP(B628,_!$A$7:$E$210,5,FALSE)=0,\"\",VLOOKUP(B628,_!$A$7:$E$210,5,FALSE)), \"\")","v":""}]
[3,null,{"$f":"_xlfn.IFNA(VLOOKUP(B629,_!$A$7:$F$210,6,FALSE),\"\")","v":""},{"$f":"IF(IF(MOD(ROWS(D$3:D629),20)=1,INDEX('Summary Sheet'!$B$17:$B706,INT(ROWS(D$3:D629)/20)+1),\"\")=0,\"\",IF(MOD(ROWS(D$3:D629),20)=1,INDEX('Summary Sheet'!$B$17:$B706,INT(ROWS(D$3:D629)/20)+1),\"\"))","v":""},{"$f":"_xlfn.IFNA(IF(VLOOKUP(B629,_!$A$7:$E$210,2,FALSE)=0, \"\", VLOOKUP(B629,_!$A$7:$E$210,2,FALSE)),  \"\")","v":""},{"$f":"_xlfn.IFNA(IF(VLOOKUP(B629,_!$A$7:$E$210,3,FALSE)=0, \"\", VLOOKUP(B629,_!$A$7:$E$210,3,FALSE)), \"\")","v":""},{"$f":"_xlfn.IFNA(IF(VLOOKUP(B629,_!$A$7:$E$210,4,FALSE)=0, \"\",VLOOKUP(B629,_!$A$7:$E$210,4,FALSE)), \"\")","v":""},{"$f":"_xlfn.IFNA(IF(VLOOKUP(B629,_!$A$7:$E$210,5,FALSE)=0,\"\",VLOOKUP(B629,_!$A$7:$E$210,5,FALSE)), \"\")","v":""}]
[4,null,{"$f":"_xlfn.IFNA(VLOOKUP(B630,_!$A$7:$F$210,6,FALSE),\"\")","v":""},{"$f":"IF(IF(MOD(ROWS(D$3:D630),20)=1,INDEX('Summary Sheet'!$B$17:$B706,INT(ROWS(D$3:D630)/20)+1),\"\")=0,\"\",IF(MOD(ROWS(D$3:D630),20)=1,INDEX('Summary Sheet'!$B$17:$B706,INT(ROWS(D$3:D630)/20)+1),\"\"))","v":""},{"$f":"_xlfn.IFNA(IF(VLOOKUP(B630,_!$A$7:$E$210,2,FALSE)=0, \"\", VLOOKUP(B630,_!$A$7:$E$210,2,FALSE)),  \"\")","v":""},{"$f":"_xlfn.IFNA(IF(VLOOKUP(B630,_!$A$7:$E$210,3,FALSE)=0, \"\", VLOOKUP(B630,_!$A$7:$E$210,3,FALSE)), \"\")","v":""},{"$f":"_xlfn.IFNA(IF(VLOOKUP(B630,_!$A$7:$E$210,4,FALSE)=0, \"\",VLOOKUP(B630,_!$A$7:$E$210,4,FALSE)), \"\")","v":""},{"$f":"_xlfn.IFNA(IF(VLOOKUP(B630,_!$A$7:$E$210,5,FALSE)=0,\"\",VLOOKUP(B630,_!$A$7:$E$210,5,FALSE)), \"\")","v":""}]
[5,null,{"$f":"_xlfn.IFNA(VLOOKUP(B631,_!$A$7:$F$210,6,FALSE),\"\")","v":""},{"$f":"IF(IF(MOD(ROWS(D$3:D631),20)=1,INDEX('Summary Sheet'!$B$17:$B706,INT(ROWS(D$3:D631)/20)+1),\"\")=0,\"\",IF(MOD(ROWS(D$3:D631),20)=1,INDEX('Summary Sheet'!$B$17:$B706,INT(ROWS(D$3:D631)/20)+1),\"\"))","v":""},{"$f":"_xlfn.IFNA(IF(VLOOKUP(B631,_!$A$7:$E$210,2,FALSE)=0, \"\", VLOOKUP(B631,_!$A$7:$E$210,2,FALSE)),  \"\")","v":""},{"$f":"_xlfn.IFNA(IF(VLOOKUP(B631,_!$A$7:$E$210,3,FALSE)=0, \"\", VLOOKUP(B631,_!$A$7:$E$210,3,FALSE)), \"\")","v":""},{"$f":"_xlfn.IFNA(IF(VLOOKUP(B631,_!$A$7:$E$210,4,FALSE)=0, \"\",VLOOKUP(B631,_!$A$7:$E$210,4,FALSE)), \"\")","v":""},{"$f":"_xlfn.IFNA(IF(VLOOKUP(B631,_!$A$7:$E$210,5,FALSE)=0,\"\",VLOOKUP(B631,_!$A$7:$E$210,5,FALSE)), \"\")","v":""}]
[6,null,{"$f":"_xlfn.IFNA(VLOOKUP(B632,_!$A$7:$F$210,6,FALSE),\"\")","v":""},{"$f":"IF(IF(MOD(ROWS(D$3:D632),20)=1,INDEX('Summary Sheet'!$B$17:$B706,INT(ROWS(D$3:D632)/20)+1),\"\")=0,\"\",IF(MOD(ROWS(D$3:D632),20)=1,INDEX('Summary Sheet'!$B$17:$B706,INT(ROWS(D$3:D632)/20)+1),\"\"))","v":""},{"$f":"_xlfn.IFNA(IF(VLOOKUP(B632,_!$A$7:$E$210,2,FALSE)=0, \"\", VLOOKUP(B632,_!$A$7:$E$210,2,FALSE)),  \"\")","v":""},{"$f":"_xlfn.IFNA(IF(VLOOKUP(B632,_!$A$7:$E$210,3,FALSE)=0, \"\", VLOOKUP(B632,_!$A$7:$E$210,3,FALSE)), \"\")","v":""},{"$f":"_xlfn.IFNA(IF(VLOOKUP(B632,_!$A$7:$E$210,4,FALSE)=0, \"\",VLOOKUP(B632,_!$A$7:$E$210,4,FALSE)), \"\")","v":""},{"$f":"_xlfn.IFNA(IF(VLOOKUP(B632,_!$A$7:$E$210,5,FALSE)=0,\"\",VLOOKUP(B632,_!$A$7:$E$210,5,FALSE)), \"\")","v":""}]
[7,null,{"$f":"_xlfn.IFNA(VLOOKUP(B633,_!$A$7:$F$210,6,FALSE),\"\")","v":""},{"$f":"IF(IF(MOD(ROWS(D$3:D633),20)=1,INDEX('Summary Sheet'!$B$17:$B706,INT(ROWS(D$3:D633)/20)+1),\"\")=0,\"\",IF(MOD(ROWS(D$3:D633),20)=1,INDEX('Summary Sheet'!$B$17:$B706,INT(ROWS(D$3:D633)/20)+1),\"\"))","v":""},{"$f":"_xlfn.IFNA(IF(VLOOKUP(B633,_!$A$7:$E$210,2,FALSE)=0, \"\", VLOOKUP(B633,_!$A$7:$E$210,2,FALSE)),  \"\")","v":""},{"$f":"_xlfn.IFNA(IF(VLOOKUP(B633,_!$A$7:$E$210,3,FALSE)=0, \"\", VLOOKUP(B633,_!$A$7:$E$210,3,FALSE)), \"\")","v":""},{"$f":"_xlfn.IFNA(IF(VLOOKUP(B633,_!$A$7:$E$210,4,FALSE)=0, \"\",VLOOKUP(B633,_!$A$7:$E$210,4,FALSE)), \"\")","v":""},{"$f":"_xlfn.IFNA(IF(VLOOKUP(B633,_!$A$7:$E$210,5,FALSE)=0,\"\",VLOOKUP(B633,_!$A$7:$E$210,5,FALSE)), \"\")","v":""}]
[8,null,{"$f":"_xlfn.IFNA(VLOOKUP(B634,_!$A$7:$F$210,6,FALSE),\"\")","v":""},{"$f":"IF(IF(MOD(ROWS(D$3:D634),20)=1,INDEX('Summary Sheet'!$B$17:$B706,INT(ROWS(D$3:D634)/20)+1),\"\")=0,\"\",IF(MOD(ROWS(D$3:D634),20)=1,INDEX('Summary Sheet'!$B$17:$B706,INT(ROWS(D$3:D634)/20)+1),\"\"))","v":""},{"$f":"_xlfn.IFNA(IF(VLOOKUP(B634,_!$A$7:$E$210,2,FALSE)=0, \"\", VLOOKUP(B634,_!$A$7:$E$210,2,FALSE)),  \"\")","v":""},{"$f":"_xlfn.IFNA(IF(VLOOKUP(B634,_!$A$7:$E$210,3,FALSE)=0, \"\", VLOOKUP(B634,_!$A$7:$E$210,3,FALSE)), \"\")","v":""},{"$f":"_xlfn.IFNA(IF(VLOOKUP(B634,_!$A$7:$E$210,4,FALSE)=0, \"\",VLOOKUP(B634,_!$A$7:$E$210,4,FALSE)), \"\")","v":""},{"$f":"_xlfn.IFNA(IF(VLOOKUP(B634,_!$A$7:$E$210,5,FALSE)=0,\"\",VLOOKUP(B634,_!$A$7:$E$210,5,FALSE)), \"\")","v":""}]
[9,null,{"$f":"_xlfn.IFNA(VLOOKUP(B635,_!$A$7:$F$210,6,FALSE),\"\")","v":""},{"$f":"IF(IF(MOD(ROWS(D$3:D635),20)=1,INDEX('Summary Sheet'!$B$17:$B706,INT(ROWS(D$3:D635)/20)+1),\"\")=0,\"\",IF(MOD(ROWS(D$3:D635),20)=1,INDEX('Summary Sheet'!$B$17:$B706,INT(ROWS(D$3:D635)/20)+1),\"\"))","v":""},{"$f":"_xlfn.IFNA(IF(VLOOKUP(B635,_!$A$7:$E$210,2,FALSE)=0, \"\", VLOOKUP(B635,_!$A$7:$E$210,2,FALSE)),  \"\")","v":""},{"$f":"_xlfn.IFNA(IF(VLOOKUP(B635,_!$A$7:$E$210,3,FALSE)=0, \"\", VLOOKUP(B635,_!$A$7:$E$210,3,FALSE)), \"\")","v":""},{"$f":"_xlfn.IFNA(IF(VLOOKUP(B635,_!$A$7:$E$210,4,FALSE)=0, \"\",VLOOKUP(B635,_!$A$7:$E$210,4,FALSE)), \"\")","v":""},{"$f":"_xlfn.IFNA(IF(VLOOKUP(B635,_!$A$7:$E$210,5,FALSE)=0,\"\",VLOOKUP(B635,_!$A$7:$E$210,5,FALSE)), \"\")","v":""}]
[10,null,{"$f":"_xlfn.IFNA(VLOOKUP(B636,_!$A$7:$F$210,6,FALSE),\"\")","v":""},{"$f":"IF(IF(MOD(ROWS(D$14:D636),20)=1,INDEX('Summary Sheet'!$B$17:$B706,INT(ROWS(D$14:D636)/20)+1),\"\")=0,\"\",IF(MOD(ROWS(D$14:D636),20)=1,INDEX('Summary Sheet'!$B$17:$B706,INT(ROWS(D$14:D636)/20)+1),\"\"))","v":""},{"$f":"_xlfn.IFNA(IF(VLOOKUP(B636,_!$A$7:$E$210,2,FALSE)=0, \"\", VLOOKUP(B636,_!$A$7:$E$210,2,FALSE)),  \"\")","v":""},{"$f":"_xlfn.IFNA(IF(VLOOKUP(B636,_!$A$7:$E$210,3,FALSE)=0, \"\", VLOOKUP(B636,_!$A$7:$E$210,3,FALSE)), \"\")","v":""},{"$f":"_xlfn.IFNA(IF(VLOOKUP(B636,_!$A$7:$E$210,4,FALSE)=0, \"\",VLOOKUP(B636,_!$A$7:$E$210,4,FALSE)), \"\")","v":""},{"$f":"_xlfn.IFNA(IF(VLOOKUP(B636,_!$A$7:$E$210,5,FALSE)=0,\"\",VLOOKUP(B636,_!$A$7:$E$210,5,FALSE)), \"\")","v":""}]
[null,"\nHighest hazard level for each ‘Uptake Route’\n",null,null,{"$f":"_xlfn.IFNA(IF((INDEX(E627:E636,MATCH(\"E\",E627:E636,0)))=\"E\",\"E\",\"\"),_xlfn.IFNA(IF((INDEX(E627:E636,MATCH(\"D\",E627:E636,0)))=\"D\",\"D\",\"\"),_xlfn.IFNA(IF((INDEX(E627:E636,MATCH(\"Ca\",E627:E636,0)))=\"Ca\",\"C\",\"\"),_xlfn.IFNA(IF((INDEX(E627:E636,MATCH(\"C\",E627:E636,0)))=\"C\",\"C\",\"\"),_xlfn.IFNA(IF((INDEX(E627:E636,MATCH(\"B\",E627:E636,0)))=\"B\",\"B\",\"\"),_xlfn.IFNA(IF((INDEX(E627:E636,MATCH(\"A\",E627:E636,0)))=\"A\",\"A\",\"\"),_xlfn.IFNA(IF((INDEX(E627:E636,MATCH(\"n.a.\",E627:E636,0)))=\"n.a.\",\"\",\"\"),_xlfn.IFNA(IF((INDEX(E627:E636,MATCH(\"\",E627:E636,0)))=\"\",\"\",\"\"),\"\"))))))))","v":""},{"$f":"_xlfn.IFNA(IF((INDEX(F627:F636,MATCH(\"E\",F627:F636,0)))=\"E\",\"E\",\"\"),_xlfn.IFNA(IF((INDEX(F627:F636,MATCH(\"D (E)c\",F627:F636,0)))=\"D (E)c\",\"D (E)c\",\"\"),_xlfn.IFNA(IF((INDEX(F627:F636,MATCH(\"Da (E)c\",F627:F636,0)))=\"Da (E)c\",\"D (E)c\",\"\"),_xlfn.IFNA(IF((INDEX(F627:F636,MATCH(\"D\",F627:F636,0)))=\"D\",\"D\",\"\"),_xlfn.IFNA(IF((INDEX(F627:F636,MATCH(\"Ca\",F627:F636,0)))=\"Ca\",\"C\",\"\"),_xlfn.IFNA(IF((INDEX(F627:F636,MATCH(\"C\",F627:F636,0)))=\"C\",\"C\",\"\"),_xlfn.IFNA(IF((INDEX(F627:F636,MATCH(\"Ba\",F627:F636,0)))=\"Ba\",\"B\",\"\"),_xlfn.IFNA(IF((INDEX(F627:F636,MATCH(\"B\",F627:F636,0)))=\"B\",\"B\",\"\"),_xlfn.IFNA(IF((INDEX(F627:F636,MATCH(\"Aa\",F627:F636,0)))=\"Aa\",\"A\",\"\"),_xlfn.IFNA(IF((INDEX(F627:F636,MATCH(\"A\",F627:F636,0)))=\"A\",\"A\",\"\"),_xlfn.IFNA(IF((INDEX(F627:F636,MATCH(\"n.a.\",F627:F636,0)))=\"n.a.\",\"\",\"\"),_xlfn.IFNA(IF((INDEX(F627:F636,MATCH(\"\",F627:F636,0)))=\"\",\"\",\"\"),\"\"))))))))))))","v":""},{"$f":"_xlfn.IFNA(IF((INDEX(G627:G636,MATCH(\"E\",G627:G636,0)))=\"E\",\"E\",\"\"),_xlfn.IFNA(IF((INDEX(G627:G636,MATCH(\"D\",G627:G636,0)))=\"D\",\"D\",\"\"),_xlfn.IFNA(IF((INDEX(G627:G636,MATCH(\"Ca\",G627:G636,0)))=\"Ca\",\"C\",\"\"),_xlfn.IFNA(IF((INDEX(G627:G636,MATCH(\"C\",G627:G636,0)))=\"C\",\"C\",\"\"),_xlfn.IFNA(IF((INDEX(G627:G636,MATCH(\"B\",G627:G636,0)))=\"B\",\"B\",\"\"),_xlfn.IFNA(IF((INDEX(G627:G636,MATCH(\"A\",G627:G636,0)))=\"A\",\"A\",\"\"),_xlfn.IFNA(IF((INDEX(G627:G636,MATCH(\"n.a.\",G627:G636,0)))=\"n.a.\",\"\",\"\"),_xlfn.IFNA(IF((INDEX(G627:G636,MATCH(\"\",G627:G636,0)))=\"\",\"\",\"\"),\"\"))))))))","v":""},{"$f":"_xlfn.IFNA(IF((INDEX(H627:H636,MATCH(\"E\",H627:H636,0)))=\"E\",\"E\",\"\"),_xlfn.IFNA(IF((INDEX(H627:H636,MATCH(\"D (E)c\",H627:H636,0)))=\"D (E)c\",\"D (E)c\",\"\"),_xlfn.IFNA(IF((INDEX(H627:H636,MATCH(\"Db (E)c\",H627:H636,0)))=\"Db (E)c\",\"D (E)c\",\"\"),_xlfn.IFNA(IF((INDEX(H627:H636,MATCH(\"D\",H627:H636,0)))=\"D\",\"D\",\"\"),_xlfn.IFNA(IF((INDEX(H627:H636,MATCH(\"Cb\",H627:H636,0)))=\"Cb\",\"C\",\"\"),_xlfn.IFNA(IF((INDEX(H627:H636,MATCH(\"C\",H627:H636,0)))=\"C\",\"C\",\"\"),_xlfn.IFNA(IF((INDEX(H627:H636,MATCH(\"Bb\",H627:H636,0)))=\"Bb\",\"B\",\"\"),_xlfn.IFNA(IF((INDEX(H627:H636,MATCH(\"B\",H627:H636,0)))=\"B\",\"B\",\"\"),_xlfn.IFNA(IF((INDEX(H627:H636,MATCH(\"Ab\",H627:H636,0)))=\"Ab\",\"A\",\"\"),_xlfn.IFNA(IF((INDEX(H627:H636,MATCH(\"A\",H627:H636,0)))=\"A\",\"A\",\"\"),_xlfn.IFNA(IF((INDEX(H627:H636,MATCH(\"n.a.\",H627:H636,0)))=\"n.a.\",\"\",\"\"),_xlfn.IFNA(IF((INDEX(H627:H636,MATCH(\"\",H627:H636,0)))=\"\",\"\",\"\"),\"\"))))))))))))","v":""}]
[null,"\nHighest hazard level for all 'Uptake Routes' \n",null,null,{"$f":"_xlfn.IFNA(IF((INDEX(E637:H637,MATCH(\"E\",E637:H637,0)))=\"E\",\"E\",\"\"),_xlfn.IFNA(IF((INDEX(E637:H637,MATCH(\"D (E)c\",E637:H637,0)))=\"D (E)c\",\"D (E)\",\"\"),_xlfn.IFNA(IF((INDEX(E637:H637,MATCH(\"D\",E637:H637,0)))=\"D\",\"D\",\"\"),_xlfn.IFNA(IF((INDEX(E637:H637,MATCH(\"C\",E637:H637,0)))=\"C\",\"C\",\"\"),_xlfn.IFNA(IF((INDEX(E637:H637,MATCH(\"B\",E637:H637,0)))=\"B\",\"B\",\"\"),_xlfn.IFNA(IF((INDEX(E637:H637,MATCH(\"A\",E637:H637,0)))=\"A\",\"A\",\"\"),_xlfn.IFNA(IF((INDEX(E637:H637,MATCH(\"n.a.\",E637:H637,0)))=\"n.a.\",\"\",\"\"),_xlfn.IFNA(IF((INDEX(E637:H637,MATCH(\"\",E637:H637,0)))=\"\",\"\",\"\"),\"\"))))))))","v":""}]
[]
[]
[null,"\nStep 3: D(E) Assessment\nSkip this step if \nyour assessment above does not reveal a D(E) hazard level.\nHover over this cell for additional instructions.\n",null,null,"\nOverall hazard level\n",null,{"$f":"IF(AND(E638=\"\",C624=\"Yes\")=TRUE,\"B\",IF(E638=\"\",\"\",(IF(AND(E638=\"D (E)\",C641=\"\"),\"D (E)\"&CHAR(10)&\"Find if cat. 1 acute tox.\",(IF(E638<>\"D (E)\",E638,(IF(AND(E638=\"D (E)\",C641=\"Yes\"),\"E\",(IF(AND(E638=\"D (E)\",C641=\"No\"),\"D\",\"\"))))))))))","v":""}]
[]
[{"$f":"IF(IF(MOD(ROWS(B$3:B643),20)=1,INDEX('Summary Sheet'!$A$17:$A725,INT(ROWS(B$3:B643)/20)+1),\"\")=0,\"\",IF(MOD(ROWS(B$3:B643),20)=1,INDEX('Summary Sheet'!$A$17:$A725,INT(ROWS(B$3:B643)/20)+1),\"\"))","v":33},"Hazard Level Assessment","for",{"$f":"IF(IF(MOD(ROWS(D$3:D643),20)=1,INDEX('Summary Sheet'!$B$17:$B725,INT(ROWS(D$3:D643)/20)+1),\"\")=0,\"\",IF(MOD(ROWS(D$3:D643),20)=1,INDEX('Summary Sheet'!$B$17:$B725,INT(ROWS(D$3:D643)/20)+1),\"\"))","v":""}]
[null,"\nStep 1: Physical & Environmental Hazard Statements/Codes\nFind Section 2 of the SDS and determine if the SDS has physical and/or environmental hazard statements/codes. Hover on this cell for additional instructions.\n",null,{"$f":"IF(IF(MOD(ROWS(D$3:D644),20)=1,INDEX('Summary Sheet'!$B$17:$B725,INT(ROWS(D$3:D644)/20)+1),\"\")=0,\"\",IF(MOD(ROWS(D$3:D644),20)=1,INDEX('Summary Sheet'!$B$17:$B725,INT(ROWS(D$3:D644)/20)+1),\"\"))","v":""}]
[null,"Step 2: Health Hazard Statements/Codes\nProvide the Health Hazard Statements or Codes from Section 2 of the SDS below. Hover on this cell for additional instructions.",null,{"$f":"IF(IF(MOD(ROWS(D$3:D645),20)=1,INDEX('Summary Sheet'!$B$17:$B725,INT(ROWS(D$3:D645)/20)+1),\"\")=0,\"\",IF(MOD(ROWS(D$3:D645),20)=1,INDEX('Summary Sheet'!$B$17:$B725,INT(ROWS(D$3:D645)/20)+1),\"\"))","v":""},"\nHazard Level\n"]
[null,null,null,{"$f":"IF(IF(MOD(ROWS(D$3:D646),20)=1,INDEX('Summary Sheet'!$B$17:$B725,INT(ROWS(D$3:D646)/20)+1),\"\")=0,\"\",IF(MOD(ROWS(D$3:D646),20)=1,INDEX('Summary Sheet'!$B$17:$B725,INT(ROWS(D$3:D646)/20)+1),\"\"))","v":""},"\nEye Damage\n","\nInhalation\n","\nLocal Skin Damage\n","\nSkin uptake, systemic\n"]
[1,null,{"$f":"_xlfn.IFNA(VLOOKUP(B647,_!$A$7:$F$210,6,FALSE),\"\")","v":""},{"$f":"IF(IF(MOD(ROWS(D$3:D647),20)=1,INDEX('Summary Sheet'!$B$17:$B725,INT(ROWS(D$3:D647)/20)+1),\"\")=0,\"\",IF(MOD(ROWS(D$3:D647),20)=1,INDEX('Summary Sheet'!$B$17:$B725,INT(ROWS(D$3:D647)/20)+1),\"\"))","v":""},{"$f":"_xlfn.IFNA(IF(VLOOKUP(B647,_!$A$7:$E$210,2,FALSE)=0, \"\", VLOOKUP(B647,_!$A$7:$E$210,2,FALSE)),  \"\")","v":""},{"$f":"_xlfn.IFNA(IF(VLOOKUP(B647,_!$A$7:$E$210,3,FALSE)=0, \"\", VLOOKUP(B647,_!$A$7:$E$210,3,FALSE)), \"\")","v":""},{"$f":"_xlfn.IFNA(IF(VLOOKUP(B647,_!$A$7:$E$210,4,FALSE)=0, \"\",VLOOKUP(B647,_!$A$7:$E$210,4,FALSE)), \"\")","v":""},{"$f":"_xlfn.IFNA(IF(VLOOKUP(B647,_!$A$7:$E$210,5,FALSE)=0,\"\",VLOOKUP(B647,_!$A$7:$E$210,5,FALSE)), \"\")","v":""}]
[2,null,{"$f":"_xlfn.IFNA(VLOOKUP(B648,_!$A$7:$F$210,6,FALSE),\"\")","v":""},{"$f":"IF(IF(MOD(ROWS(D$3:D648),20)=1,INDEX('Summary Sheet'!$B$17:$B725,INT(ROWS(D$3:D648)/20)+1),\"\")=0,\"\",IF(MOD(ROWS(D$3:D648),20)=1,INDEX('Summary Sheet'!$B$17:$B725,INT(ROWS(D$3:D648)/20)+1),\"\"))","v":""},{"$f":"_xlfn.IFNA(IF(VLOOKUP(B648,_!$A$7:$E$210,2,FALSE)=0, \"\", VLOOKUP(B648,_!$A$7:$E$210,2,FALSE)),  \"\")","v":""},{"$f":"_xlfn.IFNA(IF(VLOOKUP(B648,_!$A$7:$E$210,3,FALSE)=0, \"\", VLOOKUP(B648,_!$A$7:$E$210,3,FALSE)), \"\")","v":""},{"$f":"_xlfn.IFNA(IF(VLOOKUP(B648,_!$A$7:$E$210,4,FALSE)=0, \"\",VLOOKUP(B648,_!$A$7:$E$210,4,FALSE)), \"\")","v":""},{"$f":"_xlfn.IFNA(IF(VLOOKUP(B648,_!$A$7:$E$210,5,FALSE)=0,\"\",VLOOKUP(B648,_!$A$7:$E$210,5,FALSE)), \"\")","v":""}]
[3,null,{"$f":"_xlfn.IFNA(VLOOKUP(B649,_!$A$7:$F$210,6,FALSE),\"\")","v":""},{"$f":"IF(IF(MOD(ROWS(D$3:D649),20)=1,INDEX('Summary Sheet'!$B$17:$B725,INT(ROWS(D$3:D649)/20)+1),\"\")=0,\"\",IF(MOD(ROWS(D$3:D649),20)=1,INDEX('Summary Sheet'!$B$17:$B725,INT(ROWS(D$3:D649)/20)+1),\"\"))","v":""},{"$f":"_xlfn.IFNA(IF(VLOOKUP(B649,_!$A$7:$E$210,2,FALSE)=0, \"\", VLOOKUP(B649,_!$A$7:$E$210,2,FALSE)),  \"\")","v":""},{"$f":"_xlfn.IFNA(IF(VLOOKUP(B649,_!$A$7:$E$210,3,FALSE)=0, \"\", VLOOKUP(B649,_!$A$7:$E$210,3,FALSE)), \"\")","v":""},{"$f":"_xlfn.IFNA(IF(VLOOKUP(B649,_!$A$7:$E$210,4,FALSE)=0, \"\",VLOOKUP(B649,_!$A$7:$E$210,4,FALSE)), \"\")","v":""},{"$f":"_xlfn.IFNA(IF(VLOOKUP(B649,_!$A$7:$E$210,5,FALSE)=0,\"\",VLOOKUP(B649,_!$A$7:$E$210,5,FALSE)), \"\")","v":""}]
[4,null,{"$f":"_xlfn.IFNA(VLOOKUP(B650,_!$A$7:$F$210,6,FALSE),\"\")","v":""},{"$f":"IF(IF(MOD(ROWS(D$3:D650),20)=1,INDEX('Summary Sheet'!$B$17:$B725,INT(ROWS(D$3:D650)/20)+1),\"\")=0,\"\",IF(MOD(ROWS(D$3:D650),20)=1,INDEX('Summary Sheet'!$B$17:$B725,INT(ROWS(D$3:D650)/20)+1),\"\"))","v":""},{"$f":"_xlfn.IFNA(IF(VLOOKUP(B650,_!$A$7:$E$210,2,FALSE)=0, \"\", VLOOKUP(B650,_!$A$7:$E$210,2,FALSE)),  \"\")","v":""},{"$f":"_xlfn.IFNA(IF(VLOOKUP(B650,_!$A$7:$E$210,3,FALSE)=0, \"\", VLOOKUP(B650,_!$A$7:$E$210,3,FALSE)), \"\")","v":""},{"$f":"_xlfn.IFNA(IF(VLOOKUP(B650,_!$A$7:$E$210,4,FALSE)=0, \"\",VLOOKUP(B650,_!$A$7:$E$210,4,FALSE)), \"\")","v":""},{"$f":"_xlfn.IFNA(IF(VLOOKUP(B650,_!$A$7:$E$210,5,FALSE)=0,\"\",VLOOKUP(B650,_!$A$7:$E$210,5,FALSE)), \"\")","v":""}]
[5,null,{"$f":"_xlfn.IFNA(VLOOKUP(B651,_!$A$7:$F$210,6,FALSE),\"\")","v":""},{"$f":"IF(IF(MOD(ROWS(D$3:D651),20)=1,INDEX('Summary Sheet'!$B$17:$B725,INT(ROWS(D$3:D651)/20)+1),\"\")=0,\"\",IF(MOD(ROWS(D$3:D651),20)=1,INDEX('Summary Sheet'!$B$17:$B725,INT(ROWS(D$3:D651)/20)+1),\"\"))","v":""},{"$f":"_xlfn.IFNA(IF(VLOOKUP(B651,_!$A$7:$E$210,2,FALSE)=0, \"\", VLOOKUP(B651,_!$A$7:$E$210,2,FALSE)),  \"\")","v":""},{"$f":"_xlfn.IFNA(IF(VLOOKUP(B651,_!$A$7:$E$210,3,FALSE)=0, \"\", VLOOKUP(B651,_!$A$7:$E$210,3,FALSE)), \"\")","v":""},{"$f":"_xlfn.IFNA(IF(VLOOKUP(B651,_!$A$7:$E$210,4,FALSE)=0, \"\",VLOOKUP(B651,_!$A$7:$E$210,4,FALSE)), \"\")","v":""},{"$f":"_xlfn.IFNA(IF(VLOOKUP(B651,_!$A$7:$E$210,5,FALSE)=0,\"\",VLOOKUP(B651,_!$A$7:$E$210,5,FALSE)), \"\")","v":""}]
[6,null,{"$f":"_xlfn.IFNA(VLOOKUP(B652,_!$A$7:$F$210,6,FALSE),\"\")","v":""},{"$f":"IF(IF(MOD(ROWS(D$3:D652),20)=1,INDEX('Summary Sheet'!$B$17:$B725,INT(ROWS(D$3:D652)/20)+1),\"\")=0,\"\",IF(MOD(ROWS(D$3:D652),20)=1,INDEX('Summary Sheet'!$B$17:$B725,INT(ROWS(D$3:D652)/20)+1),\"\"))","v":""},{"$f":"_xlfn.IFNA(IF(VLOOKUP(B652,_!$A$7:$E$210,2,FALSE)=0, \"\", VLOOKUP(B652,_!$A$7:$E$210,2,FALSE)),  \"\")","v":""},{"$f":"_xlfn.IFNA(IF(VLOOKUP(B652,_!$A$7:$E$210,3,FALSE)=0, \"\", VLOOKUP(B652,_!$A$7:$E$210,3,FALSE)), \"\")","v":""},{"$f":"_xlfn.IFNA(IF(VLOOKUP(B652,_!$A$7:$E$210,4,FALSE)=0, \"\",VLOOKUP(B652,_!$A$7:$E$210,4,FALSE)), \"\")","v":""},{"$f":"_xlfn.IFNA(IF(VLOOKUP(B652,_!$A$7:$E$210,5,FALSE)=0,\"\",VLOOKUP(B652,_!$A$7:$E$210,5,FALSE)), \"\")","v":""}]
[7,null,{"$f":"_xlfn.IFNA(VLOOKUP(B653,_!$A$7:$F$210,6,FALSE),\"\")","v":""},{"$f":"IF(IF(MOD(ROWS(D$3:D653),20)=1,INDEX('Summary Sheet'!$B$17:$B725,INT(ROWS(D$3:D653)/20)+1),\"\")=0,\"\",IF(MOD(ROWS(D$3:D653),20)=1,INDEX('Summary Sheet'!$B$17:$B725,INT(ROWS(D$3:D653)/20)+1),\"\"))","v":""},{"$f":"_xlfn.IFNA(IF(VLOOKUP(B653,_!$A$7:$E$210,2,FALSE)=0, \"\", VLOOKUP(B653,_!$A$7:$E$210,2,FALSE)),  \"\")","v":""},{"$f":"_xlfn.IFNA(IF(VLOOKUP(B653,_!$A$7:$E$210,3,FALSE)=0, \"\", VLOOKUP(B653,_!$A$7:$E$210,3,FALSE)), \"\")","v":""},{"$f":"_xlfn.IFNA(IF(VLOOKUP(B653,_!$A$7:$E$210,4,FALSE)=0, \"\",VLOOKUP(B653,_!$A$7:$E$210,4,FALSE)), \"\")","v":""},{"$f":"_xlfn.IFNA(IF(VLOOKUP(B653,_!$A$7:$E$210,5,FALSE)=0,\"\",VLOOKUP(B653,_!$A$7:$E$210,5,FALSE)), \"\")","v":""}]
[8,null,{"$f":"_xlfn.IFNA(VLOOKUP(B654,_!$A$7:$F$210,6,FALSE),\"\")","v":""},{"$f":"IF(IF(MOD(ROWS(D$3:D654),20)=1,INDEX('Summary Sheet'!$B$17:$B725,INT(ROWS(D$3:D654)/20)+1),\"\")=0,\"\",IF(MOD(ROWS(D$3:D654),20)=1,INDEX('Summary Sheet'!$B$17:$B725,INT(ROWS(D$3:D654)/20)+1),\"\"))","v":""},{"$f":"_xlfn.IFNA(IF(VLOOKUP(B654,_!$A$7:$E$210,2,FALSE)=0, \"\", VLOOKUP(B654,_!$A$7:$E$210,2,FALSE)),  \"\")","v":""},{"$f":"_xlfn.IFNA(IF(VLOOKUP(B654,_!$A$7:$E$210,3,FALSE)=0, \"\", VLOOKUP(B654,_!$A$7:$E$210,3,FALSE)), \"\")","v":""},{"$f":"_xlfn.IFNA(IF(VLOOKUP(B654,_!$A$7:$E$210,4,FALSE)=0, \"\",VLOOKUP(B654,_!$A$7:$E$210,4,FALSE)), \"\")","v":""},{"$f":"_xlfn.IFNA(IF(VLOOKUP(B654,_!$A$7:$E$210,5,FALSE)=0,\"\",VLOOKUP(B654,_!$A$7:$E$210,5,FALSE)), \"\")","v":""}]
[9,null,{"$f":"_xlfn.IFNA(VLOOKUP(B655,_!$A$7:$F$210,6,FALSE),\"\")","v":""},{"$f":"IF(IF(MOD(ROWS(D$3:D655),20)=1,INDEX('Summary Sheet'!$B$17:$B725,INT(ROWS(D$3:D655)/20)+1),\"\")=0,\"\",IF(MOD(ROWS(D$3:D655),20)=1,INDEX('Summary Sheet'!$B$17:$B725,INT(ROWS(D$3:D655)/20)+1),\"\"))","v":""},{"$f":"_xlfn.IFNA(IF(VLOOKUP(B655,_!$A$7:$E$210,2,FALSE)=0, \"\", VLOOKUP(B655,_!$A$7:$E$210,2,FALSE)),  \"\")","v":""},{"$f":"_xlfn.IFNA(IF(VLOOKUP(B655,_!$A$7:$E$210,3,FALSE)=0, \"\", VLOOKUP(B655,_!$A$7:$E$210,3,FALSE)), \"\")","v":""},{"$f":"_xlfn.IFNA(IF(VLOOKUP(B655,_!$A$7:$E$210,4,FALSE)=0, \"\",VLOOKUP(B655,_!$A$7:$E$210,4,FALSE)), \"\")","v":""},{"$f":"_xlfn.IFNA(IF(VLOOKUP(B655,_!$A$7:$E$210,5,FALSE)=0,\"\",VLOOKUP(B655,_!$A$7:$E$210,5,FALSE)), \"\")","v":""}]
[10,null,{"$f":"_xlfn.IFNA(VLOOKUP(B656,_!$A$7:$F$210,6,FALSE),\"\")","v":""},{"$f":"IF(IF(MOD(ROWS(D$14:D656),20)=1,INDEX('Summary Sheet'!$B$17:$B725,INT(ROWS(D$14:D656)/20)+1),\"\")=0,\"\",IF(MOD(ROWS(D$14:D656),20)=1,INDEX('Summary Sheet'!$B$17:$B725,INT(ROWS(D$14:D656)/20)+1),\"\"))","v":""},{"$f":"_xlfn.IFNA(IF(VLOOKUP(B656,_!$A$7:$E$210,2,FALSE)=0, \"\", VLOOKUP(B656,_!$A$7:$E$210,2,FALSE)),  \"\")","v":""},{"$f":"_xlfn.IFNA(IF(VLOOKUP(B656,_!$A$7:$E$210,3,FALSE)=0, \"\", VLOOKUP(B656,_!$A$7:$E$210,3,FALSE)), \"\")","v":""},{"$f":"_xlfn.IFNA(IF(VLOOKUP(B656,_!$A$7:$E$210,4,FALSE)=0, \"\",VLOOKUP(B656,_!$A$7:$E$210,4,FALSE)), \"\")","v":""},{"$f":"_xlfn.IFNA(IF(VLOOKUP(B656,_!$A$7:$E$210,5,FALSE)=0,\"\",VLOOKUP(B656,_!$A$7:$E$210,5,FALSE)), \"\")","v":""}]
[null,"\nHighest hazard level for each ‘Uptake Route’\n",null,null,{"$f":"_xlfn.IFNA(IF((INDEX(E647:E656,MATCH(\"E\",E647:E656,0)))=\"E\",\"E\",\"\"),_xlfn.IFNA(IF((INDEX(E647:E656,MATCH(\"D\",E647:E656,0)))=\"D\",\"D\",\"\"),_xlfn.IFNA(IF((INDEX(E647:E656,MATCH(\"Ca\",E647:E656,0)))=\"Ca\",\"C\",\"\"),_xlfn.IFNA(IF((INDEX(E647:E656,MATCH(\"C\",E647:E656,0)))=\"C\",\"C\",\"\"),_xlfn.IFNA(IF((INDEX(E647:E656,MATCH(\"B\",E647:E656,0)))=\"B\",\"B\",\"\"),_xlfn.IFNA(IF((INDEX(E647:E656,MATCH(\"A\",E647:E656,0)))=\"A\",\"A\",\"\"),_xlfn.IFNA(IF((INDEX(E647:E656,MATCH(\"n.a.\",E647:E656,0)))=\"n.a.\",\"\",\"\"),_xlfn.IFNA(IF((INDEX(E647:E656,MATCH(\"\",E647:E656,0)))=\"\",\"\",\"\"),\"\"))))))))","v":""},{"$f":"_xlfn.IFNA(IF((INDEX(F647:F656,MATCH(\"E\",F647:F656,0)))=\"E\",\"E\",\"\"),_xlfn.IFNA(IF((INDEX(F647:F656,MATCH(\"D (E)c\",F647:F656,0)))=\"D (E)c\",\"D (E)c\",\"\"),_xlfn.IFNA(IF((INDEX(F647:F656,MATCH(\"Da (E)c\",F647:F656,0)))=\"Da (E)c\",\"D (E)c\",\"\"),_xlfn.IFNA(IF((INDEX(F647:F656,MATCH(\"D\",F647:F656,0)))=\"D\",\"D\",\"\"),_xlfn.IFNA(IF((INDEX(F647:F656,MATCH(\"Ca\",F647:F656,0)))=\"Ca\",\"C\",\"\"),_xlfn.IFNA(IF((INDEX(F647:F656,MATCH(\"C\",F647:F656,0)))=\"C\",\"C\",\"\"),_xlfn.IFNA(IF((INDEX(F647:F656,MATCH(\"Ba\",F647:F656,0)))=\"Ba\",\"B\",\"\"),_xlfn.IFNA(IF((INDEX(F647:F656,MATCH(\"B\",F647:F656,0)))=\"B\",\"B\",\"\"),_xlfn.IFNA(IF((INDEX(F647:F656,MATCH(\"Aa\",F647:F656,0)))=\"Aa\",\"A\",\"\"),_xlfn.IFNA(IF((INDEX(F647:F656,MATCH(\"A\",F647:F656,0)))=\"A\",\"A\",\"\"),_xlfn.IFNA(IF((INDEX(F647:F656,MATCH(\"n.a.\",F647:F656,0)))=\"n.a.\",\"\",\"\"),_xlfn.IFNA(IF((INDEX(F647:F656,MATCH(\"\",F647:F656,0)))=\"\",\"\",\"\"),\"\"))))))))))))","v":""},{"$f":"_xlfn.IFNA(IF((INDEX(G647:G656,MATCH(\"E\",G647:G656,0)))=\"E\",\"E\",\"\"),_xlfn.IFNA(IF((INDEX(G647:G656,MATCH(\"D\",G647:G656,0)))=\"D\",\"D\",\"\"),_xlfn.IFNA(IF((INDEX(G647:G656,MATCH(\"Ca\",G647:G656,0)))=\"Ca\",\"C\",\"\"),_xlfn.IFNA(IF((INDEX(G647:G656,MATCH(\"C\",G647:G656,0)))=\"C\",\"C\",\"\"),_xlfn.IFNA(IF((INDEX(G647:G656,MATCH(\"B\",G647:G656,0)))=\"B\",\"B\",\"\"),_xlfn.IFNA(IF((INDEX(G647:G656,MATCH(\"A\",G647:G656,0)))=\"A\",\"A\",\"\"),_xlfn.IFNA(IF((INDEX(G647:G656,MATCH(\"n.a.\",G647:G656,0)))=\"n.a.\",\"\",\"\"),_xlfn.IFNA(IF((INDEX(G647:G656,MATCH(\"\",G647:G656,0)))=\"\",\"\",\"\"),\"\"))))))))","v":""},{"$f":"_xlfn.IFNA(IF((INDEX(H647:H656,MATCH(\"E\",H647:H656,0)))=\"E\",\"E\",\"\"),_xlfn.IFNA(IF((INDEX(H647:H656,MATCH(\"D (E)c\",H647:H656,0)))=\"D (E)c\",\"D (E)c\",\"\"),_xlfn.IFNA(IF((INDEX(H647:H656,MATCH(\"Db (E)c\",H647:H656,0)))=\"Db (E)c\",\"D (E)c\",\"\"),_xlfn.IFNA(IF((INDEX(H647:H656,MATCH(\"D\",H647:H656,0)))=\"D\",\"D\",\"\"),_xlfn.IFNA(IF((INDEX(H647:H656,MATCH(\"Cb\",H647:H656,0)))=\"Cb\",\"C\",\"\"),_xlfn.IFNA(IF((INDEX(H647:H656,MATCH(\"C\",H647:H656,0)))=\"C\",\"C\",\"\"),_xlfn.IFNA(IF((INDEX(H647:H656,MATCH(\"Bb\",H647:H656,0)))=\"Bb\",\"B\",\"\"),_xlfn.IFNA(IF((INDEX(H647:H656,MATCH(\"B\",H647:H656,0)))=\"B\",\"B\",\"\"),_xlfn.IFNA(IF((INDEX(H647:H656,MATCH(\"Ab\",H647:H656,0)))=\"Ab\",\"A\",\"\"),_xlfn.IFNA(IF((INDEX(H647:H656,MATCH(\"A\",H647:H656,0)))=\"A\",\"A\",\"\"),_xlfn.IFNA(IF((INDEX(H647:H656,MATCH(\"n.a.\",H647:H656,0)))=\"n.a.\",\"\",\"\"),_xlfn.IFNA(IF((INDEX(H647:H656,MATCH(\"\",H647:H656,0)))=\"\",\"\",\"\"),\"\"))))))))))))","v":""}]
[null,"\nHighest hazard level for all 'Uptake Routes' \n",null,null,{"$f":"_xlfn.IFNA(IF((INDEX(E657:H657,MATCH(\"E\",E657:H657,0)))=\"E\",\"E\",\"\"),_xlfn.IFNA(IF((INDEX(E657:H657,MATCH(\"D (E)c\",E657:H657,0)))=\"D (E)c\",\"D (E)\",\"\"),_xlfn.IFNA(IF((INDEX(E657:H657,MATCH(\"D\",E657:H657,0)))=\"D\",\"D\",\"\"),_xlfn.IFNA(IF((INDEX(E657:H657,MATCH(\"C\",E657:H657,0)))=\"C\",\"C\",\"\"),_xlfn.IFNA(IF((INDEX(E657:H657,MATCH(\"B\",E657:H657,0)))=\"B\",\"B\",\"\"),_xlfn.IFNA(IF((INDEX(E657:H657,MATCH(\"A\",E657:H657,0)))=\"A\",\"A\",\"\"),_xlfn.IFNA(IF((INDEX(E657:H657,MATCH(\"n.a.\",E657:H657,0)))=\"n.a.\",\"\",\"\"),_xlfn.IFNA(IF((INDEX(E657:H657,MATCH(\"\",E657:H657,0)))=\"\",\"\",\"\"),\"\"))))))))","v":""}]
[]
[]
[null,"\nStep 3: D(E) Assessment\nSkip this step if \nyour assessment above does not reveal a D(E) hazard level.\nHover over this cell for additional instructions.\n",null,null,"\nOverall hazard level\n",null,{"$f":"IF(AND(E658=\"\",C644=\"Yes\")=TRUE,\"B\",IF(E658=\"\",\"\",(IF(AND(E658=\"D (E)\",C661=\"\"),\"D (E)\"&CHAR(10)&\"Find if cat. 1 acute tox.\",(IF(E658<>\"D (E)\",E658,(IF(AND(E658=\"D (E)\",C661=\"Yes\"),\"E\",(IF(AND(E658=\"D (E)\",C661=\"No\"),\"D\",\"\"))))))))))","v":""}]
[]
[{"$f":"IF(IF(MOD(ROWS(B$3:B663),20)=1,INDEX('Summary Sheet'!$A$17:$A744,INT(ROWS(B$3:B663)/20)+1),\"\")=0,\"\",IF(MOD(ROWS(B$3:B663),20)=1,INDEX('Summary Sheet'!$A$17:$A744,INT(ROWS(B$3:B663)/20)+1),\"\"))","v":34},"Hazard Level Assessment","for",{"$f":"IF(IF(MOD(ROWS(D$3:D663),20)=1,INDEX('Summary Sheet'!$B$17:$B744,INT(ROWS(D$3:D663)/20)+1),\"\")=0,\"\",IF(MOD(ROWS(D$3:D663),20)=1,INDEX('Summary Sheet'!$B$17:$B744,INT(ROWS(D$3:D663)/20)+1),\"\"))","v":""}]
[null,"\nStep 1: Physical & Environmental Hazard Statements/Codes\nFind Section 2 of the SDS and determine if the SDS has physical and/or environmental hazard statements/codes. Hover on this cell for additional instructions.\n",null,{"$f":"IF(IF(MOD(ROWS(D$3:D664),20)=1,INDEX('Summary Sheet'!$B$17:$B744,INT(ROWS(D$3:D664)/20)+1),\"\")=0,\"\",IF(MOD(ROWS(D$3:D664),20)=1,INDEX('Summary Sheet'!$B$17:$B744,INT(ROWS(D$3:D664)/20)+1),\"\"))","v":""}]
[null,"Step 2: Health Hazard Statements/Codes\nProvide the Health Hazard Statements or Codes from Section 2 of the SDS below. Hover on this cell for additional instructions.",null,{"$f":"IF(IF(MOD(ROWS(D$3:D665),20)=1,INDEX('Summary Sheet'!$B$17:$B744,INT(ROWS(D$3:D665)/20)+1),\"\")=0,\"\",IF(MOD(ROWS(D$3:D665),20)=1,INDEX('Summary Sheet'!$B$17:$B744,INT(ROWS(D$3:D665)/20)+1),\"\"))","v":""},"\nHazard Level\n"]
[null,null,null,{"$f":"IF(IF(MOD(ROWS(D$3:D666),20)=1,INDEX('Summary Sheet'!$B$17:$B744,INT(ROWS(D$3:D666)/20)+1),\"\")=0,\"\",IF(MOD(ROWS(D$3:D666),20)=1,INDEX('Summary Sheet'!$B$17:$B744,INT(ROWS(D$3:D666)/20)+1),\"\"))","v":""},"\nEye Damage\n","\nInhalation\n","\nLocal Skin Damage\n","\nSkin uptake, systemic\n"]
[1,null,{"$f":"_xlfn.IFNA(VLOOKUP(B667,_!$A$7:$F$210,6,FALSE),\"\")","v":""},{"$f":"IF(IF(MOD(ROWS(D$3:D667),20)=1,INDEX('Summary Sheet'!$B$17:$B744,INT(ROWS(D$3:D667)/20)+1),\"\")=0,\"\",IF(MOD(ROWS(D$3:D667),20)=1,INDEX('Summary Sheet'!$B$17:$B744,INT(ROWS(D$3:D667)/20)+1),\"\"))","v":""},{"$f":"_xlfn.IFNA(IF(VLOOKUP(B667,_!$A$7:$E$210,2,FALSE)=0, \"\", VLOOKUP(B667,_!$A$7:$E$210,2,FALSE)),  \"\")","v":""},{"$f":"_xlfn.IFNA(IF(VLOOKUP(B667,_!$A$7:$E$210,3,FALSE)=0, \"\", VLOOKUP(B667,_!$A$7:$E$210,3,FALSE)), \"\")","v":""},{"$f":"_xlfn.IFNA(IF(VLOOKUP(B667,_!$A$7:$E$210,4,FALSE)=0, \"\",VLOOKUP(B667,_!$A$7:$E$210,4,FALSE)), \"\")","v":""},{"$f":"_xlfn.IFNA(IF(VLOOKUP(B667,_!$A$7:$E$210,5,FALSE)=0,\"\",VLOOKUP(B667,_!$A$7:$E$210,5,FALSE)), \"\")","v":""}]
[2,null,{"$f":"_xlfn.IFNA(VLOOKUP(B668,_!$A$7:$F$210,6,FALSE),\"\")","v":""},{"$f":"IF(IF(MOD(ROWS(D$3:D668),20)=1,INDEX('Summary Sheet'!$B$17:$B744,INT(ROWS(D$3:D668)/20)+1),\"\")=0,\"\",IF(MOD(ROWS(D$3:D668),20)=1,INDEX('Summary Sheet'!$B$17:$B744,INT(ROWS(D$3:D668)/20)+1),\"\"))","v":""},{"$f":"_xlfn.IFNA(IF(VLOOKUP(B668,_!$A$7:$E$210,2,FALSE)=0, \"\", VLOOKUP(B668,_!$A$7:$E$210,2,FALSE)),  \"\")","v":""},{"$f":"_xlfn.IFNA(IF(VLOOKUP(B668,_!$A$7:$E$210,3,FALSE)=0, \"\", VLOOKUP(B668,_!$A$7:$E$210,3,FALSE)), \"\")","v":""},{"$f":"_xlfn.IFNA(IF(VLOOKUP(B668,_!$A$7:$E$210,4,FALSE)=0, \"\",VLOOKUP(B668,_!$A$7:$E$210,4,FALSE)), \"\")","v":""},{"$f":"_xlfn.IFNA(IF(VLOOKUP(B668,_!$A$7:$E$210,5,FALSE)=0,\"\",VLOOKUP(B668,_!$A$7:$E$210,5,FALSE)), \"\")","v":""}]
[3,null,{"$f":"_xlfn.IFNA(VLOOKUP(B669,_!$A$7:$F$210,6,FALSE),\"\")","v":""},{"$f":"IF(IF(MOD(ROWS(D$3:D669),20)=1,INDEX('Summary Sheet'!$B$17:$B744,INT(ROWS(D$3:D669)/20)+1),\"\")=0,\"\",IF(MOD(ROWS(D$3:D669),20)=1,INDEX('Summary Sheet'!$B$17:$B744,INT(ROWS(D$3:D669)/20)+1),\"\"))","v":""},{"$f":"_xlfn.IFNA(IF(VLOOKUP(B669,_!$A$7:$E$210,2,FALSE)=0, \"\", VLOOKUP(B669,_!$A$7:$E$210,2,FALSE)),  \"\")","v":""},{"$f":"_xlfn.IFNA(IF(VLOOKUP(B669,_!$A$7:$E$210,3,FALSE)=0, \"\", VLOOKUP(B669,_!$A$7:$E$210,3,FALSE)), \"\")","v":""},{"$f":"_xlfn.IFNA(IF(VLOOKUP(B669,_!$A$7:$E$210,4,FALSE)=0, \"\",VLOOKUP(B669,_!$A$7:$E$210,4,FALSE)), \"\")","v":""},{"$f":"_xlfn.IFNA(IF(VLOOKUP(B669,_!$A$7:$E$210,5,FALSE)=0,\"\",VLOOKUP(B669,_!$A$7:$E$210,5,FALSE)), \"\")","v":""}]
[4,null,{"$f":"_xlfn.IFNA(VLOOKUP(B670,_!$A$7:$F$210,6,FALSE),\"\")","v":""},{"$f":"IF(IF(MOD(ROWS(D$3:D670),20)=1,INDEX('Summary Sheet'!$B$17:$B744,INT(ROWS(D$3:D670)/20)+1),\"\")=0,\"\",IF(MOD(ROWS(D$3:D670),20)=1,INDEX('Summary Sheet'!$B$17:$B744,INT(ROWS(D$3:D670)/20)+1),\"\"))","v":""},{"$f":"_xlfn.IFNA(IF(VLOOKUP(B670,_!$A$7:$E$210,2,FALSE)=0, \"\", VLOOKUP(B670,_!$A$7:$E$210,2,FALSE)),  \"\")","v":""},{"$f":"_xlfn.IFNA(IF(VLOOKUP(B670,_!$A$7:$E$210,3,FALSE)=0, \"\", VLOOKUP(B670,_!$A$7:$E$210,3,FALSE)), \"\")","v":""},{"$f":"_xlfn.IFNA(IF(VLOOKUP(B670,_!$A$7:$E$210,4,FALSE)=0, \"\",VLOOKUP(B670,_!$A$7:$E$210,4,FALSE)), \"\")","v":""},{"$f":"_xlfn.IFNA(IF(VLOOKUP(B670,_!$A$7:$E$210,5,FALSE)=0,\"\",VLOOKUP(B670,_!$A$7:$E$210,5,FALSE)), \"\")","v":""}]
[5,null,{"$f":"_xlfn.IFNA(VLOOKUP(B671,_!$A$7:$F$210,6,FALSE),\"\")","v":""},{"$f":"IF(IF(MOD(ROWS(D$3:D671),20)=1,INDEX('Summary Sheet'!$B$17:$B744,INT(ROWS(D$3:D671)/20)+1),\"\")=0,\"\",IF(MOD(ROWS(D$3:D671),20)=1,INDEX('Summary Sheet'!$B$17:$B744,INT(ROWS(D$3:D671)/20)+1),\"\"))","v":""},{"$f":"_xlfn.IFNA(IF(VLOOKUP(B671,_!$A$7:$E$210,2,FALSE)=0, \"\", VLOOKUP(B671,_!$A$7:$E$210,2,FALSE)),  \"\")","v":""},{"$f":"_xlfn.IFNA(IF(VLOOKUP(B671,_!$A$7:$E$210,3,FALSE)=0, \"\", VLOOKUP(B671,_!$A$7:$E$210,3,FALSE)), \"\")","v":""},{"$f":"_xlfn.IFNA(IF(VLOOKUP(B671,_!$A$7:$E$210,4,FALSE)=0, \"\",VLOOKUP(B671,_!$A$7:$E$210,4,FALSE)), \"\")","v":""},{"$f":"_xlfn.IFNA(IF(VLOOKUP(B671,_!$A$7:$E$210,5,FALSE)=0,\"\",VLOOKUP(B671,_!$A$7:$E$210,5,FALSE)), \"\")","v":""}]
[6,null,{"$f":"_xlfn.IFNA(VLOOKUP(B672,_!$A$7:$F$210,6,FALSE),\"\")","v":""},{"$f":"IF(IF(MOD(ROWS(D$3:D672),20)=1,INDEX('Summary Sheet'!$B$17:$B744,INT(ROWS(D$3:D672)/20)+1),\"\")=0,\"\",IF(MOD(ROWS(D$3:D672),20)=1,INDEX('Summary Sheet'!$B$17:$B744,INT(ROWS(D$3:D672)/20)+1),\"\"))","v":""},{"$f":"_xlfn.IFNA(IF(VLOOKUP(B672,_!$A$7:$E$210,2,FALSE)=0, \"\", VLOOKUP(B672,_!$A$7:$E$210,2,FALSE)),  \"\")","v":""},{"$f":"_xlfn.IFNA(IF(VLOOKUP(B672,_!$A$7:$E$210,3,FALSE)=0, \"\", VLOOKUP(B672,_!$A$7:$E$210,3,FALSE)), \"\")","v":""},{"$f":"_xlfn.IFNA(IF(VLOOKUP(B672,_!$A$7:$E$210,4,FALSE)=0, \"\",VLOOKUP(B672,_!$A$7:$E$210,4,FALSE)), \"\")","v":""},{"$f":"_xlfn.IFNA(IF(VLOOKUP(B672,_!$A$7:$E$210,5,FALSE)=0,\"\",VLOOKUP(B672,_!$A$7:$E$210,5,FALSE)), \"\")","v":""}]
[7,null,{"$f":"_xlfn.IFNA(VLOOKUP(B673,_!$A$7:$F$210,6,FALSE),\"\")","v":""},{"$f":"IF(IF(MOD(ROWS(D$3:D673),20)=1,INDEX('Summary Sheet'!$B$17:$B744,INT(ROWS(D$3:D673)/20)+1),\"\")=0,\"\",IF(MOD(ROWS(D$3:D673),20)=1,INDEX('Summary Sheet'!$B$17:$B744,INT(ROWS(D$3:D673)/20)+1),\"\"))","v":""},{"$f":"_xlfn.IFNA(IF(VLOOKUP(B673,_!$A$7:$E$210,2,FALSE)=0, \"\", VLOOKUP(B673,_!$A$7:$E$210,2,FALSE)),  \"\")","v":""},{"$f":"_xlfn.IFNA(IF(VLOOKUP(B673,_!$A$7:$E$210,3,FALSE)=0, \"\", VLOOKUP(B673,_!$A$7:$E$210,3,FALSE)), \"\")","v":""},{"$f":"_xlfn.IFNA(IF(VLOOKUP(B673,_!$A$7:$E$210,4,FALSE)=0, \"\",VLOOKUP(B673,_!$A$7:$E$210,4,FALSE)), \"\")","v":""},{"$f":"_xlfn.IFNA(IF(VLOOKUP(B673,_!$A$7:$E$210,5,FALSE)=0,\"\",VLOOKUP(B673,_!$A$7:$E$210,5,FALSE)), \"\")","v":""}]
[8,null,{"$f":"_xlfn.IFNA(VLOOKUP(B674,_!$A$7:$F$210,6,FALSE),\"\")","v":""},{"$f":"IF(IF(MOD(ROWS(D$3:D674),20)=1,INDEX('Summary Sheet'!$B$17:$B744,INT(ROWS(D$3:D674)/20)+1),\"\")=0,\"\",IF(MOD(ROWS(D$3:D674),20)=1,INDEX('Summary Sheet'!$B$17:$B744,INT(ROWS(D$3:D674)/20)+1),\"\"))","v":""},{"$f":"_xlfn.IFNA(IF(VLOOKUP(B674,_!$A$7:$E$210,2,FALSE)=0, \"\", VLOOKUP(B674,_!$A$7:$E$210,2,FALSE)),  \"\")","v":""},{"$f":"_xlfn.IFNA(IF(VLOOKUP(B674,_!$A$7:$E$210,3,FALSE)=0, \"\", VLOOKUP(B674,_!$A$7:$E$210,3,FALSE)), \"\")","v":""},{"$f":"_xlfn.IFNA(IF(VLOOKUP(B674,_!$A$7:$E$210,4,FALSE)=0, \"\",VLOOKUP(B674,_!$A$7:$E$210,4,FALSE)), \"\")","v":""},{"$f":"_xlfn.IFNA(IF(VLOOKUP(B674,_!$A$7:$E$210,5,FALSE)=0,\"\",VLOOKUP(B674,_!$A$7:$E$210,5,FALSE)), \"\")","v":""}]
[9,null,{"$f":"_xlfn.IFNA(VLOOKUP(B675,_!$A$7:$F$210,6,FALSE),\"\")","v":""},{"$f":"IF(IF(MOD(ROWS(D$3:D675),20)=1,INDEX('Summary Sheet'!$B$17:$B744,INT(ROWS(D$3:D675)/20)+1),\"\")=0,\"\",IF(MOD(ROWS(D$3:D675),20)=1,INDEX('Summary Sheet'!$B$17:$B744,INT(ROWS(D$3:D675)/20)+1),\"\"))","v":""},{"$f":"_xlfn.IFNA(IF(VLOOKUP(B675,_!$A$7:$E$210,2,FALSE)=0, \"\", VLOOKUP(B675,_!$A$7:$E$210,2,FALSE)),  \"\")","v":""},{"$f":"_xlfn.IFNA(IF(VLOOKUP(B675,_!$A$7:$E$210,3,FALSE)=0, \"\", VLOOKUP(B675,_!$A$7:$E$210,3,FALSE)), \"\")","v":""},{"$f":"_xlfn.IFNA(IF(VLOOKUP(B675,_!$A$7:$E$210,4,FALSE)=0, \"\",VLOOKUP(B675,_!$A$7:$E$210,4,FALSE)), \"\")","v":""},{"$f":"_xlfn.IFNA(IF(VLOOKUP(B675,_!$A$7:$E$210,5,FALSE)=0,\"\",VLOOKUP(B675,_!$A$7:$E$210,5,FALSE)), \"\")","v":""}]
[10,null,{"$f":"_xlfn.IFNA(VLOOKUP(B676,_!$A$7:$F$210,6,FALSE),\"\")","v":""},{"$f":"IF(IF(MOD(ROWS(D$14:D676),20)=1,INDEX('Summary Sheet'!$B$17:$B744,INT(ROWS(D$14:D676)/20)+1),\"\")=0,\"\",IF(MOD(ROWS(D$14:D676),20)=1,INDEX('Summary Sheet'!$B$17:$B744,INT(ROWS(D$14:D676)/20)+1),\"\"))","v":""},{"$f":"_xlfn.IFNA(IF(VLOOKUP(B676,_!$A$7:$E$210,2,FALSE)=0, \"\", VLOOKUP(B676,_!$A$7:$E$210,2,FALSE)),  \"\")","v":""},{"$f":"_xlfn.IFNA(IF(VLOOKUP(B676,_!$A$7:$E$210,3,FALSE)=0, \"\", VLOOKUP(B676,_!$A$7:$E$210,3,FALSE)), \"\")","v":""},{"$f":"_xlfn.IFNA(IF(VLOOKUP(B676,_!$A$7:$E$210,4,FALSE)=0, \"\",VLOOKUP(B676,_!$A$7:$E$210,4,FALSE)), \"\")","v":""},{"$f":"_xlfn.IFNA(IF(VLOOKUP(B676,_!$A$7:$E$210,5,FALSE)=0,\"\",VLOOKUP(B676,_!$A$7:$E$210,5,FALSE)), \"\")","v":""}]
[null,"\nHighest hazard level for each ‘Uptake Route’\n",null,null,{"$f":"_xlfn.IFNA(IF((INDEX(E667:E676,MATCH(\"E\",E667:E676,0)))=\"E\",\"E\",\"\"),_xlfn.IFNA(IF((INDEX(E667:E676,MATCH(\"D\",E667:E676,0)))=\"D\",\"D\",\"\"),_xlfn.IFNA(IF((INDEX(E667:E676,MATCH(\"Ca\",E667:E676,0)))=\"Ca\",\"C\",\"\"),_xlfn.IFNA(IF((INDEX(E667:E676,MATCH(\"C\",E667:E676,0)))=\"C\",\"C\",\"\"),_xlfn.IFNA(IF((INDEX(E667:E676,MATCH(\"B\",E667:E676,0)))=\"B\",\"B\",\"\"),_xlfn.IFNA(IF((INDEX(E667:E676,MATCH(\"A\",E667:E676,0)))=\"A\",\"A\",\"\"),_xlfn.IFNA(IF((INDEX(E667:E676,MATCH(\"n.a.\",E667:E676,0)))=\"n.a.\",\"\",\"\"),_xlfn.IFNA(IF((INDEX(E667:E676,MATCH(\"\",E667:E676,0)))=\"\",\"\",\"\"),\"\"))))))))","v":""},{"$f":"_xlfn.IFNA(IF((INDEX(F667:F676,MATCH(\"E\",F667:F676,0)))=\"E\",\"E\",\"\"),_xlfn.IFNA(IF((INDEX(F667:F676,MATCH(\"D (E)c\",F667:F676,0)))=\"D (E)c\",\"D (E)c\",\"\"),_xlfn.IFNA(IF((INDEX(F667:F676,MATCH(\"Da (E)c\",F667:F676,0)))=\"Da (E)c\",\"D (E)c\",\"\"),_xlfn.IFNA(IF((INDEX(F667:F676,MATCH(\"D\",F667:F676,0)))=\"D\",\"D\",\"\"),_xlfn.IFNA(IF((INDEX(F667:F676,MATCH(\"Ca\",F667:F676,0)))=\"Ca\",\"C\",\"\"),_xlfn.IFNA(IF((INDEX(F667:F676,MATCH(\"C\",F667:F676,0)))=\"C\",\"C\",\"\"),_xlfn.IFNA(IF((INDEX(F667:F676,MATCH(\"Ba\",F667:F676,0)))=\"Ba\",\"B\",\"\"),_xlfn.IFNA(IF((INDEX(F667:F676,MATCH(\"B\",F667:F676,0)))=\"B\",\"B\",\"\"),_xlfn.IFNA(IF((INDEX(F667:F676,MATCH(\"Aa\",F667:F676,0)))=\"Aa\",\"A\",\"\"),_xlfn.IFNA(IF((INDEX(F667:F676,MATCH(\"A\",F667:F676,0)))=\"A\",\"A\",\"\"),_xlfn.IFNA(IF((INDEX(F667:F676,MATCH(\"n.a.\",F667:F676,0)))=\"n.a.\",\"\",\"\"),_xlfn.IFNA(IF((INDEX(F667:F676,MATCH(\"\",F667:F676,0)))=\"\",\"\",\"\"),\"\"))))))))))))","v":""},{"$f":"_xlfn.IFNA(IF((INDEX(G667:G676,MATCH(\"E\",G667:G676,0)))=\"E\",\"E\",\"\"),_xlfn.IFNA(IF((INDEX(G667:G676,MATCH(\"D\",G667:G676,0)))=\"D\",\"D\",\"\"),_xlfn.IFNA(IF((INDEX(G667:G676,MATCH(\"Ca\",G667:G676,0)))=\"Ca\",\"C\",\"\"),_xlfn.IFNA(IF((INDEX(G667:G676,MATCH(\"C\",G667:G676,0)))=\"C\",\"C\",\"\"),_xlfn.IFNA(IF((INDEX(G667:G676,MATCH(\"B\",G667:G676,0)))=\"B\",\"B\",\"\"),_xlfn.IFNA(IF((INDEX(G667:G676,MATCH(\"A\",G667:G676,0)))=\"A\",\"A\",\"\"),_xlfn.IFNA(IF((INDEX(G667:G676,MATCH(\"n.a.\",G667:G676,0)))=\"n.a.\",\"\",\"\"),_xlfn.IFNA(IF((INDEX(G667:G676,MATCH(\"\",G667:G676,0)))=\"\",\"\",\"\"),\"\"))))))))","v":""},{"$f":"_xlfn.IFNA(IF((INDEX(H667:H676,MATCH(\"E\",H667:H676,0)))=\"E\",\"E\",\"\"),_xlfn.IFNA(IF((INDEX(H667:H676,MATCH(\"D (E)c\",H667:H676,0)))=\"D (E)c\",\"D (E)c\",\"\"),_xlfn.IFNA(IF((INDEX(H667:H676,MATCH(\"Db (E)c\",H667:H676,0)))=\"Db (E)c\",\"D (E)c\",\"\"),_xlfn.IFNA(IF((INDEX(H667:H676,MATCH(\"D\",H667:H676,0)))=\"D\",\"D\",\"\"),_xlfn.IFNA(IF((INDEX(H667:H676,MATCH(\"Cb\",H667:H676,0)))=\"Cb\",\"C\",\"\"),_xlfn.IFNA(IF((INDEX(H667:H676,MATCH(\"C\",H667:H676,0)))=\"C\",\"C\",\"\"),_xlfn.IFNA(IF((INDEX(H667:H676,MATCH(\"Bb\",H667:H676,0)))=\"Bb\",\"B\",\"\"),_xlfn.IFNA(IF((INDEX(H667:H676,MATCH(\"B\",H667:H676,0)))=\"B\",\"B\",\"\"),_xlfn.IFNA(IF((INDEX(H667:H676,MATCH(\"Ab\",H667:H676,0)))=\"Ab\",\"A\",\"\"),_xlfn.IFNA(IF((INDEX(H667:H676,MATCH(\"A\",H667:H676,0)))=\"A\",\"A\",\"\"),_xlfn.IFNA(IF((INDEX(H667:H676,MATCH(\"n.a.\",H667:H676,0)))=\"n.a.\",\"\",\"\"),_xlfn.IFNA(IF((INDEX(H667:H676,MATCH(\"\",H667:H676,0)))=\"\",\"\",\"\"),\"\"))))))))))))","v":""}]
[null,"\nHighest hazard level for all 'Uptake Routes' \n",null,null,{"$f":"_xlfn.IFNA(IF((INDEX(E677:H677,MATCH(\"E\",E677:H677,0)))=\"E\",\"E\",\"\"),_xlfn.IFNA(IF((INDEX(E677:H677,MATCH(\"D (E)c\",E677:H677,0)))=\"D (E)c\",\"D (E)\",\"\"),_xlfn.IFNA(IF((INDEX(E677:H677,MATCH(\"D\",E677:H677,0)))=\"D\",\"D\",\"\"),_xlfn.IFNA(IF((INDEX(E677:H677,MATCH(\"C\",E677:H677,0)))=\"C\",\"C\",\"\"),_xlfn.IFNA(IF((INDEX(E677:H677,MATCH(\"B\",E677:H677,0)))=\"B\",\"B\",\"\"),_xlfn.IFNA(IF((INDEX(E677:H677,MATCH(\"A\",E677:H677,0)))=\"A\",\"A\",\"\"),_xlfn.IFNA(IF((INDEX(E677:H677,MATCH(\"n.a.\",E677:H677,0)))=\"n.a.\",\"\",\"\"),_xlfn.IFNA(IF((INDEX(E677:H677,MATCH(\"\",E677:H677,0)))=\"\",\"\",\"\"),\"\"))))))))","v":""}]
[]
[]
[null,"\nStep 3: D(E) Assessment\nSkip this step if \nyour assessment above does not reveal a D(E) hazard level.\nHover over this cell for additional instructions.\n",null,null,"\nOverall hazard level\n",null,{"$f":"IF(AND(E678=\"\",C664=\"Yes\")=TRUE,\"B\",IF(E678=\"\",\"\",(IF(AND(E678=\"D (E)\",C681=\"\"),\"D (E)\"&CHAR(10)&\"Find if cat. 1 acute tox.\",(IF(E678<>\"D (E)\",E678,(IF(AND(E678=\"D (E)\",C681=\"Yes\"),\"E\",(IF(AND(E678=\"D (E)\",C681=\"No\"),\"D\",\"\"))))))))))","v":""}]
[]
[{"$f":"IF(IF(MOD(ROWS(B$3:B683),20)=1,INDEX('Summary Sheet'!$A$17:$A763,INT(ROWS(B$3:B683)/20)+1),\"\")=0,\"\",IF(MOD(ROWS(B$3:B683),20)=1,INDEX('Summary Sheet'!$A$17:$A763,INT(ROWS(B$3:B683)/20)+1),\"\"))","v":35},"Hazard Level Assessment","for",{"$f":"IF(IF(MOD(ROWS(D$3:D683),20)=1,INDEX('Summary Sheet'!$B$17:$B763,INT(ROWS(D$3:D683)/20)+1),\"\")=0,\"\",IF(MOD(ROWS(D$3:D683),20)=1,INDEX('Summary Sheet'!$B$17:$B763,INT(ROWS(D$3:D683)/20)+1),\"\"))","v":""}]
[null,"\nStep 1: Physical & Environmental Hazard Statements/Codes\nFind Section 2 of the SDS and determine if the SDS has physical and/or environmental hazard statements/codes. Hover on this cell for additional instructions.\n",null,{"$f":"IF(IF(MOD(ROWS(D$3:D684),20)=1,INDEX('Summary Sheet'!$B$17:$B763,INT(ROWS(D$3:D684)/20)+1),\"\")=0,\"\",IF(MOD(ROWS(D$3:D684),20)=1,INDEX('Summary Sheet'!$B$17:$B763,INT(ROWS(D$3:D684)/20)+1),\"\"))","v":""}]
[null,"Step 2: Health Hazard Statements/Codes\nProvide the Health Hazard Statements or Codes from Section 2 of the SDS below. Hover on this cell for additional instructions.",null,{"$f":"IF(IF(MOD(ROWS(D$3:D685),20)=1,INDEX('Summary Sheet'!$B$17:$B763,INT(ROWS(D$3:D685)/20)+1),\"\")=0,\"\",IF(MOD(ROWS(D$3:D685),20)=1,INDEX('Summary Sheet'!$B$17:$B763,INT(ROWS(D$3:D685)/20)+1),\"\"))","v":""},"\nHazard Level\n"]
[null,null,null,{"$f":"IF(IF(MOD(ROWS(D$3:D686),20)=1,INDEX('Summary Sheet'!$B$17:$B763,INT(ROWS(D$3:D686)/20)+1),\"\")=0,\"\",IF(MOD(ROWS(D$3:D686),20)=1,INDEX('Summary Sheet'!$B$17:$B763,INT(ROWS(D$3:D686)/20)+1),\"\"))","v":""},"\nEye Damage\n","\nInhalation\n","\nLocal Skin Damage\n","\nSkin uptake, systemic\n"]
[1,null,{"$f":"_xlfn.IFNA(VLOOKUP(B687,_!$A$7:$F$210,6,FALSE),\"\")","v":""},{"$f":"IF(IF(MOD(ROWS(D$3:D687),20)=1,INDEX('Summary Sheet'!$B$17:$B763,INT(ROWS(D$3:D687)/20)+1),\"\")=0,\"\",IF(MOD(ROWS(D$3:D687),20)=1,INDEX('Summary Sheet'!$B$17:$B763,INT(ROWS(D$3:D687)/20)+1),\"\"))","v":""},{"$f":"_xlfn.IFNA(IF(VLOOKUP(B687,_!$A$7:$E$210,2,FALSE)=0, \"\", VLOOKUP(B687,_!$A$7:$E$210,2,FALSE)),  \"\")","v":""},{"$f":"_xlfn.IFNA(IF(VLOOKUP(B687,_!$A$7:$E$210,3,FALSE)=0, \"\", VLOOKUP(B687,_!$A$7:$E$210,3,FALSE)), \"\")","v":""},{"$f":"_xlfn.IFNA(IF(VLOOKUP(B687,_!$A$7:$E$210,4,FALSE)=0, \"\",VLOOKUP(B687,_!$A$7:$E$210,4,FALSE)), \"\")","v":""},{"$f":"_xlfn.IFNA(IF(VLOOKUP(B687,_!$A$7:$E$210,5,FALSE)=0,\"\",VLOOKUP(B687,_!$A$7:$E$210,5,FALSE)), \"\")","v":""}]
[2,null,{"$f":"_xlfn.IFNA(VLOOKUP(B688,_!$A$7:$F$210,6,FALSE),\"\")","v":""},{"$f":"IF(IF(MOD(ROWS(D$3:D688),20)=1,INDEX('Summary Sheet'!$B$17:$B763,INT(ROWS(D$3:D688)/20)+1),\"\")=0,\"\",IF(MOD(ROWS(D$3:D688),20)=1,INDEX('Summary Sheet'!$B$17:$B763,INT(ROWS(D$3:D688)/20)+1),\"\"))","v":""},{"$f":"_xlfn.IFNA(IF(VLOOKUP(B688,_!$A$7:$E$210,2,FALSE)=0, \"\", VLOOKUP(B688,_!$A$7:$E$210,2,FALSE)),  \"\")","v":""},{"$f":"_xlfn.IFNA(IF(VLOOKUP(B688,_!$A$7:$E$210,3,FALSE)=0, \"\", VLOOKUP(B688,_!$A$7:$E$210,3,FALSE)), \"\")","v":""},{"$f":"_xlfn.IFNA(IF(VLOOKUP(B688,_!$A$7:$E$210,4,FALSE)=0, \"\",VLOOKUP(B688,_!$A$7:$E$210,4,FALSE)), \"\")","v":""},{"$f":"_xlfn.IFNA(IF(VLOOKUP(B688,_!$A$7:$E$210,5,FALSE)=0,\"\",VLOOKUP(B688,_!$A$7:$E$210,5,FALSE)), \"\")","v":""}]
[3,null,{"$f":"_xlfn.IFNA(VLOOKUP(B689,_!$A$7:$F$210,6,FALSE),\"\")","v":""},{"$f":"IF(IF(MOD(ROWS(D$3:D689),20)=1,INDEX('Summary Sheet'!$B$17:$B763,INT(ROWS(D$3:D689)/20)+1),\"\")=0,\"\",IF(MOD(ROWS(D$3:D689),20)=1,INDEX('Summary Sheet'!$B$17:$B763,INT(ROWS(D$3:D689)/20)+1),\"\"))","v":""},{"$f":"_xlfn.IFNA(IF(VLOOKUP(B689,_!$A$7:$E$210,2,FALSE)=0, \"\", VLOOKUP(B689,_!$A$7:$E$210,2,FALSE)),  \"\")","v":""},{"$f":"_xlfn.IFNA(IF(VLOOKUP(B689,_!$A$7:$E$210,3,FALSE)=0, \"\", VLOOKUP(B689,_!$A$7:$E$210,3,FALSE)), \"\")","v":""},{"$f":"_xlfn.IFNA(IF(VLOOKUP(B689,_!$A$7:$E$210,4,FALSE)=0, \"\",VLOOKUP(B689,_!$A$7:$E$210,4,FALSE)), \"\")","v":""},{"$f":"_xlfn.IFNA(IF(VLOOKUP(B689,_!$A$7:$E$210,5,FALSE)=0,\"\",VLOOKUP(B689,_!$A$7:$E$210,5,FALSE)), \"\")","v":""}]
[4,null,{"$f":"_xlfn.IFNA(VLOOKUP(B690,_!$A$7:$F$210,6,FALSE),\"\")","v":""},{"$f":"IF(IF(MOD(ROWS(D$3:D690),20)=1,INDEX('Summary Sheet'!$B$17:$B763,INT(ROWS(D$3:D690)/20)+1),\"\")=0,\"\",IF(MOD(ROWS(D$3:D690),20)=1,INDEX('Summary Sheet'!$B$17:$B763,INT(ROWS(D$3:D690)/20)+1),\"\"))","v":""},{"$f":"_xlfn.IFNA(IF(VLOOKUP(B690,_!$A$7:$E$210,2,FALSE)=0, \"\", VLOOKUP(B690,_!$A$7:$E$210,2,FALSE)),  \"\")","v":""},{"$f":"_xlfn.IFNA(IF(VLOOKUP(B690,_!$A$7:$E$210,3,FALSE)=0, \"\", VLOOKUP(B690,_!$A$7:$E$210,3,FALSE)), \"\")","v":""},{"$f":"_xlfn.IFNA(IF(VLOOKUP(B690,_!$A$7:$E$210,4,FALSE)=0, \"\",VLOOKUP(B690,_!$A$7:$E$210,4,FALSE)), \"\")","v":""},{"$f":"_xlfn.IFNA(IF(VLOOKUP(B690,_!$A$7:$E$210,5,FALSE)=0,\"\",VLOOKUP(B690,_!$A$7:$E$210,5,FALSE)), \"\")","v":""}]
[5,null,{"$f":"_xlfn.IFNA(VLOOKUP(B691,_!$A$7:$F$210,6,FALSE),\"\")","v":""},{"$f":"IF(IF(MOD(ROWS(D$3:D691),20)=1,INDEX('Summary Sheet'!$B$17:$B763,INT(ROWS(D$3:D691)/20)+1),\"\")=0,\"\",IF(MOD(ROWS(D$3:D691),20)=1,INDEX('Summary Sheet'!$B$17:$B763,INT(ROWS(D$3:D691)/20)+1),\"\"))","v":""},{"$f":"_xlfn.IFNA(IF(VLOOKUP(B691,_!$A$7:$E$210,2,FALSE)=0, \"\", VLOOKUP(B691,_!$A$7:$E$210,2,FALSE)),  \"\")","v":""},{"$f":"_xlfn.IFNA(IF(VLOOKUP(B691,_!$A$7:$E$210,3,FALSE)=0, \"\", VLOOKUP(B691,_!$A$7:$E$210,3,FALSE)), \"\")","v":""},{"$f":"_xlfn.IFNA(IF(VLOOKUP(B691,_!$A$7:$E$210,4,FALSE)=0, \"\",VLOOKUP(B691,_!$A$7:$E$210,4,FALSE)), \"\")","v":""},{"$f":"_xlfn.IFNA(IF(VLOOKUP(B691,_!$A$7:$E$210,5,FALSE)=0,\"\",VLOOKUP(B691,_!$A$7:$E$210,5,FALSE)), \"\")","v":""}]
[6,null,{"$f":"_xlfn.IFNA(VLOOKUP(B692,_!$A$7:$F$210,6,FALSE),\"\")","v":""},{"$f":"IF(IF(MOD(ROWS(D$3:D692),20)=1,INDEX('Summary Sheet'!$B$17:$B763,INT(ROWS(D$3:D692)/20)+1),\"\")=0,\"\",IF(MOD(ROWS(D$3:D692),20)=1,INDEX('Summary Sheet'!$B$17:$B763,INT(ROWS(D$3:D692)/20)+1),\"\"))","v":""},{"$f":"_xlfn.IFNA(IF(VLOOKUP(B692,_!$A$7:$E$210,2,FALSE)=0, \"\", VLOOKUP(B692,_!$A$7:$E$210,2,FALSE)),  \"\")","v":""},{"$f":"_xlfn.IFNA(IF(VLOOKUP(B692,_!$A$7:$E$210,3,FALSE)=0, \"\", VLOOKUP(B692,_!$A$7:$E$210,3,FALSE)), \"\")","v":""},{"$f":"_xlfn.IFNA(IF(VLOOKUP(B692,_!$A$7:$E$210,4,FALSE)=0, \"\",VLOOKUP(B692,_!$A$7:$E$210,4,FALSE)), \"\")","v":""},{"$f":"_xlfn.IFNA(IF(VLOOKUP(B692,_!$A$7:$E$210,5,FALSE)=0,\"\",VLOOKUP(B692,_!$A$7:$E$210,5,FALSE)), \"\")","v":""}]
[7,null,{"$f":"_xlfn.IFNA(VLOOKUP(B693,_!$A$7:$F$210,6,FALSE),\"\")","v":""},{"$f":"IF(IF(MOD(ROWS(D$3:D693),20)=1,INDEX('Summary Sheet'!$B$17:$B763,INT(ROWS(D$3:D693)/20)+1),\"\")=0,\"\",IF(MOD(ROWS(D$3:D693),20)=1,INDEX('Summary Sheet'!$B$17:$B763,INT(ROWS(D$3:D693)/20)+1),\"\"))","v":""},{"$f":"_xlfn.IFNA(IF(VLOOKUP(B693,_!$A$7:$E$210,2,FALSE)=0, \"\", VLOOKUP(B693,_!$A$7:$E$210,2,FALSE)),  \"\")","v":""},{"$f":"_xlfn.IFNA(IF(VLOOKUP(B693,_!$A$7:$E$210,3,FALSE)=0, \"\", VLOOKUP(B693,_!$A$7:$E$210,3,FALSE)), \"\")","v":""},{"$f":"_xlfn.IFNA(IF(VLOOKUP(B693,_!$A$7:$E$210,4,FALSE)=0, \"\",VLOOKUP(B693,_!$A$7:$E$210,4,FALSE)), \"\")","v":""},{"$f":"_xlfn.IFNA(IF(VLOOKUP(B693,_!$A$7:$E$210,5,FALSE)=0,\"\",VLOOKUP(B693,_!$A$7:$E$210,5,FALSE)), \"\")","v":""}]
[8,null,{"$f":"_xlfn.IFNA(VLOOKUP(B694,_!$A$7:$F$210,6,FALSE),\"\")","v":""},{"$f":"IF(IF(MOD(ROWS(D$3:D694),20)=1,INDEX('Summary Sheet'!$B$17:$B763,INT(ROWS(D$3:D694)/20)+1),\"\")=0,\"\",IF(MOD(ROWS(D$3:D694),20)=1,INDEX('Summary Sheet'!$B$17:$B763,INT(ROWS(D$3:D694)/20)+1),\"\"))","v":""},{"$f":"_xlfn.IFNA(IF(VLOOKUP(B694,_!$A$7:$E$210,2,FALSE)=0, \"\", VLOOKUP(B694,_!$A$7:$E$210,2,FALSE)),  \"\")","v":""},{"$f":"_xlfn.IFNA(IF(VLOOKUP(B694,_!$A$7:$E$210,3,FALSE)=0, \"\", VLOOKUP(B694,_!$A$7:$E$210,3,FALSE)), \"\")","v":""},{"$f":"_xlfn.IFNA(IF(VLOOKUP(B694,_!$A$7:$E$210,4,FALSE)=0, \"\",VLOOKUP(B694,_!$A$7:$E$210,4,FALSE)), \"\")","v":""},{"$f":"_xlfn.IFNA(IF(VLOOKUP(B694,_!$A$7:$E$210,5,FALSE)=0,\"\",VLOOKUP(B694,_!$A$7:$E$210,5,FALSE)), \"\")","v":""}]
[9,null,{"$f":"_xlfn.IFNA(VLOOKUP(B695,_!$A$7:$F$210,6,FALSE),\"\")","v":""},{"$f":"IF(IF(MOD(ROWS(D$3:D695),20)=1,INDEX('Summary Sheet'!$B$17:$B763,INT(ROWS(D$3:D695)/20)+1),\"\")=0,\"\",IF(MOD(ROWS(D$3:D695),20)=1,INDEX('Summary Sheet'!$B$17:$B763,INT(ROWS(D$3:D695)/20)+1),\"\"))","v":""},{"$f":"_xlfn.IFNA(IF(VLOOKUP(B695,_!$A$7:$E$210,2,FALSE)=0, \"\", VLOOKUP(B695,_!$A$7:$E$210,2,FALSE)),  \"\")","v":""},{"$f":"_xlfn.IFNA(IF(VLOOKUP(B695,_!$A$7:$E$210,3,FALSE)=0, \"\", VLOOKUP(B695,_!$A$7:$E$210,3,FALSE)), \"\")","v":""},{"$f":"_xlfn.IFNA(IF(VLOOKUP(B695,_!$A$7:$E$210,4,FALSE)=0, \"\",VLOOKUP(B695,_!$A$7:$E$210,4,FALSE)), \"\")","v":""},{"$f":"_xlfn.IFNA(IF(VLOOKUP(B695,_!$A$7:$E$210,5,FALSE)=0,\"\",VLOOKUP(B695,_!$A$7:$E$210,5,FALSE)), \"\")","v":""}]
[10,null,{"$f":"_xlfn.IFNA(VLOOKUP(B696,_!$A$7:$F$210,6,FALSE),\"\")","v":""},{"$f":"IF(IF(MOD(ROWS(D$14:D696),20)=1,INDEX('Summary Sheet'!$B$17:$B763,INT(ROWS(D$14:D696)/20)+1),\"\")=0,\"\",IF(MOD(ROWS(D$14:D696),20)=1,INDEX('Summary Sheet'!$B$17:$B763,INT(ROWS(D$14:D696)/20)+1),\"\"))","v":""},{"$f":"_xlfn.IFNA(IF(VLOOKUP(B696,_!$A$7:$E$210,2,FALSE)=0, \"\", VLOOKUP(B696,_!$A$7:$E$210,2,FALSE)),  \"\")","v":""},{"$f":"_xlfn.IFNA(IF(VLOOKUP(B696,_!$A$7:$E$210,3,FALSE)=0, \"\", VLOOKUP(B696,_!$A$7:$E$210,3,FALSE)), \"\")","v":""},{"$f":"_xlfn.IFNA(IF(VLOOKUP(B696,_!$A$7:$E$210,4,FALSE)=0, \"\",VLOOKUP(B696,_!$A$7:$E$210,4,FALSE)), \"\")","v":""},{"$f":"_xlfn.IFNA(IF(VLOOKUP(B696,_!$A$7:$E$210,5,FALSE)=0,\"\",VLOOKUP(B696,_!$A$7:$E$210,5,FALSE)), \"\")","v":""}]
[null,"\nHighest hazard level for each ‘Uptake Route’\n",null,null,{"$f":"_xlfn.IFNA(IF((INDEX(E687:E696,MATCH(\"E\",E687:E696,0)))=\"E\",\"E\",\"\"),_xlfn.IFNA(IF((INDEX(E687:E696,MATCH(\"D\",E687:E696,0)))=\"D\",\"D\",\"\"),_xlfn.IFNA(IF((INDEX(E687:E696,MATCH(\"Ca\",E687:E696,0)))=\"Ca\",\"C\",\"\"),_xlfn.IFNA(IF((INDEX(E687:E696,MATCH(\"C\",E687:E696,0)))=\"C\",\"C\",\"\"),_xlfn.IFNA(IF((INDEX(E687:E696,MATCH(\"B\",E687:E696,0)))=\"B\",\"B\",\"\"),_xlfn.IFNA(IF((INDEX(E687:E696,MATCH(\"A\",E687:E696,0)))=\"A\",\"A\",\"\"),_xlfn.IFNA(IF((INDEX(E687:E696,MATCH(\"n.a.\",E687:E696,0)))=\"n.a.\",\"\",\"\"),_xlfn.IFNA(IF((INDEX(E687:E696,MATCH(\"\",E687:E696,0)))=\"\",\"\",\"\"),\"\"))))))))","v":""},{"$f":"_xlfn.IFNA(IF((INDEX(F687:F696,MATCH(\"E\",F687:F696,0)))=\"E\",\"E\",\"\"),_xlfn.IFNA(IF((INDEX(F687:F696,MATCH(\"D (E)c\",F687:F696,0)))=\"D (E)c\",\"D (E)c\",\"\"),_xlfn.IFNA(IF((INDEX(F687:F696,MATCH(\"Da (E)c\",F687:F696,0)))=\"Da (E)c\",\"D (E)c\",\"\"),_xlfn.IFNA(IF((INDEX(F687:F696,MATCH(\"D\",F687:F696,0)))=\"D\",\"D\",\"\"),_xlfn.IFNA(IF((INDEX(F687:F696,MATCH(\"Ca\",F687:F696,0)))=\"Ca\",\"C\",\"\"),_xlfn.IFNA(IF((INDEX(F687:F696,MATCH(\"C\",F687:F696,0)))=\"C\",\"C\",\"\"),_xlfn.IFNA(IF((INDEX(F687:F696,MATCH(\"Ba\",F687:F696,0)))=\"Ba\",\"B\",\"\"),_xlfn.IFNA(IF((INDEX(F687:F696,MATCH(\"B\",F687:F696,0)))=\"B\",\"B\",\"\"),_xlfn.IFNA(IF((INDEX(F687:F696,MATCH(\"Aa\",F687:F696,0)))=\"Aa\",\"A\",\"\"),_xlfn.IFNA(IF((INDEX(F687:F696,MATCH(\"A\",F687:F696,0)))=\"A\",\"A\",\"\"),_xlfn.IFNA(IF((INDEX(F687:F696,MATCH(\"n.a.\",F687:F696,0)))=\"n.a.\",\"\",\"\"),_xlfn.IFNA(IF((INDEX(F687:F696,MATCH(\"\",F687:F696,0)))=\"\",\"\",\"\"),\"\"))))))))))))","v":""},{"$f":"_xlfn.IFNA(IF((INDEX(G687:G696,MATCH(\"E\",G687:G696,0)))=\"E\",\"E\",\"\"),_xlfn.IFNA(IF((INDEX(G687:G696,MATCH(\"D\",G687:G696,0)))=\"D\",\"D\",\"\"),_xlfn.IFNA(IF((INDEX(G687:G696,MATCH(\"Ca\",G687:G696,0)))=\"Ca\",\"C\",\"\"),_xlfn.IFNA(IF((INDEX(G687:G696,MATCH(\"C\",G687:G696,0)))=\"C\",\"C\",\"\"),_xlfn.IFNA(IF((INDEX(G687:G696,MATCH(\"B\",G687:G696,0)))=\"B\",\"B\",\"\"),_xlfn.IFNA(IF((INDEX(G687:G696,MATCH(\"A\",G687:G696,0)))=\"A\",\"A\",\"\"),_xlfn.IFNA(IF((INDEX(G687:G696,MATCH(\"n.a.\",G687:G696,0)))=\"n.a.\",\"\",\"\"),_xlfn.IFNA(IF((INDEX(G687:G696,MATCH(\"\",G687:G696,0)))=\"\",\"\",\"\"),\"\"))))))))","v":""},{"$f":"_xlfn.IFNA(IF((INDEX(H687:H696,MATCH(\"E\",H687:H696,0)))=\"E\",\"E\",\"\"),_xlfn.IFNA(IF((INDEX(H687:H696,MATCH(\"D (E)c\",H687:H696,0)))=\"D (E)c\",\"D (E)c\",\"\"),_xlfn.IFNA(IF((INDEX(H687:H696,MATCH(\"Db (E)c\",H687:H696,0)))=\"Db (E)c\",\"D (E)c\",\"\"),_xlfn.IFNA(IF((INDEX(H687:H696,MATCH(\"D\",H687:H696,0)))=\"D\",\"D\",\"\"),_xlfn.IFNA(IF((INDEX(H687:H696,MATCH(\"Cb\",H687:H696,0)))=\"Cb\",\"C\",\"\"),_xlfn.IFNA(IF((INDEX(H687:H696,MATCH(\"C\",H687:H696,0)))=\"C\",\"C\",\"\"),_xlfn.IFNA(IF((INDEX(H687:H696,MATCH(\"Bb\",H687:H696,0)))=\"Bb\",\"B\",\"\"),_xlfn.IFNA(IF((INDEX(H687:H696,MATCH(\"B\",H687:H696,0)))=\"B\",\"B\",\"\"),_xlfn.IFNA(IF((INDEX(H687:H696,MATCH(\"Ab\",H687:H696,0)))=\"Ab\",\"A\",\"\"),_xlfn.IFNA(IF((INDEX(H687:H696,MATCH(\"A\",H687:H696,0)))=\"A\",\"A\",\"\"),_xlfn.IFNA(IF((INDEX(H687:H696,MATCH(\"n.a.\",H687:H696,0)))=\"n.a.\",\"\",\"\"),_xlfn.IFNA(IF((INDEX(H687:H696,MATCH(\"\",H687:H696,0)))=\"\",\"\",\"\"),\"\"))))))))))))","v":""}]
[null,"\nHighest hazard level for all 'Uptake Routes' \n",null,null,{"$f":"_xlfn.IFNA(IF((INDEX(E697:H697,MATCH(\"E\",E697:H697,0)))=\"E\",\"E\",\"\"),_xlfn.IFNA(IF((INDEX(E697:H697,MATCH(\"D (E)c\",E697:H697,0)))=\"D (E)c\",\"D (E)\",\"\"),_xlfn.IFNA(IF((INDEX(E697:H697,MATCH(\"D\",E697:H697,0)))=\"D\",\"D\",\"\"),_xlfn.IFNA(IF((INDEX(E697:H697,MATCH(\"C\",E697:H697,0)))=\"C\",\"C\",\"\"),_xlfn.IFNA(IF((INDEX(E697:H697,MATCH(\"B\",E697:H697,0)))=\"B\",\"B\",\"\"),_xlfn.IFNA(IF((INDEX(E697:H697,MATCH(\"A\",E697:H697,0)))=\"A\",\"A\",\"\"),_xlfn.IFNA(IF((INDEX(E697:H697,MATCH(\"n.a.\",E697:H697,0)))=\"n.a.\",\"\",\"\"),_xlfn.IFNA(IF((INDEX(E697:H697,MATCH(\"\",E697:H697,0)))=\"\",\"\",\"\"),\"\"))))))))","v":""}]
[]
[]
[null,"\nStep 3: D(E) Assessment\nSkip this step if \nyour assessment above does not reveal a D(E) hazard level.\nHover over this cell for additional instructions.\n",null,null,"\nOverall hazard level\n",null,{"$f":"IF(AND(E698=\"\",C684=\"Yes\")=TRUE,\"B\",IF(E698=\"\",\"\",(IF(AND(E698=\"D (E)\",C701=\"\"),\"D (E)\"&CHAR(10)&\"Find if cat. 1 acute tox.\",(IF(E698<>\"D (E)\",E698,(IF(AND(E698=\"D (E)\",C701=\"Yes\"),\"E\",(IF(AND(E698=\"D (E)\",C701=\"No\"),\"D\",\"\"))))))))))","v":""}]
[]
[{"$f":"IF(IF(MOD(ROWS(B$3:B703),20)=1,INDEX('Summary Sheet'!$A$17:$A782,INT(ROWS(B$3:B703)/20)+1),\"\")=0,\"\",IF(MOD(ROWS(B$3:B703),20)=1,INDEX('Summary Sheet'!$A$17:$A782,INT(ROWS(B$3:B703)/20)+1),\"\"))","v":36},"Hazard Level Assessment","for",{"$f":"IF(IF(MOD(ROWS(D$3:D703),20)=1,INDEX('Summary Sheet'!$B$17:$B782,INT(ROWS(D$3:D703)/20)+1),\"\")=0,\"\",IF(MOD(ROWS(D$3:D703),20)=1,INDEX('Summary Sheet'!$B$17:$B782,INT(ROWS(D$3:D703)/20)+1),\"\"))","v":""}]
[null,"\nStep 1: Physical & Environmental Hazard Statements/Codes\nFind Section 2 of the SDS and determine if the SDS has physical and/or environmental hazard statements/codes. Hover on this cell for additional instructions.\n",null,{"$f":"IF(IF(MOD(ROWS(D$3:D704),20)=1,INDEX('Summary Sheet'!$B$17:$B782,INT(ROWS(D$3:D704)/20)+1),\"\")=0,\"\",IF(MOD(ROWS(D$3:D704),20)=1,INDEX('Summary Sheet'!$B$17:$B782,INT(ROWS(D$3:D704)/20)+1),\"\"))","v":""}]
[null,"Step 2: Health Hazard Statements/Codes\nProvide the Health Hazard Statements or Codes from Section 2 of the SDS below. Hover on this cell for additional instructions.",null,{"$f":"IF(IF(MOD(ROWS(D$3:D705),20)=1,INDEX('Summary Sheet'!$B$17:$B782,INT(ROWS(D$3:D705)/20)+1),\"\")=0,\"\",IF(MOD(ROWS(D$3:D705),20)=1,INDEX('Summary Sheet'!$B$17:$B782,INT(ROWS(D$3:D705)/20)+1),\"\"))","v":""},"\nHazard Level\n"]
[null,null,null,{"$f":"IF(IF(MOD(ROWS(D$3:D706),20)=1,INDEX('Summary Sheet'!$B$17:$B782,INT(ROWS(D$3:D706)/20)+1),\"\")=0,\"\",IF(MOD(ROWS(D$3:D706),20)=1,INDEX('Summary Sheet'!$B$17:$B782,INT(ROWS(D$3:D706)/20)+1),\"\"))","v":""},"\nEye Damage\n","\nInhalation\n","\nLocal Skin Damage\n","\nSkin uptake, systemic\n"]
[1,null,{"$f":"_xlfn.IFNA(VLOOKUP(B707,_!$A$7:$F$210,6,FALSE),\"\")","v":""},{"$f":"IF(IF(MOD(ROWS(D$3:D707),20)=1,INDEX('Summary Sheet'!$B$17:$B782,INT(ROWS(D$3:D707)/20)+1),\"\")=0,\"\",IF(MOD(ROWS(D$3:D707),20)=1,INDEX('Summary Sheet'!$B$17:$B782,INT(ROWS(D$3:D707)/20)+1),\"\"))","v":""},{"$f":"_xlfn.IFNA(IF(VLOOKUP(B707,_!$A$7:$E$210,2,FALSE)=0, \"\", VLOOKUP(B707,_!$A$7:$E$210,2,FALSE)),  \"\")","v":""},{"$f":"_xlfn.IFNA(IF(VLOOKUP(B707,_!$A$7:$E$210,3,FALSE)=0, \"\", VLOOKUP(B707,_!$A$7:$E$210,3,FALSE)), \"\")","v":""},{"$f":"_xlfn.IFNA(IF(VLOOKUP(B707,_!$A$7:$E$210,4,FALSE)=0, \"\",VLOOKUP(B707,_!$A$7:$E$210,4,FALSE)), \"\")","v":""},{"$f":"_xlfn.IFNA(IF(VLOOKUP(B707,_!$A$7:$E$210,5,FALSE)=0,\"\",VLOOKUP(B707,_!$A$7:$E$210,5,FALSE)), \"\")","v":""}]
[2,null,{"$f":"_xlfn.IFNA(VLOOKUP(B708,_!$A$7:$F$210,6,FALSE),\"\")","v":""},{"$f":"IF(IF(MOD(ROWS(D$3:D708),20)=1,INDEX('Summary Sheet'!$B$17:$B782,INT(ROWS(D$3:D708)/20)+1),\"\")=0,\"\",IF(MOD(ROWS(D$3:D708),20)=1,INDEX('Summary Sheet'!$B$17:$B782,INT(ROWS(D$3:D708)/20)+1),\"\"))","v":""},{"$f":"_xlfn.IFNA(IF(VLOOKUP(B708,_!$A$7:$E$210,2,FALSE)=0, \"\", VLOOKUP(B708,_!$A$7:$E$210,2,FALSE)),  \"\")","v":""},{"$f":"_xlfn.IFNA(IF(VLOOKUP(B708,_!$A$7:$E$210,3,FALSE)=0, \"\", VLOOKUP(B708,_!$A$7:$E$210,3,FALSE)), \"\")","v":""},{"$f":"_xlfn.IFNA(IF(VLOOKUP(B708,_!$A$7:$E$210,4,FALSE)=0, \"\",VLOOKUP(B708,_!$A$7:$E$210,4,FALSE)), \"\")","v":""},{"$f":"_xlfn.IFNA(IF(VLOOKUP(B708,_!$A$7:$E$210,5,FALSE)=0,\"\",VLOOKUP(B708,_!$A$7:$E$210,5,FALSE)), \"\")","v":""}]
[3,null,{"$f":"_xlfn.IFNA(VLOOKUP(B709,_!$A$7:$F$210,6,FALSE),\"\")","v":""},{"$f":"IF(IF(MOD(ROWS(D$3:D709),20)=1,INDEX('Summary Sheet'!$B$17:$B782,INT(ROWS(D$3:D709)/20)+1),\"\")=0,\"\",IF(MOD(ROWS(D$3:D709),20)=1,INDEX('Summary Sheet'!$B$17:$B782,INT(ROWS(D$3:D709)/20)+1),\"\"))","v":""},{"$f":"_xlfn.IFNA(IF(VLOOKUP(B709,_!$A$7:$E$210,2,FALSE)=0, \"\", VLOOKUP(B709,_!$A$7:$E$210,2,FALSE)),  \"\")","v":""},{"$f":"_xlfn.IFNA(IF(VLOOKUP(B709,_!$A$7:$E$210,3,FALSE)=0, \"\", VLOOKUP(B709,_!$A$7:$E$210,3,FALSE)), \"\")","v":""},{"$f":"_xlfn.IFNA(IF(VLOOKUP(B709,_!$A$7:$E$210,4,FALSE)=0, \"\",VLOOKUP(B709,_!$A$7:$E$210,4,FALSE)), \"\")","v":""},{"$f":"_xlfn.IFNA(IF(VLOOKUP(B709,_!$A$7:$E$210,5,FALSE)=0,\"\",VLOOKUP(B709,_!$A$7:$E$210,5,FALSE)), \"\")","v":""}]
[4,null,{"$f":"_xlfn.IFNA(VLOOKUP(B710,_!$A$7:$F$210,6,FALSE),\"\")","v":""},{"$f":"IF(IF(MOD(ROWS(D$3:D710),20)=1,INDEX('Summary Sheet'!$B$17:$B782,INT(ROWS(D$3:D710)/20)+1),\"\")=0,\"\",IF(MOD(ROWS(D$3:D710),20)=1,INDEX('Summary Sheet'!$B$17:$B782,INT(ROWS(D$3:D710)/20)+1),\"\"))","v":""},{"$f":"_xlfn.IFNA(IF(VLOOKUP(B710,_!$A$7:$E$210,2,FALSE)=0, \"\", VLOOKUP(B710,_!$A$7:$E$210,2,FALSE)),  \"\")","v":""},{"$f":"_xlfn.IFNA(IF(VLOOKUP(B710,_!$A$7:$E$210,3,FALSE)=0, \"\", VLOOKUP(B710,_!$A$7:$E$210,3,FALSE)), \"\")","v":""},{"$f":"_xlfn.IFNA(IF(VLOOKUP(B710,_!$A$7:$E$210,4,FALSE)=0, \"\",VLOOKUP(B710,_!$A$7:$E$210,4,FALSE)), \"\")","v":""},{"$f":"_xlfn.IFNA(IF(VLOOKUP(B710,_!$A$7:$E$210,5,FALSE)=0,\"\",VLOOKUP(B710,_!$A$7:$E$210,5,FALSE)), \"\")","v":""}]
[5,null,{"$f":"_xlfn.IFNA(VLOOKUP(B711,_!$A$7:$F$210,6,FALSE),\"\")","v":""},{"$f":"IF(IF(MOD(ROWS(D$3:D711),20)=1,INDEX('Summary Sheet'!$B$17:$B782,INT(ROWS(D$3:D711)/20)+1),\"\")=0,\"\",IF(MOD(ROWS(D$3:D711),20)=1,INDEX('Summary Sheet'!$B$17:$B782,INT(ROWS(D$3:D711)/20)+1),\"\"))","v":""},{"$f":"_xlfn.IFNA(IF(VLOOKUP(B711,_!$A$7:$E$210,2,FALSE)=0, \"\", VLOOKUP(B711,_!$A$7:$E$210,2,FALSE)),  \"\")","v":""},{"$f":"_xlfn.IFNA(IF(VLOOKUP(B711,_!$A$7:$E$210,3,FALSE)=0, \"\", VLOOKUP(B711,_!$A$7:$E$210,3,FALSE)), \"\")","v":""},{"$f":"_xlfn.IFNA(IF(VLOOKUP(B711,_!$A$7:$E$210,4,FALSE)=0, \"\",VLOOKUP(B711,_!$A$7:$E$210,4,FALSE)), \"\")","v":""},{"$f":"_xlfn.IFNA(IF(VLOOKUP(B711,_!$A$7:$E$210,5,FALSE)=0,\"\",VLOOKUP(B711,_!$A$7:$E$210,5,FALSE)), \"\")","v":""}]
[6,null,{"$f":"_xlfn.IFNA(VLOOKUP(B712,_!$A$7:$F$210,6,FALSE),\"\")","v":""},{"$f":"IF(IF(MOD(ROWS(D$3:D712),20)=1,INDEX('Summary Sheet'!$B$17:$B782,INT(ROWS(D$3:D712)/20)+1),\"\")=0,\"\",IF(MOD(ROWS(D$3:D712),20)=1,INDEX('Summary Sheet'!$B$17:$B782,INT(ROWS(D$3:D712)/20)+1),\"\"))","v":""},{"$f":"_xlfn.IFNA(IF(VLOOKUP(B712,_!$A$7:$E$210,2,FALSE)=0, \"\", VLOOKUP(B712,_!$A$7:$E$210,2,FALSE)),  \"\")","v":""},{"$f":"_xlfn.IFNA(IF(VLOOKUP(B712,_!$A$7:$E$210,3,FALSE)=0, \"\", VLOOKUP(B712,_!$A$7:$E$210,3,FALSE)), \"\")","v":""},{"$f":"_xlfn.IFNA(IF(VLOOKUP(B712,_!$A$7:$E$210,4,FALSE)=0, \"\",VLOOKUP(B712,_!$A$7:$E$210,4,FALSE)), \"\")","v":""},{"$f":"_xlfn.IFNA(IF(VLOOKUP(B712,_!$A$7:$E$210,5,FALSE)=0,\"\",VLOOKUP(B712,_!$A$7:$E$210,5,FALSE)), \"\")","v":""}]
[7,null,{"$f":"_xlfn.IFNA(VLOOKUP(B713,_!$A$7:$F$210,6,FALSE),\"\")","v":""},{"$f":"IF(IF(MOD(ROWS(D$3:D713),20)=1,INDEX('Summary Sheet'!$B$17:$B782,INT(ROWS(D$3:D713)/20)+1),\"\")=0,\"\",IF(MOD(ROWS(D$3:D713),20)=1,INDEX('Summary Sheet'!$B$17:$B782,INT(ROWS(D$3:D713)/20)+1),\"\"))","v":""},{"$f":"_xlfn.IFNA(IF(VLOOKUP(B713,_!$A$7:$E$210,2,FALSE)=0, \"\", VLOOKUP(B713,_!$A$7:$E$210,2,FALSE)),  \"\")","v":""},{"$f":"_xlfn.IFNA(IF(VLOOKUP(B713,_!$A$7:$E$210,3,FALSE)=0, \"\", VLOOKUP(B713,_!$A$7:$E$210,3,FALSE)), \"\")","v":""},{"$f":"_xlfn.IFNA(IF(VLOOKUP(B713,_!$A$7:$E$210,4,FALSE)=0, \"\",VLOOKUP(B713,_!$A$7:$E$210,4,FALSE)), \"\")","v":""},{"$f":"_xlfn.IFNA(IF(VLOOKUP(B713,_!$A$7:$E$210,5,FALSE)=0,\"\",VLOOKUP(B713,_!$A$7:$E$210,5,FALSE)), \"\")","v":""}]
[8,null,{"$f":"_xlfn.IFNA(VLOOKUP(B714,_!$A$7:$F$210,6,FALSE),\"\")","v":""},{"$f":"IF(IF(MOD(ROWS(D$3:D714),20)=1,INDEX('Summary Sheet'!$B$17:$B782,INT(ROWS(D$3:D714)/20)+1),\"\")=0,\"\",IF(MOD(ROWS(D$3:D714),20)=1,INDEX('Summary Sheet'!$B$17:$B782,INT(ROWS(D$3:D714)/20)+1),\"\"))","v":""},{"$f":"_xlfn.IFNA(IF(VLOOKUP(B714,_!$A$7:$E$210,2,FALSE)=0, \"\", VLOOKUP(B714,_!$A$7:$E$210,2,FALSE)),  \"\")","v":""},{"$f":"_xlfn.IFNA(IF(VLOOKUP(B714,_!$A$7:$E$210,3,FALSE)=0, \"\", VLOOKUP(B714,_!$A$7:$E$210,3,FALSE)), \"\")","v":""},{"$f":"_xlfn.IFNA(IF(VLOOKUP(B714,_!$A$7:$E$210,4,FALSE)=0, \"\",VLOOKUP(B714,_!$A$7:$E$210,4,FALSE)), \"\")","v":""},{"$f":"_xlfn.IFNA(IF(VLOOKUP(B714,_!$A$7:$E$210,5,FALSE)=0,\"\",VLOOKUP(B714,_!$A$7:$E$210,5,FALSE)), \"\")","v":""}]
[9,null,{"$f":"_xlfn.IFNA(VLOOKUP(B715,_!$A$7:$F$210,6,FALSE),\"\")","v":""},{"$f":"IF(IF(MOD(ROWS(D$3:D715),20)=1,INDEX('Summary Sheet'!$B$17:$B782,INT(ROWS(D$3:D715)/20)+1),\"\")=0,\"\",IF(MOD(ROWS(D$3:D715),20)=1,INDEX('Summary Sheet'!$B$17:$B782,INT(ROWS(D$3:D715)/20)+1),\"\"))","v":""},{"$f":"_xlfn.IFNA(IF(VLOOKUP(B715,_!$A$7:$E$210,2,FALSE)=0, \"\", VLOOKUP(B715,_!$A$7:$E$210,2,FALSE)),  \"\")","v":""},{"$f":"_xlfn.IFNA(IF(VLOOKUP(B715,_!$A$7:$E$210,3,FALSE)=0, \"\", VLOOKUP(B715,_!$A$7:$E$210,3,FALSE)), \"\")","v":""},{"$f":"_xlfn.IFNA(IF(VLOOKUP(B715,_!$A$7:$E$210,4,FALSE)=0, \"\",VLOOKUP(B715,_!$A$7:$E$210,4,FALSE)), \"\")","v":""},{"$f":"_xlfn.IFNA(IF(VLOOKUP(B715,_!$A$7:$E$210,5,FALSE)=0,\"\",VLOOKUP(B715,_!$A$7:$E$210,5,FALSE)), \"\")","v":""}]
[10,null,{"$f":"_xlfn.IFNA(VLOOKUP(B716,_!$A$7:$F$210,6,FALSE),\"\")","v":""},{"$f":"IF(IF(MOD(ROWS(D$14:D716),20)=1,INDEX('Summary Sheet'!$B$17:$B782,INT(ROWS(D$14:D716)/20)+1),\"\")=0,\"\",IF(MOD(ROWS(D$14:D716),20)=1,INDEX('Summary Sheet'!$B$17:$B782,INT(ROWS(D$14:D716)/20)+1),\"\"))","v":""},{"$f":"_xlfn.IFNA(IF(VLOOKUP(B716,_!$A$7:$E$210,2,FALSE)=0, \"\", VLOOKUP(B716,_!$A$7:$E$210,2,FALSE)),  \"\")","v":""},{"$f":"_xlfn.IFNA(IF(VLOOKUP(B716,_!$A$7:$E$210,3,FALSE)=0, \"\", VLOOKUP(B716,_!$A$7:$E$210,3,FALSE)), \"\")","v":""},{"$f":"_xlfn.IFNA(IF(VLOOKUP(B716,_!$A$7:$E$210,4,FALSE)=0, \"\",VLOOKUP(B716,_!$A$7:$E$210,4,FALSE)), \"\")","v":""},{"$f":"_xlfn.IFNA(IF(VLOOKUP(B716,_!$A$7:$E$210,5,FALSE)=0,\"\",VLOOKUP(B716,_!$A$7:$E$210,5,FALSE)), \"\")","v":""}]
[null,"\nHighest hazard level for each ‘Uptake Route’\n",null,null,{"$f":"_xlfn.IFNA(IF((INDEX(E707:E716,MATCH(\"E\",E707:E716,0)))=\"E\",\"E\",\"\"),_xlfn.IFNA(IF((INDEX(E707:E716,MATCH(\"D\",E707:E716,0)))=\"D\",\"D\",\"\"),_xlfn.IFNA(IF((INDEX(E707:E716,MATCH(\"Ca\",E707:E716,0)))=\"Ca\",\"C\",\"\"),_xlfn.IFNA(IF((INDEX(E707:E716,MATCH(\"C\",E707:E716,0)))=\"C\",\"C\",\"\"),_xlfn.IFNA(IF((INDEX(E707:E716,MATCH(\"B\",E707:E716,0)))=\"B\",\"B\",\"\"),_xlfn.IFNA(IF((INDEX(E707:E716,MATCH(\"A\",E707:E716,0)))=\"A\",\"A\",\"\"),_xlfn.IFNA(IF((INDEX(E707:E716,MATCH(\"n.a.\",E707:E716,0)))=\"n.a.\",\"\",\"\"),_xlfn.IFNA(IF((INDEX(E707:E716,MATCH(\"\",E707:E716,0)))=\"\",\"\",\"\"),\"\"))))))))","v":""},{"$f":"_xlfn.IFNA(IF((INDEX(F707:F716,MATCH(\"E\",F707:F716,0)))=\"E\",\"E\",\"\"),_xlfn.IFNA(IF((INDEX(F707:F716,MATCH(\"D (E)c\",F707:F716,0)))=\"D (E)c\",\"D (E)c\",\"\"),_xlfn.IFNA(IF((INDEX(F707:F716,MATCH(\"Da (E)c\",F707:F716,0)))=\"Da (E)c\",\"D (E)c\",\"\"),_xlfn.IFNA(IF((INDEX(F707:F716,MATCH(\"D\",F707:F716,0)))=\"D\",\"D\",\"\"),_xlfn.IFNA(IF((INDEX(F707:F716,MATCH(\"Ca\",F707:F716,0)))=\"Ca\",\"C\",\"\"),_xlfn.IFNA(IF((INDEX(F707:F716,MATCH(\"C\",F707:F716,0)))=\"C\",\"C\",\"\"),_xlfn.IFNA(IF((INDEX(F707:F716,MATCH(\"Ba\",F707:F716,0)))=\"Ba\",\"B\",\"\"),_xlfn.IFNA(IF((INDEX(F707:F716,MATCH(\"B\",F707:F716,0)))=\"B\",\"B\",\"\"),_xlfn.IFNA(IF((INDEX(F707:F716,MATCH(\"Aa\",F707:F716,0)))=\"Aa\",\"A\",\"\"),_xlfn.IFNA(IF((INDEX(F707:F716,MATCH(\"A\",F707:F716,0)))=\"A\",\"A\",\"\"),_xlfn.IFNA(IF((INDEX(F707:F716,MATCH(\"n.a.\",F707:F716,0)))=\"n.a.\",\"\",\"\"),_xlfn.IFNA(IF((INDEX(F707:F716,MATCH(\"\",F707:F716,0)))=\"\",\"\",\"\"),\"\"))))))))))))","v":""},{"$f":"_xlfn.IFNA(IF((INDEX(G707:G716,MATCH(\"E\",G707:G716,0)))=\"E\",\"E\",\"\"),_xlfn.IFNA(IF((INDEX(G707:G716,MATCH(\"D\",G707:G716,0)))=\"D\",\"D\",\"\"),_xlfn.IFNA(IF((INDEX(G707:G716,MATCH(\"Ca\",G707:G716,0)))=\"Ca\",\"C\",\"\"),_xlfn.IFNA(IF((INDEX(G707:G716,MATCH(\"C\",G707:G716,0)))=\"C\",\"C\",\"\"),_xlfn.IFNA(IF((INDEX(G707:G716,MATCH(\"B\",G707:G716,0)))=\"B\",\"B\",\"\"),_xlfn.IFNA(IF((INDEX(G707:G716,MATCH(\"A\",G707:G716,0)))=\"A\",\"A\",\"\"),_xlfn.IFNA(IF((INDEX(G707:G716,MATCH(\"n.a.\",G707:G716,0)))=\"n.a.\",\"\",\"\"),_xlfn.IFNA(IF((INDEX(G707:G716,MATCH(\"\",G707:G716,0)))=\"\",\"\",\"\"),\"\"))))))))","v":""},{"$f":"_xlfn.IFNA(IF((INDEX(H707:H716,MATCH(\"E\",H707:H716,0)))=\"E\",\"E\",\"\"),_xlfn.IFNA(IF((INDEX(H707:H716,MATCH(\"D (E)c\",H707:H716,0)))=\"D (E)c\",\"D (E)c\",\"\"),_xlfn.IFNA(IF((INDEX(H707:H716,MATCH(\"Db (E)c\",H707:H716,0)))=\"Db (E)c\",\"D (E)c\",\"\"),_xlfn.IFNA(IF((INDEX(H707:H716,MATCH(\"D\",H707:H716,0)))=\"D\",\"D\",\"\"),_xlfn.IFNA(IF((INDEX(H707:H716,MATCH(\"Cb\",H707:H716,0)))=\"Cb\",\"C\",\"\"),_xlfn.IFNA(IF((INDEX(H707:H716,MATCH(\"C\",H707:H716,0)))=\"C\",\"C\",\"\"),_xlfn.IFNA(IF((INDEX(H707:H716,MATCH(\"Bb\",H707:H716,0)))=\"Bb\",\"B\",\"\"),_xlfn.IFNA(IF((INDEX(H707:H716,MATCH(\"B\",H707:H716,0)))=\"B\",\"B\",\"\"),_xlfn.IFNA(IF((INDEX(H707:H716,MATCH(\"Ab\",H707:H716,0)))=\"Ab\",\"A\",\"\"),_xlfn.IFNA(IF((INDEX(H707:H716,MATCH(\"A\",H707:H716,0)))=\"A\",\"A\",\"\"),_xlfn.IFNA(IF((INDEX(H707:H716,MATCH(\"n.a.\",H707:H716,0)))=\"n.a.\",\"\",\"\"),_xlfn.IFNA(IF((INDEX(H707:H716,MATCH(\"\",H707:H716,0)))=\"\",\"\",\"\"),\"\"))))))))))))","v":""}]
[null,"\nHighest hazard level for all 'Uptake Routes' \n",null,null,{"$f":"_xlfn.IFNA(IF((INDEX(E717:H717,MATCH(\"E\",E717:H717,0)))=\"E\",\"E\",\"\"),_xlfn.IFNA(IF((INDEX(E717:H717,MATCH(\"D (E)c\",E717:H717,0)))=\"D (E)c\",\"D (E)\",\"\"),_xlfn.IFNA(IF((INDEX(E717:H717,MATCH(\"D\",E717:H717,0)))=\"D\",\"D\",\"\"),_xlfn.IFNA(IF((INDEX(E717:H717,MATCH(\"C\",E717:H717,0)))=\"C\",\"C\",\"\"),_xlfn.IFNA(IF((INDEX(E717:H717,MATCH(\"B\",E717:H717,0)))=\"B\",\"B\",\"\"),_xlfn.IFNA(IF((INDEX(E717:H717,MATCH(\"A\",E717:H717,0)))=\"A\",\"A\",\"\"),_xlfn.IFNA(IF((INDEX(E717:H717,MATCH(\"n.a.\",E717:H717,0)))=\"n.a.\",\"\",\"\"),_xlfn.IFNA(IF((INDEX(E717:H717,MATCH(\"\",E717:H717,0)))=\"\",\"\",\"\"),\"\"))))))))","v":""}]
[]
[]
[null,"\nStep 3: D(E) Assessment\nSkip this step if \nyour assessment above does not reveal a D(E) hazard level.\nHover over this cell for additional instructions.\n",null,null,"\nOverall hazard level\n",null,{"$f":"IF(AND(E718=\"\",C704=\"Yes\")=TRUE,\"B\",IF(E718=\"\",\"\",(IF(AND(E718=\"D (E)\",C721=\"\"),\"D (E)\"&CHAR(10)&\"Find if cat. 1 acute tox.\",(IF(E718<>\"D (E)\",E718,(IF(AND(E718=\"D (E)\",C721=\"Yes\"),\"E\",(IF(AND(E718=\"D (E)\",C721=\"No\"),\"D\",\"\"))))))))))","v":""}]
[]
[{"$f":"IF(IF(MOD(ROWS(B$3:B723),20)=1,INDEX('Summary Sheet'!$A$17:$A801,INT(ROWS(B$3:B723)/20)+1),\"\")=0,\"\",IF(MOD(ROWS(B$3:B723),20)=1,INDEX('Summary Sheet'!$A$17:$A801,INT(ROWS(B$3:B723)/20)+1),\"\"))","v":37},"Hazard Level Assessment","for",{"$f":"IF(IF(MOD(ROWS(D$3:D723),20)=1,INDEX('Summary Sheet'!$B$17:$B801,INT(ROWS(D$3:D723)/20)+1),\"\")=0,\"\",IF(MOD(ROWS(D$3:D723),20)=1,INDEX('Summary Sheet'!$B$17:$B801,INT(ROWS(D$3:D723)/20)+1),\"\"))","v":""}]
[null,"\nStep 1: Physical & Environmental Hazard Statements/Codes\nFind Section 2 of the SDS and determine if the SDS has physical and/or environmental hazard statements/codes. Hover on this cell for additional instructions.\n",null,{"$f":"IF(IF(MOD(ROWS(D$3:D724),20)=1,INDEX('Summary Sheet'!$B$17:$B801,INT(ROWS(D$3:D724)/20)+1),\"\")=0,\"\",IF(MOD(ROWS(D$3:D724),20)=1,INDEX('Summary Sheet'!$B$17:$B801,INT(ROWS(D$3:D724)/20)+1),\"\"))","v":""}]
[null,"Step 2: Health Hazard Statements/Codes\nProvide the Health Hazard Statements or Codes from Section 2 of the SDS below. Hover on this cell for additional instructions.",null,{"$f":"IF(IF(MOD(ROWS(D$3:D725),20)=1,INDEX('Summary Sheet'!$B$17:$B801,INT(ROWS(D$3:D725)/20)+1),\"\")=0,\"\",IF(MOD(ROWS(D$3:D725),20)=1,INDEX('Summary Sheet'!$B$17:$B801,INT(ROWS(D$3:D725)/20)+1),\"\"))","v":""},"\nHazard Level\n"]
[null,null,null,{"$f":"IF(IF(MOD(ROWS(D$3:D726),20)=1,INDEX('Summary Sheet'!$B$17:$B801,INT(ROWS(D$3:D726)/20)+1),\"\")=0,\"\",IF(MOD(ROWS(D$3:D726),20)=1,INDEX('Summary Sheet'!$B$17:$B801,INT(ROWS(D$3:D726)/20)+1),\"\"))","v":""},"\nEye Damage\n","\nInhalation\n","\nLocal Skin Damage\n","\nSkin uptake, systemic\n"]
[1,null,{"$f":"_xlfn.IFNA(VLOOKUP(B727,_!$A$7:$F$210,6,FALSE),\"\")","v":""},{"$f":"IF(IF(MOD(ROWS(D$3:D727),20)=1,INDEX('Summary Sheet'!$B$17:$B801,INT(ROWS(D$3:D727)/20)+1),\"\")=0,\"\",IF(MOD(ROWS(D$3:D727),20)=1,INDEX('Summary Sheet'!$B$17:$B801,INT(ROWS(D$3:D727)/20)+1),\"\"))","v":""},{"$f":"_xlfn.IFNA(IF(VLOOKUP(B727,_!$A$7:$E$210,2,FALSE)=0, \"\", VLOOKUP(B727,_!$A$7:$E$210,2,FALSE)),  \"\")","v":""},{"$f":"_xlfn.IFNA(IF(VLOOKUP(B727,_!$A$7:$E$210,3,FALSE)=0, \"\", VLOOKUP(B727,_!$A$7:$E$210,3,FALSE)), \"\")","v":""},{"$f":"_xlfn.IFNA(IF(VLOOKUP(B727,_!$A$7:$E$210,4,FALSE)=0, \"\",VLOOKUP(B727,_!$A$7:$E$210,4,FALSE)), \"\")","v":""},{"$f":"_xlfn.IFNA(IF(VLOOKUP(B727,_!$A$7:$E$210,5,FALSE)=0,\"\",VLOOKUP(B727,_!$A$7:$E$210,5,FALSE)), \"\")","v":""}]
[2,null,{"$f":"_xlfn.IFNA(VLOOKUP(B728,_!$A$7:$F$210,6,FALSE),\"\")","v":""},{"$f":"IF(IF(MOD(ROWS(D$3:D728),20)=1,INDEX('Summary Sheet'!$B$17:$B801,INT(ROWS(D$3:D728)/20)+1),\"\")=0,\"\",IF(MOD(ROWS(D$3:D728),20)=1,INDEX('Summary Sheet'!$B$17:$B801,INT(ROWS(D$3:D728)/20)+1),\"\"))","v":""},{"$f":"_xlfn.IFNA(IF(VLOOKUP(B728,_!$A$7:$E$210,2,FALSE)=0, \"\", VLOOKUP(B728,_!$A$7:$E$210,2,FALSE)),  \"\")","v":""},{"$f":"_xlfn.IFNA(IF(VLOOKUP(B728,_!$A$7:$E$210,3,FALSE)=0, \"\", VLOOKUP(B728,_!$A$7:$E$210,3,FALSE)), \"\")","v":""},{"$f":"_xlfn.IFNA(IF(VLOOKUP(B728,_!$A$7:$E$210,4,FALSE)=0, \"\",VLOOKUP(B728,_!$A$7:$E$210,4,FALSE)), \"\")","v":""},{"$f":"_xlfn.IFNA(IF(VLOOKUP(B728,_!$A$7:$E$210,5,FALSE)=0,\"\",VLOOKUP(B728,_!$A$7:$E$210,5,FALSE)), \"\")","v":""}]
[3,null,{"$f":"_xlfn.IFNA(VLOOKUP(B729,_!$A$7:$F$210,6,FALSE),\"\")","v":""},{"$f":"IF(IF(MOD(ROWS(D$3:D729),20)=1,INDEX('Summary Sheet'!$B$17:$B801,INT(ROWS(D$3:D729)/20)+1),\"\")=0,\"\",IF(MOD(ROWS(D$3:D729),20)=1,INDEX('Summary Sheet'!$B$17:$B801,INT(ROWS(D$3:D729)/20)+1),\"\"))","v":""},{"$f":"_xlfn.IFNA(IF(VLOOKUP(B729,_!$A$7:$E$210,2,FALSE)=0, \"\", VLOOKUP(B729,_!$A$7:$E$210,2,FALSE)),  \"\")","v":""},{"$f":"_xlfn.IFNA(IF(VLOOKUP(B729,_!$A$7:$E$210,3,FALSE)=0, \"\", VLOOKUP(B729,_!$A$7:$E$210,3,FALSE)), \"\")","v":""},{"$f":"_xlfn.IFNA(IF(VLOOKUP(B729,_!$A$7:$E$210,4,FALSE)=0, \"\",VLOOKUP(B729,_!$A$7:$E$210,4,FALSE)), \"\")","v":""},{"$f":"_xlfn.IFNA(IF(VLOOKUP(B729,_!$A$7:$E$210,5,FALSE)=0,\"\",VLOOKUP(B729,_!$A$7:$E$210,5,FALSE)), \"\")","v":""}]
[4,null,{"$f":"_xlfn.IFNA(VLOOKUP(B730,_!$A$7:$F$210,6,FALSE),\"\")","v":""},{"$f":"IF(IF(MOD(ROWS(D$3:D730),20)=1,INDEX('Summary Sheet'!$B$17:$B801,INT(ROWS(D$3:D730)/20)+1),\"\")=0,\"\",IF(MOD(ROWS(D$3:D730),20)=1,INDEX('Summary Sheet'!$B$17:$B801,INT(ROWS(D$3:D730)/20)+1),\"\"))","v":""},{"$f":"_xlfn.IFNA(IF(VLOOKUP(B730,_!$A$7:$E$210,2,FALSE)=0, \"\", VLOOKUP(B730,_!$A$7:$E$210,2,FALSE)),  \"\")","v":""},{"$f":"_xlfn.IFNA(IF(VLOOKUP(B730,_!$A$7:$E$210,3,FALSE)=0, \"\", VLOOKUP(B730,_!$A$7:$E$210,3,FALSE)), \"\")","v":""},{"$f":"_xlfn.IFNA(IF(VLOOKUP(B730,_!$A$7:$E$210,4,FALSE)=0, \"\",VLOOKUP(B730,_!$A$7:$E$210,4,FALSE)), \"\")","v":""},{"$f":"_xlfn.IFNA(IF(VLOOKUP(B730,_!$A$7:$E$210,5,FALSE)=0,\"\",VLOOKUP(B730,_!$A$7:$E$210,5,FALSE)), \"\")","v":""}]
[5,null,{"$f":"_xlfn.IFNA(VLOOKUP(B731,_!$A$7:$F$210,6,FALSE),\"\")","v":""},{"$f":"IF(IF(MOD(ROWS(D$3:D731),20)=1,INDEX('Summary Sheet'!$B$17:$B801,INT(ROWS(D$3:D731)/20)+1),\"\")=0,\"\",IF(MOD(ROWS(D$3:D731),20)=1,INDEX('Summary Sheet'!$B$17:$B801,INT(ROWS(D$3:D731)/20)+1),\"\"))","v":""},{"$f":"_xlfn.IFNA(IF(VLOOKUP(B731,_!$A$7:$E$210,2,FALSE)=0, \"\", VLOOKUP(B731,_!$A$7:$E$210,2,FALSE)),  \"\")","v":""},{"$f":"_xlfn.IFNA(IF(VLOOKUP(B731,_!$A$7:$E$210,3,FALSE)=0, \"\", VLOOKUP(B731,_!$A$7:$E$210,3,FALSE)), \"\")","v":""},{"$f":"_xlfn.IFNA(IF(VLOOKUP(B731,_!$A$7:$E$210,4,FALSE)=0, \"\",VLOOKUP(B731,_!$A$7:$E$210,4,FALSE)), \"\")","v":""},{"$f":"_xlfn.IFNA(IF(VLOOKUP(B731,_!$A$7:$E$210,5,FALSE)=0,\"\",VLOOKUP(B731,_!$A$7:$E$210,5,FALSE)), \"\")","v":""}]
[6,null,{"$f":"_xlfn.IFNA(VLOOKUP(B732,_!$A$7:$F$210,6,FALSE),\"\")","v":""},{"$f":"IF(IF(MOD(ROWS(D$3:D732),20)=1,INDEX('Summary Sheet'!$B$17:$B801,INT(ROWS(D$3:D732)/20)+1),\"\")=0,\"\",IF(MOD(ROWS(D$3:D732),20)=1,INDEX('Summary Sheet'!$B$17:$B801,INT(ROWS(D$3:D732)/20)+1),\"\"))","v":""},{"$f":"_xlfn.IFNA(IF(VLOOKUP(B732,_!$A$7:$E$210,2,FALSE)=0, \"\", VLOOKUP(B732,_!$A$7:$E$210,2,FALSE)),  \"\")","v":""},{"$f":"_xlfn.IFNA(IF(VLOOKUP(B732,_!$A$7:$E$210,3,FALSE)=0, \"\", VLOOKUP(B732,_!$A$7:$E$210,3,FALSE)), \"\")","v":""},{"$f":"_xlfn.IFNA(IF(VLOOKUP(B732,_!$A$7:$E$210,4,FALSE)=0, \"\",VLOOKUP(B732,_!$A$7:$E$210,4,FALSE)), \"\")","v":""},{"$f":"_xlfn.IFNA(IF(VLOOKUP(B732,_!$A$7:$E$210,5,FALSE)=0,\"\",VLOOKUP(B732,_!$A$7:$E$210,5,FALSE)), \"\")","v":""}]
[7,null,{"$f":"_xlfn.IFNA(VLOOKUP(B733,_!$A$7:$F$210,6,FALSE),\"\")","v":""},{"$f":"IF(IF(MOD(ROWS(D$3:D733),20)=1,INDEX('Summary Sheet'!$B$17:$B801,INT(ROWS(D$3:D733)/20)+1),\"\")=0,\"\",IF(MOD(ROWS(D$3:D733),20)=1,INDEX('Summary Sheet'!$B$17:$B801,INT(ROWS(D$3:D733)/20)+1),\"\"))","v":""},{"$f":"_xlfn.IFNA(IF(VLOOKUP(B733,_!$A$7:$E$210,2,FALSE)=0, \"\", VLOOKUP(B733,_!$A$7:$E$210,2,FALSE)),  \"\")","v":""},{"$f":"_xlfn.IFNA(IF(VLOOKUP(B733,_!$A$7:$E$210,3,FALSE)=0, \"\", VLOOKUP(B733,_!$A$7:$E$210,3,FALSE)), \"\")","v":""},{"$f":"_xlfn.IFNA(IF(VLOOKUP(B733,_!$A$7:$E$210,4,FALSE)=0, \"\",VLOOKUP(B733,_!$A$7:$E$210,4,FALSE)), \"\")","v":""},{"$f":"_xlfn.IFNA(IF(VLOOKUP(B733,_!$A$7:$E$210,5,FALSE)=0,\"\",VLOOKUP(B733,_!$A$7:$E$210,5,FALSE)), \"\")","v":""}]
[8,null,{"$f":"_xlfn.IFNA(VLOOKUP(B734,_!$A$7:$F$210,6,FALSE),\"\")","v":""},{"$f":"IF(IF(MOD(ROWS(D$3:D734),20)=1,INDEX('Summary Sheet'!$B$17:$B801,INT(ROWS(D$3:D734)/20)+1),\"\")=0,\"\",IF(MOD(ROWS(D$3:D734),20)=1,INDEX('Summary Sheet'!$B$17:$B801,INT(ROWS(D$3:D734)/20)+1),\"\"))","v":""},{"$f":"_xlfn.IFNA(IF(VLOOKUP(B734,_!$A$7:$E$210,2,FALSE)=0, \"\", VLOOKUP(B734,_!$A$7:$E$210,2,FALSE)),  \"\")","v":""},{"$f":"_xlfn.IFNA(IF(VLOOKUP(B734,_!$A$7:$E$210,3,FALSE)=0, \"\", VLOOKUP(B734,_!$A$7:$E$210,3,FALSE)), \"\")","v":""},{"$f":"_xlfn.IFNA(IF(VLOOKUP(B734,_!$A$7:$E$210,4,FALSE)=0, \"\",VLOOKUP(B734,_!$A$7:$E$210,4,FALSE)), \"\")","v":""},{"$f":"_xlfn.IFNA(IF(VLOOKUP(B734,_!$A$7:$E$210,5,FALSE)=0,\"\",VLOOKUP(B734,_!$A$7:$E$210,5,FALSE)), \"\")","v":""}]
[9,null,{"$f":"_xlfn.IFNA(VLOOKUP(B735,_!$A$7:$F$210,6,FALSE),\"\")","v":""},{"$f":"IF(IF(MOD(ROWS(D$3:D735),20)=1,INDEX('Summary Sheet'!$B$17:$B801,INT(ROWS(D$3:D735)/20)+1),\"\")=0,\"\",IF(MOD(ROWS(D$3:D735),20)=1,INDEX('Summary Sheet'!$B$17:$B801,INT(ROWS(D$3:D735)/20)+1),\"\"))","v":""},{"$f":"_xlfn.IFNA(IF(VLOOKUP(B735,_!$A$7:$E$210,2,FALSE)=0, \"\", VLOOKUP(B735,_!$A$7:$E$210,2,FALSE)),  \"\")","v":""},{"$f":"_xlfn.IFNA(IF(VLOOKUP(B735,_!$A$7:$E$210,3,FALSE)=0, \"\", VLOOKUP(B735,_!$A$7:$E$210,3,FALSE)), \"\")","v":""},{"$f":"_xlfn.IFNA(IF(VLOOKUP(B735,_!$A$7:$E$210,4,FALSE)=0, \"\",VLOOKUP(B735,_!$A$7:$E$210,4,FALSE)), \"\")","v":""},{"$f":"_xlfn.IFNA(IF(VLOOKUP(B735,_!$A$7:$E$210,5,FALSE)=0,\"\",VLOOKUP(B735,_!$A$7:$E$210,5,FALSE)), \"\")","v":""}]
[10,null,{"$f":"_xlfn.IFNA(VLOOKUP(B736,_!$A$7:$F$210,6,FALSE),\"\")","v":""},{"$f":"IF(IF(MOD(ROWS(D$14:D736),20)=1,INDEX('Summary Sheet'!$B$17:$B801,INT(ROWS(D$14:D736)/20)+1),\"\")=0,\"\",IF(MOD(ROWS(D$14:D736),20)=1,INDEX('Summary Sheet'!$B$17:$B801,INT(ROWS(D$14:D736)/20)+1),\"\"))","v":""},{"$f":"_xlfn.IFNA(IF(VLOOKUP(B736,_!$A$7:$E$210,2,FALSE)=0, \"\", VLOOKUP(B736,_!$A$7:$E$210,2,FALSE)),  \"\")","v":""},{"$f":"_xlfn.IFNA(IF(VLOOKUP(B736,_!$A$7:$E$210,3,FALSE)=0, \"\", VLOOKUP(B736,_!$A$7:$E$210,3,FALSE)), \"\")","v":""},{"$f":"_xlfn.IFNA(IF(VLOOKUP(B736,_!$A$7:$E$210,4,FALSE)=0, \"\",VLOOKUP(B736,_!$A$7:$E$210,4,FALSE)), \"\")","v":""},{"$f":"_xlfn.IFNA(IF(VLOOKUP(B736,_!$A$7:$E$210,5,FALSE)=0,\"\",VLOOKUP(B736,_!$A$7:$E$210,5,FALSE)), \"\")","v":""}]
[null,"\nHighest hazard level for each ‘Uptake Route’\n",null,null,{"$f":"_xlfn.IFNA(IF((INDEX(E727:E736,MATCH(\"E\",E727:E736,0)))=\"E\",\"E\",\"\"),_xlfn.IFNA(IF((INDEX(E727:E736,MATCH(\"D\",E727:E736,0)))=\"D\",\"D\",\"\"),_xlfn.IFNA(IF((INDEX(E727:E736,MATCH(\"Ca\",E727:E736,0)))=\"Ca\",\"C\",\"\"),_xlfn.IFNA(IF((INDEX(E727:E736,MATCH(\"C\",E727:E736,0)))=\"C\",\"C\",\"\"),_xlfn.IFNA(IF((INDEX(E727:E736,MATCH(\"B\",E727:E736,0)))=\"B\",\"B\",\"\"),_xlfn.IFNA(IF((INDEX(E727:E736,MATCH(\"A\",E727:E736,0)))=\"A\",\"A\",\"\"),_xlfn.IFNA(IF((INDEX(E727:E736,MATCH(\"n.a.\",E727:E736,0)))=\"n.a.\",\"\",\"\"),_xlfn.IFNA(IF((INDEX(E727:E736,MATCH(\"\",E727:E736,0)))=\"\",\"\",\"\"),\"\"))))))))","v":""},{"$f":"_xlfn.IFNA(IF((INDEX(F727:F736,MATCH(\"E\",F727:F736,0)))=\"E\",\"E\",\"\"),_xlfn.IFNA(IF((INDEX(F727:F736,MATCH(\"D (E)c\",F727:F736,0)))=\"D (E)c\",\"D (E)c\",\"\"),_xlfn.IFNA(IF((INDEX(F727:F736,MATCH(\"Da (E)c\",F727:F736,0)))=\"Da (E)c\",\"D (E)c\",\"\"),_xlfn.IFNA(IF((INDEX(F727:F736,MATCH(\"D\",F727:F736,0)))=\"D\",\"D\",\"\"),_xlfn.IFNA(IF((INDEX(F727:F736,MATCH(\"Ca\",F727:F736,0)))=\"Ca\",\"C\",\"\"),_xlfn.IFNA(IF((INDEX(F727:F736,MATCH(\"C\",F727:F736,0)))=\"C\",\"C\",\"\"),_xlfn.IFNA(IF((INDEX(F727:F736,MATCH(\"Ba\",F727:F736,0)))=\"Ba\",\"B\",\"\"),_xlfn.IFNA(IF((INDEX(F727:F736,MATCH(\"B\",F727:F736,0)))=\"B\",\"B\",\"\"),_xlfn.IFNA(IF((INDEX(F727:F736,MATCH(\"Aa\",F727:F736,0)))=\"Aa\",\"A\",\"\"),_xlfn.IFNA(IF((INDEX(F727:F736,MATCH(\"A\",F727:F736,0)))=\"A\",\"A\",\"\"),_xlfn.IFNA(IF((INDEX(F727:F736,MATCH(\"n.a.\",F727:F736,0)))=\"n.a.\",\"\",\"\"),_xlfn.IFNA(IF((INDEX(F727:F736,MATCH(\"\",F727:F736,0)))=\"\",\"\",\"\"),\"\"))))))))))))","v":""},{"$f":"_xlfn.IFNA(IF((INDEX(G727:G736,MATCH(\"E\",G727:G736,0)))=\"E\",\"E\",\"\"),_xlfn.IFNA(IF((INDEX(G727:G736,MATCH(\"D\",G727:G736,0)))=\"D\",\"D\",\"\"),_xlfn.IFNA(IF((INDEX(G727:G736,MATCH(\"Ca\",G727:G736,0)))=\"Ca\",\"C\",\"\"),_xlfn.IFNA(IF((INDEX(G727:G736,MATCH(\"C\",G727:G736,0)))=\"C\",\"C\",\"\"),_xlfn.IFNA(IF((INDEX(G727:G736,MATCH(\"B\",G727:G736,0)))=\"B\",\"B\",\"\"),_xlfn.IFNA(IF((INDEX(G727:G736,MATCH(\"A\",G727:G736,0)))=\"A\",\"A\",\"\"),_xlfn.IFNA(IF((INDEX(G727:G736,MATCH(\"n.a.\",G727:G736,0)))=\"n.a.\",\"\",\"\"),_xlfn.IFNA(IF((INDEX(G727:G736,MATCH(\"\",G727:G736,0)))=\"\",\"\",\"\"),\"\"))))))))","v":""},{"$f":"_xlfn.IFNA(IF((INDEX(H727:H736,MATCH(\"E\",H727:H736,0)))=\"E\",\"E\",\"\"),_xlfn.IFNA(IF((INDEX(H727:H736,MATCH(\"D (E)c\",H727:H736,0)))=\"D (E)c\",\"D (E)c\",\"\"),_xlfn.IFNA(IF((INDEX(H727:H736,MATCH(\"Db (E)c\",H727:H736,0)))=\"Db (E)c\",\"D (E)c\",\"\"),_xlfn.IFNA(IF((INDEX(H727:H736,MATCH(\"D\",H727:H736,0)))=\"D\",\"D\",\"\"),_xlfn.IFNA(IF((INDEX(H727:H736,MATCH(\"Cb\",H727:H736,0)))=\"Cb\",\"C\",\"\"),_xlfn.IFNA(IF((INDEX(H727:H736,MATCH(\"C\",H727:H736,0)))=\"C\",\"C\",\"\"),_xlfn.IFNA(IF((INDEX(H727:H736,MATCH(\"Bb\",H727:H736,0)))=\"Bb\",\"B\",\"\"),_xlfn.IFNA(IF((INDEX(H727:H736,MATCH(\"B\",H727:H736,0)))=\"B\",\"B\",\"\"),_xlfn.IFNA(IF((INDEX(H727:H736,MATCH(\"Ab\",H727:H736,0)))=\"Ab\",\"A\",\"\"),_xlfn.IFNA(IF((INDEX(H727:H736,MATCH(\"A\",H727:H736,0)))=\"A\",\"A\",\"\"),_xlfn.IFNA(IF((INDEX(H727:H736,MATCH(\"n.a.\",H727:H736,0)))=\"n.a.\",\"\",\"\"),_xlfn.IFNA(IF((INDEX(H727:H736,MATCH(\"\",H727:H736,0)))=\"\",\"\",\"\"),\"\"))))))))))))","v":""}]
[null,"\nHighest hazard level for all 'Uptake Routes' \n",null,null,{"$f":"_xlfn.IFNA(IF((INDEX(E737:H737,MATCH(\"E\",E737:H737,0)))=\"E\",\"E\",\"\"),_xlfn.IFNA(IF((INDEX(E737:H737,MATCH(\"D (E)c\",E737:H737,0)))=\"D (E)c\",\"D (E)\",\"\"),_xlfn.IFNA(IF((INDEX(E737:H737,MATCH(\"D\",E737:H737,0)))=\"D\",\"D\",\"\"),_xlfn.IFNA(IF((INDEX(E737:H737,MATCH(\"C\",E737:H737,0)))=\"C\",\"C\",\"\"),_xlfn.IFNA(IF((INDEX(E737:H737,MATCH(\"B\",E737:H737,0)))=\"B\",\"B\",\"\"),_xlfn.IFNA(IF((INDEX(E737:H737,MATCH(\"A\",E737:H737,0)))=\"A\",\"A\",\"\"),_xlfn.IFNA(IF((INDEX(E737:H737,MATCH(\"n.a.\",E737:H737,0)))=\"n.a.\",\"\",\"\"),_xlfn.IFNA(IF((INDEX(E737:H737,MATCH(\"\",E737:H737,0)))=\"\",\"\",\"\"),\"\"))))))))","v":""}]
[]
[]
[null,"\nStep 3: D(E) Assessment\nSkip this step if \nyour assessment above does not reveal a D(E) hazard level.\nHover over this cell for additional instructions.\n",null,null,"\nOverall hazard level\n",null,{"$f":"IF(AND(E738=\"\",C724=\"Yes\")=TRUE,\"B\",IF(E738=\"\",\"\",(IF(AND(E738=\"D (E)\",C741=\"\"),\"D (E)\"&CHAR(10)&\"Find if cat. 1 acute tox.\",(IF(E738<>\"D (E)\",E738,(IF(AND(E738=\"D (E)\",C741=\"Yes\"),\"E\",(IF(AND(E738=\"D (E)\",C741=\"No\"),\"D\",\"\"))))))))))","v":""}]
[]
[{"$f":"IF(IF(MOD(ROWS(B$3:B743),20)=1,INDEX('Summary Sheet'!$A$17:$A820,INT(ROWS(B$3:B743)/20)+1),\"\")=0,\"\",IF(MOD(ROWS(B$3:B743),20)=1,INDEX('Summary Sheet'!$A$17:$A820,INT(ROWS(B$3:B743)/20)+1),\"\"))","v":38},"Hazard Level Assessment","for",{"$f":"IF(IF(MOD(ROWS(D$3:D743),20)=1,INDEX('Summary Sheet'!$B$17:$B820,INT(ROWS(D$3:D743)/20)+1),\"\")=0,\"\",IF(MOD(ROWS(D$3:D743),20)=1,INDEX('Summary Sheet'!$B$17:$B820,INT(ROWS(D$3:D743)/20)+1),\"\"))","v":""}]
[null,"\nStep 1: Physical & Environmental Hazard Statements/Codes\nFind Section 2 of the SDS and determine if the SDS has physical and/or environmental hazard statements/codes. Hover on this cell for additional instructions.\n",null,{"$f":"IF(IF(MOD(ROWS(D$3:D744),20)=1,INDEX('Summary Sheet'!$B$17:$B820,INT(ROWS(D$3:D744)/20)+1),\"\")=0,\"\",IF(MOD(ROWS(D$3:D744),20)=1,INDEX('Summary Sheet'!$B$17:$B820,INT(ROWS(D$3:D744)/20)+1),\"\"))","v":""}]
[null,"Step 2: Health Hazard Statements/Codes\nProvide the Health Hazard Statements or Codes from Section 2 of the SDS below. Hover on this cell for additional instructions.",null,{"$f":"IF(IF(MOD(ROWS(D$3:D745),20)=1,INDEX('Summary Sheet'!$B$17:$B820,INT(ROWS(D$3:D745)/20)+1),\"\")=0,\"\",IF(MOD(ROWS(D$3:D745),20)=1,INDEX('Summary Sheet'!$B$17:$B820,INT(ROWS(D$3:D745)/20)+1),\"\"))","v":""},"\nHazard Level\n"]
[null,null,null,{"$f":"IF(IF(MOD(ROWS(D$3:D746),20)=1,INDEX('Summary Sheet'!$B$17:$B820,INT(ROWS(D$3:D746)/20)+1),\"\")=0,\"\",IF(MOD(ROWS(D$3:D746),20)=1,INDEX('Summary Sheet'!$B$17:$B820,INT(ROWS(D$3:D746)/20)+1),\"\"))","v":""},"\nEye Damage\n","\nInhalation\n","\nLocal Skin Damage\n","\nSkin uptake, systemic\n"]
[1,null,{"$f":"_xlfn.IFNA(VLOOKUP(B747,_!$A$7:$F$210,6,FALSE),\"\")","v":""},{"$f":"IF(IF(MOD(ROWS(D$3:D747),20)=1,INDEX('Summary Sheet'!$B$17:$B820,INT(ROWS(D$3:D747)/20)+1),\"\")=0,\"\",IF(MOD(ROWS(D$3:D747),20)=1,INDEX('Summary Sheet'!$B$17:$B820,INT(ROWS(D$3:D747)/20)+1),\"\"))","v":""},{"$f":"_xlfn.IFNA(IF(VLOOKUP(B747,_!$A$7:$E$210,2,FALSE)=0, \"\", VLOOKUP(B747,_!$A$7:$E$210,2,FALSE)),  \"\")","v":""},{"$f":"_xlfn.IFNA(IF(VLOOKUP(B747,_!$A$7:$E$210,3,FALSE)=0, \"\", VLOOKUP(B747,_!$A$7:$E$210,3,FALSE)), \"\")","v":""},{"$f":"_xlfn.IFNA(IF(VLOOKUP(B747,_!$A$7:$E$210,4,FALSE)=0, \"\",VLOOKUP(B747,_!$A$7:$E$210,4,FALSE)), \"\")","v":""},{"$f":"_xlfn.IFNA(IF(VLOOKUP(B747,_!$A$7:$E$210,5,FALSE)=0,\"\",VLOOKUP(B747,_!$A$7:$E$210,5,FALSE)), \"\")","v":""}]
[2,null,{"$f":"_xlfn.IFNA(VLOOKUP(B748,_!$A$7:$F$210,6,FALSE),\"\")","v":""},{"$f":"IF(IF(MOD(ROWS(D$3:D748),20)=1,INDEX('Summary Sheet'!$B$17:$B820,INT(ROWS(D$3:D748)/20)+1),\"\")=0,\"\",IF(MOD(ROWS(D$3:D748),20)=1,INDEX('Summary Sheet'!$B$17:$B820,INT(ROWS(D$3:D748)/20)+1),\"\"))","v":""},{"$f":"_xlfn.IFNA(IF(VLOOKUP(B748,_!$A$7:$E$210,2,FALSE)=0, \"\", VLOOKUP(B748,_!$A$7:$E$210,2,FALSE)),  \"\")","v":""},{"$f":"_xlfn.IFNA(IF(VLOOKUP(B748,_!$A$7:$E$210,3,FALSE)=0, \"\", VLOOKUP(B748,_!$A$7:$E$210,3,FALSE)), \"\")","v":""},{"$f":"_xlfn.IFNA(IF(VLOOKUP(B748,_!$A$7:$E$210,4,FALSE)=0, \"\",VLOOKUP(B748,_!$A$7:$E$210,4,FALSE)), \"\")","v":""},{"$f":"_xlfn.IFNA(IF(VLOOKUP(B748,_!$A$7:$E$210,5,FALSE)=0,\"\",VLOOKUP(B748,_!$A$7:$E$210,5,FALSE)), \"\")","v":""}]
[3,null,{"$f":"_xlfn.IFNA(VLOOKUP(B749,_!$A$7:$F$210,6,FALSE),\"\")","v":""},{"$f":"IF(IF(MOD(ROWS(D$3:D749),20)=1,INDEX('Summary Sheet'!$B$17:$B820,INT(ROWS(D$3:D749)/20)+1),\"\")=0,\"\",IF(MOD(ROWS(D$3:D749),20)=1,INDEX('Summary Sheet'!$B$17:$B820,INT(ROWS(D$3:D749)/20)+1),\"\"))","v":""},{"$f":"_xlfn.IFNA(IF(VLOOKUP(B749,_!$A$7:$E$210,2,FALSE)=0, \"\", VLOOKUP(B749,_!$A$7:$E$210,2,FALSE)),  \"\")","v":""},{"$f":"_xlfn.IFNA(IF(VLOOKUP(B749,_!$A$7:$E$210,3,FALSE)=0, \"\", VLOOKUP(B749,_!$A$7:$E$210,3,FALSE)), \"\")","v":""},{"$f":"_xlfn.IFNA(IF(VLOOKUP(B749,_!$A$7:$E$210,4,FALSE)=0, \"\",VLOOKUP(B749,_!$A$7:$E$210,4,FALSE)), \"\")","v":""},{"$f":"_xlfn.IFNA(IF(VLOOKUP(B749,_!$A$7:$E$210,5,FALSE)=0,\"\",VLOOKUP(B749,_!$A$7:$E$210,5,FALSE)), \"\")","v":""}]
[4,null,{"$f":"_xlfn.IFNA(VLOOKUP(B750,_!$A$7:$F$210,6,FALSE),\"\")","v":""},{"$f":"IF(IF(MOD(ROWS(D$3:D750),20)=1,INDEX('Summary Sheet'!$B$17:$B820,INT(ROWS(D$3:D750)/20)+1),\"\")=0,\"\",IF(MOD(ROWS(D$3:D750),20)=1,INDEX('Summary Sheet'!$B$17:$B820,INT(ROWS(D$3:D750)/20)+1),\"\"))","v":""},{"$f":"_xlfn.IFNA(IF(VLOOKUP(B750,_!$A$7:$E$210,2,FALSE)=0, \"\", VLOOKUP(B750,_!$A$7:$E$210,2,FALSE)),  \"\")","v":""},{"$f":"_xlfn.IFNA(IF(VLOOKUP(B750,_!$A$7:$E$210,3,FALSE)=0, \"\", VLOOKUP(B750,_!$A$7:$E$210,3,FALSE)), \"\")","v":""},{"$f":"_xlfn.IFNA(IF(VLOOKUP(B750,_!$A$7:$E$210,4,FALSE)=0, \"\",VLOOKUP(B750,_!$A$7:$E$210,4,FALSE)), \"\")","v":""},{"$f":"_xlfn.IFNA(IF(VLOOKUP(B750,_!$A$7:$E$210,5,FALSE)=0,\"\",VLOOKUP(B750,_!$A$7:$E$210,5,FALSE)), \"\")","v":""}]
[5,null,{"$f":"_xlfn.IFNA(VLOOKUP(B751,_!$A$7:$F$210,6,FALSE),\"\")","v":""},{"$f":"IF(IF(MOD(ROWS(D$3:D751),20)=1,INDEX('Summary Sheet'!$B$17:$B820,INT(ROWS(D$3:D751)/20)+1),\"\")=0,\"\",IF(MOD(ROWS(D$3:D751),20)=1,INDEX('Summary Sheet'!$B$17:$B820,INT(ROWS(D$3:D751)/20)+1),\"\"))","v":""},{"$f":"_xlfn.IFNA(IF(VLOOKUP(B751,_!$A$7:$E$210,2,FALSE)=0, \"\", VLOOKUP(B751,_!$A$7:$E$210,2,FALSE)),  \"\")","v":""},{"$f":"_xlfn.IFNA(IF(VLOOKUP(B751,_!$A$7:$E$210,3,FALSE)=0, \"\", VLOOKUP(B751,_!$A$7:$E$210,3,FALSE)), \"\")","v":""},{"$f":"_xlfn.IFNA(IF(VLOOKUP(B751,_!$A$7:$E$210,4,FALSE)=0, \"\",VLOOKUP(B751,_!$A$7:$E$210,4,FALSE)), \"\")","v":""},{"$f":"_xlfn.IFNA(IF(VLOOKUP(B751,_!$A$7:$E$210,5,FALSE)=0,\"\",VLOOKUP(B751,_!$A$7:$E$210,5,FALSE)), \"\")","v":""}]
[6,null,{"$f":"_xlfn.IFNA(VLOOKUP(B752,_!$A$7:$F$210,6,FALSE),\"\")","v":""},{"$f":"IF(IF(MOD(ROWS(D$3:D752),20)=1,INDEX('Summary Sheet'!$B$17:$B820,INT(ROWS(D$3:D752)/20)+1),\"\")=0,\"\",IF(MOD(ROWS(D$3:D752),20)=1,INDEX('Summary Sheet'!$B$17:$B820,INT(ROWS(D$3:D752)/20)+1),\"\"))","v":""},{"$f":"_xlfn.IFNA(IF(VLOOKUP(B752,_!$A$7:$E$210,2,FALSE)=0, \"\", VLOOKUP(B752,_!$A$7:$E$210,2,FALSE)),  \"\")","v":""},{"$f":"_xlfn.IFNA(IF(VLOOKUP(B752,_!$A$7:$E$210,3,FALSE)=0, \"\", VLOOKUP(B752,_!$A$7:$E$210,3,FALSE)), \"\")","v":""},{"$f":"_xlfn.IFNA(IF(VLOOKUP(B752,_!$A$7:$E$210,4,FALSE)=0, \"\",VLOOKUP(B752,_!$A$7:$E$210,4,FALSE)), \"\")","v":""},{"$f":"_xlfn.IFNA(IF(VLOOKUP(B752,_!$A$7:$E$210,5,FALSE)=0,\"\",VLOOKUP(B752,_!$A$7:$E$210,5,FALSE)), \"\")","v":""}]
[7,null,{"$f":"_xlfn.IFNA(VLOOKUP(B753,_!$A$7:$F$210,6,FALSE),\"\")","v":""},{"$f":"IF(IF(MOD(ROWS(D$3:D753),20)=1,INDEX('Summary Sheet'!$B$17:$B820,INT(ROWS(D$3:D753)/20)+1),\"\")=0,\"\",IF(MOD(ROWS(D$3:D753),20)=1,INDEX('Summary Sheet'!$B$17:$B820,INT(ROWS(D$3:D753)/20)+1),\"\"))","v":""},{"$f":"_xlfn.IFNA(IF(VLOOKUP(B753,_!$A$7:$E$210,2,FALSE)=0, \"\", VLOOKUP(B753,_!$A$7:$E$210,2,FALSE)),  \"\")","v":""},{"$f":"_xlfn.IFNA(IF(VLOOKUP(B753,_!$A$7:$E$210,3,FALSE)=0, \"\", VLOOKUP(B753,_!$A$7:$E$210,3,FALSE)), \"\")","v":""},{"$f":"_xlfn.IFNA(IF(VLOOKUP(B753,_!$A$7:$E$210,4,FALSE)=0, \"\",VLOOKUP(B753,_!$A$7:$E$210,4,FALSE)), \"\")","v":""},{"$f":"_xlfn.IFNA(IF(VLOOKUP(B753,_!$A$7:$E$210,5,FALSE)=0,\"\",VLOOKUP(B753,_!$A$7:$E$210,5,FALSE)), \"\")","v":""}]
[8,null,{"$f":"_xlfn.IFNA(VLOOKUP(B754,_!$A$7:$F$210,6,FALSE),\"\")","v":""},{"$f":"IF(IF(MOD(ROWS(D$3:D754),20)=1,INDEX('Summary Sheet'!$B$17:$B820,INT(ROWS(D$3:D754)/20)+1),\"\")=0,\"\",IF(MOD(ROWS(D$3:D754),20)=1,INDEX('Summary Sheet'!$B$17:$B820,INT(ROWS(D$3:D754)/20)+1),\"\"))","v":""},{"$f":"_xlfn.IFNA(IF(VLOOKUP(B754,_!$A$7:$E$210,2,FALSE)=0, \"\", VLOOKUP(B754,_!$A$7:$E$210,2,FALSE)),  \"\")","v":""},{"$f":"_xlfn.IFNA(IF(VLOOKUP(B754,_!$A$7:$E$210,3,FALSE)=0, \"\", VLOOKUP(B754,_!$A$7:$E$210,3,FALSE)), \"\")","v":""},{"$f":"_xlfn.IFNA(IF(VLOOKUP(B754,_!$A$7:$E$210,4,FALSE)=0, \"\",VLOOKUP(B754,_!$A$7:$E$210,4,FALSE)), \"\")","v":""},{"$f":"_xlfn.IFNA(IF(VLOOKUP(B754,_!$A$7:$E$210,5,FALSE)=0,\"\",VLOOKUP(B754,_!$A$7:$E$210,5,FALSE)), \"\")","v":""}]
[9,null,{"$f":"_xlfn.IFNA(VLOOKUP(B755,_!$A$7:$F$210,6,FALSE),\"\")","v":""},{"$f":"IF(IF(MOD(ROWS(D$3:D755),20)=1,INDEX('Summary Sheet'!$B$17:$B820,INT(ROWS(D$3:D755)/20)+1),\"\")=0,\"\",IF(MOD(ROWS(D$3:D755),20)=1,INDEX('Summary Sheet'!$B$17:$B820,INT(ROWS(D$3:D755)/20)+1),\"\"))","v":""},{"$f":"_xlfn.IFNA(IF(VLOOKUP(B755,_!$A$7:$E$210,2,FALSE)=0, \"\", VLOOKUP(B755,_!$A$7:$E$210,2,FALSE)),  \"\")","v":""},{"$f":"_xlfn.IFNA(IF(VLOOKUP(B755,_!$A$7:$E$210,3,FALSE)=0, \"\", VLOOKUP(B755,_!$A$7:$E$210,3,FALSE)), \"\")","v":""},{"$f":"_xlfn.IFNA(IF(VLOOKUP(B755,_!$A$7:$E$210,4,FALSE)=0, \"\",VLOOKUP(B755,_!$A$7:$E$210,4,FALSE)), \"\")","v":""},{"$f":"_xlfn.IFNA(IF(VLOOKUP(B755,_!$A$7:$E$210,5,FALSE)=0,\"\",VLOOKUP(B755,_!$A$7:$E$210,5,FALSE)), \"\")","v":""}]
[10,null,{"$f":"_xlfn.IFNA(VLOOKUP(B756,_!$A$7:$F$210,6,FALSE),\"\")","v":""},{"$f":"IF(IF(MOD(ROWS(D$14:D756),20)=1,INDEX('Summary Sheet'!$B$17:$B820,INT(ROWS(D$14:D756)/20)+1),\"\")=0,\"\",IF(MOD(ROWS(D$14:D756),20)=1,INDEX('Summary Sheet'!$B$17:$B820,INT(ROWS(D$14:D756)/20)+1),\"\"))","v":""},{"$f":"_xlfn.IFNA(IF(VLOOKUP(B756,_!$A$7:$E$210,2,FALSE)=0, \"\", VLOOKUP(B756,_!$A$7:$E$210,2,FALSE)),  \"\")","v":""},{"$f":"_xlfn.IFNA(IF(VLOOKUP(B756,_!$A$7:$E$210,3,FALSE)=0, \"\", VLOOKUP(B756,_!$A$7:$E$210,3,FALSE)), \"\")","v":""},{"$f":"_xlfn.IFNA(IF(VLOOKUP(B756,_!$A$7:$E$210,4,FALSE)=0, \"\",VLOOKUP(B756,_!$A$7:$E$210,4,FALSE)), \"\")","v":""},{"$f":"_xlfn.IFNA(IF(VLOOKUP(B756,_!$A$7:$E$210,5,FALSE)=0,\"\",VLOOKUP(B756,_!$A$7:$E$210,5,FALSE)), \"\")","v":""}]
[null,"\nHighest hazard level for each ‘Uptake Route’\n",null,null,{"$f":"_xlfn.IFNA(IF((INDEX(E747:E756,MATCH(\"E\",E747:E756,0)))=\"E\",\"E\",\"\"),_xlfn.IFNA(IF((INDEX(E747:E756,MATCH(\"D\",E747:E756,0)))=\"D\",\"D\",\"\"),_xlfn.IFNA(IF((INDEX(E747:E756,MATCH(\"Ca\",E747:E756,0)))=\"Ca\",\"C\",\"\"),_xlfn.IFNA(IF((INDEX(E747:E756,MATCH(\"C\",E747:E756,0)))=\"C\",\"C\",\"\"),_xlfn.IFNA(IF((INDEX(E747:E756,MATCH(\"B\",E747:E756,0)))=\"B\",\"B\",\"\"),_xlfn.IFNA(IF((INDEX(E747:E756,MATCH(\"A\",E747:E756,0)))=\"A\",\"A\",\"\"),_xlfn.IFNA(IF((INDEX(E747:E756,MATCH(\"n.a.\",E747:E756,0)))=\"n.a.\",\"\",\"\"),_xlfn.IFNA(IF((INDEX(E747:E756,MATCH(\"\",E747:E756,0)))=\"\",\"\",\"\"),\"\"))))))))","v":""},{"$f":"_xlfn.IFNA(IF((INDEX(F747:F756,MATCH(\"E\",F747:F756,0)))=\"E\",\"E\",\"\"),_xlfn.IFNA(IF((INDEX(F747:F756,MATCH(\"D (E)c\",F747:F756,0)))=\"D (E)c\",\"D (E)c\",\"\"),_xlfn.IFNA(IF((INDEX(F747:F756,MATCH(\"Da (E)c\",F747:F756,0)))=\"Da (E)c\",\"D (E)c\",\"\"),_xlfn.IFNA(IF((INDEX(F747:F756,MATCH(\"D\",F747:F756,0)))=\"D\",\"D\",\"\"),_xlfn.IFNA(IF((INDEX(F747:F756,MATCH(\"Ca\",F747:F756,0)))=\"Ca\",\"C\",\"\"),_xlfn.IFNA(IF((INDEX(F747:F756,MATCH(\"C\",F747:F756,0)))=\"C\",\"C\",\"\"),_xlfn.IFNA(IF((INDEX(F747:F756,MATCH(\"Ba\",F747:F756,0)))=\"Ba\",\"B\",\"\"),_xlfn.IFNA(IF((INDEX(F747:F756,MATCH(\"B\",F747:F756,0)))=\"B\",\"B\",\"\"),_xlfn.IFNA(IF((INDEX(F747:F756,MATCH(\"Aa\",F747:F756,0)))=\"Aa\",\"A\",\"\"),_xlfn.IFNA(IF((INDEX(F747:F756,MATCH(\"A\",F747:F756,0)))=\"A\",\"A\",\"\"),_xlfn.IFNA(IF((INDEX(F747:F756,MATCH(\"n.a.\",F747:F756,0)))=\"n.a.\",\"\",\"\"),_xlfn.IFNA(IF((INDEX(F747:F756,MATCH(\"\",F747:F756,0)))=\"\",\"\",\"\"),\"\"))))))))))))","v":""},{"$f":"_xlfn.IFNA(IF((INDEX(G747:G756,MATCH(\"E\",G747:G756,0)))=\"E\",\"E\",\"\"),_xlfn.IFNA(IF((INDEX(G747:G756,MATCH(\"D\",G747:G756,0)))=\"D\",\"D\",\"\"),_xlfn.IFNA(IF((INDEX(G747:G756,MATCH(\"Ca\",G747:G756,0)))=\"Ca\",\"C\",\"\"),_xlfn.IFNA(IF((INDEX(G747:G756,MATCH(\"C\",G747:G756,0)))=\"C\",\"C\",\"\"),_xlfn.IFNA(IF((INDEX(G747:G756,MATCH(\"B\",G747:G756,0)))=\"B\",\"B\",\"\"),_xlfn.IFNA(IF((INDEX(G747:G756,MATCH(\"A\",G747:G756,0)))=\"A\",\"A\",\"\"),_xlfn.IFNA(IF((INDEX(G747:G756,MATCH(\"n.a.\",G747:G756,0)))=\"n.a.\",\"\",\"\"),_xlfn.IFNA(IF((INDEX(G747:G756,MATCH(\"\",G747:G756,0)))=\"\",\"\",\"\"),\"\"))))))))","v":""},{"$f":"_xlfn.IFNA(IF((INDEX(H747:H756,MATCH(\"E\",H747:H756,0)))=\"E\",\"E\",\"\"),_xlfn.IFNA(IF((INDEX(H747:H756,MATCH(\"D (E)c\",H747:H756,0)))=\"D (E)c\",\"D (E)c\",\"\"),_xlfn.IFNA(IF((INDEX(H747:H756,MATCH(\"Db (E)c\",H747:H756,0)))=\"Db (E)c\",\"D (E)c\",\"\"),_xlfn.IFNA(IF((INDEX(H747:H756,MATCH(\"D\",H747:H756,0)))=\"D\",\"D\",\"\"),_xlfn.IFNA(IF((INDEX(H747:H756,MATCH(\"Cb\",H747:H756,0)))=\"Cb\",\"C\",\"\"),_xlfn.IFNA(IF((INDEX(H747:H756,MATCH(\"C\",H747:H756,0)))=\"C\",\"C\",\"\"),_xlfn.IFNA(IF((INDEX(H747:H756,MATCH(\"Bb\",H747:H756,0)))=\"Bb\",\"B\",\"\"),_xlfn.IFNA(IF((INDEX(H747:H756,MATCH(\"B\",H747:H756,0)))=\"B\",\"B\",\"\"),_xlfn.IFNA(IF((INDEX(H747:H756,MATCH(\"Ab\",H747:H756,0)))=\"Ab\",\"A\",\"\"),_xlfn.IFNA(IF((INDEX(H747:H756,MATCH(\"A\",H747:H756,0)))=\"A\",\"A\",\"\"),_xlfn.IFNA(IF((INDEX(H747:H756,MATCH(\"n.a.\",H747:H756,0)))=\"n.a.\",\"\",\"\"),_xlfn.IFNA(IF((INDEX(H747:H756,MATCH(\"\",H747:H756,0)))=\"\",\"\",\"\"),\"\"))))))))))))","v":""}]
[null,"\nHighest hazard level for all 'Uptake Routes' \n",null,null,{"$f":"_xlfn.IFNA(IF((INDEX(E757:H757,MATCH(\"E\",E757:H757,0)))=\"E\",\"E\",\"\"),_xlfn.IFNA(IF((INDEX(E757:H757,MATCH(\"D (E)c\",E757:H757,0)))=\"D (E)c\",\"D (E)\",\"\"),_xlfn.IFNA(IF((INDEX(E757:H757,MATCH(\"D\",E757:H757,0)))=\"D\",\"D\",\"\"),_xlfn.IFNA(IF((INDEX(E757:H757,MATCH(\"C\",E757:H757,0)))=\"C\",\"C\",\"\"),_xlfn.IFNA(IF((INDEX(E757:H757,MATCH(\"B\",E757:H757,0)))=\"B\",\"B\",\"\"),_xlfn.IFNA(IF((INDEX(E757:H757,MATCH(\"A\",E757:H757,0)))=\"A\",\"A\",\"\"),_xlfn.IFNA(IF((INDEX(E757:H757,MATCH(\"n.a.\",E757:H757,0)))=\"n.a.\",\"\",\"\"),_xlfn.IFNA(IF((INDEX(E757:H757,MATCH(\"\",E757:H757,0)))=\"\",\"\",\"\"),\"\"))))))))","v":""}]
[]
[]
[null,"\nStep 3: D(E) Assessment\nSkip this step if \nyour assessment above does not reveal a D(E) hazard level.\nHover over this cell for additional instructions.\n",null,null,"\nOverall hazard level\n",null,{"$f":"IF(AND(E758=\"\",C744=\"Yes\")=TRUE,\"B\",IF(E758=\"\",\"\",(IF(AND(E758=\"D (E)\",C761=\"\"),\"D (E)\"&CHAR(10)&\"Find if cat. 1 acute tox.\",(IF(E758<>\"D (E)\",E758,(IF(AND(E758=\"D (E)\",C761=\"Yes\"),\"E\",(IF(AND(E758=\"D (E)\",C761=\"No\"),\"D\",\"\"))))))))))","v":""}]
[]
[{"$f":"IF(IF(MOD(ROWS(B$3:B763),20)=1,INDEX('Summary Sheet'!$A$17:$A839,INT(ROWS(B$3:B763)/20)+1),\"\")=0,\"\",IF(MOD(ROWS(B$3:B763),20)=1,INDEX('Summary Sheet'!$A$17:$A839,INT(ROWS(B$3:B763)/20)+1),\"\"))","v":39},"Hazard Level Assessment","for",{"$f":"IF(IF(MOD(ROWS(D$3:D763),20)=1,INDEX('Summary Sheet'!$B$17:$B839,INT(ROWS(D$3:D763)/20)+1),\"\")=0,\"\",IF(MOD(ROWS(D$3:D763),20)=1,INDEX('Summary Sheet'!$B$17:$B839,INT(ROWS(D$3:D763)/20)+1),\"\"))","v":""}]
[null,"\nStep 1: Physical & Environmental Hazard Statements/Codes\nFind Section 2 of the SDS and determine if the SDS has physical and/or environmental hazard statements/codes. Hover on this cell for additional instructions.\n",null,{"$f":"IF(IF(MOD(ROWS(D$3:D764),20)=1,INDEX('Summary Sheet'!$B$17:$B839,INT(ROWS(D$3:D764)/20)+1),\"\")=0,\"\",IF(MOD(ROWS(D$3:D764),20)=1,INDEX('Summary Sheet'!$B$17:$B839,INT(ROWS(D$3:D764)/20)+1),\"\"))","v":""}]
[null,"Step 2: Health Hazard Statements/Codes\nProvide the Health Hazard Statements or Codes from Section 2 of the SDS below. Hover on this cell for additional instructions.",null,{"$f":"IF(IF(MOD(ROWS(D$3:D765),20)=1,INDEX('Summary Sheet'!$B$17:$B839,INT(ROWS(D$3:D765)/20)+1),\"\")=0,\"\",IF(MOD(ROWS(D$3:D765),20)=1,INDEX('Summary Sheet'!$B$17:$B839,INT(ROWS(D$3:D765)/20)+1),\"\"))","v":""},"\nHazard Level\n"]
[null,null,null,{"$f":"IF(IF(MOD(ROWS(D$3:D766),20)=1,INDEX('Summary Sheet'!$B$17:$B839,INT(ROWS(D$3:D766)/20)+1),\"\")=0,\"\",IF(MOD(ROWS(D$3:D766),20)=1,INDEX('Summary Sheet'!$B$17:$B839,INT(ROWS(D$3:D766)/20)+1),\"\"))","v":""},"\nEye Damage\n","\nInhalation\n","\nLocal Skin Damage\n","\nSkin uptake, systemic\n"]
[1,null,{"$f":"_xlfn.IFNA(VLOOKUP(B767,_!$A$7:$F$210,6,FALSE),\"\")","v":""},{"$f":"IF(IF(MOD(ROWS(D$3:D767),20)=1,INDEX('Summary Sheet'!$B$17:$B839,INT(ROWS(D$3:D767)/20)+1),\"\")=0,\"\",IF(MOD(ROWS(D$3:D767),20)=1,INDEX('Summary Sheet'!$B$17:$B839,INT(ROWS(D$3:D767)/20)+1),\"\"))","v":""},{"$f":"_xlfn.IFNA(IF(VLOOKUP(B767,_!$A$7:$E$210,2,FALSE)=0, \"\", VLOOKUP(B767,_!$A$7:$E$210,2,FALSE)),  \"\")","v":""},{"$f":"_xlfn.IFNA(IF(VLOOKUP(B767,_!$A$7:$E$210,3,FALSE)=0, \"\", VLOOKUP(B767,_!$A$7:$E$210,3,FALSE)), \"\")","v":""},{"$f":"_xlfn.IFNA(IF(VLOOKUP(B767,_!$A$7:$E$210,4,FALSE)=0, \"\",VLOOKUP(B767,_!$A$7:$E$210,4,FALSE)), \"\")","v":""},{"$f":"_xlfn.IFNA(IF(VLOOKUP(B767,_!$A$7:$E$210,5,FALSE)=0,\"\",VLOOKUP(B767,_!$A$7:$E$210,5,FALSE)), \"\")","v":""}]
[2,null,{"$f":"_xlfn.IFNA(VLOOKUP(B768,_!$A$7:$F$210,6,FALSE),\"\")","v":""},{"$f":"IF(IF(MOD(ROWS(D$3:D768),20)=1,INDEX('Summary Sheet'!$B$17:$B839,INT(ROWS(D$3:D768)/20)+1),\"\")=0,\"\",IF(MOD(ROWS(D$3:D768),20)=1,INDEX('Summary Sheet'!$B$17:$B839,INT(ROWS(D$3:D768)/20)+1),\"\"))","v":""},{"$f":"_xlfn.IFNA(IF(VLOOKUP(B768,_!$A$7:$E$210,2,FALSE)=0, \"\", VLOOKUP(B768,_!$A$7:$E$210,2,FALSE)),  \"\")","v":""},{"$f":"_xlfn.IFNA(IF(VLOOKUP(B768,_!$A$7:$E$210,3,FALSE)=0, \"\", VLOOKUP(B768,_!$A$7:$E$210,3,FALSE)), \"\")","v":""},{"$f":"_xlfn.IFNA(IF(VLOOKUP(B768,_!$A$7:$E$210,4,FALSE)=0, \"\",VLOOKUP(B768,_!$A$7:$E$210,4,FALSE)), \"\")","v":""},{"$f":"_xlfn.IFNA(IF(VLOOKUP(B768,_!$A$7:$E$210,5,FALSE)=0,\"\",VLOOKUP(B768,_!$A$7:$E$210,5,FALSE)), \"\")","v":""}]
[3,null,{"$f":"_xlfn.IFNA(VLOOKUP(B769,_!$A$7:$F$210,6,FALSE),\"\")","v":""},{"$f":"IF(IF(MOD(ROWS(D$3:D769),20)=1,INDEX('Summary Sheet'!$B$17:$B839,INT(ROWS(D$3:D769)/20)+1),\"\")=0,\"\",IF(MOD(ROWS(D$3:D769),20)=1,INDEX('Summary Sheet'!$B$17:$B839,INT(ROWS(D$3:D769)/20)+1),\"\"))","v":""},{"$f":"_xlfn.IFNA(IF(VLOOKUP(B769,_!$A$7:$E$210,2,FALSE)=0, \"\", VLOOKUP(B769,_!$A$7:$E$210,2,FALSE)),  \"\")","v":""},{"$f":"_xlfn.IFNA(IF(VLOOKUP(B769,_!$A$7:$E$210,3,FALSE)=0, \"\", VLOOKUP(B769,_!$A$7:$E$210,3,FALSE)), \"\")","v":""},{"$f":"_xlfn.IFNA(IF(VLOOKUP(B769,_!$A$7:$E$210,4,FALSE)=0, \"\",VLOOKUP(B769,_!$A$7:$E$210,4,FALSE)), \"\")","v":""},{"$f":"_xlfn.IFNA(IF(VLOOKUP(B769,_!$A$7:$E$210,5,FALSE)=0,\"\",VLOOKUP(B769,_!$A$7:$E$210,5,FALSE)), \"\")","v":""}]
[4,null,{"$f":"_xlfn.IFNA(VLOOKUP(B770,_!$A$7:$F$210,6,FALSE),\"\")","v":""},{"$f":"IF(IF(MOD(ROWS(D$3:D770),20)=1,INDEX('Summary Sheet'!$B$17:$B839,INT(ROWS(D$3:D770)/20)+1),\"\")=0,\"\",IF(MOD(ROWS(D$3:D770),20)=1,INDEX('Summary Sheet'!$B$17:$B839,INT(ROWS(D$3:D770)/20)+1),\"\"))","v":""},{"$f":"_xlfn.IFNA(IF(VLOOKUP(B770,_!$A$7:$E$210,2,FALSE)=0, \"\", VLOOKUP(B770,_!$A$7:$E$210,2,FALSE)),  \"\")","v":""},{"$f":"_xlfn.IFNA(IF(VLOOKUP(B770,_!$A$7:$E$210,3,FALSE)=0, \"\", VLOOKUP(B770,_!$A$7:$E$210,3,FALSE)), \"\")","v":""},{"$f":"_xlfn.IFNA(IF(VLOOKUP(B770,_!$A$7:$E$210,4,FALSE)=0, \"\",VLOOKUP(B770,_!$A$7:$E$210,4,FALSE)), \"\")","v":""},{"$f":"_xlfn.IFNA(IF(VLOOKUP(B770,_!$A$7:$E$210,5,FALSE)=0,\"\",VLOOKUP(B770,_!$A$7:$E$210,5,FALSE)), \"\")","v":""}]
[5,null,{"$f":"_xlfn.IFNA(VLOOKUP(B771,_!$A$7:$F$210,6,FALSE),\"\")","v":""},{"$f":"IF(IF(MOD(ROWS(D$3:D771),20)=1,INDEX('Summary Sheet'!$B$17:$B839,INT(ROWS(D$3:D771)/20)+1),\"\")=0,\"\",IF(MOD(ROWS(D$3:D771),20)=1,INDEX('Summary Sheet'!$B$17:$B839,INT(ROWS(D$3:D771)/20)+1),\"\"))","v":""},{"$f":"_xlfn.IFNA(IF(VLOOKUP(B771,_!$A$7:$E$210,2,FALSE)=0, \"\", VLOOKUP(B771,_!$A$7:$E$210,2,FALSE)),  \"\")","v":""},{"$f":"_xlfn.IFNA(IF(VLOOKUP(B771,_!$A$7:$E$210,3,FALSE)=0, \"\", VLOOKUP(B771,_!$A$7:$E$210,3,FALSE)), \"\")","v":""},{"$f":"_xlfn.IFNA(IF(VLOOKUP(B771,_!$A$7:$E$210,4,FALSE)=0, \"\",VLOOKUP(B771,_!$A$7:$E$210,4,FALSE)), \"\")","v":""},{"$f":"_xlfn.IFNA(IF(VLOOKUP(B771,_!$A$7:$E$210,5,FALSE)=0,\"\",VLOOKUP(B771,_!$A$7:$E$210,5,FALSE)), \"\")","v":""}]
[6,null,{"$f":"_xlfn.IFNA(VLOOKUP(B772,_!$A$7:$F$210,6,FALSE),\"\")","v":""},{"$f":"IF(IF(MOD(ROWS(D$3:D772),20)=1,INDEX('Summary Sheet'!$B$17:$B839,INT(ROWS(D$3:D772)/20)+1),\"\")=0,\"\",IF(MOD(ROWS(D$3:D772),20)=1,INDEX('Summary Sheet'!$B$17:$B839,INT(ROWS(D$3:D772)/20)+1),\"\"))","v":""},{"$f":"_xlfn.IFNA(IF(VLOOKUP(B772,_!$A$7:$E$210,2,FALSE)=0, \"\", VLOOKUP(B772,_!$A$7:$E$210,2,FALSE)),  \"\")","v":""},{"$f":"_xlfn.IFNA(IF(VLOOKUP(B772,_!$A$7:$E$210,3,FALSE)=0, \"\", VLOOKUP(B772,_!$A$7:$E$210,3,FALSE)), \"\")","v":""},{"$f":"_xlfn.IFNA(IF(VLOOKUP(B772,_!$A$7:$E$210,4,FALSE)=0, \"\",VLOOKUP(B772,_!$A$7:$E$210,4,FALSE)), \"\")","v":""},{"$f":"_xlfn.IFNA(IF(VLOOKUP(B772,_!$A$7:$E$210,5,FALSE)=0,\"\",VLOOKUP(B772,_!$A$7:$E$210,5,FALSE)), \"\")","v":""}]
[7,null,{"$f":"_xlfn.IFNA(VLOOKUP(B773,_!$A$7:$F$210,6,FALSE),\"\")","v":""},{"$f":"IF(IF(MOD(ROWS(D$3:D773),20)=1,INDEX('Summary Sheet'!$B$17:$B839,INT(ROWS(D$3:D773)/20)+1),\"\")=0,\"\",IF(MOD(ROWS(D$3:D773),20)=1,INDEX('Summary Sheet'!$B$17:$B839,INT(ROWS(D$3:D773)/20)+1),\"\"))","v":""},{"$f":"_xlfn.IFNA(IF(VLOOKUP(B773,_!$A$7:$E$210,2,FALSE)=0, \"\", VLOOKUP(B773,_!$A$7:$E$210,2,FALSE)),  \"\")","v":""},{"$f":"_xlfn.IFNA(IF(VLOOKUP(B773,_!$A$7:$E$210,3,FALSE)=0, \"\", VLOOKUP(B773,_!$A$7:$E$210,3,FALSE)), \"\")","v":""},{"$f":"_xlfn.IFNA(IF(VLOOKUP(B773,_!$A$7:$E$210,4,FALSE)=0, \"\",VLOOKUP(B773,_!$A$7:$E$210,4,FALSE)), \"\")","v":""},{"$f":"_xlfn.IFNA(IF(VLOOKUP(B773,_!$A$7:$E$210,5,FALSE)=0,\"\",VLOOKUP(B773,_!$A$7:$E$210,5,FALSE)), \"\")","v":""}]
[8,null,{"$f":"_xlfn.IFNA(VLOOKUP(B774,_!$A$7:$F$210,6,FALSE),\"\")","v":""},{"$f":"IF(IF(MOD(ROWS(D$3:D774),20)=1,INDEX('Summary Sheet'!$B$17:$B839,INT(ROWS(D$3:D774)/20)+1),\"\")=0,\"\",IF(MOD(ROWS(D$3:D774),20)=1,INDEX('Summary Sheet'!$B$17:$B839,INT(ROWS(D$3:D774)/20)+1),\"\"))","v":""},{"$f":"_xlfn.IFNA(IF(VLOOKUP(B774,_!$A$7:$E$210,2,FALSE)=0, \"\", VLOOKUP(B774,_!$A$7:$E$210,2,FALSE)),  \"\")","v":""},{"$f":"_xlfn.IFNA(IF(VLOOKUP(B774,_!$A$7:$E$210,3,FALSE)=0, \"\", VLOOKUP(B774,_!$A$7:$E$210,3,FALSE)), \"\")","v":""},{"$f":"_xlfn.IFNA(IF(VLOOKUP(B774,_!$A$7:$E$210,4,FALSE)=0, \"\",VLOOKUP(B774,_!$A$7:$E$210,4,FALSE)), \"\")","v":""},{"$f":"_xlfn.IFNA(IF(VLOOKUP(B774,_!$A$7:$E$210,5,FALSE)=0,\"\",VLOOKUP(B774,_!$A$7:$E$210,5,FALSE)), \"\")","v":""}]
[9,null,{"$f":"_xlfn.IFNA(VLOOKUP(B775,_!$A$7:$F$210,6,FALSE),\"\")","v":""},{"$f":"IF(IF(MOD(ROWS(D$3:D775),20)=1,INDEX('Summary Sheet'!$B$17:$B839,INT(ROWS(D$3:D775)/20)+1),\"\")=0,\"\",IF(MOD(ROWS(D$3:D775),20)=1,INDEX('Summary Sheet'!$B$17:$B839,INT(ROWS(D$3:D775)/20)+1),\"\"))","v":""},{"$f":"_xlfn.IFNA(IF(VLOOKUP(B775,_!$A$7:$E$210,2,FALSE)=0, \"\", VLOOKUP(B775,_!$A$7:$E$210,2,FALSE)),  \"\")","v":""},{"$f":"_xlfn.IFNA(IF(VLOOKUP(B775,_!$A$7:$E$210,3,FALSE)=0, \"\", VLOOKUP(B775,_!$A$7:$E$210,3,FALSE)), \"\")","v":""},{"$f":"_xlfn.IFNA(IF(VLOOKUP(B775,_!$A$7:$E$210,4,FALSE)=0, \"\",VLOOKUP(B775,_!$A$7:$E$210,4,FALSE)), \"\")","v":""},{"$f":"_xlfn.IFNA(IF(VLOOKUP(B775,_!$A$7:$E$210,5,FALSE)=0,\"\",VLOOKUP(B775,_!$A$7:$E$210,5,FALSE)), \"\")","v":""}]
[10,null,{"$f":"_xlfn.IFNA(VLOOKUP(B776,_!$A$7:$F$210,6,FALSE),\"\")","v":""},{"$f":"IF(IF(MOD(ROWS(D$14:D776),20)=1,INDEX('Summary Sheet'!$B$17:$B839,INT(ROWS(D$14:D776)/20)+1),\"\")=0,\"\",IF(MOD(ROWS(D$14:D776),20)=1,INDEX('Summary Sheet'!$B$17:$B839,INT(ROWS(D$14:D776)/20)+1),\"\"))","v":""},{"$f":"_xlfn.IFNA(IF(VLOOKUP(B776,_!$A$7:$E$210,2,FALSE)=0, \"\", VLOOKUP(B776,_!$A$7:$E$210,2,FALSE)),  \"\")","v":""},{"$f":"_xlfn.IFNA(IF(VLOOKUP(B776,_!$A$7:$E$210,3,FALSE)=0, \"\", VLOOKUP(B776,_!$A$7:$E$210,3,FALSE)), \"\")","v":""},{"$f":"_xlfn.IFNA(IF(VLOOKUP(B776,_!$A$7:$E$210,4,FALSE)=0, \"\",VLOOKUP(B776,_!$A$7:$E$210,4,FALSE)), \"\")","v":""},{"$f":"_xlfn.IFNA(IF(VLOOKUP(B776,_!$A$7:$E$210,5,FALSE)=0,\"\",VLOOKUP(B776,_!$A$7:$E$210,5,FALSE)), \"\")","v":""}]
[null,"\nHighest hazard level for each ‘Uptake Route’\n",null,null,{"$f":"_xlfn.IFNA(IF((INDEX(E767:E776,MATCH(\"E\",E767:E776,0)))=\"E\",\"E\",\"\"),_xlfn.IFNA(IF((INDEX(E767:E776,MATCH(\"D\",E767:E776,0)))=\"D\",\"D\",\"\"),_xlfn.IFNA(IF((INDEX(E767:E776,MATCH(\"Ca\",E767:E776,0)))=\"Ca\",\"C\",\"\"),_xlfn.IFNA(IF((INDEX(E767:E776,MATCH(\"C\",E767:E776,0)))=\"C\",\"C\",\"\"),_xlfn.IFNA(IF((INDEX(E767:E776,MATCH(\"B\",E767:E776,0)))=\"B\",\"B\",\"\"),_xlfn.IFNA(IF((INDEX(E767:E776,MATCH(\"A\",E767:E776,0)))=\"A\",\"A\",\"\"),_xlfn.IFNA(IF((INDEX(E767:E776,MATCH(\"n.a.\",E767:E776,0)))=\"n.a.\",\"\",\"\"),_xlfn.IFNA(IF((INDEX(E767:E776,MATCH(\"\",E767:E776,0)))=\"\",\"\",\"\"),\"\"))))))))","v":""},{"$f":"_xlfn.IFNA(IF((INDEX(F767:F776,MATCH(\"E\",F767:F776,0)))=\"E\",\"E\",\"\"),_xlfn.IFNA(IF((INDEX(F767:F776,MATCH(\"D (E)c\",F767:F776,0)))=\"D (E)c\",\"D (E)c\",\"\"),_xlfn.IFNA(IF((INDEX(F767:F776,MATCH(\"Da (E)c\",F767:F776,0)))=\"Da (E)c\",\"D (E)c\",\"\"),_xlfn.IFNA(IF((INDEX(F767:F776,MATCH(\"D\",F767:F776,0)))=\"D\",\"D\",\"\"),_xlfn.IFNA(IF((INDEX(F767:F776,MATCH(\"Ca\",F767:F776,0)))=\"Ca\",\"C\",\"\"),_xlfn.IFNA(IF((INDEX(F767:F776,MATCH(\"C\",F767:F776,0)))=\"C\",\"C\",\"\"),_xlfn.IFNA(IF((INDEX(F767:F776,MATCH(\"Ba\",F767:F776,0)))=\"Ba\",\"B\",\"\"),_xlfn.IFNA(IF((INDEX(F767:F776,MATCH(\"B\",F767:F776,0)))=\"B\",\"B\",\"\"),_xlfn.IFNA(IF((INDEX(F767:F776,MATCH(\"Aa\",F767:F776,0)))=\"Aa\",\"A\",\"\"),_xlfn.IFNA(IF((INDEX(F767:F776,MATCH(\"A\",F767:F776,0)))=\"A\",\"A\",\"\"),_xlfn.IFNA(IF((INDEX(F767:F776,MATCH(\"n.a.\",F767:F776,0)))=\"n.a.\",\"\",\"\"),_xlfn.IFNA(IF((INDEX(F767:F776,MATCH(\"\",F767:F776,0)))=\"\",\"\",\"\"),\"\"))))))))))))","v":""},{"$f":"_xlfn.IFNA(IF((INDEX(G767:G776,MATCH(\"E\",G767:G776,0)))=\"E\",\"E\",\"\"),_xlfn.IFNA(IF((INDEX(G767:G776,MATCH(\"D\",G767:G776,0)))=\"D\",\"D\",\"\"),_xlfn.IFNA(IF((INDEX(G767:G776,MATCH(\"Ca\",G767:G776,0)))=\"Ca\",\"C\",\"\"),_xlfn.IFNA(IF((INDEX(G767:G776,MATCH(\"C\",G767:G776,0)))=\"C\",\"C\",\"\"),_xlfn.IFNA(IF((INDEX(G767:G776,MATCH(\"B\",G767:G776,0)))=\"B\",\"B\",\"\"),_xlfn.IFNA(IF((INDEX(G767:G776,MATCH(\"A\",G767:G776,0)))=\"A\",\"A\",\"\"),_xlfn.IFNA(IF((INDEX(G767:G776,MATCH(\"n.a.\",G767:G776,0)))=\"n.a.\",\"\",\"\"),_xlfn.IFNA(IF((INDEX(G767:G776,MATCH(\"\",G767:G776,0)))=\"\",\"\",\"\"),\"\"))))))))","v":""},{"$f":"_xlfn.IFNA(IF((INDEX(H767:H776,MATCH(\"E\",H767:H776,0)))=\"E\",\"E\",\"\"),_xlfn.IFNA(IF((INDEX(H767:H776,MATCH(\"D (E)c\",H767:H776,0)))=\"D (E)c\",\"D (E)c\",\"\"),_xlfn.IFNA(IF((INDEX(H767:H776,MATCH(\"Db (E)c\",H767:H776,0)))=\"Db (E)c\",\"D (E)c\",\"\"),_xlfn.IFNA(IF((INDEX(H767:H776,MATCH(\"D\",H767:H776,0)))=\"D\",\"D\",\"\"),_xlfn.IFNA(IF((INDEX(H767:H776,MATCH(\"Cb\",H767:H776,0)))=\"Cb\",\"C\",\"\"),_xlfn.IFNA(IF((INDEX(H767:H776,MATCH(\"C\",H767:H776,0)))=\"C\",\"C\",\"\"),_xlfn.IFNA(IF((INDEX(H767:H776,MATCH(\"Bb\",H767:H776,0)))=\"Bb\",\"B\",\"\"),_xlfn.IFNA(IF((INDEX(H767:H776,MATCH(\"B\",H767:H776,0)))=\"B\",\"B\",\"\"),_xlfn.IFNA(IF((INDEX(H767:H776,MATCH(\"Ab\",H767:H776,0)))=\"Ab\",\"A\",\"\"),_xlfn.IFNA(IF((INDEX(H767:H776,MATCH(\"A\",H767:H776,0)))=\"A\",\"A\",\"\"),_xlfn.IFNA(IF((INDEX(H767:H776,MATCH(\"n.a.\",H767:H776,0)))=\"n.a.\",\"\",\"\"),_xlfn.IFNA(IF((INDEX(H767:H776,MATCH(\"\",H767:H776,0)))=\"\",\"\",\"\"),\"\"))))))))))))","v":""}]
[null,"\nHighest hazard level for all 'Uptake Routes' \n",null,null,{"$f":"_xlfn.IFNA(IF((INDEX(E777:H777,MATCH(\"E\",E777:H777,0)))=\"E\",\"E\",\"\"),_xlfn.IFNA(IF((INDEX(E777:H777,MATCH(\"D (E)c\",E777:H777,0)))=\"D (E)c\",\"D (E)\",\"\"),_xlfn.IFNA(IF((INDEX(E777:H777,MATCH(\"D\",E777:H777,0)))=\"D\",\"D\",\"\"),_xlfn.IFNA(IF((INDEX(E777:H777,MATCH(\"C\",E777:H777,0)))=\"C\",\"C\",\"\"),_xlfn.IFNA(IF((INDEX(E777:H777,MATCH(\"B\",E777:H777,0)))=\"B\",\"B\",\"\"),_xlfn.IFNA(IF((INDEX(E777:H777,MATCH(\"A\",E777:H777,0)))=\"A\",\"A\",\"\"),_xlfn.IFNA(IF((INDEX(E777:H777,MATCH(\"n.a.\",E777:H777,0)))=\"n.a.\",\"\",\"\"),_xlfn.IFNA(IF((INDEX(E777:H777,MATCH(\"\",E777:H777,0)))=\"\",\"\",\"\"),\"\"))))))))","v":""}]
[]
[]
[null,"\nStep 3: D(E) Assessment\nSkip this step if \nyour assessment above does not reveal a D(E) hazard level.\nHover over this cell for additional instructions.\n",null,null,"\nOverall hazard level\n",null,{"$f":"IF(AND(E778=\"\",C764=\"Yes\")=TRUE,\"B\",IF(E778=\"\",\"\",(IF(AND(E778=\"D (E)\",C781=\"\"),\"D (E)\"&CHAR(10)&\"Find if cat. 1 acute tox.\",(IF(E778<>\"D (E)\",E778,(IF(AND(E778=\"D (E)\",C781=\"Yes\"),\"E\",(IF(AND(E778=\"D (E)\",C781=\"No\"),\"D\",\"\"))))))))))","v":""}]
[]
[{"$f":"IF(IF(MOD(ROWS(B$3:B783),20)=1,INDEX('Summary Sheet'!$A$17:$A858,INT(ROWS(B$3:B783)/20)+1),\"\")=0,\"\",IF(MOD(ROWS(B$3:B783),20)=1,INDEX('Summary Sheet'!$A$17:$A858,INT(ROWS(B$3:B783)/20)+1),\"\"))","v":40},"Hazard Level Assessment","for",{"$f":"IF(IF(MOD(ROWS(D$3:D783),20)=1,INDEX('Summary Sheet'!$B$17:$B858,INT(ROWS(D$3:D783)/20)+1),\"\")=0,\"\",IF(MOD(ROWS(D$3:D783),20)=1,INDEX('Summary Sheet'!$B$17:$B858,INT(ROWS(D$3:D783)/20)+1),\"\"))","v":""}]
[null,"\nStep 1: Physical & Environmental Hazard Statements/Codes\nFind Section 2 of the SDS and determine if the SDS has physical and/or environmental hazard statements/codes. Hover on this cell for additional instructions.\n",null,{"$f":"IF(IF(MOD(ROWS(D$3:D784),20)=1,INDEX('Summary Sheet'!$B$17:$B858,INT(ROWS(D$3:D784)/20)+1),\"\")=0,\"\",IF(MOD(ROWS(D$3:D784),20)=1,INDEX('Summary Sheet'!$B$17:$B858,INT(ROWS(D$3:D784)/20)+1),\"\"))","v":""}]
[null,"Step 2: Health Hazard Statements/Codes\nProvide the Health Hazard Statements or Codes from Section 2 of the SDS below. Hover on this cell for additional instructions.",null,{"$f":"IF(IF(MOD(ROWS(D$3:D785),20)=1,INDEX('Summary Sheet'!$B$17:$B858,INT(ROWS(D$3:D785)/20)+1),\"\")=0,\"\",IF(MOD(ROWS(D$3:D785),20)=1,INDEX('Summary Sheet'!$B$17:$B858,INT(ROWS(D$3:D785)/20)+1),\"\"))","v":""},"\nHazard Level\n"]
[null,null,null,{"$f":"IF(IF(MOD(ROWS(D$3:D786),20)=1,INDEX('Summary Sheet'!$B$17:$B858,INT(ROWS(D$3:D786)/20)+1),\"\")=0,\"\",IF(MOD(ROWS(D$3:D786),20)=1,INDEX('Summary Sheet'!$B$17:$B858,INT(ROWS(D$3:D786)/20)+1),\"\"))","v":""},"\nEye Damage\n","\nInhalation\n","\nLocal Skin Damage\n","\nSkin uptake, systemic\n"]
[1,null,{"$f":"_xlfn.IFNA(VLOOKUP(B787,_!$A$7:$F$210,6,FALSE),\"\")","v":""},{"$f":"IF(IF(MOD(ROWS(D$3:D787),20)=1,INDEX('Summary Sheet'!$B$17:$B858,INT(ROWS(D$3:D787)/20)+1),\"\")=0,\"\",IF(MOD(ROWS(D$3:D787),20)=1,INDEX('Summary Sheet'!$B$17:$B858,INT(ROWS(D$3:D787)/20)+1),\"\"))","v":""},{"$f":"_xlfn.IFNA(IF(VLOOKUP(B787,_!$A$7:$E$210,2,FALSE)=0, \"\", VLOOKUP(B787,_!$A$7:$E$210,2,FALSE)),  \"\")","v":""},{"$f":"_xlfn.IFNA(IF(VLOOKUP(B787,_!$A$7:$E$210,3,FALSE)=0, \"\", VLOOKUP(B787,_!$A$7:$E$210,3,FALSE)), \"\")","v":""},{"$f":"_xlfn.IFNA(IF(VLOOKUP(B787,_!$A$7:$E$210,4,FALSE)=0, \"\",VLOOKUP(B787,_!$A$7:$E$210,4,FALSE)), \"\")","v":""},{"$f":"_xlfn.IFNA(IF(VLOOKUP(B787,_!$A$7:$E$210,5,FALSE)=0,\"\",VLOOKUP(B787,_!$A$7:$E$210,5,FALSE)), \"\")","v":""}]
[2,null,{"$f":"_xlfn.IFNA(VLOOKUP(B788,_!$A$7:$F$210,6,FALSE),\"\")","v":""},{"$f":"IF(IF(MOD(ROWS(D$3:D788),20)=1,INDEX('Summary Sheet'!$B$17:$B858,INT(ROWS(D$3:D788)/20)+1),\"\")=0,\"\",IF(MOD(ROWS(D$3:D788),20)=1,INDEX('Summary Sheet'!$B$17:$B858,INT(ROWS(D$3:D788)/20)+1),\"\"))","v":""},{"$f":"_xlfn.IFNA(IF(VLOOKUP(B788,_!$A$7:$E$210,2,FALSE)=0, \"\", VLOOKUP(B788,_!$A$7:$E$210,2,FALSE)),  \"\")","v":""},{"$f":"_xlfn.IFNA(IF(VLOOKUP(B788,_!$A$7:$E$210,3,FALSE)=0, \"\", VLOOKUP(B788,_!$A$7:$E$210,3,FALSE)), \"\")","v":""},{"$f":"_xlfn.IFNA(IF(VLOOKUP(B788,_!$A$7:$E$210,4,FALSE)=0, \"\",VLOOKUP(B788,_!$A$7:$E$210,4,FALSE)), \"\")","v":""},{"$f":"_xlfn.IFNA(IF(VLOOKUP(B788,_!$A$7:$E$210,5,FALSE)=0,\"\",VLOOKUP(B788,_!$A$7:$E$210,5,FALSE)), \"\")","v":""}]
[3,null,{"$f":"_xlfn.IFNA(VLOOKUP(B789,_!$A$7:$F$210,6,FALSE),\"\")","v":""},{"$f":"IF(IF(MOD(ROWS(D$3:D789),20)=1,INDEX('Summary Sheet'!$B$17:$B858,INT(ROWS(D$3:D789)/20)+1),\"\")=0,\"\",IF(MOD(ROWS(D$3:D789),20)=1,INDEX('Summary Sheet'!$B$17:$B858,INT(ROWS(D$3:D789)/20)+1),\"\"))","v":""},{"$f":"_xlfn.IFNA(IF(VLOOKUP(B789,_!$A$7:$E$210,2,FALSE)=0, \"\", VLOOKUP(B789,_!$A$7:$E$210,2,FALSE)),  \"\")","v":""},{"$f":"_xlfn.IFNA(IF(VLOOKUP(B789,_!$A$7:$E$210,3,FALSE)=0, \"\", VLOOKUP(B789,_!$A$7:$E$210,3,FALSE)), \"\")","v":""},{"$f":"_xlfn.IFNA(IF(VLOOKUP(B789,_!$A$7:$E$210,4,FALSE)=0, \"\",VLOOKUP(B789,_!$A$7:$E$210,4,FALSE)), \"\")","v":""},{"$f":"_xlfn.IFNA(IF(VLOOKUP(B789,_!$A$7:$E$210,5,FALSE)=0,\"\",VLOOKUP(B789,_!$A$7:$E$210,5,FALSE)), \"\")","v":""}]
[4,null,{"$f":"_xlfn.IFNA(VLOOKUP(B790,_!$A$7:$F$210,6,FALSE),\"\")","v":""},{"$f":"IF(IF(MOD(ROWS(D$3:D790),20)=1,INDEX('Summary Sheet'!$B$17:$B858,INT(ROWS(D$3:D790)/20)+1),\"\")=0,\"\",IF(MOD(ROWS(D$3:D790),20)=1,INDEX('Summary Sheet'!$B$17:$B858,INT(ROWS(D$3:D790)/20)+1),\"\"))","v":""},{"$f":"_xlfn.IFNA(IF(VLOOKUP(B790,_!$A$7:$E$210,2,FALSE)=0, \"\", VLOOKUP(B790,_!$A$7:$E$210,2,FALSE)),  \"\")","v":""},{"$f":"_xlfn.IFNA(IF(VLOOKUP(B790,_!$A$7:$E$210,3,FALSE)=0, \"\", VLOOKUP(B790,_!$A$7:$E$210,3,FALSE)), \"\")","v":""},{"$f":"_xlfn.IFNA(IF(VLOOKUP(B790,_!$A$7:$E$210,4,FALSE)=0, \"\",VLOOKUP(B790,_!$A$7:$E$210,4,FALSE)), \"\")","v":""},{"$f":"_xlfn.IFNA(IF(VLOOKUP(B790,_!$A$7:$E$210,5,FALSE)=0,\"\",VLOOKUP(B790,_!$A$7:$E$210,5,FALSE)), \"\")","v":""}]
[5,null,{"$f":"_xlfn.IFNA(VLOOKUP(B791,_!$A$7:$F$210,6,FALSE),\"\")","v":""},{"$f":"IF(IF(MOD(ROWS(D$3:D791),20)=1,INDEX('Summary Sheet'!$B$17:$B858,INT(ROWS(D$3:D791)/20)+1),\"\")=0,\"\",IF(MOD(ROWS(D$3:D791),20)=1,INDEX('Summary Sheet'!$B$17:$B858,INT(ROWS(D$3:D791)/20)+1),\"\"))","v":""},{"$f":"_xlfn.IFNA(IF(VLOOKUP(B791,_!$A$7:$E$210,2,FALSE)=0, \"\", VLOOKUP(B791,_!$A$7:$E$210,2,FALSE)),  \"\")","v":""},{"$f":"_xlfn.IFNA(IF(VLOOKUP(B791,_!$A$7:$E$210,3,FALSE)=0, \"\", VLOOKUP(B791,_!$A$7:$E$210,3,FALSE)), \"\")","v":""},{"$f":"_xlfn.IFNA(IF(VLOOKUP(B791,_!$A$7:$E$210,4,FALSE)=0, \"\",VLOOKUP(B791,_!$A$7:$E$210,4,FALSE)), \"\")","v":""},{"$f":"_xlfn.IFNA(IF(VLOOKUP(B791,_!$A$7:$E$210,5,FALSE)=0,\"\",VLOOKUP(B791,_!$A$7:$E$210,5,FALSE)), \"\")","v":""}]
[6,null,{"$f":"_xlfn.IFNA(VLOOKUP(B792,_!$A$7:$F$210,6,FALSE),\"\")","v":""},{"$f":"IF(IF(MOD(ROWS(D$3:D792),20)=1,INDEX('Summary Sheet'!$B$17:$B858,INT(ROWS(D$3:D792)/20)+1),\"\")=0,\"\",IF(MOD(ROWS(D$3:D792),20)=1,INDEX('Summary Sheet'!$B$17:$B858,INT(ROWS(D$3:D792)/20)+1),\"\"))","v":""},{"$f":"_xlfn.IFNA(IF(VLOOKUP(B792,_!$A$7:$E$210,2,FALSE)=0, \"\", VLOOKUP(B792,_!$A$7:$E$210,2,FALSE)),  \"\")","v":""},{"$f":"_xlfn.IFNA(IF(VLOOKUP(B792,_!$A$7:$E$210,3,FALSE)=0, \"\", VLOOKUP(B792,_!$A$7:$E$210,3,FALSE)), \"\")","v":""},{"$f":"_xlfn.IFNA(IF(VLOOKUP(B792,_!$A$7:$E$210,4,FALSE)=0, \"\",VLOOKUP(B792,_!$A$7:$E$210,4,FALSE)), \"\")","v":""},{"$f":"_xlfn.IFNA(IF(VLOOKUP(B792,_!$A$7:$E$210,5,FALSE)=0,\"\",VLOOKUP(B792,_!$A$7:$E$210,5,FALSE)), \"\")","v":""}]
[7,null,{"$f":"_xlfn.IFNA(VLOOKUP(B793,_!$A$7:$F$210,6,FALSE),\"\")","v":""},{"$f":"IF(IF(MOD(ROWS(D$3:D793),20)=1,INDEX('Summary Sheet'!$B$17:$B858,INT(ROWS(D$3:D793)/20)+1),\"\")=0,\"\",IF(MOD(ROWS(D$3:D793),20)=1,INDEX('Summary Sheet'!$B$17:$B858,INT(ROWS(D$3:D793)/20)+1),\"\"))","v":""},{"$f":"_xlfn.IFNA(IF(VLOOKUP(B793,_!$A$7:$E$210,2,FALSE)=0, \"\", VLOOKUP(B793,_!$A$7:$E$210,2,FALSE)),  \"\")","v":""},{"$f":"_xlfn.IFNA(IF(VLOOKUP(B793,_!$A$7:$E$210,3,FALSE)=0, \"\", VLOOKUP(B793,_!$A$7:$E$210,3,FALSE)), \"\")","v":""},{"$f":"_xlfn.IFNA(IF(VLOOKUP(B793,_!$A$7:$E$210,4,FALSE)=0, \"\",VLOOKUP(B793,_!$A$7:$E$210,4,FALSE)), \"\")","v":""},{"$f":"_xlfn.IFNA(IF(VLOOKUP(B793,_!$A$7:$E$210,5,FALSE)=0,\"\",VLOOKUP(B793,_!$A$7:$E$210,5,FALSE)), \"\")","v":""}]
[8,null,{"$f":"_xlfn.IFNA(VLOOKUP(B794,_!$A$7:$F$210,6,FALSE),\"\")","v":""},{"$f":"IF(IF(MOD(ROWS(D$3:D794),20)=1,INDEX('Summary Sheet'!$B$17:$B858,INT(ROWS(D$3:D794)/20)+1),\"\")=0,\"\",IF(MOD(ROWS(D$3:D794),20)=1,INDEX('Summary Sheet'!$B$17:$B858,INT(ROWS(D$3:D794)/20)+1),\"\"))","v":""},{"$f":"_xlfn.IFNA(IF(VLOOKUP(B794,_!$A$7:$E$210,2,FALSE)=0, \"\", VLOOKUP(B794,_!$A$7:$E$210,2,FALSE)),  \"\")","v":""},{"$f":"_xlfn.IFNA(IF(VLOOKUP(B794,_!$A$7:$E$210,3,FALSE)=0, \"\", VLOOKUP(B794,_!$A$7:$E$210,3,FALSE)), \"\")","v":""},{"$f":"_xlfn.IFNA(IF(VLOOKUP(B794,_!$A$7:$E$210,4,FALSE)=0, \"\",VLOOKUP(B794,_!$A$7:$E$210,4,FALSE)), \"\")","v":""},{"$f":"_xlfn.IFNA(IF(VLOOKUP(B794,_!$A$7:$E$210,5,FALSE)=0,\"\",VLOOKUP(B794,_!$A$7:$E$210,5,FALSE)), \"\")","v":""}]
[9,null,{"$f":"_xlfn.IFNA(VLOOKUP(B795,_!$A$7:$F$210,6,FALSE),\"\")","v":""},{"$f":"IF(IF(MOD(ROWS(D$3:D795),20)=1,INDEX('Summary Sheet'!$B$17:$B858,INT(ROWS(D$3:D795)/20)+1),\"\")=0,\"\",IF(MOD(ROWS(D$3:D795),20)=1,INDEX('Summary Sheet'!$B$17:$B858,INT(ROWS(D$3:D795)/20)+1),\"\"))","v":""},{"$f":"_xlfn.IFNA(IF(VLOOKUP(B795,_!$A$7:$E$210,2,FALSE)=0, \"\", VLOOKUP(B795,_!$A$7:$E$210,2,FALSE)),  \"\")","v":""},{"$f":"_xlfn.IFNA(IF(VLOOKUP(B795,_!$A$7:$E$210,3,FALSE)=0, \"\", VLOOKUP(B795,_!$A$7:$E$210,3,FALSE)), \"\")","v":""},{"$f":"_xlfn.IFNA(IF(VLOOKUP(B795,_!$A$7:$E$210,4,FALSE)=0, \"\",VLOOKUP(B795,_!$A$7:$E$210,4,FALSE)), \"\")","v":""},{"$f":"_xlfn.IFNA(IF(VLOOKUP(B795,_!$A$7:$E$210,5,FALSE)=0,\"\",VLOOKUP(B795,_!$A$7:$E$210,5,FALSE)), \"\")","v":""}]
[10,null,{"$f":"_xlfn.IFNA(VLOOKUP(B796,_!$A$7:$F$210,6,FALSE),\"\")","v":""},{"$f":"IF(IF(MOD(ROWS(D$14:D796),20)=1,INDEX('Summary Sheet'!$B$17:$B858,INT(ROWS(D$14:D796)/20)+1),\"\")=0,\"\",IF(MOD(ROWS(D$14:D796),20)=1,INDEX('Summary Sheet'!$B$17:$B858,INT(ROWS(D$14:D796)/20)+1),\"\"))","v":""},{"$f":"_xlfn.IFNA(IF(VLOOKUP(B796,_!$A$7:$E$210,2,FALSE)=0, \"\", VLOOKUP(B796,_!$A$7:$E$210,2,FALSE)),  \"\")","v":""},{"$f":"_xlfn.IFNA(IF(VLOOKUP(B796,_!$A$7:$E$210,3,FALSE)=0, \"\", VLOOKUP(B796,_!$A$7:$E$210,3,FALSE)), \"\")","v":""},{"$f":"_xlfn.IFNA(IF(VLOOKUP(B796,_!$A$7:$E$210,4,FALSE)=0, \"\",VLOOKUP(B796,_!$A$7:$E$210,4,FALSE)), \"\")","v":""},{"$f":"_xlfn.IFNA(IF(VLOOKUP(B796,_!$A$7:$E$210,5,FALSE)=0,\"\",VLOOKUP(B796,_!$A$7:$E$210,5,FALSE)), \"\")","v":""}]
[null,"\nHighest hazard level for each ‘Uptake Route’\n",null,null,{"$f":"_xlfn.IFNA(IF((INDEX(E787:E796,MATCH(\"E\",E787:E796,0)))=\"E\",\"E\",\"\"),_xlfn.IFNA(IF((INDEX(E787:E796,MATCH(\"D\",E787:E796,0)))=\"D\",\"D\",\"\"),_xlfn.IFNA(IF((INDEX(E787:E796,MATCH(\"Ca\",E787:E796,0)))=\"Ca\",\"C\",\"\"),_xlfn.IFNA(IF((INDEX(E787:E796,MATCH(\"C\",E787:E796,0)))=\"C\",\"C\",\"\"),_xlfn.IFNA(IF((INDEX(E787:E796,MATCH(\"B\",E787:E796,0)))=\"B\",\"B\",\"\"),_xlfn.IFNA(IF((INDEX(E787:E796,MATCH(\"A\",E787:E796,0)))=\"A\",\"A\",\"\"),_xlfn.IFNA(IF((INDEX(E787:E796,MATCH(\"n.a.\",E787:E796,0)))=\"n.a.\",\"\",\"\"),_xlfn.IFNA(IF((INDEX(E787:E796,MATCH(\"\",E787:E796,0)))=\"\",\"\",\"\"),\"\"))))))))","v":""},{"$f":"_xlfn.IFNA(IF((INDEX(F787:F796,MATCH(\"E\",F787:F796,0)))=\"E\",\"E\",\"\"),_xlfn.IFNA(IF((INDEX(F787:F796,MATCH(\"D (E)c\",F787:F796,0)))=\"D (E)c\",\"D (E)c\",\"\"),_xlfn.IFNA(IF((INDEX(F787:F796,MATCH(\"Da (E)c\",F787:F796,0)))=\"Da (E)c\",\"D (E)c\",\"\"),_xlfn.IFNA(IF((INDEX(F787:F796,MATCH(\"D\",F787:F796,0)))=\"D\",\"D\",\"\"),_xlfn.IFNA(IF((INDEX(F787:F796,MATCH(\"Ca\",F787:F796,0)))=\"Ca\",\"C\",\"\"),_xlfn.IFNA(IF((INDEX(F787:F796,MATCH(\"C\",F787:F796,0)))=\"C\",\"C\",\"\"),_xlfn.IFNA(IF((INDEX(F787:F796,MATCH(\"Ba\",F787:F796,0)))=\"Ba\",\"B\",\"\"),_xlfn.IFNA(IF((INDEX(F787:F796,MATCH(\"B\",F787:F796,0)))=\"B\",\"B\",\"\"),_xlfn.IFNA(IF((INDEX(F787:F796,MATCH(\"Aa\",F787:F796,0)))=\"Aa\",\"A\",\"\"),_xlfn.IFNA(IF((INDEX(F787:F796,MATCH(\"A\",F787:F796,0)))=\"A\",\"A\",\"\"),_xlfn.IFNA(IF((INDEX(F787:F796,MATCH(\"n.a.\",F787:F796,0)))=\"n.a.\",\"\",\"\"),_xlfn.IFNA(IF((INDEX(F787:F796,MATCH(\"\",F787:F796,0)))=\"\",\"\",\"\"),\"\"))))))))))))","v":""},{"$f":"_xlfn.IFNA(IF((INDEX(G787:G796,MATCH(\"E\",G787:G796,0)))=\"E\",\"E\",\"\"),_xlfn.IFNA(IF((INDEX(G787:G796,MATCH(\"D\",G787:G796,0)))=\"D\",\"D\",\"\"),_xlfn.IFNA(IF((INDEX(G787:G796,MATCH(\"Ca\",G787:G796,0)))=\"Ca\",\"C\",\"\"),_xlfn.IFNA(IF((INDEX(G787:G796,MATCH(\"C\",G787:G796,0)))=\"C\",\"C\",\"\"),_xlfn.IFNA(IF((INDEX(G787:G796,MATCH(\"B\",G787:G796,0)))=\"B\",\"B\",\"\"),_xlfn.IFNA(IF((INDEX(G787:G796,MATCH(\"A\",G787:G796,0)))=\"A\",\"A\",\"\"),_xlfn.IFNA(IF((INDEX(G787:G796,MATCH(\"n.a.\",G787:G796,0)))=\"n.a.\",\"\",\"\"),_xlfn.IFNA(IF((INDEX(G787:G796,MATCH(\"\",G787:G796,0)))=\"\",\"\",\"\"),\"\"))))))))","v":""},{"$f":"_xlfn.IFNA(IF((INDEX(H787:H796,MATCH(\"E\",H787:H796,0)))=\"E\",\"E\",\"\"),_xlfn.IFNA(IF((INDEX(H787:H796,MATCH(\"D (E)c\",H787:H796,0)))=\"D (E)c\",\"D (E)c\",\"\"),_xlfn.IFNA(IF((INDEX(H787:H796,MATCH(\"Db (E)c\",H787:H796,0)))=\"Db (E)c\",\"D (E)c\",\"\"),_xlfn.IFNA(IF((INDEX(H787:H796,MATCH(\"D\",H787:H796,0)))=\"D\",\"D\",\"\"),_xlfn.IFNA(IF((INDEX(H787:H796,MATCH(\"Cb\",H787:H796,0)))=\"Cb\",\"C\",\"\"),_xlfn.IFNA(IF((INDEX(H787:H796,MATCH(\"C\",H787:H796,0)))=\"C\",\"C\",\"\"),_xlfn.IFNA(IF((INDEX(H787:H796,MATCH(\"Bb\",H787:H796,0)))=\"Bb\",\"B\",\"\"),_xlfn.IFNA(IF((INDEX(H787:H796,MATCH(\"B\",H787:H796,0)))=\"B\",\"B\",\"\"),_xlfn.IFNA(IF((INDEX(H787:H796,MATCH(\"Ab\",H787:H796,0)))=\"Ab\",\"A\",\"\"),_xlfn.IFNA(IF((INDEX(H787:H796,MATCH(\"A\",H787:H796,0)))=\"A\",\"A\",\"\"),_xlfn.IFNA(IF((INDEX(H787:H796,MATCH(\"n.a.\",H787:H796,0)))=\"n.a.\",\"\",\"\"),_xlfn.IFNA(IF((INDEX(H787:H796,MATCH(\"\",H787:H796,0)))=\"\",\"\",\"\"),\"\"))))))))))))","v":""}]
[null,"\nHighest hazard level for all 'Uptake Routes' \n",null,null,{"$f":"_xlfn.IFNA(IF((INDEX(E797:H797,MATCH(\"E\",E797:H797,0)))=\"E\",\"E\",\"\"),_xlfn.IFNA(IF((INDEX(E797:H797,MATCH(\"D (E)c\",E797:H797,0)))=\"D (E)c\",\"D (E)\",\"\"),_xlfn.IFNA(IF((INDEX(E797:H797,MATCH(\"D\",E797:H797,0)))=\"D\",\"D\",\"\"),_xlfn.IFNA(IF((INDEX(E797:H797,MATCH(\"C\",E797:H797,0)))=\"C\",\"C\",\"\"),_xlfn.IFNA(IF((INDEX(E797:H797,MATCH(\"B\",E797:H797,0)))=\"B\",\"B\",\"\"),_xlfn.IFNA(IF((INDEX(E797:H797,MATCH(\"A\",E797:H797,0)))=\"A\",\"A\",\"\"),_xlfn.IFNA(IF((INDEX(E797:H797,MATCH(\"n.a.\",E797:H797,0)))=\"n.a.\",\"\",\"\"),_xlfn.IFNA(IF((INDEX(E797:H797,MATCH(\"\",E797:H797,0)))=\"\",\"\",\"\"),\"\"))))))))","v":""}]
[]
[]
[null,"\nStep 3: D(E) Assessment\nSkip this step if \nyour assessment above does not reveal a D(E) hazard level.\nHover over this cell for additional instructions.\n",null,null,"\nOverall hazard level\n",null,{"$f":"IF(AND(E798=\"\",C784=\"Yes\")=TRUE,\"B\",IF(E798=\"\",\"\",(IF(AND(E798=\"D (E)\",C801=\"\"),\"D (E)\"&CHAR(10)&\"Find if cat. 1 acute tox.\",(IF(E798<>\"D (E)\",E798,(IF(AND(E798=\"D (E)\",C801=\"Yes\"),\"E\",(IF(AND(E798=\"D (E)\",C801=\"No\"),\"D\",\"\"))))))))))","v":""}]
[]
[{"$f":"IF(IF(MOD(ROWS(B$3:B803),20)=1,INDEX('Summary Sheet'!$A$17:$A877,INT(ROWS(B$3:B803)/20)+1),\"\")=0,\"\",IF(MOD(ROWS(B$3:B803),20)=1,INDEX('Summary Sheet'!$A$17:$A877,INT(ROWS(B$3:B803)/20)+1),\"\"))","v":41},"Hazard Level Assessment","for",{"$f":"IF(IF(MOD(ROWS(D$3:D803),20)=1,INDEX('Summary Sheet'!$B$17:$B877,INT(ROWS(D$3:D803)/20)+1),\"\")=0,\"\",IF(MOD(ROWS(D$3:D803),20)=1,INDEX('Summary Sheet'!$B$17:$B877,INT(ROWS(D$3:D803)/20)+1),\"\"))","v":""}]
[null,"\nStep 1: Physical & Environmental Hazard Statements/Codes\nFind Section 2 of the SDS and determine if the SDS has physical and/or environmental hazard statements/codes. Hover on this cell for additional instructions.\n",null,{"$f":"IF(IF(MOD(ROWS(D$3:D804),20)=1,INDEX('Summary Sheet'!$B$17:$B877,INT(ROWS(D$3:D804)/20)+1),\"\")=0,\"\",IF(MOD(ROWS(D$3:D804),20)=1,INDEX('Summary Sheet'!$B$17:$B877,INT(ROWS(D$3:D804)/20)+1),\"\"))","v":""}]
[null,"Step 2: Health Hazard Statements/Codes\nProvide the Health Hazard Statements or Codes from Section 2 of the SDS below. Hover on this cell for additional instructions.",null,{"$f":"IF(IF(MOD(ROWS(D$3:D805),20)=1,INDEX('Summary Sheet'!$B$17:$B877,INT(ROWS(D$3:D805)/20)+1),\"\")=0,\"\",IF(MOD(ROWS(D$3:D805),20)=1,INDEX('Summary Sheet'!$B$17:$B877,INT(ROWS(D$3:D805)/20)+1),\"\"))","v":""},"\nHazard Level\n"]
[null,null,null,{"$f":"IF(IF(MOD(ROWS(D$3:D806),20)=1,INDEX('Summary Sheet'!$B$17:$B877,INT(ROWS(D$3:D806)/20)+1),\"\")=0,\"\",IF(MOD(ROWS(D$3:D806),20)=1,INDEX('Summary Sheet'!$B$17:$B877,INT(ROWS(D$3:D806)/20)+1),\"\"))","v":""},"\nEye Damage\n","\nInhalation\n","\nLocal Skin Damage\n","\nSkin uptake, systemic\n"]
[1,null,{"$f":"_xlfn.IFNA(VLOOKUP(B807,_!$A$7:$F$210,6,FALSE),\"\")","v":""},{"$f":"IF(IF(MOD(ROWS(D$3:D807),20)=1,INDEX('Summary Sheet'!$B$17:$B877,INT(ROWS(D$3:D807)/20)+1),\"\")=0,\"\",IF(MOD(ROWS(D$3:D807),20)=1,INDEX('Summary Sheet'!$B$17:$B877,INT(ROWS(D$3:D807)/20)+1),\"\"))","v":""},{"$f":"_xlfn.IFNA(IF(VLOOKUP(B807,_!$A$7:$E$210,2,FALSE)=0, \"\", VLOOKUP(B807,_!$A$7:$E$210,2,FALSE)),  \"\")","v":""},{"$f":"_xlfn.IFNA(IF(VLOOKUP(B807,_!$A$7:$E$210,3,FALSE)=0, \"\", VLOOKUP(B807,_!$A$7:$E$210,3,FALSE)), \"\")","v":""},{"$f":"_xlfn.IFNA(IF(VLOOKUP(B807,_!$A$7:$E$210,4,FALSE)=0, \"\",VLOOKUP(B807,_!$A$7:$E$210,4,FALSE)), \"\")","v":""},{"$f":"_xlfn.IFNA(IF(VLOOKUP(B807,_!$A$7:$E$210,5,FALSE)=0,\"\",VLOOKUP(B807,_!$A$7:$E$210,5,FALSE)), \"\")","v":""}]
[2,null,{"$f":"_xlfn.IFNA(VLOOKUP(B808,_!$A$7:$F$210,6,FALSE),\"\")","v":""},{"$f":"IF(IF(MOD(ROWS(D$3:D808),20)=1,INDEX('Summary Sheet'!$B$17:$B877,INT(ROWS(D$3:D808)/20)+1),\"\")=0,\"\",IF(MOD(ROWS(D$3:D808),20)=1,INDEX('Summary Sheet'!$B$17:$B877,INT(ROWS(D$3:D808)/20)+1),\"\"))","v":""},{"$f":"_xlfn.IFNA(IF(VLOOKUP(B808,_!$A$7:$E$210,2,FALSE)=0, \"\", VLOOKUP(B808,_!$A$7:$E$210,2,FALSE)),  \"\")","v":""},{"$f":"_xlfn.IFNA(IF(VLOOKUP(B808,_!$A$7:$E$210,3,FALSE)=0, \"\", VLOOKUP(B808,_!$A$7:$E$210,3,FALSE)), \"\")","v":""},{"$f":"_xlfn.IFNA(IF(VLOOKUP(B808,_!$A$7:$E$210,4,FALSE)=0, \"\",VLOOKUP(B808,_!$A$7:$E$210,4,FALSE)), \"\")","v":""},{"$f":"_xlfn.IFNA(IF(VLOOKUP(B808,_!$A$7:$E$210,5,FALSE)=0,\"\",VLOOKUP(B808,_!$A$7:$E$210,5,FALSE)), \"\")","v":""}]
[3,null,{"$f":"_xlfn.IFNA(VLOOKUP(B809,_!$A$7:$F$210,6,FALSE),\"\")","v":""},{"$f":"IF(IF(MOD(ROWS(D$3:D809),20)=1,INDEX('Summary Sheet'!$B$17:$B877,INT(ROWS(D$3:D809)/20)+1),\"\")=0,\"\",IF(MOD(ROWS(D$3:D809),20)=1,INDEX('Summary Sheet'!$B$17:$B877,INT(ROWS(D$3:D809)/20)+1),\"\"))","v":""},{"$f":"_xlfn.IFNA(IF(VLOOKUP(B809,_!$A$7:$E$210,2,FALSE)=0, \"\", VLOOKUP(B809,_!$A$7:$E$210,2,FALSE)),  \"\")","v":""},{"$f":"_xlfn.IFNA(IF(VLOOKUP(B809,_!$A$7:$E$210,3,FALSE)=0, \"\", VLOOKUP(B809,_!$A$7:$E$210,3,FALSE)), \"\")","v":""},{"$f":"_xlfn.IFNA(IF(VLOOKUP(B809,_!$A$7:$E$210,4,FALSE)=0, \"\",VLOOKUP(B809,_!$A$7:$E$210,4,FALSE)), \"\")","v":""},{"$f":"_xlfn.IFNA(IF(VLOOKUP(B809,_!$A$7:$E$210,5,FALSE)=0,\"\",VLOOKUP(B809,_!$A$7:$E$210,5,FALSE)), \"\")","v":""}]
[4,null,{"$f":"_xlfn.IFNA(VLOOKUP(B810,_!$A$7:$F$210,6,FALSE),\"\")","v":""},{"$f":"IF(IF(MOD(ROWS(D$3:D810),20)=1,INDEX('Summary Sheet'!$B$17:$B877,INT(ROWS(D$3:D810)/20)+1),\"\")=0,\"\",IF(MOD(ROWS(D$3:D810),20)=1,INDEX('Summary Sheet'!$B$17:$B877,INT(ROWS(D$3:D810)/20)+1),\"\"))","v":""},{"$f":"_xlfn.IFNA(IF(VLOOKUP(B810,_!$A$7:$E$210,2,FALSE)=0, \"\", VLOOKUP(B810,_!$A$7:$E$210,2,FALSE)),  \"\")","v":""},{"$f":"_xlfn.IFNA(IF(VLOOKUP(B810,_!$A$7:$E$210,3,FALSE)=0, \"\", VLOOKUP(B810,_!$A$7:$E$210,3,FALSE)), \"\")","v":""},{"$f":"_xlfn.IFNA(IF(VLOOKUP(B810,_!$A$7:$E$210,4,FALSE)=0, \"\",VLOOKUP(B810,_!$A$7:$E$210,4,FALSE)), \"\")","v":""},{"$f":"_xlfn.IFNA(IF(VLOOKUP(B810,_!$A$7:$E$210,5,FALSE)=0,\"\",VLOOKUP(B810,_!$A$7:$E$210,5,FALSE)), \"\")","v":""}]
[5,null,{"$f":"_xlfn.IFNA(VLOOKUP(B811,_!$A$7:$F$210,6,FALSE),\"\")","v":""},{"$f":"IF(IF(MOD(ROWS(D$3:D811),20)=1,INDEX('Summary Sheet'!$B$17:$B877,INT(ROWS(D$3:D811)/20)+1),\"\")=0,\"\",IF(MOD(ROWS(D$3:D811),20)=1,INDEX('Summary Sheet'!$B$17:$B877,INT(ROWS(D$3:D811)/20)+1),\"\"))","v":""},{"$f":"_xlfn.IFNA(IF(VLOOKUP(B811,_!$A$7:$E$210,2,FALSE)=0, \"\", VLOOKUP(B811,_!$A$7:$E$210,2,FALSE)),  \"\")","v":""},{"$f":"_xlfn.IFNA(IF(VLOOKUP(B811,_!$A$7:$E$210,3,FALSE)=0, \"\", VLOOKUP(B811,_!$A$7:$E$210,3,FALSE)), \"\")","v":""},{"$f":"_xlfn.IFNA(IF(VLOOKUP(B811,_!$A$7:$E$210,4,FALSE)=0, \"\",VLOOKUP(B811,_!$A$7:$E$210,4,FALSE)), \"\")","v":""},{"$f":"_xlfn.IFNA(IF(VLOOKUP(B811,_!$A$7:$E$210,5,FALSE)=0,\"\",VLOOKUP(B811,_!$A$7:$E$210,5,FALSE)), \"\")","v":""}]
[6,null,{"$f":"_xlfn.IFNA(VLOOKUP(B812,_!$A$7:$F$210,6,FALSE),\"\")","v":""},{"$f":"IF(IF(MOD(ROWS(D$3:D812),20)=1,INDEX('Summary Sheet'!$B$17:$B877,INT(ROWS(D$3:D812)/20)+1),\"\")=0,\"\",IF(MOD(ROWS(D$3:D812),20)=1,INDEX('Summary Sheet'!$B$17:$B877,INT(ROWS(D$3:D812)/20)+1),\"\"))","v":""},{"$f":"_xlfn.IFNA(IF(VLOOKUP(B812,_!$A$7:$E$210,2,FALSE)=0, \"\", VLOOKUP(B812,_!$A$7:$E$210,2,FALSE)),  \"\")","v":""},{"$f":"_xlfn.IFNA(IF(VLOOKUP(B812,_!$A$7:$E$210,3,FALSE)=0, \"\", VLOOKUP(B812,_!$A$7:$E$210,3,FALSE)), \"\")","v":""},{"$f":"_xlfn.IFNA(IF(VLOOKUP(B812,_!$A$7:$E$210,4,FALSE)=0, \"\",VLOOKUP(B812,_!$A$7:$E$210,4,FALSE)), \"\")","v":""},{"$f":"_xlfn.IFNA(IF(VLOOKUP(B812,_!$A$7:$E$210,5,FALSE)=0,\"\",VLOOKUP(B812,_!$A$7:$E$210,5,FALSE)), \"\")","v":""}]
[7,null,{"$f":"_xlfn.IFNA(VLOOKUP(B813,_!$A$7:$F$210,6,FALSE),\"\")","v":""},{"$f":"IF(IF(MOD(ROWS(D$3:D813),20)=1,INDEX('Summary Sheet'!$B$17:$B877,INT(ROWS(D$3:D813)/20)+1),\"\")=0,\"\",IF(MOD(ROWS(D$3:D813),20)=1,INDEX('Summary Sheet'!$B$17:$B877,INT(ROWS(D$3:D813)/20)+1),\"\"))","v":""},{"$f":"_xlfn.IFNA(IF(VLOOKUP(B813,_!$A$7:$E$210,2,FALSE)=0, \"\", VLOOKUP(B813,_!$A$7:$E$210,2,FALSE)),  \"\")","v":""},{"$f":"_xlfn.IFNA(IF(VLOOKUP(B813,_!$A$7:$E$210,3,FALSE)=0, \"\", VLOOKUP(B813,_!$A$7:$E$210,3,FALSE)), \"\")","v":""},{"$f":"_xlfn.IFNA(IF(VLOOKUP(B813,_!$A$7:$E$210,4,FALSE)=0, \"\",VLOOKUP(B813,_!$A$7:$E$210,4,FALSE)), \"\")","v":""},{"$f":"_xlfn.IFNA(IF(VLOOKUP(B813,_!$A$7:$E$210,5,FALSE)=0,\"\",VLOOKUP(B813,_!$A$7:$E$210,5,FALSE)), \"\")","v":""}]
[8,null,{"$f":"_xlfn.IFNA(VLOOKUP(B814,_!$A$7:$F$210,6,FALSE),\"\")","v":""},{"$f":"IF(IF(MOD(ROWS(D$3:D814),20)=1,INDEX('Summary Sheet'!$B$17:$B877,INT(ROWS(D$3:D814)/20)+1),\"\")=0,\"\",IF(MOD(ROWS(D$3:D814),20)=1,INDEX('Summary Sheet'!$B$17:$B877,INT(ROWS(D$3:D814)/20)+1),\"\"))","v":""},{"$f":"_xlfn.IFNA(IF(VLOOKUP(B814,_!$A$7:$E$210,2,FALSE)=0, \"\", VLOOKUP(B814,_!$A$7:$E$210,2,FALSE)),  \"\")","v":""},{"$f":"_xlfn.IFNA(IF(VLOOKUP(B814,_!$A$7:$E$210,3,FALSE)=0, \"\", VLOOKUP(B814,_!$A$7:$E$210,3,FALSE)), \"\")","v":""},{"$f":"_xlfn.IFNA(IF(VLOOKUP(B814,_!$A$7:$E$210,4,FALSE)=0, \"\",VLOOKUP(B814,_!$A$7:$E$210,4,FALSE)), \"\")","v":""},{"$f":"_xlfn.IFNA(IF(VLOOKUP(B814,_!$A$7:$E$210,5,FALSE)=0,\"\",VLOOKUP(B814,_!$A$7:$E$210,5,FALSE)), \"\")","v":""}]
[9,null,{"$f":"_xlfn.IFNA(VLOOKUP(B815,_!$A$7:$F$210,6,FALSE),\"\")","v":""},{"$f":"IF(IF(MOD(ROWS(D$3:D815),20)=1,INDEX('Summary Sheet'!$B$17:$B877,INT(ROWS(D$3:D815)/20)+1),\"\")=0,\"\",IF(MOD(ROWS(D$3:D815),20)=1,INDEX('Summary Sheet'!$B$17:$B877,INT(ROWS(D$3:D815)/20)+1),\"\"))","v":""},{"$f":"_xlfn.IFNA(IF(VLOOKUP(B815,_!$A$7:$E$210,2,FALSE)=0, \"\", VLOOKUP(B815,_!$A$7:$E$210,2,FALSE)),  \"\")","v":""},{"$f":"_xlfn.IFNA(IF(VLOOKUP(B815,_!$A$7:$E$210,3,FALSE)=0, \"\", VLOOKUP(B815,_!$A$7:$E$210,3,FALSE)), \"\")","v":""},{"$f":"_xlfn.IFNA(IF(VLOOKUP(B815,_!$A$7:$E$210,4,FALSE)=0, \"\",VLOOKUP(B815,_!$A$7:$E$210,4,FALSE)), \"\")","v":""},{"$f":"_xlfn.IFNA(IF(VLOOKUP(B815,_!$A$7:$E$210,5,FALSE)=0,\"\",VLOOKUP(B815,_!$A$7:$E$210,5,FALSE)), \"\")","v":""}]
[10,null,{"$f":"_xlfn.IFNA(VLOOKUP(B816,_!$A$7:$F$210,6,FALSE),\"\")","v":""},{"$f":"IF(IF(MOD(ROWS(D$14:D816),20)=1,INDEX('Summary Sheet'!$B$17:$B877,INT(ROWS(D$14:D816)/20)+1),\"\")=0,\"\",IF(MOD(ROWS(D$14:D816),20)=1,INDEX('Summary Sheet'!$B$17:$B877,INT(ROWS(D$14:D816)/20)+1),\"\"))","v":""},{"$f":"_xlfn.IFNA(IF(VLOOKUP(B816,_!$A$7:$E$210,2,FALSE)=0, \"\", VLOOKUP(B816,_!$A$7:$E$210,2,FALSE)),  \"\")","v":""},{"$f":"_xlfn.IFNA(IF(VLOOKUP(B816,_!$A$7:$E$210,3,FALSE)=0, \"\", VLOOKUP(B816,_!$A$7:$E$210,3,FALSE)), \"\")","v":""},{"$f":"_xlfn.IFNA(IF(VLOOKUP(B816,_!$A$7:$E$210,4,FALSE)=0, \"\",VLOOKUP(B816,_!$A$7:$E$210,4,FALSE)), \"\")","v":""},{"$f":"_xlfn.IFNA(IF(VLOOKUP(B816,_!$A$7:$E$210,5,FALSE)=0,\"\",VLOOKUP(B816,_!$A$7:$E$210,5,FALSE)), \"\")","v":""}]
[null,"\nHighest hazard level for each ‘Uptake Route’\n",null,null,{"$f":"_xlfn.IFNA(IF((INDEX(E807:E816,MATCH(\"E\",E807:E816,0)))=\"E\",\"E\",\"\"),_xlfn.IFNA(IF((INDEX(E807:E816,MATCH(\"D\",E807:E816,0)))=\"D\",\"D\",\"\"),_xlfn.IFNA(IF((INDEX(E807:E816,MATCH(\"Ca\",E807:E816,0)))=\"Ca\",\"C\",\"\"),_xlfn.IFNA(IF((INDEX(E807:E816,MATCH(\"C\",E807:E816,0)))=\"C\",\"C\",\"\"),_xlfn.IFNA(IF((INDEX(E807:E816,MATCH(\"B\",E807:E816,0)))=\"B\",\"B\",\"\"),_xlfn.IFNA(IF((INDEX(E807:E816,MATCH(\"A\",E807:E816,0)))=\"A\",\"A\",\"\"),_xlfn.IFNA(IF((INDEX(E807:E816,MATCH(\"n.a.\",E807:E816,0)))=\"n.a.\",\"\",\"\"),_xlfn.IFNA(IF((INDEX(E807:E816,MATCH(\"\",E807:E816,0)))=\"\",\"\",\"\"),\"\"))))))))","v":""},{"$f":"_xlfn.IFNA(IF((INDEX(F807:F816,MATCH(\"E\",F807:F816,0)))=\"E\",\"E\",\"\"),_xlfn.IFNA(IF((INDEX(F807:F816,MATCH(\"D (E)c\",F807:F816,0)))=\"D (E)c\",\"D (E)c\",\"\"),_xlfn.IFNA(IF((INDEX(F807:F816,MATCH(\"Da (E)c\",F807:F816,0)))=\"Da (E)c\",\"D (E)c\",\"\"),_xlfn.IFNA(IF((INDEX(F807:F816,MATCH(\"D\",F807:F816,0)))=\"D\",\"D\",\"\"),_xlfn.IFNA(IF((INDEX(F807:F816,MATCH(\"Ca\",F807:F816,0)))=\"Ca\",\"C\",\"\"),_xlfn.IFNA(IF((INDEX(F807:F816,MATCH(\"C\",F807:F816,0)))=\"C\",\"C\",\"\"),_xlfn.IFNA(IF((INDEX(F807:F816,MATCH(\"Ba\",F807:F816,0)))=\"Ba\",\"B\",\"\"),_xlfn.IFNA(IF((INDEX(F807:F816,MATCH(\"B\",F807:F816,0)))=\"B\",\"B\",\"\"),_xlfn.IFNA(IF((INDEX(F807:F816,MATCH(\"Aa\",F807:F816,0)))=\"Aa\",\"A\",\"\"),_xlfn.IFNA(IF((INDEX(F807:F816,MATCH(\"A\",F807:F816,0)))=\"A\",\"A\",\"\"),_xlfn.IFNA(IF((INDEX(F807:F816,MATCH(\"n.a.\",F807:F816,0)))=\"n.a.\",\"\",\"\"),_xlfn.IFNA(IF((INDEX(F807:F816,MATCH(\"\",F807:F816,0)))=\"\",\"\",\"\"),\"\"))))))))))))","v":""},{"$f":"_xlfn.IFNA(IF((INDEX(G807:G816,MATCH(\"E\",G807:G816,0)))=\"E\",\"E\",\"\"),_xlfn.IFNA(IF((INDEX(G807:G816,MATCH(\"D\",G807:G816,0)))=\"D\",\"D\",\"\"),_xlfn.IFNA(IF((INDEX(G807:G816,MATCH(\"Ca\",G807:G816,0)))=\"Ca\",\"C\",\"\"),_xlfn.IFNA(IF((INDEX(G807:G816,MATCH(\"C\",G807:G816,0)))=\"C\",\"C\",\"\"),_xlfn.IFNA(IF((INDEX(G807:G816,MATCH(\"B\",G807:G816,0)))=\"B\",\"B\",\"\"),_xlfn.IFNA(IF((INDEX(G807:G816,MATCH(\"A\",G807:G816,0)))=\"A\",\"A\",\"\"),_xlfn.IFNA(IF((INDEX(G807:G816,MATCH(\"n.a.\",G807:G816,0)))=\"n.a.\",\"\",\"\"),_xlfn.IFNA(IF((INDEX(G807:G816,MATCH(\"\",G807:G816,0)))=\"\",\"\",\"\"),\"\"))))))))","v":""},{"$f":"_xlfn.IFNA(IF((INDEX(H807:H816,MATCH(\"E\",H807:H816,0)))=\"E\",\"E\",\"\"),_xlfn.IFNA(IF((INDEX(H807:H816,MATCH(\"D (E)c\",H807:H816,0)))=\"D (E)c\",\"D (E)c\",\"\"),_xlfn.IFNA(IF((INDEX(H807:H816,MATCH(\"Db (E)c\",H807:H816,0)))=\"Db (E)c\",\"D (E)c\",\"\"),_xlfn.IFNA(IF((INDEX(H807:H816,MATCH(\"D\",H807:H816,0)))=\"D\",\"D\",\"\"),_xlfn.IFNA(IF((INDEX(H807:H816,MATCH(\"Cb\",H807:H816,0)))=\"Cb\",\"C\",\"\"),_xlfn.IFNA(IF((INDEX(H807:H816,MATCH(\"C\",H807:H816,0)))=\"C\",\"C\",\"\"),_xlfn.IFNA(IF((INDEX(H807:H816,MATCH(\"Bb\",H807:H816,0)))=\"Bb\",\"B\",\"\"),_xlfn.IFNA(IF((INDEX(H807:H816,MATCH(\"B\",H807:H816,0)))=\"B\",\"B\",\"\"),_xlfn.IFNA(IF((INDEX(H807:H816,MATCH(\"Ab\",H807:H816,0)))=\"Ab\",\"A\",\"\"),_xlfn.IFNA(IF((INDEX(H807:H816,MATCH(\"A\",H807:H816,0)))=\"A\",\"A\",\"\"),_xlfn.IFNA(IF((INDEX(H807:H816,MATCH(\"n.a.\",H807:H816,0)))=\"n.a.\",\"\",\"\"),_xlfn.IFNA(IF((INDEX(H807:H816,MATCH(\"\",H807:H816,0)))=\"\",\"\",\"\"),\"\"))))))))))))","v":""}]
[null,"\nHighest hazard level for all 'Uptake Routes' \n",null,null,{"$f":"_xlfn.IFNA(IF((INDEX(E817:H817,MATCH(\"E\",E817:H817,0)))=\"E\",\"E\",\"\"),_xlfn.IFNA(IF((INDEX(E817:H817,MATCH(\"D (E)c\",E817:H817,0)))=\"D (E)c\",\"D (E)\",\"\"),_xlfn.IFNA(IF((INDEX(E817:H817,MATCH(\"D\",E817:H817,0)))=\"D\",\"D\",\"\"),_xlfn.IFNA(IF((INDEX(E817:H817,MATCH(\"C\",E817:H817,0)))=\"C\",\"C\",\"\"),_xlfn.IFNA(IF((INDEX(E817:H817,MATCH(\"B\",E817:H817,0)))=\"B\",\"B\",\"\"),_xlfn.IFNA(IF((INDEX(E817:H817,MATCH(\"A\",E817:H817,0)))=\"A\",\"A\",\"\"),_xlfn.IFNA(IF((INDEX(E817:H817,MATCH(\"n.a.\",E817:H817,0)))=\"n.a.\",\"\",\"\"),_xlfn.IFNA(IF((INDEX(E817:H817,MATCH(\"\",E817:H817,0)))=\"\",\"\",\"\"),\"\"))))))))","v":""}]
[]
[]
[null,"\nStep 3: D(E) Assessment\nSkip this step if \nyour assessment above does not reveal a D(E) hazard level.\nHover over this cell for additional instructions.\n",null,null,"\nOverall hazard level\n",null,{"$f":"IF(AND(E818=\"\",C804=\"Yes\")=TRUE,\"B\",IF(E818=\"\",\"\",(IF(AND(E818=\"D (E)\",C821=\"\"),\"D (E)\"&CHAR(10)&\"Find if cat. 1 acute tox.\",(IF(E818<>\"D (E)\",E818,(IF(AND(E818=\"D (E)\",C821=\"Yes\"),\"E\",(IF(AND(E818=\"D (E)\",C821=\"No\"),\"D\",\"\"))))))))))","v":""}]
[]
[{"$f":"IF(IF(MOD(ROWS(B$3:B823),20)=1,INDEX('Summary Sheet'!$A$17:$A896,INT(ROWS(B$3:B823)/20)+1),\"\")=0,\"\",IF(MOD(ROWS(B$3:B823),20)=1,INDEX('Summary Sheet'!$A$17:$A896,INT(ROWS(B$3:B823)/20)+1),\"\"))","v":42},"Hazard Level Assessment","for",{"$f":"IF(IF(MOD(ROWS(D$3:D823),20)=1,INDEX('Summary Sheet'!$B$17:$B896,INT(ROWS(D$3:D823)/20)+1),\"\")=0,\"\",IF(MOD(ROWS(D$3:D823),20)=1,INDEX('Summary Sheet'!$B$17:$B896,INT(ROWS(D$3:D823)/20)+1),\"\"))","v":""}]
[null,"\nStep 1: Physical & Environmental Hazard Statements/Codes\nFind Section 2 of the SDS and determine if the SDS has physical and/or environmental hazard statements/codes. Hover on this cell for additional instructions.\n",null,{"$f":"IF(IF(MOD(ROWS(D$3:D824),20)=1,INDEX('Summary Sheet'!$B$17:$B896,INT(ROWS(D$3:D824)/20)+1),\"\")=0,\"\",IF(MOD(ROWS(D$3:D824),20)=1,INDEX('Summary Sheet'!$B$17:$B896,INT(ROWS(D$3:D824)/20)+1),\"\"))","v":""}]
[null,"Step 2: Health Hazard Statements/Codes\nProvide the Health Hazard Statements or Codes from Section 2 of the SDS below. Hover on this cell for additional instructions.",null,{"$f":"IF(IF(MOD(ROWS(D$3:D825),20)=1,INDEX('Summary Sheet'!$B$17:$B896,INT(ROWS(D$3:D825)/20)+1),\"\")=0,\"\",IF(MOD(ROWS(D$3:D825),20)=1,INDEX('Summary Sheet'!$B$17:$B896,INT(ROWS(D$3:D825)/20)+1),\"\"))","v":""},"\nHazard Level\n"]
[null,null,null,{"$f":"IF(IF(MOD(ROWS(D$3:D826),20)=1,INDEX('Summary Sheet'!$B$17:$B896,INT(ROWS(D$3:D826)/20)+1),\"\")=0,\"\",IF(MOD(ROWS(D$3:D826),20)=1,INDEX('Summary Sheet'!$B$17:$B896,INT(ROWS(D$3:D826)/20)+1),\"\"))","v":""},"\nEye Damage\n","\nInhalation\n","\nLocal Skin Damage\n","\nSkin uptake, systemic\n"]
[1,null,{"$f":"_xlfn.IFNA(VLOOKUP(B827,_!$A$7:$F$210,6,FALSE),\"\")","v":""},{"$f":"IF(IF(MOD(ROWS(D$3:D827),20)=1,INDEX('Summary Sheet'!$B$17:$B896,INT(ROWS(D$3:D827)/20)+1),\"\")=0,\"\",IF(MOD(ROWS(D$3:D827),20)=1,INDEX('Summary Sheet'!$B$17:$B896,INT(ROWS(D$3:D827)/20)+1),\"\"))","v":""},{"$f":"_xlfn.IFNA(IF(VLOOKUP(B827,_!$A$7:$E$210,2,FALSE)=0, \"\", VLOOKUP(B827,_!$A$7:$E$210,2,FALSE)),  \"\")","v":""},{"$f":"_xlfn.IFNA(IF(VLOOKUP(B827,_!$A$7:$E$210,3,FALSE)=0, \"\", VLOOKUP(B827,_!$A$7:$E$210,3,FALSE)), \"\")","v":""},{"$f":"_xlfn.IFNA(IF(VLOOKUP(B827,_!$A$7:$E$210,4,FALSE)=0, \"\",VLOOKUP(B827,_!$A$7:$E$210,4,FALSE)), \"\")","v":""},{"$f":"_xlfn.IFNA(IF(VLOOKUP(B827,_!$A$7:$E$210,5,FALSE)=0,\"\",VLOOKUP(B827,_!$A$7:$E$210,5,FALSE)), \"\")","v":""}]
[2,null,{"$f":"_xlfn.IFNA(VLOOKUP(B828,_!$A$7:$F$210,6,FALSE),\"\")","v":""},{"$f":"IF(IF(MOD(ROWS(D$3:D828),20)=1,INDEX('Summary Sheet'!$B$17:$B896,INT(ROWS(D$3:D828)/20)+1),\"\")=0,\"\",IF(MOD(ROWS(D$3:D828),20)=1,INDEX('Summary Sheet'!$B$17:$B896,INT(ROWS(D$3:D828)/20)+1),\"\"))","v":""},{"$f":"_xlfn.IFNA(IF(VLOOKUP(B828,_!$A$7:$E$210,2,FALSE)=0, \"\", VLOOKUP(B828,_!$A$7:$E$210,2,FALSE)),  \"\")","v":""},{"$f":"_xlfn.IFNA(IF(VLOOKUP(B828,_!$A$7:$E$210,3,FALSE)=0, \"\", VLOOKUP(B828,_!$A$7:$E$210,3,FALSE)), \"\")","v":""},{"$f":"_xlfn.IFNA(IF(VLOOKUP(B828,_!$A$7:$E$210,4,FALSE)=0, \"\",VLOOKUP(B828,_!$A$7:$E$210,4,FALSE)), \"\")","v":""},{"$f":"_xlfn.IFNA(IF(VLOOKUP(B828,_!$A$7:$E$210,5,FALSE)=0,\"\",VLOOKUP(B828,_!$A$7:$E$210,5,FALSE)), \"\")","v":""}]
[3,null,{"$f":"_xlfn.IFNA(VLOOKUP(B829,_!$A$7:$F$210,6,FALSE),\"\")","v":""},{"$f":"IF(IF(MOD(ROWS(D$3:D829),20)=1,INDEX('Summary Sheet'!$B$17:$B896,INT(ROWS(D$3:D829)/20)+1),\"\")=0,\"\",IF(MOD(ROWS(D$3:D829),20)=1,INDEX('Summary Sheet'!$B$17:$B896,INT(ROWS(D$3:D829)/20)+1),\"\"))","v":""},{"$f":"_xlfn.IFNA(IF(VLOOKUP(B829,_!$A$7:$E$210,2,FALSE)=0, \"\", VLOOKUP(B829,_!$A$7:$E$210,2,FALSE)),  \"\")","v":""},{"$f":"_xlfn.IFNA(IF(VLOOKUP(B829,_!$A$7:$E$210,3,FALSE)=0, \"\", VLOOKUP(B829,_!$A$7:$E$210,3,FALSE)), \"\")","v":""},{"$f":"_xlfn.IFNA(IF(VLOOKUP(B829,_!$A$7:$E$210,4,FALSE)=0, \"\",VLOOKUP(B829,_!$A$7:$E$210,4,FALSE)), \"\")","v":""},{"$f":"_xlfn.IFNA(IF(VLOOKUP(B829,_!$A$7:$E$210,5,FALSE)=0,\"\",VLOOKUP(B829,_!$A$7:$E$210,5,FALSE)), \"\")","v":""}]
[4,null,{"$f":"_xlfn.IFNA(VLOOKUP(B830,_!$A$7:$F$210,6,FALSE),\"\")","v":""},{"$f":"IF(IF(MOD(ROWS(D$3:D830),20)=1,INDEX('Summary Sheet'!$B$17:$B896,INT(ROWS(D$3:D830)/20)+1),\"\")=0,\"\",IF(MOD(ROWS(D$3:D830),20)=1,INDEX('Summary Sheet'!$B$17:$B896,INT(ROWS(D$3:D830)/20)+1),\"\"))","v":""},{"$f":"_xlfn.IFNA(IF(VLOOKUP(B830,_!$A$7:$E$210,2,FALSE)=0, \"\", VLOOKUP(B830,_!$A$7:$E$210,2,FALSE)),  \"\")","v":""},{"$f":"_xlfn.IFNA(IF(VLOOKUP(B830,_!$A$7:$E$210,3,FALSE)=0, \"\", VLOOKUP(B830,_!$A$7:$E$210,3,FALSE)), \"\")","v":""},{"$f":"_xlfn.IFNA(IF(VLOOKUP(B830,_!$A$7:$E$210,4,FALSE)=0, \"\",VLOOKUP(B830,_!$A$7:$E$210,4,FALSE)), \"\")","v":""},{"$f":"_xlfn.IFNA(IF(VLOOKUP(B830,_!$A$7:$E$210,5,FALSE)=0,\"\",VLOOKUP(B830,_!$A$7:$E$210,5,FALSE)), \"\")","v":""}]
[5,null,{"$f":"_xlfn.IFNA(VLOOKUP(B831,_!$A$7:$F$210,6,FALSE),\"\")","v":""},{"$f":"IF(IF(MOD(ROWS(D$3:D831),20)=1,INDEX('Summary Sheet'!$B$17:$B896,INT(ROWS(D$3:D831)/20)+1),\"\")=0,\"\",IF(MOD(ROWS(D$3:D831),20)=1,INDEX('Summary Sheet'!$B$17:$B896,INT(ROWS(D$3:D831)/20)+1),\"\"))","v":""},{"$f":"_xlfn.IFNA(IF(VLOOKUP(B831,_!$A$7:$E$210,2,FALSE)=0, \"\", VLOOKUP(B831,_!$A$7:$E$210,2,FALSE)),  \"\")","v":""},{"$f":"_xlfn.IFNA(IF(VLOOKUP(B831,_!$A$7:$E$210,3,FALSE)=0, \"\", VLOOKUP(B831,_!$A$7:$E$210,3,FALSE)), \"\")","v":""},{"$f":"_xlfn.IFNA(IF(VLOOKUP(B831,_!$A$7:$E$210,4,FALSE)=0, \"\",VLOOKUP(B831,_!$A$7:$E$210,4,FALSE)), \"\")","v":""},{"$f":"_xlfn.IFNA(IF(VLOOKUP(B831,_!$A$7:$E$210,5,FALSE)=0,\"\",VLOOKUP(B831,_!$A$7:$E$210,5,FALSE)), \"\")","v":""}]
[6,null,{"$f":"_xlfn.IFNA(VLOOKUP(B832,_!$A$7:$F$210,6,FALSE),\"\")","v":""},{"$f":"IF(IF(MOD(ROWS(D$3:D832),20)=1,INDEX('Summary Sheet'!$B$17:$B896,INT(ROWS(D$3:D832)/20)+1),\"\")=0,\"\",IF(MOD(ROWS(D$3:D832),20)=1,INDEX('Summary Sheet'!$B$17:$B896,INT(ROWS(D$3:D832)/20)+1),\"\"))","v":""},{"$f":"_xlfn.IFNA(IF(VLOOKUP(B832,_!$A$7:$E$210,2,FALSE)=0, \"\", VLOOKUP(B832,_!$A$7:$E$210,2,FALSE)),  \"\")","v":""},{"$f":"_xlfn.IFNA(IF(VLOOKUP(B832,_!$A$7:$E$210,3,FALSE)=0, \"\", VLOOKUP(B832,_!$A$7:$E$210,3,FALSE)), \"\")","v":""},{"$f":"_xlfn.IFNA(IF(VLOOKUP(B832,_!$A$7:$E$210,4,FALSE)=0, \"\",VLOOKUP(B832,_!$A$7:$E$210,4,FALSE)), \"\")","v":""},{"$f":"_xlfn.IFNA(IF(VLOOKUP(B832,_!$A$7:$E$210,5,FALSE)=0,\"\",VLOOKUP(B832,_!$A$7:$E$210,5,FALSE)), \"\")","v":""}]
[7,null,{"$f":"_xlfn.IFNA(VLOOKUP(B833,_!$A$7:$F$210,6,FALSE),\"\")","v":""},{"$f":"IF(IF(MOD(ROWS(D$3:D833),20)=1,INDEX('Summary Sheet'!$B$17:$B896,INT(ROWS(D$3:D833)/20)+1),\"\")=0,\"\",IF(MOD(ROWS(D$3:D833),20)=1,INDEX('Summary Sheet'!$B$17:$B896,INT(ROWS(D$3:D833)/20)+1),\"\"))","v":""},{"$f":"_xlfn.IFNA(IF(VLOOKUP(B833,_!$A$7:$E$210,2,FALSE)=0, \"\", VLOOKUP(B833,_!$A$7:$E$210,2,FALSE)),  \"\")","v":""},{"$f":"_xlfn.IFNA(IF(VLOOKUP(B833,_!$A$7:$E$210,3,FALSE)=0, \"\", VLOOKUP(B833,_!$A$7:$E$210,3,FALSE)), \"\")","v":""},{"$f":"_xlfn.IFNA(IF(VLOOKUP(B833,_!$A$7:$E$210,4,FALSE)=0, \"\",VLOOKUP(B833,_!$A$7:$E$210,4,FALSE)), \"\")","v":""},{"$f":"_xlfn.IFNA(IF(VLOOKUP(B833,_!$A$7:$E$210,5,FALSE)=0,\"\",VLOOKUP(B833,_!$A$7:$E$210,5,FALSE)), \"\")","v":""}]
[8,null,{"$f":"_xlfn.IFNA(VLOOKUP(B834,_!$A$7:$F$210,6,FALSE),\"\")","v":""},{"$f":"IF(IF(MOD(ROWS(D$3:D834),20)=1,INDEX('Summary Sheet'!$B$17:$B896,INT(ROWS(D$3:D834)/20)+1),\"\")=0,\"\",IF(MOD(ROWS(D$3:D834),20)=1,INDEX('Summary Sheet'!$B$17:$B896,INT(ROWS(D$3:D834)/20)+1),\"\"))","v":""},{"$f":"_xlfn.IFNA(IF(VLOOKUP(B834,_!$A$7:$E$210,2,FALSE)=0, \"\", VLOOKUP(B834,_!$A$7:$E$210,2,FALSE)),  \"\")","v":""},{"$f":"_xlfn.IFNA(IF(VLOOKUP(B834,_!$A$7:$E$210,3,FALSE)=0, \"\", VLOOKUP(B834,_!$A$7:$E$210,3,FALSE)), \"\")","v":""},{"$f":"_xlfn.IFNA(IF(VLOOKUP(B834,_!$A$7:$E$210,4,FALSE)=0, \"\",VLOOKUP(B834,_!$A$7:$E$210,4,FALSE)), \"\")","v":""},{"$f":"_xlfn.IFNA(IF(VLOOKUP(B834,_!$A$7:$E$210,5,FALSE)=0,\"\",VLOOKUP(B834,_!$A$7:$E$210,5,FALSE)), \"\")","v":""}]
[9,null,{"$f":"_xlfn.IFNA(VLOOKUP(B835,_!$A$7:$F$210,6,FALSE),\"\")","v":""},{"$f":"IF(IF(MOD(ROWS(D$3:D835),20)=1,INDEX('Summary Sheet'!$B$17:$B896,INT(ROWS(D$3:D835)/20)+1),\"\")=0,\"\",IF(MOD(ROWS(D$3:D835),20)=1,INDEX('Summary Sheet'!$B$17:$B896,INT(ROWS(D$3:D835)/20)+1),\"\"))","v":""},{"$f":"_xlfn.IFNA(IF(VLOOKUP(B835,_!$A$7:$E$210,2,FALSE)=0, \"\", VLOOKUP(B835,_!$A$7:$E$210,2,FALSE)),  \"\")","v":""},{"$f":"_xlfn.IFNA(IF(VLOOKUP(B835,_!$A$7:$E$210,3,FALSE)=0, \"\", VLOOKUP(B835,_!$A$7:$E$210,3,FALSE)), \"\")","v":""},{"$f":"_xlfn.IFNA(IF(VLOOKUP(B835,_!$A$7:$E$210,4,FALSE)=0, \"\",VLOOKUP(B835,_!$A$7:$E$210,4,FALSE)), \"\")","v":""},{"$f":"_xlfn.IFNA(IF(VLOOKUP(B835,_!$A$7:$E$210,5,FALSE)=0,\"\",VLOOKUP(B835,_!$A$7:$E$210,5,FALSE)), \"\")","v":""}]
[10,null,{"$f":"_xlfn.IFNA(VLOOKUP(B836,_!$A$7:$F$210,6,FALSE),\"\")","v":""},{"$f":"IF(IF(MOD(ROWS(D$14:D836),20)=1,INDEX('Summary Sheet'!$B$17:$B896,INT(ROWS(D$14:D836)/20)+1),\"\")=0,\"\",IF(MOD(ROWS(D$14:D836),20)=1,INDEX('Summary Sheet'!$B$17:$B896,INT(ROWS(D$14:D836)/20)+1),\"\"))","v":""},{"$f":"_xlfn.IFNA(IF(VLOOKUP(B836,_!$A$7:$E$210,2,FALSE)=0, \"\", VLOOKUP(B836,_!$A$7:$E$210,2,FALSE)),  \"\")","v":""},{"$f":"_xlfn.IFNA(IF(VLOOKUP(B836,_!$A$7:$E$210,3,FALSE)=0, \"\", VLOOKUP(B836,_!$A$7:$E$210,3,FALSE)), \"\")","v":""},{"$f":"_xlfn.IFNA(IF(VLOOKUP(B836,_!$A$7:$E$210,4,FALSE)=0, \"\",VLOOKUP(B836,_!$A$7:$E$210,4,FALSE)), \"\")","v":""},{"$f":"_xlfn.IFNA(IF(VLOOKUP(B836,_!$A$7:$E$210,5,FALSE)=0,\"\",VLOOKUP(B836,_!$A$7:$E$210,5,FALSE)), \"\")","v":""}]
[null,"\nHighest hazard level for each ‘Uptake Route’\n",null,null,{"$f":"_xlfn.IFNA(IF((INDEX(E827:E836,MATCH(\"E\",E827:E836,0)))=\"E\",\"E\",\"\"),_xlfn.IFNA(IF((INDEX(E827:E836,MATCH(\"D\",E827:E836,0)))=\"D\",\"D\",\"\"),_xlfn.IFNA(IF((INDEX(E827:E836,MATCH(\"Ca\",E827:E836,0)))=\"Ca\",\"C\",\"\"),_xlfn.IFNA(IF((INDEX(E827:E836,MATCH(\"C\",E827:E836,0)))=\"C\",\"C\",\"\"),_xlfn.IFNA(IF((INDEX(E827:E836,MATCH(\"B\",E827:E836,0)))=\"B\",\"B\",\"\"),_xlfn.IFNA(IF((INDEX(E827:E836,MATCH(\"A\",E827:E836,0)))=\"A\",\"A\",\"\"),_xlfn.IFNA(IF((INDEX(E827:E836,MATCH(\"n.a.\",E827:E836,0)))=\"n.a.\",\"\",\"\"),_xlfn.IFNA(IF((INDEX(E827:E836,MATCH(\"\",E827:E836,0)))=\"\",\"\",\"\"),\"\"))))))))","v":""},{"$f":"_xlfn.IFNA(IF((INDEX(F827:F836,MATCH(\"E\",F827:F836,0)))=\"E\",\"E\",\"\"),_xlfn.IFNA(IF((INDEX(F827:F836,MATCH(\"D (E)c\",F827:F836,0)))=\"D (E)c\",\"D (E)c\",\"\"),_xlfn.IFNA(IF((INDEX(F827:F836,MATCH(\"Da (E)c\",F827:F836,0)))=\"Da (E)c\",\"D (E)c\",\"\"),_xlfn.IFNA(IF((INDEX(F827:F836,MATCH(\"D\",F827:F836,0)))=\"D\",\"D\",\"\"),_xlfn.IFNA(IF((INDEX(F827:F836,MATCH(\"Ca\",F827:F836,0)))=\"Ca\",\"C\",\"\"),_xlfn.IFNA(IF((INDEX(F827:F836,MATCH(\"C\",F827:F836,0)))=\"C\",\"C\",\"\"),_xlfn.IFNA(IF((INDEX(F827:F836,MATCH(\"Ba\",F827:F836,0)))=\"Ba\",\"B\",\"\"),_xlfn.IFNA(IF((INDEX(F827:F836,MATCH(\"B\",F827:F836,0)))=\"B\",\"B\",\"\"),_xlfn.IFNA(IF((INDEX(F827:F836,MATCH(\"Aa\",F827:F836,0)))=\"Aa\",\"A\",\"\"),_xlfn.IFNA(IF((INDEX(F827:F836,MATCH(\"A\",F827:F836,0)))=\"A\",\"A\",\"\"),_xlfn.IFNA(IF((INDEX(F827:F836,MATCH(\"n.a.\",F827:F836,0)))=\"n.a.\",\"\",\"\"),_xlfn.IFNA(IF((INDEX(F827:F836,MATCH(\"\",F827:F836,0)))=\"\",\"\",\"\"),\"\"))))))))))))","v":""},{"$f":"_xlfn.IFNA(IF((INDEX(G827:G836,MATCH(\"E\",G827:G836,0)))=\"E\",\"E\",\"\"),_xlfn.IFNA(IF((INDEX(G827:G836,MATCH(\"D\",G827:G836,0)))=\"D\",\"D\",\"\"),_xlfn.IFNA(IF((INDEX(G827:G836,MATCH(\"Ca\",G827:G836,0)))=\"Ca\",\"C\",\"\"),_xlfn.IFNA(IF((INDEX(G827:G836,MATCH(\"C\",G827:G836,0)))=\"C\",\"C\",\"\"),_xlfn.IFNA(IF((INDEX(G827:G836,MATCH(\"B\",G827:G836,0)))=\"B\",\"B\",\"\"),_xlfn.IFNA(IF((INDEX(G827:G836,MATCH(\"A\",G827:G836,0)))=\"A\",\"A\",\"\"),_xlfn.IFNA(IF((INDEX(G827:G836,MATCH(\"n.a.\",G827:G836,0)))=\"n.a.\",\"\",\"\"),_xlfn.IFNA(IF((INDEX(G827:G836,MATCH(\"\",G827:G836,0)))=\"\",\"\",\"\"),\"\"))))))))","v":""},{"$f":"_xlfn.IFNA(IF((INDEX(H827:H836,MATCH(\"E\",H827:H836,0)))=\"E\",\"E\",\"\"),_xlfn.IFNA(IF((INDEX(H827:H836,MATCH(\"D (E)c\",H827:H836,0)))=\"D (E)c\",\"D (E)c\",\"\"),_xlfn.IFNA(IF((INDEX(H827:H836,MATCH(\"Db (E)c\",H827:H836,0)))=\"Db (E)c\",\"D (E)c\",\"\"),_xlfn.IFNA(IF((INDEX(H827:H836,MATCH(\"D\",H827:H836,0)))=\"D\",\"D\",\"\"),_xlfn.IFNA(IF((INDEX(H827:H836,MATCH(\"Cb\",H827:H836,0)))=\"Cb\",\"C\",\"\"),_xlfn.IFNA(IF((INDEX(H827:H836,MATCH(\"C\",H827:H836,0)))=\"C\",\"C\",\"\"),_xlfn.IFNA(IF((INDEX(H827:H836,MATCH(\"Bb\",H827:H836,0)))=\"Bb\",\"B\",\"\"),_xlfn.IFNA(IF((INDEX(H827:H836,MATCH(\"B\",H827:H836,0)))=\"B\",\"B\",\"\"),_xlfn.IFNA(IF((INDEX(H827:H836,MATCH(\"Ab\",H827:H836,0)))=\"Ab\",\"A\",\"\"),_xlfn.IFNA(IF((INDEX(H827:H836,MATCH(\"A\",H827:H836,0)))=\"A\",\"A\",\"\"),_xlfn.IFNA(IF((INDEX(H827:H836,MATCH(\"n.a.\",H827:H836,0)))=\"n.a.\",\"\",\"\"),_xlfn.IFNA(IF((INDEX(H827:H836,MATCH(\"\",H827:H836,0)))=\"\",\"\",\"\"),\"\"))))))))))))","v":""}]
[null,"\nHighest hazard level for all 'Uptake Routes' \n",null,null,{"$f":"_xlfn.IFNA(IF((INDEX(E837:H837,MATCH(\"E\",E837:H837,0)))=\"E\",\"E\",\"\"),_xlfn.IFNA(IF((INDEX(E837:H837,MATCH(\"D (E)c\",E837:H837,0)))=\"D (E)c\",\"D (E)\",\"\"),_xlfn.IFNA(IF((INDEX(E837:H837,MATCH(\"D\",E837:H837,0)))=\"D\",\"D\",\"\"),_xlfn.IFNA(IF((INDEX(E837:H837,MATCH(\"C\",E837:H837,0)))=\"C\",\"C\",\"\"),_xlfn.IFNA(IF((INDEX(E837:H837,MATCH(\"B\",E837:H837,0)))=\"B\",\"B\",\"\"),_xlfn.IFNA(IF((INDEX(E837:H837,MATCH(\"A\",E837:H837,0)))=\"A\",\"A\",\"\"),_xlfn.IFNA(IF((INDEX(E837:H837,MATCH(\"n.a.\",E837:H837,0)))=\"n.a.\",\"\",\"\"),_xlfn.IFNA(IF((INDEX(E837:H837,MATCH(\"\",E837:H837,0)))=\"\",\"\",\"\"),\"\"))))))))","v":""}]
[]
[]
[null,"\nStep 3: D(E) Assessment\nSkip this step if \nyour assessment above does not reveal a D(E) hazard level.\nHover over this cell for additional instructions.\n",null,null,"\nOverall hazard level\n",null,{"$f":"IF(AND(E838=\"\",C824=\"Yes\")=TRUE,\"B\",IF(E838=\"\",\"\",(IF(AND(E838=\"D (E)\",C841=\"\"),\"D (E)\"&CHAR(10)&\"Find if cat. 1 acute tox.\",(IF(E838<>\"D (E)\",E838,(IF(AND(E838=\"D (E)\",C841=\"Yes\"),\"E\",(IF(AND(E838=\"D (E)\",C841=\"No\"),\"D\",\"\"))))))))))","v":""}]
[]
[{"$f":"IF(IF(MOD(ROWS(B$3:B843),20)=1,INDEX('Summary Sheet'!$A$17:$A915,INT(ROWS(B$3:B843)/20)+1),\"\")=0,\"\",IF(MOD(ROWS(B$3:B843),20)=1,INDEX('Summary Sheet'!$A$17:$A915,INT(ROWS(B$3:B843)/20)+1),\"\"))","v":43},"Hazard Level Assessment","for",{"$f":"IF(IF(MOD(ROWS(D$3:D843),20)=1,INDEX('Summary Sheet'!$B$17:$B915,INT(ROWS(D$3:D843)/20)+1),\"\")=0,\"\",IF(MOD(ROWS(D$3:D843),20)=1,INDEX('Summary Sheet'!$B$17:$B915,INT(ROWS(D$3:D843)/20)+1),\"\"))","v":""}]
[null,"\nStep 1: Physical & Environmental Hazard Statements/Codes\nFind Section 2 of the SDS and determine if the SDS has physical and/or environmental hazard statements/codes. Hover on this cell for additional instructions.\n",null,{"$f":"IF(IF(MOD(ROWS(D$3:D844),20)=1,INDEX('Summary Sheet'!$B$17:$B915,INT(ROWS(D$3:D844)/20)+1),\"\")=0,\"\",IF(MOD(ROWS(D$3:D844),20)=1,INDEX('Summary Sheet'!$B$17:$B915,INT(ROWS(D$3:D844)/20)+1),\"\"))","v":""}]
[null,"Step 2: Health Hazard Statements/Codes\nProvide the Health Hazard Statements or Codes from Section 2 of the SDS below. Hover on this cell for additional instructions.",null,{"$f":"IF(IF(MOD(ROWS(D$3:D845),20)=1,INDEX('Summary Sheet'!$B$17:$B915,INT(ROWS(D$3:D845)/20)+1),\"\")=0,\"\",IF(MOD(ROWS(D$3:D845),20)=1,INDEX('Summary Sheet'!$B$17:$B915,INT(ROWS(D$3:D845)/20)+1),\"\"))","v":""},"\nHazard Level\n"]
[null,null,null,{"$f":"IF(IF(MOD(ROWS(D$3:D846),20)=1,INDEX('Summary Sheet'!$B$17:$B915,INT(ROWS(D$3:D846)/20)+1),\"\")=0,\"\",IF(MOD(ROWS(D$3:D846),20)=1,INDEX('Summary Sheet'!$B$17:$B915,INT(ROWS(D$3:D846)/20)+1),\"\"))","v":""},"\nEye Damage\n","\nInhalation\n","\nLocal Skin Damage\n","\nSkin uptake, systemic\n"]
[1,null,{"$f":"_xlfn.IFNA(VLOOKUP(B847,_!$A$7:$F$210,6,FALSE),\"\")","v":""},{"$f":"IF(IF(MOD(ROWS(D$3:D847),20)=1,INDEX('Summary Sheet'!$B$17:$B915,INT(ROWS(D$3:D847)/20)+1),\"\")=0,\"\",IF(MOD(ROWS(D$3:D847),20)=1,INDEX('Summary Sheet'!$B$17:$B915,INT(ROWS(D$3:D847)/20)+1),\"\"))","v":""},{"$f":"_xlfn.IFNA(IF(VLOOKUP(B847,_!$A$7:$E$210,2,FALSE)=0, \"\", VLOOKUP(B847,_!$A$7:$E$210,2,FALSE)),  \"\")","v":""},{"$f":"_xlfn.IFNA(IF(VLOOKUP(B847,_!$A$7:$E$210,3,FALSE)=0, \"\", VLOOKUP(B847,_!$A$7:$E$210,3,FALSE)), \"\")","v":""},{"$f":"_xlfn.IFNA(IF(VLOOKUP(B847,_!$A$7:$E$210,4,FALSE)=0, \"\",VLOOKUP(B847,_!$A$7:$E$210,4,FALSE)), \"\")","v":""},{"$f":"_xlfn.IFNA(IF(VLOOKUP(B847,_!$A$7:$E$210,5,FALSE)=0,\"\",VLOOKUP(B847,_!$A$7:$E$210,5,FALSE)), \"\")","v":""}]
[2,null,{"$f":"_xlfn.IFNA(VLOOKUP(B848,_!$A$7:$F$210,6,FALSE),\"\")","v":""},{"$f":"IF(IF(MOD(ROWS(D$3:D848),20)=1,INDEX('Summary Sheet'!$B$17:$B915,INT(ROWS(D$3:D848)/20)+1),\"\")=0,\"\",IF(MOD(ROWS(D$3:D848),20)=1,INDEX('Summary Sheet'!$B$17:$B915,INT(ROWS(D$3:D848)/20)+1),\"\"))","v":""},{"$f":"_xlfn.IFNA(IF(VLOOKUP(B848,_!$A$7:$E$210,2,FALSE)=0, \"\", VLOOKUP(B848,_!$A$7:$E$210,2,FALSE)),  \"\")","v":""},{"$f":"_xlfn.IFNA(IF(VLOOKUP(B848,_!$A$7:$E$210,3,FALSE)=0, \"\", VLOOKUP(B848,_!$A$7:$E$210,3,FALSE)), \"\")","v":""},{"$f":"_xlfn.IFNA(IF(VLOOKUP(B848,_!$A$7:$E$210,4,FALSE)=0, \"\",VLOOKUP(B848,_!$A$7:$E$210,4,FALSE)), \"\")","v":""},{"$f":"_xlfn.IFNA(IF(VLOOKUP(B848,_!$A$7:$E$210,5,FALSE)=0,\"\",VLOOKUP(B848,_!$A$7:$E$210,5,FALSE)), \"\")","v":""}]
[3,null,{"$f":"_xlfn.IFNA(VLOOKUP(B849,_!$A$7:$F$210,6,FALSE),\"\")","v":""},{"$f":"IF(IF(MOD(ROWS(D$3:D849),20)=1,INDEX('Summary Sheet'!$B$17:$B915,INT(ROWS(D$3:D849)/20)+1),\"\")=0,\"\",IF(MOD(ROWS(D$3:D849),20)=1,INDEX('Summary Sheet'!$B$17:$B915,INT(ROWS(D$3:D849)/20)+1),\"\"))","v":""},{"$f":"_xlfn.IFNA(IF(VLOOKUP(B849,_!$A$7:$E$210,2,FALSE)=0, \"\", VLOOKUP(B849,_!$A$7:$E$210,2,FALSE)),  \"\")","v":""},{"$f":"_xlfn.IFNA(IF(VLOOKUP(B849,_!$A$7:$E$210,3,FALSE)=0, \"\", VLOOKUP(B849,_!$A$7:$E$210,3,FALSE)), \"\")","v":""},{"$f":"_xlfn.IFNA(IF(VLOOKUP(B849,_!$A$7:$E$210,4,FALSE)=0, \"\",VLOOKUP(B849,_!$A$7:$E$210,4,FALSE)), \"\")","v":""},{"$f":"_xlfn.IFNA(IF(VLOOKUP(B849,_!$A$7:$E$210,5,FALSE)=0,\"\",VLOOKUP(B849,_!$A$7:$E$210,5,FALSE)), \"\")","v":""}]
[4,null,{"$f":"_xlfn.IFNA(VLOOKUP(B850,_!$A$7:$F$210,6,FALSE),\"\")","v":""},{"$f":"IF(IF(MOD(ROWS(D$3:D850),20)=1,INDEX('Summary Sheet'!$B$17:$B915,INT(ROWS(D$3:D850)/20)+1),\"\")=0,\"\",IF(MOD(ROWS(D$3:D850),20)=1,INDEX('Summary Sheet'!$B$17:$B915,INT(ROWS(D$3:D850)/20)+1),\"\"))","v":""},{"$f":"_xlfn.IFNA(IF(VLOOKUP(B850,_!$A$7:$E$210,2,FALSE)=0, \"\", VLOOKUP(B850,_!$A$7:$E$210,2,FALSE)),  \"\")","v":""},{"$f":"_xlfn.IFNA(IF(VLOOKUP(B850,_!$A$7:$E$210,3,FALSE)=0, \"\", VLOOKUP(B850,_!$A$7:$E$210,3,FALSE)), \"\")","v":""},{"$f":"_xlfn.IFNA(IF(VLOOKUP(B850,_!$A$7:$E$210,4,FALSE)=0, \"\",VLOOKUP(B850,_!$A$7:$E$210,4,FALSE)), \"\")","v":""},{"$f":"_xlfn.IFNA(IF(VLOOKUP(B850,_!$A$7:$E$210,5,FALSE)=0,\"\",VLOOKUP(B850,_!$A$7:$E$210,5,FALSE)), \"\")","v":""}]
[5,null,{"$f":"_xlfn.IFNA(VLOOKUP(B851,_!$A$7:$F$210,6,FALSE),\"\")","v":""},{"$f":"IF(IF(MOD(ROWS(D$3:D851),20)=1,INDEX('Summary Sheet'!$B$17:$B915,INT(ROWS(D$3:D851)/20)+1),\"\")=0,\"\",IF(MOD(ROWS(D$3:D851),20)=1,INDEX('Summary Sheet'!$B$17:$B915,INT(ROWS(D$3:D851)/20)+1),\"\"))","v":""},{"$f":"_xlfn.IFNA(IF(VLOOKUP(B851,_!$A$7:$E$210,2,FALSE)=0, \"\", VLOOKUP(B851,_!$A$7:$E$210,2,FALSE)),  \"\")","v":""},{"$f":"_xlfn.IFNA(IF(VLOOKUP(B851,_!$A$7:$E$210,3,FALSE)=0, \"\", VLOOKUP(B851,_!$A$7:$E$210,3,FALSE)), \"\")","v":""},{"$f":"_xlfn.IFNA(IF(VLOOKUP(B851,_!$A$7:$E$210,4,FALSE)=0, \"\",VLOOKUP(B851,_!$A$7:$E$210,4,FALSE)), \"\")","v":""},{"$f":"_xlfn.IFNA(IF(VLOOKUP(B851,_!$A$7:$E$210,5,FALSE)=0,\"\",VLOOKUP(B851,_!$A$7:$E$210,5,FALSE)), \"\")","v":""}]
[6,null,{"$f":"_xlfn.IFNA(VLOOKUP(B852,_!$A$7:$F$210,6,FALSE),\"\")","v":""},{"$f":"IF(IF(MOD(ROWS(D$3:D852),20)=1,INDEX('Summary Sheet'!$B$17:$B915,INT(ROWS(D$3:D852)/20)+1),\"\")=0,\"\",IF(MOD(ROWS(D$3:D852),20)=1,INDEX('Summary Sheet'!$B$17:$B915,INT(ROWS(D$3:D852)/20)+1),\"\"))","v":""},{"$f":"_xlfn.IFNA(IF(VLOOKUP(B852,_!$A$7:$E$210,2,FALSE)=0, \"\", VLOOKUP(B852,_!$A$7:$E$210,2,FALSE)),  \"\")","v":""},{"$f":"_xlfn.IFNA(IF(VLOOKUP(B852,_!$A$7:$E$210,3,FALSE)=0, \"\", VLOOKUP(B852,_!$A$7:$E$210,3,FALSE)), \"\")","v":""},{"$f":"_xlfn.IFNA(IF(VLOOKUP(B852,_!$A$7:$E$210,4,FALSE)=0, \"\",VLOOKUP(B852,_!$A$7:$E$210,4,FALSE)), \"\")","v":""},{"$f":"_xlfn.IFNA(IF(VLOOKUP(B852,_!$A$7:$E$210,5,FALSE)=0,\"\",VLOOKUP(B852,_!$A$7:$E$210,5,FALSE)), \"\")","v":""}]
[7,null,{"$f":"_xlfn.IFNA(VLOOKUP(B853,_!$A$7:$F$210,6,FALSE),\"\")","v":""},{"$f":"IF(IF(MOD(ROWS(D$3:D853),20)=1,INDEX('Summary Sheet'!$B$17:$B915,INT(ROWS(D$3:D853)/20)+1),\"\")=0,\"\",IF(MOD(ROWS(D$3:D853),20)=1,INDEX('Summary Sheet'!$B$17:$B915,INT(ROWS(D$3:D853)/20)+1),\"\"))","v":""},{"$f":"_xlfn.IFNA(IF(VLOOKUP(B853,_!$A$7:$E$210,2,FALSE)=0, \"\", VLOOKUP(B853,_!$A$7:$E$210,2,FALSE)),  \"\")","v":""},{"$f":"_xlfn.IFNA(IF(VLOOKUP(B853,_!$A$7:$E$210,3,FALSE)=0, \"\", VLOOKUP(B853,_!$A$7:$E$210,3,FALSE)), \"\")","v":""},{"$f":"_xlfn.IFNA(IF(VLOOKUP(B853,_!$A$7:$E$210,4,FALSE)=0, \"\",VLOOKUP(B853,_!$A$7:$E$210,4,FALSE)), \"\")","v":""},{"$f":"_xlfn.IFNA(IF(VLOOKUP(B853,_!$A$7:$E$210,5,FALSE)=0,\"\",VLOOKUP(B853,_!$A$7:$E$210,5,FALSE)), \"\")","v":""}]
[8,null,{"$f":"_xlfn.IFNA(VLOOKUP(B854,_!$A$7:$F$210,6,FALSE),\"\")","v":""},{"$f":"IF(IF(MOD(ROWS(D$3:D854),20)=1,INDEX('Summary Sheet'!$B$17:$B915,INT(ROWS(D$3:D854)/20)+1),\"\")=0,\"\",IF(MOD(ROWS(D$3:D854),20)=1,INDEX('Summary Sheet'!$B$17:$B915,INT(ROWS(D$3:D854)/20)+1),\"\"))","v":""},{"$f":"_xlfn.IFNA(IF(VLOOKUP(B854,_!$A$7:$E$210,2,FALSE)=0, \"\", VLOOKUP(B854,_!$A$7:$E$210,2,FALSE)),  \"\")","v":""},{"$f":"_xlfn.IFNA(IF(VLOOKUP(B854,_!$A$7:$E$210,3,FALSE)=0, \"\", VLOOKUP(B854,_!$A$7:$E$210,3,FALSE)), \"\")","v":""},{"$f":"_xlfn.IFNA(IF(VLOOKUP(B854,_!$A$7:$E$210,4,FALSE)=0, \"\",VLOOKUP(B854,_!$A$7:$E$210,4,FALSE)), \"\")","v":""},{"$f":"_xlfn.IFNA(IF(VLOOKUP(B854,_!$A$7:$E$210,5,FALSE)=0,\"\",VLOOKUP(B854,_!$A$7:$E$210,5,FALSE)), \"\")","v":""}]
[9,null,{"$f":"_xlfn.IFNA(VLOOKUP(B855,_!$A$7:$F$210,6,FALSE),\"\")","v":""},{"$f":"IF(IF(MOD(ROWS(D$3:D855),20)=1,INDEX('Summary Sheet'!$B$17:$B915,INT(ROWS(D$3:D855)/20)+1),\"\")=0,\"\",IF(MOD(ROWS(D$3:D855),20)=1,INDEX('Summary Sheet'!$B$17:$B915,INT(ROWS(D$3:D855)/20)+1),\"\"))","v":""},{"$f":"_xlfn.IFNA(IF(VLOOKUP(B855,_!$A$7:$E$210,2,FALSE)=0, \"\", VLOOKUP(B855,_!$A$7:$E$210,2,FALSE)),  \"\")","v":""},{"$f":"_xlfn.IFNA(IF(VLOOKUP(B855,_!$A$7:$E$210,3,FALSE)=0, \"\", VLOOKUP(B855,_!$A$7:$E$210,3,FALSE)), \"\")","v":""},{"$f":"_xlfn.IFNA(IF(VLOOKUP(B855,_!$A$7:$E$210,4,FALSE)=0, \"\",VLOOKUP(B855,_!$A$7:$E$210,4,FALSE)), \"\")","v":""},{"$f":"_xlfn.IFNA(IF(VLOOKUP(B855,_!$A$7:$E$210,5,FALSE)=0,\"\",VLOOKUP(B855,_!$A$7:$E$210,5,FALSE)), \"\")","v":""}]
[10,null,{"$f":"_xlfn.IFNA(VLOOKUP(B856,_!$A$7:$F$210,6,FALSE),\"\")","v":""},{"$f":"IF(IF(MOD(ROWS(D$14:D856),20)=1,INDEX('Summary Sheet'!$B$17:$B915,INT(ROWS(D$14:D856)/20)+1),\"\")=0,\"\",IF(MOD(ROWS(D$14:D856),20)=1,INDEX('Summary Sheet'!$B$17:$B915,INT(ROWS(D$14:D856)/20)+1),\"\"))","v":""},{"$f":"_xlfn.IFNA(IF(VLOOKUP(B856,_!$A$7:$E$210,2,FALSE)=0, \"\", VLOOKUP(B856,_!$A$7:$E$210,2,FALSE)),  \"\")","v":""},{"$f":"_xlfn.IFNA(IF(VLOOKUP(B856,_!$A$7:$E$210,3,FALSE)=0, \"\", VLOOKUP(B856,_!$A$7:$E$210,3,FALSE)), \"\")","v":""},{"$f":"_xlfn.IFNA(IF(VLOOKUP(B856,_!$A$7:$E$210,4,FALSE)=0, \"\",VLOOKUP(B856,_!$A$7:$E$210,4,FALSE)), \"\")","v":""},{"$f":"_xlfn.IFNA(IF(VLOOKUP(B856,_!$A$7:$E$210,5,FALSE)=0,\"\",VLOOKUP(B856,_!$A$7:$E$210,5,FALSE)), \"\")","v":""}]
[null,"\nHighest hazard level for each ‘Uptake Route’\n",null,null,{"$f":"_xlfn.IFNA(IF((INDEX(E847:E856,MATCH(\"E\",E847:E856,0)))=\"E\",\"E\",\"\"),_xlfn.IFNA(IF((INDEX(E847:E856,MATCH(\"D\",E847:E856,0)))=\"D\",\"D\",\"\"),_xlfn.IFNA(IF((INDEX(E847:E856,MATCH(\"Ca\",E847:E856,0)))=\"Ca\",\"C\",\"\"),_xlfn.IFNA(IF((INDEX(E847:E856,MATCH(\"C\",E847:E856,0)))=\"C\",\"C\",\"\"),_xlfn.IFNA(IF((INDEX(E847:E856,MATCH(\"B\",E847:E856,0)))=\"B\",\"B\",\"\"),_xlfn.IFNA(IF((INDEX(E847:E856,MATCH(\"A\",E847:E856,0)))=\"A\",\"A\",\"\"),_xlfn.IFNA(IF((INDEX(E847:E856,MATCH(\"n.a.\",E847:E856,0)))=\"n.a.\",\"\",\"\"),_xlfn.IFNA(IF((INDEX(E847:E856,MATCH(\"\",E847:E856,0)))=\"\",\"\",\"\"),\"\"))))))))","v":""},{"$f":"_xlfn.IFNA(IF((INDEX(F847:F856,MATCH(\"E\",F847:F856,0)))=\"E\",\"E\",\"\"),_xlfn.IFNA(IF((INDEX(F847:F856,MATCH(\"D (E)c\",F847:F856,0)))=\"D (E)c\",\"D (E)c\",\"\"),_xlfn.IFNA(IF((INDEX(F847:F856,MATCH(\"Da (E)c\",F847:F856,0)))=\"Da (E)c\",\"D (E)c\",\"\"),_xlfn.IFNA(IF((INDEX(F847:F856,MATCH(\"D\",F847:F856,0)))=\"D\",\"D\",\"\"),_xlfn.IFNA(IF((INDEX(F847:F856,MATCH(\"Ca\",F847:F856,0)))=\"Ca\",\"C\",\"\"),_xlfn.IFNA(IF((INDEX(F847:F856,MATCH(\"C\",F847:F856,0)))=\"C\",\"C\",\"\"),_xlfn.IFNA(IF((INDEX(F847:F856,MATCH(\"Ba\",F847:F856,0)))=\"Ba\",\"B\",\"\"),_xlfn.IFNA(IF((INDEX(F847:F856,MATCH(\"B\",F847:F856,0)))=\"B\",\"B\",\"\"),_xlfn.IFNA(IF((INDEX(F847:F856,MATCH(\"Aa\",F847:F856,0)))=\"Aa\",\"A\",\"\"),_xlfn.IFNA(IF((INDEX(F847:F856,MATCH(\"A\",F847:F856,0)))=\"A\",\"A\",\"\"),_xlfn.IFNA(IF((INDEX(F847:F856,MATCH(\"n.a.\",F847:F856,0)))=\"n.a.\",\"\",\"\"),_xlfn.IFNA(IF((INDEX(F847:F856,MATCH(\"\",F847:F856,0)))=\"\",\"\",\"\"),\"\"))))))))))))","v":""},{"$f":"_xlfn.IFNA(IF((INDEX(G847:G856,MATCH(\"E\",G847:G856,0)))=\"E\",\"E\",\"\"),_xlfn.IFNA(IF((INDEX(G847:G856,MATCH(\"D\",G847:G856,0)))=\"D\",\"D\",\"\"),_xlfn.IFNA(IF((INDEX(G847:G856,MATCH(\"Ca\",G847:G856,0)))=\"Ca\",\"C\",\"\"),_xlfn.IFNA(IF((INDEX(G847:G856,MATCH(\"C\",G847:G856,0)))=\"C\",\"C\",\"\"),_xlfn.IFNA(IF((INDEX(G847:G856,MATCH(\"B\",G847:G856,0)))=\"B\",\"B\",\"\"),_xlfn.IFNA(IF((INDEX(G847:G856,MATCH(\"A\",G847:G856,0)))=\"A\",\"A\",\"\"),_xlfn.IFNA(IF((INDEX(G847:G856,MATCH(\"n.a.\",G847:G856,0)))=\"n.a.\",\"\",\"\"),_xlfn.IFNA(IF((INDEX(G847:G856,MATCH(\"\",G847:G856,0)))=\"\",\"\",\"\"),\"\"))))))))","v":""},{"$f":"_xlfn.IFNA(IF((INDEX(H847:H856,MATCH(\"E\",H847:H856,0)))=\"E\",\"E\",\"\"),_xlfn.IFNA(IF((INDEX(H847:H856,MATCH(\"D (E)c\",H847:H856,0)))=\"D (E)c\",\"D (E)c\",\"\"),_xlfn.IFNA(IF((INDEX(H847:H856,MATCH(\"Db (E)c\",H847:H856,0)))=\"Db (E)c\",\"D (E)c\",\"\"),_xlfn.IFNA(IF((INDEX(H847:H856,MATCH(\"D\",H847:H856,0)))=\"D\",\"D\",\"\"),_xlfn.IFNA(IF((INDEX(H847:H856,MATCH(\"Cb\",H847:H856,0)))=\"Cb\",\"C\",\"\"),_xlfn.IFNA(IF((INDEX(H847:H856,MATCH(\"C\",H847:H856,0)))=\"C\",\"C\",\"\"),_xlfn.IFNA(IF((INDEX(H847:H856,MATCH(\"Bb\",H847:H856,0)))=\"Bb\",\"B\",\"\"),_xlfn.IFNA(IF((INDEX(H847:H856,MATCH(\"B\",H847:H856,0)))=\"B\",\"B\",\"\"),_xlfn.IFNA(IF((INDEX(H847:H856,MATCH(\"Ab\",H847:H856,0)))=\"Ab\",\"A\",\"\"),_xlfn.IFNA(IF((INDEX(H847:H856,MATCH(\"A\",H847:H856,0)))=\"A\",\"A\",\"\"),_xlfn.IFNA(IF((INDEX(H847:H856,MATCH(\"n.a.\",H847:H856,0)))=\"n.a.\",\"\",\"\"),_xlfn.IFNA(IF((INDEX(H847:H856,MATCH(\"\",H847:H856,0)))=\"\",\"\",\"\"),\"\"))))))))))))","v":""}]
[null,"\nHighest hazard level for all 'Uptake Routes' \n",null,null,{"$f":"_xlfn.IFNA(IF((INDEX(E857:H857,MATCH(\"E\",E857:H857,0)))=\"E\",\"E\",\"\"),_xlfn.IFNA(IF((INDEX(E857:H857,MATCH(\"D (E)c\",E857:H857,0)))=\"D (E)c\",\"D (E)\",\"\"),_xlfn.IFNA(IF((INDEX(E857:H857,MATCH(\"D\",E857:H857,0)))=\"D\",\"D\",\"\"),_xlfn.IFNA(IF((INDEX(E857:H857,MATCH(\"C\",E857:H857,0)))=\"C\",\"C\",\"\"),_xlfn.IFNA(IF((INDEX(E857:H857,MATCH(\"B\",E857:H857,0)))=\"B\",\"B\",\"\"),_xlfn.IFNA(IF((INDEX(E857:H857,MATCH(\"A\",E857:H857,0)))=\"A\",\"A\",\"\"),_xlfn.IFNA(IF((INDEX(E857:H857,MATCH(\"n.a.\",E857:H857,0)))=\"n.a.\",\"\",\"\"),_xlfn.IFNA(IF((INDEX(E857:H857,MATCH(\"\",E857:H857,0)))=\"\",\"\",\"\"),\"\"))))))))","v":""}]
[]
[]
[null,"\nStep 3: D(E) Assessment\nSkip this step if \nyour assessment above does not reveal a D(E) hazard level.\nHover over this cell for additional instructions.\n",null,null,"\nOverall hazard level\n",null,{"$f":"IF(AND(E858=\"\",C844=\"Yes\")=TRUE,\"B\",IF(E858=\"\",\"\",(IF(AND(E858=\"D (E)\",C861=\"\"),\"D (E)\"&CHAR(10)&\"Find if cat. 1 acute tox.\",(IF(E858<>\"D (E)\",E858,(IF(AND(E858=\"D (E)\",C861=\"Yes\"),\"E\",(IF(AND(E858=\"D (E)\",C861=\"No\"),\"D\",\"\"))))))))))","v":""}]
[]
[{"$f":"IF(IF(MOD(ROWS(B$3:B863),20)=1,INDEX('Summary Sheet'!$A$17:$A934,INT(ROWS(B$3:B863)/20)+1),\"\")=0,\"\",IF(MOD(ROWS(B$3:B863),20)=1,INDEX('Summary Sheet'!$A$17:$A934,INT(ROWS(B$3:B863)/20)+1),\"\"))","v":44},"Hazard Level Assessment","for",{"$f":"IF(IF(MOD(ROWS(D$3:D863),20)=1,INDEX('Summary Sheet'!$B$17:$B934,INT(ROWS(D$3:D863)/20)+1),\"\")=0,\"\",IF(MOD(ROWS(D$3:D863),20)=1,INDEX('Summary Sheet'!$B$17:$B934,INT(ROWS(D$3:D863)/20)+1),\"\"))","v":""}]
[null,"\nStep 1: Physical & Environmental Hazard Statements/Codes\nFind Section 2 of the SDS and determine if the SDS has physical and/or environmental hazard statements/codes. Hover on this cell for additional instructions.\n",null,{"$f":"IF(IF(MOD(ROWS(D$3:D864),20)=1,INDEX('Summary Sheet'!$B$17:$B934,INT(ROWS(D$3:D864)/20)+1),\"\")=0,\"\",IF(MOD(ROWS(D$3:D864),20)=1,INDEX('Summary Sheet'!$B$17:$B934,INT(ROWS(D$3:D864)/20)+1),\"\"))","v":""}]
[null,"Step 2: Health Hazard Statements/Codes\nProvide the Health Hazard Statements or Codes from Section 2 of the SDS below. Hover on this cell for additional instructions.",null,{"$f":"IF(IF(MOD(ROWS(D$3:D865),20)=1,INDEX('Summary Sheet'!$B$17:$B934,INT(ROWS(D$3:D865)/20)+1),\"\")=0,\"\",IF(MOD(ROWS(D$3:D865),20)=1,INDEX('Summary Sheet'!$B$17:$B934,INT(ROWS(D$3:D865)/20)+1),\"\"))","v":""},"\nHazard Level\n"]
[null,null,null,{"$f":"IF(IF(MOD(ROWS(D$3:D866),20)=1,INDEX('Summary Sheet'!$B$17:$B934,INT(ROWS(D$3:D866)/20)+1),\"\")=0,\"\",IF(MOD(ROWS(D$3:D866),20)=1,INDEX('Summary Sheet'!$B$17:$B934,INT(ROWS(D$3:D866)/20)+1),\"\"))","v":""},"\nEye Damage\n","\nInhalation\n","\nLocal Skin Damage\n","\nSkin uptake, systemic\n"]
[1,null,{"$f":"_xlfn.IFNA(VLOOKUP(B867,_!$A$7:$F$210,6,FALSE),\"\")","v":""},{"$f":"IF(IF(MOD(ROWS(D$3:D867),20)=1,INDEX('Summary Sheet'!$B$17:$B934,INT(ROWS(D$3:D867)/20)+1),\"\")=0,\"\",IF(MOD(ROWS(D$3:D867),20)=1,INDEX('Summary Sheet'!$B$17:$B934,INT(ROWS(D$3:D867)/20)+1),\"\"))","v":""},{"$f":"_xlfn.IFNA(IF(VLOOKUP(B867,_!$A$7:$E$210,2,FALSE)=0, \"\", VLOOKUP(B867,_!$A$7:$E$210,2,FALSE)),  \"\")","v":""},{"$f":"_xlfn.IFNA(IF(VLOOKUP(B867,_!$A$7:$E$210,3,FALSE)=0, \"\", VLOOKUP(B867,_!$A$7:$E$210,3,FALSE)), \"\")","v":""},{"$f":"_xlfn.IFNA(IF(VLOOKUP(B867,_!$A$7:$E$210,4,FALSE)=0, \"\",VLOOKUP(B867,_!$A$7:$E$210,4,FALSE)), \"\")","v":""},{"$f":"_xlfn.IFNA(IF(VLOOKUP(B867,_!$A$7:$E$210,5,FALSE)=0,\"\",VLOOKUP(B867,_!$A$7:$E$210,5,FALSE)), \"\")","v":""}]
[2,null,{"$f":"_xlfn.IFNA(VLOOKUP(B868,_!$A$7:$F$210,6,FALSE),\"\")","v":""},{"$f":"IF(IF(MOD(ROWS(D$3:D868),20)=1,INDEX('Summary Sheet'!$B$17:$B934,INT(ROWS(D$3:D868)/20)+1),\"\")=0,\"\",IF(MOD(ROWS(D$3:D868),20)=1,INDEX('Summary Sheet'!$B$17:$B934,INT(ROWS(D$3:D868)/20)+1),\"\"))","v":""},{"$f":"_xlfn.IFNA(IF(VLOOKUP(B868,_!$A$7:$E$210,2,FALSE)=0, \"\", VLOOKUP(B868,_!$A$7:$E$210,2,FALSE)),  \"\")","v":""},{"$f":"_xlfn.IFNA(IF(VLOOKUP(B868,_!$A$7:$E$210,3,FALSE)=0, \"\", VLOOKUP(B868,_!$A$7:$E$210,3,FALSE)), \"\")","v":""},{"$f":"_xlfn.IFNA(IF(VLOOKUP(B868,_!$A$7:$E$210,4,FALSE)=0, \"\",VLOOKUP(B868,_!$A$7:$E$210,4,FALSE)), \"\")","v":""},{"$f":"_xlfn.IFNA(IF(VLOOKUP(B868,_!$A$7:$E$210,5,FALSE)=0,\"\",VLOOKUP(B868,_!$A$7:$E$210,5,FALSE)), \"\")","v":""}]
[3,null,{"$f":"_xlfn.IFNA(VLOOKUP(B869,_!$A$7:$F$210,6,FALSE),\"\")","v":""},{"$f":"IF(IF(MOD(ROWS(D$3:D869),20)=1,INDEX('Summary Sheet'!$B$17:$B934,INT(ROWS(D$3:D869)/20)+1),\"\")=0,\"\",IF(MOD(ROWS(D$3:D869),20)=1,INDEX('Summary Sheet'!$B$17:$B934,INT(ROWS(D$3:D869)/20)+1),\"\"))","v":""},{"$f":"_xlfn.IFNA(IF(VLOOKUP(B869,_!$A$7:$E$210,2,FALSE)=0, \"\", VLOOKUP(B869,_!$A$7:$E$210,2,FALSE)),  \"\")","v":""},{"$f":"_xlfn.IFNA(IF(VLOOKUP(B869,_!$A$7:$E$210,3,FALSE)=0, \"\", VLOOKUP(B869,_!$A$7:$E$210,3,FALSE)), \"\")","v":""},{"$f":"_xlfn.IFNA(IF(VLOOKUP(B869,_!$A$7:$E$210,4,FALSE)=0, \"\",VLOOKUP(B869,_!$A$7:$E$210,4,FALSE)), \"\")","v":""},{"$f":"_xlfn.IFNA(IF(VLOOKUP(B869,_!$A$7:$E$210,5,FALSE)=0,\"\",VLOOKUP(B869,_!$A$7:$E$210,5,FALSE)), \"\")","v":""}]
[4,null,{"$f":"_xlfn.IFNA(VLOOKUP(B870,_!$A$7:$F$210,6,FALSE),\"\")","v":""},{"$f":"IF(IF(MOD(ROWS(D$3:D870),20)=1,INDEX('Summary Sheet'!$B$17:$B934,INT(ROWS(D$3:D870)/20)+1),\"\")=0,\"\",IF(MOD(ROWS(D$3:D870),20)=1,INDEX('Summary Sheet'!$B$17:$B934,INT(ROWS(D$3:D870)/20)+1),\"\"))","v":""},{"$f":"_xlfn.IFNA(IF(VLOOKUP(B870,_!$A$7:$E$210,2,FALSE)=0, \"\", VLOOKUP(B870,_!$A$7:$E$210,2,FALSE)),  \"\")","v":""},{"$f":"_xlfn.IFNA(IF(VLOOKUP(B870,_!$A$7:$E$210,3,FALSE)=0, \"\", VLOOKUP(B870,_!$A$7:$E$210,3,FALSE)), \"\")","v":""},{"$f":"_xlfn.IFNA(IF(VLOOKUP(B870,_!$A$7:$E$210,4,FALSE)=0, \"\",VLOOKUP(B870,_!$A$7:$E$210,4,FALSE)), \"\")","v":""},{"$f":"_xlfn.IFNA(IF(VLOOKUP(B870,_!$A$7:$E$210,5,FALSE)=0,\"\",VLOOKUP(B870,_!$A$7:$E$210,5,FALSE)), \"\")","v":""}]
[5,null,{"$f":"_xlfn.IFNA(VLOOKUP(B871,_!$A$7:$F$210,6,FALSE),\"\")","v":""},{"$f":"IF(IF(MOD(ROWS(D$3:D871),20)=1,INDEX('Summary Sheet'!$B$17:$B934,INT(ROWS(D$3:D871)/20)+1),\"\")=0,\"\",IF(MOD(ROWS(D$3:D871),20)=1,INDEX('Summary Sheet'!$B$17:$B934,INT(ROWS(D$3:D871)/20)+1),\"\"))","v":""},{"$f":"_xlfn.IFNA(IF(VLOOKUP(B871,_!$A$7:$E$210,2,FALSE)=0, \"\", VLOOKUP(B871,_!$A$7:$E$210,2,FALSE)),  \"\")","v":""},{"$f":"_xlfn.IFNA(IF(VLOOKUP(B871,_!$A$7:$E$210,3,FALSE)=0, \"\", VLOOKUP(B871,_!$A$7:$E$210,3,FALSE)), \"\")","v":""},{"$f":"_xlfn.IFNA(IF(VLOOKUP(B871,_!$A$7:$E$210,4,FALSE)=0, \"\",VLOOKUP(B871,_!$A$7:$E$210,4,FALSE)), \"\")","v":""},{"$f":"_xlfn.IFNA(IF(VLOOKUP(B871,_!$A$7:$E$210,5,FALSE)=0,\"\",VLOOKUP(B871,_!$A$7:$E$210,5,FALSE)), \"\")","v":""}]
[6,null,{"$f":"_xlfn.IFNA(VLOOKUP(B872,_!$A$7:$F$210,6,FALSE),\"\")","v":""},{"$f":"IF(IF(MOD(ROWS(D$3:D872),20)=1,INDEX('Summary Sheet'!$B$17:$B934,INT(ROWS(D$3:D872)/20)+1),\"\")=0,\"\",IF(MOD(ROWS(D$3:D872),20)=1,INDEX('Summary Sheet'!$B$17:$B934,INT(ROWS(D$3:D872)/20)+1),\"\"))","v":""},{"$f":"_xlfn.IFNA(IF(VLOOKUP(B872,_!$A$7:$E$210,2,FALSE)=0, \"\", VLOOKUP(B872,_!$A$7:$E$210,2,FALSE)),  \"\")","v":""},{"$f":"_xlfn.IFNA(IF(VLOOKUP(B872,_!$A$7:$E$210,3,FALSE)=0, \"\", VLOOKUP(B872,_!$A$7:$E$210,3,FALSE)), \"\")","v":""},{"$f":"_xlfn.IFNA(IF(VLOOKUP(B872,_!$A$7:$E$210,4,FALSE)=0, \"\",VLOOKUP(B872,_!$A$7:$E$210,4,FALSE)), \"\")","v":""},{"$f":"_xlfn.IFNA(IF(VLOOKUP(B872,_!$A$7:$E$210,5,FALSE)=0,\"\",VLOOKUP(B872,_!$A$7:$E$210,5,FALSE)), \"\")","v":""}]
[7,null,{"$f":"_xlfn.IFNA(VLOOKUP(B873,_!$A$7:$F$210,6,FALSE),\"\")","v":""},{"$f":"IF(IF(MOD(ROWS(D$3:D873),20)=1,INDEX('Summary Sheet'!$B$17:$B934,INT(ROWS(D$3:D873)/20)+1),\"\")=0,\"\",IF(MOD(ROWS(D$3:D873),20)=1,INDEX('Summary Sheet'!$B$17:$B934,INT(ROWS(D$3:D873)/20)+1),\"\"))","v":""},{"$f":"_xlfn.IFNA(IF(VLOOKUP(B873,_!$A$7:$E$210,2,FALSE)=0, \"\", VLOOKUP(B873,_!$A$7:$E$210,2,FALSE)),  \"\")","v":""},{"$f":"_xlfn.IFNA(IF(VLOOKUP(B873,_!$A$7:$E$210,3,FALSE)=0, \"\", VLOOKUP(B873,_!$A$7:$E$210,3,FALSE)), \"\")","v":""},{"$f":"_xlfn.IFNA(IF(VLOOKUP(B873,_!$A$7:$E$210,4,FALSE)=0, \"\",VLOOKUP(B873,_!$A$7:$E$210,4,FALSE)), \"\")","v":""},{"$f":"_xlfn.IFNA(IF(VLOOKUP(B873,_!$A$7:$E$210,5,FALSE)=0,\"\",VLOOKUP(B873,_!$A$7:$E$210,5,FALSE)), \"\")","v":""}]
[8,null,{"$f":"_xlfn.IFNA(VLOOKUP(B874,_!$A$7:$F$210,6,FALSE),\"\")","v":""},{"$f":"IF(IF(MOD(ROWS(D$3:D874),20)=1,INDEX('Summary Sheet'!$B$17:$B934,INT(ROWS(D$3:D874)/20)+1),\"\")=0,\"\",IF(MOD(ROWS(D$3:D874),20)=1,INDEX('Summary Sheet'!$B$17:$B934,INT(ROWS(D$3:D874)/20)+1),\"\"))","v":""},{"$f":"_xlfn.IFNA(IF(VLOOKUP(B874,_!$A$7:$E$210,2,FALSE)=0, \"\", VLOOKUP(B874,_!$A$7:$E$210,2,FALSE)),  \"\")","v":""},{"$f":"_xlfn.IFNA(IF(VLOOKUP(B874,_!$A$7:$E$210,3,FALSE)=0, \"\", VLOOKUP(B874,_!$A$7:$E$210,3,FALSE)), \"\")","v":""},{"$f":"_xlfn.IFNA(IF(VLOOKUP(B874,_!$A$7:$E$210,4,FALSE)=0, \"\",VLOOKUP(B874,_!$A$7:$E$210,4,FALSE)), \"\")","v":""},{"$f":"_xlfn.IFNA(IF(VLOOKUP(B874,_!$A$7:$E$210,5,FALSE)=0,\"\",VLOOKUP(B874,_!$A$7:$E$210,5,FALSE)), \"\")","v":""}]
[9,null,{"$f":"_xlfn.IFNA(VLOOKUP(B875,_!$A$7:$F$210,6,FALSE),\"\")","v":""},{"$f":"IF(IF(MOD(ROWS(D$3:D875),20)=1,INDEX('Summary Sheet'!$B$17:$B934,INT(ROWS(D$3:D875)/20)+1),\"\")=0,\"\",IF(MOD(ROWS(D$3:D875),20)=1,INDEX('Summary Sheet'!$B$17:$B934,INT(ROWS(D$3:D875)/20)+1),\"\"))","v":""},{"$f":"_xlfn.IFNA(IF(VLOOKUP(B875,_!$A$7:$E$210,2,FALSE)=0, \"\", VLOOKUP(B875,_!$A$7:$E$210,2,FALSE)),  \"\")","v":""},{"$f":"_xlfn.IFNA(IF(VLOOKUP(B875,_!$A$7:$E$210,3,FALSE)=0, \"\", VLOOKUP(B875,_!$A$7:$E$210,3,FALSE)), \"\")","v":""},{"$f":"_xlfn.IFNA(IF(VLOOKUP(B875,_!$A$7:$E$210,4,FALSE)=0, \"\",VLOOKUP(B875,_!$A$7:$E$210,4,FALSE)), \"\")","v":""},{"$f":"_xlfn.IFNA(IF(VLOOKUP(B875,_!$A$7:$E$210,5,FALSE)=0,\"\",VLOOKUP(B875,_!$A$7:$E$210,5,FALSE)), \"\")","v":""}]
[10,null,{"$f":"_xlfn.IFNA(VLOOKUP(B876,_!$A$7:$F$210,6,FALSE),\"\")","v":""},{"$f":"IF(IF(MOD(ROWS(D$14:D876),20)=1,INDEX('Summary Sheet'!$B$17:$B934,INT(ROWS(D$14:D876)/20)+1),\"\")=0,\"\",IF(MOD(ROWS(D$14:D876),20)=1,INDEX('Summary Sheet'!$B$17:$B934,INT(ROWS(D$14:D876)/20)+1),\"\"))","v":""},{"$f":"_xlfn.IFNA(IF(VLOOKUP(B876,_!$A$7:$E$210,2,FALSE)=0, \"\", VLOOKUP(B876,_!$A$7:$E$210,2,FALSE)),  \"\")","v":""},{"$f":"_xlfn.IFNA(IF(VLOOKUP(B876,_!$A$7:$E$210,3,FALSE)=0, \"\", VLOOKUP(B876,_!$A$7:$E$210,3,FALSE)), \"\")","v":""},{"$f":"_xlfn.IFNA(IF(VLOOKUP(B876,_!$A$7:$E$210,4,FALSE)=0, \"\",VLOOKUP(B876,_!$A$7:$E$210,4,FALSE)), \"\")","v":""},{"$f":"_xlfn.IFNA(IF(VLOOKUP(B876,_!$A$7:$E$210,5,FALSE)=0,\"\",VLOOKUP(B876,_!$A$7:$E$210,5,FALSE)), \"\")","v":""}]
[null,"\nHighest hazard level for each ‘Uptake Route’\n",null,null,{"$f":"_xlfn.IFNA(IF((INDEX(E867:E876,MATCH(\"E\",E867:E876,0)))=\"E\",\"E\",\"\"),_xlfn.IFNA(IF((INDEX(E867:E876,MATCH(\"D\",E867:E876,0)))=\"D\",\"D\",\"\"),_xlfn.IFNA(IF((INDEX(E867:E876,MATCH(\"Ca\",E867:E876,0)))=\"Ca\",\"C\",\"\"),_xlfn.IFNA(IF((INDEX(E867:E876,MATCH(\"C\",E867:E876,0)))=\"C\",\"C\",\"\"),_xlfn.IFNA(IF((INDEX(E867:E876,MATCH(\"B\",E867:E876,0)))=\"B\",\"B\",\"\"),_xlfn.IFNA(IF((INDEX(E867:E876,MATCH(\"A\",E867:E876,0)))=\"A\",\"A\",\"\"),_xlfn.IFNA(IF((INDEX(E867:E876,MATCH(\"n.a.\",E867:E876,0)))=\"n.a.\",\"\",\"\"),_xlfn.IFNA(IF((INDEX(E867:E876,MATCH(\"\",E867:E876,0)))=\"\",\"\",\"\"),\"\"))))))))","v":""},{"$f":"_xlfn.IFNA(IF((INDEX(F867:F876,MATCH(\"E\",F867:F876,0)))=\"E\",\"E\",\"\"),_xlfn.IFNA(IF((INDEX(F867:F876,MATCH(\"D (E)c\",F867:F876,0)))=\"D (E)c\",\"D (E)c\",\"\"),_xlfn.IFNA(IF((INDEX(F867:F876,MATCH(\"Da (E)c\",F867:F876,0)))=\"Da (E)c\",\"D (E)c\",\"\"),_xlfn.IFNA(IF((INDEX(F867:F876,MATCH(\"D\",F867:F876,0)))=\"D\",\"D\",\"\"),_xlfn.IFNA(IF((INDEX(F867:F876,MATCH(\"Ca\",F867:F876,0)))=\"Ca\",\"C\",\"\"),_xlfn.IFNA(IF((INDEX(F867:F876,MATCH(\"C\",F867:F876,0)))=\"C\",\"C\",\"\"),_xlfn.IFNA(IF((INDEX(F867:F876,MATCH(\"Ba\",F867:F876,0)))=\"Ba\",\"B\",\"\"),_xlfn.IFNA(IF((INDEX(F867:F876,MATCH(\"B\",F867:F876,0)))=\"B\",\"B\",\"\"),_xlfn.IFNA(IF((INDEX(F867:F876,MATCH(\"Aa\",F867:F876,0)))=\"Aa\",\"A\",\"\"),_xlfn.IFNA(IF((INDEX(F867:F876,MATCH(\"A\",F867:F876,0)))=\"A\",\"A\",\"\"),_xlfn.IFNA(IF((INDEX(F867:F876,MATCH(\"n.a.\",F867:F876,0)))=\"n.a.\",\"\",\"\"),_xlfn.IFNA(IF((INDEX(F867:F876,MATCH(\"\",F867:F876,0)))=\"\",\"\",\"\"),\"\"))))))))))))","v":""},{"$f":"_xlfn.IFNA(IF((INDEX(G867:G876,MATCH(\"E\",G867:G876,0)))=\"E\",\"E\",\"\"),_xlfn.IFNA(IF((INDEX(G867:G876,MATCH(\"D\",G867:G876,0)))=\"D\",\"D\",\"\"),_xlfn.IFNA(IF((INDEX(G867:G876,MATCH(\"Ca\",G867:G876,0)))=\"Ca\",\"C\",\"\"),_xlfn.IFNA(IF((INDEX(G867:G876,MATCH(\"C\",G867:G876,0)))=\"C\",\"C\",\"\"),_xlfn.IFNA(IF((INDEX(G867:G876,MATCH(\"B\",G867:G876,0)))=\"B\",\"B\",\"\"),_xlfn.IFNA(IF((INDEX(G867:G876,MATCH(\"A\",G867:G876,0)))=\"A\",\"A\",\"\"),_xlfn.IFNA(IF((INDEX(G867:G876,MATCH(\"n.a.\",G867:G876,0)))=\"n.a.\",\"\",\"\"),_xlfn.IFNA(IF((INDEX(G867:G876,MATCH(\"\",G867:G876,0)))=\"\",\"\",\"\"),\"\"))))))))","v":""},{"$f":"_xlfn.IFNA(IF((INDEX(H867:H876,MATCH(\"E\",H867:H876,0)))=\"E\",\"E\",\"\"),_xlfn.IFNA(IF((INDEX(H867:H876,MATCH(\"D (E)c\",H867:H876,0)))=\"D (E)c\",\"D (E)c\",\"\"),_xlfn.IFNA(IF((INDEX(H867:H876,MATCH(\"Db (E)c\",H867:H876,0)))=\"Db (E)c\",\"D (E)c\",\"\"),_xlfn.IFNA(IF((INDEX(H867:H876,MATCH(\"D\",H867:H876,0)))=\"D\",\"D\",\"\"),_xlfn.IFNA(IF((INDEX(H867:H876,MATCH(\"Cb\",H867:H876,0)))=\"Cb\",\"C\",\"\"),_xlfn.IFNA(IF((INDEX(H867:H876,MATCH(\"C\",H867:H876,0)))=\"C\",\"C\",\"\"),_xlfn.IFNA(IF((INDEX(H867:H876,MATCH(\"Bb\",H867:H876,0)))=\"Bb\",\"B\",\"\"),_xlfn.IFNA(IF((INDEX(H867:H876,MATCH(\"B\",H867:H876,0)))=\"B\",\"B\",\"\"),_xlfn.IFNA(IF((INDEX(H867:H876,MATCH(\"Ab\",H867:H876,0)))=\"Ab\",\"A\",\"\"),_xlfn.IFNA(IF((INDEX(H867:H876,MATCH(\"A\",H867:H876,0)))=\"A\",\"A\",\"\"),_xlfn.IFNA(IF((INDEX(H867:H876,MATCH(\"n.a.\",H867:H876,0)))=\"n.a.\",\"\",\"\"),_xlfn.IFNA(IF((INDEX(H867:H876,MATCH(\"\",H867:H876,0)))=\"\",\"\",\"\"),\"\"))))))))))))","v":""}]
[null,"\nHighest hazard level for all 'Uptake Routes' \n",null,null,{"$f":"_xlfn.IFNA(IF((INDEX(E877:H877,MATCH(\"E\",E877:H877,0)))=\"E\",\"E\",\"\"),_xlfn.IFNA(IF((INDEX(E877:H877,MATCH(\"D (E)c\",E877:H877,0)))=\"D (E)c\",\"D (E)\",\"\"),_xlfn.IFNA(IF((INDEX(E877:H877,MATCH(\"D\",E877:H877,0)))=\"D\",\"D\",\"\"),_xlfn.IFNA(IF((INDEX(E877:H877,MATCH(\"C\",E877:H877,0)))=\"C\",\"C\",\"\"),_xlfn.IFNA(IF((INDEX(E877:H877,MATCH(\"B\",E877:H877,0)))=\"B\",\"B\",\"\"),_xlfn.IFNA(IF((INDEX(E877:H877,MATCH(\"A\",E877:H877,0)))=\"A\",\"A\",\"\"),_xlfn.IFNA(IF((INDEX(E877:H877,MATCH(\"n.a.\",E877:H877,0)))=\"n.a.\",\"\",\"\"),_xlfn.IFNA(IF((INDEX(E877:H877,MATCH(\"\",E877:H877,0)))=\"\",\"\",\"\"),\"\"))))))))","v":""}]
[]
[]
[null,"\nStep 3: D(E) Assessment\nSkip this step if \nyour assessment above does not reveal a D(E) hazard level.\nHover over this cell for additional instructions.\n",null,null,"\nOverall hazard level\n",null,{"$f":"IF(AND(E878=\"\",C864=\"Yes\")=TRUE,\"B\",IF(E878=\"\",\"\",(IF(AND(E878=\"D (E)\",C881=\"\"),\"D (E)\"&CHAR(10)&\"Find if cat. 1 acute tox.\",(IF(E878<>\"D (E)\",E878,(IF(AND(E878=\"D (E)\",C881=\"Yes\"),\"E\",(IF(AND(E878=\"D (E)\",C881=\"No\"),\"D\",\"\"))))))))))","v":""}]
[]
[{"$f":"IF(IF(MOD(ROWS(B$3:B883),20)=1,INDEX('Summary Sheet'!$A$17:$A953,INT(ROWS(B$3:B883)/20)+1),\"\")=0,\"\",IF(MOD(ROWS(B$3:B883),20)=1,INDEX('Summary Sheet'!$A$17:$A953,INT(ROWS(B$3:B883)/20)+1),\"\"))","v":45},"Hazard Level Assessment","for",{"$f":"IF(IF(MOD(ROWS(D$3:D883),20)=1,INDEX('Summary Sheet'!$B$17:$B953,INT(ROWS(D$3:D883)/20)+1),\"\")=0,\"\",IF(MOD(ROWS(D$3:D883),20)=1,INDEX('Summary Sheet'!$B$17:$B953,INT(ROWS(D$3:D883)/20)+1),\"\"))","v":""}]
[null,"\nStep 1: Physical & Environmental Hazard Statements/Codes\nFind Section 2 of the SDS and determine if the SDS has physical and/or environmental hazard statements/codes. Hover on this cell for additional instructions.\n",null,{"$f":"IF(IF(MOD(ROWS(D$3:D884),20)=1,INDEX('Summary Sheet'!$B$17:$B953,INT(ROWS(D$3:D884)/20)+1),\"\")=0,\"\",IF(MOD(ROWS(D$3:D884),20)=1,INDEX('Summary Sheet'!$B$17:$B953,INT(ROWS(D$3:D884)/20)+1),\"\"))","v":""}]
[null,"Step 2: Health Hazard Statements/Codes\nProvide the Health Hazard Statements or Codes from Section 2 of the SDS below. Hover on this cell for additional instructions.",null,{"$f":"IF(IF(MOD(ROWS(D$3:D885),20)=1,INDEX('Summary Sheet'!$B$17:$B953,INT(ROWS(D$3:D885)/20)+1),\"\")=0,\"\",IF(MOD(ROWS(D$3:D885),20)=1,INDEX('Summary Sheet'!$B$17:$B953,INT(ROWS(D$3:D885)/20)+1),\"\"))","v":""},"\nHazard Level\n"]
[null,null,null,{"$f":"IF(IF(MOD(ROWS(D$3:D886),20)=1,INDEX('Summary Sheet'!$B$17:$B953,INT(ROWS(D$3:D886)/20)+1),\"\")=0,\"\",IF(MOD(ROWS(D$3:D886),20)=1,INDEX('Summary Sheet'!$B$17:$B953,INT(ROWS(D$3:D886)/20)+1),\"\"))","v":""},"\nEye Damage\n","\nInhalation\n","\nLocal Skin Damage\n","\nSkin uptake, systemic\n"]
[1,null,{"$f":"_xlfn.IFNA(VLOOKUP(B887,_!$A$7:$F$210,6,FALSE),\"\")","v":""},{"$f":"IF(IF(MOD(ROWS(D$3:D887),20)=1,INDEX('Summary Sheet'!$B$17:$B953,INT(ROWS(D$3:D887)/20)+1),\"\")=0,\"\",IF(MOD(ROWS(D$3:D887),20)=1,INDEX('Summary Sheet'!$B$17:$B953,INT(ROWS(D$3:D887)/20)+1),\"\"))","v":""},{"$f":"_xlfn.IFNA(IF(VLOOKUP(B887,_!$A$7:$E$210,2,FALSE)=0, \"\", VLOOKUP(B887,_!$A$7:$E$210,2,FALSE)),  \"\")","v":""},{"$f":"_xlfn.IFNA(IF(VLOOKUP(B887,_!$A$7:$E$210,3,FALSE)=0, \"\", VLOOKUP(B887,_!$A$7:$E$210,3,FALSE)), \"\")","v":""},{"$f":"_xlfn.IFNA(IF(VLOOKUP(B887,_!$A$7:$E$210,4,FALSE)=0, \"\",VLOOKUP(B887,_!$A$7:$E$210,4,FALSE)), \"\")","v":""},{"$f":"_xlfn.IFNA(IF(VLOOKUP(B887,_!$A$7:$E$210,5,FALSE)=0,\"\",VLOOKUP(B887,_!$A$7:$E$210,5,FALSE)), \"\")","v":""}]
[2,null,{"$f":"_xlfn.IFNA(VLOOKUP(B888,_!$A$7:$F$210,6,FALSE),\"\")","v":""},{"$f":"IF(IF(MOD(ROWS(D$3:D888),20)=1,INDEX('Summary Sheet'!$B$17:$B953,INT(ROWS(D$3:D888)/20)+1),\"\")=0,\"\",IF(MOD(ROWS(D$3:D888),20)=1,INDEX('Summary Sheet'!$B$17:$B953,INT(ROWS(D$3:D888)/20)+1),\"\"))","v":""},{"$f":"_xlfn.IFNA(IF(VLOOKUP(B888,_!$A$7:$E$210,2,FALSE)=0, \"\", VLOOKUP(B888,_!$A$7:$E$210,2,FALSE)),  \"\")","v":""},{"$f":"_xlfn.IFNA(IF(VLOOKUP(B888,_!$A$7:$E$210,3,FALSE)=0, \"\", VLOOKUP(B888,_!$A$7:$E$210,3,FALSE)), \"\")","v":""},{"$f":"_xlfn.IFNA(IF(VLOOKUP(B888,_!$A$7:$E$210,4,FALSE)=0, \"\",VLOOKUP(B888,_!$A$7:$E$210,4,FALSE)), \"\")","v":""},{"$f":"_xlfn.IFNA(IF(VLOOKUP(B888,_!$A$7:$E$210,5,FALSE)=0,\"\",VLOOKUP(B888,_!$A$7:$E$210,5,FALSE)), \"\")","v":""}]
[3,null,{"$f":"_xlfn.IFNA(VLOOKUP(B889,_!$A$7:$F$210,6,FALSE),\"\")","v":""},{"$f":"IF(IF(MOD(ROWS(D$3:D889),20)=1,INDEX('Summary Sheet'!$B$17:$B953,INT(ROWS(D$3:D889)/20)+1),\"\")=0,\"\",IF(MOD(ROWS(D$3:D889),20)=1,INDEX('Summary Sheet'!$B$17:$B953,INT(ROWS(D$3:D889)/20)+1),\"\"))","v":""},{"$f":"_xlfn.IFNA(IF(VLOOKUP(B889,_!$A$7:$E$210,2,FALSE)=0, \"\", VLOOKUP(B889,_!$A$7:$E$210,2,FALSE)),  \"\")","v":""},{"$f":"_xlfn.IFNA(IF(VLOOKUP(B889,_!$A$7:$E$210,3,FALSE)=0, \"\", VLOOKUP(B889,_!$A$7:$E$210,3,FALSE)), \"\")","v":""},{"$f":"_xlfn.IFNA(IF(VLOOKUP(B889,_!$A$7:$E$210,4,FALSE)=0, \"\",VLOOKUP(B889,_!$A$7:$E$210,4,FALSE)), \"\")","v":""},{"$f":"_xlfn.IFNA(IF(VLOOKUP(B889,_!$A$7:$E$210,5,FALSE)=0,\"\",VLOOKUP(B889,_!$A$7:$E$210,5,FALSE)), \"\")","v":""}]
[4,null,{"$f":"_xlfn.IFNA(VLOOKUP(B890,_!$A$7:$F$210,6,FALSE),\"\")","v":""},{"$f":"IF(IF(MOD(ROWS(D$3:D890),20)=1,INDEX('Summary Sheet'!$B$17:$B953,INT(ROWS(D$3:D890)/20)+1),\"\")=0,\"\",IF(MOD(ROWS(D$3:D890),20)=1,INDEX('Summary Sheet'!$B$17:$B953,INT(ROWS(D$3:D890)/20)+1),\"\"))","v":""},{"$f":"_xlfn.IFNA(IF(VLOOKUP(B890,_!$A$7:$E$210,2,FALSE)=0, \"\", VLOOKUP(B890,_!$A$7:$E$210,2,FALSE)),  \"\")","v":""},{"$f":"_xlfn.IFNA(IF(VLOOKUP(B890,_!$A$7:$E$210,3,FALSE)=0, \"\", VLOOKUP(B890,_!$A$7:$E$210,3,FALSE)), \"\")","v":""},{"$f":"_xlfn.IFNA(IF(VLOOKUP(B890,_!$A$7:$E$210,4,FALSE)=0, \"\",VLOOKUP(B890,_!$A$7:$E$210,4,FALSE)), \"\")","v":""},{"$f":"_xlfn.IFNA(IF(VLOOKUP(B890,_!$A$7:$E$210,5,FALSE)=0,\"\",VLOOKUP(B890,_!$A$7:$E$210,5,FALSE)), \"\")","v":""}]
[5,null,{"$f":"_xlfn.IFNA(VLOOKUP(B891,_!$A$7:$F$210,6,FALSE),\"\")","v":""},{"$f":"IF(IF(MOD(ROWS(D$3:D891),20)=1,INDEX('Summary Sheet'!$B$17:$B953,INT(ROWS(D$3:D891)/20)+1),\"\")=0,\"\",IF(MOD(ROWS(D$3:D891),20)=1,INDEX('Summary Sheet'!$B$17:$B953,INT(ROWS(D$3:D891)/20)+1),\"\"))","v":""},{"$f":"_xlfn.IFNA(IF(VLOOKUP(B891,_!$A$7:$E$210,2,FALSE)=0, \"\", VLOOKUP(B891,_!$A$7:$E$210,2,FALSE)),  \"\")","v":""},{"$f":"_xlfn.IFNA(IF(VLOOKUP(B891,_!$A$7:$E$210,3,FALSE)=0, \"\", VLOOKUP(B891,_!$A$7:$E$210,3,FALSE)), \"\")","v":""},{"$f":"_xlfn.IFNA(IF(VLOOKUP(B891,_!$A$7:$E$210,4,FALSE)=0, \"\",VLOOKUP(B891,_!$A$7:$E$210,4,FALSE)), \"\")","v":""},{"$f":"_xlfn.IFNA(IF(VLOOKUP(B891,_!$A$7:$E$210,5,FALSE)=0,\"\",VLOOKUP(B891,_!$A$7:$E$210,5,FALSE)), \"\")","v":""}]
[6,null,{"$f":"_xlfn.IFNA(VLOOKUP(B892,_!$A$7:$F$210,6,FALSE),\"\")","v":""},{"$f":"IF(IF(MOD(ROWS(D$3:D892),20)=1,INDEX('Summary Sheet'!$B$17:$B953,INT(ROWS(D$3:D892)/20)+1),\"\")=0,\"\",IF(MOD(ROWS(D$3:D892),20)=1,INDEX('Summary Sheet'!$B$17:$B953,INT(ROWS(D$3:D892)/20)+1),\"\"))","v":""},{"$f":"_xlfn.IFNA(IF(VLOOKUP(B892,_!$A$7:$E$210,2,FALSE)=0, \"\", VLOOKUP(B892,_!$A$7:$E$210,2,FALSE)),  \"\")","v":""},{"$f":"_xlfn.IFNA(IF(VLOOKUP(B892,_!$A$7:$E$210,3,FALSE)=0, \"\", VLOOKUP(B892,_!$A$7:$E$210,3,FALSE)), \"\")","v":""},{"$f":"_xlfn.IFNA(IF(VLOOKUP(B892,_!$A$7:$E$210,4,FALSE)=0, \"\",VLOOKUP(B892,_!$A$7:$E$210,4,FALSE)), \"\")","v":""},{"$f":"_xlfn.IFNA(IF(VLOOKUP(B892,_!$A$7:$E$210,5,FALSE)=0,\"\",VLOOKUP(B892,_!$A$7:$E$210,5,FALSE)), \"\")","v":""}]
[7,null,{"$f":"_xlfn.IFNA(VLOOKUP(B893,_!$A$7:$F$210,6,FALSE),\"\")","v":""},{"$f":"IF(IF(MOD(ROWS(D$3:D893),20)=1,INDEX('Summary Sheet'!$B$17:$B953,INT(ROWS(D$3:D893)/20)+1),\"\")=0,\"\",IF(MOD(ROWS(D$3:D893),20)=1,INDEX('Summary Sheet'!$B$17:$B953,INT(ROWS(D$3:D893)/20)+1),\"\"))","v":""},{"$f":"_xlfn.IFNA(IF(VLOOKUP(B893,_!$A$7:$E$210,2,FALSE)=0, \"\", VLOOKUP(B893,_!$A$7:$E$210,2,FALSE)),  \"\")","v":""},{"$f":"_xlfn.IFNA(IF(VLOOKUP(B893,_!$A$7:$E$210,3,FALSE)=0, \"\", VLOOKUP(B893,_!$A$7:$E$210,3,FALSE)), \"\")","v":""},{"$f":"_xlfn.IFNA(IF(VLOOKUP(B893,_!$A$7:$E$210,4,FALSE)=0, \"\",VLOOKUP(B893,_!$A$7:$E$210,4,FALSE)), \"\")","v":""},{"$f":"_xlfn.IFNA(IF(VLOOKUP(B893,_!$A$7:$E$210,5,FALSE)=0,\"\",VLOOKUP(B893,_!$A$7:$E$210,5,FALSE)), \"\")","v":""}]
[8,null,{"$f":"_xlfn.IFNA(VLOOKUP(B894,_!$A$7:$F$210,6,FALSE),\"\")","v":""},{"$f":"IF(IF(MOD(ROWS(D$3:D894),20)=1,INDEX('Summary Sheet'!$B$17:$B953,INT(ROWS(D$3:D894)/20)+1),\"\")=0,\"\",IF(MOD(ROWS(D$3:D894),20)=1,INDEX('Summary Sheet'!$B$17:$B953,INT(ROWS(D$3:D894)/20)+1),\"\"))","v":""},{"$f":"_xlfn.IFNA(IF(VLOOKUP(B894,_!$A$7:$E$210,2,FALSE)=0, \"\", VLOOKUP(B894,_!$A$7:$E$210,2,FALSE)),  \"\")","v":""},{"$f":"_xlfn.IFNA(IF(VLOOKUP(B894,_!$A$7:$E$210,3,FALSE)=0, \"\", VLOOKUP(B894,_!$A$7:$E$210,3,FALSE)), \"\")","v":""},{"$f":"_xlfn.IFNA(IF(VLOOKUP(B894,_!$A$7:$E$210,4,FALSE)=0, \"\",VLOOKUP(B894,_!$A$7:$E$210,4,FALSE)), \"\")","v":""},{"$f":"_xlfn.IFNA(IF(VLOOKUP(B894,_!$A$7:$E$210,5,FALSE)=0,\"\",VLOOKUP(B894,_!$A$7:$E$210,5,FALSE)), \"\")","v":""}]
[9,null,{"$f":"_xlfn.IFNA(VLOOKUP(B895,_!$A$7:$F$210,6,FALSE),\"\")","v":""},{"$f":"IF(IF(MOD(ROWS(D$3:D895),20)=1,INDEX('Summary Sheet'!$B$17:$B953,INT(ROWS(D$3:D895)/20)+1),\"\")=0,\"\",IF(MOD(ROWS(D$3:D895),20)=1,INDEX('Summary Sheet'!$B$17:$B953,INT(ROWS(D$3:D895)/20)+1),\"\"))","v":""},{"$f":"_xlfn.IFNA(IF(VLOOKUP(B895,_!$A$7:$E$210,2,FALSE)=0, \"\", VLOOKUP(B895,_!$A$7:$E$210,2,FALSE)),  \"\")","v":""},{"$f":"_xlfn.IFNA(IF(VLOOKUP(B895,_!$A$7:$E$210,3,FALSE)=0, \"\", VLOOKUP(B895,_!$A$7:$E$210,3,FALSE)), \"\")","v":""},{"$f":"_xlfn.IFNA(IF(VLOOKUP(B895,_!$A$7:$E$210,4,FALSE)=0, \"\",VLOOKUP(B895,_!$A$7:$E$210,4,FALSE)), \"\")","v":""},{"$f":"_xlfn.IFNA(IF(VLOOKUP(B895,_!$A$7:$E$210,5,FALSE)=0,\"\",VLOOKUP(B895,_!$A$7:$E$210,5,FALSE)), \"\")","v":""}]
[10,null,{"$f":"_xlfn.IFNA(VLOOKUP(B896,_!$A$7:$F$210,6,FALSE),\"\")","v":""},{"$f":"IF(IF(MOD(ROWS(D$14:D896),20)=1,INDEX('Summary Sheet'!$B$17:$B953,INT(ROWS(D$14:D896)/20)+1),\"\")=0,\"\",IF(MOD(ROWS(D$14:D896),20)=1,INDEX('Summary Sheet'!$B$17:$B953,INT(ROWS(D$14:D896)/20)+1),\"\"))","v":""},{"$f":"_xlfn.IFNA(IF(VLOOKUP(B896,_!$A$7:$E$210,2,FALSE)=0, \"\", VLOOKUP(B896,_!$A$7:$E$210,2,FALSE)),  \"\")","v":""},{"$f":"_xlfn.IFNA(IF(VLOOKUP(B896,_!$A$7:$E$210,3,FALSE)=0, \"\", VLOOKUP(B896,_!$A$7:$E$210,3,FALSE)), \"\")","v":""},{"$f":"_xlfn.IFNA(IF(VLOOKUP(B896,_!$A$7:$E$210,4,FALSE)=0, \"\",VLOOKUP(B896,_!$A$7:$E$210,4,FALSE)), \"\")","v":""},{"$f":"_xlfn.IFNA(IF(VLOOKUP(B896,_!$A$7:$E$210,5,FALSE)=0,\"\",VLOOKUP(B896,_!$A$7:$E$210,5,FALSE)), \"\")","v":""}]
[null,"\nHighest hazard level for each ‘Uptake Route’\n",null,null,{"$f":"_xlfn.IFNA(IF((INDEX(E887:E896,MATCH(\"E\",E887:E896,0)))=\"E\",\"E\",\"\"),_xlfn.IFNA(IF((INDEX(E887:E896,MATCH(\"D\",E887:E896,0)))=\"D\",\"D\",\"\"),_xlfn.IFNA(IF((INDEX(E887:E896,MATCH(\"Ca\",E887:E896,0)))=\"Ca\",\"C\",\"\"),_xlfn.IFNA(IF((INDEX(E887:E896,MATCH(\"C\",E887:E896,0)))=\"C\",\"C\",\"\"),_xlfn.IFNA(IF((INDEX(E887:E896,MATCH(\"B\",E887:E896,0)))=\"B\",\"B\",\"\"),_xlfn.IFNA(IF((INDEX(E887:E896,MATCH(\"A\",E887:E896,0)))=\"A\",\"A\",\"\"),_xlfn.IFNA(IF((INDEX(E887:E896,MATCH(\"n.a.\",E887:E896,0)))=\"n.a.\",\"\",\"\"),_xlfn.IFNA(IF((INDEX(E887:E896,MATCH(\"\",E887:E896,0)))=\"\",\"\",\"\"),\"\"))))))))","v":""},{"$f":"_xlfn.IFNA(IF((INDEX(F887:F896,MATCH(\"E\",F887:F896,0)))=\"E\",\"E\",\"\"),_xlfn.IFNA(IF((INDEX(F887:F896,MATCH(\"D (E)c\",F887:F896,0)))=\"D (E)c\",\"D (E)c\",\"\"),_xlfn.IFNA(IF((INDEX(F887:F896,MATCH(\"Da (E)c\",F887:F896,0)))=\"Da (E)c\",\"D (E)c\",\"\"),_xlfn.IFNA(IF((INDEX(F887:F896,MATCH(\"D\",F887:F896,0)))=\"D\",\"D\",\"\"),_xlfn.IFNA(IF((INDEX(F887:F896,MATCH(\"Ca\",F887:F896,0)))=\"Ca\",\"C\",\"\"),_xlfn.IFNA(IF((INDEX(F887:F896,MATCH(\"C\",F887:F896,0)))=\"C\",\"C\",\"\"),_xlfn.IFNA(IF((INDEX(F887:F896,MATCH(\"Ba\",F887:F896,0)))=\"Ba\",\"B\",\"\"),_xlfn.IFNA(IF((INDEX(F887:F896,MATCH(\"B\",F887:F896,0)))=\"B\",\"B\",\"\"),_xlfn.IFNA(IF((INDEX(F887:F896,MATCH(\"Aa\",F887:F896,0)))=\"Aa\",\"A\",\"\"),_xlfn.IFNA(IF((INDEX(F887:F896,MATCH(\"A\",F887:F896,0)))=\"A\",\"A\",\"\"),_xlfn.IFNA(IF((INDEX(F887:F896,MATCH(\"n.a.\",F887:F896,0)))=\"n.a.\",\"\",\"\"),_xlfn.IFNA(IF((INDEX(F887:F896,MATCH(\"\",F887:F896,0)))=\"\",\"\",\"\"),\"\"))))))))))))","v":""},{"$f":"_xlfn.IFNA(IF((INDEX(G887:G896,MATCH(\"E\",G887:G896,0)))=\"E\",\"E\",\"\"),_xlfn.IFNA(IF((INDEX(G887:G896,MATCH(\"D\",G887:G896,0)))=\"D\",\"D\",\"\"),_xlfn.IFNA(IF((INDEX(G887:G896,MATCH(\"Ca\",G887:G896,0)))=\"Ca\",\"C\",\"\"),_xlfn.IFNA(IF((INDEX(G887:G896,MATCH(\"C\",G887:G896,0)))=\"C\",\"C\",\"\"),_xlfn.IFNA(IF((INDEX(G887:G896,MATCH(\"B\",G887:G896,0)))=\"B\",\"B\",\"\"),_xlfn.IFNA(IF((INDEX(G887:G896,MATCH(\"A\",G887:G896,0)))=\"A\",\"A\",\"\"),_xlfn.IFNA(IF((INDEX(G887:G896,MATCH(\"n.a.\",G887:G896,0)))=\"n.a.\",\"\",\"\"),_xlfn.IFNA(IF((INDEX(G887:G896,MATCH(\"\",G887:G896,0)))=\"\",\"\",\"\"),\"\"))))))))","v":""},{"$f":"_xlfn.IFNA(IF((INDEX(H887:H896,MATCH(\"E\",H887:H896,0)))=\"E\",\"E\",\"\"),_xlfn.IFNA(IF((INDEX(H887:H896,MATCH(\"D (E)c\",H887:H896,0)))=\"D (E)c\",\"D (E)c\",\"\"),_xlfn.IFNA(IF((INDEX(H887:H896,MATCH(\"Db (E)c\",H887:H896,0)))=\"Db (E)c\",\"D (E)c\",\"\"),_xlfn.IFNA(IF((INDEX(H887:H896,MATCH(\"D\",H887:H896,0)))=\"D\",\"D\",\"\"),_xlfn.IFNA(IF((INDEX(H887:H896,MATCH(\"Cb\",H887:H896,0)))=\"Cb\",\"C\",\"\"),_xlfn.IFNA(IF((INDEX(H887:H896,MATCH(\"C\",H887:H896,0)))=\"C\",\"C\",\"\"),_xlfn.IFNA(IF((INDEX(H887:H896,MATCH(\"Bb\",H887:H896,0)))=\"Bb\",\"B\",\"\"),_xlfn.IFNA(IF((INDEX(H887:H896,MATCH(\"B\",H887:H896,0)))=\"B\",\"B\",\"\"),_xlfn.IFNA(IF((INDEX(H887:H896,MATCH(\"Ab\",H887:H896,0)))=\"Ab\",\"A\",\"\"),_xlfn.IFNA(IF((INDEX(H887:H896,MATCH(\"A\",H887:H896,0)))=\"A\",\"A\",\"\"),_xlfn.IFNA(IF((INDEX(H887:H896,MATCH(\"n.a.\",H887:H896,0)))=\"n.a.\",\"\",\"\"),_xlfn.IFNA(IF((INDEX(H887:H896,MATCH(\"\",H887:H896,0)))=\"\",\"\",\"\"),\"\"))))))))))))","v":""}]
[null,"\nHighest hazard level for all 'Uptake Routes' \n",null,null,{"$f":"_xlfn.IFNA(IF((INDEX(E897:H897,MATCH(\"E\",E897:H897,0)))=\"E\",\"E\",\"\"),_xlfn.IFNA(IF((INDEX(E897:H897,MATCH(\"D (E)c\",E897:H897,0)))=\"D (E)c\",\"D (E)\",\"\"),_xlfn.IFNA(IF((INDEX(E897:H897,MATCH(\"D\",E897:H897,0)))=\"D\",\"D\",\"\"),_xlfn.IFNA(IF((INDEX(E897:H897,MATCH(\"C\",E897:H897,0)))=\"C\",\"C\",\"\"),_xlfn.IFNA(IF((INDEX(E897:H897,MATCH(\"B\",E897:H897,0)))=\"B\",\"B\",\"\"),_xlfn.IFNA(IF((INDEX(E897:H897,MATCH(\"A\",E897:H897,0)))=\"A\",\"A\",\"\"),_xlfn.IFNA(IF((INDEX(E897:H897,MATCH(\"n.a.\",E897:H897,0)))=\"n.a.\",\"\",\"\"),_xlfn.IFNA(IF((INDEX(E897:H897,MATCH(\"\",E897:H897,0)))=\"\",\"\",\"\"),\"\"))))))))","v":""}]
[]
[]
[null,"\nStep 3: D(E) Assessment\nSkip this step if \nyour assessment above does not reveal a D(E) hazard level.\nHover over this cell for additional instructions.\n",null,null,"\nOverall hazard level\n",null,{"$f":"IF(AND(E898=\"\",C884=\"Yes\")=TRUE,\"B\",IF(E898=\"\",\"\",(IF(AND(E898=\"D (E)\",C901=\"\"),\"D (E)\"&CHAR(10)&\"Find if cat. 1 acute tox.\",(IF(E898<>\"D (E)\",E898,(IF(AND(E898=\"D (E)\",C901=\"Yes\"),\"E\",(IF(AND(E898=\"D (E)\",C901=\"No\"),\"D\",\"\"))))))))))","v":""}]
[]
[{"$f":"IF(IF(MOD(ROWS(B$3:B903),20)=1,INDEX('Summary Sheet'!$A$17:$A972,INT(ROWS(B$3:B903)/20)+1),\"\")=0,\"\",IF(MOD(ROWS(B$3:B903),20)=1,INDEX('Summary Sheet'!$A$17:$A972,INT(ROWS(B$3:B903)/20)+1),\"\"))","v":46},"Hazard Level Assessment","for",{"$f":"IF(IF(MOD(ROWS(D$3:D903),20)=1,INDEX('Summary Sheet'!$B$17:$B972,INT(ROWS(D$3:D903)/20)+1),\"\")=0,\"\",IF(MOD(ROWS(D$3:D903),20)=1,INDEX('Summary Sheet'!$B$17:$B972,INT(ROWS(D$3:D903)/20)+1),\"\"))","v":""}]
[null,"\nStep 1: Physical & Environmental Hazard Statements/Codes\nFind Section 2 of the SDS and determine if the SDS has physical and/or environmental hazard statements/codes. Hover on this cell for additional instructions.\n",null,{"$f":"IF(IF(MOD(ROWS(D$3:D904),20)=1,INDEX('Summary Sheet'!$B$17:$B972,INT(ROWS(D$3:D904)/20)+1),\"\")=0,\"\",IF(MOD(ROWS(D$3:D904),20)=1,INDEX('Summary Sheet'!$B$17:$B972,INT(ROWS(D$3:D904)/20)+1),\"\"))","v":""}]
[null,"Step 2: Health Hazard Statements/Codes\nProvide the Health Hazard Statements or Codes from Section 2 of the SDS below. Hover on this cell for additional instructions.",null,{"$f":"IF(IF(MOD(ROWS(D$3:D905),20)=1,INDEX('Summary Sheet'!$B$17:$B972,INT(ROWS(D$3:D905)/20)+1),\"\")=0,\"\",IF(MOD(ROWS(D$3:D905),20)=1,INDEX('Summary Sheet'!$B$17:$B972,INT(ROWS(D$3:D905)/20)+1),\"\"))","v":""},"\nHazard Level\n"]
[null,null,null,{"$f":"IF(IF(MOD(ROWS(D$3:D906),20)=1,INDEX('Summary Sheet'!$B$17:$B972,INT(ROWS(D$3:D906)/20)+1),\"\")=0,\"\",IF(MOD(ROWS(D$3:D906),20)=1,INDEX('Summary Sheet'!$B$17:$B972,INT(ROWS(D$3:D906)/20)+1),\"\"))","v":""},"\nEye Damage\n","\nInhalation\n","\nLocal Skin Damage\n","\nSkin uptake, systemic\n"]
[1,null,{"$f":"_xlfn.IFNA(VLOOKUP(B907,_!$A$7:$F$210,6,FALSE),\"\")","v":""},{"$f":"IF(IF(MOD(ROWS(D$3:D907),20)=1,INDEX('Summary Sheet'!$B$17:$B972,INT(ROWS(D$3:D907)/20)+1),\"\")=0,\"\",IF(MOD(ROWS(D$3:D907),20)=1,INDEX('Summary Sheet'!$B$17:$B972,INT(ROWS(D$3:D907)/20)+1),\"\"))","v":""},{"$f":"_xlfn.IFNA(IF(VLOOKUP(B907,_!$A$7:$E$210,2,FALSE)=0, \"\", VLOOKUP(B907,_!$A$7:$E$210,2,FALSE)),  \"\")","v":""},{"$f":"_xlfn.IFNA(IF(VLOOKUP(B907,_!$A$7:$E$210,3,FALSE)=0, \"\", VLOOKUP(B907,_!$A$7:$E$210,3,FALSE)), \"\")","v":""},{"$f":"_xlfn.IFNA(IF(VLOOKUP(B907,_!$A$7:$E$210,4,FALSE)=0, \"\",VLOOKUP(B907,_!$A$7:$E$210,4,FALSE)), \"\")","v":""},{"$f":"_xlfn.IFNA(IF(VLOOKUP(B907,_!$A$7:$E$210,5,FALSE)=0,\"\",VLOOKUP(B907,_!$A$7:$E$210,5,FALSE)), \"\")","v":""}]
[2,null,{"$f":"_xlfn.IFNA(VLOOKUP(B908,_!$A$7:$F$210,6,FALSE),\"\")","v":""},{"$f":"IF(IF(MOD(ROWS(D$3:D908),20)=1,INDEX('Summary Sheet'!$B$17:$B972,INT(ROWS(D$3:D908)/20)+1),\"\")=0,\"\",IF(MOD(ROWS(D$3:D908),20)=1,INDEX('Summary Sheet'!$B$17:$B972,INT(ROWS(D$3:D908)/20)+1),\"\"))","v":""},{"$f":"_xlfn.IFNA(IF(VLOOKUP(B908,_!$A$7:$E$210,2,FALSE)=0, \"\", VLOOKUP(B908,_!$A$7:$E$210,2,FALSE)),  \"\")","v":""},{"$f":"_xlfn.IFNA(IF(VLOOKUP(B908,_!$A$7:$E$210,3,FALSE)=0, \"\", VLOOKUP(B908,_!$A$7:$E$210,3,FALSE)), \"\")","v":""},{"$f":"_xlfn.IFNA(IF(VLOOKUP(B908,_!$A$7:$E$210,4,FALSE)=0, \"\",VLOOKUP(B908,_!$A$7:$E$210,4,FALSE)), \"\")","v":""},{"$f":"_xlfn.IFNA(IF(VLOOKUP(B908,_!$A$7:$E$210,5,FALSE)=0,\"\",VLOOKUP(B908,_!$A$7:$E$210,5,FALSE)), \"\")","v":""}]
[3,null,{"$f":"_xlfn.IFNA(VLOOKUP(B909,_!$A$7:$F$210,6,FALSE),\"\")","v":""},{"$f":"IF(IF(MOD(ROWS(D$3:D909),20)=1,INDEX('Summary Sheet'!$B$17:$B972,INT(ROWS(D$3:D909)/20)+1),\"\")=0,\"\",IF(MOD(ROWS(D$3:D909),20)=1,INDEX('Summary Sheet'!$B$17:$B972,INT(ROWS(D$3:D909)/20)+1),\"\"))","v":""},{"$f":"_xlfn.IFNA(IF(VLOOKUP(B909,_!$A$7:$E$210,2,FALSE)=0, \"\", VLOOKUP(B909,_!$A$7:$E$210,2,FALSE)),  \"\")","v":""},{"$f":"_xlfn.IFNA(IF(VLOOKUP(B909,_!$A$7:$E$210,3,FALSE)=0, \"\", VLOOKUP(B909,_!$A$7:$E$210,3,FALSE)), \"\")","v":""},{"$f":"_xlfn.IFNA(IF(VLOOKUP(B909,_!$A$7:$E$210,4,FALSE)=0, \"\",VLOOKUP(B909,_!$A$7:$E$210,4,FALSE)), \"\")","v":""},{"$f":"_xlfn.IFNA(IF(VLOOKUP(B909,_!$A$7:$E$210,5,FALSE)=0,\"\",VLOOKUP(B909,_!$A$7:$E$210,5,FALSE)), \"\")","v":""}]
[4,null,{"$f":"_xlfn.IFNA(VLOOKUP(B910,_!$A$7:$F$210,6,FALSE),\"\")","v":""},{"$f":"IF(IF(MOD(ROWS(D$3:D910),20)=1,INDEX('Summary Sheet'!$B$17:$B972,INT(ROWS(D$3:D910)/20)+1),\"\")=0,\"\",IF(MOD(ROWS(D$3:D910),20)=1,INDEX('Summary Sheet'!$B$17:$B972,INT(ROWS(D$3:D910)/20)+1),\"\"))","v":""},{"$f":"_xlfn.IFNA(IF(VLOOKUP(B910,_!$A$7:$E$210,2,FALSE)=0, \"\", VLOOKUP(B910,_!$A$7:$E$210,2,FALSE)),  \"\")","v":""},{"$f":"_xlfn.IFNA(IF(VLOOKUP(B910,_!$A$7:$E$210,3,FALSE)=0, \"\", VLOOKUP(B910,_!$A$7:$E$210,3,FALSE)), \"\")","v":""},{"$f":"_xlfn.IFNA(IF(VLOOKUP(B910,_!$A$7:$E$210,4,FALSE)=0, \"\",VLOOKUP(B910,_!$A$7:$E$210,4,FALSE)), \"\")","v":""},{"$f":"_xlfn.IFNA(IF(VLOOKUP(B910,_!$A$7:$E$210,5,FALSE)=0,\"\",VLOOKUP(B910,_!$A$7:$E$210,5,FALSE)), \"\")","v":""}]
[5,null,{"$f":"_xlfn.IFNA(VLOOKUP(B911,_!$A$7:$F$210,6,FALSE),\"\")","v":""},{"$f":"IF(IF(MOD(ROWS(D$3:D911),20)=1,INDEX('Summary Sheet'!$B$17:$B972,INT(ROWS(D$3:D911)/20)+1),\"\")=0,\"\",IF(MOD(ROWS(D$3:D911),20)=1,INDEX('Summary Sheet'!$B$17:$B972,INT(ROWS(D$3:D911)/20)+1),\"\"))","v":""},{"$f":"_xlfn.IFNA(IF(VLOOKUP(B911,_!$A$7:$E$210,2,FALSE)=0, \"\", VLOOKUP(B911,_!$A$7:$E$210,2,FALSE)),  \"\")","v":""},{"$f":"_xlfn.IFNA(IF(VLOOKUP(B911,_!$A$7:$E$210,3,FALSE)=0, \"\", VLOOKUP(B911,_!$A$7:$E$210,3,FALSE)), \"\")","v":""},{"$f":"_xlfn.IFNA(IF(VLOOKUP(B911,_!$A$7:$E$210,4,FALSE)=0, \"\",VLOOKUP(B911,_!$A$7:$E$210,4,FALSE)), \"\")","v":""},{"$f":"_xlfn.IFNA(IF(VLOOKUP(B911,_!$A$7:$E$210,5,FALSE)=0,\"\",VLOOKUP(B911,_!$A$7:$E$210,5,FALSE)), \"\")","v":""}]
[6,null,{"$f":"_xlfn.IFNA(VLOOKUP(B912,_!$A$7:$F$210,6,FALSE),\"\")","v":""},{"$f":"IF(IF(MOD(ROWS(D$3:D912),20)=1,INDEX('Summary Sheet'!$B$17:$B972,INT(ROWS(D$3:D912)/20)+1),\"\")=0,\"\",IF(MOD(ROWS(D$3:D912),20)=1,INDEX('Summary Sheet'!$B$17:$B972,INT(ROWS(D$3:D912)/20)+1),\"\"))","v":""},{"$f":"_xlfn.IFNA(IF(VLOOKUP(B912,_!$A$7:$E$210,2,FALSE)=0, \"\", VLOOKUP(B912,_!$A$7:$E$210,2,FALSE)),  \"\")","v":""},{"$f":"_xlfn.IFNA(IF(VLOOKUP(B912,_!$A$7:$E$210,3,FALSE)=0, \"\", VLOOKUP(B912,_!$A$7:$E$210,3,FALSE)), \"\")","v":""},{"$f":"_xlfn.IFNA(IF(VLOOKUP(B912,_!$A$7:$E$210,4,FALSE)=0, \"\",VLOOKUP(B912,_!$A$7:$E$210,4,FALSE)), \"\")","v":""},{"$f":"_xlfn.IFNA(IF(VLOOKUP(B912,_!$A$7:$E$210,5,FALSE)=0,\"\",VLOOKUP(B912,_!$A$7:$E$210,5,FALSE)), \"\")","v":""}]
[7,null,{"$f":"_xlfn.IFNA(VLOOKUP(B913,_!$A$7:$F$210,6,FALSE),\"\")","v":""},{"$f":"IF(IF(MOD(ROWS(D$3:D913),20)=1,INDEX('Summary Sheet'!$B$17:$B972,INT(ROWS(D$3:D913)/20)+1),\"\")=0,\"\",IF(MOD(ROWS(D$3:D913),20)=1,INDEX('Summary Sheet'!$B$17:$B972,INT(ROWS(D$3:D913)/20)+1),\"\"))","v":""},{"$f":"_xlfn.IFNA(IF(VLOOKUP(B913,_!$A$7:$E$210,2,FALSE)=0, \"\", VLOOKUP(B913,_!$A$7:$E$210,2,FALSE)),  \"\")","v":""},{"$f":"_xlfn.IFNA(IF(VLOOKUP(B913,_!$A$7:$E$210,3,FALSE)=0, \"\", VLOOKUP(B913,_!$A$7:$E$210,3,FALSE)), \"\")","v":""},{"$f":"_xlfn.IFNA(IF(VLOOKUP(B913,_!$A$7:$E$210,4,FALSE)=0, \"\",VLOOKUP(B913,_!$A$7:$E$210,4,FALSE)), \"\")","v":""},{"$f":"_xlfn.IFNA(IF(VLOOKUP(B913,_!$A$7:$E$210,5,FALSE)=0,\"\",VLOOKUP(B913,_!$A$7:$E$210,5,FALSE)), \"\")","v":""}]
[8,null,{"$f":"_xlfn.IFNA(VLOOKUP(B914,_!$A$7:$F$210,6,FALSE),\"\")","v":""},{"$f":"IF(IF(MOD(ROWS(D$3:D914),20)=1,INDEX('Summary Sheet'!$B$17:$B972,INT(ROWS(D$3:D914)/20)+1),\"\")=0,\"\",IF(MOD(ROWS(D$3:D914),20)=1,INDEX('Summary Sheet'!$B$17:$B972,INT(ROWS(D$3:D914)/20)+1),\"\"))","v":""},{"$f":"_xlfn.IFNA(IF(VLOOKUP(B914,_!$A$7:$E$210,2,FALSE)=0, \"\", VLOOKUP(B914,_!$A$7:$E$210,2,FALSE)),  \"\")","v":""},{"$f":"_xlfn.IFNA(IF(VLOOKUP(B914,_!$A$7:$E$210,3,FALSE)=0, \"\", VLOOKUP(B914,_!$A$7:$E$210,3,FALSE)), \"\")","v":""},{"$f":"_xlfn.IFNA(IF(VLOOKUP(B914,_!$A$7:$E$210,4,FALSE)=0, \"\",VLOOKUP(B914,_!$A$7:$E$210,4,FALSE)), \"\")","v":""},{"$f":"_xlfn.IFNA(IF(VLOOKUP(B914,_!$A$7:$E$210,5,FALSE)=0,\"\",VLOOKUP(B914,_!$A$7:$E$210,5,FALSE)), \"\")","v":""}]
[9,null,{"$f":"_xlfn.IFNA(VLOOKUP(B915,_!$A$7:$F$210,6,FALSE),\"\")","v":""},{"$f":"IF(IF(MOD(ROWS(D$3:D915),20)=1,INDEX('Summary Sheet'!$B$17:$B972,INT(ROWS(D$3:D915)/20)+1),\"\")=0,\"\",IF(MOD(ROWS(D$3:D915),20)=1,INDEX('Summary Sheet'!$B$17:$B972,INT(ROWS(D$3:D915)/20)+1),\"\"))","v":""},{"$f":"_xlfn.IFNA(IF(VLOOKUP(B915,_!$A$7:$E$210,2,FALSE)=0, \"\", VLOOKUP(B915,_!$A$7:$E$210,2,FALSE)),  \"\")","v":""},{"$f":"_xlfn.IFNA(IF(VLOOKUP(B915,_!$A$7:$E$210,3,FALSE)=0, \"\", VLOOKUP(B915,_!$A$7:$E$210,3,FALSE)), \"\")","v":""},{"$f":"_xlfn.IFNA(IF(VLOOKUP(B915,_!$A$7:$E$210,4,FALSE)=0, \"\",VLOOKUP(B915,_!$A$7:$E$210,4,FALSE)), \"\")","v":""},{"$f":"_xlfn.IFNA(IF(VLOOKUP(B915,_!$A$7:$E$210,5,FALSE)=0,\"\",VLOOKUP(B915,_!$A$7:$E$210,5,FALSE)), \"\")","v":""}]
[10,null,{"$f":"_xlfn.IFNA(VLOOKUP(B916,_!$A$7:$F$210,6,FALSE),\"\")","v":""},{"$f":"IF(IF(MOD(ROWS(D$14:D916),20)=1,INDEX('Summary Sheet'!$B$17:$B972,INT(ROWS(D$14:D916)/20)+1),\"\")=0,\"\",IF(MOD(ROWS(D$14:D916),20)=1,INDEX('Summary Sheet'!$B$17:$B972,INT(ROWS(D$14:D916)/20)+1),\"\"))","v":""},{"$f":"_xlfn.IFNA(IF(VLOOKUP(B916,_!$A$7:$E$210,2,FALSE)=0, \"\", VLOOKUP(B916,_!$A$7:$E$210,2,FALSE)),  \"\")","v":""},{"$f":"_xlfn.IFNA(IF(VLOOKUP(B916,_!$A$7:$E$210,3,FALSE)=0, \"\", VLOOKUP(B916,_!$A$7:$E$210,3,FALSE)), \"\")","v":""},{"$f":"_xlfn.IFNA(IF(VLOOKUP(B916,_!$A$7:$E$210,4,FALSE)=0, \"\",VLOOKUP(B916,_!$A$7:$E$210,4,FALSE)), \"\")","v":""},{"$f":"_xlfn.IFNA(IF(VLOOKUP(B916,_!$A$7:$E$210,5,FALSE)=0,\"\",VLOOKUP(B916,_!$A$7:$E$210,5,FALSE)), \"\")","v":""}]
[null,"\nHighest hazard level for each ‘Uptake Route’\n",null,null,{"$f":"_xlfn.IFNA(IF((INDEX(E907:E916,MATCH(\"E\",E907:E916,0)))=\"E\",\"E\",\"\"),_xlfn.IFNA(IF((INDEX(E907:E916,MATCH(\"D\",E907:E916,0)))=\"D\",\"D\",\"\"),_xlfn.IFNA(IF((INDEX(E907:E916,MATCH(\"Ca\",E907:E916,0)))=\"Ca\",\"C\",\"\"),_xlfn.IFNA(IF((INDEX(E907:E916,MATCH(\"C\",E907:E916,0)))=\"C\",\"C\",\"\"),_xlfn.IFNA(IF((INDEX(E907:E916,MATCH(\"B\",E907:E916,0)))=\"B\",\"B\",\"\"),_xlfn.IFNA(IF((INDEX(E907:E916,MATCH(\"A\",E907:E916,0)))=\"A\",\"A\",\"\"),_xlfn.IFNA(IF((INDEX(E907:E916,MATCH(\"n.a.\",E907:E916,0)))=\"n.a.\",\"\",\"\"),_xlfn.IFNA(IF((INDEX(E907:E916,MATCH(\"\",E907:E916,0)))=\"\",\"\",\"\"),\"\"))))))))","v":""},{"$f":"_xlfn.IFNA(IF((INDEX(F907:F916,MATCH(\"E\",F907:F916,0)))=\"E\",\"E\",\"\"),_xlfn.IFNA(IF((INDEX(F907:F916,MATCH(\"D (E)c\",F907:F916,0)))=\"D (E)c\",\"D (E)c\",\"\"),_xlfn.IFNA(IF((INDEX(F907:F916,MATCH(\"Da (E)c\",F907:F916,0)))=\"Da (E)c\",\"D (E)c\",\"\"),_xlfn.IFNA(IF((INDEX(F907:F916,MATCH(\"D\",F907:F916,0)))=\"D\",\"D\",\"\"),_xlfn.IFNA(IF((INDEX(F907:F916,MATCH(\"Ca\",F907:F916,0)))=\"Ca\",\"C\",\"\"),_xlfn.IFNA(IF((INDEX(F907:F916,MATCH(\"C\",F907:F916,0)))=\"C\",\"C\",\"\"),_xlfn.IFNA(IF((INDEX(F907:F916,MATCH(\"Ba\",F907:F916,0)))=\"Ba\",\"B\",\"\"),_xlfn.IFNA(IF((INDEX(F907:F916,MATCH(\"B\",F907:F916,0)))=\"B\",\"B\",\"\"),_xlfn.IFNA(IF((INDEX(F907:F916,MATCH(\"Aa\",F907:F916,0)))=\"Aa\",\"A\",\"\"),_xlfn.IFNA(IF((INDEX(F907:F916,MATCH(\"A\",F907:F916,0)))=\"A\",\"A\",\"\"),_xlfn.IFNA(IF((INDEX(F907:F916,MATCH(\"n.a.\",F907:F916,0)))=\"n.a.\",\"\",\"\"),_xlfn.IFNA(IF((INDEX(F907:F916,MATCH(\"\",F907:F916,0)))=\"\",\"\",\"\"),\"\"))))))))))))","v":""},{"$f":"_xlfn.IFNA(IF((INDEX(G907:G916,MATCH(\"E\",G907:G916,0)))=\"E\",\"E\",\"\"),_xlfn.IFNA(IF((INDEX(G907:G916,MATCH(\"D\",G907:G916,0)))=\"D\",\"D\",\"\"),_xlfn.IFNA(IF((INDEX(G907:G916,MATCH(\"Ca\",G907:G916,0)))=\"Ca\",\"C\",\"\"),_xlfn.IFNA(IF((INDEX(G907:G916,MATCH(\"C\",G907:G916,0)))=\"C\",\"C\",\"\"),_xlfn.IFNA(IF((INDEX(G907:G916,MATCH(\"B\",G907:G916,0)))=\"B\",\"B\",\"\"),_xlfn.IFNA(IF((INDEX(G907:G916,MATCH(\"A\",G907:G916,0)))=\"A\",\"A\",\"\"),_xlfn.IFNA(IF((INDEX(G907:G916,MATCH(\"n.a.\",G907:G916,0)))=\"n.a.\",\"\",\"\"),_xlfn.IFNA(IF((INDEX(G907:G916,MATCH(\"\",G907:G916,0)))=\"\",\"\",\"\"),\"\"))))))))","v":""},{"$f":"_xlfn.IFNA(IF((INDEX(H907:H916,MATCH(\"E\",H907:H916,0)))=\"E\",\"E\",\"\"),_xlfn.IFNA(IF((INDEX(H907:H916,MATCH(\"D (E)c\",H907:H916,0)))=\"D (E)c\",\"D (E)c\",\"\"),_xlfn.IFNA(IF((INDEX(H907:H916,MATCH(\"Db (E)c\",H907:H916,0)))=\"Db (E)c\",\"D (E)c\",\"\"),_xlfn.IFNA(IF((INDEX(H907:H916,MATCH(\"D\",H907:H916,0)))=\"D\",\"D\",\"\"),_xlfn.IFNA(IF((INDEX(H907:H916,MATCH(\"Cb\",H907:H916,0)))=\"Cb\",\"C\",\"\"),_xlfn.IFNA(IF((INDEX(H907:H916,MATCH(\"C\",H907:H916,0)))=\"C\",\"C\",\"\"),_xlfn.IFNA(IF((INDEX(H907:H916,MATCH(\"Bb\",H907:H916,0)))=\"Bb\",\"B\",\"\"),_xlfn.IFNA(IF((INDEX(H907:H916,MATCH(\"B\",H907:H916,0)))=\"B\",\"B\",\"\"),_xlfn.IFNA(IF((INDEX(H907:H916,MATCH(\"Ab\",H907:H916,0)))=\"Ab\",\"A\",\"\"),_xlfn.IFNA(IF((INDEX(H907:H916,MATCH(\"A\",H907:H916,0)))=\"A\",\"A\",\"\"),_xlfn.IFNA(IF((INDEX(H907:H916,MATCH(\"n.a.\",H907:H916,0)))=\"n.a.\",\"\",\"\"),_xlfn.IFNA(IF((INDEX(H907:H916,MATCH(\"\",H907:H916,0)))=\"\",\"\",\"\"),\"\"))))))))))))","v":""}]
[null,"\nHighest hazard level for all 'Uptake Routes' \n",null,null,{"$f":"_xlfn.IFNA(IF((INDEX(E917:H917,MATCH(\"E\",E917:H917,0)))=\"E\",\"E\",\"\"),_xlfn.IFNA(IF((INDEX(E917:H917,MATCH(\"D (E)c\",E917:H917,0)))=\"D (E)c\",\"D (E)\",\"\"),_xlfn.IFNA(IF((INDEX(E917:H917,MATCH(\"D\",E917:H917,0)))=\"D\",\"D\",\"\"),_xlfn.IFNA(IF((INDEX(E917:H917,MATCH(\"C\",E917:H917,0)))=\"C\",\"C\",\"\"),_xlfn.IFNA(IF((INDEX(E917:H917,MATCH(\"B\",E917:H917,0)))=\"B\",\"B\",\"\"),_xlfn.IFNA(IF((INDEX(E917:H917,MATCH(\"A\",E917:H917,0)))=\"A\",\"A\",\"\"),_xlfn.IFNA(IF((INDEX(E917:H917,MATCH(\"n.a.\",E917:H917,0)))=\"n.a.\",\"\",\"\"),_xlfn.IFNA(IF((INDEX(E917:H917,MATCH(\"\",E917:H917,0)))=\"\",\"\",\"\"),\"\"))))))))","v":""}]
[]
[]
[null,"\nStep 3: D(E) Assessment\nSkip this step if \nyour assessment above does not reveal a D(E) hazard level.\nHover over this cell for additional instructions.\n",null,null,"\nOverall hazard level\n",null,{"$f":"IF(AND(E918=\"\",C904=\"Yes\")=TRUE,\"B\",IF(E918=\"\",\"\",(IF(AND(E918=\"D (E)\",C921=\"\"),\"D (E)\"&CHAR(10)&\"Find if cat. 1 acute tox.\",(IF(E918<>\"D (E)\",E918,(IF(AND(E918=\"D (E)\",C921=\"Yes\"),\"E\",(IF(AND(E918=\"D (E)\",C921=\"No\"),\"D\",\"\"))))))))))","v":""}]
[]
[{"$f":"IF(IF(MOD(ROWS(B$3:B923),20)=1,INDEX('Summary Sheet'!$A$17:$A991,INT(ROWS(B$3:B923)/20)+1),\"\")=0,\"\",IF(MOD(ROWS(B$3:B923),20)=1,INDEX('Summary Sheet'!$A$17:$A991,INT(ROWS(B$3:B923)/20)+1),\"\"))","v":47},"Hazard Level Assessment","for",{"$f":"IF(IF(MOD(ROWS(D$3:D923),20)=1,INDEX('Summary Sheet'!$B$17:$B991,INT(ROWS(D$3:D923)/20)+1),\"\")=0,\"\",IF(MOD(ROWS(D$3:D923),20)=1,INDEX('Summary Sheet'!$B$17:$B991,INT(ROWS(D$3:D923)/20)+1),\"\"))","v":""}]
[null,"\nStep 1: Physical & Environmental Hazard Statements/Codes\nFind Section 2 of the SDS and determine if the SDS has physical and/or environmental hazard statements/codes. Hover on this cell for additional instructions.\n",null,{"$f":"IF(IF(MOD(ROWS(D$3:D924),20)=1,INDEX('Summary Sheet'!$B$17:$B991,INT(ROWS(D$3:D924)/20)+1),\"\")=0,\"\",IF(MOD(ROWS(D$3:D924),20)=1,INDEX('Summary Sheet'!$B$17:$B991,INT(ROWS(D$3:D924)/20)+1),\"\"))","v":""}]
[null,"Step 2: Health Hazard Statements/Codes\nProvide the Health Hazard Statements or Codes from Section 2 of the SDS below. Hover on this cell for additional instructions.",null,{"$f":"IF(IF(MOD(ROWS(D$3:D925),20)=1,INDEX('Summary Sheet'!$B$17:$B991,INT(ROWS(D$3:D925)/20)+1),\"\")=0,\"\",IF(MOD(ROWS(D$3:D925),20)=1,INDEX('Summary Sheet'!$B$17:$B991,INT(ROWS(D$3:D925)/20)+1),\"\"))","v":""},"\nHazard Level\n"]
[null,null,null,{"$f":"IF(IF(MOD(ROWS(D$3:D926),20)=1,INDEX('Summary Sheet'!$B$17:$B991,INT(ROWS(D$3:D926)/20)+1),\"\")=0,\"\",IF(MOD(ROWS(D$3:D926),20)=1,INDEX('Summary Sheet'!$B$17:$B991,INT(ROWS(D$3:D926)/20)+1),\"\"))","v":""},"\nEye Damage\n","\nInhalation\n","\nLocal Skin Damage\n","\nSkin uptake, systemic\n"]
[1,null,{"$f":"_xlfn.IFNA(VLOOKUP(B927,_!$A$7:$F$210,6,FALSE),\"\")","v":""},{"$f":"IF(IF(MOD(ROWS(D$3:D927),20)=1,INDEX('Summary Sheet'!$B$17:$B991,INT(ROWS(D$3:D927)/20)+1),\"\")=0,\"\",IF(MOD(ROWS(D$3:D927),20)=1,INDEX('Summary Sheet'!$B$17:$B991,INT(ROWS(D$3:D927)/20)+1),\"\"))","v":""},{"$f":"_xlfn.IFNA(IF(VLOOKUP(B927,_!$A$7:$E$210,2,FALSE)=0, \"\", VLOOKUP(B927,_!$A$7:$E$210,2,FALSE)),  \"\")","v":""},{"$f":"_xlfn.IFNA(IF(VLOOKUP(B927,_!$A$7:$E$210,3,FALSE)=0, \"\", VLOOKUP(B927,_!$A$7:$E$210,3,FALSE)), \"\")","v":""},{"$f":"_xlfn.IFNA(IF(VLOOKUP(B927,_!$A$7:$E$210,4,FALSE)=0, \"\",VLOOKUP(B927,_!$A$7:$E$210,4,FALSE)), \"\")","v":""},{"$f":"_xlfn.IFNA(IF(VLOOKUP(B927,_!$A$7:$E$210,5,FALSE)=0,\"\",VLOOKUP(B927,_!$A$7:$E$210,5,FALSE)), \"\")","v":""}]
[2,null,{"$f":"_xlfn.IFNA(VLOOKUP(B928,_!$A$7:$F$210,6,FALSE),\"\")","v":""},{"$f":"IF(IF(MOD(ROWS(D$3:D928),20)=1,INDEX('Summary Sheet'!$B$17:$B991,INT(ROWS(D$3:D928)/20)+1),\"\")=0,\"\",IF(MOD(ROWS(D$3:D928),20)=1,INDEX('Summary Sheet'!$B$17:$B991,INT(ROWS(D$3:D928)/20)+1),\"\"))","v":""},{"$f":"_xlfn.IFNA(IF(VLOOKUP(B928,_!$A$7:$E$210,2,FALSE)=0, \"\", VLOOKUP(B928,_!$A$7:$E$210,2,FALSE)),  \"\")","v":""},{"$f":"_xlfn.IFNA(IF(VLOOKUP(B928,_!$A$7:$E$210,3,FALSE)=0, \"\", VLOOKUP(B928,_!$A$7:$E$210,3,FALSE)), \"\")","v":""},{"$f":"_xlfn.IFNA(IF(VLOOKUP(B928,_!$A$7:$E$210,4,FALSE)=0, \"\",VLOOKUP(B928,_!$A$7:$E$210,4,FALSE)), \"\")","v":""},{"$f":"_xlfn.IFNA(IF(VLOOKUP(B928,_!$A$7:$E$210,5,FALSE)=0,\"\",VLOOKUP(B928,_!$A$7:$E$210,5,FALSE)), \"\")","v":""}]
[3,null,{"$f":"_xlfn.IFNA(VLOOKUP(B929,_!$A$7:$F$210,6,FALSE),\"\")","v":""},{"$f":"IF(IF(MOD(ROWS(D$3:D929),20)=1,INDEX('Summary Sheet'!$B$17:$B991,INT(ROWS(D$3:D929)/20)+1),\"\")=0,\"\",IF(MOD(ROWS(D$3:D929),20)=1,INDEX('Summary Sheet'!$B$17:$B991,INT(ROWS(D$3:D929)/20)+1),\"\"))","v":""},{"$f":"_xlfn.IFNA(IF(VLOOKUP(B929,_!$A$7:$E$210,2,FALSE)=0, \"\", VLOOKUP(B929,_!$A$7:$E$210,2,FALSE)),  \"\")","v":""},{"$f":"_xlfn.IFNA(IF(VLOOKUP(B929,_!$A$7:$E$210,3,FALSE)=0, \"\", VLOOKUP(B929,_!$A$7:$E$210,3,FALSE)), \"\")","v":""},{"$f":"_xlfn.IFNA(IF(VLOOKUP(B929,_!$A$7:$E$210,4,FALSE)=0, \"\",VLOOKUP(B929,_!$A$7:$E$210,4,FALSE)), \"\")","v":""},{"$f":"_xlfn.IFNA(IF(VLOOKUP(B929,_!$A$7:$E$210,5,FALSE)=0,\"\",VLOOKUP(B929,_!$A$7:$E$210,5,FALSE)), \"\")","v":""}]
[4,null,{"$f":"_xlfn.IFNA(VLOOKUP(B930,_!$A$7:$F$210,6,FALSE),\"\")","v":""},{"$f":"IF(IF(MOD(ROWS(D$3:D930),20)=1,INDEX('Summary Sheet'!$B$17:$B991,INT(ROWS(D$3:D930)/20)+1),\"\")=0,\"\",IF(MOD(ROWS(D$3:D930),20)=1,INDEX('Summary Sheet'!$B$17:$B991,INT(ROWS(D$3:D930)/20)+1),\"\"))","v":""},{"$f":"_xlfn.IFNA(IF(VLOOKUP(B930,_!$A$7:$E$210,2,FALSE)=0, \"\", VLOOKUP(B930,_!$A$7:$E$210,2,FALSE)),  \"\")","v":""},{"$f":"_xlfn.IFNA(IF(VLOOKUP(B930,_!$A$7:$E$210,3,FALSE)=0, \"\", VLOOKUP(B930,_!$A$7:$E$210,3,FALSE)), \"\")","v":""},{"$f":"_xlfn.IFNA(IF(VLOOKUP(B930,_!$A$7:$E$210,4,FALSE)=0, \"\",VLOOKUP(B930,_!$A$7:$E$210,4,FALSE)), \"\")","v":""},{"$f":"_xlfn.IFNA(IF(VLOOKUP(B930,_!$A$7:$E$210,5,FALSE)=0,\"\",VLOOKUP(B930,_!$A$7:$E$210,5,FALSE)), \"\")","v":""}]
[5,null,{"$f":"_xlfn.IFNA(VLOOKUP(B931,_!$A$7:$F$210,6,FALSE),\"\")","v":""},{"$f":"IF(IF(MOD(ROWS(D$3:D931),20)=1,INDEX('Summary Sheet'!$B$17:$B991,INT(ROWS(D$3:D931)/20)+1),\"\")=0,\"\",IF(MOD(ROWS(D$3:D931),20)=1,INDEX('Summary Sheet'!$B$17:$B991,INT(ROWS(D$3:D931)/20)+1),\"\"))","v":""},{"$f":"_xlfn.IFNA(IF(VLOOKUP(B931,_!$A$7:$E$210,2,FALSE)=0, \"\", VLOOKUP(B931,_!$A$7:$E$210,2,FALSE)),  \"\")","v":""},{"$f":"_xlfn.IFNA(IF(VLOOKUP(B931,_!$A$7:$E$210,3,FALSE)=0, \"\", VLOOKUP(B931,_!$A$7:$E$210,3,FALSE)), \"\")","v":""},{"$f":"_xlfn.IFNA(IF(VLOOKUP(B931,_!$A$7:$E$210,4,FALSE)=0, \"\",VLOOKUP(B931,_!$A$7:$E$210,4,FALSE)), \"\")","v":""},{"$f":"_xlfn.IFNA(IF(VLOOKUP(B931,_!$A$7:$E$210,5,FALSE)=0,\"\",VLOOKUP(B931,_!$A$7:$E$210,5,FALSE)), \"\")","v":""}]
[6,null,{"$f":"_xlfn.IFNA(VLOOKUP(B932,_!$A$7:$F$210,6,FALSE),\"\")","v":""},{"$f":"IF(IF(MOD(ROWS(D$3:D932),20)=1,INDEX('Summary Sheet'!$B$17:$B991,INT(ROWS(D$3:D932)/20)+1),\"\")=0,\"\",IF(MOD(ROWS(D$3:D932),20)=1,INDEX('Summary Sheet'!$B$17:$B991,INT(ROWS(D$3:D932)/20)+1),\"\"))","v":""},{"$f":"_xlfn.IFNA(IF(VLOOKUP(B932,_!$A$7:$E$210,2,FALSE)=0, \"\", VLOOKUP(B932,_!$A$7:$E$210,2,FALSE)),  \"\")","v":""},{"$f":"_xlfn.IFNA(IF(VLOOKUP(B932,_!$A$7:$E$210,3,FALSE)=0, \"\", VLOOKUP(B932,_!$A$7:$E$210,3,FALSE)), \"\")","v":""},{"$f":"_xlfn.IFNA(IF(VLOOKUP(B932,_!$A$7:$E$210,4,FALSE)=0, \"\",VLOOKUP(B932,_!$A$7:$E$210,4,FALSE)), \"\")","v":""},{"$f":"_xlfn.IFNA(IF(VLOOKUP(B932,_!$A$7:$E$210,5,FALSE)=0,\"\",VLOOKUP(B932,_!$A$7:$E$210,5,FALSE)), \"\")","v":""}]
[7,null,{"$f":"_xlfn.IFNA(VLOOKUP(B933,_!$A$7:$F$210,6,FALSE),\"\")","v":""},{"$f":"IF(IF(MOD(ROWS(D$3:D933),20)=1,INDEX('Summary Sheet'!$B$17:$B991,INT(ROWS(D$3:D933)/20)+1),\"\")=0,\"\",IF(MOD(ROWS(D$3:D933),20)=1,INDEX('Summary Sheet'!$B$17:$B991,INT(ROWS(D$3:D933)/20)+1),\"\"))","v":""},{"$f":"_xlfn.IFNA(IF(VLOOKUP(B933,_!$A$7:$E$210,2,FALSE)=0, \"\", VLOOKUP(B933,_!$A$7:$E$210,2,FALSE)),  \"\")","v":""},{"$f":"_xlfn.IFNA(IF(VLOOKUP(B933,_!$A$7:$E$210,3,FALSE)=0, \"\", VLOOKUP(B933,_!$A$7:$E$210,3,FALSE)), \"\")","v":""},{"$f":"_xlfn.IFNA(IF(VLOOKUP(B933,_!$A$7:$E$210,4,FALSE)=0, \"\",VLOOKUP(B933,_!$A$7:$E$210,4,FALSE)), \"\")","v":""},{"$f":"_xlfn.IFNA(IF(VLOOKUP(B933,_!$A$7:$E$210,5,FALSE)=0,\"\",VLOOKUP(B933,_!$A$7:$E$210,5,FALSE)), \"\")","v":""}]
[8,null,{"$f":"_xlfn.IFNA(VLOOKUP(B934,_!$A$7:$F$210,6,FALSE),\"\")","v":""},{"$f":"IF(IF(MOD(ROWS(D$3:D934),20)=1,INDEX('Summary Sheet'!$B$17:$B991,INT(ROWS(D$3:D934)/20)+1),\"\")=0,\"\",IF(MOD(ROWS(D$3:D934),20)=1,INDEX('Summary Sheet'!$B$17:$B991,INT(ROWS(D$3:D934)/20)+1),\"\"))","v":""},{"$f":"_xlfn.IFNA(IF(VLOOKUP(B934,_!$A$7:$E$210,2,FALSE)=0, \"\", VLOOKUP(B934,_!$A$7:$E$210,2,FALSE)),  \"\")","v":""},{"$f":"_xlfn.IFNA(IF(VLOOKUP(B934,_!$A$7:$E$210,3,FALSE)=0, \"\", VLOOKUP(B934,_!$A$7:$E$210,3,FALSE)), \"\")","v":""},{"$f":"_xlfn.IFNA(IF(VLOOKUP(B934,_!$A$7:$E$210,4,FALSE)=0, \"\",VLOOKUP(B934,_!$A$7:$E$210,4,FALSE)), \"\")","v":""},{"$f":"_xlfn.IFNA(IF(VLOOKUP(B934,_!$A$7:$E$210,5,FALSE)=0,\"\",VLOOKUP(B934,_!$A$7:$E$210,5,FALSE)), \"\")","v":""}]
[9,null,{"$f":"_xlfn.IFNA(VLOOKUP(B935,_!$A$7:$F$210,6,FALSE),\"\")","v":""},{"$f":"IF(IF(MOD(ROWS(D$3:D935),20)=1,INDEX('Summary Sheet'!$B$17:$B991,INT(ROWS(D$3:D935)/20)+1),\"\")=0,\"\",IF(MOD(ROWS(D$3:D935),20)=1,INDEX('Summary Sheet'!$B$17:$B991,INT(ROWS(D$3:D935)/20)+1),\"\"))","v":""},{"$f":"_xlfn.IFNA(IF(VLOOKUP(B935,_!$A$7:$E$210,2,FALSE)=0, \"\", VLOOKUP(B935,_!$A$7:$E$210,2,FALSE)),  \"\")","v":""},{"$f":"_xlfn.IFNA(IF(VLOOKUP(B935,_!$A$7:$E$210,3,FALSE)=0, \"\", VLOOKUP(B935,_!$A$7:$E$210,3,FALSE)), \"\")","v":""},{"$f":"_xlfn.IFNA(IF(VLOOKUP(B935,_!$A$7:$E$210,4,FALSE)=0, \"\",VLOOKUP(B935,_!$A$7:$E$210,4,FALSE)), \"\")","v":""},{"$f":"_xlfn.IFNA(IF(VLOOKUP(B935,_!$A$7:$E$210,5,FALSE)=0,\"\",VLOOKUP(B935,_!$A$7:$E$210,5,FALSE)), \"\")","v":""}]
[10,null,{"$f":"_xlfn.IFNA(VLOOKUP(B936,_!$A$7:$F$210,6,FALSE),\"\")","v":""},{"$f":"IF(IF(MOD(ROWS(D$14:D936),20)=1,INDEX('Summary Sheet'!$B$17:$B991,INT(ROWS(D$14:D936)/20)+1),\"\")=0,\"\",IF(MOD(ROWS(D$14:D936),20)=1,INDEX('Summary Sheet'!$B$17:$B991,INT(ROWS(D$14:D936)/20)+1),\"\"))","v":""},{"$f":"_xlfn.IFNA(IF(VLOOKUP(B936,_!$A$7:$E$210,2,FALSE)=0, \"\", VLOOKUP(B936,_!$A$7:$E$210,2,FALSE)),  \"\")","v":""},{"$f":"_xlfn.IFNA(IF(VLOOKUP(B936,_!$A$7:$E$210,3,FALSE)=0, \"\", VLOOKUP(B936,_!$A$7:$E$210,3,FALSE)), \"\")","v":""},{"$f":"_xlfn.IFNA(IF(VLOOKUP(B936,_!$A$7:$E$210,4,FALSE)=0, \"\",VLOOKUP(B936,_!$A$7:$E$210,4,FALSE)), \"\")","v":""},{"$f":"_xlfn.IFNA(IF(VLOOKUP(B936,_!$A$7:$E$210,5,FALSE)=0,\"\",VLOOKUP(B936,_!$A$7:$E$210,5,FALSE)), \"\")","v":""}]
[null,"\nHighest hazard level for each ‘Uptake Route’\n",null,null,{"$f":"_xlfn.IFNA(IF((INDEX(E927:E936,MATCH(\"E\",E927:E936,0)))=\"E\",\"E\",\"\"),_xlfn.IFNA(IF((INDEX(E927:E936,MATCH(\"D\",E927:E936,0)))=\"D\",\"D\",\"\"),_xlfn.IFNA(IF((INDEX(E927:E936,MATCH(\"Ca\",E927:E936,0)))=\"Ca\",\"C\",\"\"),_xlfn.IFNA(IF((INDEX(E927:E936,MATCH(\"C\",E927:E936,0)))=\"C\",\"C\",\"\"),_xlfn.IFNA(IF((INDEX(E927:E936,MATCH(\"B\",E927:E936,0)))=\"B\",\"B\",\"\"),_xlfn.IFNA(IF((INDEX(E927:E936,MATCH(\"A\",E927:E936,0)))=\"A\",\"A\",\"\"),_xlfn.IFNA(IF((INDEX(E927:E936,MATCH(\"n.a.\",E927:E936,0)))=\"n.a.\",\"\",\"\"),_xlfn.IFNA(IF((INDEX(E927:E936,MATCH(\"\",E927:E936,0)))=\"\",\"\",\"\"),\"\"))))))))","v":""},{"$f":"_xlfn.IFNA(IF((INDEX(F927:F936,MATCH(\"E\",F927:F936,0)))=\"E\",\"E\",\"\"),_xlfn.IFNA(IF((INDEX(F927:F936,MATCH(\"D (E)c\",F927:F936,0)))=\"D (E)c\",\"D (E)c\",\"\"),_xlfn.IFNA(IF((INDEX(F927:F936,MATCH(\"Da (E)c\",F927:F936,0)))=\"Da (E)c\",\"D (E)c\",\"\"),_xlfn.IFNA(IF((INDEX(F927:F936,MATCH(\"D\",F927:F936,0)))=\"D\",\"D\",\"\"),_xlfn.IFNA(IF((INDEX(F927:F936,MATCH(\"Ca\",F927:F936,0)))=\"Ca\",\"C\",\"\"),_xlfn.IFNA(IF((INDEX(F927:F936,MATCH(\"C\",F927:F936,0)))=\"C\",\"C\",\"\"),_xlfn.IFNA(IF((INDEX(F927:F936,MATCH(\"Ba\",F927:F936,0)))=\"Ba\",\"B\",\"\"),_xlfn.IFNA(IF((INDEX(F927:F936,MATCH(\"B\",F927:F936,0)))=\"B\",\"B\",\"\"),_xlfn.IFNA(IF((INDEX(F927:F936,MATCH(\"Aa\",F927:F936,0)))=\"Aa\",\"A\",\"\"),_xlfn.IFNA(IF((INDEX(F927:F936,MATCH(\"A\",F927:F936,0)))=\"A\",\"A\",\"\"),_xlfn.IFNA(IF((INDEX(F927:F936,MATCH(\"n.a.\",F927:F936,0)))=\"n.a.\",\"\",\"\"),_xlfn.IFNA(IF((INDEX(F927:F936,MATCH(\"\",F927:F936,0)))=\"\",\"\",\"\"),\"\"))))))))))))","v":""},{"$f":"_xlfn.IFNA(IF((INDEX(G927:G936,MATCH(\"E\",G927:G936,0)))=\"E\",\"E\",\"\"),_xlfn.IFNA(IF((INDEX(G927:G936,MATCH(\"D\",G927:G936,0)))=\"D\",\"D\",\"\"),_xlfn.IFNA(IF((INDEX(G927:G936,MATCH(\"Ca\",G927:G936,0)))=\"Ca\",\"C\",\"\"),_xlfn.IFNA(IF((INDEX(G927:G936,MATCH(\"C\",G927:G936,0)))=\"C\",\"C\",\"\"),_xlfn.IFNA(IF((INDEX(G927:G936,MATCH(\"B\",G927:G936,0)))=\"B\",\"B\",\"\"),_xlfn.IFNA(IF((INDEX(G927:G936,MATCH(\"A\",G927:G936,0)))=\"A\",\"A\",\"\"),_xlfn.IFNA(IF((INDEX(G927:G936,MATCH(\"n.a.\",G927:G936,0)))=\"n.a.\",\"\",\"\"),_xlfn.IFNA(IF((INDEX(G927:G936,MATCH(\"\",G927:G936,0)))=\"\",\"\",\"\"),\"\"))))))))","v":""},{"$f":"_xlfn.IFNA(IF((INDEX(H927:H936,MATCH(\"E\",H927:H936,0)))=\"E\",\"E\",\"\"),_xlfn.IFNA(IF((INDEX(H927:H936,MATCH(\"D (E)c\",H927:H936,0)))=\"D (E)c\",\"D (E)c\",\"\"),_xlfn.IFNA(IF((INDEX(H927:H936,MATCH(\"Db (E)c\",H927:H936,0)))=\"Db (E)c\",\"D (E)c\",\"\"),_xlfn.IFNA(IF((INDEX(H927:H936,MATCH(\"D\",H927:H936,0)))=\"D\",\"D\",\"\"),_xlfn.IFNA(IF((INDEX(H927:H936,MATCH(\"Cb\",H927:H936,0)))=\"Cb\",\"C\",\"\"),_xlfn.IFNA(IF((INDEX(H927:H936,MATCH(\"C\",H927:H936,0)))=\"C\",\"C\",\"\"),_xlfn.IFNA(IF((INDEX(H927:H936,MATCH(\"Bb\",H927:H936,0)))=\"Bb\",\"B\",\"\"),_xlfn.IFNA(IF((INDEX(H927:H936,MATCH(\"B\",H927:H936,0)))=\"B\",\"B\",\"\"),_xlfn.IFNA(IF((INDEX(H927:H936,MATCH(\"Ab\",H927:H936,0)))=\"Ab\",\"A\",\"\"),_xlfn.IFNA(IF((INDEX(H927:H936,MATCH(\"A\",H927:H936,0)))=\"A\",\"A\",\"\"),_xlfn.IFNA(IF((INDEX(H927:H936,MATCH(\"n.a.\",H927:H936,0)))=\"n.a.\",\"\",\"\"),_xlfn.IFNA(IF((INDEX(H927:H936,MATCH(\"\",H927:H936,0)))=\"\",\"\",\"\"),\"\"))))))))))))","v":""}]
[null,"\nHighest hazard level for all 'Uptake Routes' \n",null,null,{"$f":"_xlfn.IFNA(IF((INDEX(E937:H937,MATCH(\"E\",E937:H937,0)))=\"E\",\"E\",\"\"),_xlfn.IFNA(IF((INDEX(E937:H937,MATCH(\"D (E)c\",E937:H937,0)))=\"D (E)c\",\"D (E)\",\"\"),_xlfn.IFNA(IF((INDEX(E937:H937,MATCH(\"D\",E937:H937,0)))=\"D\",\"D\",\"\"),_xlfn.IFNA(IF((INDEX(E937:H937,MATCH(\"C\",E937:H937,0)))=\"C\",\"C\",\"\"),_xlfn.IFNA(IF((INDEX(E937:H937,MATCH(\"B\",E937:H937,0)))=\"B\",\"B\",\"\"),_xlfn.IFNA(IF((INDEX(E937:H937,MATCH(\"A\",E937:H937,0)))=\"A\",\"A\",\"\"),_xlfn.IFNA(IF((INDEX(E937:H937,MATCH(\"n.a.\",E937:H937,0)))=\"n.a.\",\"\",\"\"),_xlfn.IFNA(IF((INDEX(E937:H937,MATCH(\"\",E937:H937,0)))=\"\",\"\",\"\"),\"\"))))))))","v":""}]
[]
[]
[null,"\nStep 3: D(E) Assessment\nSkip this step if \nyour assessment above does not reveal a D(E) hazard level.\nHover over this cell for additional instructions.\n",null,null,"\nOverall hazard level\n",null,{"$f":"IF(AND(E938=\"\",C924=\"Yes\")=TRUE,\"B\",IF(E938=\"\",\"\",(IF(AND(E938=\"D (E)\",C941=\"\"),\"D (E)\"&CHAR(10)&\"Find if cat. 1 acute tox.\",(IF(E938<>\"D (E)\",E938,(IF(AND(E938=\"D (E)\",C941=\"Yes\"),\"E\",(IF(AND(E938=\"D (E)\",C941=\"No\"),\"D\",\"\"))))))))))","v":""}]
[]
[{"$f":"IF(IF(MOD(ROWS(B$3:B943),20)=1,INDEX('Summary Sheet'!$A$17:$A1010,INT(ROWS(B$3:B943)/20)+1),\"\")=0,\"\",IF(MOD(ROWS(B$3:B943),20)=1,INDEX('Summary Sheet'!$A$17:$A1010,INT(ROWS(B$3:B943)/20)+1),\"\"))","v":48},"Hazard Level Assessment","for",{"$f":"IF(IF(MOD(ROWS(D$3:D943),20)=1,INDEX('Summary Sheet'!$B$17:$B1010,INT(ROWS(D$3:D943)/20)+1),\"\")=0,\"\",IF(MOD(ROWS(D$3:D943),20)=1,INDEX('Summary Sheet'!$B$17:$B1010,INT(ROWS(D$3:D943)/20)+1),\"\"))","v":""}]
[null,"\nStep 1: Physical & Environmental Hazard Statements/Codes\nFind Section 2 of the SDS and determine if the SDS has physical and/or environmental hazard statements/codes. Hover on this cell for additional instructions.\n",null,{"$f":"IF(IF(MOD(ROWS(D$3:D944),20)=1,INDEX('Summary Sheet'!$B$17:$B1010,INT(ROWS(D$3:D944)/20)+1),\"\")=0,\"\",IF(MOD(ROWS(D$3:D944),20)=1,INDEX('Summary Sheet'!$B$17:$B1010,INT(ROWS(D$3:D944)/20)+1),\"\"))","v":""}]
[null,"Step 2: Health Hazard Statements/Codes\nProvide the Health Hazard Statements or Codes from Section 2 of the SDS below. Hover on this cell for additional instructions.",null,{"$f":"IF(IF(MOD(ROWS(D$3:D945),20)=1,INDEX('Summary Sheet'!$B$17:$B1010,INT(ROWS(D$3:D945)/20)+1),\"\")=0,\"\",IF(MOD(ROWS(D$3:D945),20)=1,INDEX('Summary Sheet'!$B$17:$B1010,INT(ROWS(D$3:D945)/20)+1),\"\"))","v":""},"\nHazard Level\n"]
[null,null,null,{"$f":"IF(IF(MOD(ROWS(D$3:D946),20)=1,INDEX('Summary Sheet'!$B$17:$B1010,INT(ROWS(D$3:D946)/20)+1),\"\")=0,\"\",IF(MOD(ROWS(D$3:D946),20)=1,INDEX('Summary Sheet'!$B$17:$B1010,INT(ROWS(D$3:D946)/20)+1),\"\"))","v":""},"\nEye Damage\n","\nInhalation\n","\nLocal Skin Damage\n","\nSkin uptake, systemic\n"]
[1,null,{"$f":"_xlfn.IFNA(VLOOKUP(B947,_!$A$7:$F$210,6,FALSE),\"\")","v":""},{"$f":"IF(IF(MOD(ROWS(D$3:D947),20)=1,INDEX('Summary Sheet'!$B$17:$B1010,INT(ROWS(D$3:D947)/20)+1),\"\")=0,\"\",IF(MOD(ROWS(D$3:D947),20)=1,INDEX('Summary Sheet'!$B$17:$B1010,INT(ROWS(D$3:D947)/20)+1),\"\"))","v":""},{"$f":"_xlfn.IFNA(IF(VLOOKUP(B947,_!$A$7:$E$210,2,FALSE)=0, \"\", VLOOKUP(B947,_!$A$7:$E$210,2,FALSE)),  \"\")","v":""},{"$f":"_xlfn.IFNA(IF(VLOOKUP(B947,_!$A$7:$E$210,3,FALSE)=0, \"\", VLOOKUP(B947,_!$A$7:$E$210,3,FALSE)), \"\")","v":""},{"$f":"_xlfn.IFNA(IF(VLOOKUP(B947,_!$A$7:$E$210,4,FALSE)=0, \"\",VLOOKUP(B947,_!$A$7:$E$210,4,FALSE)), \"\")","v":""},{"$f":"_xlfn.IFNA(IF(VLOOKUP(B947,_!$A$7:$E$210,5,FALSE)=0,\"\",VLOOKUP(B947,_!$A$7:$E$210,5,FALSE)), \"\")","v":""}]
[2,null,{"$f":"_xlfn.IFNA(VLOOKUP(B948,_!$A$7:$F$210,6,FALSE),\"\")","v":""},{"$f":"IF(IF(MOD(ROWS(D$3:D948),20)=1,INDEX('Summary Sheet'!$B$17:$B1010,INT(ROWS(D$3:D948)/20)+1),\"\")=0,\"\",IF(MOD(ROWS(D$3:D948),20)=1,INDEX('Summary Sheet'!$B$17:$B1010,INT(ROWS(D$3:D948)/20)+1),\"\"))","v":""},{"$f":"_xlfn.IFNA(IF(VLOOKUP(B948,_!$A$7:$E$210,2,FALSE)=0, \"\", VLOOKUP(B948,_!$A$7:$E$210,2,FALSE)),  \"\")","v":""},{"$f":"_xlfn.IFNA(IF(VLOOKUP(B948,_!$A$7:$E$210,3,FALSE)=0, \"\", VLOOKUP(B948,_!$A$7:$E$210,3,FALSE)), \"\")","v":""},{"$f":"_xlfn.IFNA(IF(VLOOKUP(B948,_!$A$7:$E$210,4,FALSE)=0, \"\",VLOOKUP(B948,_!$A$7:$E$210,4,FALSE)), \"\")","v":""},{"$f":"_xlfn.IFNA(IF(VLOOKUP(B948,_!$A$7:$E$210,5,FALSE)=0,\"\",VLOOKUP(B948,_!$A$7:$E$210,5,FALSE)), \"\")","v":""}]
[3,null,{"$f":"_xlfn.IFNA(VLOOKUP(B949,_!$A$7:$F$210,6,FALSE),\"\")","v":""},{"$f":"IF(IF(MOD(ROWS(D$3:D949),20)=1,INDEX('Summary Sheet'!$B$17:$B1010,INT(ROWS(D$3:D949)/20)+1),\"\")=0,\"\",IF(MOD(ROWS(D$3:D949),20)=1,INDEX('Summary Sheet'!$B$17:$B1010,INT(ROWS(D$3:D949)/20)+1),\"\"))","v":""},{"$f":"_xlfn.IFNA(IF(VLOOKUP(B949,_!$A$7:$E$210,2,FALSE)=0, \"\", VLOOKUP(B949,_!$A$7:$E$210,2,FALSE)),  \"\")","v":""},{"$f":"_xlfn.IFNA(IF(VLOOKUP(B949,_!$A$7:$E$210,3,FALSE)=0, \"\", VLOOKUP(B949,_!$A$7:$E$210,3,FALSE)), \"\")","v":""},{"$f":"_xlfn.IFNA(IF(VLOOKUP(B949,_!$A$7:$E$210,4,FALSE)=0, \"\",VLOOKUP(B949,_!$A$7:$E$210,4,FALSE)), \"\")","v":""},{"$f":"_xlfn.IFNA(IF(VLOOKUP(B949,_!$A$7:$E$210,5,FALSE)=0,\"\",VLOOKUP(B949,_!$A$7:$E$210,5,FALSE)), \"\")","v":""}]
[4,null,{"$f":"_xlfn.IFNA(VLOOKUP(B950,_!$A$7:$F$210,6,FALSE),\"\")","v":""},{"$f":"IF(IF(MOD(ROWS(D$3:D950),20)=1,INDEX('Summary Sheet'!$B$17:$B1010,INT(ROWS(D$3:D950)/20)+1),\"\")=0,\"\",IF(MOD(ROWS(D$3:D950),20)=1,INDEX('Summary Sheet'!$B$17:$B1010,INT(ROWS(D$3:D950)/20)+1),\"\"))","v":""},{"$f":"_xlfn.IFNA(IF(VLOOKUP(B950,_!$A$7:$E$210,2,FALSE)=0, \"\", VLOOKUP(B950,_!$A$7:$E$210,2,FALSE)),  \"\")","v":""},{"$f":"_xlfn.IFNA(IF(VLOOKUP(B950,_!$A$7:$E$210,3,FALSE)=0, \"\", VLOOKUP(B950,_!$A$7:$E$210,3,FALSE)), \"\")","v":""},{"$f":"_xlfn.IFNA(IF(VLOOKUP(B950,_!$A$7:$E$210,4,FALSE)=0, \"\",VLOOKUP(B950,_!$A$7:$E$210,4,FALSE)), \"\")","v":""},{"$f":"_xlfn.IFNA(IF(VLOOKUP(B950,_!$A$7:$E$210,5,FALSE)=0,\"\",VLOOKUP(B950,_!$A$7:$E$210,5,FALSE)), \"\")","v":""}]
[5,null,{"$f":"_xlfn.IFNA(VLOOKUP(B951,_!$A$7:$F$210,6,FALSE),\"\")","v":""},{"$f":"IF(IF(MOD(ROWS(D$3:D951),20)=1,INDEX('Summary Sheet'!$B$17:$B1010,INT(ROWS(D$3:D951)/20)+1),\"\")=0,\"\",IF(MOD(ROWS(D$3:D951),20)=1,INDEX('Summary Sheet'!$B$17:$B1010,INT(ROWS(D$3:D951)/20)+1),\"\"))","v":""},{"$f":"_xlfn.IFNA(IF(VLOOKUP(B951,_!$A$7:$E$210,2,FALSE)=0, \"\", VLOOKUP(B951,_!$A$7:$E$210,2,FALSE)),  \"\")","v":""},{"$f":"_xlfn.IFNA(IF(VLOOKUP(B951,_!$A$7:$E$210,3,FALSE)=0, \"\", VLOOKUP(B951,_!$A$7:$E$210,3,FALSE)), \"\")","v":""},{"$f":"_xlfn.IFNA(IF(VLOOKUP(B951,_!$A$7:$E$210,4,FALSE)=0, \"\",VLOOKUP(B951,_!$A$7:$E$210,4,FALSE)), \"\")","v":""},{"$f":"_xlfn.IFNA(IF(VLOOKUP(B951,_!$A$7:$E$210,5,FALSE)=0,\"\",VLOOKUP(B951,_!$A$7:$E$210,5,FALSE)), \"\")","v":""}]
[6,null,{"$f":"_xlfn.IFNA(VLOOKUP(B952,_!$A$7:$F$210,6,FALSE),\"\")","v":""},{"$f":"IF(IF(MOD(ROWS(D$3:D952),20)=1,INDEX('Summary Sheet'!$B$17:$B1010,INT(ROWS(D$3:D952)/20)+1),\"\")=0,\"\",IF(MOD(ROWS(D$3:D952),20)=1,INDEX('Summary Sheet'!$B$17:$B1010,INT(ROWS(D$3:D952)/20)+1),\"\"))","v":""},{"$f":"_xlfn.IFNA(IF(VLOOKUP(B952,_!$A$7:$E$210,2,FALSE)=0, \"\", VLOOKUP(B952,_!$A$7:$E$210,2,FALSE)),  \"\")","v":""},{"$f":"_xlfn.IFNA(IF(VLOOKUP(B952,_!$A$7:$E$210,3,FALSE)=0, \"\", VLOOKUP(B952,_!$A$7:$E$210,3,FALSE)), \"\")","v":""},{"$f":"_xlfn.IFNA(IF(VLOOKUP(B952,_!$A$7:$E$210,4,FALSE)=0, \"\",VLOOKUP(B952,_!$A$7:$E$210,4,FALSE)), \"\")","v":""},{"$f":"_xlfn.IFNA(IF(VLOOKUP(B952,_!$A$7:$E$210,5,FALSE)=0,\"\",VLOOKUP(B952,_!$A$7:$E$210,5,FALSE)), \"\")","v":""}]
[7,null,{"$f":"_xlfn.IFNA(VLOOKUP(B953,_!$A$7:$F$210,6,FALSE),\"\")","v":""},{"$f":"IF(IF(MOD(ROWS(D$3:D953),20)=1,INDEX('Summary Sheet'!$B$17:$B1010,INT(ROWS(D$3:D953)/20)+1),\"\")=0,\"\",IF(MOD(ROWS(D$3:D953),20)=1,INDEX('Summary Sheet'!$B$17:$B1010,INT(ROWS(D$3:D953)/20)+1),\"\"))","v":""},{"$f":"_xlfn.IFNA(IF(VLOOKUP(B953,_!$A$7:$E$210,2,FALSE)=0, \"\", VLOOKUP(B953,_!$A$7:$E$210,2,FALSE)),  \"\")","v":""},{"$f":"_xlfn.IFNA(IF(VLOOKUP(B953,_!$A$7:$E$210,3,FALSE)=0, \"\", VLOOKUP(B953,_!$A$7:$E$210,3,FALSE)), \"\")","v":""},{"$f":"_xlfn.IFNA(IF(VLOOKUP(B953,_!$A$7:$E$210,4,FALSE)=0, \"\",VLOOKUP(B953,_!$A$7:$E$210,4,FALSE)), \"\")","v":""},{"$f":"_xlfn.IFNA(IF(VLOOKUP(B953,_!$A$7:$E$210,5,FALSE)=0,\"\",VLOOKUP(B953,_!$A$7:$E$210,5,FALSE)), \"\")","v":""}]
[8,null,{"$f":"_xlfn.IFNA(VLOOKUP(B954,_!$A$7:$F$210,6,FALSE),\"\")","v":""},{"$f":"IF(IF(MOD(ROWS(D$3:D954),20)=1,INDEX('Summary Sheet'!$B$17:$B1010,INT(ROWS(D$3:D954)/20)+1),\"\")=0,\"\",IF(MOD(ROWS(D$3:D954),20)=1,INDEX('Summary Sheet'!$B$17:$B1010,INT(ROWS(D$3:D954)/20)+1),\"\"))","v":""},{"$f":"_xlfn.IFNA(IF(VLOOKUP(B954,_!$A$7:$E$210,2,FALSE)=0, \"\", VLOOKUP(B954,_!$A$7:$E$210,2,FALSE)),  \"\")","v":""},{"$f":"_xlfn.IFNA(IF(VLOOKUP(B954,_!$A$7:$E$210,3,FALSE)=0, \"\", VLOOKUP(B954,_!$A$7:$E$210,3,FALSE)), \"\")","v":""},{"$f":"_xlfn.IFNA(IF(VLOOKUP(B954,_!$A$7:$E$210,4,FALSE)=0, \"\",VLOOKUP(B954,_!$A$7:$E$210,4,FALSE)), \"\")","v":""},{"$f":"_xlfn.IFNA(IF(VLOOKUP(B954,_!$A$7:$E$210,5,FALSE)=0,\"\",VLOOKUP(B954,_!$A$7:$E$210,5,FALSE)), \"\")","v":""}]
[9,null,{"$f":"_xlfn.IFNA(VLOOKUP(B955,_!$A$7:$F$210,6,FALSE),\"\")","v":""},{"$f":"IF(IF(MOD(ROWS(D$3:D955),20)=1,INDEX('Summary Sheet'!$B$17:$B1010,INT(ROWS(D$3:D955)/20)+1),\"\")=0,\"\",IF(MOD(ROWS(D$3:D955),20)=1,INDEX('Summary Sheet'!$B$17:$B1010,INT(ROWS(D$3:D955)/20)+1),\"\"))","v":""},{"$f":"_xlfn.IFNA(IF(VLOOKUP(B955,_!$A$7:$E$210,2,FALSE)=0, \"\", VLOOKUP(B955,_!$A$7:$E$210,2,FALSE)),  \"\")","v":""},{"$f":"_xlfn.IFNA(IF(VLOOKUP(B955,_!$A$7:$E$210,3,FALSE)=0, \"\", VLOOKUP(B955,_!$A$7:$E$210,3,FALSE)), \"\")","v":""},{"$f":"_xlfn.IFNA(IF(VLOOKUP(B955,_!$A$7:$E$210,4,FALSE)=0, \"\",VLOOKUP(B955,_!$A$7:$E$210,4,FALSE)), \"\")","v":""},{"$f":"_xlfn.IFNA(IF(VLOOKUP(B955,_!$A$7:$E$210,5,FALSE)=0,\"\",VLOOKUP(B955,_!$A$7:$E$210,5,FALSE)), \"\")","v":""}]
[10,null,{"$f":"_xlfn.IFNA(VLOOKUP(B956,_!$A$7:$F$210,6,FALSE),\"\")","v":""},{"$f":"IF(IF(MOD(ROWS(D$14:D956),20)=1,INDEX('Summary Sheet'!$B$17:$B1010,INT(ROWS(D$14:D956)/20)+1),\"\")=0,\"\",IF(MOD(ROWS(D$14:D956),20)=1,INDEX('Summary Sheet'!$B$17:$B1010,INT(ROWS(D$14:D956)/20)+1),\"\"))","v":""},{"$f":"_xlfn.IFNA(IF(VLOOKUP(B956,_!$A$7:$E$210,2,FALSE)=0, \"\", VLOOKUP(B956,_!$A$7:$E$210,2,FALSE)),  \"\")","v":""},{"$f":"_xlfn.IFNA(IF(VLOOKUP(B956,_!$A$7:$E$210,3,FALSE)=0, \"\", VLOOKUP(B956,_!$A$7:$E$210,3,FALSE)), \"\")","v":""},{"$f":"_xlfn.IFNA(IF(VLOOKUP(B956,_!$A$7:$E$210,4,FALSE)=0, \"\",VLOOKUP(B956,_!$A$7:$E$210,4,FALSE)), \"\")","v":""},{"$f":"_xlfn.IFNA(IF(VLOOKUP(B956,_!$A$7:$E$210,5,FALSE)=0,\"\",VLOOKUP(B956,_!$A$7:$E$210,5,FALSE)), \"\")","v":""}]
[null,"\nHighest hazard level for each ‘Uptake Route’\n",null,null,{"$f":"_xlfn.IFNA(IF((INDEX(E947:E956,MATCH(\"E\",E947:E956,0)))=\"E\",\"E\",\"\"),_xlfn.IFNA(IF((INDEX(E947:E956,MATCH(\"D\",E947:E956,0)))=\"D\",\"D\",\"\"),_xlfn.IFNA(IF((INDEX(E947:E956,MATCH(\"Ca\",E947:E956,0)))=\"Ca\",\"C\",\"\"),_xlfn.IFNA(IF((INDEX(E947:E956,MATCH(\"C\",E947:E956,0)))=\"C\",\"C\",\"\"),_xlfn.IFNA(IF((INDEX(E947:E956,MATCH(\"B\",E947:E956,0)))=\"B\",\"B\",\"\"),_xlfn.IFNA(IF((INDEX(E947:E956,MATCH(\"A\",E947:E956,0)))=\"A\",\"A\",\"\"),_xlfn.IFNA(IF((INDEX(E947:E956,MATCH(\"n.a.\",E947:E956,0)))=\"n.a.\",\"\",\"\"),_xlfn.IFNA(IF((INDEX(E947:E956,MATCH(\"\",E947:E956,0)))=\"\",\"\",\"\"),\"\"))))))))","v":""},{"$f":"_xlfn.IFNA(IF((INDEX(F947:F956,MATCH(\"E\",F947:F956,0)))=\"E\",\"E\",\"\"),_xlfn.IFNA(IF((INDEX(F947:F956,MATCH(\"D (E)c\",F947:F956,0)))=\"D (E)c\",\"D (E)c\",\"\"),_xlfn.IFNA(IF((INDEX(F947:F956,MATCH(\"Da (E)c\",F947:F956,0)))=\"Da (E)c\",\"D (E)c\",\"\"),_xlfn.IFNA(IF((INDEX(F947:F956,MATCH(\"D\",F947:F956,0)))=\"D\",\"D\",\"\"),_xlfn.IFNA(IF((INDEX(F947:F956,MATCH(\"Ca\",F947:F956,0)))=\"Ca\",\"C\",\"\"),_xlfn.IFNA(IF((INDEX(F947:F956,MATCH(\"C\",F947:F956,0)))=\"C\",\"C\",\"\"),_xlfn.IFNA(IF((INDEX(F947:F956,MATCH(\"Ba\",F947:F956,0)))=\"Ba\",\"B\",\"\"),_xlfn.IFNA(IF((INDEX(F947:F956,MATCH(\"B\",F947:F956,0)))=\"B\",\"B\",\"\"),_xlfn.IFNA(IF((INDEX(F947:F956,MATCH(\"Aa\",F947:F956,0)))=\"Aa\",\"A\",\"\"),_xlfn.IFNA(IF((INDEX(F947:F956,MATCH(\"A\",F947:F956,0)))=\"A\",\"A\",\"\"),_xlfn.IFNA(IF((INDEX(F947:F956,MATCH(\"n.a.\",F947:F956,0)))=\"n.a.\",\"\",\"\"),_xlfn.IFNA(IF((INDEX(F947:F956,MATCH(\"\",F947:F956,0)))=\"\",\"\",\"\"),\"\"))))))))))))","v":""},{"$f":"_xlfn.IFNA(IF((INDEX(G947:G956,MATCH(\"E\",G947:G956,0)))=\"E\",\"E\",\"\"),_xlfn.IFNA(IF((INDEX(G947:G956,MATCH(\"D\",G947:G956,0)))=\"D\",\"D\",\"\"),_xlfn.IFNA(IF((INDEX(G947:G956,MATCH(\"Ca\",G947:G956,0)))=\"Ca\",\"C\",\"\"),_xlfn.IFNA(IF((INDEX(G947:G956,MATCH(\"C\",G947:G956,0)))=\"C\",\"C\",\"\"),_xlfn.IFNA(IF((INDEX(G947:G956,MATCH(\"B\",G947:G956,0)))=\"B\",\"B\",\"\"),_xlfn.IFNA(IF((INDEX(G947:G956,MATCH(\"A\",G947:G956,0)))=\"A\",\"A\",\"\"),_xlfn.IFNA(IF((INDEX(G947:G956,MATCH(\"n.a.\",G947:G956,0)))=\"n.a.\",\"\",\"\"),_xlfn.IFNA(IF((INDEX(G947:G956,MATCH(\"\",G947:G956,0)))=\"\",\"\",\"\"),\"\"))))))))","v":""},{"$f":"_xlfn.IFNA(IF((INDEX(H947:H956,MATCH(\"E\",H947:H956,0)))=\"E\",\"E\",\"\"),_xlfn.IFNA(IF((INDEX(H947:H956,MATCH(\"D (E)c\",H947:H956,0)))=\"D (E)c\",\"D (E)c\",\"\"),_xlfn.IFNA(IF((INDEX(H947:H956,MATCH(\"Db (E)c\",H947:H956,0)))=\"Db (E)c\",\"D (E)c\",\"\"),_xlfn.IFNA(IF((INDEX(H947:H956,MATCH(\"D\",H947:H956,0)))=\"D\",\"D\",\"\"),_xlfn.IFNA(IF((INDEX(H947:H956,MATCH(\"Cb\",H947:H956,0)))=\"Cb\",\"C\",\"\"),_xlfn.IFNA(IF((INDEX(H947:H956,MATCH(\"C\",H947:H956,0)))=\"C\",\"C\",\"\"),_xlfn.IFNA(IF((INDEX(H947:H956,MATCH(\"Bb\",H947:H956,0)))=\"Bb\",\"B\",\"\"),_xlfn.IFNA(IF((INDEX(H947:H956,MATCH(\"B\",H947:H956,0)))=\"B\",\"B\",\"\"),_xlfn.IFNA(IF((INDEX(H947:H956,MATCH(\"Ab\",H947:H956,0)))=\"Ab\",\"A\",\"\"),_xlfn.IFNA(IF((INDEX(H947:H956,MATCH(\"A\",H947:H956,0)))=\"A\",\"A\",\"\"),_xlfn.IFNA(IF((INDEX(H947:H956,MATCH(\"n.a.\",H947:H956,0)))=\"n.a.\",\"\",\"\"),_xlfn.IFNA(IF((INDEX(H947:H956,MATCH(\"\",H947:H956,0)))=\"\",\"\",\"\"),\"\"))))))))))))","v":""}]
[null,"\nHighest hazard level for all 'Uptake Routes' \n",null,null,{"$f":"_xlfn.IFNA(IF((INDEX(E957:H957,MATCH(\"E\",E957:H957,0)))=\"E\",\"E\",\"\"),_xlfn.IFNA(IF((INDEX(E957:H957,MATCH(\"D (E)c\",E957:H957,0)))=\"D (E)c\",\"D (E)\",\"\"),_xlfn.IFNA(IF((INDEX(E957:H957,MATCH(\"D\",E957:H957,0)))=\"D\",\"D\",\"\"),_xlfn.IFNA(IF((INDEX(E957:H957,MATCH(\"C\",E957:H957,0)))=\"C\",\"C\",\"\"),_xlfn.IFNA(IF((INDEX(E957:H957,MATCH(\"B\",E957:H957,0)))=\"B\",\"B\",\"\"),_xlfn.IFNA(IF((INDEX(E957:H957,MATCH(\"A\",E957:H957,0)))=\"A\",\"A\",\"\"),_xlfn.IFNA(IF((INDEX(E957:H957,MATCH(\"n.a.\",E957:H957,0)))=\"n.a.\",\"\",\"\"),_xlfn.IFNA(IF((INDEX(E957:H957,MATCH(\"\",E957:H957,0)))=\"\",\"\",\"\"),\"\"))))))))","v":""}]
[]
[]
[null,"\nStep 3: D(E) Assessment\nSkip this step if \nyour assessment above does not reveal a D(E) hazard level.\nHover over this cell for additional instructions.\n",null,null,"\nOverall hazard level\n",null,{"$f":"IF(AND(E958=\"\",C944=\"Yes\")=TRUE,\"B\",IF(E958=\"\",\"\",(IF(AND(E958=\"D (E)\",C961=\"\"),\"D (E)\"&CHAR(10)&\"Find if cat. 1 acute tox.\",(IF(E958<>\"D (E)\",E958,(IF(AND(E958=\"D (E)\",C961=\"Yes\"),\"E\",(IF(AND(E958=\"D (E)\",C961=\"No\"),\"D\",\"\"))))))))))","v":""}]
[]
[{"$f":"IF(IF(MOD(ROWS(B$3:B963),20)=1,INDEX('Summary Sheet'!$A$17:$A1029,INT(ROWS(B$3:B963)/20)+1),\"\")=0,\"\",IF(MOD(ROWS(B$3:B963),20)=1,INDEX('Summary Sheet'!$A$17:$A1029,INT(ROWS(B$3:B963)/20)+1),\"\"))","v":49},"Hazard Level Assessment","for",{"$f":"IF(IF(MOD(ROWS(D$3:D963),20)=1,INDEX('Summary Sheet'!$B$17:$B1029,INT(ROWS(D$3:D963)/20)+1),\"\")=0,\"\",IF(MOD(ROWS(D$3:D963),20)=1,INDEX('Summary Sheet'!$B$17:$B1029,INT(ROWS(D$3:D963)/20)+1),\"\"))","v":""}]
[null,"\nStep 1: Physical & Environmental Hazard Statements/Codes\nFind Section 2 of the SDS and determine if the SDS has physical and/or environmental hazard statements/codes. Hover on this cell for additional instructions.\n",null,{"$f":"IF(IF(MOD(ROWS(D$3:D964),20)=1,INDEX('Summary Sheet'!$B$17:$B1029,INT(ROWS(D$3:D964)/20)+1),\"\")=0,\"\",IF(MOD(ROWS(D$3:D964),20)=1,INDEX('Summary Sheet'!$B$17:$B1029,INT(ROWS(D$3:D964)/20)+1),\"\"))","v":""}]
[null,"Step 2: Health Hazard Statements/Codes\nProvide the Health Hazard Statements or Codes from Section 2 of the SDS below. Hover on this cell for additional instructions.",null,{"$f":"IF(IF(MOD(ROWS(D$3:D965),20)=1,INDEX('Summary Sheet'!$B$17:$B1029,INT(ROWS(D$3:D965)/20)+1),\"\")=0,\"\",IF(MOD(ROWS(D$3:D965),20)=1,INDEX('Summary Sheet'!$B$17:$B1029,INT(ROWS(D$3:D965)/20)+1),\"\"))","v":""},"\nHazard Level\n"]
[null,null,null,{"$f":"IF(IF(MOD(ROWS(D$3:D966),20)=1,INDEX('Summary Sheet'!$B$17:$B1029,INT(ROWS(D$3:D966)/20)+1),\"\")=0,\"\",IF(MOD(ROWS(D$3:D966),20)=1,INDEX('Summary Sheet'!$B$17:$B1029,INT(ROWS(D$3:D966)/20)+1),\"\"))","v":""},"\nEye Damage\n","\nInhalation\n","\nLocal Skin Damage\n","\nSkin uptake, systemic\n"]
[1,null,{"$f":"_xlfn.IFNA(VLOOKUP(B967,_!$A$7:$F$210,6,FALSE),\"\")","v":""},{"$f":"IF(IF(MOD(ROWS(D$3:D967),20)=1,INDEX('Summary Sheet'!$B$17:$B1029,INT(ROWS(D$3:D967)/20)+1),\"\")=0,\"\",IF(MOD(ROWS(D$3:D967),20)=1,INDEX('Summary Sheet'!$B$17:$B1029,INT(ROWS(D$3:D967)/20)+1),\"\"))","v":""},{"$f":"_xlfn.IFNA(IF(VLOOKUP(B967,_!$A$7:$E$210,2,FALSE)=0, \"\", VLOOKUP(B967,_!$A$7:$E$210,2,FALSE)),  \"\")","v":""},{"$f":"_xlfn.IFNA(IF(VLOOKUP(B967,_!$A$7:$E$210,3,FALSE)=0, \"\", VLOOKUP(B967,_!$A$7:$E$210,3,FALSE)), \"\")","v":""},{"$f":"_xlfn.IFNA(IF(VLOOKUP(B967,_!$A$7:$E$210,4,FALSE)=0, \"\",VLOOKUP(B967,_!$A$7:$E$210,4,FALSE)), \"\")","v":""},{"$f":"_xlfn.IFNA(IF(VLOOKUP(B967,_!$A$7:$E$210,5,FALSE)=0,\"\",VLOOKUP(B967,_!$A$7:$E$210,5,FALSE)), \"\")","v":""}]
[2,null,{"$f":"_xlfn.IFNA(VLOOKUP(B968,_!$A$7:$F$210,6,FALSE),\"\")","v":""},{"$f":"IF(IF(MOD(ROWS(D$3:D968),20)=1,INDEX('Summary Sheet'!$B$17:$B1029,INT(ROWS(D$3:D968)/20)+1),\"\")=0,\"\",IF(MOD(ROWS(D$3:D968),20)=1,INDEX('Summary Sheet'!$B$17:$B1029,INT(ROWS(D$3:D968)/20)+1),\"\"))","v":""},{"$f":"_xlfn.IFNA(IF(VLOOKUP(B968,_!$A$7:$E$210,2,FALSE)=0, \"\", VLOOKUP(B968,_!$A$7:$E$210,2,FALSE)),  \"\")","v":""},{"$f":"_xlfn.IFNA(IF(VLOOKUP(B968,_!$A$7:$E$210,3,FALSE)=0, \"\", VLOOKUP(B968,_!$A$7:$E$210,3,FALSE)), \"\")","v":""},{"$f":"_xlfn.IFNA(IF(VLOOKUP(B968,_!$A$7:$E$210,4,FALSE)=0, \"\",VLOOKUP(B968,_!$A$7:$E$210,4,FALSE)), \"\")","v":""},{"$f":"_xlfn.IFNA(IF(VLOOKUP(B968,_!$A$7:$E$210,5,FALSE)=0,\"\",VLOOKUP(B968,_!$A$7:$E$210,5,FALSE)), \"\")","v":""}]
[3,null,{"$f":"_xlfn.IFNA(VLOOKUP(B969,_!$A$7:$F$210,6,FALSE),\"\")","v":""},{"$f":"IF(IF(MOD(ROWS(D$3:D969),20)=1,INDEX('Summary Sheet'!$B$17:$B1029,INT(ROWS(D$3:D969)/20)+1),\"\")=0,\"\",IF(MOD(ROWS(D$3:D969),20)=1,INDEX('Summary Sheet'!$B$17:$B1029,INT(ROWS(D$3:D969)/20)+1),\"\"))","v":""},{"$f":"_xlfn.IFNA(IF(VLOOKUP(B969,_!$A$7:$E$210,2,FALSE)=0, \"\", VLOOKUP(B969,_!$A$7:$E$210,2,FALSE)),  \"\")","v":""},{"$f":"_xlfn.IFNA(IF(VLOOKUP(B969,_!$A$7:$E$210,3,FALSE)=0, \"\", VLOOKUP(B969,_!$A$7:$E$210,3,FALSE)), \"\")","v":""},{"$f":"_xlfn.IFNA(IF(VLOOKUP(B969,_!$A$7:$E$210,4,FALSE)=0, \"\",VLOOKUP(B969,_!$A$7:$E$210,4,FALSE)), \"\")","v":""},{"$f":"_xlfn.IFNA(IF(VLOOKUP(B969,_!$A$7:$E$210,5,FALSE)=0,\"\",VLOOKUP(B969,_!$A$7:$E$210,5,FALSE)), \"\")","v":""}]
[4,null,{"$f":"_xlfn.IFNA(VLOOKUP(B970,_!$A$7:$F$210,6,FALSE),\"\")","v":""},{"$f":"IF(IF(MOD(ROWS(D$3:D970),20)=1,INDEX('Summary Sheet'!$B$17:$B1029,INT(ROWS(D$3:D970)/20)+1),\"\")=0,\"\",IF(MOD(ROWS(D$3:D970),20)=1,INDEX('Summary Sheet'!$B$17:$B1029,INT(ROWS(D$3:D970)/20)+1),\"\"))","v":""},{"$f":"_xlfn.IFNA(IF(VLOOKUP(B970,_!$A$7:$E$210,2,FALSE)=0, \"\", VLOOKUP(B970,_!$A$7:$E$210,2,FALSE)),  \"\")","v":""},{"$f":"_xlfn.IFNA(IF(VLOOKUP(B970,_!$A$7:$E$210,3,FALSE)=0, \"\", VLOOKUP(B970,_!$A$7:$E$210,3,FALSE)), \"\")","v":""},{"$f":"_xlfn.IFNA(IF(VLOOKUP(B970,_!$A$7:$E$210,4,FALSE)=0, \"\",VLOOKUP(B970,_!$A$7:$E$210,4,FALSE)), \"\")","v":""},{"$f":"_xlfn.IFNA(IF(VLOOKUP(B970,_!$A$7:$E$210,5,FALSE)=0,\"\",VLOOKUP(B970,_!$A$7:$E$210,5,FALSE)), \"\")","v":""}]
[5,null,{"$f":"_xlfn.IFNA(VLOOKUP(B971,_!$A$7:$F$210,6,FALSE),\"\")","v":""},{"$f":"IF(IF(MOD(ROWS(D$3:D971),20)=1,INDEX('Summary Sheet'!$B$17:$B1029,INT(ROWS(D$3:D971)/20)+1),\"\")=0,\"\",IF(MOD(ROWS(D$3:D971),20)=1,INDEX('Summary Sheet'!$B$17:$B1029,INT(ROWS(D$3:D971)/20)+1),\"\"))","v":""},{"$f":"_xlfn.IFNA(IF(VLOOKUP(B971,_!$A$7:$E$210,2,FALSE)=0, \"\", VLOOKUP(B971,_!$A$7:$E$210,2,FALSE)),  \"\")","v":""},{"$f":"_xlfn.IFNA(IF(VLOOKUP(B971,_!$A$7:$E$210,3,FALSE)=0, \"\", VLOOKUP(B971,_!$A$7:$E$210,3,FALSE)), \"\")","v":""},{"$f":"_xlfn.IFNA(IF(VLOOKUP(B971,_!$A$7:$E$210,4,FALSE)=0, \"\",VLOOKUP(B971,_!$A$7:$E$210,4,FALSE)), \"\")","v":""},{"$f":"_xlfn.IFNA(IF(VLOOKUP(B971,_!$A$7:$E$210,5,FALSE)=0,\"\",VLOOKUP(B971,_!$A$7:$E$210,5,FALSE)), \"\")","v":""}]
[6,null,{"$f":"_xlfn.IFNA(VLOOKUP(B972,_!$A$7:$F$210,6,FALSE),\"\")","v":""},{"$f":"IF(IF(MOD(ROWS(D$3:D972),20)=1,INDEX('Summary Sheet'!$B$17:$B1029,INT(ROWS(D$3:D972)/20)+1),\"\")=0,\"\",IF(MOD(ROWS(D$3:D972),20)=1,INDEX('Summary Sheet'!$B$17:$B1029,INT(ROWS(D$3:D972)/20)+1),\"\"))","v":""},{"$f":"_xlfn.IFNA(IF(VLOOKUP(B972,_!$A$7:$E$210,2,FALSE)=0, \"\", VLOOKUP(B972,_!$A$7:$E$210,2,FALSE)),  \"\")","v":""},{"$f":"_xlfn.IFNA(IF(VLOOKUP(B972,_!$A$7:$E$210,3,FALSE)=0, \"\", VLOOKUP(B972,_!$A$7:$E$210,3,FALSE)), \"\")","v":""},{"$f":"_xlfn.IFNA(IF(VLOOKUP(B972,_!$A$7:$E$210,4,FALSE)=0, \"\",VLOOKUP(B972,_!$A$7:$E$210,4,FALSE)), \"\")","v":""},{"$f":"_xlfn.IFNA(IF(VLOOKUP(B972,_!$A$7:$E$210,5,FALSE)=0,\"\",VLOOKUP(B972,_!$A$7:$E$210,5,FALSE)), \"\")","v":""}]
[7,null,{"$f":"_xlfn.IFNA(VLOOKUP(B973,_!$A$7:$F$210,6,FALSE),\"\")","v":""},{"$f":"IF(IF(MOD(ROWS(D$3:D973),20)=1,INDEX('Summary Sheet'!$B$17:$B1029,INT(ROWS(D$3:D973)/20)+1),\"\")=0,\"\",IF(MOD(ROWS(D$3:D973),20)=1,INDEX('Summary Sheet'!$B$17:$B1029,INT(ROWS(D$3:D973)/20)+1),\"\"))","v":""},{"$f":"_xlfn.IFNA(IF(VLOOKUP(B973,_!$A$7:$E$210,2,FALSE)=0, \"\", VLOOKUP(B973,_!$A$7:$E$210,2,FALSE)),  \"\")","v":""},{"$f":"_xlfn.IFNA(IF(VLOOKUP(B973,_!$A$7:$E$210,3,FALSE)=0, \"\", VLOOKUP(B973,_!$A$7:$E$210,3,FALSE)), \"\")","v":""},{"$f":"_xlfn.IFNA(IF(VLOOKUP(B973,_!$A$7:$E$210,4,FALSE)=0, \"\",VLOOKUP(B973,_!$A$7:$E$210,4,FALSE)), \"\")","v":""},{"$f":"_xlfn.IFNA(IF(VLOOKUP(B973,_!$A$7:$E$210,5,FALSE)=0,\"\",VLOOKUP(B973,_!$A$7:$E$210,5,FALSE)), \"\")","v":""}]
[8,null,{"$f":"_xlfn.IFNA(VLOOKUP(B974,_!$A$7:$F$210,6,FALSE),\"\")","v":""},{"$f":"IF(IF(MOD(ROWS(D$3:D974),20)=1,INDEX('Summary Sheet'!$B$17:$B1029,INT(ROWS(D$3:D974)/20)+1),\"\")=0,\"\",IF(MOD(ROWS(D$3:D974),20)=1,INDEX('Summary Sheet'!$B$17:$B1029,INT(ROWS(D$3:D974)/20)+1),\"\"))","v":""},{"$f":"_xlfn.IFNA(IF(VLOOKUP(B974,_!$A$7:$E$210,2,FALSE)=0, \"\", VLOOKUP(B974,_!$A$7:$E$210,2,FALSE)),  \"\")","v":""},{"$f":"_xlfn.IFNA(IF(VLOOKUP(B974,_!$A$7:$E$210,3,FALSE)=0, \"\", VLOOKUP(B974,_!$A$7:$E$210,3,FALSE)), \"\")","v":""},{"$f":"_xlfn.IFNA(IF(VLOOKUP(B974,_!$A$7:$E$210,4,FALSE)=0, \"\",VLOOKUP(B974,_!$A$7:$E$210,4,FALSE)), \"\")","v":""},{"$f":"_xlfn.IFNA(IF(VLOOKUP(B974,_!$A$7:$E$210,5,FALSE)=0,\"\",VLOOKUP(B974,_!$A$7:$E$210,5,FALSE)), \"\")","v":""}]
[9,null,{"$f":"_xlfn.IFNA(VLOOKUP(B975,_!$A$7:$F$210,6,FALSE),\"\")","v":""},{"$f":"IF(IF(MOD(ROWS(D$3:D975),20)=1,INDEX('Summary Sheet'!$B$17:$B1029,INT(ROWS(D$3:D975)/20)+1),\"\")=0,\"\",IF(MOD(ROWS(D$3:D975),20)=1,INDEX('Summary Sheet'!$B$17:$B1029,INT(ROWS(D$3:D975)/20)+1),\"\"))","v":""},{"$f":"_xlfn.IFNA(IF(VLOOKUP(B975,_!$A$7:$E$210,2,FALSE)=0, \"\", VLOOKUP(B975,_!$A$7:$E$210,2,FALSE)),  \"\")","v":""},{"$f":"_xlfn.IFNA(IF(VLOOKUP(B975,_!$A$7:$E$210,3,FALSE)=0, \"\", VLOOKUP(B975,_!$A$7:$E$210,3,FALSE)), \"\")","v":""},{"$f":"_xlfn.IFNA(IF(VLOOKUP(B975,_!$A$7:$E$210,4,FALSE)=0, \"\",VLOOKUP(B975,_!$A$7:$E$210,4,FALSE)), \"\")","v":""},{"$f":"_xlfn.IFNA(IF(VLOOKUP(B975,_!$A$7:$E$210,5,FALSE)=0,\"\",VLOOKUP(B975,_!$A$7:$E$210,5,FALSE)), \"\")","v":""}]
[10,null,{"$f":"_xlfn.IFNA(VLOOKUP(B976,_!$A$7:$F$210,6,FALSE),\"\")","v":""},{"$f":"IF(IF(MOD(ROWS(D$14:D976),20)=1,INDEX('Summary Sheet'!$B$17:$B1029,INT(ROWS(D$14:D976)/20)+1),\"\")=0,\"\",IF(MOD(ROWS(D$14:D976),20)=1,INDEX('Summary Sheet'!$B$17:$B1029,INT(ROWS(D$14:D976)/20)+1),\"\"))","v":""},{"$f":"_xlfn.IFNA(IF(VLOOKUP(B976,_!$A$7:$E$210,2,FALSE)=0, \"\", VLOOKUP(B976,_!$A$7:$E$210,2,FALSE)),  \"\")","v":""},{"$f":"_xlfn.IFNA(IF(VLOOKUP(B976,_!$A$7:$E$210,3,FALSE)=0, \"\", VLOOKUP(B976,_!$A$7:$E$210,3,FALSE)), \"\")","v":""},{"$f":"_xlfn.IFNA(IF(VLOOKUP(B976,_!$A$7:$E$210,4,FALSE)=0, \"\",VLOOKUP(B976,_!$A$7:$E$210,4,FALSE)), \"\")","v":""},{"$f":"_xlfn.IFNA(IF(VLOOKUP(B976,_!$A$7:$E$210,5,FALSE)=0,\"\",VLOOKUP(B976,_!$A$7:$E$210,5,FALSE)), \"\")","v":""}]
[null,"\nHighest hazard level for each ‘Uptake Route’\n",null,null,{"$f":"_xlfn.IFNA(IF((INDEX(E967:E976,MATCH(\"E\",E967:E976,0)))=\"E\",\"E\",\"\"),_xlfn.IFNA(IF((INDEX(E967:E976,MATCH(\"D\",E967:E976,0)))=\"D\",\"D\",\"\"),_xlfn.IFNA(IF((INDEX(E967:E976,MATCH(\"Ca\",E967:E976,0)))=\"Ca\",\"C\",\"\"),_xlfn.IFNA(IF((INDEX(E967:E976,MATCH(\"C\",E967:E976,0)))=\"C\",\"C\",\"\"),_xlfn.IFNA(IF((INDEX(E967:E976,MATCH(\"B\",E967:E976,0)))=\"B\",\"B\",\"\"),_xlfn.IFNA(IF((INDEX(E967:E976,MATCH(\"A\",E967:E976,0)))=\"A\",\"A\",\"\"),_xlfn.IFNA(IF((INDEX(E967:E976,MATCH(\"n.a.\",E967:E976,0)))=\"n.a.\",\"\",\"\"),_xlfn.IFNA(IF((INDEX(E967:E976,MATCH(\"\",E967:E976,0)))=\"\",\"\",\"\"),\"\"))))))))","v":""},{"$f":"_xlfn.IFNA(IF((INDEX(F967:F976,MATCH(\"E\",F967:F976,0)))=\"E\",\"E\",\"\"),_xlfn.IFNA(IF((INDEX(F967:F976,MATCH(\"D (E)c\",F967:F976,0)))=\"D (E)c\",\"D (E)c\",\"\"),_xlfn.IFNA(IF((INDEX(F967:F976,MATCH(\"Da (E)c\",F967:F976,0)))=\"Da (E)c\",\"D (E)c\",\"\"),_xlfn.IFNA(IF((INDEX(F967:F976,MATCH(\"D\",F967:F976,0)))=\"D\",\"D\",\"\"),_xlfn.IFNA(IF((INDEX(F967:F976,MATCH(\"Ca\",F967:F976,0)))=\"Ca\",\"C\",\"\"),_xlfn.IFNA(IF((INDEX(F967:F976,MATCH(\"C\",F967:F976,0)))=\"C\",\"C\",\"\"),_xlfn.IFNA(IF((INDEX(F967:F976,MATCH(\"Ba\",F967:F976,0)))=\"Ba\",\"B\",\"\"),_xlfn.IFNA(IF((INDEX(F967:F976,MATCH(\"B\",F967:F976,0)))=\"B\",\"B\",\"\"),_xlfn.IFNA(IF((INDEX(F967:F976,MATCH(\"Aa\",F967:F976,0)))=\"Aa\",\"A\",\"\"),_xlfn.IFNA(IF((INDEX(F967:F976,MATCH(\"A\",F967:F976,0)))=\"A\",\"A\",\"\"),_xlfn.IFNA(IF((INDEX(F967:F976,MATCH(\"n.a.\",F967:F976,0)))=\"n.a.\",\"\",\"\"),_xlfn.IFNA(IF((INDEX(F967:F976,MATCH(\"\",F967:F976,0)))=\"\",\"\",\"\"),\"\"))))))))))))","v":""},{"$f":"_xlfn.IFNA(IF((INDEX(G967:G976,MATCH(\"E\",G967:G976,0)))=\"E\",\"E\",\"\"),_xlfn.IFNA(IF((INDEX(G967:G976,MATCH(\"D\",G967:G976,0)))=\"D\",\"D\",\"\"),_xlfn.IFNA(IF((INDEX(G967:G976,MATCH(\"Ca\",G967:G976,0)))=\"Ca\",\"C\",\"\"),_xlfn.IFNA(IF((INDEX(G967:G976,MATCH(\"C\",G967:G976,0)))=\"C\",\"C\",\"\"),_xlfn.IFNA(IF((INDEX(G967:G976,MATCH(\"B\",G967:G976,0)))=\"B\",\"B\",\"\"),_xlfn.IFNA(IF((INDEX(G967:G976,MATCH(\"A\",G967:G976,0)))=\"A\",\"A\",\"\"),_xlfn.IFNA(IF((INDEX(G967:G976,MATCH(\"n.a.\",G967:G976,0)))=\"n.a.\",\"\",\"\"),_xlfn.IFNA(IF((INDEX(G967:G976,MATCH(\"\",G967:G976,0)))=\"\",\"\",\"\"),\"\"))))))))","v":""},{"$f":"_xlfn.IFNA(IF((INDEX(H967:H976,MATCH(\"E\",H967:H976,0)))=\"E\",\"E\",\"\"),_xlfn.IFNA(IF((INDEX(H967:H976,MATCH(\"D (E)c\",H967:H976,0)))=\"D (E)c\",\"D (E)c\",\"\"),_xlfn.IFNA(IF((INDEX(H967:H976,MATCH(\"Db (E)c\",H967:H976,0)))=\"Db (E)c\",\"D (E)c\",\"\"),_xlfn.IFNA(IF((INDEX(H967:H976,MATCH(\"D\",H967:H976,0)))=\"D\",\"D\",\"\"),_xlfn.IFNA(IF((INDEX(H967:H976,MATCH(\"Cb\",H967:H976,0)))=\"Cb\",\"C\",\"\"),_xlfn.IFNA(IF((INDEX(H967:H976,MATCH(\"C\",H967:H976,0)))=\"C\",\"C\",\"\"),_xlfn.IFNA(IF((INDEX(H967:H976,MATCH(\"Bb\",H967:H976,0)))=\"Bb\",\"B\",\"\"),_xlfn.IFNA(IF((INDEX(H967:H976,MATCH(\"B\",H967:H976,0)))=\"B\",\"B\",\"\"),_xlfn.IFNA(IF((INDEX(H967:H976,MATCH(\"Ab\",H967:H976,0)))=\"Ab\",\"A\",\"\"),_xlfn.IFNA(IF((INDEX(H967:H976,MATCH(\"A\",H967:H976,0)))=\"A\",\"A\",\"\"),_xlfn.IFNA(IF((INDEX(H967:H976,MATCH(\"n.a.\",H967:H976,0)))=\"n.a.\",\"\",\"\"),_xlfn.IFNA(IF((INDEX(H967:H976,MATCH(\"\",H967:H976,0)))=\"\",\"\",\"\"),\"\"))))))))))))","v":""}]
[null,"\nHighest hazard level for all 'Uptake Routes' \n",null,null,{"$f":"_xlfn.IFNA(IF((INDEX(E977:H977,MATCH(\"E\",E977:H977,0)))=\"E\",\"E\",\"\"),_xlfn.IFNA(IF((INDEX(E977:H977,MATCH(\"D (E)c\",E977:H977,0)))=\"D (E)c\",\"D (E)\",\"\"),_xlfn.IFNA(IF((INDEX(E977:H977,MATCH(\"D\",E977:H977,0)))=\"D\",\"D\",\"\"),_xlfn.IFNA(IF((INDEX(E977:H977,MATCH(\"C\",E977:H977,0)))=\"C\",\"C\",\"\"),_xlfn.IFNA(IF((INDEX(E977:H977,MATCH(\"B\",E977:H977,0)))=\"B\",\"B\",\"\"),_xlfn.IFNA(IF((INDEX(E977:H977,MATCH(\"A\",E977:H977,0)))=\"A\",\"A\",\"\"),_xlfn.IFNA(IF((INDEX(E977:H977,MATCH(\"n.a.\",E977:H977,0)))=\"n.a.\",\"\",\"\"),_xlfn.IFNA(IF((INDEX(E977:H977,MATCH(\"\",E977:H977,0)))=\"\",\"\",\"\"),\"\"))))))))","v":""}]
[]
[]
[null,"\nStep 3: D(E) Assessment\nSkip this step if \nyour assessment above does not reveal a D(E) hazard level.\nHover over this cell for additional instructions.\n",null,null,"\nOverall hazard level\n",null,{"$f":"IF(AND(E978=\"\",C964=\"Yes\")=TRUE,\"B\",IF(E978=\"\",\"\",(IF(AND(E978=\"D (E)\",C981=\"\"),\"D (E)\"&CHAR(10)&\"Find if cat. 1 acute tox.\",(IF(E978<>\"D (E)\",E978,(IF(AND(E978=\"D (E)\",C981=\"Yes\"),\"E\",(IF(AND(E978=\"D (E)\",C981=\"No\"),\"D\",\"\"))))))))))","v":""}]
[]
[{"$f":"IF(IF(MOD(ROWS(B$3:B983),20)=1,INDEX('Summary Sheet'!$A$17:$A1048,INT(ROWS(B$3:B983)/20)+1),\"\")=0,\"\",IF(MOD(ROWS(B$3:B983),20)=1,INDEX('Summary Sheet'!$A$17:$A1048,INT(ROWS(B$3:B983)/20)+1),\"\"))","v":50},"Hazard Level Assessment","for",{"$f":"IF(IF(MOD(ROWS(D$3:D983),20)=1,INDEX('Summary Sheet'!$B$17:$B1048,INT(ROWS(D$3:D983)/20)+1),\"\")=0,\"\",IF(MOD(ROWS(D$3:D983),20)=1,INDEX('Summary Sheet'!$B$17:$B1048,INT(ROWS(D$3:D983)/20)+1),\"\"))","v":""}]
[null,"\nStep 1: Physical & Environmental Hazard Statements/Codes\nFind Section 2 of the SDS and determine if the SDS has physical and/or environmental hazard statements/codes. Hover on this cell for additional instructions.\n",null,{"$f":"IF(IF(MOD(ROWS(D$3:D984),20)=1,INDEX('Summary Sheet'!$B$17:$B1048,INT(ROWS(D$3:D984)/20)+1),\"\")=0,\"\",IF(MOD(ROWS(D$3:D984),20)=1,INDEX('Summary Sheet'!$B$17:$B1048,INT(ROWS(D$3:D984)/20)+1),\"\"))","v":""}]
[null,"Step 2: Health Hazard Statements/Codes\nProvide the Health Hazard Statements or Codes from Section 2 of the SDS below. Hover on this cell for additional instructions.",null,{"$f":"IF(IF(MOD(ROWS(D$3:D985),20)=1,INDEX('Summary Sheet'!$B$17:$B1048,INT(ROWS(D$3:D985)/20)+1),\"\")=0,\"\",IF(MOD(ROWS(D$3:D985),20)=1,INDEX('Summary Sheet'!$B$17:$B1048,INT(ROWS(D$3:D985)/20)+1),\"\"))","v":""},"\nHazard Level\n"]
[null,null,null,{"$f":"IF(IF(MOD(ROWS(D$3:D986),20)=1,INDEX('Summary Sheet'!$B$17:$B1048,INT(ROWS(D$3:D986)/20)+1),\"\")=0,\"\",IF(MOD(ROWS(D$3:D986),20)=1,INDEX('Summary Sheet'!$B$17:$B1048,INT(ROWS(D$3:D986)/20)+1),\"\"))","v":""},"\nEye Damage\n","\nInhalation\n","\nLocal Skin Damage\n","\nSkin uptake, systemic\n"]
[1,null,{"$f":"_xlfn.IFNA(VLOOKUP(B987,_!$A$7:$F$210,6,FALSE),\"\")","v":""},{"$f":"IF(IF(MOD(ROWS(D$3:D987),20)=1,INDEX('Summary Sheet'!$B$17:$B1048,INT(ROWS(D$3:D987)/20)+1),\"\")=0,\"\",IF(MOD(ROWS(D$3:D987),20)=1,INDEX('Summary Sheet'!$B$17:$B1048,INT(ROWS(D$3:D987)/20)+1),\"\"))","v":""},{"$f":"_xlfn.IFNA(IF(VLOOKUP(B987,_!$A$7:$E$210,2,FALSE)=0, \"\", VLOOKUP(B987,_!$A$7:$E$210,2,FALSE)),  \"\")","v":""},{"$f":"_xlfn.IFNA(IF(VLOOKUP(B987,_!$A$7:$E$210,3,FALSE)=0, \"\", VLOOKUP(B987,_!$A$7:$E$210,3,FALSE)), \"\")","v":""},{"$f":"_xlfn.IFNA(IF(VLOOKUP(B987,_!$A$7:$E$210,4,FALSE)=0, \"\",VLOOKUP(B987,_!$A$7:$E$210,4,FALSE)), \"\")","v":""},{"$f":"_xlfn.IFNA(IF(VLOOKUP(B987,_!$A$7:$E$210,5,FALSE)=0,\"\",VLOOKUP(B987,_!$A$7:$E$210,5,FALSE)), \"\")","v":""}]
[2,null,{"$f":"_xlfn.IFNA(VLOOKUP(B988,_!$A$7:$F$210,6,FALSE),\"\")","v":""},{"$f":"IF(IF(MOD(ROWS(D$3:D988),20)=1,INDEX('Summary Sheet'!$B$17:$B1048,INT(ROWS(D$3:D988)/20)+1),\"\")=0,\"\",IF(MOD(ROWS(D$3:D988),20)=1,INDEX('Summary Sheet'!$B$17:$B1048,INT(ROWS(D$3:D988)/20)+1),\"\"))","v":""},{"$f":"_xlfn.IFNA(IF(VLOOKUP(B988,_!$A$7:$E$210,2,FALSE)=0, \"\", VLOOKUP(B988,_!$A$7:$E$210,2,FALSE)),  \"\")","v":""},{"$f":"_xlfn.IFNA(IF(VLOOKUP(B988,_!$A$7:$E$210,3,FALSE)=0, \"\", VLOOKUP(B988,_!$A$7:$E$210,3,FALSE)), \"\")","v":""},{"$f":"_xlfn.IFNA(IF(VLOOKUP(B988,_!$A$7:$E$210,4,FALSE)=0, \"\",VLOOKUP(B988,_!$A$7:$E$210,4,FALSE)), \"\")","v":""},{"$f":"_xlfn.IFNA(IF(VLOOKUP(B988,_!$A$7:$E$210,5,FALSE)=0,\"\",VLOOKUP(B988,_!$A$7:$E$210,5,FALSE)), \"\")","v":""}]
[3,null,{"$f":"_xlfn.IFNA(VLOOKUP(B989,_!$A$7:$F$210,6,FALSE),\"\")","v":""},{"$f":"IF(IF(MOD(ROWS(D$3:D989),20)=1,INDEX('Summary Sheet'!$B$17:$B1048,INT(ROWS(D$3:D989)/20)+1),\"\")=0,\"\",IF(MOD(ROWS(D$3:D989),20)=1,INDEX('Summary Sheet'!$B$17:$B1048,INT(ROWS(D$3:D989)/20)+1),\"\"))","v":""},{"$f":"_xlfn.IFNA(IF(VLOOKUP(B989,_!$A$7:$E$210,2,FALSE)=0, \"\", VLOOKUP(B989,_!$A$7:$E$210,2,FALSE)),  \"\")","v":""},{"$f":"_xlfn.IFNA(IF(VLOOKUP(B989,_!$A$7:$E$210,3,FALSE)=0, \"\", VLOOKUP(B989,_!$A$7:$E$210,3,FALSE)), \"\")","v":""},{"$f":"_xlfn.IFNA(IF(VLOOKUP(B989,_!$A$7:$E$210,4,FALSE)=0, \"\",VLOOKUP(B989,_!$A$7:$E$210,4,FALSE)), \"\")","v":""},{"$f":"_xlfn.IFNA(IF(VLOOKUP(B989,_!$A$7:$E$210,5,FALSE)=0,\"\",VLOOKUP(B989,_!$A$7:$E$210,5,FALSE)), \"\")","v":""}]
[4,null,{"$f":"_xlfn.IFNA(VLOOKUP(B990,_!$A$7:$F$210,6,FALSE),\"\")","v":""},{"$f":"IF(IF(MOD(ROWS(D$3:D990),20)=1,INDEX('Summary Sheet'!$B$17:$B1048,INT(ROWS(D$3:D990)/20)+1),\"\")=0,\"\",IF(MOD(ROWS(D$3:D990),20)=1,INDEX('Summary Sheet'!$B$17:$B1048,INT(ROWS(D$3:D990)/20)+1),\"\"))","v":""},{"$f":"_xlfn.IFNA(IF(VLOOKUP(B990,_!$A$7:$E$210,2,FALSE)=0, \"\", VLOOKUP(B990,_!$A$7:$E$210,2,FALSE)),  \"\")","v":""},{"$f":"_xlfn.IFNA(IF(VLOOKUP(B990,_!$A$7:$E$210,3,FALSE)=0, \"\", VLOOKUP(B990,_!$A$7:$E$210,3,FALSE)), \"\")","v":""},{"$f":"_xlfn.IFNA(IF(VLOOKUP(B990,_!$A$7:$E$210,4,FALSE)=0, \"\",VLOOKUP(B990,_!$A$7:$E$210,4,FALSE)), \"\")","v":""},{"$f":"_xlfn.IFNA(IF(VLOOKUP(B990,_!$A$7:$E$210,5,FALSE)=0,\"\",VLOOKUP(B990,_!$A$7:$E$210,5,FALSE)), \"\")","v":""}]
[5,null,{"$f":"_xlfn.IFNA(VLOOKUP(B991,_!$A$7:$F$210,6,FALSE),\"\")","v":""},{"$f":"IF(IF(MOD(ROWS(D$3:D991),20)=1,INDEX('Summary Sheet'!$B$17:$B1048,INT(ROWS(D$3:D991)/20)+1),\"\")=0,\"\",IF(MOD(ROWS(D$3:D991),20)=1,INDEX('Summary Sheet'!$B$17:$B1048,INT(ROWS(D$3:D991)/20)+1),\"\"))","v":""},{"$f":"_xlfn.IFNA(IF(VLOOKUP(B991,_!$A$7:$E$210,2,FALSE)=0, \"\", VLOOKUP(B991,_!$A$7:$E$210,2,FALSE)),  \"\")","v":""},{"$f":"_xlfn.IFNA(IF(VLOOKUP(B991,_!$A$7:$E$210,3,FALSE)=0, \"\", VLOOKUP(B991,_!$A$7:$E$210,3,FALSE)), \"\")","v":""},{"$f":"_xlfn.IFNA(IF(VLOOKUP(B991,_!$A$7:$E$210,4,FALSE)=0, \"\",VLOOKUP(B991,_!$A$7:$E$210,4,FALSE)), \"\")","v":""},{"$f":"_xlfn.IFNA(IF(VLOOKUP(B991,_!$A$7:$E$210,5,FALSE)=0,\"\",VLOOKUP(B991,_!$A$7:$E$210,5,FALSE)), \"\")","v":""}]
[6,null,{"$f":"_xlfn.IFNA(VLOOKUP(B992,_!$A$7:$F$210,6,FALSE),\"\")","v":""},{"$f":"IF(IF(MOD(ROWS(D$3:D992),20)=1,INDEX('Summary Sheet'!$B$17:$B1048,INT(ROWS(D$3:D992)/20)+1),\"\")=0,\"\",IF(MOD(ROWS(D$3:D992),20)=1,INDEX('Summary Sheet'!$B$17:$B1048,INT(ROWS(D$3:D992)/20)+1),\"\"))","v":""},{"$f":"_xlfn.IFNA(IF(VLOOKUP(B992,_!$A$7:$E$210,2,FALSE)=0, \"\", VLOOKUP(B992,_!$A$7:$E$210,2,FALSE)),  \"\")","v":""},{"$f":"_xlfn.IFNA(IF(VLOOKUP(B992,_!$A$7:$E$210,3,FALSE)=0, \"\", VLOOKUP(B992,_!$A$7:$E$210,3,FALSE)), \"\")","v":""},{"$f":"_xlfn.IFNA(IF(VLOOKUP(B992,_!$A$7:$E$210,4,FALSE)=0, \"\",VLOOKUP(B992,_!$A$7:$E$210,4,FALSE)), \"\")","v":""},{"$f":"_xlfn.IFNA(IF(VLOOKUP(B992,_!$A$7:$E$210,5,FALSE)=0,\"\",VLOOKUP(B992,_!$A$7:$E$210,5,FALSE)), \"\")","v":""}]
[7,null,{"$f":"_xlfn.IFNA(VLOOKUP(B993,_!$A$7:$F$210,6,FALSE),\"\")","v":""},{"$f":"IF(IF(MOD(ROWS(D$3:D993),20)=1,INDEX('Summary Sheet'!$B$17:$B1048,INT(ROWS(D$3:D993)/20)+1),\"\")=0,\"\",IF(MOD(ROWS(D$3:D993),20)=1,INDEX('Summary Sheet'!$B$17:$B1048,INT(ROWS(D$3:D993)/20)+1),\"\"))","v":""},{"$f":"_xlfn.IFNA(IF(VLOOKUP(B993,_!$A$7:$E$210,2,FALSE)=0, \"\", VLOOKUP(B993,_!$A$7:$E$210,2,FALSE)),  \"\")","v":""},{"$f":"_xlfn.IFNA(IF(VLOOKUP(B993,_!$A$7:$E$210,3,FALSE)=0, \"\", VLOOKUP(B993,_!$A$7:$E$210,3,FALSE)), \"\")","v":""},{"$f":"_xlfn.IFNA(IF(VLOOKUP(B993,_!$A$7:$E$210,4,FALSE)=0, \"\",VLOOKUP(B993,_!$A$7:$E$210,4,FALSE)), \"\")","v":""},{"$f":"_xlfn.IFNA(IF(VLOOKUP(B993,_!$A$7:$E$210,5,FALSE)=0,\"\",VLOOKUP(B993,_!$A$7:$E$210,5,FALSE)), \"\")","v":""}]
[8,null,{"$f":"_xlfn.IFNA(VLOOKUP(B994,_!$A$7:$F$210,6,FALSE),\"\")","v":""},{"$f":"IF(IF(MOD(ROWS(D$3:D994),20)=1,INDEX('Summary Sheet'!$B$17:$B1048,INT(ROWS(D$3:D994)/20)+1),\"\")=0,\"\",IF(MOD(ROWS(D$3:D994),20)=1,INDEX('Summary Sheet'!$B$17:$B1048,INT(ROWS(D$3:D994)/20)+1),\"\"))","v":""},{"$f":"_xlfn.IFNA(IF(VLOOKUP(B994,_!$A$7:$E$210,2,FALSE)=0, \"\", VLOOKUP(B994,_!$A$7:$E$210,2,FALSE)),  \"\")","v":""},{"$f":"_xlfn.IFNA(IF(VLOOKUP(B994,_!$A$7:$E$210,3,FALSE)=0, \"\", VLOOKUP(B994,_!$A$7:$E$210,3,FALSE)), \"\")","v":""},{"$f":"_xlfn.IFNA(IF(VLOOKUP(B994,_!$A$7:$E$210,4,FALSE)=0, \"\",VLOOKUP(B994,_!$A$7:$E$210,4,FALSE)), \"\")","v":""},{"$f":"_xlfn.IFNA(IF(VLOOKUP(B994,_!$A$7:$E$210,5,FALSE)=0,\"\",VLOOKUP(B994,_!$A$7:$E$210,5,FALSE)), \"\")","v":""}]
[9,null,{"$f":"_xlfn.IFNA(VLOOKUP(B995,_!$A$7:$F$210,6,FALSE),\"\")","v":""},{"$f":"IF(IF(MOD(ROWS(D$3:D995),20)=1,INDEX('Summary Sheet'!$B$17:$B1048,INT(ROWS(D$3:D995)/20)+1),\"\")=0,\"\",IF(MOD(ROWS(D$3:D995),20)=1,INDEX('Summary Sheet'!$B$17:$B1048,INT(ROWS(D$3:D995)/20)+1),\"\"))","v":""},{"$f":"_xlfn.IFNA(IF(VLOOKUP(B995,_!$A$7:$E$210,2,FALSE)=0, \"\", VLOOKUP(B995,_!$A$7:$E$210,2,FALSE)),  \"\")","v":""},{"$f":"_xlfn.IFNA(IF(VLOOKUP(B995,_!$A$7:$E$210,3,FALSE)=0, \"\", VLOOKUP(B995,_!$A$7:$E$210,3,FALSE)), \"\")","v":""},{"$f":"_xlfn.IFNA(IF(VLOOKUP(B995,_!$A$7:$E$210,4,FALSE)=0, \"\",VLOOKUP(B995,_!$A$7:$E$210,4,FALSE)), \"\")","v":""},{"$f":"_xlfn.IFNA(IF(VLOOKUP(B995,_!$A$7:$E$210,5,FALSE)=0,\"\",VLOOKUP(B995,_!$A$7:$E$210,5,FALSE)), \"\")","v":""}]
[10,null,{"$f":"_xlfn.IFNA(VLOOKUP(B996,_!$A$7:$F$210,6,FALSE),\"\")","v":""},{"$f":"IF(IF(MOD(ROWS(D$14:D996),20)=1,INDEX('Summary Sheet'!$B$17:$B1048,INT(ROWS(D$14:D996)/20)+1),\"\")=0,\"\",IF(MOD(ROWS(D$14:D996),20)=1,INDEX('Summary Sheet'!$B$17:$B1048,INT(ROWS(D$14:D996)/20)+1),\"\"))","v":""},{"$f":"_xlfn.IFNA(IF(VLOOKUP(B996,_!$A$7:$E$210,2,FALSE)=0, \"\", VLOOKUP(B996,_!$A$7:$E$210,2,FALSE)),  \"\")","v":""},{"$f":"_xlfn.IFNA(IF(VLOOKUP(B996,_!$A$7:$E$210,3,FALSE)=0, \"\", VLOOKUP(B996,_!$A$7:$E$210,3,FALSE)), \"\")","v":""},{"$f":"_xlfn.IFNA(IF(VLOOKUP(B996,_!$A$7:$E$210,4,FALSE)=0, \"\",VLOOKUP(B996,_!$A$7:$E$210,4,FALSE)), \"\")","v":""},{"$f":"_xlfn.IFNA(IF(VLOOKUP(B996,_!$A$7:$E$210,5,FALSE)=0,\"\",VLOOKUP(B996,_!$A$7:$E$210,5,FALSE)), \"\")","v":""}]
[null,"\nHighest hazard level for each ‘Uptake Route’\n",null,null,{"$f":"_xlfn.IFNA(IF((INDEX(E987:E996,MATCH(\"E\",E987:E996,0)))=\"E\",\"E\",\"\"),_xlfn.IFNA(IF((INDEX(E987:E996,MATCH(\"D\",E987:E996,0)))=\"D\",\"D\",\"\"),_xlfn.IFNA(IF((INDEX(E987:E996,MATCH(\"Ca\",E987:E996,0)))=\"Ca\",\"C\",\"\"),_xlfn.IFNA(IF((INDEX(E987:E996,MATCH(\"C\",E987:E996,0)))=\"C\",\"C\",\"\"),_xlfn.IFNA(IF((INDEX(E987:E996,MATCH(\"B\",E987:E996,0)))=\"B\",\"B\",\"\"),_xlfn.IFNA(IF((INDEX(E987:E996,MATCH(\"A\",E987:E996,0)))=\"A\",\"A\",\"\"),_xlfn.IFNA(IF((INDEX(E987:E996,MATCH(\"n.a.\",E987:E996,0)))=\"n.a.\",\"\",\"\"),_xlfn.IFNA(IF((INDEX(E987:E996,MATCH(\"\",E987:E996,0)))=\"\",\"\",\"\"),\"\"))))))))","v":""},{"$f":"_xlfn.IFNA(IF((INDEX(F987:F996,MATCH(\"E\",F987:F996,0)))=\"E\",\"E\",\"\"),_xlfn.IFNA(IF((INDEX(F987:F996,MATCH(\"D (E)c\",F987:F996,0)))=\"D (E)c\",\"D (E)c\",\"\"),_xlfn.IFNA(IF((INDEX(F987:F996,MATCH(\"Da (E)c\",F987:F996,0)))=\"Da (E)c\",\"D (E)c\",\"\"),_xlfn.IFNA(IF((INDEX(F987:F996,MATCH(\"D\",F987:F996,0)))=\"D\",\"D\",\"\"),_xlfn.IFNA(IF((INDEX(F987:F996,MATCH(\"Ca\",F987:F996,0)))=\"Ca\",\"C\",\"\"),_xlfn.IFNA(IF((INDEX(F987:F996,MATCH(\"C\",F987:F996,0)))=\"C\",\"C\",\"\"),_xlfn.IFNA(IF((INDEX(F987:F996,MATCH(\"Ba\",F987:F996,0)))=\"Ba\",\"B\",\"\"),_xlfn.IFNA(IF((INDEX(F987:F996,MATCH(\"B\",F987:F996,0)))=\"B\",\"B\",\"\"),_xlfn.IFNA(IF((INDEX(F987:F996,MATCH(\"Aa\",F987:F996,0)))=\"Aa\",\"A\",\"\"),_xlfn.IFNA(IF((INDEX(F987:F996,MATCH(\"A\",F987:F996,0)))=\"A\",\"A\",\"\"),_xlfn.IFNA(IF((INDEX(F987:F996,MATCH(\"n.a.\",F987:F996,0)))=\"n.a.\",\"\",\"\"),_xlfn.IFNA(IF((INDEX(F987:F996,MATCH(\"\",F987:F996,0)))=\"\",\"\",\"\"),\"\"))))))))))))","v":""},{"$f":"_xlfn.IFNA(IF((INDEX(G987:G996,MATCH(\"E\",G987:G996,0)))=\"E\",\"E\",\"\"),_xlfn.IFNA(IF((INDEX(G987:G996,MATCH(\"D\",G987:G996,0)))=\"D\",\"D\",\"\"),_xlfn.IFNA(IF((INDEX(G987:G996,MATCH(\"Ca\",G987:G996,0)))=\"Ca\",\"C\",\"\"),_xlfn.IFNA(IF((INDEX(G987:G996,MATCH(\"C\",G987:G996,0)))=\"C\",\"C\",\"\"),_xlfn.IFNA(IF((INDEX(G987:G996,MATCH(\"B\",G987:G996,0)))=\"B\",\"B\",\"\"),_xlfn.IFNA(IF((INDEX(G987:G996,MATCH(\"A\",G987:G996,0)))=\"A\",\"A\",\"\"),_xlfn.IFNA(IF((INDEX(G987:G996,MATCH(\"n.a.\",G987:G996,0)))=\"n.a.\",\"\",\"\"),_xlfn.IFNA(IF((INDEX(G987:G996,MATCH(\"\",G987:G996,0)))=\"\",\"\",\"\"),\"\"))))))))","v":""},{"$f":"_xlfn.IFNA(IF((INDEX(H987:H996,MATCH(\"E\",H987:H996,0)))=\"E\",\"E\",\"\"),_xlfn.IFNA(IF((INDEX(H987:H996,MATCH(\"D (E)c\",H987:H996,0)))=\"D (E)c\",\"D (E)c\",\"\"),_xlfn.IFNA(IF((INDEX(H987:H996,MATCH(\"Db (E)c\",H987:H996,0)))=\"Db (E)c\",\"D (E)c\",\"\"),_xlfn.IFNA(IF((INDEX(H987:H996,MATCH(\"D\",H987:H996,0)))=\"D\",\"D\",\"\"),_xlfn.IFNA(IF((INDEX(H987:H996,MATCH(\"Cb\",H987:H996,0)))=\"Cb\",\"C\",\"\"),_xlfn.IFNA(IF((INDEX(H987:H996,MATCH(\"C\",H987:H996,0)))=\"C\",\"C\",\"\"),_xlfn.IFNA(IF((INDEX(H987:H996,MATCH(\"Bb\",H987:H996,0)))=\"Bb\",\"B\",\"\"),_xlfn.IFNA(IF((INDEX(H987:H996,MATCH(\"B\",H987:H996,0)))=\"B\",\"B\",\"\"),_xlfn.IFNA(IF((INDEX(H987:H996,MATCH(\"Ab\",H987:H996,0)))=\"Ab\",\"A\",\"\"),_xlfn.IFNA(IF((INDEX(H987:H996,MATCH(\"A\",H987:H996,0)))=\"A\",\"A\",\"\"),_xlfn.IFNA(IF((INDEX(H987:H996,MATCH(\"n.a.\",H987:H996,0)))=\"n.a.\",\"\",\"\"),_xlfn.IFNA(IF((INDEX(H987:H996,MATCH(\"\",H987:H996,0)))=\"\",\"\",\"\"),\"\"))))))))))))","v":""}]
[null,"\nHighest hazard level for all 'Uptake Routes' \n",null,null,{"$f":"_xlfn.IFNA(IF((INDEX(E997:H997,MATCH(\"E\",E997:H997,0)))=\"E\",\"E\",\"\"),_xlfn.IFNA(IF((INDEX(E997:H997,MATCH(\"D (E)c\",E997:H997,0)))=\"D (E)c\",\"D (E)\",\"\"),_xlfn.IFNA(IF((INDEX(E997:H997,MATCH(\"D\",E997:H997,0)))=\"D\",\"D\",\"\"),_xlfn.IFNA(IF((INDEX(E997:H997,MATCH(\"C\",E997:H997,0)))=\"C\",\"C\",\"\"),_xlfn.IFNA(IF((INDEX(E997:H997,MATCH(\"B\",E997:H997,0)))=\"B\",\"B\",\"\"),_xlfn.IFNA(IF((INDEX(E997:H997,MATCH(\"A\",E997:H997,0)))=\"A\",\"A\",\"\"),_xlfn.IFNA(IF((INDEX(E997:H997,MATCH(\"n.a.\",E997:H997,0)))=\"n.a.\",\"\",\"\"),_xlfn.IFNA(IF((INDEX(E997:H997,MATCH(\"\",E997:H997,0)))=\"\",\"\",\"\"),\"\"))))))))","v":""}]
[]
[]
[null,"\nStep 3: D(E) Assessment\nSkip this step if \nyour assessment above does not reveal a D(E) hazard level.\nHover over this cell for additional instructions.\n",null,null,"\nOverall hazard level\n",null,{"$f":"IF(AND(E998=\"\",C984=\"Yes\")=TRUE,\"B\",IF(E998=\"\",\"\",(IF(AND(E998=\"D (E)\",C1001=\"\"),\"D (E)\"&CHAR(10)&\"Find if cat. 1 acute tox.\",(IF(E998<>\"D (E)\",E998,(IF(AND(E998=\"D (E)\",C1001=\"Yes\"),\"E\",(IF(AND(E998=\"D (E)\",C1001=\"No\"),\"D\",\"\"))))))))))","v":""}]
[]
[{"$f":"IF(IF(MOD(ROWS(B$3:B1003),20)=1,INDEX('Summary Sheet'!$A$17:$A1067,INT(ROWS(B$3:B1003)/20)+1),\"\")=0,\"\",IF(MOD(ROWS(B$3:B1003),20)=1,INDEX('Summary Sheet'!$A$17:$A1067,INT(ROWS(B$3:B1003)/20)+1),\"\"))","v":51},"Hazard Level Assessment","for",{"$f":"IF(IF(MOD(ROWS(D$3:D1003),20)=1,INDEX('Summary Sheet'!$B$17:$B1067,INT(ROWS(D$3:D1003)/20)+1),\"\")=0,\"\",IF(MOD(ROWS(D$3:D1003),20)=1,INDEX('Summary Sheet'!$B$17:$B1067,INT(ROWS(D$3:D1003)/20)+1),\"\"))","v":""}]
[null,"\nStep 1: Physical & Environmental Hazard Statements/Codes\nFind Section 2 of the SDS and determine if the SDS has physical and/or environmental hazard statements/codes. Hover on this cell for additional instructions.\n",null,{"$f":"IF(IF(MOD(ROWS(D$3:D1004),20)=1,INDEX('Summary Sheet'!$B$17:$B1067,INT(ROWS(D$3:D1004)/20)+1),\"\")=0,\"\",IF(MOD(ROWS(D$3:D1004),20)=1,INDEX('Summary Sheet'!$B$17:$B1067,INT(ROWS(D$3:D1004)/20)+1),\"\"))","v":""}]
[null,"Step 2: Health Hazard Statements/Codes\nProvide the Health Hazard Statements or Codes from Section 2 of the SDS below. Hover on this cell for additional instructions.",null,{"$f":"IF(IF(MOD(ROWS(D$3:D1005),20)=1,INDEX('Summary Sheet'!$B$17:$B1067,INT(ROWS(D$3:D1005)/20)+1),\"\")=0,\"\",IF(MOD(ROWS(D$3:D1005),20)=1,INDEX('Summary Sheet'!$B$17:$B1067,INT(ROWS(D$3:D1005)/20)+1),\"\"))","v":""},"\nHazard Level\n"]
[null,null,null,{"$f":"IF(IF(MOD(ROWS(D$3:D1006),20)=1,INDEX('Summary Sheet'!$B$17:$B1067,INT(ROWS(D$3:D1006)/20)+1),\"\")=0,\"\",IF(MOD(ROWS(D$3:D1006),20)=1,INDEX('Summary Sheet'!$B$17:$B1067,INT(ROWS(D$3:D1006)/20)+1),\"\"))","v":""},"\nEye Damage\n","\nInhalation\n","\nLocal Skin Damage\n","\nSkin uptake, systemic\n"]
[1,null,{"$f":"_xlfn.IFNA(VLOOKUP(B1007,_!$A$7:$F$210,6,FALSE),\"\")","v":""},{"$f":"IF(IF(MOD(ROWS(D$3:D1007),20)=1,INDEX('Summary Sheet'!$B$17:$B1067,INT(ROWS(D$3:D1007)/20)+1),\"\")=0,\"\",IF(MOD(ROWS(D$3:D1007),20)=1,INDEX('Summary Sheet'!$B$17:$B1067,INT(ROWS(D$3:D1007)/20)+1),\"\"))","v":""},{"$f":"_xlfn.IFNA(IF(VLOOKUP(B1007,_!$A$7:$E$210,2,FALSE)=0, \"\", VLOOKUP(B1007,_!$A$7:$E$210,2,FALSE)),  \"\")","v":""},{"$f":"_xlfn.IFNA(IF(VLOOKUP(B1007,_!$A$7:$E$210,3,FALSE)=0, \"\", VLOOKUP(B1007,_!$A$7:$E$210,3,FALSE)), \"\")","v":""},{"$f":"_xlfn.IFNA(IF(VLOOKUP(B1007,_!$A$7:$E$210,4,FALSE)=0, \"\",VLOOKUP(B1007,_!$A$7:$E$210,4,FALSE)), \"\")","v":""},{"$f":"_xlfn.IFNA(IF(VLOOKUP(B1007,_!$A$7:$E$210,5,FALSE)=0,\"\",VLOOKUP(B1007,_!$A$7:$E$210,5,FALSE)), \"\")","v":""}]
[2,null,{"$f":"_xlfn.IFNA(VLOOKUP(B1008,_!$A$7:$F$210,6,FALSE),\"\")","v":""},{"$f":"IF(IF(MOD(ROWS(D$3:D1008),20)=1,INDEX('Summary Sheet'!$B$17:$B1067,INT(ROWS(D$3:D1008)/20)+1),\"\")=0,\"\",IF(MOD(ROWS(D$3:D1008),20)=1,INDEX('Summary Sheet'!$B$17:$B1067,INT(ROWS(D$3:D1008)/20)+1),\"\"))","v":""},{"$f":"_xlfn.IFNA(IF(VLOOKUP(B1008,_!$A$7:$E$210,2,FALSE)=0, \"\", VLOOKUP(B1008,_!$A$7:$E$210,2,FALSE)),  \"\")","v":""},{"$f":"_xlfn.IFNA(IF(VLOOKUP(B1008,_!$A$7:$E$210,3,FALSE)=0, \"\", VLOOKUP(B1008,_!$A$7:$E$210,3,FALSE)), \"\")","v":""},{"$f":"_xlfn.IFNA(IF(VLOOKUP(B1008,_!$A$7:$E$210,4,FALSE)=0, \"\",VLOOKUP(B1008,_!$A$7:$E$210,4,FALSE)), \"\")","v":""},{"$f":"_xlfn.IFNA(IF(VLOOKUP(B1008,_!$A$7:$E$210,5,FALSE)=0,\"\",VLOOKUP(B1008,_!$A$7:$E$210,5,FALSE)), \"\")","v":""}]
[3,null,{"$f":"_xlfn.IFNA(VLOOKUP(B1009,_!$A$7:$F$210,6,FALSE),\"\")","v":""},{"$f":"IF(IF(MOD(ROWS(D$3:D1009),20)=1,INDEX('Summary Sheet'!$B$17:$B1067,INT(ROWS(D$3:D1009)/20)+1),\"\")=0,\"\",IF(MOD(ROWS(D$3:D1009),20)=1,INDEX('Summary Sheet'!$B$17:$B1067,INT(ROWS(D$3:D1009)/20)+1),\"\"))","v":""},{"$f":"_xlfn.IFNA(IF(VLOOKUP(B1009,_!$A$7:$E$210,2,FALSE)=0, \"\", VLOOKUP(B1009,_!$A$7:$E$210,2,FALSE)),  \"\")","v":""},{"$f":"_xlfn.IFNA(IF(VLOOKUP(B1009,_!$A$7:$E$210,3,FALSE)=0, \"\", VLOOKUP(B1009,_!$A$7:$E$210,3,FALSE)), \"\")","v":""},{"$f":"_xlfn.IFNA(IF(VLOOKUP(B1009,_!$A$7:$E$210,4,FALSE)=0, \"\",VLOOKUP(B1009,_!$A$7:$E$210,4,FALSE)), \"\")","v":""},{"$f":"_xlfn.IFNA(IF(VLOOKUP(B1009,_!$A$7:$E$210,5,FALSE)=0,\"\",VLOOKUP(B1009,_!$A$7:$E$210,5,FALSE)), \"\")","v":""}]
[4,null,{"$f":"_xlfn.IFNA(VLOOKUP(B1010,_!$A$7:$F$210,6,FALSE),\"\")","v":""},{"$f":"IF(IF(MOD(ROWS(D$3:D1010),20)=1,INDEX('Summary Sheet'!$B$17:$B1067,INT(ROWS(D$3:D1010)/20)+1),\"\")=0,\"\",IF(MOD(ROWS(D$3:D1010),20)=1,INDEX('Summary Sheet'!$B$17:$B1067,INT(ROWS(D$3:D1010)/20)+1),\"\"))","v":""},{"$f":"_xlfn.IFNA(IF(VLOOKUP(B1010,_!$A$7:$E$210,2,FALSE)=0, \"\", VLOOKUP(B1010,_!$A$7:$E$210,2,FALSE)),  \"\")","v":""},{"$f":"_xlfn.IFNA(IF(VLOOKUP(B1010,_!$A$7:$E$210,3,FALSE)=0, \"\", VLOOKUP(B1010,_!$A$7:$E$210,3,FALSE)), \"\")","v":""},{"$f":"_xlfn.IFNA(IF(VLOOKUP(B1010,_!$A$7:$E$210,4,FALSE)=0, \"\",VLOOKUP(B1010,_!$A$7:$E$210,4,FALSE)), \"\")","v":""},{"$f":"_xlfn.IFNA(IF(VLOOKUP(B1010,_!$A$7:$E$210,5,FALSE)=0,\"\",VLOOKUP(B1010,_!$A$7:$E$210,5,FALSE)), \"\")","v":""}]
[5,null,{"$f":"_xlfn.IFNA(VLOOKUP(B1011,_!$A$7:$F$210,6,FALSE),\"\")","v":""},{"$f":"IF(IF(MOD(ROWS(D$3:D1011),20)=1,INDEX('Summary Sheet'!$B$17:$B1067,INT(ROWS(D$3:D1011)/20)+1),\"\")=0,\"\",IF(MOD(ROWS(D$3:D1011),20)=1,INDEX('Summary Sheet'!$B$17:$B1067,INT(ROWS(D$3:D1011)/20)+1),\"\"))","v":""},{"$f":"_xlfn.IFNA(IF(VLOOKUP(B1011,_!$A$7:$E$210,2,FALSE)=0, \"\", VLOOKUP(B1011,_!$A$7:$E$210,2,FALSE)),  \"\")","v":""},{"$f":"_xlfn.IFNA(IF(VLOOKUP(B1011,_!$A$7:$E$210,3,FALSE)=0, \"\", VLOOKUP(B1011,_!$A$7:$E$210,3,FALSE)), \"\")","v":""},{"$f":"_xlfn.IFNA(IF(VLOOKUP(B1011,_!$A$7:$E$210,4,FALSE)=0, \"\",VLOOKUP(B1011,_!$A$7:$E$210,4,FALSE)), \"\")","v":""},{"$f":"_xlfn.IFNA(IF(VLOOKUP(B1011,_!$A$7:$E$210,5,FALSE)=0,\"\",VLOOKUP(B1011,_!$A$7:$E$210,5,FALSE)), \"\")","v":""}]
[6,null,{"$f":"_xlfn.IFNA(VLOOKUP(B1012,_!$A$7:$F$210,6,FALSE),\"\")","v":""},{"$f":"IF(IF(MOD(ROWS(D$3:D1012),20)=1,INDEX('Summary Sheet'!$B$17:$B1067,INT(ROWS(D$3:D1012)/20)+1),\"\")=0,\"\",IF(MOD(ROWS(D$3:D1012),20)=1,INDEX('Summary Sheet'!$B$17:$B1067,INT(ROWS(D$3:D1012)/20)+1),\"\"))","v":""},{"$f":"_xlfn.IFNA(IF(VLOOKUP(B1012,_!$A$7:$E$210,2,FALSE)=0, \"\", VLOOKUP(B1012,_!$A$7:$E$210,2,FALSE)),  \"\")","v":""},{"$f":"_xlfn.IFNA(IF(VLOOKUP(B1012,_!$A$7:$E$210,3,FALSE)=0, \"\", VLOOKUP(B1012,_!$A$7:$E$210,3,FALSE)), \"\")","v":""},{"$f":"_xlfn.IFNA(IF(VLOOKUP(B1012,_!$A$7:$E$210,4,FALSE)=0, \"\",VLOOKUP(B1012,_!$A$7:$E$210,4,FALSE)), \"\")","v":""},{"$f":"_xlfn.IFNA(IF(VLOOKUP(B1012,_!$A$7:$E$210,5,FALSE)=0,\"\",VLOOKUP(B1012,_!$A$7:$E$210,5,FALSE)), \"\")","v":""}]
[7,null,{"$f":"_xlfn.IFNA(VLOOKUP(B1013,_!$A$7:$F$210,6,FALSE),\"\")","v":""},{"$f":"IF(IF(MOD(ROWS(D$3:D1013),20)=1,INDEX('Summary Sheet'!$B$17:$B1067,INT(ROWS(D$3:D1013)/20)+1),\"\")=0,\"\",IF(MOD(ROWS(D$3:D1013),20)=1,INDEX('Summary Sheet'!$B$17:$B1067,INT(ROWS(D$3:D1013)/20)+1),\"\"))","v":""},{"$f":"_xlfn.IFNA(IF(VLOOKUP(B1013,_!$A$7:$E$210,2,FALSE)=0, \"\", VLOOKUP(B1013,_!$A$7:$E$210,2,FALSE)),  \"\")","v":""},{"$f":"_xlfn.IFNA(IF(VLOOKUP(B1013,_!$A$7:$E$210,3,FALSE)=0, \"\", VLOOKUP(B1013,_!$A$7:$E$210,3,FALSE)), \"\")","v":""},{"$f":"_xlfn.IFNA(IF(VLOOKUP(B1013,_!$A$7:$E$210,4,FALSE)=0, \"\",VLOOKUP(B1013,_!$A$7:$E$210,4,FALSE)), \"\")","v":""},{"$f":"_xlfn.IFNA(IF(VLOOKUP(B1013,_!$A$7:$E$210,5,FALSE)=0,\"\",VLOOKUP(B1013,_!$A$7:$E$210,5,FALSE)), \"\")","v":""}]
[8,null,{"$f":"_xlfn.IFNA(VLOOKUP(B1014,_!$A$7:$F$210,6,FALSE),\"\")","v":""},{"$f":"IF(IF(MOD(ROWS(D$3:D1014),20)=1,INDEX('Summary Sheet'!$B$17:$B1067,INT(ROWS(D$3:D1014)/20)+1),\"\")=0,\"\",IF(MOD(ROWS(D$3:D1014),20)=1,INDEX('Summary Sheet'!$B$17:$B1067,INT(ROWS(D$3:D1014)/20)+1),\"\"))","v":""},{"$f":"_xlfn.IFNA(IF(VLOOKUP(B1014,_!$A$7:$E$210,2,FALSE)=0, \"\", VLOOKUP(B1014,_!$A$7:$E$210,2,FALSE)),  \"\")","v":""},{"$f":"_xlfn.IFNA(IF(VLOOKUP(B1014,_!$A$7:$E$210,3,FALSE)=0, \"\", VLOOKUP(B1014,_!$A$7:$E$210,3,FALSE)), \"\")","v":""},{"$f":"_xlfn.IFNA(IF(VLOOKUP(B1014,_!$A$7:$E$210,4,FALSE)=0, \"\",VLOOKUP(B1014,_!$A$7:$E$210,4,FALSE)), \"\")","v":""},{"$f":"_xlfn.IFNA(IF(VLOOKUP(B1014,_!$A$7:$E$210,5,FALSE)=0,\"\",VLOOKUP(B1014,_!$A$7:$E$210,5,FALSE)), \"\")","v":""}]
[9,null,{"$f":"_xlfn.IFNA(VLOOKUP(B1015,_!$A$7:$F$210,6,FALSE),\"\")","v":""},{"$f":"IF(IF(MOD(ROWS(D$3:D1015),20)=1,INDEX('Summary Sheet'!$B$17:$B1067,INT(ROWS(D$3:D1015)/20)+1),\"\")=0,\"\",IF(MOD(ROWS(D$3:D1015),20)=1,INDEX('Summary Sheet'!$B$17:$B1067,INT(ROWS(D$3:D1015)/20)+1),\"\"))","v":""},{"$f":"_xlfn.IFNA(IF(VLOOKUP(B1015,_!$A$7:$E$210,2,FALSE)=0, \"\", VLOOKUP(B1015,_!$A$7:$E$210,2,FALSE)),  \"\")","v":""},{"$f":"_xlfn.IFNA(IF(VLOOKUP(B1015,_!$A$7:$E$210,3,FALSE)=0, \"\", VLOOKUP(B1015,_!$A$7:$E$210,3,FALSE)), \"\")","v":""},{"$f":"_xlfn.IFNA(IF(VLOOKUP(B1015,_!$A$7:$E$210,4,FALSE)=0, \"\",VLOOKUP(B1015,_!$A$7:$E$210,4,FALSE)), \"\")","v":""},{"$f":"_xlfn.IFNA(IF(VLOOKUP(B1015,_!$A$7:$E$210,5,FALSE)=0,\"\",VLOOKUP(B1015,_!$A$7:$E$210,5,FALSE)), \"\")","v":""}]
[10,null,{"$f":"_xlfn.IFNA(VLOOKUP(B1016,_!$A$7:$F$210,6,FALSE),\"\")","v":""},{"$f":"IF(IF(MOD(ROWS(D$14:D1016),20)=1,INDEX('Summary Sheet'!$B$17:$B1067,INT(ROWS(D$14:D1016)/20)+1),\"\")=0,\"\",IF(MOD(ROWS(D$14:D1016),20)=1,INDEX('Summary Sheet'!$B$17:$B1067,INT(ROWS(D$14:D1016)/20)+1),\"\"))","v":""},{"$f":"_xlfn.IFNA(IF(VLOOKUP(B1016,_!$A$7:$E$210,2,FALSE)=0, \"\", VLOOKUP(B1016,_!$A$7:$E$210,2,FALSE)),  \"\")","v":""},{"$f":"_xlfn.IFNA(IF(VLOOKUP(B1016,_!$A$7:$E$210,3,FALSE)=0, \"\", VLOOKUP(B1016,_!$A$7:$E$210,3,FALSE)), \"\")","v":""},{"$f":"_xlfn.IFNA(IF(VLOOKUP(B1016,_!$A$7:$E$210,4,FALSE)=0, \"\",VLOOKUP(B1016,_!$A$7:$E$210,4,FALSE)), \"\")","v":""},{"$f":"_xlfn.IFNA(IF(VLOOKUP(B1016,_!$A$7:$E$210,5,FALSE)=0,\"\",VLOOKUP(B1016,_!$A$7:$E$210,5,FALSE)), \"\")","v":""}]
[null,"\nHighest hazard level for each ‘Uptake Route’\n",null,null,{"$f":"_xlfn.IFNA(IF((INDEX(E1007:E1016,MATCH(\"E\",E1007:E1016,0)))=\"E\",\"E\",\"\"),_xlfn.IFNA(IF((INDEX(E1007:E1016,MATCH(\"D\",E1007:E1016,0)))=\"D\",\"D\",\"\"),_xlfn.IFNA(IF((INDEX(E1007:E1016,MATCH(\"Ca\",E1007:E1016,0)))=\"Ca\",\"C\",\"\"),_xlfn.IFNA(IF((INDEX(E1007:E1016,MATCH(\"C\",E1007:E1016,0)))=\"C\",\"C\",\"\"),_xlfn.IFNA(IF((INDEX(E1007:E1016,MATCH(\"B\",E1007:E1016,0)))=\"B\",\"B\",\"\"),_xlfn.IFNA(IF((INDEX(E1007:E1016,MATCH(\"A\",E1007:E1016,0)))=\"A\",\"A\",\"\"),_xlfn.IFNA(IF((INDEX(E1007:E1016,MATCH(\"n.a.\",E1007:E1016,0)))=\"n.a.\",\"\",\"\"),_xlfn.IFNA(IF((INDEX(E1007:E1016,MATCH(\"\",E1007:E1016,0)))=\"\",\"\",\"\"),\"\"))))))))","v":""},{"$f":"_xlfn.IFNA(IF((INDEX(F1007:F1016,MATCH(\"E\",F1007:F1016,0)))=\"E\",\"E\",\"\"),_xlfn.IFNA(IF((INDEX(F1007:F1016,MATCH(\"D (E)c\",F1007:F1016,0)))=\"D (E)c\",\"D (E)c\",\"\"),_xlfn.IFNA(IF((INDEX(F1007:F1016,MATCH(\"Da (E)c\",F1007:F1016,0)))=\"Da (E)c\",\"D (E)c\",\"\"),_xlfn.IFNA(IF((INDEX(F1007:F1016,MATCH(\"D\",F1007:F1016,0)))=\"D\",\"D\",\"\"),_xlfn.IFNA(IF((INDEX(F1007:F1016,MATCH(\"Ca\",F1007:F1016,0)))=\"Ca\",\"C\",\"\"),_xlfn.IFNA(IF((INDEX(F1007:F1016,MATCH(\"C\",F1007:F1016,0)))=\"C\",\"C\",\"\"),_xlfn.IFNA(IF((INDEX(F1007:F1016,MATCH(\"Ba\",F1007:F1016,0)))=\"Ba\",\"B\",\"\"),_xlfn.IFNA(IF((INDEX(F1007:F1016,MATCH(\"B\",F1007:F1016,0)))=\"B\",\"B\",\"\"),_xlfn.IFNA(IF((INDEX(F1007:F1016,MATCH(\"Aa\",F1007:F1016,0)))=\"Aa\",\"A\",\"\"),_xlfn.IFNA(IF((INDEX(F1007:F1016,MATCH(\"A\",F1007:F1016,0)))=\"A\",\"A\",\"\"),_xlfn.IFNA(IF((INDEX(F1007:F1016,MATCH(\"n.a.\",F1007:F1016,0)))=\"n.a.\",\"\",\"\"),_xlfn.IFNA(IF((INDEX(F1007:F1016,MATCH(\"\",F1007:F1016,0)))=\"\",\"\",\"\"),\"\"))))))))))))","v":""},{"$f":"_xlfn.IFNA(IF((INDEX(G1007:G1016,MATCH(\"E\",G1007:G1016,0)))=\"E\",\"E\",\"\"),_xlfn.IFNA(IF((INDEX(G1007:G1016,MATCH(\"D\",G1007:G1016,0)))=\"D\",\"D\",\"\"),_xlfn.IFNA(IF((INDEX(G1007:G1016,MATCH(\"Ca\",G1007:G1016,0)))=\"Ca\",\"C\",\"\"),_xlfn.IFNA(IF((INDEX(G1007:G1016,MATCH(\"C\",G1007:G1016,0)))=\"C\",\"C\",\"\"),_xlfn.IFNA(IF((INDEX(G1007:G1016,MATCH(\"B\",G1007:G1016,0)))=\"B\",\"B\",\"\"),_xlfn.IFNA(IF((INDEX(G1007:G1016,MATCH(\"A\",G1007:G1016,0)))=\"A\",\"A\",\"\"),_xlfn.IFNA(IF((INDEX(G1007:G1016,MATCH(\"n.a.\",G1007:G1016,0)))=\"n.a.\",\"\",\"\"),_xlfn.IFNA(IF((INDEX(G1007:G1016,MATCH(\"\",G1007:G1016,0)))=\"\",\"\",\"\"),\"\"))))))))","v":""},{"$f":"_xlfn.IFNA(IF((INDEX(H1007:H1016,MATCH(\"E\",H1007:H1016,0)))=\"E\",\"E\",\"\"),_xlfn.IFNA(IF((INDEX(H1007:H1016,MATCH(\"D (E)c\",H1007:H1016,0)))=\"D (E)c\",\"D (E)c\",\"\"),_xlfn.IFNA(IF((INDEX(H1007:H1016,MATCH(\"Db (E)c\",H1007:H1016,0)))=\"Db (E)c\",\"D (E)c\",\"\"),_xlfn.IFNA(IF((INDEX(H1007:H1016,MATCH(\"D\",H1007:H1016,0)))=\"D\",\"D\",\"\"),_xlfn.IFNA(IF((INDEX(H1007:H1016,MATCH(\"Cb\",H1007:H1016,0)))=\"Cb\",\"C\",\"\"),_xlfn.IFNA(IF((INDEX(H1007:H1016,MATCH(\"C\",H1007:H1016,0)))=\"C\",\"C\",\"\"),_xlfn.IFNA(IF((INDEX(H1007:H1016,MATCH(\"Bb\",H1007:H1016,0)))=\"Bb\",\"B\",\"\"),_xlfn.IFNA(IF((INDEX(H1007:H1016,MATCH(\"B\",H1007:H1016,0)))=\"B\",\"B\",\"\"),_xlfn.IFNA(IF((INDEX(H1007:H1016,MATCH(\"Ab\",H1007:H1016,0)))=\"Ab\",\"A\",\"\"),_xlfn.IFNA(IF((INDEX(H1007:H1016,MATCH(\"A\",H1007:H1016,0)))=\"A\",\"A\",\"\"),_xlfn.IFNA(IF((INDEX(H1007:H1016,MATCH(\"n.a.\",H1007:H1016,0)))=\"n.a.\",\"\",\"\"),_xlfn.IFNA(IF((INDEX(H1007:H1016,MATCH(\"\",H1007:H1016,0)))=\"\",\"\",\"\"),\"\"))))))))))))","v":""}]
[null,"\nHighest hazard level for all 'Uptake Routes' \n",null,null,{"$f":"_xlfn.IFNA(IF((INDEX(E1017:H1017,MATCH(\"E\",E1017:H1017,0)))=\"E\",\"E\",\"\"),_xlfn.IFNA(IF((INDEX(E1017:H1017,MATCH(\"D (E)c\",E1017:H1017,0)))=\"D (E)c\",\"D (E)\",\"\"),_xlfn.IFNA(IF((INDEX(E1017:H1017,MATCH(\"D\",E1017:H1017,0)))=\"D\",\"D\",\"\"),_xlfn.IFNA(IF((INDEX(E1017:H1017,MATCH(\"C\",E1017:H1017,0)))=\"C\",\"C\",\"\"),_xlfn.IFNA(IF((INDEX(E1017:H1017,MATCH(\"B\",E1017:H1017,0)))=\"B\",\"B\",\"\"),_xlfn.IFNA(IF((INDEX(E1017:H1017,MATCH(\"A\",E1017:H1017,0)))=\"A\",\"A\",\"\"),_xlfn.IFNA(IF((INDEX(E1017:H1017,MATCH(\"n.a.\",E1017:H1017,0)))=\"n.a.\",\"\",\"\"),_xlfn.IFNA(IF((INDEX(E1017:H1017,MATCH(\"\",E1017:H1017,0)))=\"\",\"\",\"\"),\"\"))))))))","v":""}]
[]
[]
[null,"\nStep 3: D(E) Assessment\nSkip this step if \nyour assessment above does not reveal a D(E) hazard level.\nHover over this cell for additional instructions.\n",null,null,"\nOverall hazard level\n",null,{"$f":"IF(AND(E1018=\"\",C1004=\"Yes\")=TRUE,\"B\",IF(E1018=\"\",\"\",(IF(AND(E1018=\"D (E)\",C1021=\"\"),\"D (E)\"&CHAR(10)&\"Find if cat. 1 acute tox.\",(IF(E1018<>\"D (E)\",E1018,(IF(AND(E1018=\"D (E)\",C1021=\"Yes\"),\"E\",(IF(AND(E1018=\"D (E)\",C1021=\"No\"),\"D\",\"\"))))))))))","v":""}]
[]
[{"$f":"IF(IF(MOD(ROWS(B$3:B1023),20)=1,INDEX('Summary Sheet'!$A$17:$A1086,INT(ROWS(B$3:B1023)/20)+1),\"\")=0,\"\",IF(MOD(ROWS(B$3:B1023),20)=1,INDEX('Summary Sheet'!$A$17:$A1086,INT(ROWS(B$3:B1023)/20)+1),\"\"))","v":52},"Hazard Level Assessment","for",{"$f":"IF(IF(MOD(ROWS(D$3:D1023),20)=1,INDEX('Summary Sheet'!$B$17:$B1086,INT(ROWS(D$3:D1023)/20)+1),\"\")=0,\"\",IF(MOD(ROWS(D$3:D1023),20)=1,INDEX('Summary Sheet'!$B$17:$B1086,INT(ROWS(D$3:D1023)/20)+1),\"\"))","v":""}]
[null,"\nStep 1: Physical & Environmental Hazard Statements/Codes\nFind Section 2 of the SDS and determine if the SDS has physical and/or environmental hazard statements/codes. Hover on this cell for additional instructions.\n",null,{"$f":"IF(IF(MOD(ROWS(D$3:D1024),20)=1,INDEX('Summary Sheet'!$B$17:$B1086,INT(ROWS(D$3:D1024)/20)+1),\"\")=0,\"\",IF(MOD(ROWS(D$3:D1024),20)=1,INDEX('Summary Sheet'!$B$17:$B1086,INT(ROWS(D$3:D1024)/20)+1),\"\"))","v":""}]
[null,"Step 2: Health Hazard Statements/Codes\nProvide the Health Hazard Statements or Codes from Section 2 of the SDS below. Hover on this cell for additional instructions.",null,{"$f":"IF(IF(MOD(ROWS(D$3:D1025),20)=1,INDEX('Summary Sheet'!$B$17:$B1086,INT(ROWS(D$3:D1025)/20)+1),\"\")=0,\"\",IF(MOD(ROWS(D$3:D1025),20)=1,INDEX('Summary Sheet'!$B$17:$B1086,INT(ROWS(D$3:D1025)/20)+1),\"\"))","v":""},"\nHazard Level\n"]
[null,null,null,{"$f":"IF(IF(MOD(ROWS(D$3:D1026),20)=1,INDEX('Summary Sheet'!$B$17:$B1086,INT(ROWS(D$3:D1026)/20)+1),\"\")=0,\"\",IF(MOD(ROWS(D$3:D1026),20)=1,INDEX('Summary Sheet'!$B$17:$B1086,INT(ROWS(D$3:D1026)/20)+1),\"\"))","v":""},"\nEye Damage\n","\nInhalation\n","\nLocal Skin Damage\n","\nSkin uptake, systemic\n"]
[1,null,{"$f":"_xlfn.IFNA(VLOOKUP(B1027,_!$A$7:$F$210,6,FALSE),\"\")","v":""},{"$f":"IF(IF(MOD(ROWS(D$3:D1027),20)=1,INDEX('Summary Sheet'!$B$17:$B1086,INT(ROWS(D$3:D1027)/20)+1),\"\")=0,\"\",IF(MOD(ROWS(D$3:D1027),20)=1,INDEX('Summary Sheet'!$B$17:$B1086,INT(ROWS(D$3:D1027)/20)+1),\"\"))","v":""},{"$f":"_xlfn.IFNA(IF(VLOOKUP(B1027,_!$A$7:$E$210,2,FALSE)=0, \"\", VLOOKUP(B1027,_!$A$7:$E$210,2,FALSE)),  \"\")","v":""},{"$f":"_xlfn.IFNA(IF(VLOOKUP(B1027,_!$A$7:$E$210,3,FALSE)=0, \"\", VLOOKUP(B1027,_!$A$7:$E$210,3,FALSE)), \"\")","v":""},{"$f":"_xlfn.IFNA(IF(VLOOKUP(B1027,_!$A$7:$E$210,4,FALSE)=0, \"\",VLOOKUP(B1027,_!$A$7:$E$210,4,FALSE)), \"\")","v":""},{"$f":"_xlfn.IFNA(IF(VLOOKUP(B1027,_!$A$7:$E$210,5,FALSE)=0,\"\",VLOOKUP(B1027,_!$A$7:$E$210,5,FALSE)), \"\")","v":""}]
[2,null,{"$f":"_xlfn.IFNA(VLOOKUP(B1028,_!$A$7:$F$210,6,FALSE),\"\")","v":""},{"$f":"IF(IF(MOD(ROWS(D$3:D1028),20)=1,INDEX('Summary Sheet'!$B$17:$B1086,INT(ROWS(D$3:D1028)/20)+1),\"\")=0,\"\",IF(MOD(ROWS(D$3:D1028),20)=1,INDEX('Summary Sheet'!$B$17:$B1086,INT(ROWS(D$3:D1028)/20)+1),\"\"))","v":""},{"$f":"_xlfn.IFNA(IF(VLOOKUP(B1028,_!$A$7:$E$210,2,FALSE)=0, \"\", VLOOKUP(B1028,_!$A$7:$E$210,2,FALSE)),  \"\")","v":""},{"$f":"_xlfn.IFNA(IF(VLOOKUP(B1028,_!$A$7:$E$210,3,FALSE)=0, \"\", VLOOKUP(B1028,_!$A$7:$E$210,3,FALSE)), \"\")","v":""},{"$f":"_xlfn.IFNA(IF(VLOOKUP(B1028,_!$A$7:$E$210,4,FALSE)=0, \"\",VLOOKUP(B1028,_!$A$7:$E$210,4,FALSE)), \"\")","v":""},{"$f":"_xlfn.IFNA(IF(VLOOKUP(B1028,_!$A$7:$E$210,5,FALSE)=0,\"\",VLOOKUP(B1028,_!$A$7:$E$210,5,FALSE)), \"\")","v":""}]
[3,null,{"$f":"_xlfn.IFNA(VLOOKUP(B1029,_!$A$7:$F$210,6,FALSE),\"\")","v":""},{"$f":"IF(IF(MOD(ROWS(D$3:D1029),20)=1,INDEX('Summary Sheet'!$B$17:$B1086,INT(ROWS(D$3:D1029)/20)+1),\"\")=0,\"\",IF(MOD(ROWS(D$3:D1029),20)=1,INDEX('Summary Sheet'!$B$17:$B1086,INT(ROWS(D$3:D1029)/20)+1),\"\"))","v":""},{"$f":"_xlfn.IFNA(IF(VLOOKUP(B1029,_!$A$7:$E$210,2,FALSE)=0, \"\", VLOOKUP(B1029,_!$A$7:$E$210,2,FALSE)),  \"\")","v":""},{"$f":"_xlfn.IFNA(IF(VLOOKUP(B1029,_!$A$7:$E$210,3,FALSE)=0, \"\", VLOOKUP(B1029,_!$A$7:$E$210,3,FALSE)), \"\")","v":""},{"$f":"_xlfn.IFNA(IF(VLOOKUP(B1029,_!$A$7:$E$210,4,FALSE)=0, \"\",VLOOKUP(B1029,_!$A$7:$E$210,4,FALSE)), \"\")","v":""},{"$f":"_xlfn.IFNA(IF(VLOOKUP(B1029,_!$A$7:$E$210,5,FALSE)=0,\"\",VLOOKUP(B1029,_!$A$7:$E$210,5,FALSE)), \"\")","v":""}]
[4,null,{"$f":"_xlfn.IFNA(VLOOKUP(B1030,_!$A$7:$F$210,6,FALSE),\"\")","v":""},{"$f":"IF(IF(MOD(ROWS(D$3:D1030),20)=1,INDEX('Summary Sheet'!$B$17:$B1086,INT(ROWS(D$3:D1030)/20)+1),\"\")=0,\"\",IF(MOD(ROWS(D$3:D1030),20)=1,INDEX('Summary Sheet'!$B$17:$B1086,INT(ROWS(D$3:D1030)/20)+1),\"\"))","v":""},{"$f":"_xlfn.IFNA(IF(VLOOKUP(B1030,_!$A$7:$E$210,2,FALSE)=0, \"\", VLOOKUP(B1030,_!$A$7:$E$210,2,FALSE)),  \"\")","v":""},{"$f":"_xlfn.IFNA(IF(VLOOKUP(B1030,_!$A$7:$E$210,3,FALSE)=0, \"\", VLOOKUP(B1030,_!$A$7:$E$210,3,FALSE)), \"\")","v":""},{"$f":"_xlfn.IFNA(IF(VLOOKUP(B1030,_!$A$7:$E$210,4,FALSE)=0, \"\",VLOOKUP(B1030,_!$A$7:$E$210,4,FALSE)), \"\")","v":""},{"$f":"_xlfn.IFNA(IF(VLOOKUP(B1030,_!$A$7:$E$210,5,FALSE)=0,\"\",VLOOKUP(B1030,_!$A$7:$E$210,5,FALSE)), \"\")","v":""}]
[5,null,{"$f":"_xlfn.IFNA(VLOOKUP(B1031,_!$A$7:$F$210,6,FALSE),\"\")","v":""},{"$f":"IF(IF(MOD(ROWS(D$3:D1031),20)=1,INDEX('Summary Sheet'!$B$17:$B1086,INT(ROWS(D$3:D1031)/20)+1),\"\")=0,\"\",IF(MOD(ROWS(D$3:D1031),20)=1,INDEX('Summary Sheet'!$B$17:$B1086,INT(ROWS(D$3:D1031)/20)+1),\"\"))","v":""},{"$f":"_xlfn.IFNA(IF(VLOOKUP(B1031,_!$A$7:$E$210,2,FALSE)=0, \"\", VLOOKUP(B1031,_!$A$7:$E$210,2,FALSE)),  \"\")","v":""},{"$f":"_xlfn.IFNA(IF(VLOOKUP(B1031,_!$A$7:$E$210,3,FALSE)=0, \"\", VLOOKUP(B1031,_!$A$7:$E$210,3,FALSE)), \"\")","v":""},{"$f":"_xlfn.IFNA(IF(VLOOKUP(B1031,_!$A$7:$E$210,4,FALSE)=0, \"\",VLOOKUP(B1031,_!$A$7:$E$210,4,FALSE)), \"\")","v":""},{"$f":"_xlfn.IFNA(IF(VLOOKUP(B1031,_!$A$7:$E$210,5,FALSE)=0,\"\",VLOOKUP(B1031,_!$A$7:$E$210,5,FALSE)), \"\")","v":""}]
[6,null,{"$f":"_xlfn.IFNA(VLOOKUP(B1032,_!$A$7:$F$210,6,FALSE),\"\")","v":""},{"$f":"IF(IF(MOD(ROWS(D$3:D1032),20)=1,INDEX('Summary Sheet'!$B$17:$B1086,INT(ROWS(D$3:D1032)/20)+1),\"\")=0,\"\",IF(MOD(ROWS(D$3:D1032),20)=1,INDEX('Summary Sheet'!$B$17:$B1086,INT(ROWS(D$3:D1032)/20)+1),\"\"))","v":""},{"$f":"_xlfn.IFNA(IF(VLOOKUP(B1032,_!$A$7:$E$210,2,FALSE)=0, \"\", VLOOKUP(B1032,_!$A$7:$E$210,2,FALSE)),  \"\")","v":""},{"$f":"_xlfn.IFNA(IF(VLOOKUP(B1032,_!$A$7:$E$210,3,FALSE)=0, \"\", VLOOKUP(B1032,_!$A$7:$E$210,3,FALSE)), \"\")","v":""},{"$f":"_xlfn.IFNA(IF(VLOOKUP(B1032,_!$A$7:$E$210,4,FALSE)=0, \"\",VLOOKUP(B1032,_!$A$7:$E$210,4,FALSE)), \"\")","v":""},{"$f":"_xlfn.IFNA(IF(VLOOKUP(B1032,_!$A$7:$E$210,5,FALSE)=0,\"\",VLOOKUP(B1032,_!$A$7:$E$210,5,FALSE)), \"\")","v":""}]
[7,null,{"$f":"_xlfn.IFNA(VLOOKUP(B1033,_!$A$7:$F$210,6,FALSE),\"\")","v":""},{"$f":"IF(IF(MOD(ROWS(D$3:D1033),20)=1,INDEX('Summary Sheet'!$B$17:$B1086,INT(ROWS(D$3:D1033)/20)+1),\"\")=0,\"\",IF(MOD(ROWS(D$3:D1033),20)=1,INDEX('Summary Sheet'!$B$17:$B1086,INT(ROWS(D$3:D1033)/20)+1),\"\"))","v":""},{"$f":"_xlfn.IFNA(IF(VLOOKUP(B1033,_!$A$7:$E$210,2,FALSE)=0, \"\", VLOOKUP(B1033,_!$A$7:$E$210,2,FALSE)),  \"\")","v":""},{"$f":"_xlfn.IFNA(IF(VLOOKUP(B1033,_!$A$7:$E$210,3,FALSE)=0, \"\", VLOOKUP(B1033,_!$A$7:$E$210,3,FALSE)), \"\")","v":""},{"$f":"_xlfn.IFNA(IF(VLOOKUP(B1033,_!$A$7:$E$210,4,FALSE)=0, \"\",VLOOKUP(B1033,_!$A$7:$E$210,4,FALSE)), \"\")","v":""},{"$f":"_xlfn.IFNA(IF(VLOOKUP(B1033,_!$A$7:$E$210,5,FALSE)=0,\"\",VLOOKUP(B1033,_!$A$7:$E$210,5,FALSE)), \"\")","v":""}]
[8,null,{"$f":"_xlfn.IFNA(VLOOKUP(B1034,_!$A$7:$F$210,6,FALSE),\"\")","v":""},{"$f":"IF(IF(MOD(ROWS(D$3:D1034),20)=1,INDEX('Summary Sheet'!$B$17:$B1086,INT(ROWS(D$3:D1034)/20)+1),\"\")=0,\"\",IF(MOD(ROWS(D$3:D1034),20)=1,INDEX('Summary Sheet'!$B$17:$B1086,INT(ROWS(D$3:D1034)/20)+1),\"\"))","v":""},{"$f":"_xlfn.IFNA(IF(VLOOKUP(B1034,_!$A$7:$E$210,2,FALSE)=0, \"\", VLOOKUP(B1034,_!$A$7:$E$210,2,FALSE)),  \"\")","v":""},{"$f":"_xlfn.IFNA(IF(VLOOKUP(B1034,_!$A$7:$E$210,3,FALSE)=0, \"\", VLOOKUP(B1034,_!$A$7:$E$210,3,FALSE)), \"\")","v":""},{"$f":"_xlfn.IFNA(IF(VLOOKUP(B1034,_!$A$7:$E$210,4,FALSE)=0, \"\",VLOOKUP(B1034,_!$A$7:$E$210,4,FALSE)), \"\")","v":""},{"$f":"_xlfn.IFNA(IF(VLOOKUP(B1034,_!$A$7:$E$210,5,FALSE)=0,\"\",VLOOKUP(B1034,_!$A$7:$E$210,5,FALSE)), \"\")","v":""}]
[9,null,{"$f":"_xlfn.IFNA(VLOOKUP(B1035,_!$A$7:$F$210,6,FALSE),\"\")","v":""},{"$f":"IF(IF(MOD(ROWS(D$3:D1035),20)=1,INDEX('Summary Sheet'!$B$17:$B1086,INT(ROWS(D$3:D1035)/20)+1),\"\")=0,\"\",IF(MOD(ROWS(D$3:D1035),20)=1,INDEX('Summary Sheet'!$B$17:$B1086,INT(ROWS(D$3:D1035)/20)+1),\"\"))","v":""},{"$f":"_xlfn.IFNA(IF(VLOOKUP(B1035,_!$A$7:$E$210,2,FALSE)=0, \"\", VLOOKUP(B1035,_!$A$7:$E$210,2,FALSE)),  \"\")","v":""},{"$f":"_xlfn.IFNA(IF(VLOOKUP(B1035,_!$A$7:$E$210,3,FALSE)=0, \"\", VLOOKUP(B1035,_!$A$7:$E$210,3,FALSE)), \"\")","v":""},{"$f":"_xlfn.IFNA(IF(VLOOKUP(B1035,_!$A$7:$E$210,4,FALSE)=0, \"\",VLOOKUP(B1035,_!$A$7:$E$210,4,FALSE)), \"\")","v":""},{"$f":"_xlfn.IFNA(IF(VLOOKUP(B1035,_!$A$7:$E$210,5,FALSE)=0,\"\",VLOOKUP(B1035,_!$A$7:$E$210,5,FALSE)), \"\")","v":""}]
[10,null,{"$f":"_xlfn.IFNA(VLOOKUP(B1036,_!$A$7:$F$210,6,FALSE),\"\")","v":""},{"$f":"IF(IF(MOD(ROWS(D$14:D1036),20)=1,INDEX('Summary Sheet'!$B$17:$B1086,INT(ROWS(D$14:D1036)/20)+1),\"\")=0,\"\",IF(MOD(ROWS(D$14:D1036),20)=1,INDEX('Summary Sheet'!$B$17:$B1086,INT(ROWS(D$14:D1036)/20)+1),\"\"))","v":""},{"$f":"_xlfn.IFNA(IF(VLOOKUP(B1036,_!$A$7:$E$210,2,FALSE)=0, \"\", VLOOKUP(B1036,_!$A$7:$E$210,2,FALSE)),  \"\")","v":""},{"$f":"_xlfn.IFNA(IF(VLOOKUP(B1036,_!$A$7:$E$210,3,FALSE)=0, \"\", VLOOKUP(B1036,_!$A$7:$E$210,3,FALSE)), \"\")","v":""},{"$f":"_xlfn.IFNA(IF(VLOOKUP(B1036,_!$A$7:$E$210,4,FALSE)=0, \"\",VLOOKUP(B1036,_!$A$7:$E$210,4,FALSE)), \"\")","v":""},{"$f":"_xlfn.IFNA(IF(VLOOKUP(B1036,_!$A$7:$E$210,5,FALSE)=0,\"\",VLOOKUP(B1036,_!$A$7:$E$210,5,FALSE)), \"\")","v":""}]
[null,"\nHighest hazard level for each ‘Uptake Route’\n",null,null,{"$f":"_xlfn.IFNA(IF((INDEX(E1027:E1036,MATCH(\"E\",E1027:E1036,0)))=\"E\",\"E\",\"\"),_xlfn.IFNA(IF((INDEX(E1027:E1036,MATCH(\"D\",E1027:E1036,0)))=\"D\",\"D\",\"\"),_xlfn.IFNA(IF((INDEX(E1027:E1036,MATCH(\"Ca\",E1027:E1036,0)))=\"Ca\",\"C\",\"\"),_xlfn.IFNA(IF((INDEX(E1027:E1036,MATCH(\"C\",E1027:E1036,0)))=\"C\",\"C\",\"\"),_xlfn.IFNA(IF((INDEX(E1027:E1036,MATCH(\"B\",E1027:E1036,0)))=\"B\",\"B\",\"\"),_xlfn.IFNA(IF((INDEX(E1027:E1036,MATCH(\"A\",E1027:E1036,0)))=\"A\",\"A\",\"\"),_xlfn.IFNA(IF((INDEX(E1027:E1036,MATCH(\"n.a.\",E1027:E1036,0)))=\"n.a.\",\"\",\"\"),_xlfn.IFNA(IF((INDEX(E1027:E1036,MATCH(\"\",E1027:E1036,0)))=\"\",\"\",\"\"),\"\"))))))))","v":""},{"$f":"_xlfn.IFNA(IF((INDEX(F1027:F1036,MATCH(\"E\",F1027:F1036,0)))=\"E\",\"E\",\"\"),_xlfn.IFNA(IF((INDEX(F1027:F1036,MATCH(\"D (E)c\",F1027:F1036,0)))=\"D (E)c\",\"D (E)c\",\"\"),_xlfn.IFNA(IF((INDEX(F1027:F1036,MATCH(\"Da (E)c\",F1027:F1036,0)))=\"Da (E)c\",\"D (E)c\",\"\"),_xlfn.IFNA(IF((INDEX(F1027:F1036,MATCH(\"D\",F1027:F1036,0)))=\"D\",\"D\",\"\"),_xlfn.IFNA(IF((INDEX(F1027:F1036,MATCH(\"Ca\",F1027:F1036,0)))=\"Ca\",\"C\",\"\"),_xlfn.IFNA(IF((INDEX(F1027:F1036,MATCH(\"C\",F1027:F1036,0)))=\"C\",\"C\",\"\"),_xlfn.IFNA(IF((INDEX(F1027:F1036,MATCH(\"Ba\",F1027:F1036,0)))=\"Ba\",\"B\",\"\"),_xlfn.IFNA(IF((INDEX(F1027:F1036,MATCH(\"B\",F1027:F1036,0)))=\"B\",\"B\",\"\"),_xlfn.IFNA(IF((INDEX(F1027:F1036,MATCH(\"Aa\",F1027:F1036,0)))=\"Aa\",\"A\",\"\"),_xlfn.IFNA(IF((INDEX(F1027:F1036,MATCH(\"A\",F1027:F1036,0)))=\"A\",\"A\",\"\"),_xlfn.IFNA(IF((INDEX(F1027:F1036,MATCH(\"n.a.\",F1027:F1036,0)))=\"n.a.\",\"\",\"\"),_xlfn.IFNA(IF((INDEX(F1027:F1036,MATCH(\"\",F1027:F1036,0)))=\"\",\"\",\"\"),\"\"))))))))))))","v":""},{"$f":"_xlfn.IFNA(IF((INDEX(G1027:G1036,MATCH(\"E\",G1027:G1036,0)))=\"E\",\"E\",\"\"),_xlfn.IFNA(IF((INDEX(G1027:G1036,MATCH(\"D\",G1027:G1036,0)))=\"D\",\"D\",\"\"),_xlfn.IFNA(IF((INDEX(G1027:G1036,MATCH(\"Ca\",G1027:G1036,0)))=\"Ca\",\"C\",\"\"),_xlfn.IFNA(IF((INDEX(G1027:G1036,MATCH(\"C\",G1027:G1036,0)))=\"C\",\"C\",\"\"),_xlfn.IFNA(IF((INDEX(G1027:G1036,MATCH(\"B\",G1027:G1036,0)))=\"B\",\"B\",\"\"),_xlfn.IFNA(IF((INDEX(G1027:G1036,MATCH(\"A\",G1027:G1036,0)))=\"A\",\"A\",\"\"),_xlfn.IFNA(IF((INDEX(G1027:G1036,MATCH(\"n.a.\",G1027:G1036,0)))=\"n.a.\",\"\",\"\"),_xlfn.IFNA(IF((INDEX(G1027:G1036,MATCH(\"\",G1027:G1036,0)))=\"\",\"\",\"\"),\"\"))))))))","v":""},{"$f":"_xlfn.IFNA(IF((INDEX(H1027:H1036,MATCH(\"E\",H1027:H1036,0)))=\"E\",\"E\",\"\"),_xlfn.IFNA(IF((INDEX(H1027:H1036,MATCH(\"D (E)c\",H1027:H1036,0)))=\"D (E)c\",\"D (E)c\",\"\"),_xlfn.IFNA(IF((INDEX(H1027:H1036,MATCH(\"Db (E)c\",H1027:H1036,0)))=\"Db (E)c\",\"D (E)c\",\"\"),_xlfn.IFNA(IF((INDEX(H1027:H1036,MATCH(\"D\",H1027:H1036,0)))=\"D\",\"D\",\"\"),_xlfn.IFNA(IF((INDEX(H1027:H1036,MATCH(\"Cb\",H1027:H1036,0)))=\"Cb\",\"C\",\"\"),_xlfn.IFNA(IF((INDEX(H1027:H1036,MATCH(\"C\",H1027:H1036,0)))=\"C\",\"C\",\"\"),_xlfn.IFNA(IF((INDEX(H1027:H1036,MATCH(\"Bb\",H1027:H1036,0)))=\"Bb\",\"B\",\"\"),_xlfn.IFNA(IF((INDEX(H1027:H1036,MATCH(\"B\",H1027:H1036,0)))=\"B\",\"B\",\"\"),_xlfn.IFNA(IF((INDEX(H1027:H1036,MATCH(\"Ab\",H1027:H1036,0)))=\"Ab\",\"A\",\"\"),_xlfn.IFNA(IF((INDEX(H1027:H1036,MATCH(\"A\",H1027:H1036,0)))=\"A\",\"A\",\"\"),_xlfn.IFNA(IF((INDEX(H1027:H1036,MATCH(\"n.a.\",H1027:H1036,0)))=\"n.a.\",\"\",\"\"),_xlfn.IFNA(IF((INDEX(H1027:H1036,MATCH(\"\",H1027:H1036,0)))=\"\",\"\",\"\"),\"\"))))))))))))","v":""}]
[null,"\nHighest hazard level for all 'Uptake Routes' \n",null,null,{"$f":"_xlfn.IFNA(IF((INDEX(E1037:H1037,MATCH(\"E\",E1037:H1037,0)))=\"E\",\"E\",\"\"),_xlfn.IFNA(IF((INDEX(E1037:H1037,MATCH(\"D (E)c\",E1037:H1037,0)))=\"D (E)c\",\"D (E)\",\"\"),_xlfn.IFNA(IF((INDEX(E1037:H1037,MATCH(\"D\",E1037:H1037,0)))=\"D\",\"D\",\"\"),_xlfn.IFNA(IF((INDEX(E1037:H1037,MATCH(\"C\",E1037:H1037,0)))=\"C\",\"C\",\"\"),_xlfn.IFNA(IF((INDEX(E1037:H1037,MATCH(\"B\",E1037:H1037,0)))=\"B\",\"B\",\"\"),_xlfn.IFNA(IF((INDEX(E1037:H1037,MATCH(\"A\",E1037:H1037,0)))=\"A\",\"A\",\"\"),_xlfn.IFNA(IF((INDEX(E1037:H1037,MATCH(\"n.a.\",E1037:H1037,0)))=\"n.a.\",\"\",\"\"),_xlfn.IFNA(IF((INDEX(E1037:H1037,MATCH(\"\",E1037:H1037,0)))=\"\",\"\",\"\"),\"\"))))))))","v":""}]
[]
[]
[null,"\nStep 3: D(E) Assessment\nSkip this step if \nyour assessment above does not reveal a D(E) hazard level.\nHover over this cell for additional instructions.\n",null,null,"\nOverall hazard level\n",null,{"$f":"IF(AND(E1038=\"\",C1024=\"Yes\")=TRUE,\"B\",IF(E1038=\"\",\"\",(IF(AND(E1038=\"D (E)\",C1041=\"\"),\"D (E)\"&CHAR(10)&\"Find if cat. 1 acute tox.\",(IF(E1038<>\"D (E)\",E1038,(IF(AND(E1038=\"D (E)\",C1041=\"Yes\"),\"E\",(IF(AND(E1038=\"D (E)\",C1041=\"No\"),\"D\",\"\"))))))))))","v":""}]
[]
[{"$f":"IF(IF(MOD(ROWS(B$3:B1043),20)=1,INDEX('Summary Sheet'!$A$17:$A1105,INT(ROWS(B$3:B1043)/20)+1),\"\")=0,\"\",IF(MOD(ROWS(B$3:B1043),20)=1,INDEX('Summary Sheet'!$A$17:$A1105,INT(ROWS(B$3:B1043)/20)+1),\"\"))","v":53},"Hazard Level Assessment","for",{"$f":"IF(IF(MOD(ROWS(D$3:D1043),20)=1,INDEX('Summary Sheet'!$B$17:$B1105,INT(ROWS(D$3:D1043)/20)+1),\"\")=0,\"\",IF(MOD(ROWS(D$3:D1043),20)=1,INDEX('Summary Sheet'!$B$17:$B1105,INT(ROWS(D$3:D1043)/20)+1),\"\"))","v":""}]
[null,"\nStep 1: Physical & Environmental Hazard Statements/Codes\nFind Section 2 of the SDS and determine if the SDS has physical and/or environmental hazard statements/codes. Hover on this cell for additional instructions.\n",null,{"$f":"IF(IF(MOD(ROWS(D$3:D1044),20)=1,INDEX('Summary Sheet'!$B$17:$B1105,INT(ROWS(D$3:D1044)/20)+1),\"\")=0,\"\",IF(MOD(ROWS(D$3:D1044),20)=1,INDEX('Summary Sheet'!$B$17:$B1105,INT(ROWS(D$3:D1044)/20)+1),\"\"))","v":""}]
[null,"Step 2: Health Hazard Statements/Codes\nProvide the Health Hazard Statements or Codes from Section 2 of the SDS below. Hover on this cell for additional instructions.",null,{"$f":"IF(IF(MOD(ROWS(D$3:D1045),20)=1,INDEX('Summary Sheet'!$B$17:$B1105,INT(ROWS(D$3:D1045)/20)+1),\"\")=0,\"\",IF(MOD(ROWS(D$3:D1045),20)=1,INDEX('Summary Sheet'!$B$17:$B1105,INT(ROWS(D$3:D1045)/20)+1),\"\"))","v":""},"\nHazard Level\n"]
[null,null,null,{"$f":"IF(IF(MOD(ROWS(D$3:D1046),20)=1,INDEX('Summary Sheet'!$B$17:$B1105,INT(ROWS(D$3:D1046)/20)+1),\"\")=0,\"\",IF(MOD(ROWS(D$3:D1046),20)=1,INDEX('Summary Sheet'!$B$17:$B1105,INT(ROWS(D$3:D1046)/20)+1),\"\"))","v":""},"\nEye Damage\n","\nInhalation\n","\nLocal Skin Damage\n","\nSkin uptake, systemic\n"]
[1,null,{"$f":"_xlfn.IFNA(VLOOKUP(B1047,_!$A$7:$F$210,6,FALSE),\"\")","v":""},{"$f":"IF(IF(MOD(ROWS(D$3:D1047),20)=1,INDEX('Summary Sheet'!$B$17:$B1105,INT(ROWS(D$3:D1047)/20)+1),\"\")=0,\"\",IF(MOD(ROWS(D$3:D1047),20)=1,INDEX('Summary Sheet'!$B$17:$B1105,INT(ROWS(D$3:D1047)/20)+1),\"\"))","v":""},{"$f":"_xlfn.IFNA(IF(VLOOKUP(B1047,_!$A$7:$E$210,2,FALSE)=0, \"\", VLOOKUP(B1047,_!$A$7:$E$210,2,FALSE)),  \"\")","v":""},{"$f":"_xlfn.IFNA(IF(VLOOKUP(B1047,_!$A$7:$E$210,3,FALSE)=0, \"\", VLOOKUP(B1047,_!$A$7:$E$210,3,FALSE)), \"\")","v":""},{"$f":"_xlfn.IFNA(IF(VLOOKUP(B1047,_!$A$7:$E$210,4,FALSE)=0, \"\",VLOOKUP(B1047,_!$A$7:$E$210,4,FALSE)), \"\")","v":""},{"$f":"_xlfn.IFNA(IF(VLOOKUP(B1047,_!$A$7:$E$210,5,FALSE)=0,\"\",VLOOKUP(B1047,_!$A$7:$E$210,5,FALSE)), \"\")","v":""}]
[2,null,{"$f":"_xlfn.IFNA(VLOOKUP(B1048,_!$A$7:$F$210,6,FALSE),\"\")","v":""},{"$f":"IF(IF(MOD(ROWS(D$3:D1048),20)=1,INDEX('Summary Sheet'!$B$17:$B1105,INT(ROWS(D$3:D1048)/20)+1),\"\")=0,\"\",IF(MOD(ROWS(D$3:D1048),20)=1,INDEX('Summary Sheet'!$B$17:$B1105,INT(ROWS(D$3:D1048)/20)+1),\"\"))","v":""},{"$f":"_xlfn.IFNA(IF(VLOOKUP(B1048,_!$A$7:$E$210,2,FALSE)=0, \"\", VLOOKUP(B1048,_!$A$7:$E$210,2,FALSE)),  \"\")","v":""},{"$f":"_xlfn.IFNA(IF(VLOOKUP(B1048,_!$A$7:$E$210,3,FALSE)=0, \"\", VLOOKUP(B1048,_!$A$7:$E$210,3,FALSE)), \"\")","v":""},{"$f":"_xlfn.IFNA(IF(VLOOKUP(B1048,_!$A$7:$E$210,4,FALSE)=0, \"\",VLOOKUP(B1048,_!$A$7:$E$210,4,FALSE)), \"\")","v":""},{"$f":"_xlfn.IFNA(IF(VLOOKUP(B1048,_!$A$7:$E$210,5,FALSE)=0,\"\",VLOOKUP(B1048,_!$A$7:$E$210,5,FALSE)), \"\")","v":""}]
[3,null,{"$f":"_xlfn.IFNA(VLOOKUP(B1049,_!$A$7:$F$210,6,FALSE),\"\")","v":""},{"$f":"IF(IF(MOD(ROWS(D$3:D1049),20)=1,INDEX('Summary Sheet'!$B$17:$B1105,INT(ROWS(D$3:D1049)/20)+1),\"\")=0,\"\",IF(MOD(ROWS(D$3:D1049),20)=1,INDEX('Summary Sheet'!$B$17:$B1105,INT(ROWS(D$3:D1049)/20)+1),\"\"))","v":""},{"$f":"_xlfn.IFNA(IF(VLOOKUP(B1049,_!$A$7:$E$210,2,FALSE)=0, \"\", VLOOKUP(B1049,_!$A$7:$E$210,2,FALSE)),  \"\")","v":""},{"$f":"_xlfn.IFNA(IF(VLOOKUP(B1049,_!$A$7:$E$210,3,FALSE)=0, \"\", VLOOKUP(B1049,_!$A$7:$E$210,3,FALSE)), \"\")","v":""},{"$f":"_xlfn.IFNA(IF(VLOOKUP(B1049,_!$A$7:$E$210,4,FALSE)=0, \"\",VLOOKUP(B1049,_!$A$7:$E$210,4,FALSE)), \"\")","v":""},{"$f":"_xlfn.IFNA(IF(VLOOKUP(B1049,_!$A$7:$E$210,5,FALSE)=0,\"\",VLOOKUP(B1049,_!$A$7:$E$210,5,FALSE)), \"\")","v":""}]
[4,null,{"$f":"_xlfn.IFNA(VLOOKUP(B1050,_!$A$7:$F$210,6,FALSE),\"\")","v":""},{"$f":"IF(IF(MOD(ROWS(D$3:D1050),20)=1,INDEX('Summary Sheet'!$B$17:$B1105,INT(ROWS(D$3:D1050)/20)+1),\"\")=0,\"\",IF(MOD(ROWS(D$3:D1050),20)=1,INDEX('Summary Sheet'!$B$17:$B1105,INT(ROWS(D$3:D1050)/20)+1),\"\"))","v":""},{"$f":"_xlfn.IFNA(IF(VLOOKUP(B1050,_!$A$7:$E$210,2,FALSE)=0, \"\", VLOOKUP(B1050,_!$A$7:$E$210,2,FALSE)),  \"\")","v":""},{"$f":"_xlfn.IFNA(IF(VLOOKUP(B1050,_!$A$7:$E$210,3,FALSE)=0, \"\", VLOOKUP(B1050,_!$A$7:$E$210,3,FALSE)), \"\")","v":""},{"$f":"_xlfn.IFNA(IF(VLOOKUP(B1050,_!$A$7:$E$210,4,FALSE)=0, \"\",VLOOKUP(B1050,_!$A$7:$E$210,4,FALSE)), \"\")","v":""},{"$f":"_xlfn.IFNA(IF(VLOOKUP(B1050,_!$A$7:$E$210,5,FALSE)=0,\"\",VLOOKUP(B1050,_!$A$7:$E$210,5,FALSE)), \"\")","v":""}]
[5,null,{"$f":"_xlfn.IFNA(VLOOKUP(B1051,_!$A$7:$F$210,6,FALSE),\"\")","v":""},{"$f":"IF(IF(MOD(ROWS(D$3:D1051),20)=1,INDEX('Summary Sheet'!$B$17:$B1105,INT(ROWS(D$3:D1051)/20)+1),\"\")=0,\"\",IF(MOD(ROWS(D$3:D1051),20)=1,INDEX('Summary Sheet'!$B$17:$B1105,INT(ROWS(D$3:D1051)/20)+1),\"\"))","v":""},{"$f":"_xlfn.IFNA(IF(VLOOKUP(B1051,_!$A$7:$E$210,2,FALSE)=0, \"\", VLOOKUP(B1051,_!$A$7:$E$210,2,FALSE)),  \"\")","v":""},{"$f":"_xlfn.IFNA(IF(VLOOKUP(B1051,_!$A$7:$E$210,3,FALSE)=0, \"\", VLOOKUP(B1051,_!$A$7:$E$210,3,FALSE)), \"\")","v":""},{"$f":"_xlfn.IFNA(IF(VLOOKUP(B1051,_!$A$7:$E$210,4,FALSE)=0, \"\",VLOOKUP(B1051,_!$A$7:$E$210,4,FALSE)), \"\")","v":""},{"$f":"_xlfn.IFNA(IF(VLOOKUP(B1051,_!$A$7:$E$210,5,FALSE)=0,\"\",VLOOKUP(B1051,_!$A$7:$E$210,5,FALSE)), \"\")","v":""}]
[6,null,{"$f":"_xlfn.IFNA(VLOOKUP(B1052,_!$A$7:$F$210,6,FALSE),\"\")","v":""},{"$f":"IF(IF(MOD(ROWS(D$3:D1052),20)=1,INDEX('Summary Sheet'!$B$17:$B1105,INT(ROWS(D$3:D1052)/20)+1),\"\")=0,\"\",IF(MOD(ROWS(D$3:D1052),20)=1,INDEX('Summary Sheet'!$B$17:$B1105,INT(ROWS(D$3:D1052)/20)+1),\"\"))","v":""},{"$f":"_xlfn.IFNA(IF(VLOOKUP(B1052,_!$A$7:$E$210,2,FALSE)=0, \"\", VLOOKUP(B1052,_!$A$7:$E$210,2,FALSE)),  \"\")","v":""},{"$f":"_xlfn.IFNA(IF(VLOOKUP(B1052,_!$A$7:$E$210,3,FALSE)=0, \"\", VLOOKUP(B1052,_!$A$7:$E$210,3,FALSE)), \"\")","v":""},{"$f":"_xlfn.IFNA(IF(VLOOKUP(B1052,_!$A$7:$E$210,4,FALSE)=0, \"\",VLOOKUP(B1052,_!$A$7:$E$210,4,FALSE)), \"\")","v":""},{"$f":"_xlfn.IFNA(IF(VLOOKUP(B1052,_!$A$7:$E$210,5,FALSE)=0,\"\",VLOOKUP(B1052,_!$A$7:$E$210,5,FALSE)), \"\")","v":""}]
[7,null,{"$f":"_xlfn.IFNA(VLOOKUP(B1053,_!$A$7:$F$210,6,FALSE),\"\")","v":""},{"$f":"IF(IF(MOD(ROWS(D$3:D1053),20)=1,INDEX('Summary Sheet'!$B$17:$B1105,INT(ROWS(D$3:D1053)/20)+1),\"\")=0,\"\",IF(MOD(ROWS(D$3:D1053),20)=1,INDEX('Summary Sheet'!$B$17:$B1105,INT(ROWS(D$3:D1053)/20)+1),\"\"))","v":""},{"$f":"_xlfn.IFNA(IF(VLOOKUP(B1053,_!$A$7:$E$210,2,FALSE)=0, \"\", VLOOKUP(B1053,_!$A$7:$E$210,2,FALSE)),  \"\")","v":""},{"$f":"_xlfn.IFNA(IF(VLOOKUP(B1053,_!$A$7:$E$210,3,FALSE)=0, \"\", VLOOKUP(B1053,_!$A$7:$E$210,3,FALSE)), \"\")","v":""},{"$f":"_xlfn.IFNA(IF(VLOOKUP(B1053,_!$A$7:$E$210,4,FALSE)=0, \"\",VLOOKUP(B1053,_!$A$7:$E$210,4,FALSE)), \"\")","v":""},{"$f":"_xlfn.IFNA(IF(VLOOKUP(B1053,_!$A$7:$E$210,5,FALSE)=0,\"\",VLOOKUP(B1053,_!$A$7:$E$210,5,FALSE)), \"\")","v":""}]
[8,null,{"$f":"_xlfn.IFNA(VLOOKUP(B1054,_!$A$7:$F$210,6,FALSE),\"\")","v":""},{"$f":"IF(IF(MOD(ROWS(D$3:D1054),20)=1,INDEX('Summary Sheet'!$B$17:$B1105,INT(ROWS(D$3:D1054)/20)+1),\"\")=0,\"\",IF(MOD(ROWS(D$3:D1054),20)=1,INDEX('Summary Sheet'!$B$17:$B1105,INT(ROWS(D$3:D1054)/20)+1),\"\"))","v":""},{"$f":"_xlfn.IFNA(IF(VLOOKUP(B1054,_!$A$7:$E$210,2,FALSE)=0, \"\", VLOOKUP(B1054,_!$A$7:$E$210,2,FALSE)),  \"\")","v":""},{"$f":"_xlfn.IFNA(IF(VLOOKUP(B1054,_!$A$7:$E$210,3,FALSE)=0, \"\", VLOOKUP(B1054,_!$A$7:$E$210,3,FALSE)), \"\")","v":""},{"$f":"_xlfn.IFNA(IF(VLOOKUP(B1054,_!$A$7:$E$210,4,FALSE)=0, \"\",VLOOKUP(B1054,_!$A$7:$E$210,4,FALSE)), \"\")","v":""},{"$f":"_xlfn.IFNA(IF(VLOOKUP(B1054,_!$A$7:$E$210,5,FALSE)=0,\"\",VLOOKUP(B1054,_!$A$7:$E$210,5,FALSE)), \"\")","v":""}]
[9,null,{"$f":"_xlfn.IFNA(VLOOKUP(B1055,_!$A$7:$F$210,6,FALSE),\"\")","v":""},{"$f":"IF(IF(MOD(ROWS(D$3:D1055),20)=1,INDEX('Summary Sheet'!$B$17:$B1105,INT(ROWS(D$3:D1055)/20)+1),\"\")=0,\"\",IF(MOD(ROWS(D$3:D1055),20)=1,INDEX('Summary Sheet'!$B$17:$B1105,INT(ROWS(D$3:D1055)/20)+1),\"\"))","v":""},{"$f":"_xlfn.IFNA(IF(VLOOKUP(B1055,_!$A$7:$E$210,2,FALSE)=0, \"\", VLOOKUP(B1055,_!$A$7:$E$210,2,FALSE)),  \"\")","v":""},{"$f":"_xlfn.IFNA(IF(VLOOKUP(B1055,_!$A$7:$E$210,3,FALSE)=0, \"\", VLOOKUP(B1055,_!$A$7:$E$210,3,FALSE)), \"\")","v":""},{"$f":"_xlfn.IFNA(IF(VLOOKUP(B1055,_!$A$7:$E$210,4,FALSE)=0, \"\",VLOOKUP(B1055,_!$A$7:$E$210,4,FALSE)), \"\")","v":""},{"$f":"_xlfn.IFNA(IF(VLOOKUP(B1055,_!$A$7:$E$210,5,FALSE)=0,\"\",VLOOKUP(B1055,_!$A$7:$E$210,5,FALSE)), \"\")","v":""}]
[10,null,{"$f":"_xlfn.IFNA(VLOOKUP(B1056,_!$A$7:$F$210,6,FALSE),\"\")","v":""},{"$f":"IF(IF(MOD(ROWS(D$14:D1056),20)=1,INDEX('Summary Sheet'!$B$17:$B1105,INT(ROWS(D$14:D1056)/20)+1),\"\")=0,\"\",IF(MOD(ROWS(D$14:D1056),20)=1,INDEX('Summary Sheet'!$B$17:$B1105,INT(ROWS(D$14:D1056)/20)+1),\"\"))","v":""},{"$f":"_xlfn.IFNA(IF(VLOOKUP(B1056,_!$A$7:$E$210,2,FALSE)=0, \"\", VLOOKUP(B1056,_!$A$7:$E$210,2,FALSE)),  \"\")","v":""},{"$f":"_xlfn.IFNA(IF(VLOOKUP(B1056,_!$A$7:$E$210,3,FALSE)=0, \"\", VLOOKUP(B1056,_!$A$7:$E$210,3,FALSE)), \"\")","v":""},{"$f":"_xlfn.IFNA(IF(VLOOKUP(B1056,_!$A$7:$E$210,4,FALSE)=0, \"\",VLOOKUP(B1056,_!$A$7:$E$210,4,FALSE)), \"\")","v":""},{"$f":"_xlfn.IFNA(IF(VLOOKUP(B1056,_!$A$7:$E$210,5,FALSE)=0,\"\",VLOOKUP(B1056,_!$A$7:$E$210,5,FALSE)), \"\")","v":""}]
[null,"\nHighest hazard level for each ‘Uptake Route’\n",null,null,{"$f":"_xlfn.IFNA(IF((INDEX(E1047:E1056,MATCH(\"E\",E1047:E1056,0)))=\"E\",\"E\",\"\"),_xlfn.IFNA(IF((INDEX(E1047:E1056,MATCH(\"D\",E1047:E1056,0)))=\"D\",\"D\",\"\"),_xlfn.IFNA(IF((INDEX(E1047:E1056,MATCH(\"Ca\",E1047:E1056,0)))=\"Ca\",\"C\",\"\"),_xlfn.IFNA(IF((INDEX(E1047:E1056,MATCH(\"C\",E1047:E1056,0)))=\"C\",\"C\",\"\"),_xlfn.IFNA(IF((INDEX(E1047:E1056,MATCH(\"B\",E1047:E1056,0)))=\"B\",\"B\",\"\"),_xlfn.IFNA(IF((INDEX(E1047:E1056,MATCH(\"A\",E1047:E1056,0)))=\"A\",\"A\",\"\"),_xlfn.IFNA(IF((INDEX(E1047:E1056,MATCH(\"n.a.\",E1047:E1056,0)))=\"n.a.\",\"\",\"\"),_xlfn.IFNA(IF((INDEX(E1047:E1056,MATCH(\"\",E1047:E1056,0)))=\"\",\"\",\"\"),\"\"))))))))","v":""},{"$f":"_xlfn.IFNA(IF((INDEX(F1047:F1056,MATCH(\"E\",F1047:F1056,0)))=\"E\",\"E\",\"\"),_xlfn.IFNA(IF((INDEX(F1047:F1056,MATCH(\"D (E)c\",F1047:F1056,0)))=\"D (E)c\",\"D (E)c\",\"\"),_xlfn.IFNA(IF((INDEX(F1047:F1056,MATCH(\"Da (E)c\",F1047:F1056,0)))=\"Da (E)c\",\"D (E)c\",\"\"),_xlfn.IFNA(IF((INDEX(F1047:F1056,MATCH(\"D\",F1047:F1056,0)))=\"D\",\"D\",\"\"),_xlfn.IFNA(IF((INDEX(F1047:F1056,MATCH(\"Ca\",F1047:F1056,0)))=\"Ca\",\"C\",\"\"),_xlfn.IFNA(IF((INDEX(F1047:F1056,MATCH(\"C\",F1047:F1056,0)))=\"C\",\"C\",\"\"),_xlfn.IFNA(IF((INDEX(F1047:F1056,MATCH(\"Ba\",F1047:F1056,0)))=\"Ba\",\"B\",\"\"),_xlfn.IFNA(IF((INDEX(F1047:F1056,MATCH(\"B\",F1047:F1056,0)))=\"B\",\"B\",\"\"),_xlfn.IFNA(IF((INDEX(F1047:F1056,MATCH(\"Aa\",F1047:F1056,0)))=\"Aa\",\"A\",\"\"),_xlfn.IFNA(IF((INDEX(F1047:F1056,MATCH(\"A\",F1047:F1056,0)))=\"A\",\"A\",\"\"),_xlfn.IFNA(IF((INDEX(F1047:F1056,MATCH(\"n.a.\",F1047:F1056,0)))=\"n.a.\",\"\",\"\"),_xlfn.IFNA(IF((INDEX(F1047:F1056,MATCH(\"\",F1047:F1056,0)))=\"\",\"\",\"\"),\"\"))))))))))))","v":""},{"$f":"_xlfn.IFNA(IF((INDEX(G1047:G1056,MATCH(\"E\",G1047:G1056,0)))=\"E\",\"E\",\"\"),_xlfn.IFNA(IF((INDEX(G1047:G1056,MATCH(\"D\",G1047:G1056,0)))=\"D\",\"D\",\"\"),_xlfn.IFNA(IF((INDEX(G1047:G1056,MATCH(\"Ca\",G1047:G1056,0)))=\"Ca\",\"C\",\"\"),_xlfn.IFNA(IF((INDEX(G1047:G1056,MATCH(\"C\",G1047:G1056,0)))=\"C\",\"C\",\"\"),_xlfn.IFNA(IF((INDEX(G1047:G1056,MATCH(\"B\",G1047:G1056,0)))=\"B\",\"B\",\"\"),_xlfn.IFNA(IF((INDEX(G1047:G1056,MATCH(\"A\",G1047:G1056,0)))=\"A\",\"A\",\"\"),_xlfn.IFNA(IF((INDEX(G1047:G1056,MATCH(\"n.a.\",G1047:G1056,0)))=\"n.a.\",\"\",\"\"),_xlfn.IFNA(IF((INDEX(G1047:G1056,MATCH(\"\",G1047:G1056,0)))=\"\",\"\",\"\"),\"\"))))))))","v":""},{"$f":"_xlfn.IFNA(IF((INDEX(H1047:H1056,MATCH(\"E\",H1047:H1056,0)))=\"E\",\"E\",\"\"),_xlfn.IFNA(IF((INDEX(H1047:H1056,MATCH(\"D (E)c\",H1047:H1056,0)))=\"D (E)c\",\"D (E)c\",\"\"),_xlfn.IFNA(IF((INDEX(H1047:H1056,MATCH(\"Db (E)c\",H1047:H1056,0)))=\"Db (E)c\",\"D (E)c\",\"\"),_xlfn.IFNA(IF((INDEX(H1047:H1056,MATCH(\"D\",H1047:H1056,0)))=\"D\",\"D\",\"\"),_xlfn.IFNA(IF((INDEX(H1047:H1056,MATCH(\"Cb\",H1047:H1056,0)))=\"Cb\",\"C\",\"\"),_xlfn.IFNA(IF((INDEX(H1047:H1056,MATCH(\"C\",H1047:H1056,0)))=\"C\",\"C\",\"\"),_xlfn.IFNA(IF((INDEX(H1047:H1056,MATCH(\"Bb\",H1047:H1056,0)))=\"Bb\",\"B\",\"\"),_xlfn.IFNA(IF((INDEX(H1047:H1056,MATCH(\"B\",H1047:H1056,0)))=\"B\",\"B\",\"\"),_xlfn.IFNA(IF((INDEX(H1047:H1056,MATCH(\"Ab\",H1047:H1056,0)))=\"Ab\",\"A\",\"\"),_xlfn.IFNA(IF((INDEX(H1047:H1056,MATCH(\"A\",H1047:H1056,0)))=\"A\",\"A\",\"\"),_xlfn.IFNA(IF((INDEX(H1047:H1056,MATCH(\"n.a.\",H1047:H1056,0)))=\"n.a.\",\"\",\"\"),_xlfn.IFNA(IF((INDEX(H1047:H1056,MATCH(\"\",H1047:H1056,0)))=\"\",\"\",\"\"),\"\"))))))))))))","v":""}]
[null,"\nHighest hazard level for all 'Uptake Routes' \n",null,null,{"$f":"_xlfn.IFNA(IF((INDEX(E1057:H1057,MATCH(\"E\",E1057:H1057,0)))=\"E\",\"E\",\"\"),_xlfn.IFNA(IF((INDEX(E1057:H1057,MATCH(\"D (E)c\",E1057:H1057,0)))=\"D (E)c\",\"D (E)\",\"\"),_xlfn.IFNA(IF((INDEX(E1057:H1057,MATCH(\"D\",E1057:H1057,0)))=\"D\",\"D\",\"\"),_xlfn.IFNA(IF((INDEX(E1057:H1057,MATCH(\"C\",E1057:H1057,0)))=\"C\",\"C\",\"\"),_xlfn.IFNA(IF((INDEX(E1057:H1057,MATCH(\"B\",E1057:H1057,0)))=\"B\",\"B\",\"\"),_xlfn.IFNA(IF((INDEX(E1057:H1057,MATCH(\"A\",E1057:H1057,0)))=\"A\",\"A\",\"\"),_xlfn.IFNA(IF((INDEX(E1057:H1057,MATCH(\"n.a.\",E1057:H1057,0)))=\"n.a.\",\"\",\"\"),_xlfn.IFNA(IF((INDEX(E1057:H1057,MATCH(\"\",E1057:H1057,0)))=\"\",\"\",\"\"),\"\"))))))))","v":""}]
[]
[]
[null,"\nStep 3: D(E) Assessment\nSkip this step if \nyour assessment above does not reveal a D(E) hazard level.\nHover over this cell for additional instructions.\n",null,null,"\nOverall hazard level\n",null,{"$f":"IF(AND(E1058=\"\",C1044=\"Yes\")=TRUE,\"B\",IF(E1058=\"\",\"\",(IF(AND(E1058=\"D (E)\",C1061=\"\"),\"D (E)\"&CHAR(10)&\"Find if cat. 1 acute tox.\",(IF(E1058<>\"D (E)\",E1058,(IF(AND(E1058=\"D (E)\",C1061=\"Yes\"),\"E\",(IF(AND(E1058=\"D (E)\",C1061=\"No\"),\"D\",\"\"))))))))))","v":""}]
[]
[{"$f":"IF(IF(MOD(ROWS(B$3:B1063),20)=1,INDEX('Summary Sheet'!$A$17:$A1124,INT(ROWS(B$3:B1063)/20)+1),\"\")=0,\"\",IF(MOD(ROWS(B$3:B1063),20)=1,INDEX('Summary Sheet'!$A$17:$A1124,INT(ROWS(B$3:B1063)/20)+1),\"\"))","v":54},"Hazard Level Assessment","for",{"$f":"IF(IF(MOD(ROWS(D$3:D1063),20)=1,INDEX('Summary Sheet'!$B$17:$B1124,INT(ROWS(D$3:D1063)/20)+1),\"\")=0,\"\",IF(MOD(ROWS(D$3:D1063),20)=1,INDEX('Summary Sheet'!$B$17:$B1124,INT(ROWS(D$3:D1063)/20)+1),\"\"))","v":""}]
[null,"\nStep 1: Physical & Environmental Hazard Statements/Codes\nFind Section 2 of the SDS and determine if the SDS has physical and/or environmental hazard statements/codes. Hover on this cell for additional instructions.\n",null,{"$f":"IF(IF(MOD(ROWS(D$3:D1064),20)=1,INDEX('Summary Sheet'!$B$17:$B1124,INT(ROWS(D$3:D1064)/20)+1),\"\")=0,\"\",IF(MOD(ROWS(D$3:D1064),20)=1,INDEX('Summary Sheet'!$B$17:$B1124,INT(ROWS(D$3:D1064)/20)+1),\"\"))","v":""}]
[null,"Step 2: Health Hazard Statements/Codes\nProvide the Health Hazard Statements or Codes from Section 2 of the SDS below. Hover on this cell for additional instructions.",null,{"$f":"IF(IF(MOD(ROWS(D$3:D1065),20)=1,INDEX('Summary Sheet'!$B$17:$B1124,INT(ROWS(D$3:D1065)/20)+1),\"\")=0,\"\",IF(MOD(ROWS(D$3:D1065),20)=1,INDEX('Summary Sheet'!$B$17:$B1124,INT(ROWS(D$3:D1065)/20)+1),\"\"))","v":""},"\nHazard Level\n"]
[null,null,null,{"$f":"IF(IF(MOD(ROWS(D$3:D1066),20)=1,INDEX('Summary Sheet'!$B$17:$B1124,INT(ROWS(D$3:D1066)/20)+1),\"\")=0,\"\",IF(MOD(ROWS(D$3:D1066),20)=1,INDEX('Summary Sheet'!$B$17:$B1124,INT(ROWS(D$3:D1066)/20)+1),\"\"))","v":""},"\nEye Damage\n","\nInhalation\n","\nLocal Skin Damage\n","\nSkin uptake, systemic\n"]
[1,null,{"$f":"_xlfn.IFNA(VLOOKUP(B1067,_!$A$7:$F$210,6,FALSE),\"\")","v":""},{"$f":"IF(IF(MOD(ROWS(D$3:D1067),20)=1,INDEX('Summary Sheet'!$B$17:$B1124,INT(ROWS(D$3:D1067)/20)+1),\"\")=0,\"\",IF(MOD(ROWS(D$3:D1067),20)=1,INDEX('Summary Sheet'!$B$17:$B1124,INT(ROWS(D$3:D1067)/20)+1),\"\"))","v":""},{"$f":"_xlfn.IFNA(IF(VLOOKUP(B1067,_!$A$7:$E$210,2,FALSE)=0, \"\", VLOOKUP(B1067,_!$A$7:$E$210,2,FALSE)),  \"\")","v":""},{"$f":"_xlfn.IFNA(IF(VLOOKUP(B1067,_!$A$7:$E$210,3,FALSE)=0, \"\", VLOOKUP(B1067,_!$A$7:$E$210,3,FALSE)), \"\")","v":""},{"$f":"_xlfn.IFNA(IF(VLOOKUP(B1067,_!$A$7:$E$210,4,FALSE)=0, \"\",VLOOKUP(B1067,_!$A$7:$E$210,4,FALSE)), \"\")","v":""},{"$f":"_xlfn.IFNA(IF(VLOOKUP(B1067,_!$A$7:$E$210,5,FALSE)=0,\"\",VLOOKUP(B1067,_!$A$7:$E$210,5,FALSE)), \"\")","v":""}]
[2,null,{"$f":"_xlfn.IFNA(VLOOKUP(B1068,_!$A$7:$F$210,6,FALSE),\"\")","v":""},{"$f":"IF(IF(MOD(ROWS(D$3:D1068),20)=1,INDEX('Summary Sheet'!$B$17:$B1124,INT(ROWS(D$3:D1068)/20)+1),\"\")=0,\"\",IF(MOD(ROWS(D$3:D1068),20)=1,INDEX('Summary Sheet'!$B$17:$B1124,INT(ROWS(D$3:D1068)/20)+1),\"\"))","v":""},{"$f":"_xlfn.IFNA(IF(VLOOKUP(B1068,_!$A$7:$E$210,2,FALSE)=0, \"\", VLOOKUP(B1068,_!$A$7:$E$210,2,FALSE)),  \"\")","v":""},{"$f":"_xlfn.IFNA(IF(VLOOKUP(B1068,_!$A$7:$E$210,3,FALSE)=0, \"\", VLOOKUP(B1068,_!$A$7:$E$210,3,FALSE)), \"\")","v":""},{"$f":"_xlfn.IFNA(IF(VLOOKUP(B1068,_!$A$7:$E$210,4,FALSE)=0, \"\",VLOOKUP(B1068,_!$A$7:$E$210,4,FALSE)), \"\")","v":""},{"$f":"_xlfn.IFNA(IF(VLOOKUP(B1068,_!$A$7:$E$210,5,FALSE)=0,\"\",VLOOKUP(B1068,_!$A$7:$E$210,5,FALSE)), \"\")","v":""}]
[3,null,{"$f":"_xlfn.IFNA(VLOOKUP(B1069,_!$A$7:$F$210,6,FALSE),\"\")","v":""},{"$f":"IF(IF(MOD(ROWS(D$3:D1069),20)=1,INDEX('Summary Sheet'!$B$17:$B1124,INT(ROWS(D$3:D1069)/20)+1),\"\")=0,\"\",IF(MOD(ROWS(D$3:D1069),20)=1,INDEX('Summary Sheet'!$B$17:$B1124,INT(ROWS(D$3:D1069)/20)+1),\"\"))","v":""},{"$f":"_xlfn.IFNA(IF(VLOOKUP(B1069,_!$A$7:$E$210,2,FALSE)=0, \"\", VLOOKUP(B1069,_!$A$7:$E$210,2,FALSE)),  \"\")","v":""},{"$f":"_xlfn.IFNA(IF(VLOOKUP(B1069,_!$A$7:$E$210,3,FALSE)=0, \"\", VLOOKUP(B1069,_!$A$7:$E$210,3,FALSE)), \"\")","v":""},{"$f":"_xlfn.IFNA(IF(VLOOKUP(B1069,_!$A$7:$E$210,4,FALSE)=0, \"\",VLOOKUP(B1069,_!$A$7:$E$210,4,FALSE)), \"\")","v":""},{"$f":"_xlfn.IFNA(IF(VLOOKUP(B1069,_!$A$7:$E$210,5,FALSE)=0,\"\",VLOOKUP(B1069,_!$A$7:$E$210,5,FALSE)), \"\")","v":""}]
[4,null,{"$f":"_xlfn.IFNA(VLOOKUP(B1070,_!$A$7:$F$210,6,FALSE),\"\")","v":""},{"$f":"IF(IF(MOD(ROWS(D$3:D1070),20)=1,INDEX('Summary Sheet'!$B$17:$B1124,INT(ROWS(D$3:D1070)/20)+1),\"\")=0,\"\",IF(MOD(ROWS(D$3:D1070),20)=1,INDEX('Summary Sheet'!$B$17:$B1124,INT(ROWS(D$3:D1070)/20)+1),\"\"))","v":""},{"$f":"_xlfn.IFNA(IF(VLOOKUP(B1070,_!$A$7:$E$210,2,FALSE)=0, \"\", VLOOKUP(B1070,_!$A$7:$E$210,2,FALSE)),  \"\")","v":""},{"$f":"_xlfn.IFNA(IF(VLOOKUP(B1070,_!$A$7:$E$210,3,FALSE)=0, \"\", VLOOKUP(B1070,_!$A$7:$E$210,3,FALSE)), \"\")","v":""},{"$f":"_xlfn.IFNA(IF(VLOOKUP(B1070,_!$A$7:$E$210,4,FALSE)=0, \"\",VLOOKUP(B1070,_!$A$7:$E$210,4,FALSE)), \"\")","v":""},{"$f":"_xlfn.IFNA(IF(VLOOKUP(B1070,_!$A$7:$E$210,5,FALSE)=0,\"\",VLOOKUP(B1070,_!$A$7:$E$210,5,FALSE)), \"\")","v":""}]
[5,null,{"$f":"_xlfn.IFNA(VLOOKUP(B1071,_!$A$7:$F$210,6,FALSE),\"\")","v":""},{"$f":"IF(IF(MOD(ROWS(D$3:D1071),20)=1,INDEX('Summary Sheet'!$B$17:$B1124,INT(ROWS(D$3:D1071)/20)+1),\"\")=0,\"\",IF(MOD(ROWS(D$3:D1071),20)=1,INDEX('Summary Sheet'!$B$17:$B1124,INT(ROWS(D$3:D1071)/20)+1),\"\"))","v":""},{"$f":"_xlfn.IFNA(IF(VLOOKUP(B1071,_!$A$7:$E$210,2,FALSE)=0, \"\", VLOOKUP(B1071,_!$A$7:$E$210,2,FALSE)),  \"\")","v":""},{"$f":"_xlfn.IFNA(IF(VLOOKUP(B1071,_!$A$7:$E$210,3,FALSE)=0, \"\", VLOOKUP(B1071,_!$A$7:$E$210,3,FALSE)), \"\")","v":""},{"$f":"_xlfn.IFNA(IF(VLOOKUP(B1071,_!$A$7:$E$210,4,FALSE)=0, \"\",VLOOKUP(B1071,_!$A$7:$E$210,4,FALSE)), \"\")","v":""},{"$f":"_xlfn.IFNA(IF(VLOOKUP(B1071,_!$A$7:$E$210,5,FALSE)=0,\"\",VLOOKUP(B1071,_!$A$7:$E$210,5,FALSE)), \"\")","v":""}]
[6,null,{"$f":"_xlfn.IFNA(VLOOKUP(B1072,_!$A$7:$F$210,6,FALSE),\"\")","v":""},{"$f":"IF(IF(MOD(ROWS(D$3:D1072),20)=1,INDEX('Summary Sheet'!$B$17:$B1124,INT(ROWS(D$3:D1072)/20)+1),\"\")=0,\"\",IF(MOD(ROWS(D$3:D1072),20)=1,INDEX('Summary Sheet'!$B$17:$B1124,INT(ROWS(D$3:D1072)/20)+1),\"\"))","v":""},{"$f":"_xlfn.IFNA(IF(VLOOKUP(B1072,_!$A$7:$E$210,2,FALSE)=0, \"\", VLOOKUP(B1072,_!$A$7:$E$210,2,FALSE)),  \"\")","v":""},{"$f":"_xlfn.IFNA(IF(VLOOKUP(B1072,_!$A$7:$E$210,3,FALSE)=0, \"\", VLOOKUP(B1072,_!$A$7:$E$210,3,FALSE)), \"\")","v":""},{"$f":"_xlfn.IFNA(IF(VLOOKUP(B1072,_!$A$7:$E$210,4,FALSE)=0, \"\",VLOOKUP(B1072,_!$A$7:$E$210,4,FALSE)), \"\")","v":""},{"$f":"_xlfn.IFNA(IF(VLOOKUP(B1072,_!$A$7:$E$210,5,FALSE)=0,\"\",VLOOKUP(B1072,_!$A$7:$E$210,5,FALSE)), \"\")","v":""}]
[7,null,{"$f":"_xlfn.IFNA(VLOOKUP(B1073,_!$A$7:$F$210,6,FALSE),\"\")","v":""},{"$f":"IF(IF(MOD(ROWS(D$3:D1073),20)=1,INDEX('Summary Sheet'!$B$17:$B1124,INT(ROWS(D$3:D1073)/20)+1),\"\")=0,\"\",IF(MOD(ROWS(D$3:D1073),20)=1,INDEX('Summary Sheet'!$B$17:$B1124,INT(ROWS(D$3:D1073)/20)+1),\"\"))","v":""},{"$f":"_xlfn.IFNA(IF(VLOOKUP(B1073,_!$A$7:$E$210,2,FALSE)=0, \"\", VLOOKUP(B1073,_!$A$7:$E$210,2,FALSE)),  \"\")","v":""},{"$f":"_xlfn.IFNA(IF(VLOOKUP(B1073,_!$A$7:$E$210,3,FALSE)=0, \"\", VLOOKUP(B1073,_!$A$7:$E$210,3,FALSE)), \"\")","v":""},{"$f":"_xlfn.IFNA(IF(VLOOKUP(B1073,_!$A$7:$E$210,4,FALSE)=0, \"\",VLOOKUP(B1073,_!$A$7:$E$210,4,FALSE)), \"\")","v":""},{"$f":"_xlfn.IFNA(IF(VLOOKUP(B1073,_!$A$7:$E$210,5,FALSE)=0,\"\",VLOOKUP(B1073,_!$A$7:$E$210,5,FALSE)), \"\")","v":""}]
[8,null,{"$f":"_xlfn.IFNA(VLOOKUP(B1074,_!$A$7:$F$210,6,FALSE),\"\")","v":""},{"$f":"IF(IF(MOD(ROWS(D$3:D1074),20)=1,INDEX('Summary Sheet'!$B$17:$B1124,INT(ROWS(D$3:D1074)/20)+1),\"\")=0,\"\",IF(MOD(ROWS(D$3:D1074),20)=1,INDEX('Summary Sheet'!$B$17:$B1124,INT(ROWS(D$3:D1074)/20)+1),\"\"))","v":""},{"$f":"_xlfn.IFNA(IF(VLOOKUP(B1074,_!$A$7:$E$210,2,FALSE)=0, \"\", VLOOKUP(B1074,_!$A$7:$E$210,2,FALSE)),  \"\")","v":""},{"$f":"_xlfn.IFNA(IF(VLOOKUP(B1074,_!$A$7:$E$210,3,FALSE)=0, \"\", VLOOKUP(B1074,_!$A$7:$E$210,3,FALSE)), \"\")","v":""},{"$f":"_xlfn.IFNA(IF(VLOOKUP(B1074,_!$A$7:$E$210,4,FALSE)=0, \"\",VLOOKUP(B1074,_!$A$7:$E$210,4,FALSE)), \"\")","v":""},{"$f":"_xlfn.IFNA(IF(VLOOKUP(B1074,_!$A$7:$E$210,5,FALSE)=0,\"\",VLOOKUP(B1074,_!$A$7:$E$210,5,FALSE)), \"\")","v":""}]
[9,null,{"$f":"_xlfn.IFNA(VLOOKUP(B1075,_!$A$7:$F$210,6,FALSE),\"\")","v":""},{"$f":"IF(IF(MOD(ROWS(D$3:D1075),20)=1,INDEX('Summary Sheet'!$B$17:$B1124,INT(ROWS(D$3:D1075)/20)+1),\"\")=0,\"\",IF(MOD(ROWS(D$3:D1075),20)=1,INDEX('Summary Sheet'!$B$17:$B1124,INT(ROWS(D$3:D1075)/20)+1),\"\"))","v":""},{"$f":"_xlfn.IFNA(IF(VLOOKUP(B1075,_!$A$7:$E$210,2,FALSE)=0, \"\", VLOOKUP(B1075,_!$A$7:$E$210,2,FALSE)),  \"\")","v":""},{"$f":"_xlfn.IFNA(IF(VLOOKUP(B1075,_!$A$7:$E$210,3,FALSE)=0, \"\", VLOOKUP(B1075,_!$A$7:$E$210,3,FALSE)), \"\")","v":""},{"$f":"_xlfn.IFNA(IF(VLOOKUP(B1075,_!$A$7:$E$210,4,FALSE)=0, \"\",VLOOKUP(B1075,_!$A$7:$E$210,4,FALSE)), \"\")","v":""},{"$f":"_xlfn.IFNA(IF(VLOOKUP(B1075,_!$A$7:$E$210,5,FALSE)=0,\"\",VLOOKUP(B1075,_!$A$7:$E$210,5,FALSE)), \"\")","v":""}]
[10,null,{"$f":"_xlfn.IFNA(VLOOKUP(B1076,_!$A$7:$F$210,6,FALSE),\"\")","v":""},{"$f":"IF(IF(MOD(ROWS(D$14:D1076),20)=1,INDEX('Summary Sheet'!$B$17:$B1124,INT(ROWS(D$14:D1076)/20)+1),\"\")=0,\"\",IF(MOD(ROWS(D$14:D1076),20)=1,INDEX('Summary Sheet'!$B$17:$B1124,INT(ROWS(D$14:D1076)/20)+1),\"\"))","v":""},{"$f":"_xlfn.IFNA(IF(VLOOKUP(B1076,_!$A$7:$E$210,2,FALSE)=0, \"\", VLOOKUP(B1076,_!$A$7:$E$210,2,FALSE)),  \"\")","v":""},{"$f":"_xlfn.IFNA(IF(VLOOKUP(B1076,_!$A$7:$E$210,3,FALSE)=0, \"\", VLOOKUP(B1076,_!$A$7:$E$210,3,FALSE)), \"\")","v":""},{"$f":"_xlfn.IFNA(IF(VLOOKUP(B1076,_!$A$7:$E$210,4,FALSE)=0, \"\",VLOOKUP(B1076,_!$A$7:$E$210,4,FALSE)), \"\")","v":""},{"$f":"_xlfn.IFNA(IF(VLOOKUP(B1076,_!$A$7:$E$210,5,FALSE)=0,\"\",VLOOKUP(B1076,_!$A$7:$E$210,5,FALSE)), \"\")","v":""}]
[null,"\nHighest hazard level for each ‘Uptake Route’\n",null,null,{"$f":"_xlfn.IFNA(IF((INDEX(E1067:E1076,MATCH(\"E\",E1067:E1076,0)))=\"E\",\"E\",\"\"),_xlfn.IFNA(IF((INDEX(E1067:E1076,MATCH(\"D\",E1067:E1076,0)))=\"D\",\"D\",\"\"),_xlfn.IFNA(IF((INDEX(E1067:E1076,MATCH(\"Ca\",E1067:E1076,0)))=\"Ca\",\"C\",\"\"),_xlfn.IFNA(IF((INDEX(E1067:E1076,MATCH(\"C\",E1067:E1076,0)))=\"C\",\"C\",\"\"),_xlfn.IFNA(IF((INDEX(E1067:E1076,MATCH(\"B\",E1067:E1076,0)))=\"B\",\"B\",\"\"),_xlfn.IFNA(IF((INDEX(E1067:E1076,MATCH(\"A\",E1067:E1076,0)))=\"A\",\"A\",\"\"),_xlfn.IFNA(IF((INDEX(E1067:E1076,MATCH(\"n.a.\",E1067:E1076,0)))=\"n.a.\",\"\",\"\"),_xlfn.IFNA(IF((INDEX(E1067:E1076,MATCH(\"\",E1067:E1076,0)))=\"\",\"\",\"\"),\"\"))))))))","v":""},{"$f":"_xlfn.IFNA(IF((INDEX(F1067:F1076,MATCH(\"E\",F1067:F1076,0)))=\"E\",\"E\",\"\"),_xlfn.IFNA(IF((INDEX(F1067:F1076,MATCH(\"D (E)c\",F1067:F1076,0)))=\"D (E)c\",\"D (E)c\",\"\"),_xlfn.IFNA(IF((INDEX(F1067:F1076,MATCH(\"Da (E)c\",F1067:F1076,0)))=\"Da (E)c\",\"D (E)c\",\"\"),_xlfn.IFNA(IF((INDEX(F1067:F1076,MATCH(\"D\",F1067:F1076,0)))=\"D\",\"D\",\"\"),_xlfn.IFNA(IF((INDEX(F1067:F1076,MATCH(\"Ca\",F1067:F1076,0)))=\"Ca\",\"C\",\"\"),_xlfn.IFNA(IF((INDEX(F1067:F1076,MATCH(\"C\",F1067:F1076,0)))=\"C\",\"C\",\"\"),_xlfn.IFNA(IF((INDEX(F1067:F1076,MATCH(\"Ba\",F1067:F1076,0)))=\"Ba\",\"B\",\"\"),_xlfn.IFNA(IF((INDEX(F1067:F1076,MATCH(\"B\",F1067:F1076,0)))=\"B\",\"B\",\"\"),_xlfn.IFNA(IF((INDEX(F1067:F1076,MATCH(\"Aa\",F1067:F1076,0)))=\"Aa\",\"A\",\"\"),_xlfn.IFNA(IF((INDEX(F1067:F1076,MATCH(\"A\",F1067:F1076,0)))=\"A\",\"A\",\"\"),_xlfn.IFNA(IF((INDEX(F1067:F1076,MATCH(\"n.a.\",F1067:F1076,0)))=\"n.a.\",\"\",\"\"),_xlfn.IFNA(IF((INDEX(F1067:F1076,MATCH(\"\",F1067:F1076,0)))=\"\",\"\",\"\"),\"\"))))))))))))","v":""},{"$f":"_xlfn.IFNA(IF((INDEX(G1067:G1076,MATCH(\"E\",G1067:G1076,0)))=\"E\",\"E\",\"\"),_xlfn.IFNA(IF((INDEX(G1067:G1076,MATCH(\"D\",G1067:G1076,0)))=\"D\",\"D\",\"\"),_xlfn.IFNA(IF((INDEX(G1067:G1076,MATCH(\"Ca\",G1067:G1076,0)))=\"Ca\",\"C\",\"\"),_xlfn.IFNA(IF((INDEX(G1067:G1076,MATCH(\"C\",G1067:G1076,0)))=\"C\",\"C\",\"\"),_xlfn.IFNA(IF((INDEX(G1067:G1076,MATCH(\"B\",G1067:G1076,0)))=\"B\",\"B\",\"\"),_xlfn.IFNA(IF((INDEX(G1067:G1076,MATCH(\"A\",G1067:G1076,0)))=\"A\",\"A\",\"\"),_xlfn.IFNA(IF((INDEX(G1067:G1076,MATCH(\"n.a.\",G1067:G1076,0)))=\"n.a.\",\"\",\"\"),_xlfn.IFNA(IF((INDEX(G1067:G1076,MATCH(\"\",G1067:G1076,0)))=\"\",\"\",\"\"),\"\"))))))))","v":""},{"$f":"_xlfn.IFNA(IF((INDEX(H1067:H1076,MATCH(\"E\",H1067:H1076,0)))=\"E\",\"E\",\"\"),_xlfn.IFNA(IF((INDEX(H1067:H1076,MATCH(\"D (E)c\",H1067:H1076,0)))=\"D (E)c\",\"D (E)c\",\"\"),_xlfn.IFNA(IF((INDEX(H1067:H1076,MATCH(\"Db (E)c\",H1067:H1076,0)))=\"Db (E)c\",\"D (E)c\",\"\"),_xlfn.IFNA(IF((INDEX(H1067:H1076,MATCH(\"D\",H1067:H1076,0)))=\"D\",\"D\",\"\"),_xlfn.IFNA(IF((INDEX(H1067:H1076,MATCH(\"Cb\",H1067:H1076,0)))=\"Cb\",\"C\",\"\"),_xlfn.IFNA(IF((INDEX(H1067:H1076,MATCH(\"C\",H1067:H1076,0)))=\"C\",\"C\",\"\"),_xlfn.IFNA(IF((INDEX(H1067:H1076,MATCH(\"Bb\",H1067:H1076,0)))=\"Bb\",\"B\",\"\"),_xlfn.IFNA(IF((INDEX(H1067:H1076,MATCH(\"B\",H1067:H1076,0)))=\"B\",\"B\",\"\"),_xlfn.IFNA(IF((INDEX(H1067:H1076,MATCH(\"Ab\",H1067:H1076,0)))=\"Ab\",\"A\",\"\"),_xlfn.IFNA(IF((INDEX(H1067:H1076,MATCH(\"A\",H1067:H1076,0)))=\"A\",\"A\",\"\"),_xlfn.IFNA(IF((INDEX(H1067:H1076,MATCH(\"n.a.\",H1067:H1076,0)))=\"n.a.\",\"\",\"\"),_xlfn.IFNA(IF((INDEX(H1067:H1076,MATCH(\"\",H1067:H1076,0)))=\"\",\"\",\"\"),\"\"))))))))))))","v":""}]
[null,"\nHighest hazard level for all 'Uptake Routes' \n",null,null,{"$f":"_xlfn.IFNA(IF((INDEX(E1077:H1077,MATCH(\"E\",E1077:H1077,0)))=\"E\",\"E\",\"\"),_xlfn.IFNA(IF((INDEX(E1077:H1077,MATCH(\"D (E)c\",E1077:H1077,0)))=\"D (E)c\",\"D (E)\",\"\"),_xlfn.IFNA(IF((INDEX(E1077:H1077,MATCH(\"D\",E1077:H1077,0)))=\"D\",\"D\",\"\"),_xlfn.IFNA(IF((INDEX(E1077:H1077,MATCH(\"C\",E1077:H1077,0)))=\"C\",\"C\",\"\"),_xlfn.IFNA(IF((INDEX(E1077:H1077,MATCH(\"B\",E1077:H1077,0)))=\"B\",\"B\",\"\"),_xlfn.IFNA(IF((INDEX(E1077:H1077,MATCH(\"A\",E1077:H1077,0)))=\"A\",\"A\",\"\"),_xlfn.IFNA(IF((INDEX(E1077:H1077,MATCH(\"n.a.\",E1077:H1077,0)))=\"n.a.\",\"\",\"\"),_xlfn.IFNA(IF((INDEX(E1077:H1077,MATCH(\"\",E1077:H1077,0)))=\"\",\"\",\"\"),\"\"))))))))","v":""}]
[]
[]
[null,"\nStep 3: D(E) Assessment\nSkip this step if \nyour assessment above does not reveal a D(E) hazard level.\nHover over this cell for additional instructions.\n",null,null,"\nOverall hazard level\n",null,{"$f":"IF(AND(E1078=\"\",C1064=\"Yes\")=TRUE,\"B\",IF(E1078=\"\",\"\",(IF(AND(E1078=\"D (E)\",C1081=\"\"),\"D (E)\"&CHAR(10)&\"Find if cat. 1 acute tox.\",(IF(E1078<>\"D (E)\",E1078,(IF(AND(E1078=\"D (E)\",C1081=\"Yes\"),\"E\",(IF(AND(E1078=\"D (E)\",C1081=\"No\"),\"D\",\"\"))))))))))","v":""}]
[]
[{"$f":"IF(IF(MOD(ROWS(B$3:B1083),20)=1,INDEX('Summary Sheet'!$A$17:$A1143,INT(ROWS(B$3:B1083)/20)+1),\"\")=0,\"\",IF(MOD(ROWS(B$3:B1083),20)=1,INDEX('Summary Sheet'!$A$17:$A1143,INT(ROWS(B$3:B1083)/20)+1),\"\"))","v":55},"Hazard Level Assessment","for",{"$f":"IF(IF(MOD(ROWS(D$3:D1083),20)=1,INDEX('Summary Sheet'!$B$17:$B1143,INT(ROWS(D$3:D1083)/20)+1),\"\")=0,\"\",IF(MOD(ROWS(D$3:D1083),20)=1,INDEX('Summary Sheet'!$B$17:$B1143,INT(ROWS(D$3:D1083)/20)+1),\"\"))","v":""}]
[null,"\nStep 1: Physical & Environmental Hazard Statements/Codes\nFind Section 2 of the SDS and determine if the SDS has physical and/or environmental hazard statements/codes. Hover on this cell for additional instructions.\n",null,{"$f":"IF(IF(MOD(ROWS(D$3:D1084),20)=1,INDEX('Summary Sheet'!$B$17:$B1143,INT(ROWS(D$3:D1084)/20)+1),\"\")=0,\"\",IF(MOD(ROWS(D$3:D1084),20)=1,INDEX('Summary Sheet'!$B$17:$B1143,INT(ROWS(D$3:D1084)/20)+1),\"\"))","v":""}]
[null,"Step 2: Health Hazard Statements/Codes\nProvide the Health Hazard Statements or Codes from Section 2 of the SDS below. Hover on this cell for additional instructions.",null,{"$f":"IF(IF(MOD(ROWS(D$3:D1085),20)=1,INDEX('Summary Sheet'!$B$17:$B1143,INT(ROWS(D$3:D1085)/20)+1),\"\")=0,\"\",IF(MOD(ROWS(D$3:D1085),20)=1,INDEX('Summary Sheet'!$B$17:$B1143,INT(ROWS(D$3:D1085)/20)+1),\"\"))","v":""},"\nHazard Level\n"]
[null,null,null,{"$f":"IF(IF(MOD(ROWS(D$3:D1086),20)=1,INDEX('Summary Sheet'!$B$17:$B1143,INT(ROWS(D$3:D1086)/20)+1),\"\")=0,\"\",IF(MOD(ROWS(D$3:D1086),20)=1,INDEX('Summary Sheet'!$B$17:$B1143,INT(ROWS(D$3:D1086)/20)+1),\"\"))","v":""},"\nEye Damage\n","\nInhalation\n","\nLocal Skin Damage\n","\nSkin uptake, systemic\n"]
[1,null,{"$f":"_xlfn.IFNA(VLOOKUP(B1087,_!$A$7:$F$210,6,FALSE),\"\")","v":""},{"$f":"IF(IF(MOD(ROWS(D$3:D1087),20)=1,INDEX('Summary Sheet'!$B$17:$B1143,INT(ROWS(D$3:D1087)/20)+1),\"\")=0,\"\",IF(MOD(ROWS(D$3:D1087),20)=1,INDEX('Summary Sheet'!$B$17:$B1143,INT(ROWS(D$3:D1087)/20)+1),\"\"))","v":""},{"$f":"_xlfn.IFNA(IF(VLOOKUP(B1087,_!$A$7:$E$210,2,FALSE)=0, \"\", VLOOKUP(B1087,_!$A$7:$E$210,2,FALSE)),  \"\")","v":""},{"$f":"_xlfn.IFNA(IF(VLOOKUP(B1087,_!$A$7:$E$210,3,FALSE)=0, \"\", VLOOKUP(B1087,_!$A$7:$E$210,3,FALSE)), \"\")","v":""},{"$f":"_xlfn.IFNA(IF(VLOOKUP(B1087,_!$A$7:$E$210,4,FALSE)=0, \"\",VLOOKUP(B1087,_!$A$7:$E$210,4,FALSE)), \"\")","v":""},{"$f":"_xlfn.IFNA(IF(VLOOKUP(B1087,_!$A$7:$E$210,5,FALSE)=0,\"\",VLOOKUP(B1087,_!$A$7:$E$210,5,FALSE)), \"\")","v":""}]
[2,null,{"$f":"_xlfn.IFNA(VLOOKUP(B1088,_!$A$7:$F$210,6,FALSE),\"\")","v":""},{"$f":"IF(IF(MOD(ROWS(D$3:D1088),20)=1,INDEX('Summary Sheet'!$B$17:$B1143,INT(ROWS(D$3:D1088)/20)+1),\"\")=0,\"\",IF(MOD(ROWS(D$3:D1088),20)=1,INDEX('Summary Sheet'!$B$17:$B1143,INT(ROWS(D$3:D1088)/20)+1),\"\"))","v":""},{"$f":"_xlfn.IFNA(IF(VLOOKUP(B1088,_!$A$7:$E$210,2,FALSE)=0, \"\", VLOOKUP(B1088,_!$A$7:$E$210,2,FALSE)),  \"\")","v":""},{"$f":"_xlfn.IFNA(IF(VLOOKUP(B1088,_!$A$7:$E$210,3,FALSE)=0, \"\", VLOOKUP(B1088,_!$A$7:$E$210,3,FALSE)), \"\")","v":""},{"$f":"_xlfn.IFNA(IF(VLOOKUP(B1088,_!$A$7:$E$210,4,FALSE)=0, \"\",VLOOKUP(B1088,_!$A$7:$E$210,4,FALSE)), \"\")","v":""},{"$f":"_xlfn.IFNA(IF(VLOOKUP(B1088,_!$A$7:$E$210,5,FALSE)=0,\"\",VLOOKUP(B1088,_!$A$7:$E$210,5,FALSE)), \"\")","v":""}]
[3,null,{"$f":"_xlfn.IFNA(VLOOKUP(B1089,_!$A$7:$F$210,6,FALSE),\"\")","v":""},{"$f":"IF(IF(MOD(ROWS(D$3:D1089),20)=1,INDEX('Summary Sheet'!$B$17:$B1143,INT(ROWS(D$3:D1089)/20)+1),\"\")=0,\"\",IF(MOD(ROWS(D$3:D1089),20)=1,INDEX('Summary Sheet'!$B$17:$B1143,INT(ROWS(D$3:D1089)/20)+1),\"\"))","v":""},{"$f":"_xlfn.IFNA(IF(VLOOKUP(B1089,_!$A$7:$E$210,2,FALSE)=0, \"\", VLOOKUP(B1089,_!$A$7:$E$210,2,FALSE)),  \"\")","v":""},{"$f":"_xlfn.IFNA(IF(VLOOKUP(B1089,_!$A$7:$E$210,3,FALSE)=0, \"\", VLOOKUP(B1089,_!$A$7:$E$210,3,FALSE)), \"\")","v":""},{"$f":"_xlfn.IFNA(IF(VLOOKUP(B1089,_!$A$7:$E$210,4,FALSE)=0, \"\",VLOOKUP(B1089,_!$A$7:$E$210,4,FALSE)), \"\")","v":""},{"$f":"_xlfn.IFNA(IF(VLOOKUP(B1089,_!$A$7:$E$210,5,FALSE)=0,\"\",VLOOKUP(B1089,_!$A$7:$E$210,5,FALSE)), \"\")","v":""}]
[4,null,{"$f":"_xlfn.IFNA(VLOOKUP(B1090,_!$A$7:$F$210,6,FALSE),\"\")","v":""},{"$f":"IF(IF(MOD(ROWS(D$3:D1090),20)=1,INDEX('Summary Sheet'!$B$17:$B1143,INT(ROWS(D$3:D1090)/20)+1),\"\")=0,\"\",IF(MOD(ROWS(D$3:D1090),20)=1,INDEX('Summary Sheet'!$B$17:$B1143,INT(ROWS(D$3:D1090)/20)+1),\"\"))","v":""},{"$f":"_xlfn.IFNA(IF(VLOOKUP(B1090,_!$A$7:$E$210,2,FALSE)=0, \"\", VLOOKUP(B1090,_!$A$7:$E$210,2,FALSE)),  \"\")","v":""},{"$f":"_xlfn.IFNA(IF(VLOOKUP(B1090,_!$A$7:$E$210,3,FALSE)=0, \"\", VLOOKUP(B1090,_!$A$7:$E$210,3,FALSE)), \"\")","v":""},{"$f":"_xlfn.IFNA(IF(VLOOKUP(B1090,_!$A$7:$E$210,4,FALSE)=0, \"\",VLOOKUP(B1090,_!$A$7:$E$210,4,FALSE)), \"\")","v":""},{"$f":"_xlfn.IFNA(IF(VLOOKUP(B1090,_!$A$7:$E$210,5,FALSE)=0,\"\",VLOOKUP(B1090,_!$A$7:$E$210,5,FALSE)), \"\")","v":""}]
[5,null,{"$f":"_xlfn.IFNA(VLOOKUP(B1091,_!$A$7:$F$210,6,FALSE),\"\")","v":""},{"$f":"IF(IF(MOD(ROWS(D$3:D1091),20)=1,INDEX('Summary Sheet'!$B$17:$B1143,INT(ROWS(D$3:D1091)/20)+1),\"\")=0,\"\",IF(MOD(ROWS(D$3:D1091),20)=1,INDEX('Summary Sheet'!$B$17:$B1143,INT(ROWS(D$3:D1091)/20)+1),\"\"))","v":""},{"$f":"_xlfn.IFNA(IF(VLOOKUP(B1091,_!$A$7:$E$210,2,FALSE)=0, \"\", VLOOKUP(B1091,_!$A$7:$E$210,2,FALSE)),  \"\")","v":""},{"$f":"_xlfn.IFNA(IF(VLOOKUP(B1091,_!$A$7:$E$210,3,FALSE)=0, \"\", VLOOKUP(B1091,_!$A$7:$E$210,3,FALSE)), \"\")","v":""},{"$f":"_xlfn.IFNA(IF(VLOOKUP(B1091,_!$A$7:$E$210,4,FALSE)=0, \"\",VLOOKUP(B1091,_!$A$7:$E$210,4,FALSE)), \"\")","v":""},{"$f":"_xlfn.IFNA(IF(VLOOKUP(B1091,_!$A$7:$E$210,5,FALSE)=0,\"\",VLOOKUP(B1091,_!$A$7:$E$210,5,FALSE)), \"\")","v":""}]
[6,null,{"$f":"_xlfn.IFNA(VLOOKUP(B1092,_!$A$7:$F$210,6,FALSE),\"\")","v":""},{"$f":"IF(IF(MOD(ROWS(D$3:D1092),20)=1,INDEX('Summary Sheet'!$B$17:$B1143,INT(ROWS(D$3:D1092)/20)+1),\"\")=0,\"\",IF(MOD(ROWS(D$3:D1092),20)=1,INDEX('Summary Sheet'!$B$17:$B1143,INT(ROWS(D$3:D1092)/20)+1),\"\"))","v":""},{"$f":"_xlfn.IFNA(IF(VLOOKUP(B1092,_!$A$7:$E$210,2,FALSE)=0, \"\", VLOOKUP(B1092,_!$A$7:$E$210,2,FALSE)),  \"\")","v":""},{"$f":"_xlfn.IFNA(IF(VLOOKUP(B1092,_!$A$7:$E$210,3,FALSE)=0, \"\", VLOOKUP(B1092,_!$A$7:$E$210,3,FALSE)), \"\")","v":""},{"$f":"_xlfn.IFNA(IF(VLOOKUP(B1092,_!$A$7:$E$210,4,FALSE)=0, \"\",VLOOKUP(B1092,_!$A$7:$E$210,4,FALSE)), \"\")","v":""},{"$f":"_xlfn.IFNA(IF(VLOOKUP(B1092,_!$A$7:$E$210,5,FALSE)=0,\"\",VLOOKUP(B1092,_!$A$7:$E$210,5,FALSE)), \"\")","v":""}]
[7,null,{"$f":"_xlfn.IFNA(VLOOKUP(B1093,_!$A$7:$F$210,6,FALSE),\"\")","v":""},{"$f":"IF(IF(MOD(ROWS(D$3:D1093),20)=1,INDEX('Summary Sheet'!$B$17:$B1143,INT(ROWS(D$3:D1093)/20)+1),\"\")=0,\"\",IF(MOD(ROWS(D$3:D1093),20)=1,INDEX('Summary Sheet'!$B$17:$B1143,INT(ROWS(D$3:D1093)/20)+1),\"\"))","v":""},{"$f":"_xlfn.IFNA(IF(VLOOKUP(B1093,_!$A$7:$E$210,2,FALSE)=0, \"\", VLOOKUP(B1093,_!$A$7:$E$210,2,FALSE)),  \"\")","v":""},{"$f":"_xlfn.IFNA(IF(VLOOKUP(B1093,_!$A$7:$E$210,3,FALSE)=0, \"\", VLOOKUP(B1093,_!$A$7:$E$210,3,FALSE)), \"\")","v":""},{"$f":"_xlfn.IFNA(IF(VLOOKUP(B1093,_!$A$7:$E$210,4,FALSE)=0, \"\",VLOOKUP(B1093,_!$A$7:$E$210,4,FALSE)), \"\")","v":""},{"$f":"_xlfn.IFNA(IF(VLOOKUP(B1093,_!$A$7:$E$210,5,FALSE)=0,\"\",VLOOKUP(B1093,_!$A$7:$E$210,5,FALSE)), \"\")","v":""}]
[8,null,{"$f":"_xlfn.IFNA(VLOOKUP(B1094,_!$A$7:$F$210,6,FALSE),\"\")","v":""},{"$f":"IF(IF(MOD(ROWS(D$3:D1094),20)=1,INDEX('Summary Sheet'!$B$17:$B1143,INT(ROWS(D$3:D1094)/20)+1),\"\")=0,\"\",IF(MOD(ROWS(D$3:D1094),20)=1,INDEX('Summary Sheet'!$B$17:$B1143,INT(ROWS(D$3:D1094)/20)+1),\"\"))","v":""},{"$f":"_xlfn.IFNA(IF(VLOOKUP(B1094,_!$A$7:$E$210,2,FALSE)=0, \"\", VLOOKUP(B1094,_!$A$7:$E$210,2,FALSE)),  \"\")","v":""},{"$f":"_xlfn.IFNA(IF(VLOOKUP(B1094,_!$A$7:$E$210,3,FALSE)=0, \"\", VLOOKUP(B1094,_!$A$7:$E$210,3,FALSE)), \"\")","v":""},{"$f":"_xlfn.IFNA(IF(VLOOKUP(B1094,_!$A$7:$E$210,4,FALSE)=0, \"\",VLOOKUP(B1094,_!$A$7:$E$210,4,FALSE)), \"\")","v":""},{"$f":"_xlfn.IFNA(IF(VLOOKUP(B1094,_!$A$7:$E$210,5,FALSE)=0,\"\",VLOOKUP(B1094,_!$A$7:$E$210,5,FALSE)), \"\")","v":""}]
[9,null,{"$f":"_xlfn.IFNA(VLOOKUP(B1095,_!$A$7:$F$210,6,FALSE),\"\")","v":""},{"$f":"IF(IF(MOD(ROWS(D$3:D1095),20)=1,INDEX('Summary Sheet'!$B$17:$B1143,INT(ROWS(D$3:D1095)/20)+1),\"\")=0,\"\",IF(MOD(ROWS(D$3:D1095),20)=1,INDEX('Summary Sheet'!$B$17:$B1143,INT(ROWS(D$3:D1095)/20)+1),\"\"))","v":""},{"$f":"_xlfn.IFNA(IF(VLOOKUP(B1095,_!$A$7:$E$210,2,FALSE)=0, \"\", VLOOKUP(B1095,_!$A$7:$E$210,2,FALSE)),  \"\")","v":""},{"$f":"_xlfn.IFNA(IF(VLOOKUP(B1095,_!$A$7:$E$210,3,FALSE)=0, \"\", VLOOKUP(B1095,_!$A$7:$E$210,3,FALSE)), \"\")","v":""},{"$f":"_xlfn.IFNA(IF(VLOOKUP(B1095,_!$A$7:$E$210,4,FALSE)=0, \"\",VLOOKUP(B1095,_!$A$7:$E$210,4,FALSE)), \"\")","v":""},{"$f":"_xlfn.IFNA(IF(VLOOKUP(B1095,_!$A$7:$E$210,5,FALSE)=0,\"\",VLOOKUP(B1095,_!$A$7:$E$210,5,FALSE)), \"\")","v":""}]
[10,null,{"$f":"_xlfn.IFNA(VLOOKUP(B1096,_!$A$7:$F$210,6,FALSE),\"\")","v":""},{"$f":"IF(IF(MOD(ROWS(D$14:D1096),20)=1,INDEX('Summary Sheet'!$B$17:$B1143,INT(ROWS(D$14:D1096)/20)+1),\"\")=0,\"\",IF(MOD(ROWS(D$14:D1096),20)=1,INDEX('Summary Sheet'!$B$17:$B1143,INT(ROWS(D$14:D1096)/20)+1),\"\"))","v":""},{"$f":"_xlfn.IFNA(IF(VLOOKUP(B1096,_!$A$7:$E$210,2,FALSE)=0, \"\", VLOOKUP(B1096,_!$A$7:$E$210,2,FALSE)),  \"\")","v":""},{"$f":"_xlfn.IFNA(IF(VLOOKUP(B1096,_!$A$7:$E$210,3,FALSE)=0, \"\", VLOOKUP(B1096,_!$A$7:$E$210,3,FALSE)), \"\")","v":""},{"$f":"_xlfn.IFNA(IF(VLOOKUP(B1096,_!$A$7:$E$210,4,FALSE)=0, \"\",VLOOKUP(B1096,_!$A$7:$E$210,4,FALSE)), \"\")","v":""},{"$f":"_xlfn.IFNA(IF(VLOOKUP(B1096,_!$A$7:$E$210,5,FALSE)=0,\"\",VLOOKUP(B1096,_!$A$7:$E$210,5,FALSE)), \"\")","v":""}]
[null,"\nHighest hazard level for each ‘Uptake Route’\n",null,null,{"$f":"_xlfn.IFNA(IF((INDEX(E1087:E1096,MATCH(\"E\",E1087:E1096,0)))=\"E\",\"E\",\"\"),_xlfn.IFNA(IF((INDEX(E1087:E1096,MATCH(\"D\",E1087:E1096,0)))=\"D\",\"D\",\"\"),_xlfn.IFNA(IF((INDEX(E1087:E1096,MATCH(\"Ca\",E1087:E1096,0)))=\"Ca\",\"C\",\"\"),_xlfn.IFNA(IF((INDEX(E1087:E1096,MATCH(\"C\",E1087:E1096,0)))=\"C\",\"C\",\"\"),_xlfn.IFNA(IF((INDEX(E1087:E1096,MATCH(\"B\",E1087:E1096,0)))=\"B\",\"B\",\"\"),_xlfn.IFNA(IF((INDEX(E1087:E1096,MATCH(\"A\",E1087:E1096,0)))=\"A\",\"A\",\"\"),_xlfn.IFNA(IF((INDEX(E1087:E1096,MATCH(\"n.a.\",E1087:E1096,0)))=\"n.a.\",\"\",\"\"),_xlfn.IFNA(IF((INDEX(E1087:E1096,MATCH(\"\",E1087:E1096,0)))=\"\",\"\",\"\"),\"\"))))))))","v":""},{"$f":"_xlfn.IFNA(IF((INDEX(F1087:F1096,MATCH(\"E\",F1087:F1096,0)))=\"E\",\"E\",\"\"),_xlfn.IFNA(IF((INDEX(F1087:F1096,MATCH(\"D (E)c\",F1087:F1096,0)))=\"D (E)c\",\"D (E)c\",\"\"),_xlfn.IFNA(IF((INDEX(F1087:F1096,MATCH(\"Da (E)c\",F1087:F1096,0)))=\"Da (E)c\",\"D (E)c\",\"\"),_xlfn.IFNA(IF((INDEX(F1087:F1096,MATCH(\"D\",F1087:F1096,0)))=\"D\",\"D\",\"\"),_xlfn.IFNA(IF((INDEX(F1087:F1096,MATCH(\"Ca\",F1087:F1096,0)))=\"Ca\",\"C\",\"\"),_xlfn.IFNA(IF((INDEX(F1087:F1096,MATCH(\"C\",F1087:F1096,0)))=\"C\",\"C\",\"\"),_xlfn.IFNA(IF((INDEX(F1087:F1096,MATCH(\"Ba\",F1087:F1096,0)))=\"Ba\",\"B\",\"\"),_xlfn.IFNA(IF((INDEX(F1087:F1096,MATCH(\"B\",F1087:F1096,0)))=\"B\",\"B\",\"\"),_xlfn.IFNA(IF((INDEX(F1087:F1096,MATCH(\"Aa\",F1087:F1096,0)))=\"Aa\",\"A\",\"\"),_xlfn.IFNA(IF((INDEX(F1087:F1096,MATCH(\"A\",F1087:F1096,0)))=\"A\",\"A\",\"\"),_xlfn.IFNA(IF((INDEX(F1087:F1096,MATCH(\"n.a.\",F1087:F1096,0)))=\"n.a.\",\"\",\"\"),_xlfn.IFNA(IF((INDEX(F1087:F1096,MATCH(\"\",F1087:F1096,0)))=\"\",\"\",\"\"),\"\"))))))))))))","v":""},{"$f":"_xlfn.IFNA(IF((INDEX(G1087:G1096,MATCH(\"E\",G1087:G1096,0)))=\"E\",\"E\",\"\"),_xlfn.IFNA(IF((INDEX(G1087:G1096,MATCH(\"D\",G1087:G1096,0)))=\"D\",\"D\",\"\"),_xlfn.IFNA(IF((INDEX(G1087:G1096,MATCH(\"Ca\",G1087:G1096,0)))=\"Ca\",\"C\",\"\"),_xlfn.IFNA(IF((INDEX(G1087:G1096,MATCH(\"C\",G1087:G1096,0)))=\"C\",\"C\",\"\"),_xlfn.IFNA(IF((INDEX(G1087:G1096,MATCH(\"B\",G1087:G1096,0)))=\"B\",\"B\",\"\"),_xlfn.IFNA(IF((INDEX(G1087:G1096,MATCH(\"A\",G1087:G1096,0)))=\"A\",\"A\",\"\"),_xlfn.IFNA(IF((INDEX(G1087:G1096,MATCH(\"n.a.\",G1087:G1096,0)))=\"n.a.\",\"\",\"\"),_xlfn.IFNA(IF((INDEX(G1087:G1096,MATCH(\"\",G1087:G1096,0)))=\"\",\"\",\"\"),\"\"))))))))","v":""},{"$f":"_xlfn.IFNA(IF((INDEX(H1087:H1096,MATCH(\"E\",H1087:H1096,0)))=\"E\",\"E\",\"\"),_xlfn.IFNA(IF((INDEX(H1087:H1096,MATCH(\"D (E)c\",H1087:H1096,0)))=\"D (E)c\",\"D (E)c\",\"\"),_xlfn.IFNA(IF((INDEX(H1087:H1096,MATCH(\"Db (E)c\",H1087:H1096,0)))=\"Db (E)c\",\"D (E)c\",\"\"),_xlfn.IFNA(IF((INDEX(H1087:H1096,MATCH(\"D\",H1087:H1096,0)))=\"D\",\"D\",\"\"),_xlfn.IFNA(IF((INDEX(H1087:H1096,MATCH(\"Cb\",H1087:H1096,0)))=\"Cb\",\"C\",\"\"),_xlfn.IFNA(IF((INDEX(H1087:H1096,MATCH(\"C\",H1087:H1096,0)))=\"C\",\"C\",\"\"),_xlfn.IFNA(IF((INDEX(H1087:H1096,MATCH(\"Bb\",H1087:H1096,0)))=\"Bb\",\"B\",\"\"),_xlfn.IFNA(IF((INDEX(H1087:H1096,MATCH(\"B\",H1087:H1096,0)))=\"B\",\"B\",\"\"),_xlfn.IFNA(IF((INDEX(H1087:H1096,MATCH(\"Ab\",H1087:H1096,0)))=\"Ab\",\"A\",\"\"),_xlfn.IFNA(IF((INDEX(H1087:H1096,MATCH(\"A\",H1087:H1096,0)))=\"A\",\"A\",\"\"),_xlfn.IFNA(IF((INDEX(H1087:H1096,MATCH(\"n.a.\",H1087:H1096,0)))=\"n.a.\",\"\",\"\"),_xlfn.IFNA(IF((INDEX(H1087:H1096,MATCH(\"\",H1087:H1096,0)))=\"\",\"\",\"\"),\"\"))))))))))))","v":""}]
[null,"\nHighest hazard level for all 'Uptake Routes' \n",null,null,{"$f":"_xlfn.IFNA(IF((INDEX(E1097:H1097,MATCH(\"E\",E1097:H1097,0)))=\"E\",\"E\",\"\"),_xlfn.IFNA(IF((INDEX(E1097:H1097,MATCH(\"D (E)c\",E1097:H1097,0)))=\"D (E)c\",\"D (E)\",\"\"),_xlfn.IFNA(IF((INDEX(E1097:H1097,MATCH(\"D\",E1097:H1097,0)))=\"D\",\"D\",\"\"),_xlfn.IFNA(IF((INDEX(E1097:H1097,MATCH(\"C\",E1097:H1097,0)))=\"C\",\"C\",\"\"),_xlfn.IFNA(IF((INDEX(E1097:H1097,MATCH(\"B\",E1097:H1097,0)))=\"B\",\"B\",\"\"),_xlfn.IFNA(IF((INDEX(E1097:H1097,MATCH(\"A\",E1097:H1097,0)))=\"A\",\"A\",\"\"),_xlfn.IFNA(IF((INDEX(E1097:H1097,MATCH(\"n.a.\",E1097:H1097,0)))=\"n.a.\",\"\",\"\"),_xlfn.IFNA(IF((INDEX(E1097:H1097,MATCH(\"\",E1097:H1097,0)))=\"\",\"\",\"\"),\"\"))))))))","v":""}]
[]
[]
[null,"\nStep 3: D(E) Assessment\nSkip this step if \nyour assessment above does not reveal a D(E) hazard level.\nHover over this cell for additional instructions.\n",null,null,"\nOverall hazard level\n",null,{"$f":"IF(AND(E1098=\"\",C1084=\"Yes\")=TRUE,\"B\",IF(E1098=\"\",\"\",(IF(AND(E1098=\"D (E)\",C1101=\"\"),\"D (E)\"&CHAR(10)&\"Find if cat. 1 acute tox.\",(IF(E1098<>\"D (E)\",E1098,(IF(AND(E1098=\"D (E)\",C1101=\"Yes\"),\"E\",(IF(AND(E1098=\"D (E)\",C1101=\"No\"),\"D\",\"\"))))))))))","v":""}]
[]
[{"$f":"IF(IF(MOD(ROWS(B$3:B1103),20)=1,INDEX('Summary Sheet'!$A$17:$A1162,INT(ROWS(B$3:B1103)/20)+1),\"\")=0,\"\",IF(MOD(ROWS(B$3:B1103),20)=1,INDEX('Summary Sheet'!$A$17:$A1162,INT(ROWS(B$3:B1103)/20)+1),\"\"))","v":56},"Hazard Level Assessment","for",{"$f":"IF(IF(MOD(ROWS(D$3:D1103),20)=1,INDEX('Summary Sheet'!$B$17:$B1162,INT(ROWS(D$3:D1103)/20)+1),\"\")=0,\"\",IF(MOD(ROWS(D$3:D1103),20)=1,INDEX('Summary Sheet'!$B$17:$B1162,INT(ROWS(D$3:D1103)/20)+1),\"\"))","v":""}]
[null,"\nStep 1: Physical & Environmental Hazard Statements/Codes\nFind Section 2 of the SDS and determine if the SDS has physical and/or environmental hazard statements/codes. Hover on this cell for additional instructions.\n",null,{"$f":"IF(IF(MOD(ROWS(D$3:D1104),20)=1,INDEX('Summary Sheet'!$B$17:$B1162,INT(ROWS(D$3:D1104)/20)+1),\"\")=0,\"\",IF(MOD(ROWS(D$3:D1104),20)=1,INDEX('Summary Sheet'!$B$17:$B1162,INT(ROWS(D$3:D1104)/20)+1),\"\"))","v":""}]
[null,"Step 2: Health Hazard Statements/Codes\nProvide the Health Hazard Statements or Codes from Section 2 of the SDS below. Hover on this cell for additional instructions.",null,{"$f":"IF(IF(MOD(ROWS(D$3:D1105),20)=1,INDEX('Summary Sheet'!$B$17:$B1162,INT(ROWS(D$3:D1105)/20)+1),\"\")=0,\"\",IF(MOD(ROWS(D$3:D1105),20)=1,INDEX('Summary Sheet'!$B$17:$B1162,INT(ROWS(D$3:D1105)/20)+1),\"\"))","v":""},"\nHazard Level\n"]
[null,null,null,{"$f":"IF(IF(MOD(ROWS(D$3:D1106),20)=1,INDEX('Summary Sheet'!$B$17:$B1162,INT(ROWS(D$3:D1106)/20)+1),\"\")=0,\"\",IF(MOD(ROWS(D$3:D1106),20)=1,INDEX('Summary Sheet'!$B$17:$B1162,INT(ROWS(D$3:D1106)/20)+1),\"\"))","v":""},"\nEye Damage\n","\nInhalation\n","\nLocal Skin Damage\n","\nSkin uptake, systemic\n"]
[1,null,{"$f":"_xlfn.IFNA(VLOOKUP(B1107,_!$A$7:$F$210,6,FALSE),\"\")","v":""},{"$f":"IF(IF(MOD(ROWS(D$3:D1107),20)=1,INDEX('Summary Sheet'!$B$17:$B1162,INT(ROWS(D$3:D1107)/20)+1),\"\")=0,\"\",IF(MOD(ROWS(D$3:D1107),20)=1,INDEX('Summary Sheet'!$B$17:$B1162,INT(ROWS(D$3:D1107)/20)+1),\"\"))","v":""},{"$f":"_xlfn.IFNA(IF(VLOOKUP(B1107,_!$A$7:$E$210,2,FALSE)=0, \"\", VLOOKUP(B1107,_!$A$7:$E$210,2,FALSE)),  \"\")","v":""},{"$f":"_xlfn.IFNA(IF(VLOOKUP(B1107,_!$A$7:$E$210,3,FALSE)=0, \"\", VLOOKUP(B1107,_!$A$7:$E$210,3,FALSE)), \"\")","v":""},{"$f":"_xlfn.IFNA(IF(VLOOKUP(B1107,_!$A$7:$E$210,4,FALSE)=0, \"\",VLOOKUP(B1107,_!$A$7:$E$210,4,FALSE)), \"\")","v":""},{"$f":"_xlfn.IFNA(IF(VLOOKUP(B1107,_!$A$7:$E$210,5,FALSE)=0,\"\",VLOOKUP(B1107,_!$A$7:$E$210,5,FALSE)), \"\")","v":""}]
[2,null,{"$f":"_xlfn.IFNA(VLOOKUP(B1108,_!$A$7:$F$210,6,FALSE),\"\")","v":""},{"$f":"IF(IF(MOD(ROWS(D$3:D1108),20)=1,INDEX('Summary Sheet'!$B$17:$B1162,INT(ROWS(D$3:D1108)/20)+1),\"\")=0,\"\",IF(MOD(ROWS(D$3:D1108),20)=1,INDEX('Summary Sheet'!$B$17:$B1162,INT(ROWS(D$3:D1108)/20)+1),\"\"))","v":""},{"$f":"_xlfn.IFNA(IF(VLOOKUP(B1108,_!$A$7:$E$210,2,FALSE)=0, \"\", VLOOKUP(B1108,_!$A$7:$E$210,2,FALSE)),  \"\")","v":""},{"$f":"_xlfn.IFNA(IF(VLOOKUP(B1108,_!$A$7:$E$210,3,FALSE)=0, \"\", VLOOKUP(B1108,_!$A$7:$E$210,3,FALSE)), \"\")","v":""},{"$f":"_xlfn.IFNA(IF(VLOOKUP(B1108,_!$A$7:$E$210,4,FALSE)=0, \"\",VLOOKUP(B1108,_!$A$7:$E$210,4,FALSE)), \"\")","v":""},{"$f":"_xlfn.IFNA(IF(VLOOKUP(B1108,_!$A$7:$E$210,5,FALSE)=0,\"\",VLOOKUP(B1108,_!$A$7:$E$210,5,FALSE)), \"\")","v":""}]
[3,null,{"$f":"_xlfn.IFNA(VLOOKUP(B1109,_!$A$7:$F$210,6,FALSE),\"\")","v":""},{"$f":"IF(IF(MOD(ROWS(D$3:D1109),20)=1,INDEX('Summary Sheet'!$B$17:$B1162,INT(ROWS(D$3:D1109)/20)+1),\"\")=0,\"\",IF(MOD(ROWS(D$3:D1109),20)=1,INDEX('Summary Sheet'!$B$17:$B1162,INT(ROWS(D$3:D1109)/20)+1),\"\"))","v":""},{"$f":"_xlfn.IFNA(IF(VLOOKUP(B1109,_!$A$7:$E$210,2,FALSE)=0, \"\", VLOOKUP(B1109,_!$A$7:$E$210,2,FALSE)),  \"\")","v":""},{"$f":"_xlfn.IFNA(IF(VLOOKUP(B1109,_!$A$7:$E$210,3,FALSE)=0, \"\", VLOOKUP(B1109,_!$A$7:$E$210,3,FALSE)), \"\")","v":""},{"$f":"_xlfn.IFNA(IF(VLOOKUP(B1109,_!$A$7:$E$210,4,FALSE)=0, \"\",VLOOKUP(B1109,_!$A$7:$E$210,4,FALSE)), \"\")","v":""},{"$f":"_xlfn.IFNA(IF(VLOOKUP(B1109,_!$A$7:$E$210,5,FALSE)=0,\"\",VLOOKUP(B1109,_!$A$7:$E$210,5,FALSE)), \"\")","v":""}]
[4,null,{"$f":"_xlfn.IFNA(VLOOKUP(B1110,_!$A$7:$F$210,6,FALSE),\"\")","v":""},{"$f":"IF(IF(MOD(ROWS(D$3:D1110),20)=1,INDEX('Summary Sheet'!$B$17:$B1162,INT(ROWS(D$3:D1110)/20)+1),\"\")=0,\"\",IF(MOD(ROWS(D$3:D1110),20)=1,INDEX('Summary Sheet'!$B$17:$B1162,INT(ROWS(D$3:D1110)/20)+1),\"\"))","v":""},{"$f":"_xlfn.IFNA(IF(VLOOKUP(B1110,_!$A$7:$E$210,2,FALSE)=0, \"\", VLOOKUP(B1110,_!$A$7:$E$210,2,FALSE)),  \"\")","v":""},{"$f":"_xlfn.IFNA(IF(VLOOKUP(B1110,_!$A$7:$E$210,3,FALSE)=0, \"\", VLOOKUP(B1110,_!$A$7:$E$210,3,FALSE)), \"\")","v":""},{"$f":"_xlfn.IFNA(IF(VLOOKUP(B1110,_!$A$7:$E$210,4,FALSE)=0, \"\",VLOOKUP(B1110,_!$A$7:$E$210,4,FALSE)), \"\")","v":""},{"$f":"_xlfn.IFNA(IF(VLOOKUP(B1110,_!$A$7:$E$210,5,FALSE)=0,\"\",VLOOKUP(B1110,_!$A$7:$E$210,5,FALSE)), \"\")","v":""}]
[5,null,{"$f":"_xlfn.IFNA(VLOOKUP(B1111,_!$A$7:$F$210,6,FALSE),\"\")","v":""},{"$f":"IF(IF(MOD(ROWS(D$3:D1111),20)=1,INDEX('Summary Sheet'!$B$17:$B1162,INT(ROWS(D$3:D1111)/20)+1),\"\")=0,\"\",IF(MOD(ROWS(D$3:D1111),20)=1,INDEX('Summary Sheet'!$B$17:$B1162,INT(ROWS(D$3:D1111)/20)+1),\"\"))","v":""},{"$f":"_xlfn.IFNA(IF(VLOOKUP(B1111,_!$A$7:$E$210,2,FALSE)=0, \"\", VLOOKUP(B1111,_!$A$7:$E$210,2,FALSE)),  \"\")","v":""},{"$f":"_xlfn.IFNA(IF(VLOOKUP(B1111,_!$A$7:$E$210,3,FALSE)=0, \"\", VLOOKUP(B1111,_!$A$7:$E$210,3,FALSE)), \"\")","v":""},{"$f":"_xlfn.IFNA(IF(VLOOKUP(B1111,_!$A$7:$E$210,4,FALSE)=0, \"\",VLOOKUP(B1111,_!$A$7:$E$210,4,FALSE)), \"\")","v":""},{"$f":"_xlfn.IFNA(IF(VLOOKUP(B1111,_!$A$7:$E$210,5,FALSE)=0,\"\",VLOOKUP(B1111,_!$A$7:$E$210,5,FALSE)), \"\")","v":""}]
[6,null,{"$f":"_xlfn.IFNA(VLOOKUP(B1112,_!$A$7:$F$210,6,FALSE),\"\")","v":""},{"$f":"IF(IF(MOD(ROWS(D$3:D1112),20)=1,INDEX('Summary Sheet'!$B$17:$B1162,INT(ROWS(D$3:D1112)/20)+1),\"\")=0,\"\",IF(MOD(ROWS(D$3:D1112),20)=1,INDEX('Summary Sheet'!$B$17:$B1162,INT(ROWS(D$3:D1112)/20)+1),\"\"))","v":""},{"$f":"_xlfn.IFNA(IF(VLOOKUP(B1112,_!$A$7:$E$210,2,FALSE)=0, \"\", VLOOKUP(B1112,_!$A$7:$E$210,2,FALSE)),  \"\")","v":""},{"$f":"_xlfn.IFNA(IF(VLOOKUP(B1112,_!$A$7:$E$210,3,FALSE)=0, \"\", VLOOKUP(B1112,_!$A$7:$E$210,3,FALSE)), \"\")","v":""},{"$f":"_xlfn.IFNA(IF(VLOOKUP(B1112,_!$A$7:$E$210,4,FALSE)=0, \"\",VLOOKUP(B1112,_!$A$7:$E$210,4,FALSE)), \"\")","v":""},{"$f":"_xlfn.IFNA(IF(VLOOKUP(B1112,_!$A$7:$E$210,5,FALSE)=0,\"\",VLOOKUP(B1112,_!$A$7:$E$210,5,FALSE)), \"\")","v":""}]
[7,null,{"$f":"_xlfn.IFNA(VLOOKUP(B1113,_!$A$7:$F$210,6,FALSE),\"\")","v":""},{"$f":"IF(IF(MOD(ROWS(D$3:D1113),20)=1,INDEX('Summary Sheet'!$B$17:$B1162,INT(ROWS(D$3:D1113)/20)+1),\"\")=0,\"\",IF(MOD(ROWS(D$3:D1113),20)=1,INDEX('Summary Sheet'!$B$17:$B1162,INT(ROWS(D$3:D1113)/20)+1),\"\"))","v":""},{"$f":"_xlfn.IFNA(IF(VLOOKUP(B1113,_!$A$7:$E$210,2,FALSE)=0, \"\", VLOOKUP(B1113,_!$A$7:$E$210,2,FALSE)),  \"\")","v":""},{"$f":"_xlfn.IFNA(IF(VLOOKUP(B1113,_!$A$7:$E$210,3,FALSE)=0, \"\", VLOOKUP(B1113,_!$A$7:$E$210,3,FALSE)), \"\")","v":""},{"$f":"_xlfn.IFNA(IF(VLOOKUP(B1113,_!$A$7:$E$210,4,FALSE)=0, \"\",VLOOKUP(B1113,_!$A$7:$E$210,4,FALSE)), \"\")","v":""},{"$f":"_xlfn.IFNA(IF(VLOOKUP(B1113,_!$A$7:$E$210,5,FALSE)=0,\"\",VLOOKUP(B1113,_!$A$7:$E$210,5,FALSE)), \"\")","v":""}]
[8,null,{"$f":"_xlfn.IFNA(VLOOKUP(B1114,_!$A$7:$F$210,6,FALSE),\"\")","v":""},{"$f":"IF(IF(MOD(ROWS(D$3:D1114),20)=1,INDEX('Summary Sheet'!$B$17:$B1162,INT(ROWS(D$3:D1114)/20)+1),\"\")=0,\"\",IF(MOD(ROWS(D$3:D1114),20)=1,INDEX('Summary Sheet'!$B$17:$B1162,INT(ROWS(D$3:D1114)/20)+1),\"\"))","v":""},{"$f":"_xlfn.IFNA(IF(VLOOKUP(B1114,_!$A$7:$E$210,2,FALSE)=0, \"\", VLOOKUP(B1114,_!$A$7:$E$210,2,FALSE)),  \"\")","v":""},{"$f":"_xlfn.IFNA(IF(VLOOKUP(B1114,_!$A$7:$E$210,3,FALSE)=0, \"\", VLOOKUP(B1114,_!$A$7:$E$210,3,FALSE)), \"\")","v":""},{"$f":"_xlfn.IFNA(IF(VLOOKUP(B1114,_!$A$7:$E$210,4,FALSE)=0, \"\",VLOOKUP(B1114,_!$A$7:$E$210,4,FALSE)), \"\")","v":""},{"$f":"_xlfn.IFNA(IF(VLOOKUP(B1114,_!$A$7:$E$210,5,FALSE)=0,\"\",VLOOKUP(B1114,_!$A$7:$E$210,5,FALSE)), \"\")","v":""}]
[9,null,{"$f":"_xlfn.IFNA(VLOOKUP(B1115,_!$A$7:$F$210,6,FALSE),\"\")","v":""},{"$f":"IF(IF(MOD(ROWS(D$3:D1115),20)=1,INDEX('Summary Sheet'!$B$17:$B1162,INT(ROWS(D$3:D1115)/20)+1),\"\")=0,\"\",IF(MOD(ROWS(D$3:D1115),20)=1,INDEX('Summary Sheet'!$B$17:$B1162,INT(ROWS(D$3:D1115)/20)+1),\"\"))","v":""},{"$f":"_xlfn.IFNA(IF(VLOOKUP(B1115,_!$A$7:$E$210,2,FALSE)=0, \"\", VLOOKUP(B1115,_!$A$7:$E$210,2,FALSE)),  \"\")","v":""},{"$f":"_xlfn.IFNA(IF(VLOOKUP(B1115,_!$A$7:$E$210,3,FALSE)=0, \"\", VLOOKUP(B1115,_!$A$7:$E$210,3,FALSE)), \"\")","v":""},{"$f":"_xlfn.IFNA(IF(VLOOKUP(B1115,_!$A$7:$E$210,4,FALSE)=0, \"\",VLOOKUP(B1115,_!$A$7:$E$210,4,FALSE)), \"\")","v":""},{"$f":"_xlfn.IFNA(IF(VLOOKUP(B1115,_!$A$7:$E$210,5,FALSE)=0,\"\",VLOOKUP(B1115,_!$A$7:$E$210,5,FALSE)), \"\")","v":""}]
[10,null,{"$f":"_xlfn.IFNA(VLOOKUP(B1116,_!$A$7:$F$210,6,FALSE),\"\")","v":""},{"$f":"IF(IF(MOD(ROWS(D$14:D1116),20)=1,INDEX('Summary Sheet'!$B$17:$B1162,INT(ROWS(D$14:D1116)/20)+1),\"\")=0,\"\",IF(MOD(ROWS(D$14:D1116),20)=1,INDEX('Summary Sheet'!$B$17:$B1162,INT(ROWS(D$14:D1116)/20)+1),\"\"))","v":""},{"$f":"_xlfn.IFNA(IF(VLOOKUP(B1116,_!$A$7:$E$210,2,FALSE)=0, \"\", VLOOKUP(B1116,_!$A$7:$E$210,2,FALSE)),  \"\")","v":""},{"$f":"_xlfn.IFNA(IF(VLOOKUP(B1116,_!$A$7:$E$210,3,FALSE)=0, \"\", VLOOKUP(B1116,_!$A$7:$E$210,3,FALSE)), \"\")","v":""},{"$f":"_xlfn.IFNA(IF(VLOOKUP(B1116,_!$A$7:$E$210,4,FALSE)=0, \"\",VLOOKUP(B1116,_!$A$7:$E$210,4,FALSE)), \"\")","v":""},{"$f":"_xlfn.IFNA(IF(VLOOKUP(B1116,_!$A$7:$E$210,5,FALSE)=0,\"\",VLOOKUP(B1116,_!$A$7:$E$210,5,FALSE)), \"\")","v":""}]
[null,"\nHighest hazard level for each ‘Uptake Route’\n",null,null,{"$f":"_xlfn.IFNA(IF((INDEX(E1107:E1116,MATCH(\"E\",E1107:E1116,0)))=\"E\",\"E\",\"\"),_xlfn.IFNA(IF((INDEX(E1107:E1116,MATCH(\"D\",E1107:E1116,0)))=\"D\",\"D\",\"\"),_xlfn.IFNA(IF((INDEX(E1107:E1116,MATCH(\"Ca\",E1107:E1116,0)))=\"Ca\",\"C\",\"\"),_xlfn.IFNA(IF((INDEX(E1107:E1116,MATCH(\"C\",E1107:E1116,0)))=\"C\",\"C\",\"\"),_xlfn.IFNA(IF((INDEX(E1107:E1116,MATCH(\"B\",E1107:E1116,0)))=\"B\",\"B\",\"\"),_xlfn.IFNA(IF((INDEX(E1107:E1116,MATCH(\"A\",E1107:E1116,0)))=\"A\",\"A\",\"\"),_xlfn.IFNA(IF((INDEX(E1107:E1116,MATCH(\"n.a.\",E1107:E1116,0)))=\"n.a.\",\"\",\"\"),_xlfn.IFNA(IF((INDEX(E1107:E1116,MATCH(\"\",E1107:E1116,0)))=\"\",\"\",\"\"),\"\"))))))))","v":""},{"$f":"_xlfn.IFNA(IF((INDEX(F1107:F1116,MATCH(\"E\",F1107:F1116,0)))=\"E\",\"E\",\"\"),_xlfn.IFNA(IF((INDEX(F1107:F1116,MATCH(\"D (E)c\",F1107:F1116,0)))=\"D (E)c\",\"D (E)c\",\"\"),_xlfn.IFNA(IF((INDEX(F1107:F1116,MATCH(\"Da (E)c\",F1107:F1116,0)))=\"Da (E)c\",\"D (E)c\",\"\"),_xlfn.IFNA(IF((INDEX(F1107:F1116,MATCH(\"D\",F1107:F1116,0)))=\"D\",\"D\",\"\"),_xlfn.IFNA(IF((INDEX(F1107:F1116,MATCH(\"Ca\",F1107:F1116,0)))=\"Ca\",\"C\",\"\"),_xlfn.IFNA(IF((INDEX(F1107:F1116,MATCH(\"C\",F1107:F1116,0)))=\"C\",\"C\",\"\"),_xlfn.IFNA(IF((INDEX(F1107:F1116,MATCH(\"Ba\",F1107:F1116,0)))=\"Ba\",\"B\",\"\"),_xlfn.IFNA(IF((INDEX(F1107:F1116,MATCH(\"B\",F1107:F1116,0)))=\"B\",\"B\",\"\"),_xlfn.IFNA(IF((INDEX(F1107:F1116,MATCH(\"Aa\",F1107:F1116,0)))=\"Aa\",\"A\",\"\"),_xlfn.IFNA(IF((INDEX(F1107:F1116,MATCH(\"A\",F1107:F1116,0)))=\"A\",\"A\",\"\"),_xlfn.IFNA(IF((INDEX(F1107:F1116,MATCH(\"n.a.\",F1107:F1116,0)))=\"n.a.\",\"\",\"\"),_xlfn.IFNA(IF((INDEX(F1107:F1116,MATCH(\"\",F1107:F1116,0)))=\"\",\"\",\"\"),\"\"))))))))))))","v":""},{"$f":"_xlfn.IFNA(IF((INDEX(G1107:G1116,MATCH(\"E\",G1107:G1116,0)))=\"E\",\"E\",\"\"),_xlfn.IFNA(IF((INDEX(G1107:G1116,MATCH(\"D\",G1107:G1116,0)))=\"D\",\"D\",\"\"),_xlfn.IFNA(IF((INDEX(G1107:G1116,MATCH(\"Ca\",G1107:G1116,0)))=\"Ca\",\"C\",\"\"),_xlfn.IFNA(IF((INDEX(G1107:G1116,MATCH(\"C\",G1107:G1116,0)))=\"C\",\"C\",\"\"),_xlfn.IFNA(IF((INDEX(G1107:G1116,MATCH(\"B\",G1107:G1116,0)))=\"B\",\"B\",\"\"),_xlfn.IFNA(IF((INDEX(G1107:G1116,MATCH(\"A\",G1107:G1116,0)))=\"A\",\"A\",\"\"),_xlfn.IFNA(IF((INDEX(G1107:G1116,MATCH(\"n.a.\",G1107:G1116,0)))=\"n.a.\",\"\",\"\"),_xlfn.IFNA(IF((INDEX(G1107:G1116,MATCH(\"\",G1107:G1116,0)))=\"\",\"\",\"\"),\"\"))))))))","v":""},{"$f":"_xlfn.IFNA(IF((INDEX(H1107:H1116,MATCH(\"E\",H1107:H1116,0)))=\"E\",\"E\",\"\"),_xlfn.IFNA(IF((INDEX(H1107:H1116,MATCH(\"D (E)c\",H1107:H1116,0)))=\"D (E)c\",\"D (E)c\",\"\"),_xlfn.IFNA(IF((INDEX(H1107:H1116,MATCH(\"Db (E)c\",H1107:H1116,0)))=\"Db (E)c\",\"D (E)c\",\"\"),_xlfn.IFNA(IF((INDEX(H1107:H1116,MATCH(\"D\",H1107:H1116,0)))=\"D\",\"D\",\"\"),_xlfn.IFNA(IF((INDEX(H1107:H1116,MATCH(\"Cb\",H1107:H1116,0)))=\"Cb\",\"C\",\"\"),_xlfn.IFNA(IF((INDEX(H1107:H1116,MATCH(\"C\",H1107:H1116,0)))=\"C\",\"C\",\"\"),_xlfn.IFNA(IF((INDEX(H1107:H1116,MATCH(\"Bb\",H1107:H1116,0)))=\"Bb\",\"B\",\"\"),_xlfn.IFNA(IF((INDEX(H1107:H1116,MATCH(\"B\",H1107:H1116,0)))=\"B\",\"B\",\"\"),_xlfn.IFNA(IF((INDEX(H1107:H1116,MATCH(\"Ab\",H1107:H1116,0)))=\"Ab\",\"A\",\"\"),_xlfn.IFNA(IF((INDEX(H1107:H1116,MATCH(\"A\",H1107:H1116,0)))=\"A\",\"A\",\"\"),_xlfn.IFNA(IF((INDEX(H1107:H1116,MATCH(\"n.a.\",H1107:H1116,0)))=\"n.a.\",\"\",\"\"),_xlfn.IFNA(IF((INDEX(H1107:H1116,MATCH(\"\",H1107:H1116,0)))=\"\",\"\",\"\"),\"\"))))))))))))","v":""}]
[null,"\nHighest hazard level for all 'Uptake Routes' \n",null,null,{"$f":"_xlfn.IFNA(IF((INDEX(E1117:H1117,MATCH(\"E\",E1117:H1117,0)))=\"E\",\"E\",\"\"),_xlfn.IFNA(IF((INDEX(E1117:H1117,MATCH(\"D (E)c\",E1117:H1117,0)))=\"D (E)c\",\"D (E)\",\"\"),_xlfn.IFNA(IF((INDEX(E1117:H1117,MATCH(\"D\",E1117:H1117,0)))=\"D\",\"D\",\"\"),_xlfn.IFNA(IF((INDEX(E1117:H1117,MATCH(\"C\",E1117:H1117,0)))=\"C\",\"C\",\"\"),_xlfn.IFNA(IF((INDEX(E1117:H1117,MATCH(\"B\",E1117:H1117,0)))=\"B\",\"B\",\"\"),_xlfn.IFNA(IF((INDEX(E1117:H1117,MATCH(\"A\",E1117:H1117,0)))=\"A\",\"A\",\"\"),_xlfn.IFNA(IF((INDEX(E1117:H1117,MATCH(\"n.a.\",E1117:H1117,0)))=\"n.a.\",\"\",\"\"),_xlfn.IFNA(IF((INDEX(E1117:H1117,MATCH(\"\",E1117:H1117,0)))=\"\",\"\",\"\"),\"\"))))))))","v":""}]
[]
[]
[null,"\nStep 3: D(E) Assessment\nSkip this step if \nyour assessment above does not reveal a D(E) hazard level.\nHover over this cell for additional instructions.\n",null,null,"\nOverall hazard level\n",null,{"$f":"IF(AND(E1118=\"\",C1104=\"Yes\")=TRUE,\"B\",IF(E1118=\"\",\"\",(IF(AND(E1118=\"D (E)\",C1121=\"\"),\"D (E)\"&CHAR(10)&\"Find if cat. 1 acute tox.\",(IF(E1118<>\"D (E)\",E1118,(IF(AND(E1118=\"D (E)\",C1121=\"Yes\"),\"E\",(IF(AND(E1118=\"D (E)\",C1121=\"No\"),\"D\",\"\"))))))))))","v":""}]
[]
[{"$f":"IF(IF(MOD(ROWS(B$3:B1123),20)=1,INDEX('Summary Sheet'!$A$17:$A1181,INT(ROWS(B$3:B1123)/20)+1),\"\")=0,\"\",IF(MOD(ROWS(B$3:B1123),20)=1,INDEX('Summary Sheet'!$A$17:$A1181,INT(ROWS(B$3:B1123)/20)+1),\"\"))","v":57},"Hazard Level Assessment","for",{"$f":"IF(IF(MOD(ROWS(D$3:D1123),20)=1,INDEX('Summary Sheet'!$B$17:$B1181,INT(ROWS(D$3:D1123)/20)+1),\"\")=0,\"\",IF(MOD(ROWS(D$3:D1123),20)=1,INDEX('Summary Sheet'!$B$17:$B1181,INT(ROWS(D$3:D1123)/20)+1),\"\"))","v":""}]
[null,"\nStep 1: Physical & Environmental Hazard Statements/Codes\nFind Section 2 of the SDS and determine if the SDS has physical and/or environmental hazard statements/codes. Hover on this cell for additional instructions.\n",null,{"$f":"IF(IF(MOD(ROWS(D$3:D1124),20)=1,INDEX('Summary Sheet'!$B$17:$B1181,INT(ROWS(D$3:D1124)/20)+1),\"\")=0,\"\",IF(MOD(ROWS(D$3:D1124),20)=1,INDEX('Summary Sheet'!$B$17:$B1181,INT(ROWS(D$3:D1124)/20)+1),\"\"))","v":""}]
[null,"Step 2: Health Hazard Statements/Codes\nProvide the Health Hazard Statements or Codes from Section 2 of the SDS below. Hover on this cell for additional instructions.",null,{"$f":"IF(IF(MOD(ROWS(D$3:D1125),20)=1,INDEX('Summary Sheet'!$B$17:$B1181,INT(ROWS(D$3:D1125)/20)+1),\"\")=0,\"\",IF(MOD(ROWS(D$3:D1125),20)=1,INDEX('Summary Sheet'!$B$17:$B1181,INT(ROWS(D$3:D1125)/20)+1),\"\"))","v":""},"\nHazard Level\n"]
[null,null,null,{"$f":"IF(IF(MOD(ROWS(D$3:D1126),20)=1,INDEX('Summary Sheet'!$B$17:$B1181,INT(ROWS(D$3:D1126)/20)+1),\"\")=0,\"\",IF(MOD(ROWS(D$3:D1126),20)=1,INDEX('Summary Sheet'!$B$17:$B1181,INT(ROWS(D$3:D1126)/20)+1),\"\"))","v":""},"\nEye Damage\n","\nInhalation\n","\nLocal Skin Damage\n","\nSkin uptake, systemic\n"]
[1,null,{"$f":"_xlfn.IFNA(VLOOKUP(B1127,_!$A$7:$F$210,6,FALSE),\"\")","v":""},{"$f":"IF(IF(MOD(ROWS(D$3:D1127),20)=1,INDEX('Summary Sheet'!$B$17:$B1181,INT(ROWS(D$3:D1127)/20)+1),\"\")=0,\"\",IF(MOD(ROWS(D$3:D1127),20)=1,INDEX('Summary Sheet'!$B$17:$B1181,INT(ROWS(D$3:D1127)/20)+1),\"\"))","v":""},{"$f":"_xlfn.IFNA(IF(VLOOKUP(B1127,_!$A$7:$E$210,2,FALSE)=0, \"\", VLOOKUP(B1127,_!$A$7:$E$210,2,FALSE)),  \"\")","v":""},{"$f":"_xlfn.IFNA(IF(VLOOKUP(B1127,_!$A$7:$E$210,3,FALSE)=0, \"\", VLOOKUP(B1127,_!$A$7:$E$210,3,FALSE)), \"\")","v":""},{"$f":"_xlfn.IFNA(IF(VLOOKUP(B1127,_!$A$7:$E$210,4,FALSE)=0, \"\",VLOOKUP(B1127,_!$A$7:$E$210,4,FALSE)), \"\")","v":""},{"$f":"_xlfn.IFNA(IF(VLOOKUP(B1127,_!$A$7:$E$210,5,FALSE)=0,\"\",VLOOKUP(B1127,_!$A$7:$E$210,5,FALSE)), \"\")","v":""}]
[2,null,{"$f":"_xlfn.IFNA(VLOOKUP(B1128,_!$A$7:$F$210,6,FALSE),\"\")","v":""},{"$f":"IF(IF(MOD(ROWS(D$3:D1128),20)=1,INDEX('Summary Sheet'!$B$17:$B1181,INT(ROWS(D$3:D1128)/20)+1),\"\")=0,\"\",IF(MOD(ROWS(D$3:D1128),20)=1,INDEX('Summary Sheet'!$B$17:$B1181,INT(ROWS(D$3:D1128)/20)+1),\"\"))","v":""},{"$f":"_xlfn.IFNA(IF(VLOOKUP(B1128,_!$A$7:$E$210,2,FALSE)=0, \"\", VLOOKUP(B1128,_!$A$7:$E$210,2,FALSE)),  \"\")","v":""},{"$f":"_xlfn.IFNA(IF(VLOOKUP(B1128,_!$A$7:$E$210,3,FALSE)=0, \"\", VLOOKUP(B1128,_!$A$7:$E$210,3,FALSE)), \"\")","v":""},{"$f":"_xlfn.IFNA(IF(VLOOKUP(B1128,_!$A$7:$E$210,4,FALSE)=0, \"\",VLOOKUP(B1128,_!$A$7:$E$210,4,FALSE)), \"\")","v":""},{"$f":"_xlfn.IFNA(IF(VLOOKUP(B1128,_!$A$7:$E$210,5,FALSE)=0,\"\",VLOOKUP(B1128,_!$A$7:$E$210,5,FALSE)), \"\")","v":""}]
[3,null,{"$f":"_xlfn.IFNA(VLOOKUP(B1129,_!$A$7:$F$210,6,FALSE),\"\")","v":""},{"$f":"IF(IF(MOD(ROWS(D$3:D1129),20)=1,INDEX('Summary Sheet'!$B$17:$B1181,INT(ROWS(D$3:D1129)/20)+1),\"\")=0,\"\",IF(MOD(ROWS(D$3:D1129),20)=1,INDEX('Summary Sheet'!$B$17:$B1181,INT(ROWS(D$3:D1129)/20)+1),\"\"))","v":""},{"$f":"_xlfn.IFNA(IF(VLOOKUP(B1129,_!$A$7:$E$210,2,FALSE)=0, \"\", VLOOKUP(B1129,_!$A$7:$E$210,2,FALSE)),  \"\")","v":""},{"$f":"_xlfn.IFNA(IF(VLOOKUP(B1129,_!$A$7:$E$210,3,FALSE)=0, \"\", VLOOKUP(B1129,_!$A$7:$E$210,3,FALSE)), \"\")","v":""},{"$f":"_xlfn.IFNA(IF(VLOOKUP(B1129,_!$A$7:$E$210,4,FALSE)=0, \"\",VLOOKUP(B1129,_!$A$7:$E$210,4,FALSE)), \"\")","v":""},{"$f":"_xlfn.IFNA(IF(VLOOKUP(B1129,_!$A$7:$E$210,5,FALSE)=0,\"\",VLOOKUP(B1129,_!$A$7:$E$210,5,FALSE)), \"\")","v":""}]
[4,null,{"$f":"_xlfn.IFNA(VLOOKUP(B1130,_!$A$7:$F$210,6,FALSE),\"\")","v":""},{"$f":"IF(IF(MOD(ROWS(D$3:D1130),20)=1,INDEX('Summary Sheet'!$B$17:$B1181,INT(ROWS(D$3:D1130)/20)+1),\"\")=0,\"\",IF(MOD(ROWS(D$3:D1130),20)=1,INDEX('Summary Sheet'!$B$17:$B1181,INT(ROWS(D$3:D1130)/20)+1),\"\"))","v":""},{"$f":"_xlfn.IFNA(IF(VLOOKUP(B1130,_!$A$7:$E$210,2,FALSE)=0, \"\", VLOOKUP(B1130,_!$A$7:$E$210,2,FALSE)),  \"\")","v":""},{"$f":"_xlfn.IFNA(IF(VLOOKUP(B1130,_!$A$7:$E$210,3,FALSE)=0, \"\", VLOOKUP(B1130,_!$A$7:$E$210,3,FALSE)), \"\")","v":""},{"$f":"_xlfn.IFNA(IF(VLOOKUP(B1130,_!$A$7:$E$210,4,FALSE)=0, \"\",VLOOKUP(B1130,_!$A$7:$E$210,4,FALSE)), \"\")","v":""},{"$f":"_xlfn.IFNA(IF(VLOOKUP(B1130,_!$A$7:$E$210,5,FALSE)=0,\"\",VLOOKUP(B1130,_!$A$7:$E$210,5,FALSE)), \"\")","v":""}]
[5,null,{"$f":"_xlfn.IFNA(VLOOKUP(B1131,_!$A$7:$F$210,6,FALSE),\"\")","v":""},{"$f":"IF(IF(MOD(ROWS(D$3:D1131),20)=1,INDEX('Summary Sheet'!$B$17:$B1181,INT(ROWS(D$3:D1131)/20)+1),\"\")=0,\"\",IF(MOD(ROWS(D$3:D1131),20)=1,INDEX('Summary Sheet'!$B$17:$B1181,INT(ROWS(D$3:D1131)/20)+1),\"\"))","v":""},{"$f":"_xlfn.IFNA(IF(VLOOKUP(B1131,_!$A$7:$E$210,2,FALSE)=0, \"\", VLOOKUP(B1131,_!$A$7:$E$210,2,FALSE)),  \"\")","v":""},{"$f":"_xlfn.IFNA(IF(VLOOKUP(B1131,_!$A$7:$E$210,3,FALSE)=0, \"\", VLOOKUP(B1131,_!$A$7:$E$210,3,FALSE)), \"\")","v":""},{"$f":"_xlfn.IFNA(IF(VLOOKUP(B1131,_!$A$7:$E$210,4,FALSE)=0, \"\",VLOOKUP(B1131,_!$A$7:$E$210,4,FALSE)), \"\")","v":""},{"$f":"_xlfn.IFNA(IF(VLOOKUP(B1131,_!$A$7:$E$210,5,FALSE)=0,\"\",VLOOKUP(B1131,_!$A$7:$E$210,5,FALSE)), \"\")","v":""}]
[6,null,{"$f":"_xlfn.IFNA(VLOOKUP(B1132,_!$A$7:$F$210,6,FALSE),\"\")","v":""},{"$f":"IF(IF(MOD(ROWS(D$3:D1132),20)=1,INDEX('Summary Sheet'!$B$17:$B1181,INT(ROWS(D$3:D1132)/20)+1),\"\")=0,\"\",IF(MOD(ROWS(D$3:D1132),20)=1,INDEX('Summary Sheet'!$B$17:$B1181,INT(ROWS(D$3:D1132)/20)+1),\"\"))","v":""},{"$f":"_xlfn.IFNA(IF(VLOOKUP(B1132,_!$A$7:$E$210,2,FALSE)=0, \"\", VLOOKUP(B1132,_!$A$7:$E$210,2,FALSE)),  \"\")","v":""},{"$f":"_xlfn.IFNA(IF(VLOOKUP(B1132,_!$A$7:$E$210,3,FALSE)=0, \"\", VLOOKUP(B1132,_!$A$7:$E$210,3,FALSE)), \"\")","v":""},{"$f":"_xlfn.IFNA(IF(VLOOKUP(B1132,_!$A$7:$E$210,4,FALSE)=0, \"\",VLOOKUP(B1132,_!$A$7:$E$210,4,FALSE)), \"\")","v":""},{"$f":"_xlfn.IFNA(IF(VLOOKUP(B1132,_!$A$7:$E$210,5,FALSE)=0,\"\",VLOOKUP(B1132,_!$A$7:$E$210,5,FALSE)), \"\")","v":""}]
[7,null,{"$f":"_xlfn.IFNA(VLOOKUP(B1133,_!$A$7:$F$210,6,FALSE),\"\")","v":""},{"$f":"IF(IF(MOD(ROWS(D$3:D1133),20)=1,INDEX('Summary Sheet'!$B$17:$B1181,INT(ROWS(D$3:D1133)/20)+1),\"\")=0,\"\",IF(MOD(ROWS(D$3:D1133),20)=1,INDEX('Summary Sheet'!$B$17:$B1181,INT(ROWS(D$3:D1133)/20)+1),\"\"))","v":""},{"$f":"_xlfn.IFNA(IF(VLOOKUP(B1133,_!$A$7:$E$210,2,FALSE)=0, \"\", VLOOKUP(B1133,_!$A$7:$E$210,2,FALSE)),  \"\")","v":""},{"$f":"_xlfn.IFNA(IF(VLOOKUP(B1133,_!$A$7:$E$210,3,FALSE)=0, \"\", VLOOKUP(B1133,_!$A$7:$E$210,3,FALSE)), \"\")","v":""},{"$f":"_xlfn.IFNA(IF(VLOOKUP(B1133,_!$A$7:$E$210,4,FALSE)=0, \"\",VLOOKUP(B1133,_!$A$7:$E$210,4,FALSE)), \"\")","v":""},{"$f":"_xlfn.IFNA(IF(VLOOKUP(B1133,_!$A$7:$E$210,5,FALSE)=0,\"\",VLOOKUP(B1133,_!$A$7:$E$210,5,FALSE)), \"\")","v":""}]
[8,null,{"$f":"_xlfn.IFNA(VLOOKUP(B1134,_!$A$7:$F$210,6,FALSE),\"\")","v":""},{"$f":"IF(IF(MOD(ROWS(D$3:D1134),20)=1,INDEX('Summary Sheet'!$B$17:$B1181,INT(ROWS(D$3:D1134)/20)+1),\"\")=0,\"\",IF(MOD(ROWS(D$3:D1134),20)=1,INDEX('Summary Sheet'!$B$17:$B1181,INT(ROWS(D$3:D1134)/20)+1),\"\"))","v":""},{"$f":"_xlfn.IFNA(IF(VLOOKUP(B1134,_!$A$7:$E$210,2,FALSE)=0, \"\", VLOOKUP(B1134,_!$A$7:$E$210,2,FALSE)),  \"\")","v":""},{"$f":"_xlfn.IFNA(IF(VLOOKUP(B1134,_!$A$7:$E$210,3,FALSE)=0, \"\", VLOOKUP(B1134,_!$A$7:$E$210,3,FALSE)), \"\")","v":""},{"$f":"_xlfn.IFNA(IF(VLOOKUP(B1134,_!$A$7:$E$210,4,FALSE)=0, \"\",VLOOKUP(B1134,_!$A$7:$E$210,4,FALSE)), \"\")","v":""},{"$f":"_xlfn.IFNA(IF(VLOOKUP(B1134,_!$A$7:$E$210,5,FALSE)=0,\"\",VLOOKUP(B1134,_!$A$7:$E$210,5,FALSE)), \"\")","v":""}]
[9,null,{"$f":"_xlfn.IFNA(VLOOKUP(B1135,_!$A$7:$F$210,6,FALSE),\"\")","v":""},{"$f":"IF(IF(MOD(ROWS(D$3:D1135),20)=1,INDEX('Summary Sheet'!$B$17:$B1181,INT(ROWS(D$3:D1135)/20)+1),\"\")=0,\"\",IF(MOD(ROWS(D$3:D1135),20)=1,INDEX('Summary Sheet'!$B$17:$B1181,INT(ROWS(D$3:D1135)/20)+1),\"\"))","v":""},{"$f":"_xlfn.IFNA(IF(VLOOKUP(B1135,_!$A$7:$E$210,2,FALSE)=0, \"\", VLOOKUP(B1135,_!$A$7:$E$210,2,FALSE)),  \"\")","v":""},{"$f":"_xlfn.IFNA(IF(VLOOKUP(B1135,_!$A$7:$E$210,3,FALSE)=0, \"\", VLOOKUP(B1135,_!$A$7:$E$210,3,FALSE)), \"\")","v":""},{"$f":"_xlfn.IFNA(IF(VLOOKUP(B1135,_!$A$7:$E$210,4,FALSE)=0, \"\",VLOOKUP(B1135,_!$A$7:$E$210,4,FALSE)), \"\")","v":""},{"$f":"_xlfn.IFNA(IF(VLOOKUP(B1135,_!$A$7:$E$210,5,FALSE)=0,\"\",VLOOKUP(B1135,_!$A$7:$E$210,5,FALSE)), \"\")","v":""}]
[10,null,{"$f":"_xlfn.IFNA(VLOOKUP(B1136,_!$A$7:$F$210,6,FALSE),\"\")","v":""},{"$f":"IF(IF(MOD(ROWS(D$14:D1136),20)=1,INDEX('Summary Sheet'!$B$17:$B1181,INT(ROWS(D$14:D1136)/20)+1),\"\")=0,\"\",IF(MOD(ROWS(D$14:D1136),20)=1,INDEX('Summary Sheet'!$B$17:$B1181,INT(ROWS(D$14:D1136)/20)+1),\"\"))","v":""},{"$f":"_xlfn.IFNA(IF(VLOOKUP(B1136,_!$A$7:$E$210,2,FALSE)=0, \"\", VLOOKUP(B1136,_!$A$7:$E$210,2,FALSE)),  \"\")","v":""},{"$f":"_xlfn.IFNA(IF(VLOOKUP(B1136,_!$A$7:$E$210,3,FALSE)=0, \"\", VLOOKUP(B1136,_!$A$7:$E$210,3,FALSE)), \"\")","v":""},{"$f":"_xlfn.IFNA(IF(VLOOKUP(B1136,_!$A$7:$E$210,4,FALSE)=0, \"\",VLOOKUP(B1136,_!$A$7:$E$210,4,FALSE)), \"\")","v":""},{"$f":"_xlfn.IFNA(IF(VLOOKUP(B1136,_!$A$7:$E$210,5,FALSE)=0,\"\",VLOOKUP(B1136,_!$A$7:$E$210,5,FALSE)), \"\")","v":""}]
[null,"\nHighest hazard level for each ‘Uptake Route’\n",null,null,{"$f":"_xlfn.IFNA(IF((INDEX(E1127:E1136,MATCH(\"E\",E1127:E1136,0)))=\"E\",\"E\",\"\"),_xlfn.IFNA(IF((INDEX(E1127:E1136,MATCH(\"D\",E1127:E1136,0)))=\"D\",\"D\",\"\"),_xlfn.IFNA(IF((INDEX(E1127:E1136,MATCH(\"Ca\",E1127:E1136,0)))=\"Ca\",\"C\",\"\"),_xlfn.IFNA(IF((INDEX(E1127:E1136,MATCH(\"C\",E1127:E1136,0)))=\"C\",\"C\",\"\"),_xlfn.IFNA(IF((INDEX(E1127:E1136,MATCH(\"B\",E1127:E1136,0)))=\"B\",\"B\",\"\"),_xlfn.IFNA(IF((INDEX(E1127:E1136,MATCH(\"A\",E1127:E1136,0)))=\"A\",\"A\",\"\"),_xlfn.IFNA(IF((INDEX(E1127:E1136,MATCH(\"n.a.\",E1127:E1136,0)))=\"n.a.\",\"\",\"\"),_xlfn.IFNA(IF((INDEX(E1127:E1136,MATCH(\"\",E1127:E1136,0)))=\"\",\"\",\"\"),\"\"))))))))","v":""},{"$f":"_xlfn.IFNA(IF((INDEX(F1127:F1136,MATCH(\"E\",F1127:F1136,0)))=\"E\",\"E\",\"\"),_xlfn.IFNA(IF((INDEX(F1127:F1136,MATCH(\"D (E)c\",F1127:F1136,0)))=\"D (E)c\",\"D (E)c\",\"\"),_xlfn.IFNA(IF((INDEX(F1127:F1136,MATCH(\"Da (E)c\",F1127:F1136,0)))=\"Da (E)c\",\"D (E)c\",\"\"),_xlfn.IFNA(IF((INDEX(F1127:F1136,MATCH(\"D\",F1127:F1136,0)))=\"D\",\"D\",\"\"),_xlfn.IFNA(IF((INDEX(F1127:F1136,MATCH(\"Ca\",F1127:F1136,0)))=\"Ca\",\"C\",\"\"),_xlfn.IFNA(IF((INDEX(F1127:F1136,MATCH(\"C\",F1127:F1136,0)))=\"C\",\"C\",\"\"),_xlfn.IFNA(IF((INDEX(F1127:F1136,MATCH(\"Ba\",F1127:F1136,0)))=\"Ba\",\"B\",\"\"),_xlfn.IFNA(IF((INDEX(F1127:F1136,MATCH(\"B\",F1127:F1136,0)))=\"B\",\"B\",\"\"),_xlfn.IFNA(IF((INDEX(F1127:F1136,MATCH(\"Aa\",F1127:F1136,0)))=\"Aa\",\"A\",\"\"),_xlfn.IFNA(IF((INDEX(F1127:F1136,MATCH(\"A\",F1127:F1136,0)))=\"A\",\"A\",\"\"),_xlfn.IFNA(IF((INDEX(F1127:F1136,MATCH(\"n.a.\",F1127:F1136,0)))=\"n.a.\",\"\",\"\"),_xlfn.IFNA(IF((INDEX(F1127:F1136,MATCH(\"\",F1127:F1136,0)))=\"\",\"\",\"\"),\"\"))))))))))))","v":""},{"$f":"_xlfn.IFNA(IF((INDEX(G1127:G1136,MATCH(\"E\",G1127:G1136,0)))=\"E\",\"E\",\"\"),_xlfn.IFNA(IF((INDEX(G1127:G1136,MATCH(\"D\",G1127:G1136,0)))=\"D\",\"D\",\"\"),_xlfn.IFNA(IF((INDEX(G1127:G1136,MATCH(\"Ca\",G1127:G1136,0)))=\"Ca\",\"C\",\"\"),_xlfn.IFNA(IF((INDEX(G1127:G1136,MATCH(\"C\",G1127:G1136,0)))=\"C\",\"C\",\"\"),_xlfn.IFNA(IF((INDEX(G1127:G1136,MATCH(\"B\",G1127:G1136,0)))=\"B\",\"B\",\"\"),_xlfn.IFNA(IF((INDEX(G1127:G1136,MATCH(\"A\",G1127:G1136,0)))=\"A\",\"A\",\"\"),_xlfn.IFNA(IF((INDEX(G1127:G1136,MATCH(\"n.a.\",G1127:G1136,0)))=\"n.a.\",\"\",\"\"),_xlfn.IFNA(IF((INDEX(G1127:G1136,MATCH(\"\",G1127:G1136,0)))=\"\",\"\",\"\"),\"\"))))))))","v":""},{"$f":"_xlfn.IFNA(IF((INDEX(H1127:H1136,MATCH(\"E\",H1127:H1136,0)))=\"E\",\"E\",\"\"),_xlfn.IFNA(IF((INDEX(H1127:H1136,MATCH(\"D (E)c\",H1127:H1136,0)))=\"D (E)c\",\"D (E)c\",\"\"),_xlfn.IFNA(IF((INDEX(H1127:H1136,MATCH(\"Db (E)c\",H1127:H1136,0)))=\"Db (E)c\",\"D (E)c\",\"\"),_xlfn.IFNA(IF((INDEX(H1127:H1136,MATCH(\"D\",H1127:H1136,0)))=\"D\",\"D\",\"\"),_xlfn.IFNA(IF((INDEX(H1127:H1136,MATCH(\"Cb\",H1127:H1136,0)))=\"Cb\",\"C\",\"\"),_xlfn.IFNA(IF((INDEX(H1127:H1136,MATCH(\"C\",H1127:H1136,0)))=\"C\",\"C\",\"\"),_xlfn.IFNA(IF((INDEX(H1127:H1136,MATCH(\"Bb\",H1127:H1136,0)))=\"Bb\",\"B\",\"\"),_xlfn.IFNA(IF((INDEX(H1127:H1136,MATCH(\"B\",H1127:H1136,0)))=\"B\",\"B\",\"\"),_xlfn.IFNA(IF((INDEX(H1127:H1136,MATCH(\"Ab\",H1127:H1136,0)))=\"Ab\",\"A\",\"\"),_xlfn.IFNA(IF((INDEX(H1127:H1136,MATCH(\"A\",H1127:H1136,0)))=\"A\",\"A\",\"\"),_xlfn.IFNA(IF((INDEX(H1127:H1136,MATCH(\"n.a.\",H1127:H1136,0)))=\"n.a.\",\"\",\"\"),_xlfn.IFNA(IF((INDEX(H1127:H1136,MATCH(\"\",H1127:H1136,0)))=\"\",\"\",\"\"),\"\"))))))))))))","v":""}]
[null,"\nHighest hazard level for all 'Uptake Routes' \n",null,null,{"$f":"_xlfn.IFNA(IF((INDEX(E1137:H1137,MATCH(\"E\",E1137:H1137,0)))=\"E\",\"E\",\"\"),_xlfn.IFNA(IF((INDEX(E1137:H1137,MATCH(\"D (E)c\",E1137:H1137,0)))=\"D (E)c\",\"D (E)\",\"\"),_xlfn.IFNA(IF((INDEX(E1137:H1137,MATCH(\"D\",E1137:H1137,0)))=\"D\",\"D\",\"\"),_xlfn.IFNA(IF((INDEX(E1137:H1137,MATCH(\"C\",E1137:H1137,0)))=\"C\",\"C\",\"\"),_xlfn.IFNA(IF((INDEX(E1137:H1137,MATCH(\"B\",E1137:H1137,0)))=\"B\",\"B\",\"\"),_xlfn.IFNA(IF((INDEX(E1137:H1137,MATCH(\"A\",E1137:H1137,0)))=\"A\",\"A\",\"\"),_xlfn.IFNA(IF((INDEX(E1137:H1137,MATCH(\"n.a.\",E1137:H1137,0)))=\"n.a.\",\"\",\"\"),_xlfn.IFNA(IF((INDEX(E1137:H1137,MATCH(\"\",E1137:H1137,0)))=\"\",\"\",\"\"),\"\"))))))))","v":""}]
[]
[]
[null,"\nStep 3: D(E) Assessment\nSkip this step if \nyour assessment above does not reveal a D(E) hazard level.\nHover over this cell for additional instructions.\n",null,null,"\nOverall hazard level\n",null,{"$f":"IF(AND(E1138=\"\",C1124=\"Yes\")=TRUE,\"B\",IF(E1138=\"\",\"\",(IF(AND(E1138=\"D (E)\",C1141=\"\"),\"D (E)\"&CHAR(10)&\"Find if cat. 1 acute tox.\",(IF(E1138<>\"D (E)\",E1138,(IF(AND(E1138=\"D (E)\",C1141=\"Yes\"),\"E\",(IF(AND(E1138=\"D (E)\",C1141=\"No\"),\"D\",\"\"))))))))))","v":""}]
[]
[{"$f":"IF(IF(MOD(ROWS(B$3:B1143),20)=1,INDEX('Summary Sheet'!$A$17:$A1200,INT(ROWS(B$3:B1143)/20)+1),\"\")=0,\"\",IF(MOD(ROWS(B$3:B1143),20)=1,INDEX('Summary Sheet'!$A$17:$A1200,INT(ROWS(B$3:B1143)/20)+1),\"\"))","v":58},"Hazard Level Assessment","for",{"$f":"IF(IF(MOD(ROWS(D$3:D1143),20)=1,INDEX('Summary Sheet'!$B$17:$B1200,INT(ROWS(D$3:D1143)/20)+1),\"\")=0,\"\",IF(MOD(ROWS(D$3:D1143),20)=1,INDEX('Summary Sheet'!$B$17:$B1200,INT(ROWS(D$3:D1143)/20)+1),\"\"))","v":""}]
[null,"\nStep 1: Physical & Environmental Hazard Statements/Codes\nFind Section 2 of the SDS and determine if the SDS has physical and/or environmental hazard statements/codes. Hover on this cell for additional instructions.\n",null,{"$f":"IF(IF(MOD(ROWS(D$3:D1144),20)=1,INDEX('Summary Sheet'!$B$17:$B1200,INT(ROWS(D$3:D1144)/20)+1),\"\")=0,\"\",IF(MOD(ROWS(D$3:D1144),20)=1,INDEX('Summary Sheet'!$B$17:$B1200,INT(ROWS(D$3:D1144)/20)+1),\"\"))","v":""}]
[null,"Step 2: Health Hazard Statements/Codes\nProvide the Health Hazard Statements or Codes from Section 2 of the SDS below. Hover on this cell for additional instructions.",null,{"$f":"IF(IF(MOD(ROWS(D$3:D1145),20)=1,INDEX('Summary Sheet'!$B$17:$B1200,INT(ROWS(D$3:D1145)/20)+1),\"\")=0,\"\",IF(MOD(ROWS(D$3:D1145),20)=1,INDEX('Summary Sheet'!$B$17:$B1200,INT(ROWS(D$3:D1145)/20)+1),\"\"))","v":""},"\nHazard Level\n"]
[null,null,null,{"$f":"IF(IF(MOD(ROWS(D$3:D1146),20)=1,INDEX('Summary Sheet'!$B$17:$B1200,INT(ROWS(D$3:D1146)/20)+1),\"\")=0,\"\",IF(MOD(ROWS(D$3:D1146),20)=1,INDEX('Summary Sheet'!$B$17:$B1200,INT(ROWS(D$3:D1146)/20)+1),\"\"))","v":""},"\nEye Damage\n","\nInhalation\n","\nLocal Skin Damage\n","\nSkin uptake, systemic\n"]
[1,null,{"$f":"_xlfn.IFNA(VLOOKUP(B1147,_!$A$7:$F$210,6,FALSE),\"\")","v":""},{"$f":"IF(IF(MOD(ROWS(D$3:D1147),20)=1,INDEX('Summary Sheet'!$B$17:$B1200,INT(ROWS(D$3:D1147)/20)+1),\"\")=0,\"\",IF(MOD(ROWS(D$3:D1147),20)=1,INDEX('Summary Sheet'!$B$17:$B1200,INT(ROWS(D$3:D1147)/20)+1),\"\"))","v":""},{"$f":"_xlfn.IFNA(IF(VLOOKUP(B1147,_!$A$7:$E$210,2,FALSE)=0, \"\", VLOOKUP(B1147,_!$A$7:$E$210,2,FALSE)),  \"\")","v":""},{"$f":"_xlfn.IFNA(IF(VLOOKUP(B1147,_!$A$7:$E$210,3,FALSE)=0, \"\", VLOOKUP(B1147,_!$A$7:$E$210,3,FALSE)), \"\")","v":""},{"$f":"_xlfn.IFNA(IF(VLOOKUP(B1147,_!$A$7:$E$210,4,FALSE)=0, \"\",VLOOKUP(B1147,_!$A$7:$E$210,4,FALSE)), \"\")","v":""},{"$f":"_xlfn.IFNA(IF(VLOOKUP(B1147,_!$A$7:$E$210,5,FALSE)=0,\"\",VLOOKUP(B1147,_!$A$7:$E$210,5,FALSE)), \"\")","v":""}]
[2,null,{"$f":"_xlfn.IFNA(VLOOKUP(B1148,_!$A$7:$F$210,6,FALSE),\"\")","v":""},{"$f":"IF(IF(MOD(ROWS(D$3:D1148),20)=1,INDEX('Summary Sheet'!$B$17:$B1200,INT(ROWS(D$3:D1148)/20)+1),\"\")=0,\"\",IF(MOD(ROWS(D$3:D1148),20)=1,INDEX('Summary Sheet'!$B$17:$B1200,INT(ROWS(D$3:D1148)/20)+1),\"\"))","v":""},{"$f":"_xlfn.IFNA(IF(VLOOKUP(B1148,_!$A$7:$E$210,2,FALSE)=0, \"\", VLOOKUP(B1148,_!$A$7:$E$210,2,FALSE)),  \"\")","v":""},{"$f":"_xlfn.IFNA(IF(VLOOKUP(B1148,_!$A$7:$E$210,3,FALSE)=0, \"\", VLOOKUP(B1148,_!$A$7:$E$210,3,FALSE)), \"\")","v":""},{"$f":"_xlfn.IFNA(IF(VLOOKUP(B1148,_!$A$7:$E$210,4,FALSE)=0, \"\",VLOOKUP(B1148,_!$A$7:$E$210,4,FALSE)), \"\")","v":""},{"$f":"_xlfn.IFNA(IF(VLOOKUP(B1148,_!$A$7:$E$210,5,FALSE)=0,\"\",VLOOKUP(B1148,_!$A$7:$E$210,5,FALSE)), \"\")","v":""}]
[3,null,{"$f":"_xlfn.IFNA(VLOOKUP(B1149,_!$A$7:$F$210,6,FALSE),\"\")","v":""},{"$f":"IF(IF(MOD(ROWS(D$3:D1149),20)=1,INDEX('Summary Sheet'!$B$17:$B1200,INT(ROWS(D$3:D1149)/20)+1),\"\")=0,\"\",IF(MOD(ROWS(D$3:D1149),20)=1,INDEX('Summary Sheet'!$B$17:$B1200,INT(ROWS(D$3:D1149)/20)+1),\"\"))","v":""},{"$f":"_xlfn.IFNA(IF(VLOOKUP(B1149,_!$A$7:$E$210,2,FALSE)=0, \"\", VLOOKUP(B1149,_!$A$7:$E$210,2,FALSE)),  \"\")","v":""},{"$f":"_xlfn.IFNA(IF(VLOOKUP(B1149,_!$A$7:$E$210,3,FALSE)=0, \"\", VLOOKUP(B1149,_!$A$7:$E$210,3,FALSE)), \"\")","v":""},{"$f":"_xlfn.IFNA(IF(VLOOKUP(B1149,_!$A$7:$E$210,4,FALSE)=0, \"\",VLOOKUP(B1149,_!$A$7:$E$210,4,FALSE)), \"\")","v":""},{"$f":"_xlfn.IFNA(IF(VLOOKUP(B1149,_!$A$7:$E$210,5,FALSE)=0,\"\",VLOOKUP(B1149,_!$A$7:$E$210,5,FALSE)), \"\")","v":""}]
[4,null,{"$f":"_xlfn.IFNA(VLOOKUP(B1150,_!$A$7:$F$210,6,FALSE),\"\")","v":""},{"$f":"IF(IF(MOD(ROWS(D$3:D1150),20)=1,INDEX('Summary Sheet'!$B$17:$B1200,INT(ROWS(D$3:D1150)/20)+1),\"\")=0,\"\",IF(MOD(ROWS(D$3:D1150),20)=1,INDEX('Summary Sheet'!$B$17:$B1200,INT(ROWS(D$3:D1150)/20)+1),\"\"))","v":""},{"$f":"_xlfn.IFNA(IF(VLOOKUP(B1150,_!$A$7:$E$210,2,FALSE)=0, \"\", VLOOKUP(B1150,_!$A$7:$E$210,2,FALSE)),  \"\")","v":""},{"$f":"_xlfn.IFNA(IF(VLOOKUP(B1150,_!$A$7:$E$210,3,FALSE)=0, \"\", VLOOKUP(B1150,_!$A$7:$E$210,3,FALSE)), \"\")","v":""},{"$f":"_xlfn.IFNA(IF(VLOOKUP(B1150,_!$A$7:$E$210,4,FALSE)=0, \"\",VLOOKUP(B1150,_!$A$7:$E$210,4,FALSE)), \"\")","v":""},{"$f":"_xlfn.IFNA(IF(VLOOKUP(B1150,_!$A$7:$E$210,5,FALSE)=0,\"\",VLOOKUP(B1150,_!$A$7:$E$210,5,FALSE)), \"\")","v":""}]
[5,null,{"$f":"_xlfn.IFNA(VLOOKUP(B1151,_!$A$7:$F$210,6,FALSE),\"\")","v":""},{"$f":"IF(IF(MOD(ROWS(D$3:D1151),20)=1,INDEX('Summary Sheet'!$B$17:$B1200,INT(ROWS(D$3:D1151)/20)+1),\"\")=0,\"\",IF(MOD(ROWS(D$3:D1151),20)=1,INDEX('Summary Sheet'!$B$17:$B1200,INT(ROWS(D$3:D1151)/20)+1),\"\"))","v":""},{"$f":"_xlfn.IFNA(IF(VLOOKUP(B1151,_!$A$7:$E$210,2,FALSE)=0, \"\", VLOOKUP(B1151,_!$A$7:$E$210,2,FALSE)),  \"\")","v":""},{"$f":"_xlfn.IFNA(IF(VLOOKUP(B1151,_!$A$7:$E$210,3,FALSE)=0, \"\", VLOOKUP(B1151,_!$A$7:$E$210,3,FALSE)), \"\")","v":""},{"$f":"_xlfn.IFNA(IF(VLOOKUP(B1151,_!$A$7:$E$210,4,FALSE)=0, \"\",VLOOKUP(B1151,_!$A$7:$E$210,4,FALSE)), \"\")","v":""},{"$f":"_xlfn.IFNA(IF(VLOOKUP(B1151,_!$A$7:$E$210,5,FALSE)=0,\"\",VLOOKUP(B1151,_!$A$7:$E$210,5,FALSE)), \"\")","v":""}]
[6,null,{"$f":"_xlfn.IFNA(VLOOKUP(B1152,_!$A$7:$F$210,6,FALSE),\"\")","v":""},{"$f":"IF(IF(MOD(ROWS(D$3:D1152),20)=1,INDEX('Summary Sheet'!$B$17:$B1200,INT(ROWS(D$3:D1152)/20)+1),\"\")=0,\"\",IF(MOD(ROWS(D$3:D1152),20)=1,INDEX('Summary Sheet'!$B$17:$B1200,INT(ROWS(D$3:D1152)/20)+1),\"\"))","v":""},{"$f":"_xlfn.IFNA(IF(VLOOKUP(B1152,_!$A$7:$E$210,2,FALSE)=0, \"\", VLOOKUP(B1152,_!$A$7:$E$210,2,FALSE)),  \"\")","v":""},{"$f":"_xlfn.IFNA(IF(VLOOKUP(B1152,_!$A$7:$E$210,3,FALSE)=0, \"\", VLOOKUP(B1152,_!$A$7:$E$210,3,FALSE)), \"\")","v":""},{"$f":"_xlfn.IFNA(IF(VLOOKUP(B1152,_!$A$7:$E$210,4,FALSE)=0, \"\",VLOOKUP(B1152,_!$A$7:$E$210,4,FALSE)), \"\")","v":""},{"$f":"_xlfn.IFNA(IF(VLOOKUP(B1152,_!$A$7:$E$210,5,FALSE)=0,\"\",VLOOKUP(B1152,_!$A$7:$E$210,5,FALSE)), \"\")","v":""}]
[7,null,{"$f":"_xlfn.IFNA(VLOOKUP(B1153,_!$A$7:$F$210,6,FALSE),\"\")","v":""},{"$f":"IF(IF(MOD(ROWS(D$3:D1153),20)=1,INDEX('Summary Sheet'!$B$17:$B1200,INT(ROWS(D$3:D1153)/20)+1),\"\")=0,\"\",IF(MOD(ROWS(D$3:D1153),20)=1,INDEX('Summary Sheet'!$B$17:$B1200,INT(ROWS(D$3:D1153)/20)+1),\"\"))","v":""},{"$f":"_xlfn.IFNA(IF(VLOOKUP(B1153,_!$A$7:$E$210,2,FALSE)=0, \"\", VLOOKUP(B1153,_!$A$7:$E$210,2,FALSE)),  \"\")","v":""},{"$f":"_xlfn.IFNA(IF(VLOOKUP(B1153,_!$A$7:$E$210,3,FALSE)=0, \"\", VLOOKUP(B1153,_!$A$7:$E$210,3,FALSE)), \"\")","v":""},{"$f":"_xlfn.IFNA(IF(VLOOKUP(B1153,_!$A$7:$E$210,4,FALSE)=0, \"\",VLOOKUP(B1153,_!$A$7:$E$210,4,FALSE)), \"\")","v":""},{"$f":"_xlfn.IFNA(IF(VLOOKUP(B1153,_!$A$7:$E$210,5,FALSE)=0,\"\",VLOOKUP(B1153,_!$A$7:$E$210,5,FALSE)), \"\")","v":""}]
[8,null,{"$f":"_xlfn.IFNA(VLOOKUP(B1154,_!$A$7:$F$210,6,FALSE),\"\")","v":""},{"$f":"IF(IF(MOD(ROWS(D$3:D1154),20)=1,INDEX('Summary Sheet'!$B$17:$B1200,INT(ROWS(D$3:D1154)/20)+1),\"\")=0,\"\",IF(MOD(ROWS(D$3:D1154),20)=1,INDEX('Summary Sheet'!$B$17:$B1200,INT(ROWS(D$3:D1154)/20)+1),\"\"))","v":""},{"$f":"_xlfn.IFNA(IF(VLOOKUP(B1154,_!$A$7:$E$210,2,FALSE)=0, \"\", VLOOKUP(B1154,_!$A$7:$E$210,2,FALSE)),  \"\")","v":""},{"$f":"_xlfn.IFNA(IF(VLOOKUP(B1154,_!$A$7:$E$210,3,FALSE)=0, \"\", VLOOKUP(B1154,_!$A$7:$E$210,3,FALSE)), \"\")","v":""},{"$f":"_xlfn.IFNA(IF(VLOOKUP(B1154,_!$A$7:$E$210,4,FALSE)=0, \"\",VLOOKUP(B1154,_!$A$7:$E$210,4,FALSE)), \"\")","v":""},{"$f":"_xlfn.IFNA(IF(VLOOKUP(B1154,_!$A$7:$E$210,5,FALSE)=0,\"\",VLOOKUP(B1154,_!$A$7:$E$210,5,FALSE)), \"\")","v":""}]
[9,null,{"$f":"_xlfn.IFNA(VLOOKUP(B1155,_!$A$7:$F$210,6,FALSE),\"\")","v":""},{"$f":"IF(IF(MOD(ROWS(D$3:D1155),20)=1,INDEX('Summary Sheet'!$B$17:$B1200,INT(ROWS(D$3:D1155)/20)+1),\"\")=0,\"\",IF(MOD(ROWS(D$3:D1155),20)=1,INDEX('Summary Sheet'!$B$17:$B1200,INT(ROWS(D$3:D1155)/20)+1),\"\"))","v":""},{"$f":"_xlfn.IFNA(IF(VLOOKUP(B1155,_!$A$7:$E$210,2,FALSE)=0, \"\", VLOOKUP(B1155,_!$A$7:$E$210,2,FALSE)),  \"\")","v":""},{"$f":"_xlfn.IFNA(IF(VLOOKUP(B1155,_!$A$7:$E$210,3,FALSE)=0, \"\", VLOOKUP(B1155,_!$A$7:$E$210,3,FALSE)), \"\")","v":""},{"$f":"_xlfn.IFNA(IF(VLOOKUP(B1155,_!$A$7:$E$210,4,FALSE)=0, \"\",VLOOKUP(B1155,_!$A$7:$E$210,4,FALSE)), \"\")","v":""},{"$f":"_xlfn.IFNA(IF(VLOOKUP(B1155,_!$A$7:$E$210,5,FALSE)=0,\"\",VLOOKUP(B1155,_!$A$7:$E$210,5,FALSE)), \"\")","v":""}]
[10,null,{"$f":"_xlfn.IFNA(VLOOKUP(B1156,_!$A$7:$F$210,6,FALSE),\"\")","v":""},{"$f":"IF(IF(MOD(ROWS(D$14:D1156),20)=1,INDEX('Summary Sheet'!$B$17:$B1200,INT(ROWS(D$14:D1156)/20)+1),\"\")=0,\"\",IF(MOD(ROWS(D$14:D1156),20)=1,INDEX('Summary Sheet'!$B$17:$B1200,INT(ROWS(D$14:D1156)/20)+1),\"\"))","v":""},{"$f":"_xlfn.IFNA(IF(VLOOKUP(B1156,_!$A$7:$E$210,2,FALSE)=0, \"\", VLOOKUP(B1156,_!$A$7:$E$210,2,FALSE)),  \"\")","v":""},{"$f":"_xlfn.IFNA(IF(VLOOKUP(B1156,_!$A$7:$E$210,3,FALSE)=0, \"\", VLOOKUP(B1156,_!$A$7:$E$210,3,FALSE)), \"\")","v":""},{"$f":"_xlfn.IFNA(IF(VLOOKUP(B1156,_!$A$7:$E$210,4,FALSE)=0, \"\",VLOOKUP(B1156,_!$A$7:$E$210,4,FALSE)), \"\")","v":""},{"$f":"_xlfn.IFNA(IF(VLOOKUP(B1156,_!$A$7:$E$210,5,FALSE)=0,\"\",VLOOKUP(B1156,_!$A$7:$E$210,5,FALSE)), \"\")","v":""}]
[null,"\nHighest hazard level for each ‘Uptake Route’\n",null,null,{"$f":"_xlfn.IFNA(IF((INDEX(E1147:E1156,MATCH(\"E\",E1147:E1156,0)))=\"E\",\"E\",\"\"),_xlfn.IFNA(IF((INDEX(E1147:E1156,MATCH(\"D\",E1147:E1156,0)))=\"D\",\"D\",\"\"),_xlfn.IFNA(IF((INDEX(E1147:E1156,MATCH(\"Ca\",E1147:E1156,0)))=\"Ca\",\"C\",\"\"),_xlfn.IFNA(IF((INDEX(E1147:E1156,MATCH(\"C\",E1147:E1156,0)))=\"C\",\"C\",\"\"),_xlfn.IFNA(IF((INDEX(E1147:E1156,MATCH(\"B\",E1147:E1156,0)))=\"B\",\"B\",\"\"),_xlfn.IFNA(IF((INDEX(E1147:E1156,MATCH(\"A\",E1147:E1156,0)))=\"A\",\"A\",\"\"),_xlfn.IFNA(IF((INDEX(E1147:E1156,MATCH(\"n.a.\",E1147:E1156,0)))=\"n.a.\",\"\",\"\"),_xlfn.IFNA(IF((INDEX(E1147:E1156,MATCH(\"\",E1147:E1156,0)))=\"\",\"\",\"\"),\"\"))))))))","v":""},{"$f":"_xlfn.IFNA(IF((INDEX(F1147:F1156,MATCH(\"E\",F1147:F1156,0)))=\"E\",\"E\",\"\"),_xlfn.IFNA(IF((INDEX(F1147:F1156,MATCH(\"D (E)c\",F1147:F1156,0)))=\"D (E)c\",\"D (E)c\",\"\"),_xlfn.IFNA(IF((INDEX(F1147:F1156,MATCH(\"Da (E)c\",F1147:F1156,0)))=\"Da (E)c\",\"D (E)c\",\"\"),_xlfn.IFNA(IF((INDEX(F1147:F1156,MATCH(\"D\",F1147:F1156,0)))=\"D\",\"D\",\"\"),_xlfn.IFNA(IF((INDEX(F1147:F1156,MATCH(\"Ca\",F1147:F1156,0)))=\"Ca\",\"C\",\"\"),_xlfn.IFNA(IF((INDEX(F1147:F1156,MATCH(\"C\",F1147:F1156,0)))=\"C\",\"C\",\"\"),_xlfn.IFNA(IF((INDEX(F1147:F1156,MATCH(\"Ba\",F1147:F1156,0)))=\"Ba\",\"B\",\"\"),_xlfn.IFNA(IF((INDEX(F1147:F1156,MATCH(\"B\",F1147:F1156,0)))=\"B\",\"B\",\"\"),_xlfn.IFNA(IF((INDEX(F1147:F1156,MATCH(\"Aa\",F1147:F1156,0)))=\"Aa\",\"A\",\"\"),_xlfn.IFNA(IF((INDEX(F1147:F1156,MATCH(\"A\",F1147:F1156,0)))=\"A\",\"A\",\"\"),_xlfn.IFNA(IF((INDEX(F1147:F1156,MATCH(\"n.a.\",F1147:F1156,0)))=\"n.a.\",\"\",\"\"),_xlfn.IFNA(IF((INDEX(F1147:F1156,MATCH(\"\",F1147:F1156,0)))=\"\",\"\",\"\"),\"\"))))))))))))","v":""},{"$f":"_xlfn.IFNA(IF((INDEX(G1147:G1156,MATCH(\"E\",G1147:G1156,0)))=\"E\",\"E\",\"\"),_xlfn.IFNA(IF((INDEX(G1147:G1156,MATCH(\"D\",G1147:G1156,0)))=\"D\",\"D\",\"\"),_xlfn.IFNA(IF((INDEX(G1147:G1156,MATCH(\"Ca\",G1147:G1156,0)))=\"Ca\",\"C\",\"\"),_xlfn.IFNA(IF((INDEX(G1147:G1156,MATCH(\"C\",G1147:G1156,0)))=\"C\",\"C\",\"\"),_xlfn.IFNA(IF((INDEX(G1147:G1156,MATCH(\"B\",G1147:G1156,0)))=\"B\",\"B\",\"\"),_xlfn.IFNA(IF((INDEX(G1147:G1156,MATCH(\"A\",G1147:G1156,0)))=\"A\",\"A\",\"\"),_xlfn.IFNA(IF((INDEX(G1147:G1156,MATCH(\"n.a.\",G1147:G1156,0)))=\"n.a.\",\"\",\"\"),_xlfn.IFNA(IF((INDEX(G1147:G1156,MATCH(\"\",G1147:G1156,0)))=\"\",\"\",\"\"),\"\"))))))))","v":""},{"$f":"_xlfn.IFNA(IF((INDEX(H1147:H1156,MATCH(\"E\",H1147:H1156,0)))=\"E\",\"E\",\"\"),_xlfn.IFNA(IF((INDEX(H1147:H1156,MATCH(\"D (E)c\",H1147:H1156,0)))=\"D (E)c\",\"D (E)c\",\"\"),_xlfn.IFNA(IF((INDEX(H1147:H1156,MATCH(\"Db (E)c\",H1147:H1156,0)))=\"Db (E)c\",\"D (E)c\",\"\"),_xlfn.IFNA(IF((INDEX(H1147:H1156,MATCH(\"D\",H1147:H1156,0)))=\"D\",\"D\",\"\"),_xlfn.IFNA(IF((INDEX(H1147:H1156,MATCH(\"Cb\",H1147:H1156,0)))=\"Cb\",\"C\",\"\"),_xlfn.IFNA(IF((INDEX(H1147:H1156,MATCH(\"C\",H1147:H1156,0)))=\"C\",\"C\",\"\"),_xlfn.IFNA(IF((INDEX(H1147:H1156,MATCH(\"Bb\",H1147:H1156,0)))=\"Bb\",\"B\",\"\"),_xlfn.IFNA(IF((INDEX(H1147:H1156,MATCH(\"B\",H1147:H1156,0)))=\"B\",\"B\",\"\"),_xlfn.IFNA(IF((INDEX(H1147:H1156,MATCH(\"Ab\",H1147:H1156,0)))=\"Ab\",\"A\",\"\"),_xlfn.IFNA(IF((INDEX(H1147:H1156,MATCH(\"A\",H1147:H1156,0)))=\"A\",\"A\",\"\"),_xlfn.IFNA(IF((INDEX(H1147:H1156,MATCH(\"n.a.\",H1147:H1156,0)))=\"n.a.\",\"\",\"\"),_xlfn.IFNA(IF((INDEX(H1147:H1156,MATCH(\"\",H1147:H1156,0)))=\"\",\"\",\"\"),\"\"))))))))))))","v":""}]
[null,"\nHighest hazard level for all 'Uptake Routes' \n",null,null,{"$f":"_xlfn.IFNA(IF((INDEX(E1157:H1157,MATCH(\"E\",E1157:H1157,0)))=\"E\",\"E\",\"\"),_xlfn.IFNA(IF((INDEX(E1157:H1157,MATCH(\"D (E)c\",E1157:H1157,0)))=\"D (E)c\",\"D (E)\",\"\"),_xlfn.IFNA(IF((INDEX(E1157:H1157,MATCH(\"D\",E1157:H1157,0)))=\"D\",\"D\",\"\"),_xlfn.IFNA(IF((INDEX(E1157:H1157,MATCH(\"C\",E1157:H1157,0)))=\"C\",\"C\",\"\"),_xlfn.IFNA(IF((INDEX(E1157:H1157,MATCH(\"B\",E1157:H1157,0)))=\"B\",\"B\",\"\"),_xlfn.IFNA(IF((INDEX(E1157:H1157,MATCH(\"A\",E1157:H1157,0)))=\"A\",\"A\",\"\"),_xlfn.IFNA(IF((INDEX(E1157:H1157,MATCH(\"n.a.\",E1157:H1157,0)))=\"n.a.\",\"\",\"\"),_xlfn.IFNA(IF((INDEX(E1157:H1157,MATCH(\"\",E1157:H1157,0)))=\"\",\"\",\"\"),\"\"))))))))","v":""}]
[]
[]
[null,"\nStep 3: D(E) Assessment\nSkip this step if \nyour assessment above does not reveal a D(E) hazard level.\nHover over this cell for additional instructions.\n",null,null,"\nOverall hazard level\n",null,{"$f":"IF(AND(E1158=\"\",C1144=\"Yes\")=TRUE,\"B\",IF(E1158=\"\",\"\",(IF(AND(E1158=\"D (E)\",C1161=\"\"),\"D (E)\"&CHAR(10)&\"Find if cat. 1 acute tox.\",(IF(E1158<>\"D (E)\",E1158,(IF(AND(E1158=\"D (E)\",C1161=\"Yes\"),\"E\",(IF(AND(E1158=\"D (E)\",C1161=\"No\"),\"D\",\"\"))))))))))","v":""}]
[]
[{"$f":"IF(IF(MOD(ROWS(B$3:B1163),20)=1,INDEX('Summary Sheet'!$A$17:$A1219,INT(ROWS(B$3:B1163)/20)+1),\"\")=0,\"\",IF(MOD(ROWS(B$3:B1163),20)=1,INDEX('Summary Sheet'!$A$17:$A1219,INT(ROWS(B$3:B1163)/20)+1),\"\"))","v":59},"Hazard Level Assessment","for",{"$f":"IF(IF(MOD(ROWS(D$3:D1163),20)=1,INDEX('Summary Sheet'!$B$17:$B1219,INT(ROWS(D$3:D1163)/20)+1),\"\")=0,\"\",IF(MOD(ROWS(D$3:D1163),20)=1,INDEX('Summary Sheet'!$B$17:$B1219,INT(ROWS(D$3:D1163)/20)+1),\"\"))","v":""}]
[null,"\nStep 1: Physical & Environmental Hazard Statements/Codes\nFind Section 2 of the SDS and determine if the SDS has physical and/or environmental hazard statements/codes. Hover on this cell for additional instructions.\n",null,{"$f":"IF(IF(MOD(ROWS(D$3:D1164),20)=1,INDEX('Summary Sheet'!$B$17:$B1219,INT(ROWS(D$3:D1164)/20)+1),\"\")=0,\"\",IF(MOD(ROWS(D$3:D1164),20)=1,INDEX('Summary Sheet'!$B$17:$B1219,INT(ROWS(D$3:D1164)/20)+1),\"\"))","v":""}]
[null,"Step 2: Health Hazard Statements/Codes\nProvide the Health Hazard Statements or Codes from Section 2 of the SDS below. Hover on this cell for additional instructions.",null,{"$f":"IF(IF(MOD(ROWS(D$3:D1165),20)=1,INDEX('Summary Sheet'!$B$17:$B1219,INT(ROWS(D$3:D1165)/20)+1),\"\")=0,\"\",IF(MOD(ROWS(D$3:D1165),20)=1,INDEX('Summary Sheet'!$B$17:$B1219,INT(ROWS(D$3:D1165)/20)+1),\"\"))","v":""},"\nHazard Level\n"]
[null,null,null,{"$f":"IF(IF(MOD(ROWS(D$3:D1166),20)=1,INDEX('Summary Sheet'!$B$17:$B1219,INT(ROWS(D$3:D1166)/20)+1),\"\")=0,\"\",IF(MOD(ROWS(D$3:D1166),20)=1,INDEX('Summary Sheet'!$B$17:$B1219,INT(ROWS(D$3:D1166)/20)+1),\"\"))","v":""},"\nEye Damage\n","\nInhalation\n","\nLocal Skin Damage\n","\nSkin uptake, systemic\n"]
[1,null,{"$f":"_xlfn.IFNA(VLOOKUP(B1167,_!$A$7:$F$210,6,FALSE),\"\")","v":""},{"$f":"IF(IF(MOD(ROWS(D$3:D1167),20)=1,INDEX('Summary Sheet'!$B$17:$B1219,INT(ROWS(D$3:D1167)/20)+1),\"\")=0,\"\",IF(MOD(ROWS(D$3:D1167),20)=1,INDEX('Summary Sheet'!$B$17:$B1219,INT(ROWS(D$3:D1167)/20)+1),\"\"))","v":""},{"$f":"_xlfn.IFNA(IF(VLOOKUP(B1167,_!$A$7:$E$210,2,FALSE)=0, \"\", VLOOKUP(B1167,_!$A$7:$E$210,2,FALSE)),  \"\")","v":""},{"$f":"_xlfn.IFNA(IF(VLOOKUP(B1167,_!$A$7:$E$210,3,FALSE)=0, \"\", VLOOKUP(B1167,_!$A$7:$E$210,3,FALSE)), \"\")","v":""},{"$f":"_xlfn.IFNA(IF(VLOOKUP(B1167,_!$A$7:$E$210,4,FALSE)=0, \"\",VLOOKUP(B1167,_!$A$7:$E$210,4,FALSE)), \"\")","v":""},{"$f":"_xlfn.IFNA(IF(VLOOKUP(B1167,_!$A$7:$E$210,5,FALSE)=0,\"\",VLOOKUP(B1167,_!$A$7:$E$210,5,FALSE)), \"\")","v":""}]
[2,null,{"$f":"_xlfn.IFNA(VLOOKUP(B1168,_!$A$7:$F$210,6,FALSE),\"\")","v":""},{"$f":"IF(IF(MOD(ROWS(D$3:D1168),20)=1,INDEX('Summary Sheet'!$B$17:$B1219,INT(ROWS(D$3:D1168)/20)+1),\"\")=0,\"\",IF(MOD(ROWS(D$3:D1168),20)=1,INDEX('Summary Sheet'!$B$17:$B1219,INT(ROWS(D$3:D1168)/20)+1),\"\"))","v":""},{"$f":"_xlfn.IFNA(IF(VLOOKUP(B1168,_!$A$7:$E$210,2,FALSE)=0, \"\", VLOOKUP(B1168,_!$A$7:$E$210,2,FALSE)),  \"\")","v":""},{"$f":"_xlfn.IFNA(IF(VLOOKUP(B1168,_!$A$7:$E$210,3,FALSE)=0, \"\", VLOOKUP(B1168,_!$A$7:$E$210,3,FALSE)), \"\")","v":""},{"$f":"_xlfn.IFNA(IF(VLOOKUP(B1168,_!$A$7:$E$210,4,FALSE)=0, \"\",VLOOKUP(B1168,_!$A$7:$E$210,4,FALSE)), \"\")","v":""},{"$f":"_xlfn.IFNA(IF(VLOOKUP(B1168,_!$A$7:$E$210,5,FALSE)=0,\"\",VLOOKUP(B1168,_!$A$7:$E$210,5,FALSE)), \"\")","v":""}]
[3,null,{"$f":"_xlfn.IFNA(VLOOKUP(B1169,_!$A$7:$F$210,6,FALSE),\"\")","v":""},{"$f":"IF(IF(MOD(ROWS(D$3:D1169),20)=1,INDEX('Summary Sheet'!$B$17:$B1219,INT(ROWS(D$3:D1169)/20)+1),\"\")=0,\"\",IF(MOD(ROWS(D$3:D1169),20)=1,INDEX('Summary Sheet'!$B$17:$B1219,INT(ROWS(D$3:D1169)/20)+1),\"\"))","v":""},{"$f":"_xlfn.IFNA(IF(VLOOKUP(B1169,_!$A$7:$E$210,2,FALSE)=0, \"\", VLOOKUP(B1169,_!$A$7:$E$210,2,FALSE)),  \"\")","v":""},{"$f":"_xlfn.IFNA(IF(VLOOKUP(B1169,_!$A$7:$E$210,3,FALSE)=0, \"\", VLOOKUP(B1169,_!$A$7:$E$210,3,FALSE)), \"\")","v":""},{"$f":"_xlfn.IFNA(IF(VLOOKUP(B1169,_!$A$7:$E$210,4,FALSE)=0, \"\",VLOOKUP(B1169,_!$A$7:$E$210,4,FALSE)), \"\")","v":""},{"$f":"_xlfn.IFNA(IF(VLOOKUP(B1169,_!$A$7:$E$210,5,FALSE)=0,\"\",VLOOKUP(B1169,_!$A$7:$E$210,5,FALSE)), \"\")","v":""}]
[4,null,{"$f":"_xlfn.IFNA(VLOOKUP(B1170,_!$A$7:$F$210,6,FALSE),\"\")","v":""},{"$f":"IF(IF(MOD(ROWS(D$3:D1170),20)=1,INDEX('Summary Sheet'!$B$17:$B1219,INT(ROWS(D$3:D1170)/20)+1),\"\")=0,\"\",IF(MOD(ROWS(D$3:D1170),20)=1,INDEX('Summary Sheet'!$B$17:$B1219,INT(ROWS(D$3:D1170)/20)+1),\"\"))","v":""},{"$f":"_xlfn.IFNA(IF(VLOOKUP(B1170,_!$A$7:$E$210,2,FALSE)=0, \"\", VLOOKUP(B1170,_!$A$7:$E$210,2,FALSE)),  \"\")","v":""},{"$f":"_xlfn.IFNA(IF(VLOOKUP(B1170,_!$A$7:$E$210,3,FALSE)=0, \"\", VLOOKUP(B1170,_!$A$7:$E$210,3,FALSE)), \"\")","v":""},{"$f":"_xlfn.IFNA(IF(VLOOKUP(B1170,_!$A$7:$E$210,4,FALSE)=0, \"\",VLOOKUP(B1170,_!$A$7:$E$210,4,FALSE)), \"\")","v":""},{"$f":"_xlfn.IFNA(IF(VLOOKUP(B1170,_!$A$7:$E$210,5,FALSE)=0,\"\",VLOOKUP(B1170,_!$A$7:$E$210,5,FALSE)), \"\")","v":""}]
[5,null,{"$f":"_xlfn.IFNA(VLOOKUP(B1171,_!$A$7:$F$210,6,FALSE),\"\")","v":""},{"$f":"IF(IF(MOD(ROWS(D$3:D1171),20)=1,INDEX('Summary Sheet'!$B$17:$B1219,INT(ROWS(D$3:D1171)/20)+1),\"\")=0,\"\",IF(MOD(ROWS(D$3:D1171),20)=1,INDEX('Summary Sheet'!$B$17:$B1219,INT(ROWS(D$3:D1171)/20)+1),\"\"))","v":""},{"$f":"_xlfn.IFNA(IF(VLOOKUP(B1171,_!$A$7:$E$210,2,FALSE)=0, \"\", VLOOKUP(B1171,_!$A$7:$E$210,2,FALSE)),  \"\")","v":""},{"$f":"_xlfn.IFNA(IF(VLOOKUP(B1171,_!$A$7:$E$210,3,FALSE)=0, \"\", VLOOKUP(B1171,_!$A$7:$E$210,3,FALSE)), \"\")","v":""},{"$f":"_xlfn.IFNA(IF(VLOOKUP(B1171,_!$A$7:$E$210,4,FALSE)=0, \"\",VLOOKUP(B1171,_!$A$7:$E$210,4,FALSE)), \"\")","v":""},{"$f":"_xlfn.IFNA(IF(VLOOKUP(B1171,_!$A$7:$E$210,5,FALSE)=0,\"\",VLOOKUP(B1171,_!$A$7:$E$210,5,FALSE)), \"\")","v":""}]
[6,null,{"$f":"_xlfn.IFNA(VLOOKUP(B1172,_!$A$7:$F$210,6,FALSE),\"\")","v":""},{"$f":"IF(IF(MOD(ROWS(D$3:D1172),20)=1,INDEX('Summary Sheet'!$B$17:$B1219,INT(ROWS(D$3:D1172)/20)+1),\"\")=0,\"\",IF(MOD(ROWS(D$3:D1172),20)=1,INDEX('Summary Sheet'!$B$17:$B1219,INT(ROWS(D$3:D1172)/20)+1),\"\"))","v":""},{"$f":"_xlfn.IFNA(IF(VLOOKUP(B1172,_!$A$7:$E$210,2,FALSE)=0, \"\", VLOOKUP(B1172,_!$A$7:$E$210,2,FALSE)),  \"\")","v":""},{"$f":"_xlfn.IFNA(IF(VLOOKUP(B1172,_!$A$7:$E$210,3,FALSE)=0, \"\", VLOOKUP(B1172,_!$A$7:$E$210,3,FALSE)), \"\")","v":""},{"$f":"_xlfn.IFNA(IF(VLOOKUP(B1172,_!$A$7:$E$210,4,FALSE)=0, \"\",VLOOKUP(B1172,_!$A$7:$E$210,4,FALSE)), \"\")","v":""},{"$f":"_xlfn.IFNA(IF(VLOOKUP(B1172,_!$A$7:$E$210,5,FALSE)=0,\"\",VLOOKUP(B1172,_!$A$7:$E$210,5,FALSE)), \"\")","v":""}]
[7,null,{"$f":"_xlfn.IFNA(VLOOKUP(B1173,_!$A$7:$F$210,6,FALSE),\"\")","v":""},{"$f":"IF(IF(MOD(ROWS(D$3:D1173),20)=1,INDEX('Summary Sheet'!$B$17:$B1219,INT(ROWS(D$3:D1173)/20)+1),\"\")=0,\"\",IF(MOD(ROWS(D$3:D1173),20)=1,INDEX('Summary Sheet'!$B$17:$B1219,INT(ROWS(D$3:D1173)/20)+1),\"\"))","v":""},{"$f":"_xlfn.IFNA(IF(VLOOKUP(B1173,_!$A$7:$E$210,2,FALSE)=0, \"\", VLOOKUP(B1173,_!$A$7:$E$210,2,FALSE)),  \"\")","v":""},{"$f":"_xlfn.IFNA(IF(VLOOKUP(B1173,_!$A$7:$E$210,3,FALSE)=0, \"\", VLOOKUP(B1173,_!$A$7:$E$210,3,FALSE)), \"\")","v":""},{"$f":"_xlfn.IFNA(IF(VLOOKUP(B1173,_!$A$7:$E$210,4,FALSE)=0, \"\",VLOOKUP(B1173,_!$A$7:$E$210,4,FALSE)), \"\")","v":""},{"$f":"_xlfn.IFNA(IF(VLOOKUP(B1173,_!$A$7:$E$210,5,FALSE)=0,\"\",VLOOKUP(B1173,_!$A$7:$E$210,5,FALSE)), \"\")","v":""}]
[8,null,{"$f":"_xlfn.IFNA(VLOOKUP(B1174,_!$A$7:$F$210,6,FALSE),\"\")","v":""},{"$f":"IF(IF(MOD(ROWS(D$3:D1174),20)=1,INDEX('Summary Sheet'!$B$17:$B1219,INT(ROWS(D$3:D1174)/20)+1),\"\")=0,\"\",IF(MOD(ROWS(D$3:D1174),20)=1,INDEX('Summary Sheet'!$B$17:$B1219,INT(ROWS(D$3:D1174)/20)+1),\"\"))","v":""},{"$f":"_xlfn.IFNA(IF(VLOOKUP(B1174,_!$A$7:$E$210,2,FALSE)=0, \"\", VLOOKUP(B1174,_!$A$7:$E$210,2,FALSE)),  \"\")","v":""},{"$f":"_xlfn.IFNA(IF(VLOOKUP(B1174,_!$A$7:$E$210,3,FALSE)=0, \"\", VLOOKUP(B1174,_!$A$7:$E$210,3,FALSE)), \"\")","v":""},{"$f":"_xlfn.IFNA(IF(VLOOKUP(B1174,_!$A$7:$E$210,4,FALSE)=0, \"\",VLOOKUP(B1174,_!$A$7:$E$210,4,FALSE)), \"\")","v":""},{"$f":"_xlfn.IFNA(IF(VLOOKUP(B1174,_!$A$7:$E$210,5,FALSE)=0,\"\",VLOOKUP(B1174,_!$A$7:$E$210,5,FALSE)), \"\")","v":""}]
[9,null,{"$f":"_xlfn.IFNA(VLOOKUP(B1175,_!$A$7:$F$210,6,FALSE),\"\")","v":""},{"$f":"IF(IF(MOD(ROWS(D$3:D1175),20)=1,INDEX('Summary Sheet'!$B$17:$B1219,INT(ROWS(D$3:D1175)/20)+1),\"\")=0,\"\",IF(MOD(ROWS(D$3:D1175),20)=1,INDEX('Summary Sheet'!$B$17:$B1219,INT(ROWS(D$3:D1175)/20)+1),\"\"))","v":""},{"$f":"_xlfn.IFNA(IF(VLOOKUP(B1175,_!$A$7:$E$210,2,FALSE)=0, \"\", VLOOKUP(B1175,_!$A$7:$E$210,2,FALSE)),  \"\")","v":""},{"$f":"_xlfn.IFNA(IF(VLOOKUP(B1175,_!$A$7:$E$210,3,FALSE)=0, \"\", VLOOKUP(B1175,_!$A$7:$E$210,3,FALSE)), \"\")","v":""},{"$f":"_xlfn.IFNA(IF(VLOOKUP(B1175,_!$A$7:$E$210,4,FALSE)=0, \"\",VLOOKUP(B1175,_!$A$7:$E$210,4,FALSE)), \"\")","v":""},{"$f":"_xlfn.IFNA(IF(VLOOKUP(B1175,_!$A$7:$E$210,5,FALSE)=0,\"\",VLOOKUP(B1175,_!$A$7:$E$210,5,FALSE)), \"\")","v":""}]
[10,null,{"$f":"_xlfn.IFNA(VLOOKUP(B1176,_!$A$7:$F$210,6,FALSE),\"\")","v":""},{"$f":"IF(IF(MOD(ROWS(D$14:D1176),20)=1,INDEX('Summary Sheet'!$B$17:$B1219,INT(ROWS(D$14:D1176)/20)+1),\"\")=0,\"\",IF(MOD(ROWS(D$14:D1176),20)=1,INDEX('Summary Sheet'!$B$17:$B1219,INT(ROWS(D$14:D1176)/20)+1),\"\"))","v":""},{"$f":"_xlfn.IFNA(IF(VLOOKUP(B1176,_!$A$7:$E$210,2,FALSE)=0, \"\", VLOOKUP(B1176,_!$A$7:$E$210,2,FALSE)),  \"\")","v":""},{"$f":"_xlfn.IFNA(IF(VLOOKUP(B1176,_!$A$7:$E$210,3,FALSE)=0, \"\", VLOOKUP(B1176,_!$A$7:$E$210,3,FALSE)), \"\")","v":""},{"$f":"_xlfn.IFNA(IF(VLOOKUP(B1176,_!$A$7:$E$210,4,FALSE)=0, \"\",VLOOKUP(B1176,_!$A$7:$E$210,4,FALSE)), \"\")","v":""},{"$f":"_xlfn.IFNA(IF(VLOOKUP(B1176,_!$A$7:$E$210,5,FALSE)=0,\"\",VLOOKUP(B1176,_!$A$7:$E$210,5,FALSE)), \"\")","v":""}]
[null,"\nHighest hazard level for each ‘Uptake Route’\n",null,null,{"$f":"_xlfn.IFNA(IF((INDEX(E1167:E1176,MATCH(\"E\",E1167:E1176,0)))=\"E\",\"E\",\"\"),_xlfn.IFNA(IF((INDEX(E1167:E1176,MATCH(\"D\",E1167:E1176,0)))=\"D\",\"D\",\"\"),_xlfn.IFNA(IF((INDEX(E1167:E1176,MATCH(\"Ca\",E1167:E1176,0)))=\"Ca\",\"C\",\"\"),_xlfn.IFNA(IF((INDEX(E1167:E1176,MATCH(\"C\",E1167:E1176,0)))=\"C\",\"C\",\"\"),_xlfn.IFNA(IF((INDEX(E1167:E1176,MATCH(\"B\",E1167:E1176,0)))=\"B\",\"B\",\"\"),_xlfn.IFNA(IF((INDEX(E1167:E1176,MATCH(\"A\",E1167:E1176,0)))=\"A\",\"A\",\"\"),_xlfn.IFNA(IF((INDEX(E1167:E1176,MATCH(\"n.a.\",E1167:E1176,0)))=\"n.a.\",\"\",\"\"),_xlfn.IFNA(IF((INDEX(E1167:E1176,MATCH(\"\",E1167:E1176,0)))=\"\",\"\",\"\"),\"\"))))))))","v":""},{"$f":"_xlfn.IFNA(IF((INDEX(F1167:F1176,MATCH(\"E\",F1167:F1176,0)))=\"E\",\"E\",\"\"),_xlfn.IFNA(IF((INDEX(F1167:F1176,MATCH(\"D (E)c\",F1167:F1176,0)))=\"D (E)c\",\"D (E)c\",\"\"),_xlfn.IFNA(IF((INDEX(F1167:F1176,MATCH(\"Da (E)c\",F1167:F1176,0)))=\"Da (E)c\",\"D (E)c\",\"\"),_xlfn.IFNA(IF((INDEX(F1167:F1176,MATCH(\"D\",F1167:F1176,0)))=\"D\",\"D\",\"\"),_xlfn.IFNA(IF((INDEX(F1167:F1176,MATCH(\"Ca\",F1167:F1176,0)))=\"Ca\",\"C\",\"\"),_xlfn.IFNA(IF((INDEX(F1167:F1176,MATCH(\"C\",F1167:F1176,0)))=\"C\",\"C\",\"\"),_xlfn.IFNA(IF((INDEX(F1167:F1176,MATCH(\"Ba\",F1167:F1176,0)))=\"Ba\",\"B\",\"\"),_xlfn.IFNA(IF((INDEX(F1167:F1176,MATCH(\"B\",F1167:F1176,0)))=\"B\",\"B\",\"\"),_xlfn.IFNA(IF((INDEX(F1167:F1176,MATCH(\"Aa\",F1167:F1176,0)))=\"Aa\",\"A\",\"\"),_xlfn.IFNA(IF((INDEX(F1167:F1176,MATCH(\"A\",F1167:F1176,0)))=\"A\",\"A\",\"\"),_xlfn.IFNA(IF((INDEX(F1167:F1176,MATCH(\"n.a.\",F1167:F1176,0)))=\"n.a.\",\"\",\"\"),_xlfn.IFNA(IF((INDEX(F1167:F1176,MATCH(\"\",F1167:F1176,0)))=\"\",\"\",\"\"),\"\"))))))))))))","v":""},{"$f":"_xlfn.IFNA(IF((INDEX(G1167:G1176,MATCH(\"E\",G1167:G1176,0)))=\"E\",\"E\",\"\"),_xlfn.IFNA(IF((INDEX(G1167:G1176,MATCH(\"D\",G1167:G1176,0)))=\"D\",\"D\",\"\"),_xlfn.IFNA(IF((INDEX(G1167:G1176,MATCH(\"Ca\",G1167:G1176,0)))=\"Ca\",\"C\",\"\"),_xlfn.IFNA(IF((INDEX(G1167:G1176,MATCH(\"C\",G1167:G1176,0)))=\"C\",\"C\",\"\"),_xlfn.IFNA(IF((INDEX(G1167:G1176,MATCH(\"B\",G1167:G1176,0)))=\"B\",\"B\",\"\"),_xlfn.IFNA(IF((INDEX(G1167:G1176,MATCH(\"A\",G1167:G1176,0)))=\"A\",\"A\",\"\"),_xlfn.IFNA(IF((INDEX(G1167:G1176,MATCH(\"n.a.\",G1167:G1176,0)))=\"n.a.\",\"\",\"\"),_xlfn.IFNA(IF((INDEX(G1167:G1176,MATCH(\"\",G1167:G1176,0)))=\"\",\"\",\"\"),\"\"))))))))","v":""},{"$f":"_xlfn.IFNA(IF((INDEX(H1167:H1176,MATCH(\"E\",H1167:H1176,0)))=\"E\",\"E\",\"\"),_xlfn.IFNA(IF((INDEX(H1167:H1176,MATCH(\"D (E)c\",H1167:H1176,0)))=\"D (E)c\",\"D (E)c\",\"\"),_xlfn.IFNA(IF((INDEX(H1167:H1176,MATCH(\"Db (E)c\",H1167:H1176,0)))=\"Db (E)c\",\"D (E)c\",\"\"),_xlfn.IFNA(IF((INDEX(H1167:H1176,MATCH(\"D\",H1167:H1176,0)))=\"D\",\"D\",\"\"),_xlfn.IFNA(IF((INDEX(H1167:H1176,MATCH(\"Cb\",H1167:H1176,0)))=\"Cb\",\"C\",\"\"),_xlfn.IFNA(IF((INDEX(H1167:H1176,MATCH(\"C\",H1167:H1176,0)))=\"C\",\"C\",\"\"),_xlfn.IFNA(IF((INDEX(H1167:H1176,MATCH(\"Bb\",H1167:H1176,0)))=\"Bb\",\"B\",\"\"),_xlfn.IFNA(IF((INDEX(H1167:H1176,MATCH(\"B\",H1167:H1176,0)))=\"B\",\"B\",\"\"),_xlfn.IFNA(IF((INDEX(H1167:H1176,MATCH(\"Ab\",H1167:H1176,0)))=\"Ab\",\"A\",\"\"),_xlfn.IFNA(IF((INDEX(H1167:H1176,MATCH(\"A\",H1167:H1176,0)))=\"A\",\"A\",\"\"),_xlfn.IFNA(IF((INDEX(H1167:H1176,MATCH(\"n.a.\",H1167:H1176,0)))=\"n.a.\",\"\",\"\"),_xlfn.IFNA(IF((INDEX(H1167:H1176,MATCH(\"\",H1167:H1176,0)))=\"\",\"\",\"\"),\"\"))))))))))))","v":""}]
[null,"\nHighest hazard level for all 'Uptake Routes' \n",null,null,{"$f":"_xlfn.IFNA(IF((INDEX(E1177:H1177,MATCH(\"E\",E1177:H1177,0)))=\"E\",\"E\",\"\"),_xlfn.IFNA(IF((INDEX(E1177:H1177,MATCH(\"D (E)c\",E1177:H1177,0)))=\"D (E)c\",\"D (E)\",\"\"),_xlfn.IFNA(IF((INDEX(E1177:H1177,MATCH(\"D\",E1177:H1177,0)))=\"D\",\"D\",\"\"),_xlfn.IFNA(IF((INDEX(E1177:H1177,MATCH(\"C\",E1177:H1177,0)))=\"C\",\"C\",\"\"),_xlfn.IFNA(IF((INDEX(E1177:H1177,MATCH(\"B\",E1177:H1177,0)))=\"B\",\"B\",\"\"),_xlfn.IFNA(IF((INDEX(E1177:H1177,MATCH(\"A\",E1177:H1177,0)))=\"A\",\"A\",\"\"),_xlfn.IFNA(IF((INDEX(E1177:H1177,MATCH(\"n.a.\",E1177:H1177,0)))=\"n.a.\",\"\",\"\"),_xlfn.IFNA(IF((INDEX(E1177:H1177,MATCH(\"\",E1177:H1177,0)))=\"\",\"\",\"\"),\"\"))))))))","v":""}]
[]
[]
[null,"\nStep 3: D(E) Assessment\nSkip this step if \nyour assessment above does not reveal a D(E) hazard level.\nHover over this cell for additional instructions.\n",null,null,"\nOverall hazard level\n",null,{"$f":"IF(AND(E1178=\"\",C1164=\"Yes\")=TRUE,\"B\",IF(E1178=\"\",\"\",(IF(AND(E1178=\"D (E)\",C1181=\"\"),\"D (E)\"&CHAR(10)&\"Find if cat. 1 acute tox.\",(IF(E1178<>\"D (E)\",E1178,(IF(AND(E1178=\"D (E)\",C1181=\"Yes\"),\"E\",(IF(AND(E1178=\"D (E)\",C1181=\"No\"),\"D\",\"\"))))))))))","v":""}]
[]
[{"$f":"IF(IF(MOD(ROWS(B$3:B1183),20)=1,INDEX('Summary Sheet'!$A$17:$A1238,INT(ROWS(B$3:B1183)/20)+1),\"\")=0,\"\",IF(MOD(ROWS(B$3:B1183),20)=1,INDEX('Summary Sheet'!$A$17:$A1238,INT(ROWS(B$3:B1183)/20)+1),\"\"))","v":60},"Hazard Level Assessment","for",{"$f":"IF(IF(MOD(ROWS(D$3:D1183),20)=1,INDEX('Summary Sheet'!$B$17:$B1238,INT(ROWS(D$3:D1183)/20)+1),\"\")=0,\"\",IF(MOD(ROWS(D$3:D1183),20)=1,INDEX('Summary Sheet'!$B$17:$B1238,INT(ROWS(D$3:D1183)/20)+1),\"\"))","v":""}]
[null,"\nStep 1: Physical & Environmental Hazard Statements/Codes\nFind Section 2 of the SDS and determine if the SDS has physical and/or environmental hazard statements/codes. Hover on this cell for additional instructions.\n",null,{"$f":"IF(IF(MOD(ROWS(D$3:D1184),20)=1,INDEX('Summary Sheet'!$B$17:$B1238,INT(ROWS(D$3:D1184)/20)+1),\"\")=0,\"\",IF(MOD(ROWS(D$3:D1184),20)=1,INDEX('Summary Sheet'!$B$17:$B1238,INT(ROWS(D$3:D1184)/20)+1),\"\"))","v":""}]
[null,"Step 2: Health Hazard Statements/Codes\nProvide the Health Hazard Statements or Codes from Section 2 of the SDS below. Hover on this cell for additional instructions.",null,{"$f":"IF(IF(MOD(ROWS(D$3:D1185),20)=1,INDEX('Summary Sheet'!$B$17:$B1238,INT(ROWS(D$3:D1185)/20)+1),\"\")=0,\"\",IF(MOD(ROWS(D$3:D1185),20)=1,INDEX('Summary Sheet'!$B$17:$B1238,INT(ROWS(D$3:D1185)/20)+1),\"\"))","v":""},"\nHazard Level\n"]
[null,null,null,{"$f":"IF(IF(MOD(ROWS(D$3:D1186),20)=1,INDEX('Summary Sheet'!$B$17:$B1238,INT(ROWS(D$3:D1186)/20)+1),\"\")=0,\"\",IF(MOD(ROWS(D$3:D1186),20)=1,INDEX('Summary Sheet'!$B$17:$B1238,INT(ROWS(D$3:D1186)/20)+1),\"\"))","v":""},"\nEye Damage\n","\nInhalation\n","\nLocal Skin Damage\n","\nSkin uptake, systemic\n"]
[1,null,{"$f":"_xlfn.IFNA(VLOOKUP(B1187,_!$A$7:$F$210,6,FALSE),\"\")","v":""},{"$f":"IF(IF(MOD(ROWS(D$3:D1187),20)=1,INDEX('Summary Sheet'!$B$17:$B1238,INT(ROWS(D$3:D1187)/20)+1),\"\")=0,\"\",IF(MOD(ROWS(D$3:D1187),20)=1,INDEX('Summary Sheet'!$B$17:$B1238,INT(ROWS(D$3:D1187)/20)+1),\"\"))","v":""},{"$f":"_xlfn.IFNA(IF(VLOOKUP(B1187,_!$A$7:$E$210,2,FALSE)=0, \"\", VLOOKUP(B1187,_!$A$7:$E$210,2,FALSE)),  \"\")","v":""},{"$f":"_xlfn.IFNA(IF(VLOOKUP(B1187,_!$A$7:$E$210,3,FALSE)=0, \"\", VLOOKUP(B1187,_!$A$7:$E$210,3,FALSE)), \"\")","v":""},{"$f":"_xlfn.IFNA(IF(VLOOKUP(B1187,_!$A$7:$E$210,4,FALSE)=0, \"\",VLOOKUP(B1187,_!$A$7:$E$210,4,FALSE)), \"\")","v":""},{"$f":"_xlfn.IFNA(IF(VLOOKUP(B1187,_!$A$7:$E$210,5,FALSE)=0,\"\",VLOOKUP(B1187,_!$A$7:$E$210,5,FALSE)), \"\")","v":""}]
[2,null,{"$f":"_xlfn.IFNA(VLOOKUP(B1188,_!$A$7:$F$210,6,FALSE),\"\")","v":""},{"$f":"IF(IF(MOD(ROWS(D$3:D1188),20)=1,INDEX('Summary Sheet'!$B$17:$B1238,INT(ROWS(D$3:D1188)/20)+1),\"\")=0,\"\",IF(MOD(ROWS(D$3:D1188),20)=1,INDEX('Summary Sheet'!$B$17:$B1238,INT(ROWS(D$3:D1188)/20)+1),\"\"))","v":""},{"$f":"_xlfn.IFNA(IF(VLOOKUP(B1188,_!$A$7:$E$210,2,FALSE)=0, \"\", VLOOKUP(B1188,_!$A$7:$E$210,2,FALSE)),  \"\")","v":""},{"$f":"_xlfn.IFNA(IF(VLOOKUP(B1188,_!$A$7:$E$210,3,FALSE)=0, \"\", VLOOKUP(B1188,_!$A$7:$E$210,3,FALSE)), \"\")","v":""},{"$f":"_xlfn.IFNA(IF(VLOOKUP(B1188,_!$A$7:$E$210,4,FALSE)=0, \"\",VLOOKUP(B1188,_!$A$7:$E$210,4,FALSE)), \"\")","v":""},{"$f":"_xlfn.IFNA(IF(VLOOKUP(B1188,_!$A$7:$E$210,5,FALSE)=0,\"\",VLOOKUP(B1188,_!$A$7:$E$210,5,FALSE)), \"\")","v":""}]
[3,null,{"$f":"_xlfn.IFNA(VLOOKUP(B1189,_!$A$7:$F$210,6,FALSE),\"\")","v":""},{"$f":"IF(IF(MOD(ROWS(D$3:D1189),20)=1,INDEX('Summary Sheet'!$B$17:$B1238,INT(ROWS(D$3:D1189)/20)+1),\"\")=0,\"\",IF(MOD(ROWS(D$3:D1189),20)=1,INDEX('Summary Sheet'!$B$17:$B1238,INT(ROWS(D$3:D1189)/20)+1),\"\"))","v":""},{"$f":"_xlfn.IFNA(IF(VLOOKUP(B1189,_!$A$7:$E$210,2,FALSE)=0, \"\", VLOOKUP(B1189,_!$A$7:$E$210,2,FALSE)),  \"\")","v":""},{"$f":"_xlfn.IFNA(IF(VLOOKUP(B1189,_!$A$7:$E$210,3,FALSE)=0, \"\", VLOOKUP(B1189,_!$A$7:$E$210,3,FALSE)), \"\")","v":""},{"$f":"_xlfn.IFNA(IF(VLOOKUP(B1189,_!$A$7:$E$210,4,FALSE)=0, \"\",VLOOKUP(B1189,_!$A$7:$E$210,4,FALSE)), \"\")","v":""},{"$f":"_xlfn.IFNA(IF(VLOOKUP(B1189,_!$A$7:$E$210,5,FALSE)=0,\"\",VLOOKUP(B1189,_!$A$7:$E$210,5,FALSE)), \"\")","v":""}]
[4,null,{"$f":"_xlfn.IFNA(VLOOKUP(B1190,_!$A$7:$F$210,6,FALSE),\"\")","v":""},{"$f":"IF(IF(MOD(ROWS(D$3:D1190),20)=1,INDEX('Summary Sheet'!$B$17:$B1238,INT(ROWS(D$3:D1190)/20)+1),\"\")=0,\"\",IF(MOD(ROWS(D$3:D1190),20)=1,INDEX('Summary Sheet'!$B$17:$B1238,INT(ROWS(D$3:D1190)/20)+1),\"\"))","v":""},{"$f":"_xlfn.IFNA(IF(VLOOKUP(B1190,_!$A$7:$E$210,2,FALSE)=0, \"\", VLOOKUP(B1190,_!$A$7:$E$210,2,FALSE)),  \"\")","v":""},{"$f":"_xlfn.IFNA(IF(VLOOKUP(B1190,_!$A$7:$E$210,3,FALSE)=0, \"\", VLOOKUP(B1190,_!$A$7:$E$210,3,FALSE)), \"\")","v":""},{"$f":"_xlfn.IFNA(IF(VLOOKUP(B1190,_!$A$7:$E$210,4,FALSE)=0, \"\",VLOOKUP(B1190,_!$A$7:$E$210,4,FALSE)), \"\")","v":""},{"$f":"_xlfn.IFNA(IF(VLOOKUP(B1190,_!$A$7:$E$210,5,FALSE)=0,\"\",VLOOKUP(B1190,_!$A$7:$E$210,5,FALSE)), \"\")","v":""}]
[5,null,{"$f":"_xlfn.IFNA(VLOOKUP(B1191,_!$A$7:$F$210,6,FALSE),\"\")","v":""},{"$f":"IF(IF(MOD(ROWS(D$3:D1191),20)=1,INDEX('Summary Sheet'!$B$17:$B1238,INT(ROWS(D$3:D1191)/20)+1),\"\")=0,\"\",IF(MOD(ROWS(D$3:D1191),20)=1,INDEX('Summary Sheet'!$B$17:$B1238,INT(ROWS(D$3:D1191)/20)+1),\"\"))","v":""},{"$f":"_xlfn.IFNA(IF(VLOOKUP(B1191,_!$A$7:$E$210,2,FALSE)=0, \"\", VLOOKUP(B1191,_!$A$7:$E$210,2,FALSE)),  \"\")","v":""},{"$f":"_xlfn.IFNA(IF(VLOOKUP(B1191,_!$A$7:$E$210,3,FALSE)=0, \"\", VLOOKUP(B1191,_!$A$7:$E$210,3,FALSE)), \"\")","v":""},{"$f":"_xlfn.IFNA(IF(VLOOKUP(B1191,_!$A$7:$E$210,4,FALSE)=0, \"\",VLOOKUP(B1191,_!$A$7:$E$210,4,FALSE)), \"\")","v":""},{"$f":"_xlfn.IFNA(IF(VLOOKUP(B1191,_!$A$7:$E$210,5,FALSE)=0,\"\",VLOOKUP(B1191,_!$A$7:$E$210,5,FALSE)), \"\")","v":""}]
[6,null,{"$f":"_xlfn.IFNA(VLOOKUP(B1192,_!$A$7:$F$210,6,FALSE),\"\")","v":""},{"$f":"IF(IF(MOD(ROWS(D$3:D1192),20)=1,INDEX('Summary Sheet'!$B$17:$B1238,INT(ROWS(D$3:D1192)/20)+1),\"\")=0,\"\",IF(MOD(ROWS(D$3:D1192),20)=1,INDEX('Summary Sheet'!$B$17:$B1238,INT(ROWS(D$3:D1192)/20)+1),\"\"))","v":""},{"$f":"_xlfn.IFNA(IF(VLOOKUP(B1192,_!$A$7:$E$210,2,FALSE)=0, \"\", VLOOKUP(B1192,_!$A$7:$E$210,2,FALSE)),  \"\")","v":""},{"$f":"_xlfn.IFNA(IF(VLOOKUP(B1192,_!$A$7:$E$210,3,FALSE)=0, \"\", VLOOKUP(B1192,_!$A$7:$E$210,3,FALSE)), \"\")","v":""},{"$f":"_xlfn.IFNA(IF(VLOOKUP(B1192,_!$A$7:$E$210,4,FALSE)=0, \"\",VLOOKUP(B1192,_!$A$7:$E$210,4,FALSE)), \"\")","v":""},{"$f":"_xlfn.IFNA(IF(VLOOKUP(B1192,_!$A$7:$E$210,5,FALSE)=0,\"\",VLOOKUP(B1192,_!$A$7:$E$210,5,FALSE)), \"\")","v":""}]
[7,null,{"$f":"_xlfn.IFNA(VLOOKUP(B1193,_!$A$7:$F$210,6,FALSE),\"\")","v":""},{"$f":"IF(IF(MOD(ROWS(D$3:D1193),20)=1,INDEX('Summary Sheet'!$B$17:$B1238,INT(ROWS(D$3:D1193)/20)+1),\"\")=0,\"\",IF(MOD(ROWS(D$3:D1193),20)=1,INDEX('Summary Sheet'!$B$17:$B1238,INT(ROWS(D$3:D1193)/20)+1),\"\"))","v":""},{"$f":"_xlfn.IFNA(IF(VLOOKUP(B1193,_!$A$7:$E$210,2,FALSE)=0, \"\", VLOOKUP(B1193,_!$A$7:$E$210,2,FALSE)),  \"\")","v":""},{"$f":"_xlfn.IFNA(IF(VLOOKUP(B1193,_!$A$7:$E$210,3,FALSE)=0, \"\", VLOOKUP(B1193,_!$A$7:$E$210,3,FALSE)), \"\")","v":""},{"$f":"_xlfn.IFNA(IF(VLOOKUP(B1193,_!$A$7:$E$210,4,FALSE)=0, \"\",VLOOKUP(B1193,_!$A$7:$E$210,4,FALSE)), \"\")","v":""},{"$f":"_xlfn.IFNA(IF(VLOOKUP(B1193,_!$A$7:$E$210,5,FALSE)=0,\"\",VLOOKUP(B1193,_!$A$7:$E$210,5,FALSE)), \"\")","v":""}]
[8,null,{"$f":"_xlfn.IFNA(VLOOKUP(B1194,_!$A$7:$F$210,6,FALSE),\"\")","v":""},{"$f":"IF(IF(MOD(ROWS(D$3:D1194),20)=1,INDEX('Summary Sheet'!$B$17:$B1238,INT(ROWS(D$3:D1194)/20)+1),\"\")=0,\"\",IF(MOD(ROWS(D$3:D1194),20)=1,INDEX('Summary Sheet'!$B$17:$B1238,INT(ROWS(D$3:D1194)/20)+1),\"\"))","v":""},{"$f":"_xlfn.IFNA(IF(VLOOKUP(B1194,_!$A$7:$E$210,2,FALSE)=0, \"\", VLOOKUP(B1194,_!$A$7:$E$210,2,FALSE)),  \"\")","v":""},{"$f":"_xlfn.IFNA(IF(VLOOKUP(B1194,_!$A$7:$E$210,3,FALSE)=0, \"\", VLOOKUP(B1194,_!$A$7:$E$210,3,FALSE)), \"\")","v":""},{"$f":"_xlfn.IFNA(IF(VLOOKUP(B1194,_!$A$7:$E$210,4,FALSE)=0, \"\",VLOOKUP(B1194,_!$A$7:$E$210,4,FALSE)), \"\")","v":""},{"$f":"_xlfn.IFNA(IF(VLOOKUP(B1194,_!$A$7:$E$210,5,FALSE)=0,\"\",VLOOKUP(B1194,_!$A$7:$E$210,5,FALSE)), \"\")","v":""}]
[9,null,{"$f":"_xlfn.IFNA(VLOOKUP(B1195,_!$A$7:$F$210,6,FALSE),\"\")","v":""},{"$f":"IF(IF(MOD(ROWS(D$3:D1195),20)=1,INDEX('Summary Sheet'!$B$17:$B1238,INT(ROWS(D$3:D1195)/20)+1),\"\")=0,\"\",IF(MOD(ROWS(D$3:D1195),20)=1,INDEX('Summary Sheet'!$B$17:$B1238,INT(ROWS(D$3:D1195)/20)+1),\"\"))","v":""},{"$f":"_xlfn.IFNA(IF(VLOOKUP(B1195,_!$A$7:$E$210,2,FALSE)=0, \"\", VLOOKUP(B1195,_!$A$7:$E$210,2,FALSE)),  \"\")","v":""},{"$f":"_xlfn.IFNA(IF(VLOOKUP(B1195,_!$A$7:$E$210,3,FALSE)=0, \"\", VLOOKUP(B1195,_!$A$7:$E$210,3,FALSE)), \"\")","v":""},{"$f":"_xlfn.IFNA(IF(VLOOKUP(B1195,_!$A$7:$E$210,4,FALSE)=0, \"\",VLOOKUP(B1195,_!$A$7:$E$210,4,FALSE)), \"\")","v":""},{"$f":"_xlfn.IFNA(IF(VLOOKUP(B1195,_!$A$7:$E$210,5,FALSE)=0,\"\",VLOOKUP(B1195,_!$A$7:$E$210,5,FALSE)), \"\")","v":""}]
[10,null,{"$f":"_xlfn.IFNA(VLOOKUP(B1196,_!$A$7:$F$210,6,FALSE),\"\")","v":""},{"$f":"IF(IF(MOD(ROWS(D$14:D1196),20)=1,INDEX('Summary Sheet'!$B$17:$B1238,INT(ROWS(D$14:D1196)/20)+1),\"\")=0,\"\",IF(MOD(ROWS(D$14:D1196),20)=1,INDEX('Summary Sheet'!$B$17:$B1238,INT(ROWS(D$14:D1196)/20)+1),\"\"))","v":""},{"$f":"_xlfn.IFNA(IF(VLOOKUP(B1196,_!$A$7:$E$210,2,FALSE)=0, \"\", VLOOKUP(B1196,_!$A$7:$E$210,2,FALSE)),  \"\")","v":""},{"$f":"_xlfn.IFNA(IF(VLOOKUP(B1196,_!$A$7:$E$210,3,FALSE)=0, \"\", VLOOKUP(B1196,_!$A$7:$E$210,3,FALSE)), \"\")","v":""},{"$f":"_xlfn.IFNA(IF(VLOOKUP(B1196,_!$A$7:$E$210,4,FALSE)=0, \"\",VLOOKUP(B1196,_!$A$7:$E$210,4,FALSE)), \"\")","v":""},{"$f":"_xlfn.IFNA(IF(VLOOKUP(B1196,_!$A$7:$E$210,5,FALSE)=0,\"\",VLOOKUP(B1196,_!$A$7:$E$210,5,FALSE)), \"\")","v":""}]
[null,"\nHighest hazard level for each ‘Uptake Route’\n",null,null,{"$f":"_xlfn.IFNA(IF((INDEX(E1187:E1196,MATCH(\"E\",E1187:E1196,0)))=\"E\",\"E\",\"\"),_xlfn.IFNA(IF((INDEX(E1187:E1196,MATCH(\"D\",E1187:E1196,0)))=\"D\",\"D\",\"\"),_xlfn.IFNA(IF((INDEX(E1187:E1196,MATCH(\"Ca\",E1187:E1196,0)))=\"Ca\",\"C\",\"\"),_xlfn.IFNA(IF((INDEX(E1187:E1196,MATCH(\"C\",E1187:E1196,0)))=\"C\",\"C\",\"\"),_xlfn.IFNA(IF((INDEX(E1187:E1196,MATCH(\"B\",E1187:E1196,0)))=\"B\",\"B\",\"\"),_xlfn.IFNA(IF((INDEX(E1187:E1196,MATCH(\"A\",E1187:E1196,0)))=\"A\",\"A\",\"\"),_xlfn.IFNA(IF((INDEX(E1187:E1196,MATCH(\"n.a.\",E1187:E1196,0)))=\"n.a.\",\"\",\"\"),_xlfn.IFNA(IF((INDEX(E1187:E1196,MATCH(\"\",E1187:E1196,0)))=\"\",\"\",\"\"),\"\"))))))))","v":""},{"$f":"_xlfn.IFNA(IF((INDEX(F1187:F1196,MATCH(\"E\",F1187:F1196,0)))=\"E\",\"E\",\"\"),_xlfn.IFNA(IF((INDEX(F1187:F1196,MATCH(\"D (E)c\",F1187:F1196,0)))=\"D (E)c\",\"D (E)c\",\"\"),_xlfn.IFNA(IF((INDEX(F1187:F1196,MATCH(\"Da (E)c\",F1187:F1196,0)))=\"Da (E)c\",\"D (E)c\",\"\"),_xlfn.IFNA(IF((INDEX(F1187:F1196,MATCH(\"D\",F1187:F1196,0)))=\"D\",\"D\",\"\"),_xlfn.IFNA(IF((INDEX(F1187:F1196,MATCH(\"Ca\",F1187:F1196,0)))=\"Ca\",\"C\",\"\"),_xlfn.IFNA(IF((INDEX(F1187:F1196,MATCH(\"C\",F1187:F1196,0)))=\"C\",\"C\",\"\"),_xlfn.IFNA(IF((INDEX(F1187:F1196,MATCH(\"Ba\",F1187:F1196,0)))=\"Ba\",\"B\",\"\"),_xlfn.IFNA(IF((INDEX(F1187:F1196,MATCH(\"B\",F1187:F1196,0)))=\"B\",\"B\",\"\"),_xlfn.IFNA(IF((INDEX(F1187:F1196,MATCH(\"Aa\",F1187:F1196,0)))=\"Aa\",\"A\",\"\"),_xlfn.IFNA(IF((INDEX(F1187:F1196,MATCH(\"A\",F1187:F1196,0)))=\"A\",\"A\",\"\"),_xlfn.IFNA(IF((INDEX(F1187:F1196,MATCH(\"n.a.\",F1187:F1196,0)))=\"n.a.\",\"\",\"\"),_xlfn.IFNA(IF((INDEX(F1187:F1196,MATCH(\"\",F1187:F1196,0)))=\"\",\"\",\"\"),\"\"))))))))))))","v":""},{"$f":"_xlfn.IFNA(IF((INDEX(G1187:G1196,MATCH(\"E\",G1187:G1196,0)))=\"E\",\"E\",\"\"),_xlfn.IFNA(IF((INDEX(G1187:G1196,MATCH(\"D\",G1187:G1196,0)))=\"D\",\"D\",\"\"),_xlfn.IFNA(IF((INDEX(G1187:G1196,MATCH(\"Ca\",G1187:G1196,0)))=\"Ca\",\"C\",\"\"),_xlfn.IFNA(IF((INDEX(G1187:G1196,MATCH(\"C\",G1187:G1196,0)))=\"C\",\"C\",\"\"),_xlfn.IFNA(IF((INDEX(G1187:G1196,MATCH(\"B\",G1187:G1196,0)))=\"B\",\"B\",\"\"),_xlfn.IFNA(IF((INDEX(G1187:G1196,MATCH(\"A\",G1187:G1196,0)))=\"A\",\"A\",\"\"),_xlfn.IFNA(IF((INDEX(G1187:G1196,MATCH(\"n.a.\",G1187:G1196,0)))=\"n.a.\",\"\",\"\"),_xlfn.IFNA(IF((INDEX(G1187:G1196,MATCH(\"\",G1187:G1196,0)))=\"\",\"\",\"\"),\"\"))))))))","v":""},{"$f":"_xlfn.IFNA(IF((INDEX(H1187:H1196,MATCH(\"E\",H1187:H1196,0)))=\"E\",\"E\",\"\"),_xlfn.IFNA(IF((INDEX(H1187:H1196,MATCH(\"D (E)c\",H1187:H1196,0)))=\"D (E)c\",\"D (E)c\",\"\"),_xlfn.IFNA(IF((INDEX(H1187:H1196,MATCH(\"Db (E)c\",H1187:H1196,0)))=\"Db (E)c\",\"D (E)c\",\"\"),_xlfn.IFNA(IF((INDEX(H1187:H1196,MATCH(\"D\",H1187:H1196,0)))=\"D\",\"D\",\"\"),_xlfn.IFNA(IF((INDEX(H1187:H1196,MATCH(\"Cb\",H1187:H1196,0)))=\"Cb\",\"C\",\"\"),_xlfn.IFNA(IF((INDEX(H1187:H1196,MATCH(\"C\",H1187:H1196,0)))=\"C\",\"C\",\"\"),_xlfn.IFNA(IF((INDEX(H1187:H1196,MATCH(\"Bb\",H1187:H1196,0)))=\"Bb\",\"B\",\"\"),_xlfn.IFNA(IF((INDEX(H1187:H1196,MATCH(\"B\",H1187:H1196,0)))=\"B\",\"B\",\"\"),_xlfn.IFNA(IF((INDEX(H1187:H1196,MATCH(\"Ab\",H1187:H1196,0)))=\"Ab\",\"A\",\"\"),_xlfn.IFNA(IF((INDEX(H1187:H1196,MATCH(\"A\",H1187:H1196,0)))=\"A\",\"A\",\"\"),_xlfn.IFNA(IF((INDEX(H1187:H1196,MATCH(\"n.a.\",H1187:H1196,0)))=\"n.a.\",\"\",\"\"),_xlfn.IFNA(IF((INDEX(H1187:H1196,MATCH(\"\",H1187:H1196,0)))=\"\",\"\",\"\"),\"\"))))))))))))","v":""}]
[null,"\nHighest hazard level for all 'Uptake Routes' \n",null,null,{"$f":"_xlfn.IFNA(IF((INDEX(E1197:H1197,MATCH(\"E\",E1197:H1197,0)))=\"E\",\"E\",\"\"),_xlfn.IFNA(IF((INDEX(E1197:H1197,MATCH(\"D (E)c\",E1197:H1197,0)))=\"D (E)c\",\"D (E)\",\"\"),_xlfn.IFNA(IF((INDEX(E1197:H1197,MATCH(\"D\",E1197:H1197,0)))=\"D\",\"D\",\"\"),_xlfn.IFNA(IF((INDEX(E1197:H1197,MATCH(\"C\",E1197:H1197,0)))=\"C\",\"C\",\"\"),_xlfn.IFNA(IF((INDEX(E1197:H1197,MATCH(\"B\",E1197:H1197,0)))=\"B\",\"B\",\"\"),_xlfn.IFNA(IF((INDEX(E1197:H1197,MATCH(\"A\",E1197:H1197,0)))=\"A\",\"A\",\"\"),_xlfn.IFNA(IF((INDEX(E1197:H1197,MATCH(\"n.a.\",E1197:H1197,0)))=\"n.a.\",\"\",\"\"),_xlfn.IFNA(IF((INDEX(E1197:H1197,MATCH(\"\",E1197:H1197,0)))=\"\",\"\",\"\"),\"\"))))))))","v":""}]
[]
[]
[null,"\nStep 3: D(E) Assessment\nSkip this step if \nyour assessment above does not reveal a D(E) hazard level.\nHover over this cell for additional instructions.\n",null,null,"\nOverall hazard level\n",null,{"$f":"IF(AND(E1198=\"\",C1184=\"Yes\")=TRUE,\"B\",IF(E1198=\"\",\"\",(IF(AND(E1198=\"D (E)\",C1201=\"\"),\"D (E)\"&CHAR(10)&\"Find if cat. 1 acute tox.\",(IF(E1198<>\"D (E)\",E1198,(IF(AND(E1198=\"D (E)\",C1201=\"Yes\"),\"E\",(IF(AND(E1198=\"D (E)\",C1201=\"No\"),\"D\",\"\"))))))))))","v":""}]
[]
[{"$f":"IF(IF(MOD(ROWS(B$3:B1203),20)=1,INDEX('Summary Sheet'!$A$17:$A1257,INT(ROWS(B$3:B1203)/20)+1),\"\")=0,\"\",IF(MOD(ROWS(B$3:B1203),20)=1,INDEX('Summary Sheet'!$A$17:$A1257,INT(ROWS(B$3:B1203)/20)+1),\"\"))","v":61},"Hazard Level Assessment","for",{"$f":"IF(IF(MOD(ROWS(D$3:D1203),20)=1,INDEX('Summary Sheet'!$B$17:$B1257,INT(ROWS(D$3:D1203)/20)+1),\"\")=0,\"\",IF(MOD(ROWS(D$3:D1203),20)=1,INDEX('Summary Sheet'!$B$17:$B1257,INT(ROWS(D$3:D1203)/20)+1),\"\"))","v":""}]
[null,"\nStep 1: Physical & Environmental Hazard Statements/Codes\nFind Section 2 of the SDS and determine if the SDS has physical and/or environmental hazard statements/codes. Hover on this cell for additional instructions.\n",null,{"$f":"IF(IF(MOD(ROWS(D$3:D1204),20)=1,INDEX('Summary Sheet'!$B$17:$B1257,INT(ROWS(D$3:D1204)/20)+1),\"\")=0,\"\",IF(MOD(ROWS(D$3:D1204),20)=1,INDEX('Summary Sheet'!$B$17:$B1257,INT(ROWS(D$3:D1204)/20)+1),\"\"))","v":""}]
[null,"Step 2: Health Hazard Statements/Codes\nProvide the Health Hazard Statements or Codes from Section 2 of the SDS below. Hover on this cell for additional instructions.",null,{"$f":"IF(IF(MOD(ROWS(D$3:D1205),20)=1,INDEX('Summary Sheet'!$B$17:$B1257,INT(ROWS(D$3:D1205)/20)+1),\"\")=0,\"\",IF(MOD(ROWS(D$3:D1205),20)=1,INDEX('Summary Sheet'!$B$17:$B1257,INT(ROWS(D$3:D1205)/20)+1),\"\"))","v":""},"\nHazard Level\n"]
[null,null,null,{"$f":"IF(IF(MOD(ROWS(D$3:D1206),20)=1,INDEX('Summary Sheet'!$B$17:$B1257,INT(ROWS(D$3:D1206)/20)+1),\"\")=0,\"\",IF(MOD(ROWS(D$3:D1206),20)=1,INDEX('Summary Sheet'!$B$17:$B1257,INT(ROWS(D$3:D1206)/20)+1),\"\"))","v":""},"\nEye Damage\n","\nInhalation\n","\nLocal Skin Damage\n","\nSkin uptake, systemic\n"]
[1,null,{"$f":"_xlfn.IFNA(VLOOKUP(B1207,_!$A$7:$F$210,6,FALSE),\"\")","v":""},{"$f":"IF(IF(MOD(ROWS(D$3:D1207),20)=1,INDEX('Summary Sheet'!$B$17:$B1257,INT(ROWS(D$3:D1207)/20)+1),\"\")=0,\"\",IF(MOD(ROWS(D$3:D1207),20)=1,INDEX('Summary Sheet'!$B$17:$B1257,INT(ROWS(D$3:D1207)/20)+1),\"\"))","v":""},{"$f":"_xlfn.IFNA(IF(VLOOKUP(B1207,_!$A$7:$E$210,2,FALSE)=0, \"\", VLOOKUP(B1207,_!$A$7:$E$210,2,FALSE)),  \"\")","v":""},{"$f":"_xlfn.IFNA(IF(VLOOKUP(B1207,_!$A$7:$E$210,3,FALSE)=0, \"\", VLOOKUP(B1207,_!$A$7:$E$210,3,FALSE)), \"\")","v":""},{"$f":"_xlfn.IFNA(IF(VLOOKUP(B1207,_!$A$7:$E$210,4,FALSE)=0, \"\",VLOOKUP(B1207,_!$A$7:$E$210,4,FALSE)), \"\")","v":""},{"$f":"_xlfn.IFNA(IF(VLOOKUP(B1207,_!$A$7:$E$210,5,FALSE)=0,\"\",VLOOKUP(B1207,_!$A$7:$E$210,5,FALSE)), \"\")","v":""}]
[2,null,{"$f":"_xlfn.IFNA(VLOOKUP(B1208,_!$A$7:$F$210,6,FALSE),\"\")","v":""},{"$f":"IF(IF(MOD(ROWS(D$3:D1208),20)=1,INDEX('Summary Sheet'!$B$17:$B1257,INT(ROWS(D$3:D1208)/20)+1),\"\")=0,\"\",IF(MOD(ROWS(D$3:D1208),20)=1,INDEX('Summary Sheet'!$B$17:$B1257,INT(ROWS(D$3:D1208)/20)+1),\"\"))","v":""},{"$f":"_xlfn.IFNA(IF(VLOOKUP(B1208,_!$A$7:$E$210,2,FALSE)=0, \"\", VLOOKUP(B1208,_!$A$7:$E$210,2,FALSE)),  \"\")","v":""},{"$f":"_xlfn.IFNA(IF(VLOOKUP(B1208,_!$A$7:$E$210,3,FALSE)=0, \"\", VLOOKUP(B1208,_!$A$7:$E$210,3,FALSE)), \"\")","v":""},{"$f":"_xlfn.IFNA(IF(VLOOKUP(B1208,_!$A$7:$E$210,4,FALSE)=0, \"\",VLOOKUP(B1208,_!$A$7:$E$210,4,FALSE)), \"\")","v":""},{"$f":"_xlfn.IFNA(IF(VLOOKUP(B1208,_!$A$7:$E$210,5,FALSE)=0,\"\",VLOOKUP(B1208,_!$A$7:$E$210,5,FALSE)), \"\")","v":""}]
[3,null,{"$f":"_xlfn.IFNA(VLOOKUP(B1209,_!$A$7:$F$210,6,FALSE),\"\")","v":""},{"$f":"IF(IF(MOD(ROWS(D$3:D1209),20)=1,INDEX('Summary Sheet'!$B$17:$B1257,INT(ROWS(D$3:D1209)/20)+1),\"\")=0,\"\",IF(MOD(ROWS(D$3:D1209),20)=1,INDEX('Summary Sheet'!$B$17:$B1257,INT(ROWS(D$3:D1209)/20)+1),\"\"))","v":""},{"$f":"_xlfn.IFNA(IF(VLOOKUP(B1209,_!$A$7:$E$210,2,FALSE)=0, \"\", VLOOKUP(B1209,_!$A$7:$E$210,2,FALSE)),  \"\")","v":""},{"$f":"_xlfn.IFNA(IF(VLOOKUP(B1209,_!$A$7:$E$210,3,FALSE)=0, \"\", VLOOKUP(B1209,_!$A$7:$E$210,3,FALSE)), \"\")","v":""},{"$f":"_xlfn.IFNA(IF(VLOOKUP(B1209,_!$A$7:$E$210,4,FALSE)=0, \"\",VLOOKUP(B1209,_!$A$7:$E$210,4,FALSE)), \"\")","v":""},{"$f":"_xlfn.IFNA(IF(VLOOKUP(B1209,_!$A$7:$E$210,5,FALSE)=0,\"\",VLOOKUP(B1209,_!$A$7:$E$210,5,FALSE)), \"\")","v":""}]
[4,null,{"$f":"_xlfn.IFNA(VLOOKUP(B1210,_!$A$7:$F$210,6,FALSE),\"\")","v":""},{"$f":"IF(IF(MOD(ROWS(D$3:D1210),20)=1,INDEX('Summary Sheet'!$B$17:$B1257,INT(ROWS(D$3:D1210)/20)+1),\"\")=0,\"\",IF(MOD(ROWS(D$3:D1210),20)=1,INDEX('Summary Sheet'!$B$17:$B1257,INT(ROWS(D$3:D1210)/20)+1),\"\"))","v":""},{"$f":"_xlfn.IFNA(IF(VLOOKUP(B1210,_!$A$7:$E$210,2,FALSE)=0, \"\", VLOOKUP(B1210,_!$A$7:$E$210,2,FALSE)),  \"\")","v":""},{"$f":"_xlfn.IFNA(IF(VLOOKUP(B1210,_!$A$7:$E$210,3,FALSE)=0, \"\", VLOOKUP(B1210,_!$A$7:$E$210,3,FALSE)), \"\")","v":""},{"$f":"_xlfn.IFNA(IF(VLOOKUP(B1210,_!$A$7:$E$210,4,FALSE)=0, \"\",VLOOKUP(B1210,_!$A$7:$E$210,4,FALSE)), \"\")","v":""},{"$f":"_xlfn.IFNA(IF(VLOOKUP(B1210,_!$A$7:$E$210,5,FALSE)=0,\"\",VLOOKUP(B1210,_!$A$7:$E$210,5,FALSE)), \"\")","v":""}]
[5,null,{"$f":"_xlfn.IFNA(VLOOKUP(B1211,_!$A$7:$F$210,6,FALSE),\"\")","v":""},{"$f":"IF(IF(MOD(ROWS(D$3:D1211),20)=1,INDEX('Summary Sheet'!$B$17:$B1257,INT(ROWS(D$3:D1211)/20)+1),\"\")=0,\"\",IF(MOD(ROWS(D$3:D1211),20)=1,INDEX('Summary Sheet'!$B$17:$B1257,INT(ROWS(D$3:D1211)/20)+1),\"\"))","v":""},{"$f":"_xlfn.IFNA(IF(VLOOKUP(B1211,_!$A$7:$E$210,2,FALSE)=0, \"\", VLOOKUP(B1211,_!$A$7:$E$210,2,FALSE)),  \"\")","v":""},{"$f":"_xlfn.IFNA(IF(VLOOKUP(B1211,_!$A$7:$E$210,3,FALSE)=0, \"\", VLOOKUP(B1211,_!$A$7:$E$210,3,FALSE)), \"\")","v":""},{"$f":"_xlfn.IFNA(IF(VLOOKUP(B1211,_!$A$7:$E$210,4,FALSE)=0, \"\",VLOOKUP(B1211,_!$A$7:$E$210,4,FALSE)), \"\")","v":""},{"$f":"_xlfn.IFNA(IF(VLOOKUP(B1211,_!$A$7:$E$210,5,FALSE)=0,\"\",VLOOKUP(B1211,_!$A$7:$E$210,5,FALSE)), \"\")","v":""}]
[6,null,{"$f":"_xlfn.IFNA(VLOOKUP(B1212,_!$A$7:$F$210,6,FALSE),\"\")","v":""},{"$f":"IF(IF(MOD(ROWS(D$3:D1212),20)=1,INDEX('Summary Sheet'!$B$17:$B1257,INT(ROWS(D$3:D1212)/20)+1),\"\")=0,\"\",IF(MOD(ROWS(D$3:D1212),20)=1,INDEX('Summary Sheet'!$B$17:$B1257,INT(ROWS(D$3:D1212)/20)+1),\"\"))","v":""},{"$f":"_xlfn.IFNA(IF(VLOOKUP(B1212,_!$A$7:$E$210,2,FALSE)=0, \"\", VLOOKUP(B1212,_!$A$7:$E$210,2,FALSE)),  \"\")","v":""},{"$f":"_xlfn.IFNA(IF(VLOOKUP(B1212,_!$A$7:$E$210,3,FALSE)=0, \"\", VLOOKUP(B1212,_!$A$7:$E$210,3,FALSE)), \"\")","v":""},{"$f":"_xlfn.IFNA(IF(VLOOKUP(B1212,_!$A$7:$E$210,4,FALSE)=0, \"\",VLOOKUP(B1212,_!$A$7:$E$210,4,FALSE)), \"\")","v":""},{"$f":"_xlfn.IFNA(IF(VLOOKUP(B1212,_!$A$7:$E$210,5,FALSE)=0,\"\",VLOOKUP(B1212,_!$A$7:$E$210,5,FALSE)), \"\")","v":""}]
[7,null,{"$f":"_xlfn.IFNA(VLOOKUP(B1213,_!$A$7:$F$210,6,FALSE),\"\")","v":""},{"$f":"IF(IF(MOD(ROWS(D$3:D1213),20)=1,INDEX('Summary Sheet'!$B$17:$B1257,INT(ROWS(D$3:D1213)/20)+1),\"\")=0,\"\",IF(MOD(ROWS(D$3:D1213),20)=1,INDEX('Summary Sheet'!$B$17:$B1257,INT(ROWS(D$3:D1213)/20)+1),\"\"))","v":""},{"$f":"_xlfn.IFNA(IF(VLOOKUP(B1213,_!$A$7:$E$210,2,FALSE)=0, \"\", VLOOKUP(B1213,_!$A$7:$E$210,2,FALSE)),  \"\")","v":""},{"$f":"_xlfn.IFNA(IF(VLOOKUP(B1213,_!$A$7:$E$210,3,FALSE)=0, \"\", VLOOKUP(B1213,_!$A$7:$E$210,3,FALSE)), \"\")","v":""},{"$f":"_xlfn.IFNA(IF(VLOOKUP(B1213,_!$A$7:$E$210,4,FALSE)=0, \"\",VLOOKUP(B1213,_!$A$7:$E$210,4,FALSE)), \"\")","v":""},{"$f":"_xlfn.IFNA(IF(VLOOKUP(B1213,_!$A$7:$E$210,5,FALSE)=0,\"\",VLOOKUP(B1213,_!$A$7:$E$210,5,FALSE)), \"\")","v":""}]
[8,null,{"$f":"_xlfn.IFNA(VLOOKUP(B1214,_!$A$7:$F$210,6,FALSE),\"\")","v":""},{"$f":"IF(IF(MOD(ROWS(D$3:D1214),20)=1,INDEX('Summary Sheet'!$B$17:$B1257,INT(ROWS(D$3:D1214)/20)+1),\"\")=0,\"\",IF(MOD(ROWS(D$3:D1214),20)=1,INDEX('Summary Sheet'!$B$17:$B1257,INT(ROWS(D$3:D1214)/20)+1),\"\"))","v":""},{"$f":"_xlfn.IFNA(IF(VLOOKUP(B1214,_!$A$7:$E$210,2,FALSE)=0, \"\", VLOOKUP(B1214,_!$A$7:$E$210,2,FALSE)),  \"\")","v":""},{"$f":"_xlfn.IFNA(IF(VLOOKUP(B1214,_!$A$7:$E$210,3,FALSE)=0, \"\", VLOOKUP(B1214,_!$A$7:$E$210,3,FALSE)), \"\")","v":""},{"$f":"_xlfn.IFNA(IF(VLOOKUP(B1214,_!$A$7:$E$210,4,FALSE)=0, \"\",VLOOKUP(B1214,_!$A$7:$E$210,4,FALSE)), \"\")","v":""},{"$f":"_xlfn.IFNA(IF(VLOOKUP(B1214,_!$A$7:$E$210,5,FALSE)=0,\"\",VLOOKUP(B1214,_!$A$7:$E$210,5,FALSE)), \"\")","v":""}]
[9,null,{"$f":"_xlfn.IFNA(VLOOKUP(B1215,_!$A$7:$F$210,6,FALSE),\"\")","v":""},{"$f":"IF(IF(MOD(ROWS(D$3:D1215),20)=1,INDEX('Summary Sheet'!$B$17:$B1257,INT(ROWS(D$3:D1215)/20)+1),\"\")=0,\"\",IF(MOD(ROWS(D$3:D1215),20)=1,INDEX('Summary Sheet'!$B$17:$B1257,INT(ROWS(D$3:D1215)/20)+1),\"\"))","v":""},{"$f":"_xlfn.IFNA(IF(VLOOKUP(B1215,_!$A$7:$E$210,2,FALSE)=0, \"\", VLOOKUP(B1215,_!$A$7:$E$210,2,FALSE)),  \"\")","v":""},{"$f":"_xlfn.IFNA(IF(VLOOKUP(B1215,_!$A$7:$E$210,3,FALSE)=0, \"\", VLOOKUP(B1215,_!$A$7:$E$210,3,FALSE)), \"\")","v":""},{"$f":"_xlfn.IFNA(IF(VLOOKUP(B1215,_!$A$7:$E$210,4,FALSE)=0, \"\",VLOOKUP(B1215,_!$A$7:$E$210,4,FALSE)), \"\")","v":""},{"$f":"_xlfn.IFNA(IF(VLOOKUP(B1215,_!$A$7:$E$210,5,FALSE)=0,\"\",VLOOKUP(B1215,_!$A$7:$E$210,5,FALSE)), \"\")","v":""}]
[10,null,{"$f":"_xlfn.IFNA(VLOOKUP(B1216,_!$A$7:$F$210,6,FALSE),\"\")","v":""},{"$f":"IF(IF(MOD(ROWS(D$14:D1216),20)=1,INDEX('Summary Sheet'!$B$17:$B1257,INT(ROWS(D$14:D1216)/20)+1),\"\")=0,\"\",IF(MOD(ROWS(D$14:D1216),20)=1,INDEX('Summary Sheet'!$B$17:$B1257,INT(ROWS(D$14:D1216)/20)+1),\"\"))","v":""},{"$f":"_xlfn.IFNA(IF(VLOOKUP(B1216,_!$A$7:$E$210,2,FALSE)=0, \"\", VLOOKUP(B1216,_!$A$7:$E$210,2,FALSE)),  \"\")","v":""},{"$f":"_xlfn.IFNA(IF(VLOOKUP(B1216,_!$A$7:$E$210,3,FALSE)=0, \"\", VLOOKUP(B1216,_!$A$7:$E$210,3,FALSE)), \"\")","v":""},{"$f":"_xlfn.IFNA(IF(VLOOKUP(B1216,_!$A$7:$E$210,4,FALSE)=0, \"\",VLOOKUP(B1216,_!$A$7:$E$210,4,FALSE)), \"\")","v":""},{"$f":"_xlfn.IFNA(IF(VLOOKUP(B1216,_!$A$7:$E$210,5,FALSE)=0,\"\",VLOOKUP(B1216,_!$A$7:$E$210,5,FALSE)), \"\")","v":""}]
[null,"\nHighest hazard level for each ‘Uptake Route’\n",null,null,{"$f":"_xlfn.IFNA(IF((INDEX(E1207:E1216,MATCH(\"E\",E1207:E1216,0)))=\"E\",\"E\",\"\"),_xlfn.IFNA(IF((INDEX(E1207:E1216,MATCH(\"D\",E1207:E1216,0)))=\"D\",\"D\",\"\"),_xlfn.IFNA(IF((INDEX(E1207:E1216,MATCH(\"Ca\",E1207:E1216,0)))=\"Ca\",\"C\",\"\"),_xlfn.IFNA(IF((INDEX(E1207:E1216,MATCH(\"C\",E1207:E1216,0)))=\"C\",\"C\",\"\"),_xlfn.IFNA(IF((INDEX(E1207:E1216,MATCH(\"B\",E1207:E1216,0)))=\"B\",\"B\",\"\"),_xlfn.IFNA(IF((INDEX(E1207:E1216,MATCH(\"A\",E1207:E1216,0)))=\"A\",\"A\",\"\"),_xlfn.IFNA(IF((INDEX(E1207:E1216,MATCH(\"n.a.\",E1207:E1216,0)))=\"n.a.\",\"\",\"\"),_xlfn.IFNA(IF((INDEX(E1207:E1216,MATCH(\"\",E1207:E1216,0)))=\"\",\"\",\"\"),\"\"))))))))","v":""},{"$f":"_xlfn.IFNA(IF((INDEX(F1207:F1216,MATCH(\"E\",F1207:F1216,0)))=\"E\",\"E\",\"\"),_xlfn.IFNA(IF((INDEX(F1207:F1216,MATCH(\"D (E)c\",F1207:F1216,0)))=\"D (E)c\",\"D (E)c\",\"\"),_xlfn.IFNA(IF((INDEX(F1207:F1216,MATCH(\"Da (E)c\",F1207:F1216,0)))=\"Da (E)c\",\"D (E)c\",\"\"),_xlfn.IFNA(IF((INDEX(F1207:F1216,MATCH(\"D\",F1207:F1216,0)))=\"D\",\"D\",\"\"),_xlfn.IFNA(IF((INDEX(F1207:F1216,MATCH(\"Ca\",F1207:F1216,0)))=\"Ca\",\"C\",\"\"),_xlfn.IFNA(IF((INDEX(F1207:F1216,MATCH(\"C\",F1207:F1216,0)))=\"C\",\"C\",\"\"),_xlfn.IFNA(IF((INDEX(F1207:F1216,MATCH(\"Ba\",F1207:F1216,0)))=\"Ba\",\"B\",\"\"),_xlfn.IFNA(IF((INDEX(F1207:F1216,MATCH(\"B\",F1207:F1216,0)))=\"B\",\"B\",\"\"),_xlfn.IFNA(IF((INDEX(F1207:F1216,MATCH(\"Aa\",F1207:F1216,0)))=\"Aa\",\"A\",\"\"),_xlfn.IFNA(IF((INDEX(F1207:F1216,MATCH(\"A\",F1207:F1216,0)))=\"A\",\"A\",\"\"),_xlfn.IFNA(IF((INDEX(F1207:F1216,MATCH(\"n.a.\",F1207:F1216,0)))=\"n.a.\",\"\",\"\"),_xlfn.IFNA(IF((INDEX(F1207:F1216,MATCH(\"\",F1207:F1216,0)))=\"\",\"\",\"\"),\"\"))))))))))))","v":""},{"$f":"_xlfn.IFNA(IF((INDEX(G1207:G1216,MATCH(\"E\",G1207:G1216,0)))=\"E\",\"E\",\"\"),_xlfn.IFNA(IF((INDEX(G1207:G1216,MATCH(\"D\",G1207:G1216,0)))=\"D\",\"D\",\"\"),_xlfn.IFNA(IF((INDEX(G1207:G1216,MATCH(\"Ca\",G1207:G1216,0)))=\"Ca\",\"C\",\"\"),_xlfn.IFNA(IF((INDEX(G1207:G1216,MATCH(\"C\",G1207:G1216,0)))=\"C\",\"C\",\"\"),_xlfn.IFNA(IF((INDEX(G1207:G1216,MATCH(\"B\",G1207:G1216,0)))=\"B\",\"B\",\"\"),_xlfn.IFNA(IF((INDEX(G1207:G1216,MATCH(\"A\",G1207:G1216,0)))=\"A\",\"A\",\"\"),_xlfn.IFNA(IF((INDEX(G1207:G1216,MATCH(\"n.a.\",G1207:G1216,0)))=\"n.a.\",\"\",\"\"),_xlfn.IFNA(IF((INDEX(G1207:G1216,MATCH(\"\",G1207:G1216,0)))=\"\",\"\",\"\"),\"\"))))))))","v":""},{"$f":"_xlfn.IFNA(IF((INDEX(H1207:H1216,MATCH(\"E\",H1207:H1216,0)))=\"E\",\"E\",\"\"),_xlfn.IFNA(IF((INDEX(H1207:H1216,MATCH(\"D (E)c\",H1207:H1216,0)))=\"D (E)c\",\"D (E)c\",\"\"),_xlfn.IFNA(IF((INDEX(H1207:H1216,MATCH(\"Db (E)c\",H1207:H1216,0)))=\"Db (E)c\",\"D (E)c\",\"\"),_xlfn.IFNA(IF((INDEX(H1207:H1216,MATCH(\"D\",H1207:H1216,0)))=\"D\",\"D\",\"\"),_xlfn.IFNA(IF((INDEX(H1207:H1216,MATCH(\"Cb\",H1207:H1216,0)))=\"Cb\",\"C\",\"\"),_xlfn.IFNA(IF((INDEX(H1207:H1216,MATCH(\"C\",H1207:H1216,0)))=\"C\",\"C\",\"\"),_xlfn.IFNA(IF((INDEX(H1207:H1216,MATCH(\"Bb\",H1207:H1216,0)))=\"Bb\",\"B\",\"\"),_xlfn.IFNA(IF((INDEX(H1207:H1216,MATCH(\"B\",H1207:H1216,0)))=\"B\",\"B\",\"\"),_xlfn.IFNA(IF((INDEX(H1207:H1216,MATCH(\"Ab\",H1207:H1216,0)))=\"Ab\",\"A\",\"\"),_xlfn.IFNA(IF((INDEX(H1207:H1216,MATCH(\"A\",H1207:H1216,0)))=\"A\",\"A\",\"\"),_xlfn.IFNA(IF((INDEX(H1207:H1216,MATCH(\"n.a.\",H1207:H1216,0)))=\"n.a.\",\"\",\"\"),_xlfn.IFNA(IF((INDEX(H1207:H1216,MATCH(\"\",H1207:H1216,0)))=\"\",\"\",\"\"),\"\"))))))))))))","v":""}]
[null,"\nHighest hazard level for all 'Uptake Routes' \n",null,null,{"$f":"_xlfn.IFNA(IF((INDEX(E1217:H1217,MATCH(\"E\",E1217:H1217,0)))=\"E\",\"E\",\"\"),_xlfn.IFNA(IF((INDEX(E1217:H1217,MATCH(\"D (E)c\",E1217:H1217,0)))=\"D (E)c\",\"D (E)\",\"\"),_xlfn.IFNA(IF((INDEX(E1217:H1217,MATCH(\"D\",E1217:H1217,0)))=\"D\",\"D\",\"\"),_xlfn.IFNA(IF((INDEX(E1217:H1217,MATCH(\"C\",E1217:H1217,0)))=\"C\",\"C\",\"\"),_xlfn.IFNA(IF((INDEX(E1217:H1217,MATCH(\"B\",E1217:H1217,0)))=\"B\",\"B\",\"\"),_xlfn.IFNA(IF((INDEX(E1217:H1217,MATCH(\"A\",E1217:H1217,0)))=\"A\",\"A\",\"\"),_xlfn.IFNA(IF((INDEX(E1217:H1217,MATCH(\"n.a.\",E1217:H1217,0)))=\"n.a.\",\"\",\"\"),_xlfn.IFNA(IF((INDEX(E1217:H1217,MATCH(\"\",E1217:H1217,0)))=\"\",\"\",\"\"),\"\"))))))))","v":""}]
[]
[]
[null,"\nStep 3: D(E) Assessment\nSkip this step if \nyour assessment above does not reveal a D(E) hazard level.\nHover over this cell for additional instructions.\n",null,null,"\nOverall hazard level\n",null,{"$f":"IF(AND(E1218=\"\",C1204=\"Yes\")=TRUE,\"B\",IF(E1218=\"\",\"\",(IF(AND(E1218=\"D (E)\",C1221=\"\"),\"D (E)\"&CHAR(10)&\"Find if cat. 1 acute tox.\",(IF(E1218<>\"D (E)\",E1218,(IF(AND(E1218=\"D (E)\",C1221=\"Yes\"),\"E\",(IF(AND(E1218=\"D (E)\",C1221=\"No\"),\"D\",\"\"))))))))))","v":""}]
[]
[{"$f":"IF(IF(MOD(ROWS(B$3:B1223),20)=1,INDEX('Summary Sheet'!$A$17:$A1276,INT(ROWS(B$3:B1223)/20)+1),\"\")=0,\"\",IF(MOD(ROWS(B$3:B1223),20)=1,INDEX('Summary Sheet'!$A$17:$A1276,INT(ROWS(B$3:B1223)/20)+1),\"\"))","v":62},"Hazard Level Assessment","for",{"$f":"IF(IF(MOD(ROWS(D$3:D1223),20)=1,INDEX('Summary Sheet'!$B$17:$B1276,INT(ROWS(D$3:D1223)/20)+1),\"\")=0,\"\",IF(MOD(ROWS(D$3:D1223),20)=1,INDEX('Summary Sheet'!$B$17:$B1276,INT(ROWS(D$3:D1223)/20)+1),\"\"))","v":""}]
[null,"\nStep 1: Physical & Environmental Hazard Statements/Codes\nFind Section 2 of the SDS and determine if the SDS has physical and/or environmental hazard statements/codes. Hover on this cell for additional instructions.\n",null,{"$f":"IF(IF(MOD(ROWS(D$3:D1224),20)=1,INDEX('Summary Sheet'!$B$17:$B1276,INT(ROWS(D$3:D1224)/20)+1),\"\")=0,\"\",IF(MOD(ROWS(D$3:D1224),20)=1,INDEX('Summary Sheet'!$B$17:$B1276,INT(ROWS(D$3:D1224)/20)+1),\"\"))","v":""}]
[null,"Step 2: Health Hazard Statements/Codes\nProvide the Health Hazard Statements or Codes from Section 2 of the SDS below. Hover on this cell for additional instructions.",null,{"$f":"IF(IF(MOD(ROWS(D$3:D1225),20)=1,INDEX('Summary Sheet'!$B$17:$B1276,INT(ROWS(D$3:D1225)/20)+1),\"\")=0,\"\",IF(MOD(ROWS(D$3:D1225),20)=1,INDEX('Summary Sheet'!$B$17:$B1276,INT(ROWS(D$3:D1225)/20)+1),\"\"))","v":""},"\nHazard Level\n"]
[null,null,null,{"$f":"IF(IF(MOD(ROWS(D$3:D1226),20)=1,INDEX('Summary Sheet'!$B$17:$B1276,INT(ROWS(D$3:D1226)/20)+1),\"\")=0,\"\",IF(MOD(ROWS(D$3:D1226),20)=1,INDEX('Summary Sheet'!$B$17:$B1276,INT(ROWS(D$3:D1226)/20)+1),\"\"))","v":""},"\nEye Damage\n","\nInhalation\n","\nLocal Skin Damage\n","\nSkin uptake, systemic\n"]
[1,null,{"$f":"_xlfn.IFNA(VLOOKUP(B1227,_!$A$7:$F$210,6,FALSE),\"\")","v":""},{"$f":"IF(IF(MOD(ROWS(D$3:D1227),20)=1,INDEX('Summary Sheet'!$B$17:$B1276,INT(ROWS(D$3:D1227)/20)+1),\"\")=0,\"\",IF(MOD(ROWS(D$3:D1227),20)=1,INDEX('Summary Sheet'!$B$17:$B1276,INT(ROWS(D$3:D1227)/20)+1),\"\"))","v":""},{"$f":"_xlfn.IFNA(IF(VLOOKUP(B1227,_!$A$7:$E$210,2,FALSE)=0, \"\", VLOOKUP(B1227,_!$A$7:$E$210,2,FALSE)),  \"\")","v":""},{"$f":"_xlfn.IFNA(IF(VLOOKUP(B1227,_!$A$7:$E$210,3,FALSE)=0, \"\", VLOOKUP(B1227,_!$A$7:$E$210,3,FALSE)), \"\")","v":""},{"$f":"_xlfn.IFNA(IF(VLOOKUP(B1227,_!$A$7:$E$210,4,FALSE)=0, \"\",VLOOKUP(B1227,_!$A$7:$E$210,4,FALSE)), \"\")","v":""},{"$f":"_xlfn.IFNA(IF(VLOOKUP(B1227,_!$A$7:$E$210,5,FALSE)=0,\"\",VLOOKUP(B1227,_!$A$7:$E$210,5,FALSE)), \"\")","v":""}]
[2,null,{"$f":"_xlfn.IFNA(VLOOKUP(B1228,_!$A$7:$F$210,6,FALSE),\"\")","v":""},{"$f":"IF(IF(MOD(ROWS(D$3:D1228),20)=1,INDEX('Summary Sheet'!$B$17:$B1276,INT(ROWS(D$3:D1228)/20)+1),\"\")=0,\"\",IF(MOD(ROWS(D$3:D1228),20)=1,INDEX('Summary Sheet'!$B$17:$B1276,INT(ROWS(D$3:D1228)/20)+1),\"\"))","v":""},{"$f":"_xlfn.IFNA(IF(VLOOKUP(B1228,_!$A$7:$E$210,2,FALSE)=0, \"\", VLOOKUP(B1228,_!$A$7:$E$210,2,FALSE)),  \"\")","v":""},{"$f":"_xlfn.IFNA(IF(VLOOKUP(B1228,_!$A$7:$E$210,3,FALSE)=0, \"\", VLOOKUP(B1228,_!$A$7:$E$210,3,FALSE)), \"\")","v":""},{"$f":"_xlfn.IFNA(IF(VLOOKUP(B1228,_!$A$7:$E$210,4,FALSE)=0, \"\",VLOOKUP(B1228,_!$A$7:$E$210,4,FALSE)), \"\")","v":""},{"$f":"_xlfn.IFNA(IF(VLOOKUP(B1228,_!$A$7:$E$210,5,FALSE)=0,\"\",VLOOKUP(B1228,_!$A$7:$E$210,5,FALSE)), \"\")","v":""}]
[3,null,{"$f":"_xlfn.IFNA(VLOOKUP(B1229,_!$A$7:$F$210,6,FALSE),\"\")","v":""},{"$f":"IF(IF(MOD(ROWS(D$3:D1229),20)=1,INDEX('Summary Sheet'!$B$17:$B1276,INT(ROWS(D$3:D1229)/20)+1),\"\")=0,\"\",IF(MOD(ROWS(D$3:D1229),20)=1,INDEX('Summary Sheet'!$B$17:$B1276,INT(ROWS(D$3:D1229)/20)+1),\"\"))","v":""},{"$f":"_xlfn.IFNA(IF(VLOOKUP(B1229,_!$A$7:$E$210,2,FALSE)=0, \"\", VLOOKUP(B1229,_!$A$7:$E$210,2,FALSE)),  \"\")","v":""},{"$f":"_xlfn.IFNA(IF(VLOOKUP(B1229,_!$A$7:$E$210,3,FALSE)=0, \"\", VLOOKUP(B1229,_!$A$7:$E$210,3,FALSE)), \"\")","v":""},{"$f":"_xlfn.IFNA(IF(VLOOKUP(B1229,_!$A$7:$E$210,4,FALSE)=0, \"\",VLOOKUP(B1229,_!$A$7:$E$210,4,FALSE)), \"\")","v":""},{"$f":"_xlfn.IFNA(IF(VLOOKUP(B1229,_!$A$7:$E$210,5,FALSE)=0,\"\",VLOOKUP(B1229,_!$A$7:$E$210,5,FALSE)), \"\")","v":""}]
[4,null,{"$f":"_xlfn.IFNA(VLOOKUP(B1230,_!$A$7:$F$210,6,FALSE),\"\")","v":""},{"$f":"IF(IF(MOD(ROWS(D$3:D1230),20)=1,INDEX('Summary Sheet'!$B$17:$B1276,INT(ROWS(D$3:D1230)/20)+1),\"\")=0,\"\",IF(MOD(ROWS(D$3:D1230),20)=1,INDEX('Summary Sheet'!$B$17:$B1276,INT(ROWS(D$3:D1230)/20)+1),\"\"))","v":""},{"$f":"_xlfn.IFNA(IF(VLOOKUP(B1230,_!$A$7:$E$210,2,FALSE)=0, \"\", VLOOKUP(B1230,_!$A$7:$E$210,2,FALSE)),  \"\")","v":""},{"$f":"_xlfn.IFNA(IF(VLOOKUP(B1230,_!$A$7:$E$210,3,FALSE)=0, \"\", VLOOKUP(B1230,_!$A$7:$E$210,3,FALSE)), \"\")","v":""},{"$f":"_xlfn.IFNA(IF(VLOOKUP(B1230,_!$A$7:$E$210,4,FALSE)=0, \"\",VLOOKUP(B1230,_!$A$7:$E$210,4,FALSE)), \"\")","v":""},{"$f":"_xlfn.IFNA(IF(VLOOKUP(B1230,_!$A$7:$E$210,5,FALSE)=0,\"\",VLOOKUP(B1230,_!$A$7:$E$210,5,FALSE)), \"\")","v":""}]
[5,null,{"$f":"_xlfn.IFNA(VLOOKUP(B1231,_!$A$7:$F$210,6,FALSE),\"\")","v":""},{"$f":"IF(IF(MOD(ROWS(D$3:D1231),20)=1,INDEX('Summary Sheet'!$B$17:$B1276,INT(ROWS(D$3:D1231)/20)+1),\"\")=0,\"\",IF(MOD(ROWS(D$3:D1231),20)=1,INDEX('Summary Sheet'!$B$17:$B1276,INT(ROWS(D$3:D1231)/20)+1),\"\"))","v":""},{"$f":"_xlfn.IFNA(IF(VLOOKUP(B1231,_!$A$7:$E$210,2,FALSE)=0, \"\", VLOOKUP(B1231,_!$A$7:$E$210,2,FALSE)),  \"\")","v":""},{"$f":"_xlfn.IFNA(IF(VLOOKUP(B1231,_!$A$7:$E$210,3,FALSE)=0, \"\", VLOOKUP(B1231,_!$A$7:$E$210,3,FALSE)), \"\")","v":""},{"$f":"_xlfn.IFNA(IF(VLOOKUP(B1231,_!$A$7:$E$210,4,FALSE)=0, \"\",VLOOKUP(B1231,_!$A$7:$E$210,4,FALSE)), \"\")","v":""},{"$f":"_xlfn.IFNA(IF(VLOOKUP(B1231,_!$A$7:$E$210,5,FALSE)=0,\"\",VLOOKUP(B1231,_!$A$7:$E$210,5,FALSE)), \"\")","v":""}]
[6,null,{"$f":"_xlfn.IFNA(VLOOKUP(B1232,_!$A$7:$F$210,6,FALSE),\"\")","v":""},{"$f":"IF(IF(MOD(ROWS(D$3:D1232),20)=1,INDEX('Summary Sheet'!$B$17:$B1276,INT(ROWS(D$3:D1232)/20)+1),\"\")=0,\"\",IF(MOD(ROWS(D$3:D1232),20)=1,INDEX('Summary Sheet'!$B$17:$B1276,INT(ROWS(D$3:D1232)/20)+1),\"\"))","v":""},{"$f":"_xlfn.IFNA(IF(VLOOKUP(B1232,_!$A$7:$E$210,2,FALSE)=0, \"\", VLOOKUP(B1232,_!$A$7:$E$210,2,FALSE)),  \"\")","v":""},{"$f":"_xlfn.IFNA(IF(VLOOKUP(B1232,_!$A$7:$E$210,3,FALSE)=0, \"\", VLOOKUP(B1232,_!$A$7:$E$210,3,FALSE)), \"\")","v":""},{"$f":"_xlfn.IFNA(IF(VLOOKUP(B1232,_!$A$7:$E$210,4,FALSE)=0, \"\",VLOOKUP(B1232,_!$A$7:$E$210,4,FALSE)), \"\")","v":""},{"$f":"_xlfn.IFNA(IF(VLOOKUP(B1232,_!$A$7:$E$210,5,FALSE)=0,\"\",VLOOKUP(B1232,_!$A$7:$E$210,5,FALSE)), \"\")","v":""}]
[7,null,{"$f":"_xlfn.IFNA(VLOOKUP(B1233,_!$A$7:$F$210,6,FALSE),\"\")","v":""},{"$f":"IF(IF(MOD(ROWS(D$3:D1233),20)=1,INDEX('Summary Sheet'!$B$17:$B1276,INT(ROWS(D$3:D1233)/20)+1),\"\")=0,\"\",IF(MOD(ROWS(D$3:D1233),20)=1,INDEX('Summary Sheet'!$B$17:$B1276,INT(ROWS(D$3:D1233)/20)+1),\"\"))","v":""},{"$f":"_xlfn.IFNA(IF(VLOOKUP(B1233,_!$A$7:$E$210,2,FALSE)=0, \"\", VLOOKUP(B1233,_!$A$7:$E$210,2,FALSE)),  \"\")","v":""},{"$f":"_xlfn.IFNA(IF(VLOOKUP(B1233,_!$A$7:$E$210,3,FALSE)=0, \"\", VLOOKUP(B1233,_!$A$7:$E$210,3,FALSE)), \"\")","v":""},{"$f":"_xlfn.IFNA(IF(VLOOKUP(B1233,_!$A$7:$E$210,4,FALSE)=0, \"\",VLOOKUP(B1233,_!$A$7:$E$210,4,FALSE)), \"\")","v":""},{"$f":"_xlfn.IFNA(IF(VLOOKUP(B1233,_!$A$7:$E$210,5,FALSE)=0,\"\",VLOOKUP(B1233,_!$A$7:$E$210,5,FALSE)), \"\")","v":""}]
[8,null,{"$f":"_xlfn.IFNA(VLOOKUP(B1234,_!$A$7:$F$210,6,FALSE),\"\")","v":""},{"$f":"IF(IF(MOD(ROWS(D$3:D1234),20)=1,INDEX('Summary Sheet'!$B$17:$B1276,INT(ROWS(D$3:D1234)/20)+1),\"\")=0,\"\",IF(MOD(ROWS(D$3:D1234),20)=1,INDEX('Summary Sheet'!$B$17:$B1276,INT(ROWS(D$3:D1234)/20)+1),\"\"))","v":""},{"$f":"_xlfn.IFNA(IF(VLOOKUP(B1234,_!$A$7:$E$210,2,FALSE)=0, \"\", VLOOKUP(B1234,_!$A$7:$E$210,2,FALSE)),  \"\")","v":""},{"$f":"_xlfn.IFNA(IF(VLOOKUP(B1234,_!$A$7:$E$210,3,FALSE)=0, \"\", VLOOKUP(B1234,_!$A$7:$E$210,3,FALSE)), \"\")","v":""},{"$f":"_xlfn.IFNA(IF(VLOOKUP(B1234,_!$A$7:$E$210,4,FALSE)=0, \"\",VLOOKUP(B1234,_!$A$7:$E$210,4,FALSE)), \"\")","v":""},{"$f":"_xlfn.IFNA(IF(VLOOKUP(B1234,_!$A$7:$E$210,5,FALSE)=0,\"\",VLOOKUP(B1234,_!$A$7:$E$210,5,FALSE)), \"\")","v":""}]
[9,null,{"$f":"_xlfn.IFNA(VLOOKUP(B1235,_!$A$7:$F$210,6,FALSE),\"\")","v":""},{"$f":"IF(IF(MOD(ROWS(D$3:D1235),20)=1,INDEX('Summary Sheet'!$B$17:$B1276,INT(ROWS(D$3:D1235)/20)+1),\"\")=0,\"\",IF(MOD(ROWS(D$3:D1235),20)=1,INDEX('Summary Sheet'!$B$17:$B1276,INT(ROWS(D$3:D1235)/20)+1),\"\"))","v":""},{"$f":"_xlfn.IFNA(IF(VLOOKUP(B1235,_!$A$7:$E$210,2,FALSE)=0, \"\", VLOOKUP(B1235,_!$A$7:$E$210,2,FALSE)),  \"\")","v":""},{"$f":"_xlfn.IFNA(IF(VLOOKUP(B1235,_!$A$7:$E$210,3,FALSE)=0, \"\", VLOOKUP(B1235,_!$A$7:$E$210,3,FALSE)), \"\")","v":""},{"$f":"_xlfn.IFNA(IF(VLOOKUP(B1235,_!$A$7:$E$210,4,FALSE)=0, \"\",VLOOKUP(B1235,_!$A$7:$E$210,4,FALSE)), \"\")","v":""},{"$f":"_xlfn.IFNA(IF(VLOOKUP(B1235,_!$A$7:$E$210,5,FALSE)=0,\"\",VLOOKUP(B1235,_!$A$7:$E$210,5,FALSE)), \"\")","v":""}]
[10,null,{"$f":"_xlfn.IFNA(VLOOKUP(B1236,_!$A$7:$F$210,6,FALSE),\"\")","v":""},{"$f":"IF(IF(MOD(ROWS(D$14:D1236),20)=1,INDEX('Summary Sheet'!$B$17:$B1276,INT(ROWS(D$14:D1236)/20)+1),\"\")=0,\"\",IF(MOD(ROWS(D$14:D1236),20)=1,INDEX('Summary Sheet'!$B$17:$B1276,INT(ROWS(D$14:D1236)/20)+1),\"\"))","v":""},{"$f":"_xlfn.IFNA(IF(VLOOKUP(B1236,_!$A$7:$E$210,2,FALSE)=0, \"\", VLOOKUP(B1236,_!$A$7:$E$210,2,FALSE)),  \"\")","v":""},{"$f":"_xlfn.IFNA(IF(VLOOKUP(B1236,_!$A$7:$E$210,3,FALSE)=0, \"\", VLOOKUP(B1236,_!$A$7:$E$210,3,FALSE)), \"\")","v":""},{"$f":"_xlfn.IFNA(IF(VLOOKUP(B1236,_!$A$7:$E$210,4,FALSE)=0, \"\",VLOOKUP(B1236,_!$A$7:$E$210,4,FALSE)), \"\")","v":""},{"$f":"_xlfn.IFNA(IF(VLOOKUP(B1236,_!$A$7:$E$210,5,FALSE)=0,\"\",VLOOKUP(B1236,_!$A$7:$E$210,5,FALSE)), \"\")","v":""}]
[null,"\nHighest hazard level for each ‘Uptake Route’\n",null,null,{"$f":"_xlfn.IFNA(IF((INDEX(E1227:E1236,MATCH(\"E\",E1227:E1236,0)))=\"E\",\"E\",\"\"),_xlfn.IFNA(IF((INDEX(E1227:E1236,MATCH(\"D\",E1227:E1236,0)))=\"D\",\"D\",\"\"),_xlfn.IFNA(IF((INDEX(E1227:E1236,MATCH(\"Ca\",E1227:E1236,0)))=\"Ca\",\"C\",\"\"),_xlfn.IFNA(IF((INDEX(E1227:E1236,MATCH(\"C\",E1227:E1236,0)))=\"C\",\"C\",\"\"),_xlfn.IFNA(IF((INDEX(E1227:E1236,MATCH(\"B\",E1227:E1236,0)))=\"B\",\"B\",\"\"),_xlfn.IFNA(IF((INDEX(E1227:E1236,MATCH(\"A\",E1227:E1236,0)))=\"A\",\"A\",\"\"),_xlfn.IFNA(IF((INDEX(E1227:E1236,MATCH(\"n.a.\",E1227:E1236,0)))=\"n.a.\",\"\",\"\"),_xlfn.IFNA(IF((INDEX(E1227:E1236,MATCH(\"\",E1227:E1236,0)))=\"\",\"\",\"\"),\"\"))))))))","v":""},{"$f":"_xlfn.IFNA(IF((INDEX(F1227:F1236,MATCH(\"E\",F1227:F1236,0)))=\"E\",\"E\",\"\"),_xlfn.IFNA(IF((INDEX(F1227:F1236,MATCH(\"D (E)c\",F1227:F1236,0)))=\"D (E)c\",\"D (E)c\",\"\"),_xlfn.IFNA(IF((INDEX(F1227:F1236,MATCH(\"Da (E)c\",F1227:F1236,0)))=\"Da (E)c\",\"D (E)c\",\"\"),_xlfn.IFNA(IF((INDEX(F1227:F1236,MATCH(\"D\",F1227:F1236,0)))=\"D\",\"D\",\"\"),_xlfn.IFNA(IF((INDEX(F1227:F1236,MATCH(\"Ca\",F1227:F1236,0)))=\"Ca\",\"C\",\"\"),_xlfn.IFNA(IF((INDEX(F1227:F1236,MATCH(\"C\",F1227:F1236,0)))=\"C\",\"C\",\"\"),_xlfn.IFNA(IF((INDEX(F1227:F1236,MATCH(\"Ba\",F1227:F1236,0)))=\"Ba\",\"B\",\"\"),_xlfn.IFNA(IF((INDEX(F1227:F1236,MATCH(\"B\",F1227:F1236,0)))=\"B\",\"B\",\"\"),_xlfn.IFNA(IF((INDEX(F1227:F1236,MATCH(\"Aa\",F1227:F1236,0)))=\"Aa\",\"A\",\"\"),_xlfn.IFNA(IF((INDEX(F1227:F1236,MATCH(\"A\",F1227:F1236,0)))=\"A\",\"A\",\"\"),_xlfn.IFNA(IF((INDEX(F1227:F1236,MATCH(\"n.a.\",F1227:F1236,0)))=\"n.a.\",\"\",\"\"),_xlfn.IFNA(IF((INDEX(F1227:F1236,MATCH(\"\",F1227:F1236,0)))=\"\",\"\",\"\"),\"\"))))))))))))","v":""},{"$f":"_xlfn.IFNA(IF((INDEX(G1227:G1236,MATCH(\"E\",G1227:G1236,0)))=\"E\",\"E\",\"\"),_xlfn.IFNA(IF((INDEX(G1227:G1236,MATCH(\"D\",G1227:G1236,0)))=\"D\",\"D\",\"\"),_xlfn.IFNA(IF((INDEX(G1227:G1236,MATCH(\"Ca\",G1227:G1236,0)))=\"Ca\",\"C\",\"\"),_xlfn.IFNA(IF((INDEX(G1227:G1236,MATCH(\"C\",G1227:G1236,0)))=\"C\",\"C\",\"\"),_xlfn.IFNA(IF((INDEX(G1227:G1236,MATCH(\"B\",G1227:G1236,0)))=\"B\",\"B\",\"\"),_xlfn.IFNA(IF((INDEX(G1227:G1236,MATCH(\"A\",G1227:G1236,0)))=\"A\",\"A\",\"\"),_xlfn.IFNA(IF((INDEX(G1227:G1236,MATCH(\"n.a.\",G1227:G1236,0)))=\"n.a.\",\"\",\"\"),_xlfn.IFNA(IF((INDEX(G1227:G1236,MATCH(\"\",G1227:G1236,0)))=\"\",\"\",\"\"),\"\"))))))))","v":""},{"$f":"_xlfn.IFNA(IF((INDEX(H1227:H1236,MATCH(\"E\",H1227:H1236,0)))=\"E\",\"E\",\"\"),_xlfn.IFNA(IF((INDEX(H1227:H1236,MATCH(\"D (E)c\",H1227:H1236,0)))=\"D (E)c\",\"D (E)c\",\"\"),_xlfn.IFNA(IF((INDEX(H1227:H1236,MATCH(\"Db (E)c\",H1227:H1236,0)))=\"Db (E)c\",\"D (E)c\",\"\"),_xlfn.IFNA(IF((INDEX(H1227:H1236,MATCH(\"D\",H1227:H1236,0)))=\"D\",\"D\",\"\"),_xlfn.IFNA(IF((INDEX(H1227:H1236,MATCH(\"Cb\",H1227:H1236,0)))=\"Cb\",\"C\",\"\"),_xlfn.IFNA(IF((INDEX(H1227:H1236,MATCH(\"C\",H1227:H1236,0)))=\"C\",\"C\",\"\"),_xlfn.IFNA(IF((INDEX(H1227:H1236,MATCH(\"Bb\",H1227:H1236,0)))=\"Bb\",\"B\",\"\"),_xlfn.IFNA(IF((INDEX(H1227:H1236,MATCH(\"B\",H1227:H1236,0)))=\"B\",\"B\",\"\"),_xlfn.IFNA(IF((INDEX(H1227:H1236,MATCH(\"Ab\",H1227:H1236,0)))=\"Ab\",\"A\",\"\"),_xlfn.IFNA(IF((INDEX(H1227:H1236,MATCH(\"A\",H1227:H1236,0)))=\"A\",\"A\",\"\"),_xlfn.IFNA(IF((INDEX(H1227:H1236,MATCH(\"n.a.\",H1227:H1236,0)))=\"n.a.\",\"\",\"\"),_xlfn.IFNA(IF((INDEX(H1227:H1236,MATCH(\"\",H1227:H1236,0)))=\"\",\"\",\"\"),\"\"))))))))))))","v":""}]
[null,"\nHighest hazard level for all 'Uptake Routes' \n",null,null,{"$f":"_xlfn.IFNA(IF((INDEX(E1237:H1237,MATCH(\"E\",E1237:H1237,0)))=\"E\",\"E\",\"\"),_xlfn.IFNA(IF((INDEX(E1237:H1237,MATCH(\"D (E)c\",E1237:H1237,0)))=\"D (E)c\",\"D (E)\",\"\"),_xlfn.IFNA(IF((INDEX(E1237:H1237,MATCH(\"D\",E1237:H1237,0)))=\"D\",\"D\",\"\"),_xlfn.IFNA(IF((INDEX(E1237:H1237,MATCH(\"C\",E1237:H1237,0)))=\"C\",\"C\",\"\"),_xlfn.IFNA(IF((INDEX(E1237:H1237,MATCH(\"B\",E1237:H1237,0)))=\"B\",\"B\",\"\"),_xlfn.IFNA(IF((INDEX(E1237:H1237,MATCH(\"A\",E1237:H1237,0)))=\"A\",\"A\",\"\"),_xlfn.IFNA(IF((INDEX(E1237:H1237,MATCH(\"n.a.\",E1237:H1237,0)))=\"n.a.\",\"\",\"\"),_xlfn.IFNA(IF((INDEX(E1237:H1237,MATCH(\"\",E1237:H1237,0)))=\"\",\"\",\"\"),\"\"))))))))","v":""}]
[]
[]
[null,"\nStep 3: D(E) Assessment\nSkip this step if \nyour assessment above does not reveal a D(E) hazard level.\nHover over this cell for additional instructions.\n",null,null,"\nOverall hazard level\n",null,{"$f":"IF(AND(E1238=\"\",C1224=\"Yes\")=TRUE,\"B\",IF(E1238=\"\",\"\",(IF(AND(E1238=\"D (E)\",C1241=\"\"),\"D (E)\"&CHAR(10)&\"Find if cat. 1 acute tox.\",(IF(E1238<>\"D (E)\",E1238,(IF(AND(E1238=\"D (E)\",C1241=\"Yes\"),\"E\",(IF(AND(E1238=\"D (E)\",C1241=\"No\"),\"D\",\"\"))))))))))","v":""}]
[]
[{"$f":"IF(IF(MOD(ROWS(B$3:B1243),20)=1,INDEX('Summary Sheet'!$A$17:$A1295,INT(ROWS(B$3:B1243)/20)+1),\"\")=0,\"\",IF(MOD(ROWS(B$3:B1243),20)=1,INDEX('Summary Sheet'!$A$17:$A1295,INT(ROWS(B$3:B1243)/20)+1),\"\"))","v":63},"Hazard Level Assessment","for",{"$f":"IF(IF(MOD(ROWS(D$3:D1243),20)=1,INDEX('Summary Sheet'!$B$17:$B1295,INT(ROWS(D$3:D1243)/20)+1),\"\")=0,\"\",IF(MOD(ROWS(D$3:D1243),20)=1,INDEX('Summary Sheet'!$B$17:$B1295,INT(ROWS(D$3:D1243)/20)+1),\"\"))","v":""}]
[null,"\nStep 1: Physical & Environmental Hazard Statements/Codes\nFind Section 2 of the SDS and determine if the SDS has physical and/or environmental hazard statements/codes. Hover on this cell for additional instructions.\n",null,{"$f":"IF(IF(MOD(ROWS(D$3:D1244),20)=1,INDEX('Summary Sheet'!$B$17:$B1295,INT(ROWS(D$3:D1244)/20)+1),\"\")=0,\"\",IF(MOD(ROWS(D$3:D1244),20)=1,INDEX('Summary Sheet'!$B$17:$B1295,INT(ROWS(D$3:D1244)/20)+1),\"\"))","v":""}]
[null,"Step 2: Health Hazard Statements/Codes\nProvide the Health Hazard Statements or Codes from Section 2 of the SDS below. Hover on this cell for additional instructions.",null,{"$f":"IF(IF(MOD(ROWS(D$3:D1245),20)=1,INDEX('Summary Sheet'!$B$17:$B1295,INT(ROWS(D$3:D1245)/20)+1),\"\")=0,\"\",IF(MOD(ROWS(D$3:D1245),20)=1,INDEX('Summary Sheet'!$B$17:$B1295,INT(ROWS(D$3:D1245)/20)+1),\"\"))","v":""},"\nHazard Level\n"]
[null,null,null,{"$f":"IF(IF(MOD(ROWS(D$3:D1246),20)=1,INDEX('Summary Sheet'!$B$17:$B1295,INT(ROWS(D$3:D1246)/20)+1),\"\")=0,\"\",IF(MOD(ROWS(D$3:D1246),20)=1,INDEX('Summary Sheet'!$B$17:$B1295,INT(ROWS(D$3:D1246)/20)+1),\"\"))","v":""},"\nEye Damage\n","\nInhalation\n","\nLocal Skin Damage\n","\nSkin uptake, systemic\n"]
[1,null,{"$f":"_xlfn.IFNA(VLOOKUP(B1247,_!$A$7:$F$210,6,FALSE),\"\")","v":""},{"$f":"IF(IF(MOD(ROWS(D$3:D1247),20)=1,INDEX('Summary Sheet'!$B$17:$B1295,INT(ROWS(D$3:D1247)/20)+1),\"\")=0,\"\",IF(MOD(ROWS(D$3:D1247),20)=1,INDEX('Summary Sheet'!$B$17:$B1295,INT(ROWS(D$3:D1247)/20)+1),\"\"))","v":""},{"$f":"_xlfn.IFNA(IF(VLOOKUP(B1247,_!$A$7:$E$210,2,FALSE)=0, \"\", VLOOKUP(B1247,_!$A$7:$E$210,2,FALSE)),  \"\")","v":""},{"$f":"_xlfn.IFNA(IF(VLOOKUP(B1247,_!$A$7:$E$210,3,FALSE)=0, \"\", VLOOKUP(B1247,_!$A$7:$E$210,3,FALSE)), \"\")","v":""},{"$f":"_xlfn.IFNA(IF(VLOOKUP(B1247,_!$A$7:$E$210,4,FALSE)=0, \"\",VLOOKUP(B1247,_!$A$7:$E$210,4,FALSE)), \"\")","v":""},{"$f":"_xlfn.IFNA(IF(VLOOKUP(B1247,_!$A$7:$E$210,5,FALSE)=0,\"\",VLOOKUP(B1247,_!$A$7:$E$210,5,FALSE)), \"\")","v":""}]
[2,null,{"$f":"_xlfn.IFNA(VLOOKUP(B1248,_!$A$7:$F$210,6,FALSE),\"\")","v":""},{"$f":"IF(IF(MOD(ROWS(D$3:D1248),20)=1,INDEX('Summary Sheet'!$B$17:$B1295,INT(ROWS(D$3:D1248)/20)+1),\"\")=0,\"\",IF(MOD(ROWS(D$3:D1248),20)=1,INDEX('Summary Sheet'!$B$17:$B1295,INT(ROWS(D$3:D1248)/20)+1),\"\"))","v":""},{"$f":"_xlfn.IFNA(IF(VLOOKUP(B1248,_!$A$7:$E$210,2,FALSE)=0, \"\", VLOOKUP(B1248,_!$A$7:$E$210,2,FALSE)),  \"\")","v":""},{"$f":"_xlfn.IFNA(IF(VLOOKUP(B1248,_!$A$7:$E$210,3,FALSE)=0, \"\", VLOOKUP(B1248,_!$A$7:$E$210,3,FALSE)), \"\")","v":""},{"$f":"_xlfn.IFNA(IF(VLOOKUP(B1248,_!$A$7:$E$210,4,FALSE)=0, \"\",VLOOKUP(B1248,_!$A$7:$E$210,4,FALSE)), \"\")","v":""},{"$f":"_xlfn.IFNA(IF(VLOOKUP(B1248,_!$A$7:$E$210,5,FALSE)=0,\"\",VLOOKUP(B1248,_!$A$7:$E$210,5,FALSE)), \"\")","v":""}]
[3,null,{"$f":"_xlfn.IFNA(VLOOKUP(B1249,_!$A$7:$F$210,6,FALSE),\"\")","v":""},{"$f":"IF(IF(MOD(ROWS(D$3:D1249),20)=1,INDEX('Summary Sheet'!$B$17:$B1295,INT(ROWS(D$3:D1249)/20)+1),\"\")=0,\"\",IF(MOD(ROWS(D$3:D1249),20)=1,INDEX('Summary Sheet'!$B$17:$B1295,INT(ROWS(D$3:D1249)/20)+1),\"\"))","v":""},{"$f":"_xlfn.IFNA(IF(VLOOKUP(B1249,_!$A$7:$E$210,2,FALSE)=0, \"\", VLOOKUP(B1249,_!$A$7:$E$210,2,FALSE)),  \"\")","v":""},{"$f":"_xlfn.IFNA(IF(VLOOKUP(B1249,_!$A$7:$E$210,3,FALSE)=0, \"\", VLOOKUP(B1249,_!$A$7:$E$210,3,FALSE)), \"\")","v":""},{"$f":"_xlfn.IFNA(IF(VLOOKUP(B1249,_!$A$7:$E$210,4,FALSE)=0, \"\",VLOOKUP(B1249,_!$A$7:$E$210,4,FALSE)), \"\")","v":""},{"$f":"_xlfn.IFNA(IF(VLOOKUP(B1249,_!$A$7:$E$210,5,FALSE)=0,\"\",VLOOKUP(B1249,_!$A$7:$E$210,5,FALSE)), \"\")","v":""}]
[4,null,{"$f":"_xlfn.IFNA(VLOOKUP(B1250,_!$A$7:$F$210,6,FALSE),\"\")","v":""},{"$f":"IF(IF(MOD(ROWS(D$3:D1250),20)=1,INDEX('Summary Sheet'!$B$17:$B1295,INT(ROWS(D$3:D1250)/20)+1),\"\")=0,\"\",IF(MOD(ROWS(D$3:D1250),20)=1,INDEX('Summary Sheet'!$B$17:$B1295,INT(ROWS(D$3:D1250)/20)+1),\"\"))","v":""},{"$f":"_xlfn.IFNA(IF(VLOOKUP(B1250,_!$A$7:$E$210,2,FALSE)=0, \"\", VLOOKUP(B1250,_!$A$7:$E$210,2,FALSE)),  \"\")","v":""},{"$f":"_xlfn.IFNA(IF(VLOOKUP(B1250,_!$A$7:$E$210,3,FALSE)=0, \"\", VLOOKUP(B1250,_!$A$7:$E$210,3,FALSE)), \"\")","v":""},{"$f":"_xlfn.IFNA(IF(VLOOKUP(B1250,_!$A$7:$E$210,4,FALSE)=0, \"\",VLOOKUP(B1250,_!$A$7:$E$210,4,FALSE)), \"\")","v":""},{"$f":"_xlfn.IFNA(IF(VLOOKUP(B1250,_!$A$7:$E$210,5,FALSE)=0,\"\",VLOOKUP(B1250,_!$A$7:$E$210,5,FALSE)), \"\")","v":""}]
[5,null,{"$f":"_xlfn.IFNA(VLOOKUP(B1251,_!$A$7:$F$210,6,FALSE),\"\")","v":""},{"$f":"IF(IF(MOD(ROWS(D$3:D1251),20)=1,INDEX('Summary Sheet'!$B$17:$B1295,INT(ROWS(D$3:D1251)/20)+1),\"\")=0,\"\",IF(MOD(ROWS(D$3:D1251),20)=1,INDEX('Summary Sheet'!$B$17:$B1295,INT(ROWS(D$3:D1251)/20)+1),\"\"))","v":""},{"$f":"_xlfn.IFNA(IF(VLOOKUP(B1251,_!$A$7:$E$210,2,FALSE)=0, \"\", VLOOKUP(B1251,_!$A$7:$E$210,2,FALSE)),  \"\")","v":""},{"$f":"_xlfn.IFNA(IF(VLOOKUP(B1251,_!$A$7:$E$210,3,FALSE)=0, \"\", VLOOKUP(B1251,_!$A$7:$E$210,3,FALSE)), \"\")","v":""},{"$f":"_xlfn.IFNA(IF(VLOOKUP(B1251,_!$A$7:$E$210,4,FALSE)=0, \"\",VLOOKUP(B1251,_!$A$7:$E$210,4,FALSE)), \"\")","v":""},{"$f":"_xlfn.IFNA(IF(VLOOKUP(B1251,_!$A$7:$E$210,5,FALSE)=0,\"\",VLOOKUP(B1251,_!$A$7:$E$210,5,FALSE)), \"\")","v":""}]
[6,null,{"$f":"_xlfn.IFNA(VLOOKUP(B1252,_!$A$7:$F$210,6,FALSE),\"\")","v":""},{"$f":"IF(IF(MOD(ROWS(D$3:D1252),20)=1,INDEX('Summary Sheet'!$B$17:$B1295,INT(ROWS(D$3:D1252)/20)+1),\"\")=0,\"\",IF(MOD(ROWS(D$3:D1252),20)=1,INDEX('Summary Sheet'!$B$17:$B1295,INT(ROWS(D$3:D1252)/20)+1),\"\"))","v":""},{"$f":"_xlfn.IFNA(IF(VLOOKUP(B1252,_!$A$7:$E$210,2,FALSE)=0, \"\", VLOOKUP(B1252,_!$A$7:$E$210,2,FALSE)),  \"\")","v":""},{"$f":"_xlfn.IFNA(IF(VLOOKUP(B1252,_!$A$7:$E$210,3,FALSE)=0, \"\", VLOOKUP(B1252,_!$A$7:$E$210,3,FALSE)), \"\")","v":""},{"$f":"_xlfn.IFNA(IF(VLOOKUP(B1252,_!$A$7:$E$210,4,FALSE)=0, \"\",VLOOKUP(B1252,_!$A$7:$E$210,4,FALSE)), \"\")","v":""},{"$f":"_xlfn.IFNA(IF(VLOOKUP(B1252,_!$A$7:$E$210,5,FALSE)=0,\"\",VLOOKUP(B1252,_!$A$7:$E$210,5,FALSE)), \"\")","v":""}]
[7,null,{"$f":"_xlfn.IFNA(VLOOKUP(B1253,_!$A$7:$F$210,6,FALSE),\"\")","v":""},{"$f":"IF(IF(MOD(ROWS(D$3:D1253),20)=1,INDEX('Summary Sheet'!$B$17:$B1295,INT(ROWS(D$3:D1253)/20)+1),\"\")=0,\"\",IF(MOD(ROWS(D$3:D1253),20)=1,INDEX('Summary Sheet'!$B$17:$B1295,INT(ROWS(D$3:D1253)/20)+1),\"\"))","v":""},{"$f":"_xlfn.IFNA(IF(VLOOKUP(B1253,_!$A$7:$E$210,2,FALSE)=0, \"\", VLOOKUP(B1253,_!$A$7:$E$210,2,FALSE)),  \"\")","v":""},{"$f":"_xlfn.IFNA(IF(VLOOKUP(B1253,_!$A$7:$E$210,3,FALSE)=0, \"\", VLOOKUP(B1253,_!$A$7:$E$210,3,FALSE)), \"\")","v":""},{"$f":"_xlfn.IFNA(IF(VLOOKUP(B1253,_!$A$7:$E$210,4,FALSE)=0, \"\",VLOOKUP(B1253,_!$A$7:$E$210,4,FALSE)), \"\")","v":""},{"$f":"_xlfn.IFNA(IF(VLOOKUP(B1253,_!$A$7:$E$210,5,FALSE)=0,\"\",VLOOKUP(B1253,_!$A$7:$E$210,5,FALSE)), \"\")","v":""}]
[8,null,{"$f":"_xlfn.IFNA(VLOOKUP(B1254,_!$A$7:$F$210,6,FALSE),\"\")","v":""},{"$f":"IF(IF(MOD(ROWS(D$3:D1254),20)=1,INDEX('Summary Sheet'!$B$17:$B1295,INT(ROWS(D$3:D1254)/20)+1),\"\")=0,\"\",IF(MOD(ROWS(D$3:D1254),20)=1,INDEX('Summary Sheet'!$B$17:$B1295,INT(ROWS(D$3:D1254)/20)+1),\"\"))","v":""},{"$f":"_xlfn.IFNA(IF(VLOOKUP(B1254,_!$A$7:$E$210,2,FALSE)=0, \"\", VLOOKUP(B1254,_!$A$7:$E$210,2,FALSE)),  \"\")","v":""},{"$f":"_xlfn.IFNA(IF(VLOOKUP(B1254,_!$A$7:$E$210,3,FALSE)=0, \"\", VLOOKUP(B1254,_!$A$7:$E$210,3,FALSE)), \"\")","v":""},{"$f":"_xlfn.IFNA(IF(VLOOKUP(B1254,_!$A$7:$E$210,4,FALSE)=0, \"\",VLOOKUP(B1254,_!$A$7:$E$210,4,FALSE)), \"\")","v":""},{"$f":"_xlfn.IFNA(IF(VLOOKUP(B1254,_!$A$7:$E$210,5,FALSE)=0,\"\",VLOOKUP(B1254,_!$A$7:$E$210,5,FALSE)), \"\")","v":""}]
[9,null,{"$f":"_xlfn.IFNA(VLOOKUP(B1255,_!$A$7:$F$210,6,FALSE),\"\")","v":""},{"$f":"IF(IF(MOD(ROWS(D$3:D1255),20)=1,INDEX('Summary Sheet'!$B$17:$B1295,INT(ROWS(D$3:D1255)/20)+1),\"\")=0,\"\",IF(MOD(ROWS(D$3:D1255),20)=1,INDEX('Summary Sheet'!$B$17:$B1295,INT(ROWS(D$3:D1255)/20)+1),\"\"))","v":""},{"$f":"_xlfn.IFNA(IF(VLOOKUP(B1255,_!$A$7:$E$210,2,FALSE)=0, \"\", VLOOKUP(B1255,_!$A$7:$E$210,2,FALSE)),  \"\")","v":""},{"$f":"_xlfn.IFNA(IF(VLOOKUP(B1255,_!$A$7:$E$210,3,FALSE)=0, \"\", VLOOKUP(B1255,_!$A$7:$E$210,3,FALSE)), \"\")","v":""},{"$f":"_xlfn.IFNA(IF(VLOOKUP(B1255,_!$A$7:$E$210,4,FALSE)=0, \"\",VLOOKUP(B1255,_!$A$7:$E$210,4,FALSE)), \"\")","v":""},{"$f":"_xlfn.IFNA(IF(VLOOKUP(B1255,_!$A$7:$E$210,5,FALSE)=0,\"\",VLOOKUP(B1255,_!$A$7:$E$210,5,FALSE)), \"\")","v":""}]
[10,null,{"$f":"_xlfn.IFNA(VLOOKUP(B1256,_!$A$7:$F$210,6,FALSE),\"\")","v":""},{"$f":"IF(IF(MOD(ROWS(D$14:D1256),20)=1,INDEX('Summary Sheet'!$B$17:$B1295,INT(ROWS(D$14:D1256)/20)+1),\"\")=0,\"\",IF(MOD(ROWS(D$14:D1256),20)=1,INDEX('Summary Sheet'!$B$17:$B1295,INT(ROWS(D$14:D1256)/20)+1),\"\"))","v":""},{"$f":"_xlfn.IFNA(IF(VLOOKUP(B1256,_!$A$7:$E$210,2,FALSE)=0, \"\", VLOOKUP(B1256,_!$A$7:$E$210,2,FALSE)),  \"\")","v":""},{"$f":"_xlfn.IFNA(IF(VLOOKUP(B1256,_!$A$7:$E$210,3,FALSE)=0, \"\", VLOOKUP(B1256,_!$A$7:$E$210,3,FALSE)), \"\")","v":""},{"$f":"_xlfn.IFNA(IF(VLOOKUP(B1256,_!$A$7:$E$210,4,FALSE)=0, \"\",VLOOKUP(B1256,_!$A$7:$E$210,4,FALSE)), \"\")","v":""},{"$f":"_xlfn.IFNA(IF(VLOOKUP(B1256,_!$A$7:$E$210,5,FALSE)=0,\"\",VLOOKUP(B1256,_!$A$7:$E$210,5,FALSE)), \"\")","v":""}]
[null,"\nHighest hazard level for each ‘Uptake Route’\n",null,null,{"$f":"_xlfn.IFNA(IF((INDEX(E1247:E1256,MATCH(\"E\",E1247:E1256,0)))=\"E\",\"E\",\"\"),_xlfn.IFNA(IF((INDEX(E1247:E1256,MATCH(\"D\",E1247:E1256,0)))=\"D\",\"D\",\"\"),_xlfn.IFNA(IF((INDEX(E1247:E1256,MATCH(\"Ca\",E1247:E1256,0)))=\"Ca\",\"C\",\"\"),_xlfn.IFNA(IF((INDEX(E1247:E1256,MATCH(\"C\",E1247:E1256,0)))=\"C\",\"C\",\"\"),_xlfn.IFNA(IF((INDEX(E1247:E1256,MATCH(\"B\",E1247:E1256,0)))=\"B\",\"B\",\"\"),_xlfn.IFNA(IF((INDEX(E1247:E1256,MATCH(\"A\",E1247:E1256,0)))=\"A\",\"A\",\"\"),_xlfn.IFNA(IF((INDEX(E1247:E1256,MATCH(\"n.a.\",E1247:E1256,0)))=\"n.a.\",\"\",\"\"),_xlfn.IFNA(IF((INDEX(E1247:E1256,MATCH(\"\",E1247:E1256,0)))=\"\",\"\",\"\"),\"\"))))))))","v":""},{"$f":"_xlfn.IFNA(IF((INDEX(F1247:F1256,MATCH(\"E\",F1247:F1256,0)))=\"E\",\"E\",\"\"),_xlfn.IFNA(IF((INDEX(F1247:F1256,MATCH(\"D (E)c\",F1247:F1256,0)))=\"D (E)c\",\"D (E)c\",\"\"),_xlfn.IFNA(IF((INDEX(F1247:F1256,MATCH(\"Da (E)c\",F1247:F1256,0)))=\"Da (E)c\",\"D (E)c\",\"\"),_xlfn.IFNA(IF((INDEX(F1247:F1256,MATCH(\"D\",F1247:F1256,0)))=\"D\",\"D\",\"\"),_xlfn.IFNA(IF((INDEX(F1247:F1256,MATCH(\"Ca\",F1247:F1256,0)))=\"Ca\",\"C\",\"\"),_xlfn.IFNA(IF((INDEX(F1247:F1256,MATCH(\"C\",F1247:F1256,0)))=\"C\",\"C\",\"\"),_xlfn.IFNA(IF((INDEX(F1247:F1256,MATCH(\"Ba\",F1247:F1256,0)))=\"Ba\",\"B\",\"\"),_xlfn.IFNA(IF((INDEX(F1247:F1256,MATCH(\"B\",F1247:F1256,0)))=\"B\",\"B\",\"\"),_xlfn.IFNA(IF((INDEX(F1247:F1256,MATCH(\"Aa\",F1247:F1256,0)))=\"Aa\",\"A\",\"\"),_xlfn.IFNA(IF((INDEX(F1247:F1256,MATCH(\"A\",F1247:F1256,0)))=\"A\",\"A\",\"\"),_xlfn.IFNA(IF((INDEX(F1247:F1256,MATCH(\"n.a.\",F1247:F1256,0)))=\"n.a.\",\"\",\"\"),_xlfn.IFNA(IF((INDEX(F1247:F1256,MATCH(\"\",F1247:F1256,0)))=\"\",\"\",\"\"),\"\"))))))))))))","v":""},{"$f":"_xlfn.IFNA(IF((INDEX(G1247:G1256,MATCH(\"E\",G1247:G1256,0)))=\"E\",\"E\",\"\"),_xlfn.IFNA(IF((INDEX(G1247:G1256,MATCH(\"D\",G1247:G1256,0)))=\"D\",\"D\",\"\"),_xlfn.IFNA(IF((INDEX(G1247:G1256,MATCH(\"Ca\",G1247:G1256,0)))=\"Ca\",\"C\",\"\"),_xlfn.IFNA(IF((INDEX(G1247:G1256,MATCH(\"C\",G1247:G1256,0)))=\"C\",\"C\",\"\"),_xlfn.IFNA(IF((INDEX(G1247:G1256,MATCH(\"B\",G1247:G1256,0)))=\"B\",\"B\",\"\"),_xlfn.IFNA(IF((INDEX(G1247:G1256,MATCH(\"A\",G1247:G1256,0)))=\"A\",\"A\",\"\"),_xlfn.IFNA(IF((INDEX(G1247:G1256,MATCH(\"n.a.\",G1247:G1256,0)))=\"n.a.\",\"\",\"\"),_xlfn.IFNA(IF((INDEX(G1247:G1256,MATCH(\"\",G1247:G1256,0)))=\"\",\"\",\"\"),\"\"))))))))","v":""},{"$f":"_xlfn.IFNA(IF((INDEX(H1247:H1256,MATCH(\"E\",H1247:H1256,0)))=\"E\",\"E\",\"\"),_xlfn.IFNA(IF((INDEX(H1247:H1256,MATCH(\"D (E)c\",H1247:H1256,0)))=\"D (E)c\",\"D (E)c\",\"\"),_xlfn.IFNA(IF((INDEX(H1247:H1256,MATCH(\"Db (E)c\",H1247:H1256,0)))=\"Db (E)c\",\"D (E)c\",\"\"),_xlfn.IFNA(IF((INDEX(H1247:H1256,MATCH(\"D\",H1247:H1256,0)))=\"D\",\"D\",\"\"),_xlfn.IFNA(IF((INDEX(H1247:H1256,MATCH(\"Cb\",H1247:H1256,0)))=\"Cb\",\"C\",\"\"),_xlfn.IFNA(IF((INDEX(H1247:H1256,MATCH(\"C\",H1247:H1256,0)))=\"C\",\"C\",\"\"),_xlfn.IFNA(IF((INDEX(H1247:H1256,MATCH(\"Bb\",H1247:H1256,0)))=\"Bb\",\"B\",\"\"),_xlfn.IFNA(IF((INDEX(H1247:H1256,MATCH(\"B\",H1247:H1256,0)))=\"B\",\"B\",\"\"),_xlfn.IFNA(IF((INDEX(H1247:H1256,MATCH(\"Ab\",H1247:H1256,0)))=\"Ab\",\"A\",\"\"),_xlfn.IFNA(IF((INDEX(H1247:H1256,MATCH(\"A\",H1247:H1256,0)))=\"A\",\"A\",\"\"),_xlfn.IFNA(IF((INDEX(H1247:H1256,MATCH(\"n.a.\",H1247:H1256,0)))=\"n.a.\",\"\",\"\"),_xlfn.IFNA(IF((INDEX(H1247:H1256,MATCH(\"\",H1247:H1256,0)))=\"\",\"\",\"\"),\"\"))))))))))))","v":""}]
[null,"\nHighest hazard level for all 'Uptake Routes' \n",null,null,{"$f":"_xlfn.IFNA(IF((INDEX(E1257:H1257,MATCH(\"E\",E1257:H1257,0)))=\"E\",\"E\",\"\"),_xlfn.IFNA(IF((INDEX(E1257:H1257,MATCH(\"D (E)c\",E1257:H1257,0)))=\"D (E)c\",\"D (E)\",\"\"),_xlfn.IFNA(IF((INDEX(E1257:H1257,MATCH(\"D\",E1257:H1257,0)))=\"D\",\"D\",\"\"),_xlfn.IFNA(IF((INDEX(E1257:H1257,MATCH(\"C\",E1257:H1257,0)))=\"C\",\"C\",\"\"),_xlfn.IFNA(IF((INDEX(E1257:H1257,MATCH(\"B\",E1257:H1257,0)))=\"B\",\"B\",\"\"),_xlfn.IFNA(IF((INDEX(E1257:H1257,MATCH(\"A\",E1257:H1257,0)))=\"A\",\"A\",\"\"),_xlfn.IFNA(IF((INDEX(E1257:H1257,MATCH(\"n.a.\",E1257:H1257,0)))=\"n.a.\",\"\",\"\"),_xlfn.IFNA(IF((INDEX(E1257:H1257,MATCH(\"\",E1257:H1257,0)))=\"\",\"\",\"\"),\"\"))))))))","v":""}]
[]
[]
[null,"\nStep 3: D(E) Assessment\nSkip this step if \nyour assessment above does not reveal a D(E) hazard level.\nHover over this cell for additional instructions.\n",null,null,"\nOverall hazard level\n",null,{"$f":"IF(AND(E1258=\"\",C1244=\"Yes\")=TRUE,\"B\",IF(E1258=\"\",\"\",(IF(AND(E1258=\"D (E)\",C1261=\"\"),\"D (E)\"&CHAR(10)&\"Find if cat. 1 acute tox.\",(IF(E1258<>\"D (E)\",E1258,(IF(AND(E1258=\"D (E)\",C1261=\"Yes\"),\"E\",(IF(AND(E1258=\"D (E)\",C1261=\"No\"),\"D\",\"\"))))))))))","v":""}]
[]
[{"$f":"IF(IF(MOD(ROWS(B$3:B1263),20)=1,INDEX('Summary Sheet'!$A$17:$A1314,INT(ROWS(B$3:B1263)/20)+1),\"\")=0,\"\",IF(MOD(ROWS(B$3:B1263),20)=1,INDEX('Summary Sheet'!$A$17:$A1314,INT(ROWS(B$3:B1263)/20)+1),\"\"))","v":64},"Hazard Level Assessment","for",{"$f":"IF(IF(MOD(ROWS(D$3:D1263),20)=1,INDEX('Summary Sheet'!$B$17:$B1314,INT(ROWS(D$3:D1263)/20)+1),\"\")=0,\"\",IF(MOD(ROWS(D$3:D1263),20)=1,INDEX('Summary Sheet'!$B$17:$B1314,INT(ROWS(D$3:D1263)/20)+1),\"\"))","v":""}]
[null,"\nStep 1: Physical & Environmental Hazard Statements/Codes\nFind Section 2 of the SDS and determine if the SDS has physical and/or environmental hazard statements/codes. Hover on this cell for additional instructions.\n",null,{"$f":"IF(IF(MOD(ROWS(D$3:D1264),20)=1,INDEX('Summary Sheet'!$B$17:$B1314,INT(ROWS(D$3:D1264)/20)+1),\"\")=0,\"\",IF(MOD(ROWS(D$3:D1264),20)=1,INDEX('Summary Sheet'!$B$17:$B1314,INT(ROWS(D$3:D1264)/20)+1),\"\"))","v":""}]
[null,"Step 2: Health Hazard Statements/Codes\nProvide the Health Hazard Statements or Codes from Section 2 of the SDS below. Hover on this cell for additional instructions.",null,{"$f":"IF(IF(MOD(ROWS(D$3:D1265),20)=1,INDEX('Summary Sheet'!$B$17:$B1314,INT(ROWS(D$3:D1265)/20)+1),\"\")=0,\"\",IF(MOD(ROWS(D$3:D1265),20)=1,INDEX('Summary Sheet'!$B$17:$B1314,INT(ROWS(D$3:D1265)/20)+1),\"\"))","v":""},"\nHazard Level\n"]
[null,null,null,{"$f":"IF(IF(MOD(ROWS(D$3:D1266),20)=1,INDEX('Summary Sheet'!$B$17:$B1314,INT(ROWS(D$3:D1266)/20)+1),\"\")=0,\"\",IF(MOD(ROWS(D$3:D1266),20)=1,INDEX('Summary Sheet'!$B$17:$B1314,INT(ROWS(D$3:D1266)/20)+1),\"\"))","v":""},"\nEye Damage\n","\nInhalation\n","\nLocal Skin Damage\n","\nSkin uptake, systemic\n"]
[1,null,{"$f":"_xlfn.IFNA(VLOOKUP(B1267,_!$A$7:$F$210,6,FALSE),\"\")","v":""},{"$f":"IF(IF(MOD(ROWS(D$3:D1267),20)=1,INDEX('Summary Sheet'!$B$17:$B1314,INT(ROWS(D$3:D1267)/20)+1),\"\")=0,\"\",IF(MOD(ROWS(D$3:D1267),20)=1,INDEX('Summary Sheet'!$B$17:$B1314,INT(ROWS(D$3:D1267)/20)+1),\"\"))","v":""},{"$f":"_xlfn.IFNA(IF(VLOOKUP(B1267,_!$A$7:$E$210,2,FALSE)=0, \"\", VLOOKUP(B1267,_!$A$7:$E$210,2,FALSE)),  \"\")","v":""},{"$f":"_xlfn.IFNA(IF(VLOOKUP(B1267,_!$A$7:$E$210,3,FALSE)=0, \"\", VLOOKUP(B1267,_!$A$7:$E$210,3,FALSE)), \"\")","v":""},{"$f":"_xlfn.IFNA(IF(VLOOKUP(B1267,_!$A$7:$E$210,4,FALSE)=0, \"\",VLOOKUP(B1267,_!$A$7:$E$210,4,FALSE)), \"\")","v":""},{"$f":"_xlfn.IFNA(IF(VLOOKUP(B1267,_!$A$7:$E$210,5,FALSE)=0,\"\",VLOOKUP(B1267,_!$A$7:$E$210,5,FALSE)), \"\")","v":""}]
[2,null,{"$f":"_xlfn.IFNA(VLOOKUP(B1268,_!$A$7:$F$210,6,FALSE),\"\")","v":""},{"$f":"IF(IF(MOD(ROWS(D$3:D1268),20)=1,INDEX('Summary Sheet'!$B$17:$B1314,INT(ROWS(D$3:D1268)/20)+1),\"\")=0,\"\",IF(MOD(ROWS(D$3:D1268),20)=1,INDEX('Summary Sheet'!$B$17:$B1314,INT(ROWS(D$3:D1268)/20)+1),\"\"))","v":""},{"$f":"_xlfn.IFNA(IF(VLOOKUP(B1268,_!$A$7:$E$210,2,FALSE)=0, \"\", VLOOKUP(B1268,_!$A$7:$E$210,2,FALSE)),  \"\")","v":""},{"$f":"_xlfn.IFNA(IF(VLOOKUP(B1268,_!$A$7:$E$210,3,FALSE)=0, \"\", VLOOKUP(B1268,_!$A$7:$E$210,3,FALSE)), \"\")","v":""},{"$f":"_xlfn.IFNA(IF(VLOOKUP(B1268,_!$A$7:$E$210,4,FALSE)=0, \"\",VLOOKUP(B1268,_!$A$7:$E$210,4,FALSE)), \"\")","v":""},{"$f":"_xlfn.IFNA(IF(VLOOKUP(B1268,_!$A$7:$E$210,5,FALSE)=0,\"\",VLOOKUP(B1268,_!$A$7:$E$210,5,FALSE)), \"\")","v":""}]
[3,null,{"$f":"_xlfn.IFNA(VLOOKUP(B1269,_!$A$7:$F$210,6,FALSE),\"\")","v":""},{"$f":"IF(IF(MOD(ROWS(D$3:D1269),20)=1,INDEX('Summary Sheet'!$B$17:$B1314,INT(ROWS(D$3:D1269)/20)+1),\"\")=0,\"\",IF(MOD(ROWS(D$3:D1269),20)=1,INDEX('Summary Sheet'!$B$17:$B1314,INT(ROWS(D$3:D1269)/20)+1),\"\"))","v":""},{"$f":"_xlfn.IFNA(IF(VLOOKUP(B1269,_!$A$7:$E$210,2,FALSE)=0, \"\", VLOOKUP(B1269,_!$A$7:$E$210,2,FALSE)),  \"\")","v":""},{"$f":"_xlfn.IFNA(IF(VLOOKUP(B1269,_!$A$7:$E$210,3,FALSE)=0, \"\", VLOOKUP(B1269,_!$A$7:$E$210,3,FALSE)), \"\")","v":""},{"$f":"_xlfn.IFNA(IF(VLOOKUP(B1269,_!$A$7:$E$210,4,FALSE)=0, \"\",VLOOKUP(B1269,_!$A$7:$E$210,4,FALSE)), \"\")","v":""},{"$f":"_xlfn.IFNA(IF(VLOOKUP(B1269,_!$A$7:$E$210,5,FALSE)=0,\"\",VLOOKUP(B1269,_!$A$7:$E$210,5,FALSE)), \"\")","v":""}]
[4,null,{"$f":"_xlfn.IFNA(VLOOKUP(B1270,_!$A$7:$F$210,6,FALSE),\"\")","v":""},{"$f":"IF(IF(MOD(ROWS(D$3:D1270),20)=1,INDEX('Summary Sheet'!$B$17:$B1314,INT(ROWS(D$3:D1270)/20)+1),\"\")=0,\"\",IF(MOD(ROWS(D$3:D1270),20)=1,INDEX('Summary Sheet'!$B$17:$B1314,INT(ROWS(D$3:D1270)/20)+1),\"\"))","v":""},{"$f":"_xlfn.IFNA(IF(VLOOKUP(B1270,_!$A$7:$E$210,2,FALSE)=0, \"\", VLOOKUP(B1270,_!$A$7:$E$210,2,FALSE)),  \"\")","v":""},{"$f":"_xlfn.IFNA(IF(VLOOKUP(B1270,_!$A$7:$E$210,3,FALSE)=0, \"\", VLOOKUP(B1270,_!$A$7:$E$210,3,FALSE)), \"\")","v":""},{"$f":"_xlfn.IFNA(IF(VLOOKUP(B1270,_!$A$7:$E$210,4,FALSE)=0, \"\",VLOOKUP(B1270,_!$A$7:$E$210,4,FALSE)), \"\")","v":""},{"$f":"_xlfn.IFNA(IF(VLOOKUP(B1270,_!$A$7:$E$210,5,FALSE)=0,\"\",VLOOKUP(B1270,_!$A$7:$E$210,5,FALSE)), \"\")","v":""}]
[5,null,{"$f":"_xlfn.IFNA(VLOOKUP(B1271,_!$A$7:$F$210,6,FALSE),\"\")","v":""},{"$f":"IF(IF(MOD(ROWS(D$3:D1271),20)=1,INDEX('Summary Sheet'!$B$17:$B1314,INT(ROWS(D$3:D1271)/20)+1),\"\")=0,\"\",IF(MOD(ROWS(D$3:D1271),20)=1,INDEX('Summary Sheet'!$B$17:$B1314,INT(ROWS(D$3:D1271)/20)+1),\"\"))","v":""},{"$f":"_xlfn.IFNA(IF(VLOOKUP(B1271,_!$A$7:$E$210,2,FALSE)=0, \"\", VLOOKUP(B1271,_!$A$7:$E$210,2,FALSE)),  \"\")","v":""},{"$f":"_xlfn.IFNA(IF(VLOOKUP(B1271,_!$A$7:$E$210,3,FALSE)=0, \"\", VLOOKUP(B1271,_!$A$7:$E$210,3,FALSE)), \"\")","v":""},{"$f":"_xlfn.IFNA(IF(VLOOKUP(B1271,_!$A$7:$E$210,4,FALSE)=0, \"\",VLOOKUP(B1271,_!$A$7:$E$210,4,FALSE)), \"\")","v":""},{"$f":"_xlfn.IFNA(IF(VLOOKUP(B1271,_!$A$7:$E$210,5,FALSE)=0,\"\",VLOOKUP(B1271,_!$A$7:$E$210,5,FALSE)), \"\")","v":""}]
[6,null,{"$f":"_xlfn.IFNA(VLOOKUP(B1272,_!$A$7:$F$210,6,FALSE),\"\")","v":""},{"$f":"IF(IF(MOD(ROWS(D$3:D1272),20)=1,INDEX('Summary Sheet'!$B$17:$B1314,INT(ROWS(D$3:D1272)/20)+1),\"\")=0,\"\",IF(MOD(ROWS(D$3:D1272),20)=1,INDEX('Summary Sheet'!$B$17:$B1314,INT(ROWS(D$3:D1272)/20)+1),\"\"))","v":""},{"$f":"_xlfn.IFNA(IF(VLOOKUP(B1272,_!$A$7:$E$210,2,FALSE)=0, \"\", VLOOKUP(B1272,_!$A$7:$E$210,2,FALSE)),  \"\")","v":""},{"$f":"_xlfn.IFNA(IF(VLOOKUP(B1272,_!$A$7:$E$210,3,FALSE)=0, \"\", VLOOKUP(B1272,_!$A$7:$E$210,3,FALSE)), \"\")","v":""},{"$f":"_xlfn.IFNA(IF(VLOOKUP(B1272,_!$A$7:$E$210,4,FALSE)=0, \"\",VLOOKUP(B1272,_!$A$7:$E$210,4,FALSE)), \"\")","v":""},{"$f":"_xlfn.IFNA(IF(VLOOKUP(B1272,_!$A$7:$E$210,5,FALSE)=0,\"\",VLOOKUP(B1272,_!$A$7:$E$210,5,FALSE)), \"\")","v":""}]
[7,null,{"$f":"_xlfn.IFNA(VLOOKUP(B1273,_!$A$7:$F$210,6,FALSE),\"\")","v":""},{"$f":"IF(IF(MOD(ROWS(D$3:D1273),20)=1,INDEX('Summary Sheet'!$B$17:$B1314,INT(ROWS(D$3:D1273)/20)+1),\"\")=0,\"\",IF(MOD(ROWS(D$3:D1273),20)=1,INDEX('Summary Sheet'!$B$17:$B1314,INT(ROWS(D$3:D1273)/20)+1),\"\"))","v":""},{"$f":"_xlfn.IFNA(IF(VLOOKUP(B1273,_!$A$7:$E$210,2,FALSE)=0, \"\", VLOOKUP(B1273,_!$A$7:$E$210,2,FALSE)),  \"\")","v":""},{"$f":"_xlfn.IFNA(IF(VLOOKUP(B1273,_!$A$7:$E$210,3,FALSE)=0, \"\", VLOOKUP(B1273,_!$A$7:$E$210,3,FALSE)), \"\")","v":""},{"$f":"_xlfn.IFNA(IF(VLOOKUP(B1273,_!$A$7:$E$210,4,FALSE)=0, \"\",VLOOKUP(B1273,_!$A$7:$E$210,4,FALSE)), \"\")","v":""},{"$f":"_xlfn.IFNA(IF(VLOOKUP(B1273,_!$A$7:$E$210,5,FALSE)=0,\"\",VLOOKUP(B1273,_!$A$7:$E$210,5,FALSE)), \"\")","v":""}]
[8,null,{"$f":"_xlfn.IFNA(VLOOKUP(B1274,_!$A$7:$F$210,6,FALSE),\"\")","v":""},{"$f":"IF(IF(MOD(ROWS(D$3:D1274),20)=1,INDEX('Summary Sheet'!$B$17:$B1314,INT(ROWS(D$3:D1274)/20)+1),\"\")=0,\"\",IF(MOD(ROWS(D$3:D1274),20)=1,INDEX('Summary Sheet'!$B$17:$B1314,INT(ROWS(D$3:D1274)/20)+1),\"\"))","v":""},{"$f":"_xlfn.IFNA(IF(VLOOKUP(B1274,_!$A$7:$E$210,2,FALSE)=0, \"\", VLOOKUP(B1274,_!$A$7:$E$210,2,FALSE)),  \"\")","v":""},{"$f":"_xlfn.IFNA(IF(VLOOKUP(B1274,_!$A$7:$E$210,3,FALSE)=0, \"\", VLOOKUP(B1274,_!$A$7:$E$210,3,FALSE)), \"\")","v":""},{"$f":"_xlfn.IFNA(IF(VLOOKUP(B1274,_!$A$7:$E$210,4,FALSE)=0, \"\",VLOOKUP(B1274,_!$A$7:$E$210,4,FALSE)), \"\")","v":""},{"$f":"_xlfn.IFNA(IF(VLOOKUP(B1274,_!$A$7:$E$210,5,FALSE)=0,\"\",VLOOKUP(B1274,_!$A$7:$E$210,5,FALSE)), \"\")","v":""}]
[9,null,{"$f":"_xlfn.IFNA(VLOOKUP(B1275,_!$A$7:$F$210,6,FALSE),\"\")","v":""},{"$f":"IF(IF(MOD(ROWS(D$3:D1275),20)=1,INDEX('Summary Sheet'!$B$17:$B1314,INT(ROWS(D$3:D1275)/20)+1),\"\")=0,\"\",IF(MOD(ROWS(D$3:D1275),20)=1,INDEX('Summary Sheet'!$B$17:$B1314,INT(ROWS(D$3:D1275)/20)+1),\"\"))","v":""},{"$f":"_xlfn.IFNA(IF(VLOOKUP(B1275,_!$A$7:$E$210,2,FALSE)=0, \"\", VLOOKUP(B1275,_!$A$7:$E$210,2,FALSE)),  \"\")","v":""},{"$f":"_xlfn.IFNA(IF(VLOOKUP(B1275,_!$A$7:$E$210,3,FALSE)=0, \"\", VLOOKUP(B1275,_!$A$7:$E$210,3,FALSE)), \"\")","v":""},{"$f":"_xlfn.IFNA(IF(VLOOKUP(B1275,_!$A$7:$E$210,4,FALSE)=0, \"\",VLOOKUP(B1275,_!$A$7:$E$210,4,FALSE)), \"\")","v":""},{"$f":"_xlfn.IFNA(IF(VLOOKUP(B1275,_!$A$7:$E$210,5,FALSE)=0,\"\",VLOOKUP(B1275,_!$A$7:$E$210,5,FALSE)), \"\")","v":""}]
[10,null,{"$f":"_xlfn.IFNA(VLOOKUP(B1276,_!$A$7:$F$210,6,FALSE),\"\")","v":""},{"$f":"IF(IF(MOD(ROWS(D$14:D1276),20)=1,INDEX('Summary Sheet'!$B$17:$B1314,INT(ROWS(D$14:D1276)/20)+1),\"\")=0,\"\",IF(MOD(ROWS(D$14:D1276),20)=1,INDEX('Summary Sheet'!$B$17:$B1314,INT(ROWS(D$14:D1276)/20)+1),\"\"))","v":""},{"$f":"_xlfn.IFNA(IF(VLOOKUP(B1276,_!$A$7:$E$210,2,FALSE)=0, \"\", VLOOKUP(B1276,_!$A$7:$E$210,2,FALSE)),  \"\")","v":""},{"$f":"_xlfn.IFNA(IF(VLOOKUP(B1276,_!$A$7:$E$210,3,FALSE)=0, \"\", VLOOKUP(B1276,_!$A$7:$E$210,3,FALSE)), \"\")","v":""},{"$f":"_xlfn.IFNA(IF(VLOOKUP(B1276,_!$A$7:$E$210,4,FALSE)=0, \"\",VLOOKUP(B1276,_!$A$7:$E$210,4,FALSE)), \"\")","v":""},{"$f":"_xlfn.IFNA(IF(VLOOKUP(B1276,_!$A$7:$E$210,5,FALSE)=0,\"\",VLOOKUP(B1276,_!$A$7:$E$210,5,FALSE)), \"\")","v":""}]
[null,"\nHighest hazard level for each ‘Uptake Route’\n",null,null,{"$f":"_xlfn.IFNA(IF((INDEX(E1267:E1276,MATCH(\"E\",E1267:E1276,0)))=\"E\",\"E\",\"\"),_xlfn.IFNA(IF((INDEX(E1267:E1276,MATCH(\"D\",E1267:E1276,0)))=\"D\",\"D\",\"\"),_xlfn.IFNA(IF((INDEX(E1267:E1276,MATCH(\"Ca\",E1267:E1276,0)))=\"Ca\",\"C\",\"\"),_xlfn.IFNA(IF((INDEX(E1267:E1276,MATCH(\"C\",E1267:E1276,0)))=\"C\",\"C\",\"\"),_xlfn.IFNA(IF((INDEX(E1267:E1276,MATCH(\"B\",E1267:E1276,0)))=\"B\",\"B\",\"\"),_xlfn.IFNA(IF((INDEX(E1267:E1276,MATCH(\"A\",E1267:E1276,0)))=\"A\",\"A\",\"\"),_xlfn.IFNA(IF((INDEX(E1267:E1276,MATCH(\"n.a.\",E1267:E1276,0)))=\"n.a.\",\"\",\"\"),_xlfn.IFNA(IF((INDEX(E1267:E1276,MATCH(\"\",E1267:E1276,0)))=\"\",\"\",\"\"),\"\"))))))))","v":""},{"$f":"_xlfn.IFNA(IF((INDEX(F1267:F1276,MATCH(\"E\",F1267:F1276,0)))=\"E\",\"E\",\"\"),_xlfn.IFNA(IF((INDEX(F1267:F1276,MATCH(\"D (E)c\",F1267:F1276,0)))=\"D (E)c\",\"D (E)c\",\"\"),_xlfn.IFNA(IF((INDEX(F1267:F1276,MATCH(\"Da (E)c\",F1267:F1276,0)))=\"Da (E)c\",\"D (E)c\",\"\"),_xlfn.IFNA(IF((INDEX(F1267:F1276,MATCH(\"D\",F1267:F1276,0)))=\"D\",\"D\",\"\"),_xlfn.IFNA(IF((INDEX(F1267:F1276,MATCH(\"Ca\",F1267:F1276,0)))=\"Ca\",\"C\",\"\"),_xlfn.IFNA(IF((INDEX(F1267:F1276,MATCH(\"C\",F1267:F1276,0)))=\"C\",\"C\",\"\"),_xlfn.IFNA(IF((INDEX(F1267:F1276,MATCH(\"Ba\",F1267:F1276,0)))=\"Ba\",\"B\",\"\"),_xlfn.IFNA(IF((INDEX(F1267:F1276,MATCH(\"B\",F1267:F1276,0)))=\"B\",\"B\",\"\"),_xlfn.IFNA(IF((INDEX(F1267:F1276,MATCH(\"Aa\",F1267:F1276,0)))=\"Aa\",\"A\",\"\"),_xlfn.IFNA(IF((INDEX(F1267:F1276,MATCH(\"A\",F1267:F1276,0)))=\"A\",\"A\",\"\"),_xlfn.IFNA(IF((INDEX(F1267:F1276,MATCH(\"n.a.\",F1267:F1276,0)))=\"n.a.\",\"\",\"\"),_xlfn.IFNA(IF((INDEX(F1267:F1276,MATCH(\"\",F1267:F1276,0)))=\"\",\"\",\"\"),\"\"))))))))))))","v":""},{"$f":"_xlfn.IFNA(IF((INDEX(G1267:G1276,MATCH(\"E\",G1267:G1276,0)))=\"E\",\"E\",\"\"),_xlfn.IFNA(IF((INDEX(G1267:G1276,MATCH(\"D\",G1267:G1276,0)))=\"D\",\"D\",\"\"),_xlfn.IFNA(IF((INDEX(G1267:G1276,MATCH(\"Ca\",G1267:G1276,0)))=\"Ca\",\"C\",\"\"),_xlfn.IFNA(IF((INDEX(G1267:G1276,MATCH(\"C\",G1267:G1276,0)))=\"C\",\"C\",\"\"),_xlfn.IFNA(IF((INDEX(G1267:G1276,MATCH(\"B\",G1267:G1276,0)))=\"B\",\"B\",\"\"),_xlfn.IFNA(IF((INDEX(G1267:G1276,MATCH(\"A\",G1267:G1276,0)))=\"A\",\"A\",\"\"),_xlfn.IFNA(IF((INDEX(G1267:G1276,MATCH(\"n.a.\",G1267:G1276,0)))=\"n.a.\",\"\",\"\"),_xlfn.IFNA(IF((INDEX(G1267:G1276,MATCH(\"\",G1267:G1276,0)))=\"\",\"\",\"\"),\"\"))))))))","v":""},{"$f":"_xlfn.IFNA(IF((INDEX(H1267:H1276,MATCH(\"E\",H1267:H1276,0)))=\"E\",\"E\",\"\"),_xlfn.IFNA(IF((INDEX(H1267:H1276,MATCH(\"D (E)c\",H1267:H1276,0)))=\"D (E)c\",\"D (E)c\",\"\"),_xlfn.IFNA(IF((INDEX(H1267:H1276,MATCH(\"Db (E)c\",H1267:H1276,0)))=\"Db (E)c\",\"D (E)c\",\"\"),_xlfn.IFNA(IF((INDEX(H1267:H1276,MATCH(\"D\",H1267:H1276,0)))=\"D\",\"D\",\"\"),_xlfn.IFNA(IF((INDEX(H1267:H1276,MATCH(\"Cb\",H1267:H1276,0)))=\"Cb\",\"C\",\"\"),_xlfn.IFNA(IF((INDEX(H1267:H1276,MATCH(\"C\",H1267:H1276,0)))=\"C\",\"C\",\"\"),_xlfn.IFNA(IF((INDEX(H1267:H1276,MATCH(\"Bb\",H1267:H1276,0)))=\"Bb\",\"B\",\"\"),_xlfn.IFNA(IF((INDEX(H1267:H1276,MATCH(\"B\",H1267:H1276,0)))=\"B\",\"B\",\"\"),_xlfn.IFNA(IF((INDEX(H1267:H1276,MATCH(\"Ab\",H1267:H1276,0)))=\"Ab\",\"A\",\"\"),_xlfn.IFNA(IF((INDEX(H1267:H1276,MATCH(\"A\",H1267:H1276,0)))=\"A\",\"A\",\"\"),_xlfn.IFNA(IF((INDEX(H1267:H1276,MATCH(\"n.a.\",H1267:H1276,0)))=\"n.a.\",\"\",\"\"),_xlfn.IFNA(IF((INDEX(H1267:H1276,MATCH(\"\",H1267:H1276,0)))=\"\",\"\",\"\"),\"\"))))))))))))","v":""}]
[null,"\nHighest hazard level for all 'Uptake Routes' \n",null,null,{"$f":"_xlfn.IFNA(IF((INDEX(E1277:H1277,MATCH(\"E\",E1277:H1277,0)))=\"E\",\"E\",\"\"),_xlfn.IFNA(IF((INDEX(E1277:H1277,MATCH(\"D (E)c\",E1277:H1277,0)))=\"D (E)c\",\"D (E)\",\"\"),_xlfn.IFNA(IF((INDEX(E1277:H1277,MATCH(\"D\",E1277:H1277,0)))=\"D\",\"D\",\"\"),_xlfn.IFNA(IF((INDEX(E1277:H1277,MATCH(\"C\",E1277:H1277,0)))=\"C\",\"C\",\"\"),_xlfn.IFNA(IF((INDEX(E1277:H1277,MATCH(\"B\",E1277:H1277,0)))=\"B\",\"B\",\"\"),_xlfn.IFNA(IF((INDEX(E1277:H1277,MATCH(\"A\",E1277:H1277,0)))=\"A\",\"A\",\"\"),_xlfn.IFNA(IF((INDEX(E1277:H1277,MATCH(\"n.a.\",E1277:H1277,0)))=\"n.a.\",\"\",\"\"),_xlfn.IFNA(IF((INDEX(E1277:H1277,MATCH(\"\",E1277:H1277,0)))=\"\",\"\",\"\"),\"\"))))))))","v":""}]
[]
[]
[null,"\nStep 3: D(E) Assessment\nSkip this step if \nyour assessment above does not reveal a D(E) hazard level.\nHover over this cell for additional instructions.\n",null,null,"\nOverall hazard level\n",null,{"$f":"IF(AND(E1278=\"\",C1264=\"Yes\")=TRUE,\"B\",IF(E1278=\"\",\"\",(IF(AND(E1278=\"D (E)\",C1281=\"\"),\"D (E)\"&CHAR(10)&\"Find if cat. 1 acute tox.\",(IF(E1278<>\"D (E)\",E1278,(IF(AND(E1278=\"D (E)\",C1281=\"Yes\"),\"E\",(IF(AND(E1278=\"D (E)\",C1281=\"No\"),\"D\",\"\"))))))))))","v":""}]
[]
[{"$f":"IF(IF(MOD(ROWS(B$3:B1283),20)=1,INDEX('Summary Sheet'!$A$17:$A1333,INT(ROWS(B$3:B1283)/20)+1),\"\")=0,\"\",IF(MOD(ROWS(B$3:B1283),20)=1,INDEX('Summary Sheet'!$A$17:$A1333,INT(ROWS(B$3:B1283)/20)+1),\"\"))","v":65},"Hazard Level Assessment","for",{"$f":"IF(IF(MOD(ROWS(D$3:D1283),20)=1,INDEX('Summary Sheet'!$B$17:$B1333,INT(ROWS(D$3:D1283)/20)+1),\"\")=0,\"\",IF(MOD(ROWS(D$3:D1283),20)=1,INDEX('Summary Sheet'!$B$17:$B1333,INT(ROWS(D$3:D1283)/20)+1),\"\"))","v":""}]
[null,"\nStep 1: Physical & Environmental Hazard Statements/Codes\nFind Section 2 of the SDS and determine if the SDS has physical and/or environmental hazard statements/codes. Hover on this cell for additional instructions.\n",null,{"$f":"IF(IF(MOD(ROWS(D$3:D1284),20)=1,INDEX('Summary Sheet'!$B$17:$B1333,INT(ROWS(D$3:D1284)/20)+1),\"\")=0,\"\",IF(MOD(ROWS(D$3:D1284),20)=1,INDEX('Summary Sheet'!$B$17:$B1333,INT(ROWS(D$3:D1284)/20)+1),\"\"))","v":""}]
[null,"Step 2: Health Hazard Statements/Codes\nProvide the Health Hazard Statements or Codes from Section 2 of the SDS below. Hover on this cell for additional instructions.",null,{"$f":"IF(IF(MOD(ROWS(D$3:D1285),20)=1,INDEX('Summary Sheet'!$B$17:$B1333,INT(ROWS(D$3:D1285)/20)+1),\"\")=0,\"\",IF(MOD(ROWS(D$3:D1285),20)=1,INDEX('Summary Sheet'!$B$17:$B1333,INT(ROWS(D$3:D1285)/20)+1),\"\"))","v":""},"\nHazard Level\n"]
[null,null,null,{"$f":"IF(IF(MOD(ROWS(D$3:D1286),20)=1,INDEX('Summary Sheet'!$B$17:$B1333,INT(ROWS(D$3:D1286)/20)+1),\"\")=0,\"\",IF(MOD(ROWS(D$3:D1286),20)=1,INDEX('Summary Sheet'!$B$17:$B1333,INT(ROWS(D$3:D1286)/20)+1),\"\"))","v":""},"\nEye Damage\n","\nInhalation\n","\nLocal Skin Damage\n","\nSkin uptake, systemic\n"]
[1,null,{"$f":"_xlfn.IFNA(VLOOKUP(B1287,_!$A$7:$F$210,6,FALSE),\"\")","v":""},{"$f":"IF(IF(MOD(ROWS(D$3:D1287),20)=1,INDEX('Summary Sheet'!$B$17:$B1333,INT(ROWS(D$3:D1287)/20)+1),\"\")=0,\"\",IF(MOD(ROWS(D$3:D1287),20)=1,INDEX('Summary Sheet'!$B$17:$B1333,INT(ROWS(D$3:D1287)/20)+1),\"\"))","v":""},{"$f":"_xlfn.IFNA(IF(VLOOKUP(B1287,_!$A$7:$E$210,2,FALSE)=0, \"\", VLOOKUP(B1287,_!$A$7:$E$210,2,FALSE)),  \"\")","v":""},{"$f":"_xlfn.IFNA(IF(VLOOKUP(B1287,_!$A$7:$E$210,3,FALSE)=0, \"\", VLOOKUP(B1287,_!$A$7:$E$210,3,FALSE)), \"\")","v":""},{"$f":"_xlfn.IFNA(IF(VLOOKUP(B1287,_!$A$7:$E$210,4,FALSE)=0, \"\",VLOOKUP(B1287,_!$A$7:$E$210,4,FALSE)), \"\")","v":""},{"$f":"_xlfn.IFNA(IF(VLOOKUP(B1287,_!$A$7:$E$210,5,FALSE)=0,\"\",VLOOKUP(B1287,_!$A$7:$E$210,5,FALSE)), \"\")","v":""}]
[2,null,{"$f":"_xlfn.IFNA(VLOOKUP(B1288,_!$A$7:$F$210,6,FALSE),\"\")","v":""},{"$f":"IF(IF(MOD(ROWS(D$3:D1288),20)=1,INDEX('Summary Sheet'!$B$17:$B1333,INT(ROWS(D$3:D1288)/20)+1),\"\")=0,\"\",IF(MOD(ROWS(D$3:D1288),20)=1,INDEX('Summary Sheet'!$B$17:$B1333,INT(ROWS(D$3:D1288)/20)+1),\"\"))","v":""},{"$f":"_xlfn.IFNA(IF(VLOOKUP(B1288,_!$A$7:$E$210,2,FALSE)=0, \"\", VLOOKUP(B1288,_!$A$7:$E$210,2,FALSE)),  \"\")","v":""},{"$f":"_xlfn.IFNA(IF(VLOOKUP(B1288,_!$A$7:$E$210,3,FALSE)=0, \"\", VLOOKUP(B1288,_!$A$7:$E$210,3,FALSE)), \"\")","v":""},{"$f":"_xlfn.IFNA(IF(VLOOKUP(B1288,_!$A$7:$E$210,4,FALSE)=0, \"\",VLOOKUP(B1288,_!$A$7:$E$210,4,FALSE)), \"\")","v":""},{"$f":"_xlfn.IFNA(IF(VLOOKUP(B1288,_!$A$7:$E$210,5,FALSE)=0,\"\",VLOOKUP(B1288,_!$A$7:$E$210,5,FALSE)), \"\")","v":""}]
[3,null,{"$f":"_xlfn.IFNA(VLOOKUP(B1289,_!$A$7:$F$210,6,FALSE),\"\")","v":""},{"$f":"IF(IF(MOD(ROWS(D$3:D1289),20)=1,INDEX('Summary Sheet'!$B$17:$B1333,INT(ROWS(D$3:D1289)/20)+1),\"\")=0,\"\",IF(MOD(ROWS(D$3:D1289),20)=1,INDEX('Summary Sheet'!$B$17:$B1333,INT(ROWS(D$3:D1289)/20)+1),\"\"))","v":""},{"$f":"_xlfn.IFNA(IF(VLOOKUP(B1289,_!$A$7:$E$210,2,FALSE)=0, \"\", VLOOKUP(B1289,_!$A$7:$E$210,2,FALSE)),  \"\")","v":""},{"$f":"_xlfn.IFNA(IF(VLOOKUP(B1289,_!$A$7:$E$210,3,FALSE)=0, \"\", VLOOKUP(B1289,_!$A$7:$E$210,3,FALSE)), \"\")","v":""},{"$f":"_xlfn.IFNA(IF(VLOOKUP(B1289,_!$A$7:$E$210,4,FALSE)=0, \"\",VLOOKUP(B1289,_!$A$7:$E$210,4,FALSE)), \"\")","v":""},{"$f":"_xlfn.IFNA(IF(VLOOKUP(B1289,_!$A$7:$E$210,5,FALSE)=0,\"\",VLOOKUP(B1289,_!$A$7:$E$210,5,FALSE)), \"\")","v":""}]
[4,null,{"$f":"_xlfn.IFNA(VLOOKUP(B1290,_!$A$7:$F$210,6,FALSE),\"\")","v":""},{"$f":"IF(IF(MOD(ROWS(D$3:D1290),20)=1,INDEX('Summary Sheet'!$B$17:$B1333,INT(ROWS(D$3:D1290)/20)+1),\"\")=0,\"\",IF(MOD(ROWS(D$3:D1290),20)=1,INDEX('Summary Sheet'!$B$17:$B1333,INT(ROWS(D$3:D1290)/20)+1),\"\"))","v":""},{"$f":"_xlfn.IFNA(IF(VLOOKUP(B1290,_!$A$7:$E$210,2,FALSE)=0, \"\", VLOOKUP(B1290,_!$A$7:$E$210,2,FALSE)),  \"\")","v":""},{"$f":"_xlfn.IFNA(IF(VLOOKUP(B1290,_!$A$7:$E$210,3,FALSE)=0, \"\", VLOOKUP(B1290,_!$A$7:$E$210,3,FALSE)), \"\")","v":""},{"$f":"_xlfn.IFNA(IF(VLOOKUP(B1290,_!$A$7:$E$210,4,FALSE)=0, \"\",VLOOKUP(B1290,_!$A$7:$E$210,4,FALSE)), \"\")","v":""},{"$f":"_xlfn.IFNA(IF(VLOOKUP(B1290,_!$A$7:$E$210,5,FALSE)=0,\"\",VLOOKUP(B1290,_!$A$7:$E$210,5,FALSE)), \"\")","v":""}]
[5,null,{"$f":"_xlfn.IFNA(VLOOKUP(B1291,_!$A$7:$F$210,6,FALSE),\"\")","v":""},{"$f":"IF(IF(MOD(ROWS(D$3:D1291),20)=1,INDEX('Summary Sheet'!$B$17:$B1333,INT(ROWS(D$3:D1291)/20)+1),\"\")=0,\"\",IF(MOD(ROWS(D$3:D1291),20)=1,INDEX('Summary Sheet'!$B$17:$B1333,INT(ROWS(D$3:D1291)/20)+1),\"\"))","v":""},{"$f":"_xlfn.IFNA(IF(VLOOKUP(B1291,_!$A$7:$E$210,2,FALSE)=0, \"\", VLOOKUP(B1291,_!$A$7:$E$210,2,FALSE)),  \"\")","v":""},{"$f":"_xlfn.IFNA(IF(VLOOKUP(B1291,_!$A$7:$E$210,3,FALSE)=0, \"\", VLOOKUP(B1291,_!$A$7:$E$210,3,FALSE)), \"\")","v":""},{"$f":"_xlfn.IFNA(IF(VLOOKUP(B1291,_!$A$7:$E$210,4,FALSE)=0, \"\",VLOOKUP(B1291,_!$A$7:$E$210,4,FALSE)), \"\")","v":""},{"$f":"_xlfn.IFNA(IF(VLOOKUP(B1291,_!$A$7:$E$210,5,FALSE)=0,\"\",VLOOKUP(B1291,_!$A$7:$E$210,5,FALSE)), \"\")","v":""}]
[6,null,{"$f":"_xlfn.IFNA(VLOOKUP(B1292,_!$A$7:$F$210,6,FALSE),\"\")","v":""},{"$f":"IF(IF(MOD(ROWS(D$3:D1292),20)=1,INDEX('Summary Sheet'!$B$17:$B1333,INT(ROWS(D$3:D1292)/20)+1),\"\")=0,\"\",IF(MOD(ROWS(D$3:D1292),20)=1,INDEX('Summary Sheet'!$B$17:$B1333,INT(ROWS(D$3:D1292)/20)+1),\"\"))","v":""},{"$f":"_xlfn.IFNA(IF(VLOOKUP(B1292,_!$A$7:$E$210,2,FALSE)=0, \"\", VLOOKUP(B1292,_!$A$7:$E$210,2,FALSE)),  \"\")","v":""},{"$f":"_xlfn.IFNA(IF(VLOOKUP(B1292,_!$A$7:$E$210,3,FALSE)=0, \"\", VLOOKUP(B1292,_!$A$7:$E$210,3,FALSE)), \"\")","v":""},{"$f":"_xlfn.IFNA(IF(VLOOKUP(B1292,_!$A$7:$E$210,4,FALSE)=0, \"\",VLOOKUP(B1292,_!$A$7:$E$210,4,FALSE)), \"\")","v":""},{"$f":"_xlfn.IFNA(IF(VLOOKUP(B1292,_!$A$7:$E$210,5,FALSE)=0,\"\",VLOOKUP(B1292,_!$A$7:$E$210,5,FALSE)), \"\")","v":""}]
[7,null,{"$f":"_xlfn.IFNA(VLOOKUP(B1293,_!$A$7:$F$210,6,FALSE),\"\")","v":""},{"$f":"IF(IF(MOD(ROWS(D$3:D1293),20)=1,INDEX('Summary Sheet'!$B$17:$B1333,INT(ROWS(D$3:D1293)/20)+1),\"\")=0,\"\",IF(MOD(ROWS(D$3:D1293),20)=1,INDEX('Summary Sheet'!$B$17:$B1333,INT(ROWS(D$3:D1293)/20)+1),\"\"))","v":""},{"$f":"_xlfn.IFNA(IF(VLOOKUP(B1293,_!$A$7:$E$210,2,FALSE)=0, \"\", VLOOKUP(B1293,_!$A$7:$E$210,2,FALSE)),  \"\")","v":""},{"$f":"_xlfn.IFNA(IF(VLOOKUP(B1293,_!$A$7:$E$210,3,FALSE)=0, \"\", VLOOKUP(B1293,_!$A$7:$E$210,3,FALSE)), \"\")","v":""},{"$f":"_xlfn.IFNA(IF(VLOOKUP(B1293,_!$A$7:$E$210,4,FALSE)=0, \"\",VLOOKUP(B1293,_!$A$7:$E$210,4,FALSE)), \"\")","v":""},{"$f":"_xlfn.IFNA(IF(VLOOKUP(B1293,_!$A$7:$E$210,5,FALSE)=0,\"\",VLOOKUP(B1293,_!$A$7:$E$210,5,FALSE)), \"\")","v":""}]
[8,null,{"$f":"_xlfn.IFNA(VLOOKUP(B1294,_!$A$7:$F$210,6,FALSE),\"\")","v":""},{"$f":"IF(IF(MOD(ROWS(D$3:D1294),20)=1,INDEX('Summary Sheet'!$B$17:$B1333,INT(ROWS(D$3:D1294)/20)+1),\"\")=0,\"\",IF(MOD(ROWS(D$3:D1294),20)=1,INDEX('Summary Sheet'!$B$17:$B1333,INT(ROWS(D$3:D1294)/20)+1),\"\"))","v":""},{"$f":"_xlfn.IFNA(IF(VLOOKUP(B1294,_!$A$7:$E$210,2,FALSE)=0, \"\", VLOOKUP(B1294,_!$A$7:$E$210,2,FALSE)),  \"\")","v":""},{"$f":"_xlfn.IFNA(IF(VLOOKUP(B1294,_!$A$7:$E$210,3,FALSE)=0, \"\", VLOOKUP(B1294,_!$A$7:$E$210,3,FALSE)), \"\")","v":""},{"$f":"_xlfn.IFNA(IF(VLOOKUP(B1294,_!$A$7:$E$210,4,FALSE)=0, \"\",VLOOKUP(B1294,_!$A$7:$E$210,4,FALSE)), \"\")","v":""},{"$f":"_xlfn.IFNA(IF(VLOOKUP(B1294,_!$A$7:$E$210,5,FALSE)=0,\"\",VLOOKUP(B1294,_!$A$7:$E$210,5,FALSE)), \"\")","v":""}]
[9,null,{"$f":"_xlfn.IFNA(VLOOKUP(B1295,_!$A$7:$F$210,6,FALSE),\"\")","v":""},{"$f":"IF(IF(MOD(ROWS(D$3:D1295),20)=1,INDEX('Summary Sheet'!$B$17:$B1333,INT(ROWS(D$3:D1295)/20)+1),\"\")=0,\"\",IF(MOD(ROWS(D$3:D1295),20)=1,INDEX('Summary Sheet'!$B$17:$B1333,INT(ROWS(D$3:D1295)/20)+1),\"\"))","v":""},{"$f":"_xlfn.IFNA(IF(VLOOKUP(B1295,_!$A$7:$E$210,2,FALSE)=0, \"\", VLOOKUP(B1295,_!$A$7:$E$210,2,FALSE)),  \"\")","v":""},{"$f":"_xlfn.IFNA(IF(VLOOKUP(B1295,_!$A$7:$E$210,3,FALSE)=0, \"\", VLOOKUP(B1295,_!$A$7:$E$210,3,FALSE)), \"\")","v":""},{"$f":"_xlfn.IFNA(IF(VLOOKUP(B1295,_!$A$7:$E$210,4,FALSE)=0, \"\",VLOOKUP(B1295,_!$A$7:$E$210,4,FALSE)), \"\")","v":""},{"$f":"_xlfn.IFNA(IF(VLOOKUP(B1295,_!$A$7:$E$210,5,FALSE)=0,\"\",VLOOKUP(B1295,_!$A$7:$E$210,5,FALSE)), \"\")","v":""}]
[10,null,{"$f":"_xlfn.IFNA(VLOOKUP(B1296,_!$A$7:$F$210,6,FALSE),\"\")","v":""},{"$f":"IF(IF(MOD(ROWS(D$14:D1296),20)=1,INDEX('Summary Sheet'!$B$17:$B1333,INT(ROWS(D$14:D1296)/20)+1),\"\")=0,\"\",IF(MOD(ROWS(D$14:D1296),20)=1,INDEX('Summary Sheet'!$B$17:$B1333,INT(ROWS(D$14:D1296)/20)+1),\"\"))","v":""},{"$f":"_xlfn.IFNA(IF(VLOOKUP(B1296,_!$A$7:$E$210,2,FALSE)=0, \"\", VLOOKUP(B1296,_!$A$7:$E$210,2,FALSE)),  \"\")","v":""},{"$f":"_xlfn.IFNA(IF(VLOOKUP(B1296,_!$A$7:$E$210,3,FALSE)=0, \"\", VLOOKUP(B1296,_!$A$7:$E$210,3,FALSE)), \"\")","v":""},{"$f":"_xlfn.IFNA(IF(VLOOKUP(B1296,_!$A$7:$E$210,4,FALSE)=0, \"\",VLOOKUP(B1296,_!$A$7:$E$210,4,FALSE)), \"\")","v":""},{"$f":"_xlfn.IFNA(IF(VLOOKUP(B1296,_!$A$7:$E$210,5,FALSE)=0,\"\",VLOOKUP(B1296,_!$A$7:$E$210,5,FALSE)), \"\")","v":""}]
[null,"\nHighest hazard level for each ‘Uptake Route’\n",null,null,{"$f":"_xlfn.IFNA(IF((INDEX(E1287:E1296,MATCH(\"E\",E1287:E1296,0)))=\"E\",\"E\",\"\"),_xlfn.IFNA(IF((INDEX(E1287:E1296,MATCH(\"D\",E1287:E1296,0)))=\"D\",\"D\",\"\"),_xlfn.IFNA(IF((INDEX(E1287:E1296,MATCH(\"Ca\",E1287:E1296,0)))=\"Ca\",\"C\",\"\"),_xlfn.IFNA(IF((INDEX(E1287:E1296,MATCH(\"C\",E1287:E1296,0)))=\"C\",\"C\",\"\"),_xlfn.IFNA(IF((INDEX(E1287:E1296,MATCH(\"B\",E1287:E1296,0)))=\"B\",\"B\",\"\"),_xlfn.IFNA(IF((INDEX(E1287:E1296,MATCH(\"A\",E1287:E1296,0)))=\"A\",\"A\",\"\"),_xlfn.IFNA(IF((INDEX(E1287:E1296,MATCH(\"n.a.\",E1287:E1296,0)))=\"n.a.\",\"\",\"\"),_xlfn.IFNA(IF((INDEX(E1287:E1296,MATCH(\"\",E1287:E1296,0)))=\"\",\"\",\"\"),\"\"))))))))","v":""},{"$f":"_xlfn.IFNA(IF((INDEX(F1287:F1296,MATCH(\"E\",F1287:F1296,0)))=\"E\",\"E\",\"\"),_xlfn.IFNA(IF((INDEX(F1287:F1296,MATCH(\"D (E)c\",F1287:F1296,0)))=\"D (E)c\",\"D (E)c\",\"\"),_xlfn.IFNA(IF((INDEX(F1287:F1296,MATCH(\"Da (E)c\",F1287:F1296,0)))=\"Da (E)c\",\"D (E)c\",\"\"),_xlfn.IFNA(IF((INDEX(F1287:F1296,MATCH(\"D\",F1287:F1296,0)))=\"D\",\"D\",\"\"),_xlfn.IFNA(IF((INDEX(F1287:F1296,MATCH(\"Ca\",F1287:F1296,0)))=\"Ca\",\"C\",\"\"),_xlfn.IFNA(IF((INDEX(F1287:F1296,MATCH(\"C\",F1287:F1296,0)))=\"C\",\"C\",\"\"),_xlfn.IFNA(IF((INDEX(F1287:F1296,MATCH(\"Ba\",F1287:F1296,0)))=\"Ba\",\"B\",\"\"),_xlfn.IFNA(IF((INDEX(F1287:F1296,MATCH(\"B\",F1287:F1296,0)))=\"B\",\"B\",\"\"),_xlfn.IFNA(IF((INDEX(F1287:F1296,MATCH(\"Aa\",F1287:F1296,0)))=\"Aa\",\"A\",\"\"),_xlfn.IFNA(IF((INDEX(F1287:F1296,MATCH(\"A\",F1287:F1296,0)))=\"A\",\"A\",\"\"),_xlfn.IFNA(IF((INDEX(F1287:F1296,MATCH(\"n.a.\",F1287:F1296,0)))=\"n.a.\",\"\",\"\"),_xlfn.IFNA(IF((INDEX(F1287:F1296,MATCH(\"\",F1287:F1296,0)))=\"\",\"\",\"\"),\"\"))))))))))))","v":""},{"$f":"_xlfn.IFNA(IF((INDEX(G1287:G1296,MATCH(\"E\",G1287:G1296,0)))=\"E\",\"E\",\"\"),_xlfn.IFNA(IF((INDEX(G1287:G1296,MATCH(\"D\",G1287:G1296,0)))=\"D\",\"D\",\"\"),_xlfn.IFNA(IF((INDEX(G1287:G1296,MATCH(\"Ca\",G1287:G1296,0)))=\"Ca\",\"C\",\"\"),_xlfn.IFNA(IF((INDEX(G1287:G1296,MATCH(\"C\",G1287:G1296,0)))=\"C\",\"C\",\"\"),_xlfn.IFNA(IF((INDEX(G1287:G1296,MATCH(\"B\",G1287:G1296,0)))=\"B\",\"B\",\"\"),_xlfn.IFNA(IF((INDEX(G1287:G1296,MATCH(\"A\",G1287:G1296,0)))=\"A\",\"A\",\"\"),_xlfn.IFNA(IF((INDEX(G1287:G1296,MATCH(\"n.a.\",G1287:G1296,0)))=\"n.a.\",\"\",\"\"),_xlfn.IFNA(IF((INDEX(G1287:G1296,MATCH(\"\",G1287:G1296,0)))=\"\",\"\",\"\"),\"\"))))))))","v":""},{"$f":"_xlfn.IFNA(IF((INDEX(H1287:H1296,MATCH(\"E\",H1287:H1296,0)))=\"E\",\"E\",\"\"),_xlfn.IFNA(IF((INDEX(H1287:H1296,MATCH(\"D (E)c\",H1287:H1296,0)))=\"D (E)c\",\"D (E)c\",\"\"),_xlfn.IFNA(IF((INDEX(H1287:H1296,MATCH(\"Db (E)c\",H1287:H1296,0)))=\"Db (E)c\",\"D (E)c\",\"\"),_xlfn.IFNA(IF((INDEX(H1287:H1296,MATCH(\"D\",H1287:H1296,0)))=\"D\",\"D\",\"\"),_xlfn.IFNA(IF((INDEX(H1287:H1296,MATCH(\"Cb\",H1287:H1296,0)))=\"Cb\",\"C\",\"\"),_xlfn.IFNA(IF((INDEX(H1287:H1296,MATCH(\"C\",H1287:H1296,0)))=\"C\",\"C\",\"\"),_xlfn.IFNA(IF((INDEX(H1287:H1296,MATCH(\"Bb\",H1287:H1296,0)))=\"Bb\",\"B\",\"\"),_xlfn.IFNA(IF((INDEX(H1287:H1296,MATCH(\"B\",H1287:H1296,0)))=\"B\",\"B\",\"\"),_xlfn.IFNA(IF((INDEX(H1287:H1296,MATCH(\"Ab\",H1287:H1296,0)))=\"Ab\",\"A\",\"\"),_xlfn.IFNA(IF((INDEX(H1287:H1296,MATCH(\"A\",H1287:H1296,0)))=\"A\",\"A\",\"\"),_xlfn.IFNA(IF((INDEX(H1287:H1296,MATCH(\"n.a.\",H1287:H1296,0)))=\"n.a.\",\"\",\"\"),_xlfn.IFNA(IF((INDEX(H1287:H1296,MATCH(\"\",H1287:H1296,0)))=\"\",\"\",\"\"),\"\"))))))))))))","v":""}]
[null,"\nHighest hazard level for all 'Uptake Routes' \n",null,null,{"$f":"_xlfn.IFNA(IF((INDEX(E1297:H1297,MATCH(\"E\",E1297:H1297,0)))=\"E\",\"E\",\"\"),_xlfn.IFNA(IF((INDEX(E1297:H1297,MATCH(\"D (E)c\",E1297:H1297,0)))=\"D (E)c\",\"D (E)\",\"\"),_xlfn.IFNA(IF((INDEX(E1297:H1297,MATCH(\"D\",E1297:H1297,0)))=\"D\",\"D\",\"\"),_xlfn.IFNA(IF((INDEX(E1297:H1297,MATCH(\"C\",E1297:H1297,0)))=\"C\",\"C\",\"\"),_xlfn.IFNA(IF((INDEX(E1297:H1297,MATCH(\"B\",E1297:H1297,0)))=\"B\",\"B\",\"\"),_xlfn.IFNA(IF((INDEX(E1297:H1297,MATCH(\"A\",E1297:H1297,0)))=\"A\",\"A\",\"\"),_xlfn.IFNA(IF((INDEX(E1297:H1297,MATCH(\"n.a.\",E1297:H1297,0)))=\"n.a.\",\"\",\"\"),_xlfn.IFNA(IF((INDEX(E1297:H1297,MATCH(\"\",E1297:H1297,0)))=\"\",\"\",\"\"),\"\"))))))))","v":""}]
[]
[]
[null,"\nStep 3: D(E) Assessment\nSkip this step if \nyour assessment above does not reveal a D(E) hazard level.\nHover over this cell for additional instructions.\n",null,null,"\nOverall hazard level\n",null,{"$f":"IF(AND(E1298=\"\",C1284=\"Yes\")=TRUE,\"B\",IF(E1298=\"\",\"\",(IF(AND(E1298=\"D (E)\",C1301=\"\"),\"D (E)\"&CHAR(10)&\"Find if cat. 1 acute tox.\",(IF(E1298<>\"D (E)\",E1298,(IF(AND(E1298=\"D (E)\",C1301=\"Yes\"),\"E\",(IF(AND(E1298=\"D (E)\",C1301=\"No\"),\"D\",\"\"))))))))))","v":""}]
[]
[{"$f":"IF(IF(MOD(ROWS(B$3:B1303),20)=1,INDEX('Summary Sheet'!$A$17:$A1352,INT(ROWS(B$3:B1303)/20)+1),\"\")=0,\"\",IF(MOD(ROWS(B$3:B1303),20)=1,INDEX('Summary Sheet'!$A$17:$A1352,INT(ROWS(B$3:B1303)/20)+1),\"\"))","v":66},"Hazard Level Assessment","for",{"$f":"IF(IF(MOD(ROWS(D$3:D1303),20)=1,INDEX('Summary Sheet'!$B$17:$B1352,INT(ROWS(D$3:D1303)/20)+1),\"\")=0,\"\",IF(MOD(ROWS(D$3:D1303),20)=1,INDEX('Summary Sheet'!$B$17:$B1352,INT(ROWS(D$3:D1303)/20)+1),\"\"))","v":""}]
[null,"\nStep 1: Physical & Environmental Hazard Statements/Codes\nFind Section 2 of the SDS and determine if the SDS has physical and/or environmental hazard statements/codes. Hover on this cell for additional instructions.\n",null,{"$f":"IF(IF(MOD(ROWS(D$3:D1304),20)=1,INDEX('Summary Sheet'!$B$17:$B1352,INT(ROWS(D$3:D1304)/20)+1),\"\")=0,\"\",IF(MOD(ROWS(D$3:D1304),20)=1,INDEX('Summary Sheet'!$B$17:$B1352,INT(ROWS(D$3:D1304)/20)+1),\"\"))","v":""}]
[null,"Step 2: Health Hazard Statements/Codes\nProvide the Health Hazard Statements or Codes from Section 2 of the SDS below. Hover on this cell for additional instructions.",null,{"$f":"IF(IF(MOD(ROWS(D$3:D1305),20)=1,INDEX('Summary Sheet'!$B$17:$B1352,INT(ROWS(D$3:D1305)/20)+1),\"\")=0,\"\",IF(MOD(ROWS(D$3:D1305),20)=1,INDEX('Summary Sheet'!$B$17:$B1352,INT(ROWS(D$3:D1305)/20)+1),\"\"))","v":""},"\nHazard Level\n"]
[null,null,null,{"$f":"IF(IF(MOD(ROWS(D$3:D1306),20)=1,INDEX('Summary Sheet'!$B$17:$B1352,INT(ROWS(D$3:D1306)/20)+1),\"\")=0,\"\",IF(MOD(ROWS(D$3:D1306),20)=1,INDEX('Summary Sheet'!$B$17:$B1352,INT(ROWS(D$3:D1306)/20)+1),\"\"))","v":""},"\nEye Damage\n","\nInhalation\n","\nLocal Skin Damage\n","\nSkin uptake, systemic\n"]
[1,null,{"$f":"_xlfn.IFNA(VLOOKUP(B1307,_!$A$7:$F$210,6,FALSE),\"\")","v":""},{"$f":"IF(IF(MOD(ROWS(D$3:D1307),20)=1,INDEX('Summary Sheet'!$B$17:$B1352,INT(ROWS(D$3:D1307)/20)+1),\"\")=0,\"\",IF(MOD(ROWS(D$3:D1307),20)=1,INDEX('Summary Sheet'!$B$17:$B1352,INT(ROWS(D$3:D1307)/20)+1),\"\"))","v":""},{"$f":"_xlfn.IFNA(IF(VLOOKUP(B1307,_!$A$7:$E$210,2,FALSE)=0, \"\", VLOOKUP(B1307,_!$A$7:$E$210,2,FALSE)),  \"\")","v":""},{"$f":"_xlfn.IFNA(IF(VLOOKUP(B1307,_!$A$7:$E$210,3,FALSE)=0, \"\", VLOOKUP(B1307,_!$A$7:$E$210,3,FALSE)), \"\")","v":""},{"$f":"_xlfn.IFNA(IF(VLOOKUP(B1307,_!$A$7:$E$210,4,FALSE)=0, \"\",VLOOKUP(B1307,_!$A$7:$E$210,4,FALSE)), \"\")","v":""},{"$f":"_xlfn.IFNA(IF(VLOOKUP(B1307,_!$A$7:$E$210,5,FALSE)=0,\"\",VLOOKUP(B1307,_!$A$7:$E$210,5,FALSE)), \"\")","v":""}]
[2,null,{"$f":"_xlfn.IFNA(VLOOKUP(B1308,_!$A$7:$F$210,6,FALSE),\"\")","v":""},{"$f":"IF(IF(MOD(ROWS(D$3:D1308),20)=1,INDEX('Summary Sheet'!$B$17:$B1352,INT(ROWS(D$3:D1308)/20)+1),\"\")=0,\"\",IF(MOD(ROWS(D$3:D1308),20)=1,INDEX('Summary Sheet'!$B$17:$B1352,INT(ROWS(D$3:D1308)/20)+1),\"\"))","v":""},{"$f":"_xlfn.IFNA(IF(VLOOKUP(B1308,_!$A$7:$E$210,2,FALSE)=0, \"\", VLOOKUP(B1308,_!$A$7:$E$210,2,FALSE)),  \"\")","v":""},{"$f":"_xlfn.IFNA(IF(VLOOKUP(B1308,_!$A$7:$E$210,3,FALSE)=0, \"\", VLOOKUP(B1308,_!$A$7:$E$210,3,FALSE)), \"\")","v":""},{"$f":"_xlfn.IFNA(IF(VLOOKUP(B1308,_!$A$7:$E$210,4,FALSE)=0, \"\",VLOOKUP(B1308,_!$A$7:$E$210,4,FALSE)), \"\")","v":""},{"$f":"_xlfn.IFNA(IF(VLOOKUP(B1308,_!$A$7:$E$210,5,FALSE)=0,\"\",VLOOKUP(B1308,_!$A$7:$E$210,5,FALSE)), \"\")","v":""}]
[3,null,{"$f":"_xlfn.IFNA(VLOOKUP(B1309,_!$A$7:$F$210,6,FALSE),\"\")","v":""},{"$f":"IF(IF(MOD(ROWS(D$3:D1309),20)=1,INDEX('Summary Sheet'!$B$17:$B1352,INT(ROWS(D$3:D1309)/20)+1),\"\")=0,\"\",IF(MOD(ROWS(D$3:D1309),20)=1,INDEX('Summary Sheet'!$B$17:$B1352,INT(ROWS(D$3:D1309)/20)+1),\"\"))","v":""},{"$f":"_xlfn.IFNA(IF(VLOOKUP(B1309,_!$A$7:$E$210,2,FALSE)=0, \"\", VLOOKUP(B1309,_!$A$7:$E$210,2,FALSE)),  \"\")","v":""},{"$f":"_xlfn.IFNA(IF(VLOOKUP(B1309,_!$A$7:$E$210,3,FALSE)=0, \"\", VLOOKUP(B1309,_!$A$7:$E$210,3,FALSE)), \"\")","v":""},{"$f":"_xlfn.IFNA(IF(VLOOKUP(B1309,_!$A$7:$E$210,4,FALSE)=0, \"\",VLOOKUP(B1309,_!$A$7:$E$210,4,FALSE)), \"\")","v":""},{"$f":"_xlfn.IFNA(IF(VLOOKUP(B1309,_!$A$7:$E$210,5,FALSE)=0,\"\",VLOOKUP(B1309,_!$A$7:$E$210,5,FALSE)), \"\")","v":""}]
[4,null,{"$f":"_xlfn.IFNA(VLOOKUP(B1310,_!$A$7:$F$210,6,FALSE),\"\")","v":""},{"$f":"IF(IF(MOD(ROWS(D$3:D1310),20)=1,INDEX('Summary Sheet'!$B$17:$B1352,INT(ROWS(D$3:D1310)/20)+1),\"\")=0,\"\",IF(MOD(ROWS(D$3:D1310),20)=1,INDEX('Summary Sheet'!$B$17:$B1352,INT(ROWS(D$3:D1310)/20)+1),\"\"))","v":""},{"$f":"_xlfn.IFNA(IF(VLOOKUP(B1310,_!$A$7:$E$210,2,FALSE)=0, \"\", VLOOKUP(B1310,_!$A$7:$E$210,2,FALSE)),  \"\")","v":""},{"$f":"_xlfn.IFNA(IF(VLOOKUP(B1310,_!$A$7:$E$210,3,FALSE)=0, \"\", VLOOKUP(B1310,_!$A$7:$E$210,3,FALSE)), \"\")","v":""},{"$f":"_xlfn.IFNA(IF(VLOOKUP(B1310,_!$A$7:$E$210,4,FALSE)=0, \"\",VLOOKUP(B1310,_!$A$7:$E$210,4,FALSE)), \"\")","v":""},{"$f":"_xlfn.IFNA(IF(VLOOKUP(B1310,_!$A$7:$E$210,5,FALSE)=0,\"\",VLOOKUP(B1310,_!$A$7:$E$210,5,FALSE)), \"\")","v":""}]
[5,null,{"$f":"_xlfn.IFNA(VLOOKUP(B1311,_!$A$7:$F$210,6,FALSE),\"\")","v":""},{"$f":"IF(IF(MOD(ROWS(D$3:D1311),20)=1,INDEX('Summary Sheet'!$B$17:$B1352,INT(ROWS(D$3:D1311)/20)+1),\"\")=0,\"\",IF(MOD(ROWS(D$3:D1311),20)=1,INDEX('Summary Sheet'!$B$17:$B1352,INT(ROWS(D$3:D1311)/20)+1),\"\"))","v":""},{"$f":"_xlfn.IFNA(IF(VLOOKUP(B1311,_!$A$7:$E$210,2,FALSE)=0, \"\", VLOOKUP(B1311,_!$A$7:$E$210,2,FALSE)),  \"\")","v":""},{"$f":"_xlfn.IFNA(IF(VLOOKUP(B1311,_!$A$7:$E$210,3,FALSE)=0, \"\", VLOOKUP(B1311,_!$A$7:$E$210,3,FALSE)), \"\")","v":""},{"$f":"_xlfn.IFNA(IF(VLOOKUP(B1311,_!$A$7:$E$210,4,FALSE)=0, \"\",VLOOKUP(B1311,_!$A$7:$E$210,4,FALSE)), \"\")","v":""},{"$f":"_xlfn.IFNA(IF(VLOOKUP(B1311,_!$A$7:$E$210,5,FALSE)=0,\"\",VLOOKUP(B1311,_!$A$7:$E$210,5,FALSE)), \"\")","v":""}]
[6,null,{"$f":"_xlfn.IFNA(VLOOKUP(B1312,_!$A$7:$F$210,6,FALSE),\"\")","v":""},{"$f":"IF(IF(MOD(ROWS(D$3:D1312),20)=1,INDEX('Summary Sheet'!$B$17:$B1352,INT(ROWS(D$3:D1312)/20)+1),\"\")=0,\"\",IF(MOD(ROWS(D$3:D1312),20)=1,INDEX('Summary Sheet'!$B$17:$B1352,INT(ROWS(D$3:D1312)/20)+1),\"\"))","v":""},{"$f":"_xlfn.IFNA(IF(VLOOKUP(B1312,_!$A$7:$E$210,2,FALSE)=0, \"\", VLOOKUP(B1312,_!$A$7:$E$210,2,FALSE)),  \"\")","v":""},{"$f":"_xlfn.IFNA(IF(VLOOKUP(B1312,_!$A$7:$E$210,3,FALSE)=0, \"\", VLOOKUP(B1312,_!$A$7:$E$210,3,FALSE)), \"\")","v":""},{"$f":"_xlfn.IFNA(IF(VLOOKUP(B1312,_!$A$7:$E$210,4,FALSE)=0, \"\",VLOOKUP(B1312,_!$A$7:$E$210,4,FALSE)), \"\")","v":""},{"$f":"_xlfn.IFNA(IF(VLOOKUP(B1312,_!$A$7:$E$210,5,FALSE)=0,\"\",VLOOKUP(B1312,_!$A$7:$E$210,5,FALSE)), \"\")","v":""}]
[7,null,{"$f":"_xlfn.IFNA(VLOOKUP(B1313,_!$A$7:$F$210,6,FALSE),\"\")","v":""},{"$f":"IF(IF(MOD(ROWS(D$3:D1313),20)=1,INDEX('Summary Sheet'!$B$17:$B1352,INT(ROWS(D$3:D1313)/20)+1),\"\")=0,\"\",IF(MOD(ROWS(D$3:D1313),20)=1,INDEX('Summary Sheet'!$B$17:$B1352,INT(ROWS(D$3:D1313)/20)+1),\"\"))","v":""},{"$f":"_xlfn.IFNA(IF(VLOOKUP(B1313,_!$A$7:$E$210,2,FALSE)=0, \"\", VLOOKUP(B1313,_!$A$7:$E$210,2,FALSE)),  \"\")","v":""},{"$f":"_xlfn.IFNA(IF(VLOOKUP(B1313,_!$A$7:$E$210,3,FALSE)=0, \"\", VLOOKUP(B1313,_!$A$7:$E$210,3,FALSE)), \"\")","v":""},{"$f":"_xlfn.IFNA(IF(VLOOKUP(B1313,_!$A$7:$E$210,4,FALSE)=0, \"\",VLOOKUP(B1313,_!$A$7:$E$210,4,FALSE)), \"\")","v":""},{"$f":"_xlfn.IFNA(IF(VLOOKUP(B1313,_!$A$7:$E$210,5,FALSE)=0,\"\",VLOOKUP(B1313,_!$A$7:$E$210,5,FALSE)), \"\")","v":""}]
[8,null,{"$f":"_xlfn.IFNA(VLOOKUP(B1314,_!$A$7:$F$210,6,FALSE),\"\")","v":""},{"$f":"IF(IF(MOD(ROWS(D$3:D1314),20)=1,INDEX('Summary Sheet'!$B$17:$B1352,INT(ROWS(D$3:D1314)/20)+1),\"\")=0,\"\",IF(MOD(ROWS(D$3:D1314),20)=1,INDEX('Summary Sheet'!$B$17:$B1352,INT(ROWS(D$3:D1314)/20)+1),\"\"))","v":""},{"$f":"_xlfn.IFNA(IF(VLOOKUP(B1314,_!$A$7:$E$210,2,FALSE)=0, \"\", VLOOKUP(B1314,_!$A$7:$E$210,2,FALSE)),  \"\")","v":""},{"$f":"_xlfn.IFNA(IF(VLOOKUP(B1314,_!$A$7:$E$210,3,FALSE)=0, \"\", VLOOKUP(B1314,_!$A$7:$E$210,3,FALSE)), \"\")","v":""},{"$f":"_xlfn.IFNA(IF(VLOOKUP(B1314,_!$A$7:$E$210,4,FALSE)=0, \"\",VLOOKUP(B1314,_!$A$7:$E$210,4,FALSE)), \"\")","v":""},{"$f":"_xlfn.IFNA(IF(VLOOKUP(B1314,_!$A$7:$E$210,5,FALSE)=0,\"\",VLOOKUP(B1314,_!$A$7:$E$210,5,FALSE)), \"\")","v":""}]
[9,null,{"$f":"_xlfn.IFNA(VLOOKUP(B1315,_!$A$7:$F$210,6,FALSE),\"\")","v":""},{"$f":"IF(IF(MOD(ROWS(D$3:D1315),20)=1,INDEX('Summary Sheet'!$B$17:$B1352,INT(ROWS(D$3:D1315)/20)+1),\"\")=0,\"\",IF(MOD(ROWS(D$3:D1315),20)=1,INDEX('Summary Sheet'!$B$17:$B1352,INT(ROWS(D$3:D1315)/20)+1),\"\"))","v":""},{"$f":"_xlfn.IFNA(IF(VLOOKUP(B1315,_!$A$7:$E$210,2,FALSE)=0, \"\", VLOOKUP(B1315,_!$A$7:$E$210,2,FALSE)),  \"\")","v":""},{"$f":"_xlfn.IFNA(IF(VLOOKUP(B1315,_!$A$7:$E$210,3,FALSE)=0, \"\", VLOOKUP(B1315,_!$A$7:$E$210,3,FALSE)), \"\")","v":""},{"$f":"_xlfn.IFNA(IF(VLOOKUP(B1315,_!$A$7:$E$210,4,FALSE)=0, \"\",VLOOKUP(B1315,_!$A$7:$E$210,4,FALSE)), \"\")","v":""},{"$f":"_xlfn.IFNA(IF(VLOOKUP(B1315,_!$A$7:$E$210,5,FALSE)=0,\"\",VLOOKUP(B1315,_!$A$7:$E$210,5,FALSE)), \"\")","v":""}]
[10,null,{"$f":"_xlfn.IFNA(VLOOKUP(B1316,_!$A$7:$F$210,6,FALSE),\"\")","v":""},{"$f":"IF(IF(MOD(ROWS(D$14:D1316),20)=1,INDEX('Summary Sheet'!$B$17:$B1352,INT(ROWS(D$14:D1316)/20)+1),\"\")=0,\"\",IF(MOD(ROWS(D$14:D1316),20)=1,INDEX('Summary Sheet'!$B$17:$B1352,INT(ROWS(D$14:D1316)/20)+1),\"\"))","v":""},{"$f":"_xlfn.IFNA(IF(VLOOKUP(B1316,_!$A$7:$E$210,2,FALSE)=0, \"\", VLOOKUP(B1316,_!$A$7:$E$210,2,FALSE)),  \"\")","v":""},{"$f":"_xlfn.IFNA(IF(VLOOKUP(B1316,_!$A$7:$E$210,3,FALSE)=0, \"\", VLOOKUP(B1316,_!$A$7:$E$210,3,FALSE)), \"\")","v":""},{"$f":"_xlfn.IFNA(IF(VLOOKUP(B1316,_!$A$7:$E$210,4,FALSE)=0, \"\",VLOOKUP(B1316,_!$A$7:$E$210,4,FALSE)), \"\")","v":""},{"$f":"_xlfn.IFNA(IF(VLOOKUP(B1316,_!$A$7:$E$210,5,FALSE)=0,\"\",VLOOKUP(B1316,_!$A$7:$E$210,5,FALSE)), \"\")","v":""}]
[null,"\nHighest hazard level for each ‘Uptake Route’\n",null,null,{"$f":"_xlfn.IFNA(IF((INDEX(E1307:E1316,MATCH(\"E\",E1307:E1316,0)))=\"E\",\"E\",\"\"),_xlfn.IFNA(IF((INDEX(E1307:E1316,MATCH(\"D\",E1307:E1316,0)))=\"D\",\"D\",\"\"),_xlfn.IFNA(IF((INDEX(E1307:E1316,MATCH(\"Ca\",E1307:E1316,0)))=\"Ca\",\"C\",\"\"),_xlfn.IFNA(IF((INDEX(E1307:E1316,MATCH(\"C\",E1307:E1316,0)))=\"C\",\"C\",\"\"),_xlfn.IFNA(IF((INDEX(E1307:E1316,MATCH(\"B\",E1307:E1316,0)))=\"B\",\"B\",\"\"),_xlfn.IFNA(IF((INDEX(E1307:E1316,MATCH(\"A\",E1307:E1316,0)))=\"A\",\"A\",\"\"),_xlfn.IFNA(IF((INDEX(E1307:E1316,MATCH(\"n.a.\",E1307:E1316,0)))=\"n.a.\",\"\",\"\"),_xlfn.IFNA(IF((INDEX(E1307:E1316,MATCH(\"\",E1307:E1316,0)))=\"\",\"\",\"\"),\"\"))))))))","v":""},{"$f":"_xlfn.IFNA(IF((INDEX(F1307:F1316,MATCH(\"E\",F1307:F1316,0)))=\"E\",\"E\",\"\"),_xlfn.IFNA(IF((INDEX(F1307:F1316,MATCH(\"D (E)c\",F1307:F1316,0)))=\"D (E)c\",\"D (E)c\",\"\"),_xlfn.IFNA(IF((INDEX(F1307:F1316,MATCH(\"Da (E)c\",F1307:F1316,0)))=\"Da (E)c\",\"D (E)c\",\"\"),_xlfn.IFNA(IF((INDEX(F1307:F1316,MATCH(\"D\",F1307:F1316,0)))=\"D\",\"D\",\"\"),_xlfn.IFNA(IF((INDEX(F1307:F1316,MATCH(\"Ca\",F1307:F1316,0)))=\"Ca\",\"C\",\"\"),_xlfn.IFNA(IF((INDEX(F1307:F1316,MATCH(\"C\",F1307:F1316,0)))=\"C\",\"C\",\"\"),_xlfn.IFNA(IF((INDEX(F1307:F1316,MATCH(\"Ba\",F1307:F1316,0)))=\"Ba\",\"B\",\"\"),_xlfn.IFNA(IF((INDEX(F1307:F1316,MATCH(\"B\",F1307:F1316,0)))=\"B\",\"B\",\"\"),_xlfn.IFNA(IF((INDEX(F1307:F1316,MATCH(\"Aa\",F1307:F1316,0)))=\"Aa\",\"A\",\"\"),_xlfn.IFNA(IF((INDEX(F1307:F1316,MATCH(\"A\",F1307:F1316,0)))=\"A\",\"A\",\"\"),_xlfn.IFNA(IF((INDEX(F1307:F1316,MATCH(\"n.a.\",F1307:F1316,0)))=\"n.a.\",\"\",\"\"),_xlfn.IFNA(IF((INDEX(F1307:F1316,MATCH(\"\",F1307:F1316,0)))=\"\",\"\",\"\"),\"\"))))))))))))","v":""},{"$f":"_xlfn.IFNA(IF((INDEX(G1307:G1316,MATCH(\"E\",G1307:G1316,0)))=\"E\",\"E\",\"\"),_xlfn.IFNA(IF((INDEX(G1307:G1316,MATCH(\"D\",G1307:G1316,0)))=\"D\",\"D\",\"\"),_xlfn.IFNA(IF((INDEX(G1307:G1316,MATCH(\"Ca\",G1307:G1316,0)))=\"Ca\",\"C\",\"\"),_xlfn.IFNA(IF((INDEX(G1307:G1316,MATCH(\"C\",G1307:G1316,0)))=\"C\",\"C\",\"\"),_xlfn.IFNA(IF((INDEX(G1307:G1316,MATCH(\"B\",G1307:G1316,0)))=\"B\",\"B\",\"\"),_xlfn.IFNA(IF((INDEX(G1307:G1316,MATCH(\"A\",G1307:G1316,0)))=\"A\",\"A\",\"\"),_xlfn.IFNA(IF((INDEX(G1307:G1316,MATCH(\"n.a.\",G1307:G1316,0)))=\"n.a.\",\"\",\"\"),_xlfn.IFNA(IF((INDEX(G1307:G1316,MATCH(\"\",G1307:G1316,0)))=\"\",\"\",\"\"),\"\"))))))))","v":""},{"$f":"_xlfn.IFNA(IF((INDEX(H1307:H1316,MATCH(\"E\",H1307:H1316,0)))=\"E\",\"E\",\"\"),_xlfn.IFNA(IF((INDEX(H1307:H1316,MATCH(\"D (E)c\",H1307:H1316,0)))=\"D (E)c\",\"D (E)c\",\"\"),_xlfn.IFNA(IF((INDEX(H1307:H1316,MATCH(\"Db (E)c\",H1307:H1316,0)))=\"Db (E)c\",\"D (E)c\",\"\"),_xlfn.IFNA(IF((INDEX(H1307:H1316,MATCH(\"D\",H1307:H1316,0)))=\"D\",\"D\",\"\"),_xlfn.IFNA(IF((INDEX(H1307:H1316,MATCH(\"Cb\",H1307:H1316,0)))=\"Cb\",\"C\",\"\"),_xlfn.IFNA(IF((INDEX(H1307:H1316,MATCH(\"C\",H1307:H1316,0)))=\"C\",\"C\",\"\"),_xlfn.IFNA(IF((INDEX(H1307:H1316,MATCH(\"Bb\",H1307:H1316,0)))=\"Bb\",\"B\",\"\"),_xlfn.IFNA(IF((INDEX(H1307:H1316,MATCH(\"B\",H1307:H1316,0)))=\"B\",\"B\",\"\"),_xlfn.IFNA(IF((INDEX(H1307:H1316,MATCH(\"Ab\",H1307:H1316,0)))=\"Ab\",\"A\",\"\"),_xlfn.IFNA(IF((INDEX(H1307:H1316,MATCH(\"A\",H1307:H1316,0)))=\"A\",\"A\",\"\"),_xlfn.IFNA(IF((INDEX(H1307:H1316,MATCH(\"n.a.\",H1307:H1316,0)))=\"n.a.\",\"\",\"\"),_xlfn.IFNA(IF((INDEX(H1307:H1316,MATCH(\"\",H1307:H1316,0)))=\"\",\"\",\"\"),\"\"))))))))))))","v":""}]
[null,"\nHighest hazard level for all 'Uptake Routes' \n",null,null,{"$f":"_xlfn.IFNA(IF((INDEX(E1317:H1317,MATCH(\"E\",E1317:H1317,0)))=\"E\",\"E\",\"\"),_xlfn.IFNA(IF((INDEX(E1317:H1317,MATCH(\"D (E)c\",E1317:H1317,0)))=\"D (E)c\",\"D (E)\",\"\"),_xlfn.IFNA(IF((INDEX(E1317:H1317,MATCH(\"D\",E1317:H1317,0)))=\"D\",\"D\",\"\"),_xlfn.IFNA(IF((INDEX(E1317:H1317,MATCH(\"C\",E1317:H1317,0)))=\"C\",\"C\",\"\"),_xlfn.IFNA(IF((INDEX(E1317:H1317,MATCH(\"B\",E1317:H1317,0)))=\"B\",\"B\",\"\"),_xlfn.IFNA(IF((INDEX(E1317:H1317,MATCH(\"A\",E1317:H1317,0)))=\"A\",\"A\",\"\"),_xlfn.IFNA(IF((INDEX(E1317:H1317,MATCH(\"n.a.\",E1317:H1317,0)))=\"n.a.\",\"\",\"\"),_xlfn.IFNA(IF((INDEX(E1317:H1317,MATCH(\"\",E1317:H1317,0)))=\"\",\"\",\"\"),\"\"))))))))","v":""}]
[]
[]
[null,"\nStep 3: D(E) Assessment\nSkip this step if \nyour assessment above does not reveal a D(E) hazard level.\nHover over this cell for additional instructions.\n",null,null,"\nOverall hazard level\n",null,{"$f":"IF(AND(E1318=\"\",C1304=\"Yes\")=TRUE,\"B\",IF(E1318=\"\",\"\",(IF(AND(E1318=\"D (E)\",C1321=\"\"),\"D (E)\"&CHAR(10)&\"Find if cat. 1 acute tox.\",(IF(E1318<>\"D (E)\",E1318,(IF(AND(E1318=\"D (E)\",C1321=\"Yes\"),\"E\",(IF(AND(E1318=\"D (E)\",C1321=\"No\"),\"D\",\"\"))))))))))","v":""}]
[]
[{"$f":"IF(IF(MOD(ROWS(B$3:B1323),20)=1,INDEX('Summary Sheet'!$A$17:$A1371,INT(ROWS(B$3:B1323)/20)+1),\"\")=0,\"\",IF(MOD(ROWS(B$3:B1323),20)=1,INDEX('Summary Sheet'!$A$17:$A1371,INT(ROWS(B$3:B1323)/20)+1),\"\"))","v":67},"Hazard Level Assessment","for",{"$f":"IF(IF(MOD(ROWS(D$3:D1323),20)=1,INDEX('Summary Sheet'!$B$17:$B1371,INT(ROWS(D$3:D1323)/20)+1),\"\")=0,\"\",IF(MOD(ROWS(D$3:D1323),20)=1,INDEX('Summary Sheet'!$B$17:$B1371,INT(ROWS(D$3:D1323)/20)+1),\"\"))","v":""}]
[null,"\nStep 1: Physical & Environmental Hazard Statements/Codes\nFind Section 2 of the SDS and determine if the SDS has physical and/or environmental hazard statements/codes. Hover on this cell for additional instructions.\n",null,{"$f":"IF(IF(MOD(ROWS(D$3:D1324),20)=1,INDEX('Summary Sheet'!$B$17:$B1371,INT(ROWS(D$3:D1324)/20)+1),\"\")=0,\"\",IF(MOD(ROWS(D$3:D1324),20)=1,INDEX('Summary Sheet'!$B$17:$B1371,INT(ROWS(D$3:D1324)/20)+1),\"\"))","v":""}]
[null,"Step 2: Health Hazard Statements/Codes\nProvide the Health Hazard Statements or Codes from Section 2 of the SDS below. Hover on this cell for additional instructions.",null,{"$f":"IF(IF(MOD(ROWS(D$3:D1325),20)=1,INDEX('Summary Sheet'!$B$17:$B1371,INT(ROWS(D$3:D1325)/20)+1),\"\")=0,\"\",IF(MOD(ROWS(D$3:D1325),20)=1,INDEX('Summary Sheet'!$B$17:$B1371,INT(ROWS(D$3:D1325)/20)+1),\"\"))","v":""},"\nHazard Level\n"]
[null,null,null,{"$f":"IF(IF(MOD(ROWS(D$3:D1326),20)=1,INDEX('Summary Sheet'!$B$17:$B1371,INT(ROWS(D$3:D1326)/20)+1),\"\")=0,\"\",IF(MOD(ROWS(D$3:D1326),20)=1,INDEX('Summary Sheet'!$B$17:$B1371,INT(ROWS(D$3:D1326)/20)+1),\"\"))","v":""},"\nEye Damage\n","\nInhalation\n","\nLocal Skin Damage\n","\nSkin uptake, systemic\n"]
[1,null,{"$f":"_xlfn.IFNA(VLOOKUP(B1327,_!$A$7:$F$210,6,FALSE),\"\")","v":""},{"$f":"IF(IF(MOD(ROWS(D$3:D1327),20)=1,INDEX('Summary Sheet'!$B$17:$B1371,INT(ROWS(D$3:D1327)/20)+1),\"\")=0,\"\",IF(MOD(ROWS(D$3:D1327),20)=1,INDEX('Summary Sheet'!$B$17:$B1371,INT(ROWS(D$3:D1327)/20)+1),\"\"))","v":""},{"$f":"_xlfn.IFNA(IF(VLOOKUP(B1327,_!$A$7:$E$210,2,FALSE)=0, \"\", VLOOKUP(B1327,_!$A$7:$E$210,2,FALSE)),  \"\")","v":""},{"$f":"_xlfn.IFNA(IF(VLOOKUP(B1327,_!$A$7:$E$210,3,FALSE)=0, \"\", VLOOKUP(B1327,_!$A$7:$E$210,3,FALSE)), \"\")","v":""},{"$f":"_xlfn.IFNA(IF(VLOOKUP(B1327,_!$A$7:$E$210,4,FALSE)=0, \"\",VLOOKUP(B1327,_!$A$7:$E$210,4,FALSE)), \"\")","v":""},{"$f":"_xlfn.IFNA(IF(VLOOKUP(B1327,_!$A$7:$E$210,5,FALSE)=0,\"\",VLOOKUP(B1327,_!$A$7:$E$210,5,FALSE)), \"\")","v":""}]
[2,null,{"$f":"_xlfn.IFNA(VLOOKUP(B1328,_!$A$7:$F$210,6,FALSE),\"\")","v":""},{"$f":"IF(IF(MOD(ROWS(D$3:D1328),20)=1,INDEX('Summary Sheet'!$B$17:$B1371,INT(ROWS(D$3:D1328)/20)+1),\"\")=0,\"\",IF(MOD(ROWS(D$3:D1328),20)=1,INDEX('Summary Sheet'!$B$17:$B1371,INT(ROWS(D$3:D1328)/20)+1),\"\"))","v":""},{"$f":"_xlfn.IFNA(IF(VLOOKUP(B1328,_!$A$7:$E$210,2,FALSE)=0, \"\", VLOOKUP(B1328,_!$A$7:$E$210,2,FALSE)),  \"\")","v":""},{"$f":"_xlfn.IFNA(IF(VLOOKUP(B1328,_!$A$7:$E$210,3,FALSE)=0, \"\", VLOOKUP(B1328,_!$A$7:$E$210,3,FALSE)), \"\")","v":""},{"$f":"_xlfn.IFNA(IF(VLOOKUP(B1328,_!$A$7:$E$210,4,FALSE)=0, \"\",VLOOKUP(B1328,_!$A$7:$E$210,4,FALSE)), \"\")","v":""},{"$f":"_xlfn.IFNA(IF(VLOOKUP(B1328,_!$A$7:$E$210,5,FALSE)=0,\"\",VLOOKUP(B1328,_!$A$7:$E$210,5,FALSE)), \"\")","v":""}]
[3,null,{"$f":"_xlfn.IFNA(VLOOKUP(B1329,_!$A$7:$F$210,6,FALSE),\"\")","v":""},{"$f":"IF(IF(MOD(ROWS(D$3:D1329),20)=1,INDEX('Summary Sheet'!$B$17:$B1371,INT(ROWS(D$3:D1329)/20)+1),\"\")=0,\"\",IF(MOD(ROWS(D$3:D1329),20)=1,INDEX('Summary Sheet'!$B$17:$B1371,INT(ROWS(D$3:D1329)/20)+1),\"\"))","v":""},{"$f":"_xlfn.IFNA(IF(VLOOKUP(B1329,_!$A$7:$E$210,2,FALSE)=0, \"\", VLOOKUP(B1329,_!$A$7:$E$210,2,FALSE)),  \"\")","v":""},{"$f":"_xlfn.IFNA(IF(VLOOKUP(B1329,_!$A$7:$E$210,3,FALSE)=0, \"\", VLOOKUP(B1329,_!$A$7:$E$210,3,FALSE)), \"\")","v":""},{"$f":"_xlfn.IFNA(IF(VLOOKUP(B1329,_!$A$7:$E$210,4,FALSE)=0, \"\",VLOOKUP(B1329,_!$A$7:$E$210,4,FALSE)), \"\")","v":""},{"$f":"_xlfn.IFNA(IF(VLOOKUP(B1329,_!$A$7:$E$210,5,FALSE)=0,\"\",VLOOKUP(B1329,_!$A$7:$E$210,5,FALSE)), \"\")","v":""}]
[4,null,{"$f":"_xlfn.IFNA(VLOOKUP(B1330,_!$A$7:$F$210,6,FALSE),\"\")","v":""},{"$f":"IF(IF(MOD(ROWS(D$3:D1330),20)=1,INDEX('Summary Sheet'!$B$17:$B1371,INT(ROWS(D$3:D1330)/20)+1),\"\")=0,\"\",IF(MOD(ROWS(D$3:D1330),20)=1,INDEX('Summary Sheet'!$B$17:$B1371,INT(ROWS(D$3:D1330)/20)+1),\"\"))","v":""},{"$f":"_xlfn.IFNA(IF(VLOOKUP(B1330,_!$A$7:$E$210,2,FALSE)=0, \"\", VLOOKUP(B1330,_!$A$7:$E$210,2,FALSE)),  \"\")","v":""},{"$f":"_xlfn.IFNA(IF(VLOOKUP(B1330,_!$A$7:$E$210,3,FALSE)=0, \"\", VLOOKUP(B1330,_!$A$7:$E$210,3,FALSE)), \"\")","v":""},{"$f":"_xlfn.IFNA(IF(VLOOKUP(B1330,_!$A$7:$E$210,4,FALSE)=0, \"\",VLOOKUP(B1330,_!$A$7:$E$210,4,FALSE)), \"\")","v":""},{"$f":"_xlfn.IFNA(IF(VLOOKUP(B1330,_!$A$7:$E$210,5,FALSE)=0,\"\",VLOOKUP(B1330,_!$A$7:$E$210,5,FALSE)), \"\")","v":""}]
[5,null,{"$f":"_xlfn.IFNA(VLOOKUP(B1331,_!$A$7:$F$210,6,FALSE),\"\")","v":""},{"$f":"IF(IF(MOD(ROWS(D$3:D1331),20)=1,INDEX('Summary Sheet'!$B$17:$B1371,INT(ROWS(D$3:D1331)/20)+1),\"\")=0,\"\",IF(MOD(ROWS(D$3:D1331),20)=1,INDEX('Summary Sheet'!$B$17:$B1371,INT(ROWS(D$3:D1331)/20)+1),\"\"))","v":""},{"$f":"_xlfn.IFNA(IF(VLOOKUP(B1331,_!$A$7:$E$210,2,FALSE)=0, \"\", VLOOKUP(B1331,_!$A$7:$E$210,2,FALSE)),  \"\")","v":""},{"$f":"_xlfn.IFNA(IF(VLOOKUP(B1331,_!$A$7:$E$210,3,FALSE)=0, \"\", VLOOKUP(B1331,_!$A$7:$E$210,3,FALSE)), \"\")","v":""},{"$f":"_xlfn.IFNA(IF(VLOOKUP(B1331,_!$A$7:$E$210,4,FALSE)=0, \"\",VLOOKUP(B1331,_!$A$7:$E$210,4,FALSE)), \"\")","v":""},{"$f":"_xlfn.IFNA(IF(VLOOKUP(B1331,_!$A$7:$E$210,5,FALSE)=0,\"\",VLOOKUP(B1331,_!$A$7:$E$210,5,FALSE)), \"\")","v":""}]
[6,null,{"$f":"_xlfn.IFNA(VLOOKUP(B1332,_!$A$7:$F$210,6,FALSE),\"\")","v":""},{"$f":"IF(IF(MOD(ROWS(D$3:D1332),20)=1,INDEX('Summary Sheet'!$B$17:$B1371,INT(ROWS(D$3:D1332)/20)+1),\"\")=0,\"\",IF(MOD(ROWS(D$3:D1332),20)=1,INDEX('Summary Sheet'!$B$17:$B1371,INT(ROWS(D$3:D1332)/20)+1),\"\"))","v":""},{"$f":"_xlfn.IFNA(IF(VLOOKUP(B1332,_!$A$7:$E$210,2,FALSE)=0, \"\", VLOOKUP(B1332,_!$A$7:$E$210,2,FALSE)),  \"\")","v":""},{"$f":"_xlfn.IFNA(IF(VLOOKUP(B1332,_!$A$7:$E$210,3,FALSE)=0, \"\", VLOOKUP(B1332,_!$A$7:$E$210,3,FALSE)), \"\")","v":""},{"$f":"_xlfn.IFNA(IF(VLOOKUP(B1332,_!$A$7:$E$210,4,FALSE)=0, \"\",VLOOKUP(B1332,_!$A$7:$E$210,4,FALSE)), \"\")","v":""},{"$f":"_xlfn.IFNA(IF(VLOOKUP(B1332,_!$A$7:$E$210,5,FALSE)=0,\"\",VLOOKUP(B1332,_!$A$7:$E$210,5,FALSE)), \"\")","v":""}]
[7,null,{"$f":"_xlfn.IFNA(VLOOKUP(B1333,_!$A$7:$F$210,6,FALSE),\"\")","v":""},{"$f":"IF(IF(MOD(ROWS(D$3:D1333),20)=1,INDEX('Summary Sheet'!$B$17:$B1371,INT(ROWS(D$3:D1333)/20)+1),\"\")=0,\"\",IF(MOD(ROWS(D$3:D1333),20)=1,INDEX('Summary Sheet'!$B$17:$B1371,INT(ROWS(D$3:D1333)/20)+1),\"\"))","v":""},{"$f":"_xlfn.IFNA(IF(VLOOKUP(B1333,_!$A$7:$E$210,2,FALSE)=0, \"\", VLOOKUP(B1333,_!$A$7:$E$210,2,FALSE)),  \"\")","v":""},{"$f":"_xlfn.IFNA(IF(VLOOKUP(B1333,_!$A$7:$E$210,3,FALSE)=0, \"\", VLOOKUP(B1333,_!$A$7:$E$210,3,FALSE)), \"\")","v":""},{"$f":"_xlfn.IFNA(IF(VLOOKUP(B1333,_!$A$7:$E$210,4,FALSE)=0, \"\",VLOOKUP(B1333,_!$A$7:$E$210,4,FALSE)), \"\")","v":""},{"$f":"_xlfn.IFNA(IF(VLOOKUP(B1333,_!$A$7:$E$210,5,FALSE)=0,\"\",VLOOKUP(B1333,_!$A$7:$E$210,5,FALSE)), \"\")","v":""}]
[8,null,{"$f":"_xlfn.IFNA(VLOOKUP(B1334,_!$A$7:$F$210,6,FALSE),\"\")","v":""},{"$f":"IF(IF(MOD(ROWS(D$3:D1334),20)=1,INDEX('Summary Sheet'!$B$17:$B1371,INT(ROWS(D$3:D1334)/20)+1),\"\")=0,\"\",IF(MOD(ROWS(D$3:D1334),20)=1,INDEX('Summary Sheet'!$B$17:$B1371,INT(ROWS(D$3:D1334)/20)+1),\"\"))","v":""},{"$f":"_xlfn.IFNA(IF(VLOOKUP(B1334,_!$A$7:$E$210,2,FALSE)=0, \"\", VLOOKUP(B1334,_!$A$7:$E$210,2,FALSE)),  \"\")","v":""},{"$f":"_xlfn.IFNA(IF(VLOOKUP(B1334,_!$A$7:$E$210,3,FALSE)=0, \"\", VLOOKUP(B1334,_!$A$7:$E$210,3,FALSE)), \"\")","v":""},{"$f":"_xlfn.IFNA(IF(VLOOKUP(B1334,_!$A$7:$E$210,4,FALSE)=0, \"\",VLOOKUP(B1334,_!$A$7:$E$210,4,FALSE)), \"\")","v":""},{"$f":"_xlfn.IFNA(IF(VLOOKUP(B1334,_!$A$7:$E$210,5,FALSE)=0,\"\",VLOOKUP(B1334,_!$A$7:$E$210,5,FALSE)), \"\")","v":""}]
[9,null,{"$f":"_xlfn.IFNA(VLOOKUP(B1335,_!$A$7:$F$210,6,FALSE),\"\")","v":""},{"$f":"IF(IF(MOD(ROWS(D$3:D1335),20)=1,INDEX('Summary Sheet'!$B$17:$B1371,INT(ROWS(D$3:D1335)/20)+1),\"\")=0,\"\",IF(MOD(ROWS(D$3:D1335),20)=1,INDEX('Summary Sheet'!$B$17:$B1371,INT(ROWS(D$3:D1335)/20)+1),\"\"))","v":""},{"$f":"_xlfn.IFNA(IF(VLOOKUP(B1335,_!$A$7:$E$210,2,FALSE)=0, \"\", VLOOKUP(B1335,_!$A$7:$E$210,2,FALSE)),  \"\")","v":""},{"$f":"_xlfn.IFNA(IF(VLOOKUP(B1335,_!$A$7:$E$210,3,FALSE)=0, \"\", VLOOKUP(B1335,_!$A$7:$E$210,3,FALSE)), \"\")","v":""},{"$f":"_xlfn.IFNA(IF(VLOOKUP(B1335,_!$A$7:$E$210,4,FALSE)=0, \"\",VLOOKUP(B1335,_!$A$7:$E$210,4,FALSE)), \"\")","v":""},{"$f":"_xlfn.IFNA(IF(VLOOKUP(B1335,_!$A$7:$E$210,5,FALSE)=0,\"\",VLOOKUP(B1335,_!$A$7:$E$210,5,FALSE)), \"\")","v":""}]
[10,null,{"$f":"_xlfn.IFNA(VLOOKUP(B1336,_!$A$7:$F$210,6,FALSE),\"\")","v":""},{"$f":"IF(IF(MOD(ROWS(D$14:D1336),20)=1,INDEX('Summary Sheet'!$B$17:$B1371,INT(ROWS(D$14:D1336)/20)+1),\"\")=0,\"\",IF(MOD(ROWS(D$14:D1336),20)=1,INDEX('Summary Sheet'!$B$17:$B1371,INT(ROWS(D$14:D1336)/20)+1),\"\"))","v":""},{"$f":"_xlfn.IFNA(IF(VLOOKUP(B1336,_!$A$7:$E$210,2,FALSE)=0, \"\", VLOOKUP(B1336,_!$A$7:$E$210,2,FALSE)),  \"\")","v":""},{"$f":"_xlfn.IFNA(IF(VLOOKUP(B1336,_!$A$7:$E$210,3,FALSE)=0, \"\", VLOOKUP(B1336,_!$A$7:$E$210,3,FALSE)), \"\")","v":""},{"$f":"_xlfn.IFNA(IF(VLOOKUP(B1336,_!$A$7:$E$210,4,FALSE)=0, \"\",VLOOKUP(B1336,_!$A$7:$E$210,4,FALSE)), \"\")","v":""},{"$f":"_xlfn.IFNA(IF(VLOOKUP(B1336,_!$A$7:$E$210,5,FALSE)=0,\"\",VLOOKUP(B1336,_!$A$7:$E$210,5,FALSE)), \"\")","v":""}]
[null,"\nHighest hazard level for each ‘Uptake Route’\n",null,null,{"$f":"_xlfn.IFNA(IF((INDEX(E1327:E1336,MATCH(\"E\",E1327:E1336,0)))=\"E\",\"E\",\"\"),_xlfn.IFNA(IF((INDEX(E1327:E1336,MATCH(\"D\",E1327:E1336,0)))=\"D\",\"D\",\"\"),_xlfn.IFNA(IF((INDEX(E1327:E1336,MATCH(\"Ca\",E1327:E1336,0)))=\"Ca\",\"C\",\"\"),_xlfn.IFNA(IF((INDEX(E1327:E1336,MATCH(\"C\",E1327:E1336,0)))=\"C\",\"C\",\"\"),_xlfn.IFNA(IF((INDEX(E1327:E1336,MATCH(\"B\",E1327:E1336,0)))=\"B\",\"B\",\"\"),_xlfn.IFNA(IF((INDEX(E1327:E1336,MATCH(\"A\",E1327:E1336,0)))=\"A\",\"A\",\"\"),_xlfn.IFNA(IF((INDEX(E1327:E1336,MATCH(\"n.a.\",E1327:E1336,0)))=\"n.a.\",\"\",\"\"),_xlfn.IFNA(IF((INDEX(E1327:E1336,MATCH(\"\",E1327:E1336,0)))=\"\",\"\",\"\"),\"\"))))))))","v":""},{"$f":"_xlfn.IFNA(IF((INDEX(F1327:F1336,MATCH(\"E\",F1327:F1336,0)))=\"E\",\"E\",\"\"),_xlfn.IFNA(IF((INDEX(F1327:F1336,MATCH(\"D (E)c\",F1327:F1336,0)))=\"D (E)c\",\"D (E)c\",\"\"),_xlfn.IFNA(IF((INDEX(F1327:F1336,MATCH(\"Da (E)c\",F1327:F1336,0)))=\"Da (E)c\",\"D (E)c\",\"\"),_xlfn.IFNA(IF((INDEX(F1327:F1336,MATCH(\"D\",F1327:F1336,0)))=\"D\",\"D\",\"\"),_xlfn.IFNA(IF((INDEX(F1327:F1336,MATCH(\"Ca\",F1327:F1336,0)))=\"Ca\",\"C\",\"\"),_xlfn.IFNA(IF((INDEX(F1327:F1336,MATCH(\"C\",F1327:F1336,0)))=\"C\",\"C\",\"\"),_xlfn.IFNA(IF((INDEX(F1327:F1336,MATCH(\"Ba\",F1327:F1336,0)))=\"Ba\",\"B\",\"\"),_xlfn.IFNA(IF((INDEX(F1327:F1336,MATCH(\"B\",F1327:F1336,0)))=\"B\",\"B\",\"\"),_xlfn.IFNA(IF((INDEX(F1327:F1336,MATCH(\"Aa\",F1327:F1336,0)))=\"Aa\",\"A\",\"\"),_xlfn.IFNA(IF((INDEX(F1327:F1336,MATCH(\"A\",F1327:F1336,0)))=\"A\",\"A\",\"\"),_xlfn.IFNA(IF((INDEX(F1327:F1336,MATCH(\"n.a.\",F1327:F1336,0)))=\"n.a.\",\"\",\"\"),_xlfn.IFNA(IF((INDEX(F1327:F1336,MATCH(\"\",F1327:F1336,0)))=\"\",\"\",\"\"),\"\"))))))))))))","v":""},{"$f":"_xlfn.IFNA(IF((INDEX(G1327:G1336,MATCH(\"E\",G1327:G1336,0)))=\"E\",\"E\",\"\"),_xlfn.IFNA(IF((INDEX(G1327:G1336,MATCH(\"D\",G1327:G1336,0)))=\"D\",\"D\",\"\"),_xlfn.IFNA(IF((INDEX(G1327:G1336,MATCH(\"Ca\",G1327:G1336,0)))=\"Ca\",\"C\",\"\"),_xlfn.IFNA(IF((INDEX(G1327:G1336,MATCH(\"C\",G1327:G1336,0)))=\"C\",\"C\",\"\"),_xlfn.IFNA(IF((INDEX(G1327:G1336,MATCH(\"B\",G1327:G1336,0)))=\"B\",\"B\",\"\"),_xlfn.IFNA(IF((INDEX(G1327:G1336,MATCH(\"A\",G1327:G1336,0)))=\"A\",\"A\",\"\"),_xlfn.IFNA(IF((INDEX(G1327:G1336,MATCH(\"n.a.\",G1327:G1336,0)))=\"n.a.\",\"\",\"\"),_xlfn.IFNA(IF((INDEX(G1327:G1336,MATCH(\"\",G1327:G1336,0)))=\"\",\"\",\"\"),\"\"))))))))","v":""},{"$f":"_xlfn.IFNA(IF((INDEX(H1327:H1336,MATCH(\"E\",H1327:H1336,0)))=\"E\",\"E\",\"\"),_xlfn.IFNA(IF((INDEX(H1327:H1336,MATCH(\"D (E)c\",H1327:H1336,0)))=\"D (E)c\",\"D (E)c\",\"\"),_xlfn.IFNA(IF((INDEX(H1327:H1336,MATCH(\"Db (E)c\",H1327:H1336,0)))=\"Db (E)c\",\"D (E)c\",\"\"),_xlfn.IFNA(IF((INDEX(H1327:H1336,MATCH(\"D\",H1327:H1336,0)))=\"D\",\"D\",\"\"),_xlfn.IFNA(IF((INDEX(H1327:H1336,MATCH(\"Cb\",H1327:H1336,0)))=\"Cb\",\"C\",\"\"),_xlfn.IFNA(IF((INDEX(H1327:H1336,MATCH(\"C\",H1327:H1336,0)))=\"C\",\"C\",\"\"),_xlfn.IFNA(IF((INDEX(H1327:H1336,MATCH(\"Bb\",H1327:H1336,0)))=\"Bb\",\"B\",\"\"),_xlfn.IFNA(IF((INDEX(H1327:H1336,MATCH(\"B\",H1327:H1336,0)))=\"B\",\"B\",\"\"),_xlfn.IFNA(IF((INDEX(H1327:H1336,MATCH(\"Ab\",H1327:H1336,0)))=\"Ab\",\"A\",\"\"),_xlfn.IFNA(IF((INDEX(H1327:H1336,MATCH(\"A\",H1327:H1336,0)))=\"A\",\"A\",\"\"),_xlfn.IFNA(IF((INDEX(H1327:H1336,MATCH(\"n.a.\",H1327:H1336,0)))=\"n.a.\",\"\",\"\"),_xlfn.IFNA(IF((INDEX(H1327:H1336,MATCH(\"\",H1327:H1336,0)))=\"\",\"\",\"\"),\"\"))))))))))))","v":""}]
[null,"\nHighest hazard level for all 'Uptake Routes' \n",null,null,{"$f":"_xlfn.IFNA(IF((INDEX(E1337:H1337,MATCH(\"E\",E1337:H1337,0)))=\"E\",\"E\",\"\"),_xlfn.IFNA(IF((INDEX(E1337:H1337,MATCH(\"D (E)c\",E1337:H1337,0)))=\"D (E)c\",\"D (E)\",\"\"),_xlfn.IFNA(IF((INDEX(E1337:H1337,MATCH(\"D\",E1337:H1337,0)))=\"D\",\"D\",\"\"),_xlfn.IFNA(IF((INDEX(E1337:H1337,MATCH(\"C\",E1337:H1337,0)))=\"C\",\"C\",\"\"),_xlfn.IFNA(IF((INDEX(E1337:H1337,MATCH(\"B\",E1337:H1337,0)))=\"B\",\"B\",\"\"),_xlfn.IFNA(IF((INDEX(E1337:H1337,MATCH(\"A\",E1337:H1337,0)))=\"A\",\"A\",\"\"),_xlfn.IFNA(IF((INDEX(E1337:H1337,MATCH(\"n.a.\",E1337:H1337,0)))=\"n.a.\",\"\",\"\"),_xlfn.IFNA(IF((INDEX(E1337:H1337,MATCH(\"\",E1337:H1337,0)))=\"\",\"\",\"\"),\"\"))))))))","v":""}]
[]
[]
[null,"\nStep 3: D(E) Assessment\nSkip this step if \nyour assessment above does not reveal a D(E) hazard level.\nHover over this cell for additional instructions.\n",null,null,"\nOverall hazard level\n",null,{"$f":"IF(AND(E1338=\"\",C1324=\"Yes\")=TRUE,\"B\",IF(E1338=\"\",\"\",(IF(AND(E1338=\"D (E)\",C1341=\"\"),\"D (E)\"&CHAR(10)&\"Find if cat. 1 acute tox.\",(IF(E1338<>\"D (E)\",E1338,(IF(AND(E1338=\"D (E)\",C1341=\"Yes\"),\"E\",(IF(AND(E1338=\"D (E)\",C1341=\"No\"),\"D\",\"\"))))))))))","v":""}]
[]
[{"$f":"IF(IF(MOD(ROWS(B$3:B1343),20)=1,INDEX('Summary Sheet'!$A$17:$A1390,INT(ROWS(B$3:B1343)/20)+1),\"\")=0,\"\",IF(MOD(ROWS(B$3:B1343),20)=1,INDEX('Summary Sheet'!$A$17:$A1390,INT(ROWS(B$3:B1343)/20)+1),\"\"))","v":68},"Hazard Level Assessment","for",{"$f":"IF(IF(MOD(ROWS(D$3:D1343),20)=1,INDEX('Summary Sheet'!$B$17:$B1390,INT(ROWS(D$3:D1343)/20)+1),\"\")=0,\"\",IF(MOD(ROWS(D$3:D1343),20)=1,INDEX('Summary Sheet'!$B$17:$B1390,INT(ROWS(D$3:D1343)/20)+1),\"\"))","v":""}]
[null,"\nStep 1: Physical & Environmental Hazard Statements/Codes\nFind Section 2 of the SDS and determine if the SDS has physical and/or environmental hazard statements/codes. Hover on this cell for additional instructions.\n",null,{"$f":"IF(IF(MOD(ROWS(D$3:D1344),20)=1,INDEX('Summary Sheet'!$B$17:$B1390,INT(ROWS(D$3:D1344)/20)+1),\"\")=0,\"\",IF(MOD(ROWS(D$3:D1344),20)=1,INDEX('Summary Sheet'!$B$17:$B1390,INT(ROWS(D$3:D1344)/20)+1),\"\"))","v":""}]
[null,"Step 2: Health Hazard Statements/Codes\nProvide the Health Hazard Statements or Codes from Section 2 of the SDS below. Hover on this cell for additional instructions.",null,{"$f":"IF(IF(MOD(ROWS(D$3:D1345),20)=1,INDEX('Summary Sheet'!$B$17:$B1390,INT(ROWS(D$3:D1345)/20)+1),\"\")=0,\"\",IF(MOD(ROWS(D$3:D1345),20)=1,INDEX('Summary Sheet'!$B$17:$B1390,INT(ROWS(D$3:D1345)/20)+1),\"\"))","v":""},"\nHazard Level\n"]
[null,null,null,{"$f":"IF(IF(MOD(ROWS(D$3:D1346),20)=1,INDEX('Summary Sheet'!$B$17:$B1390,INT(ROWS(D$3:D1346)/20)+1),\"\")=0,\"\",IF(MOD(ROWS(D$3:D1346),20)=1,INDEX('Summary Sheet'!$B$17:$B1390,INT(ROWS(D$3:D1346)/20)+1),\"\"))","v":""},"\nEye Damage\n","\nInhalation\n","\nLocal Skin Damage\n","\nSkin uptake, systemic\n"]
[1,null,{"$f":"_xlfn.IFNA(VLOOKUP(B1347,_!$A$7:$F$210,6,FALSE),\"\")","v":""},{"$f":"IF(IF(MOD(ROWS(D$3:D1347),20)=1,INDEX('Summary Sheet'!$B$17:$B1390,INT(ROWS(D$3:D1347)/20)+1),\"\")=0,\"\",IF(MOD(ROWS(D$3:D1347),20)=1,INDEX('Summary Sheet'!$B$17:$B1390,INT(ROWS(D$3:D1347)/20)+1),\"\"))","v":""},{"$f":"_xlfn.IFNA(IF(VLOOKUP(B1347,_!$A$7:$E$210,2,FALSE)=0, \"\", VLOOKUP(B1347,_!$A$7:$E$210,2,FALSE)),  \"\")","v":""},{"$f":"_xlfn.IFNA(IF(VLOOKUP(B1347,_!$A$7:$E$210,3,FALSE)=0, \"\", VLOOKUP(B1347,_!$A$7:$E$210,3,FALSE)), \"\")","v":""},{"$f":"_xlfn.IFNA(IF(VLOOKUP(B1347,_!$A$7:$E$210,4,FALSE)=0, \"\",VLOOKUP(B1347,_!$A$7:$E$210,4,FALSE)), \"\")","v":""},{"$f":"_xlfn.IFNA(IF(VLOOKUP(B1347,_!$A$7:$E$210,5,FALSE)=0,\"\",VLOOKUP(B1347,_!$A$7:$E$210,5,FALSE)), \"\")","v":""}]
[2,null,{"$f":"_xlfn.IFNA(VLOOKUP(B1348,_!$A$7:$F$210,6,FALSE),\"\")","v":""},{"$f":"IF(IF(MOD(ROWS(D$3:D1348),20)=1,INDEX('Summary Sheet'!$B$17:$B1390,INT(ROWS(D$3:D1348)/20)+1),\"\")=0,\"\",IF(MOD(ROWS(D$3:D1348),20)=1,INDEX('Summary Sheet'!$B$17:$B1390,INT(ROWS(D$3:D1348)/20)+1),\"\"))","v":""},{"$f":"_xlfn.IFNA(IF(VLOOKUP(B1348,_!$A$7:$E$210,2,FALSE)=0, \"\", VLOOKUP(B1348,_!$A$7:$E$210,2,FALSE)),  \"\")","v":""},{"$f":"_xlfn.IFNA(IF(VLOOKUP(B1348,_!$A$7:$E$210,3,FALSE)=0, \"\", VLOOKUP(B1348,_!$A$7:$E$210,3,FALSE)), \"\")","v":""},{"$f":"_xlfn.IFNA(IF(VLOOKUP(B1348,_!$A$7:$E$210,4,FALSE)=0, \"\",VLOOKUP(B1348,_!$A$7:$E$210,4,FALSE)), \"\")","v":""},{"$f":"_xlfn.IFNA(IF(VLOOKUP(B1348,_!$A$7:$E$210,5,FALSE)=0,\"\",VLOOKUP(B1348,_!$A$7:$E$210,5,FALSE)), \"\")","v":""}]
[3,null,{"$f":"_xlfn.IFNA(VLOOKUP(B1349,_!$A$7:$F$210,6,FALSE),\"\")","v":""},{"$f":"IF(IF(MOD(ROWS(D$3:D1349),20)=1,INDEX('Summary Sheet'!$B$17:$B1390,INT(ROWS(D$3:D1349)/20)+1),\"\")=0,\"\",IF(MOD(ROWS(D$3:D1349),20)=1,INDEX('Summary Sheet'!$B$17:$B1390,INT(ROWS(D$3:D1349)/20)+1),\"\"))","v":""},{"$f":"_xlfn.IFNA(IF(VLOOKUP(B1349,_!$A$7:$E$210,2,FALSE)=0, \"\", VLOOKUP(B1349,_!$A$7:$E$210,2,FALSE)),  \"\")","v":""},{"$f":"_xlfn.IFNA(IF(VLOOKUP(B1349,_!$A$7:$E$210,3,FALSE)=0, \"\", VLOOKUP(B1349,_!$A$7:$E$210,3,FALSE)), \"\")","v":""},{"$f":"_xlfn.IFNA(IF(VLOOKUP(B1349,_!$A$7:$E$210,4,FALSE)=0, \"\",VLOOKUP(B1349,_!$A$7:$E$210,4,FALSE)), \"\")","v":""},{"$f":"_xlfn.IFNA(IF(VLOOKUP(B1349,_!$A$7:$E$210,5,FALSE)=0,\"\",VLOOKUP(B1349,_!$A$7:$E$210,5,FALSE)), \"\")","v":""}]
[4,null,{"$f":"_xlfn.IFNA(VLOOKUP(B1350,_!$A$7:$F$210,6,FALSE),\"\")","v":""},{"$f":"IF(IF(MOD(ROWS(D$3:D1350),20)=1,INDEX('Summary Sheet'!$B$17:$B1390,INT(ROWS(D$3:D1350)/20)+1),\"\")=0,\"\",IF(MOD(ROWS(D$3:D1350),20)=1,INDEX('Summary Sheet'!$B$17:$B1390,INT(ROWS(D$3:D1350)/20)+1),\"\"))","v":""},{"$f":"_xlfn.IFNA(IF(VLOOKUP(B1350,_!$A$7:$E$210,2,FALSE)=0, \"\", VLOOKUP(B1350,_!$A$7:$E$210,2,FALSE)),  \"\")","v":""},{"$f":"_xlfn.IFNA(IF(VLOOKUP(B1350,_!$A$7:$E$210,3,FALSE)=0, \"\", VLOOKUP(B1350,_!$A$7:$E$210,3,FALSE)), \"\")","v":""},{"$f":"_xlfn.IFNA(IF(VLOOKUP(B1350,_!$A$7:$E$210,4,FALSE)=0, \"\",VLOOKUP(B1350,_!$A$7:$E$210,4,FALSE)), \"\")","v":""},{"$f":"_xlfn.IFNA(IF(VLOOKUP(B1350,_!$A$7:$E$210,5,FALSE)=0,\"\",VLOOKUP(B1350,_!$A$7:$E$210,5,FALSE)), \"\")","v":""}]
[5,null,{"$f":"_xlfn.IFNA(VLOOKUP(B1351,_!$A$7:$F$210,6,FALSE),\"\")","v":""},{"$f":"IF(IF(MOD(ROWS(D$3:D1351),20)=1,INDEX('Summary Sheet'!$B$17:$B1390,INT(ROWS(D$3:D1351)/20)+1),\"\")=0,\"\",IF(MOD(ROWS(D$3:D1351),20)=1,INDEX('Summary Sheet'!$B$17:$B1390,INT(ROWS(D$3:D1351)/20)+1),\"\"))","v":""},{"$f":"_xlfn.IFNA(IF(VLOOKUP(B1351,_!$A$7:$E$210,2,FALSE)=0, \"\", VLOOKUP(B1351,_!$A$7:$E$210,2,FALSE)),  \"\")","v":""},{"$f":"_xlfn.IFNA(IF(VLOOKUP(B1351,_!$A$7:$E$210,3,FALSE)=0, \"\", VLOOKUP(B1351,_!$A$7:$E$210,3,FALSE)), \"\")","v":""},{"$f":"_xlfn.IFNA(IF(VLOOKUP(B1351,_!$A$7:$E$210,4,FALSE)=0, \"\",VLOOKUP(B1351,_!$A$7:$E$210,4,FALSE)), \"\")","v":""},{"$f":"_xlfn.IFNA(IF(VLOOKUP(B1351,_!$A$7:$E$210,5,FALSE)=0,\"\",VLOOKUP(B1351,_!$A$7:$E$210,5,FALSE)), \"\")","v":""}]
[6,null,{"$f":"_xlfn.IFNA(VLOOKUP(B1352,_!$A$7:$F$210,6,FALSE),\"\")","v":""},{"$f":"IF(IF(MOD(ROWS(D$3:D1352),20)=1,INDEX('Summary Sheet'!$B$17:$B1390,INT(ROWS(D$3:D1352)/20)+1),\"\")=0,\"\",IF(MOD(ROWS(D$3:D1352),20)=1,INDEX('Summary Sheet'!$B$17:$B1390,INT(ROWS(D$3:D1352)/20)+1),\"\"))","v":""},{"$f":"_xlfn.IFNA(IF(VLOOKUP(B1352,_!$A$7:$E$210,2,FALSE)=0, \"\", VLOOKUP(B1352,_!$A$7:$E$210,2,FALSE)),  \"\")","v":""},{"$f":"_xlfn.IFNA(IF(VLOOKUP(B1352,_!$A$7:$E$210,3,FALSE)=0, \"\", VLOOKUP(B1352,_!$A$7:$E$210,3,FALSE)), \"\")","v":""},{"$f":"_xlfn.IFNA(IF(VLOOKUP(B1352,_!$A$7:$E$210,4,FALSE)=0, \"\",VLOOKUP(B1352,_!$A$7:$E$210,4,FALSE)), \"\")","v":""},{"$f":"_xlfn.IFNA(IF(VLOOKUP(B1352,_!$A$7:$E$210,5,FALSE)=0,\"\",VLOOKUP(B1352,_!$A$7:$E$210,5,FALSE)), \"\")","v":""}]
[7,null,{"$f":"_xlfn.IFNA(VLOOKUP(B1353,_!$A$7:$F$210,6,FALSE),\"\")","v":""},{"$f":"IF(IF(MOD(ROWS(D$3:D1353),20)=1,INDEX('Summary Sheet'!$B$17:$B1390,INT(ROWS(D$3:D1353)/20)+1),\"\")=0,\"\",IF(MOD(ROWS(D$3:D1353),20)=1,INDEX('Summary Sheet'!$B$17:$B1390,INT(ROWS(D$3:D1353)/20)+1),\"\"))","v":""},{"$f":"_xlfn.IFNA(IF(VLOOKUP(B1353,_!$A$7:$E$210,2,FALSE)=0, \"\", VLOOKUP(B1353,_!$A$7:$E$210,2,FALSE)),  \"\")","v":""},{"$f":"_xlfn.IFNA(IF(VLOOKUP(B1353,_!$A$7:$E$210,3,FALSE)=0, \"\", VLOOKUP(B1353,_!$A$7:$E$210,3,FALSE)), \"\")","v":""},{"$f":"_xlfn.IFNA(IF(VLOOKUP(B1353,_!$A$7:$E$210,4,FALSE)=0, \"\",VLOOKUP(B1353,_!$A$7:$E$210,4,FALSE)), \"\")","v":""},{"$f":"_xlfn.IFNA(IF(VLOOKUP(B1353,_!$A$7:$E$210,5,FALSE)=0,\"\",VLOOKUP(B1353,_!$A$7:$E$210,5,FALSE)), \"\")","v":""}]
[8,null,{"$f":"_xlfn.IFNA(VLOOKUP(B1354,_!$A$7:$F$210,6,FALSE),\"\")","v":""},{"$f":"IF(IF(MOD(ROWS(D$3:D1354),20)=1,INDEX('Summary Sheet'!$B$17:$B1390,INT(ROWS(D$3:D1354)/20)+1),\"\")=0,\"\",IF(MOD(ROWS(D$3:D1354),20)=1,INDEX('Summary Sheet'!$B$17:$B1390,INT(ROWS(D$3:D1354)/20)+1),\"\"))","v":""},{"$f":"_xlfn.IFNA(IF(VLOOKUP(B1354,_!$A$7:$E$210,2,FALSE)=0, \"\", VLOOKUP(B1354,_!$A$7:$E$210,2,FALSE)),  \"\")","v":""},{"$f":"_xlfn.IFNA(IF(VLOOKUP(B1354,_!$A$7:$E$210,3,FALSE)=0, \"\", VLOOKUP(B1354,_!$A$7:$E$210,3,FALSE)), \"\")","v":""},{"$f":"_xlfn.IFNA(IF(VLOOKUP(B1354,_!$A$7:$E$210,4,FALSE)=0, \"\",VLOOKUP(B1354,_!$A$7:$E$210,4,FALSE)), \"\")","v":""},{"$f":"_xlfn.IFNA(IF(VLOOKUP(B1354,_!$A$7:$E$210,5,FALSE)=0,\"\",VLOOKUP(B1354,_!$A$7:$E$210,5,FALSE)), \"\")","v":""}]
[9,null,{"$f":"_xlfn.IFNA(VLOOKUP(B1355,_!$A$7:$F$210,6,FALSE),\"\")","v":""},{"$f":"IF(IF(MOD(ROWS(D$3:D1355),20)=1,INDEX('Summary Sheet'!$B$17:$B1390,INT(ROWS(D$3:D1355)/20)+1),\"\")=0,\"\",IF(MOD(ROWS(D$3:D1355),20)=1,INDEX('Summary Sheet'!$B$17:$B1390,INT(ROWS(D$3:D1355)/20)+1),\"\"))","v":""},{"$f":"_xlfn.IFNA(IF(VLOOKUP(B1355,_!$A$7:$E$210,2,FALSE)=0, \"\", VLOOKUP(B1355,_!$A$7:$E$210,2,FALSE)),  \"\")","v":""},{"$f":"_xlfn.IFNA(IF(VLOOKUP(B1355,_!$A$7:$E$210,3,FALSE)=0, \"\", VLOOKUP(B1355,_!$A$7:$E$210,3,FALSE)), \"\")","v":""},{"$f":"_xlfn.IFNA(IF(VLOOKUP(B1355,_!$A$7:$E$210,4,FALSE)=0, \"\",VLOOKUP(B1355,_!$A$7:$E$210,4,FALSE)), \"\")","v":""},{"$f":"_xlfn.IFNA(IF(VLOOKUP(B1355,_!$A$7:$E$210,5,FALSE)=0,\"\",VLOOKUP(B1355,_!$A$7:$E$210,5,FALSE)), \"\")","v":""}]
[10,null,{"$f":"_xlfn.IFNA(VLOOKUP(B1356,_!$A$7:$F$210,6,FALSE),\"\")","v":""},{"$f":"IF(IF(MOD(ROWS(D$14:D1356),20)=1,INDEX('Summary Sheet'!$B$17:$B1390,INT(ROWS(D$14:D1356)/20)+1),\"\")=0,\"\",IF(MOD(ROWS(D$14:D1356),20)=1,INDEX('Summary Sheet'!$B$17:$B1390,INT(ROWS(D$14:D1356)/20)+1),\"\"))","v":""},{"$f":"_xlfn.IFNA(IF(VLOOKUP(B1356,_!$A$7:$E$210,2,FALSE)=0, \"\", VLOOKUP(B1356,_!$A$7:$E$210,2,FALSE)),  \"\")","v":""},{"$f":"_xlfn.IFNA(IF(VLOOKUP(B1356,_!$A$7:$E$210,3,FALSE)=0, \"\", VLOOKUP(B1356,_!$A$7:$E$210,3,FALSE)), \"\")","v":""},{"$f":"_xlfn.IFNA(IF(VLOOKUP(B1356,_!$A$7:$E$210,4,FALSE)=0, \"\",VLOOKUP(B1356,_!$A$7:$E$210,4,FALSE)), \"\")","v":""},{"$f":"_xlfn.IFNA(IF(VLOOKUP(B1356,_!$A$7:$E$210,5,FALSE)=0,\"\",VLOOKUP(B1356,_!$A$7:$E$210,5,FALSE)), \"\")","v":""}]
[null,"\nHighest hazard level for each ‘Uptake Route’\n",null,null,{"$f":"_xlfn.IFNA(IF((INDEX(E1347:E1356,MATCH(\"E\",E1347:E1356,0)))=\"E\",\"E\",\"\"),_xlfn.IFNA(IF((INDEX(E1347:E1356,MATCH(\"D\",E1347:E1356,0)))=\"D\",\"D\",\"\"),_xlfn.IFNA(IF((INDEX(E1347:E1356,MATCH(\"Ca\",E1347:E1356,0)))=\"Ca\",\"C\",\"\"),_xlfn.IFNA(IF((INDEX(E1347:E1356,MATCH(\"C\",E1347:E1356,0)))=\"C\",\"C\",\"\"),_xlfn.IFNA(IF((INDEX(E1347:E1356,MATCH(\"B\",E1347:E1356,0)))=\"B\",\"B\",\"\"),_xlfn.IFNA(IF((INDEX(E1347:E1356,MATCH(\"A\",E1347:E1356,0)))=\"A\",\"A\",\"\"),_xlfn.IFNA(IF((INDEX(E1347:E1356,MATCH(\"n.a.\",E1347:E1356,0)))=\"n.a.\",\"\",\"\"),_xlfn.IFNA(IF((INDEX(E1347:E1356,MATCH(\"\",E1347:E1356,0)))=\"\",\"\",\"\"),\"\"))))))))","v":""},{"$f":"_xlfn.IFNA(IF((INDEX(F1347:F1356,MATCH(\"E\",F1347:F1356,0)))=\"E\",\"E\",\"\"),_xlfn.IFNA(IF((INDEX(F1347:F1356,MATCH(\"D (E)c\",F1347:F1356,0)))=\"D (E)c\",\"D (E)c\",\"\"),_xlfn.IFNA(IF((INDEX(F1347:F1356,MATCH(\"Da (E)c\",F1347:F1356,0)))=\"Da (E)c\",\"D (E)c\",\"\"),_xlfn.IFNA(IF((INDEX(F1347:F1356,MATCH(\"D\",F1347:F1356,0)))=\"D\",\"D\",\"\"),_xlfn.IFNA(IF((INDEX(F1347:F1356,MATCH(\"Ca\",F1347:F1356,0)))=\"Ca\",\"C\",\"\"),_xlfn.IFNA(IF((INDEX(F1347:F1356,MATCH(\"C\",F1347:F1356,0)))=\"C\",\"C\",\"\"),_xlfn.IFNA(IF((INDEX(F1347:F1356,MATCH(\"Ba\",F1347:F1356,0)))=\"Ba\",\"B\",\"\"),_xlfn.IFNA(IF((INDEX(F1347:F1356,MATCH(\"B\",F1347:F1356,0)))=\"B\",\"B\",\"\"),_xlfn.IFNA(IF((INDEX(F1347:F1356,MATCH(\"Aa\",F1347:F1356,0)))=\"Aa\",\"A\",\"\"),_xlfn.IFNA(IF((INDEX(F1347:F1356,MATCH(\"A\",F1347:F1356,0)))=\"A\",\"A\",\"\"),_xlfn.IFNA(IF((INDEX(F1347:F1356,MATCH(\"n.a.\",F1347:F1356,0)))=\"n.a.\",\"\",\"\"),_xlfn.IFNA(IF((INDEX(F1347:F1356,MATCH(\"\",F1347:F1356,0)))=\"\",\"\",\"\"),\"\"))))))))))))","v":""},{"$f":"_xlfn.IFNA(IF((INDEX(G1347:G1356,MATCH(\"E\",G1347:G1356,0)))=\"E\",\"E\",\"\"),_xlfn.IFNA(IF((INDEX(G1347:G1356,MATCH(\"D\",G1347:G1356,0)))=\"D\",\"D\",\"\"),_xlfn.IFNA(IF((INDEX(G1347:G1356,MATCH(\"Ca\",G1347:G1356,0)))=\"Ca\",\"C\",\"\"),_xlfn.IFNA(IF((INDEX(G1347:G1356,MATCH(\"C\",G1347:G1356,0)))=\"C\",\"C\",\"\"),_xlfn.IFNA(IF((INDEX(G1347:G1356,MATCH(\"B\",G1347:G1356,0)))=\"B\",\"B\",\"\"),_xlfn.IFNA(IF((INDEX(G1347:G1356,MATCH(\"A\",G1347:G1356,0)))=\"A\",\"A\",\"\"),_xlfn.IFNA(IF((INDEX(G1347:G1356,MATCH(\"n.a.\",G1347:G1356,0)))=\"n.a.\",\"\",\"\"),_xlfn.IFNA(IF((INDEX(G1347:G1356,MATCH(\"\",G1347:G1356,0)))=\"\",\"\",\"\"),\"\"))))))))","v":""},{"$f":"_xlfn.IFNA(IF((INDEX(H1347:H1356,MATCH(\"E\",H1347:H1356,0)))=\"E\",\"E\",\"\"),_xlfn.IFNA(IF((INDEX(H1347:H1356,MATCH(\"D (E)c\",H1347:H1356,0)))=\"D (E)c\",\"D (E)c\",\"\"),_xlfn.IFNA(IF((INDEX(H1347:H1356,MATCH(\"Db (E)c\",H1347:H1356,0)))=\"Db (E)c\",\"D (E)c\",\"\"),_xlfn.IFNA(IF((INDEX(H1347:H1356,MATCH(\"D\",H1347:H1356,0)))=\"D\",\"D\",\"\"),_xlfn.IFNA(IF((INDEX(H1347:H1356,MATCH(\"Cb\",H1347:H1356,0)))=\"Cb\",\"C\",\"\"),_xlfn.IFNA(IF((INDEX(H1347:H1356,MATCH(\"C\",H1347:H1356,0)))=\"C\",\"C\",\"\"),_xlfn.IFNA(IF((INDEX(H1347:H1356,MATCH(\"Bb\",H1347:H1356,0)))=\"Bb\",\"B\",\"\"),_xlfn.IFNA(IF((INDEX(H1347:H1356,MATCH(\"B\",H1347:H1356,0)))=\"B\",\"B\",\"\"),_xlfn.IFNA(IF((INDEX(H1347:H1356,MATCH(\"Ab\",H1347:H1356,0)))=\"Ab\",\"A\",\"\"),_xlfn.IFNA(IF((INDEX(H1347:H1356,MATCH(\"A\",H1347:H1356,0)))=\"A\",\"A\",\"\"),_xlfn.IFNA(IF((INDEX(H1347:H1356,MATCH(\"n.a.\",H1347:H1356,0)))=\"n.a.\",\"\",\"\"),_xlfn.IFNA(IF((INDEX(H1347:H1356,MATCH(\"\",H1347:H1356,0)))=\"\",\"\",\"\"),\"\"))))))))))))","v":""}]
[null,"\nHighest hazard level for all 'Uptake Routes' \n",null,null,{"$f":"_xlfn.IFNA(IF((INDEX(E1357:H1357,MATCH(\"E\",E1357:H1357,0)))=\"E\",\"E\",\"\"),_xlfn.IFNA(IF((INDEX(E1357:H1357,MATCH(\"D (E)c\",E1357:H1357,0)))=\"D (E)c\",\"D (E)\",\"\"),_xlfn.IFNA(IF((INDEX(E1357:H1357,MATCH(\"D\",E1357:H1357,0)))=\"D\",\"D\",\"\"),_xlfn.IFNA(IF((INDEX(E1357:H1357,MATCH(\"C\",E1357:H1357,0)))=\"C\",\"C\",\"\"),_xlfn.IFNA(IF((INDEX(E1357:H1357,MATCH(\"B\",E1357:H1357,0)))=\"B\",\"B\",\"\"),_xlfn.IFNA(IF((INDEX(E1357:H1357,MATCH(\"A\",E1357:H1357,0)))=\"A\",\"A\",\"\"),_xlfn.IFNA(IF((INDEX(E1357:H1357,MATCH(\"n.a.\",E1357:H1357,0)))=\"n.a.\",\"\",\"\"),_xlfn.IFNA(IF((INDEX(E1357:H1357,MATCH(\"\",E1357:H1357,0)))=\"\",\"\",\"\"),\"\"))))))))","v":""}]
[]
[]
[null,"\nStep 3: D(E) Assessment\nSkip this step if \nyour assessment above does not reveal a D(E) hazard level.\nHover over this cell for additional instructions.\n",null,null,"\nOverall hazard level\n",null,{"$f":"IF(AND(E1358=\"\",C1344=\"Yes\")=TRUE,\"B\",IF(E1358=\"\",\"\",(IF(AND(E1358=\"D (E)\",C1361=\"\"),\"D (E)\"&CHAR(10)&\"Find if cat. 1 acute tox.\",(IF(E1358<>\"D (E)\",E1358,(IF(AND(E1358=\"D (E)\",C1361=\"Yes\"),\"E\",(IF(AND(E1358=\"D (E)\",C1361=\"No\"),\"D\",\"\"))))))))))","v":""}]
[]
[{"$f":"IF(IF(MOD(ROWS(B$3:B1363),20)=1,INDEX('Summary Sheet'!$A$17:$A1409,INT(ROWS(B$3:B1363)/20)+1),\"\")=0,\"\",IF(MOD(ROWS(B$3:B1363),20)=1,INDEX('Summary Sheet'!$A$17:$A1409,INT(ROWS(B$3:B1363)/20)+1),\"\"))","v":69},"Hazard Level Assessment","for",{"$f":"IF(IF(MOD(ROWS(D$3:D1363),20)=1,INDEX('Summary Sheet'!$B$17:$B1409,INT(ROWS(D$3:D1363)/20)+1),\"\")=0,\"\",IF(MOD(ROWS(D$3:D1363),20)=1,INDEX('Summary Sheet'!$B$17:$B1409,INT(ROWS(D$3:D1363)/20)+1),\"\"))","v":""}]
[null,"\nStep 1: Physical & Environmental Hazard Statements/Codes\nFind Section 2 of the SDS and determine if the SDS has physical and/or environmental hazard statements/codes. Hover on this cell for additional instructions.\n",null,{"$f":"IF(IF(MOD(ROWS(D$3:D1364),20)=1,INDEX('Summary Sheet'!$B$17:$B1409,INT(ROWS(D$3:D1364)/20)+1),\"\")=0,\"\",IF(MOD(ROWS(D$3:D1364),20)=1,INDEX('Summary Sheet'!$B$17:$B1409,INT(ROWS(D$3:D1364)/20)+1),\"\"))","v":""}]
[null,"Step 2: Health Hazard Statements/Codes\nProvide the Health Hazard Statements or Codes from Section 2 of the SDS below. Hover on this cell for additional instructions.",null,{"$f":"IF(IF(MOD(ROWS(D$3:D1365),20)=1,INDEX('Summary Sheet'!$B$17:$B1409,INT(ROWS(D$3:D1365)/20)+1),\"\")=0,\"\",IF(MOD(ROWS(D$3:D1365),20)=1,INDEX('Summary Sheet'!$B$17:$B1409,INT(ROWS(D$3:D1365)/20)+1),\"\"))","v":""},"\nHazard Level\n"]
[null,null,null,{"$f":"IF(IF(MOD(ROWS(D$3:D1366),20)=1,INDEX('Summary Sheet'!$B$17:$B1409,INT(ROWS(D$3:D1366)/20)+1),\"\")=0,\"\",IF(MOD(ROWS(D$3:D1366),20)=1,INDEX('Summary Sheet'!$B$17:$B1409,INT(ROWS(D$3:D1366)/20)+1),\"\"))","v":""},"\nEye Damage\n","\nInhalation\n","\nLocal Skin Damage\n","\nSkin uptake, systemic\n"]
[1,null,{"$f":"_xlfn.IFNA(VLOOKUP(B1367,_!$A$7:$F$210,6,FALSE),\"\")","v":""},{"$f":"IF(IF(MOD(ROWS(D$3:D1367),20)=1,INDEX('Summary Sheet'!$B$17:$B1409,INT(ROWS(D$3:D1367)/20)+1),\"\")=0,\"\",IF(MOD(ROWS(D$3:D1367),20)=1,INDEX('Summary Sheet'!$B$17:$B1409,INT(ROWS(D$3:D1367)/20)+1),\"\"))","v":""},{"$f":"_xlfn.IFNA(IF(VLOOKUP(B1367,_!$A$7:$E$210,2,FALSE)=0, \"\", VLOOKUP(B1367,_!$A$7:$E$210,2,FALSE)),  \"\")","v":""},{"$f":"_xlfn.IFNA(IF(VLOOKUP(B1367,_!$A$7:$E$210,3,FALSE)=0, \"\", VLOOKUP(B1367,_!$A$7:$E$210,3,FALSE)), \"\")","v":""},{"$f":"_xlfn.IFNA(IF(VLOOKUP(B1367,_!$A$7:$E$210,4,FALSE)=0, \"\",VLOOKUP(B1367,_!$A$7:$E$210,4,FALSE)), \"\")","v":""},{"$f":"_xlfn.IFNA(IF(VLOOKUP(B1367,_!$A$7:$E$210,5,FALSE)=0,\"\",VLOOKUP(B1367,_!$A$7:$E$210,5,FALSE)), \"\")","v":""}]
[2,null,{"$f":"_xlfn.IFNA(VLOOKUP(B1368,_!$A$7:$F$210,6,FALSE),\"\")","v":""},{"$f":"IF(IF(MOD(ROWS(D$3:D1368),20)=1,INDEX('Summary Sheet'!$B$17:$B1409,INT(ROWS(D$3:D1368)/20)+1),\"\")=0,\"\",IF(MOD(ROWS(D$3:D1368),20)=1,INDEX('Summary Sheet'!$B$17:$B1409,INT(ROWS(D$3:D1368)/20)+1),\"\"))","v":""},{"$f":"_xlfn.IFNA(IF(VLOOKUP(B1368,_!$A$7:$E$210,2,FALSE)=0, \"\", VLOOKUP(B1368,_!$A$7:$E$210,2,FALSE)),  \"\")","v":""},{"$f":"_xlfn.IFNA(IF(VLOOKUP(B1368,_!$A$7:$E$210,3,FALSE)=0, \"\", VLOOKUP(B1368,_!$A$7:$E$210,3,FALSE)), \"\")","v":""},{"$f":"_xlfn.IFNA(IF(VLOOKUP(B1368,_!$A$7:$E$210,4,FALSE)=0, \"\",VLOOKUP(B1368,_!$A$7:$E$210,4,FALSE)), \"\")","v":""},{"$f":"_xlfn.IFNA(IF(VLOOKUP(B1368,_!$A$7:$E$210,5,FALSE)=0,\"\",VLOOKUP(B1368,_!$A$7:$E$210,5,FALSE)), \"\")","v":""}]
[3,null,{"$f":"_xlfn.IFNA(VLOOKUP(B1369,_!$A$7:$F$210,6,FALSE),\"\")","v":""},{"$f":"IF(IF(MOD(ROWS(D$3:D1369),20)=1,INDEX('Summary Sheet'!$B$17:$B1409,INT(ROWS(D$3:D1369)/20)+1),\"\")=0,\"\",IF(MOD(ROWS(D$3:D1369),20)=1,INDEX('Summary Sheet'!$B$17:$B1409,INT(ROWS(D$3:D1369)/20)+1),\"\"))","v":""},{"$f":"_xlfn.IFNA(IF(VLOOKUP(B1369,_!$A$7:$E$210,2,FALSE)=0, \"\", VLOOKUP(B1369,_!$A$7:$E$210,2,FALSE)),  \"\")","v":""},{"$f":"_xlfn.IFNA(IF(VLOOKUP(B1369,_!$A$7:$E$210,3,FALSE)=0, \"\", VLOOKUP(B1369,_!$A$7:$E$210,3,FALSE)), \"\")","v":""},{"$f":"_xlfn.IFNA(IF(VLOOKUP(B1369,_!$A$7:$E$210,4,FALSE)=0, \"\",VLOOKUP(B1369,_!$A$7:$E$210,4,FALSE)), \"\")","v":""},{"$f":"_xlfn.IFNA(IF(VLOOKUP(B1369,_!$A$7:$E$210,5,FALSE)=0,\"\",VLOOKUP(B1369,_!$A$7:$E$210,5,FALSE)), \"\")","v":""}]
[4,null,{"$f":"_xlfn.IFNA(VLOOKUP(B1370,_!$A$7:$F$210,6,FALSE),\"\")","v":""},{"$f":"IF(IF(MOD(ROWS(D$3:D1370),20)=1,INDEX('Summary Sheet'!$B$17:$B1409,INT(ROWS(D$3:D1370)/20)+1),\"\")=0,\"\",IF(MOD(ROWS(D$3:D1370),20)=1,INDEX('Summary Sheet'!$B$17:$B1409,INT(ROWS(D$3:D1370)/20)+1),\"\"))","v":""},{"$f":"_xlfn.IFNA(IF(VLOOKUP(B1370,_!$A$7:$E$210,2,FALSE)=0, \"\", VLOOKUP(B1370,_!$A$7:$E$210,2,FALSE)),  \"\")","v":""},{"$f":"_xlfn.IFNA(IF(VLOOKUP(B1370,_!$A$7:$E$210,3,FALSE)=0, \"\", VLOOKUP(B1370,_!$A$7:$E$210,3,FALSE)), \"\")","v":""},{"$f":"_xlfn.IFNA(IF(VLOOKUP(B1370,_!$A$7:$E$210,4,FALSE)=0, \"\",VLOOKUP(B1370,_!$A$7:$E$210,4,FALSE)), \"\")","v":""},{"$f":"_xlfn.IFNA(IF(VLOOKUP(B1370,_!$A$7:$E$210,5,FALSE)=0,\"\",VLOOKUP(B1370,_!$A$7:$E$210,5,FALSE)), \"\")","v":""}]
[5,null,{"$f":"_xlfn.IFNA(VLOOKUP(B1371,_!$A$7:$F$210,6,FALSE),\"\")","v":""},{"$f":"IF(IF(MOD(ROWS(D$3:D1371),20)=1,INDEX('Summary Sheet'!$B$17:$B1409,INT(ROWS(D$3:D1371)/20)+1),\"\")=0,\"\",IF(MOD(ROWS(D$3:D1371),20)=1,INDEX('Summary Sheet'!$B$17:$B1409,INT(ROWS(D$3:D1371)/20)+1),\"\"))","v":""},{"$f":"_xlfn.IFNA(IF(VLOOKUP(B1371,_!$A$7:$E$210,2,FALSE)=0, \"\", VLOOKUP(B1371,_!$A$7:$E$210,2,FALSE)),  \"\")","v":""},{"$f":"_xlfn.IFNA(IF(VLOOKUP(B1371,_!$A$7:$E$210,3,FALSE)=0, \"\", VLOOKUP(B1371,_!$A$7:$E$210,3,FALSE)), \"\")","v":""},{"$f":"_xlfn.IFNA(IF(VLOOKUP(B1371,_!$A$7:$E$210,4,FALSE)=0, \"\",VLOOKUP(B1371,_!$A$7:$E$210,4,FALSE)), \"\")","v":""},{"$f":"_xlfn.IFNA(IF(VLOOKUP(B1371,_!$A$7:$E$210,5,FALSE)=0,\"\",VLOOKUP(B1371,_!$A$7:$E$210,5,FALSE)), \"\")","v":""}]
[6,null,{"$f":"_xlfn.IFNA(VLOOKUP(B1372,_!$A$7:$F$210,6,FALSE),\"\")","v":""},{"$f":"IF(IF(MOD(ROWS(D$3:D1372),20)=1,INDEX('Summary Sheet'!$B$17:$B1409,INT(ROWS(D$3:D1372)/20)+1),\"\")=0,\"\",IF(MOD(ROWS(D$3:D1372),20)=1,INDEX('Summary Sheet'!$B$17:$B1409,INT(ROWS(D$3:D1372)/20)+1),\"\"))","v":""},{"$f":"_xlfn.IFNA(IF(VLOOKUP(B1372,_!$A$7:$E$210,2,FALSE)=0, \"\", VLOOKUP(B1372,_!$A$7:$E$210,2,FALSE)),  \"\")","v":""},{"$f":"_xlfn.IFNA(IF(VLOOKUP(B1372,_!$A$7:$E$210,3,FALSE)=0, \"\", VLOOKUP(B1372,_!$A$7:$E$210,3,FALSE)), \"\")","v":""},{"$f":"_xlfn.IFNA(IF(VLOOKUP(B1372,_!$A$7:$E$210,4,FALSE)=0, \"\",VLOOKUP(B1372,_!$A$7:$E$210,4,FALSE)), \"\")","v":""},{"$f":"_xlfn.IFNA(IF(VLOOKUP(B1372,_!$A$7:$E$210,5,FALSE)=0,\"\",VLOOKUP(B1372,_!$A$7:$E$210,5,FALSE)), \"\")","v":""}]
[7,null,{"$f":"_xlfn.IFNA(VLOOKUP(B1373,_!$A$7:$F$210,6,FALSE),\"\")","v":""},{"$f":"IF(IF(MOD(ROWS(D$3:D1373),20)=1,INDEX('Summary Sheet'!$B$17:$B1409,INT(ROWS(D$3:D1373)/20)+1),\"\")=0,\"\",IF(MOD(ROWS(D$3:D1373),20)=1,INDEX('Summary Sheet'!$B$17:$B1409,INT(ROWS(D$3:D1373)/20)+1),\"\"))","v":""},{"$f":"_xlfn.IFNA(IF(VLOOKUP(B1373,_!$A$7:$E$210,2,FALSE)=0, \"\", VLOOKUP(B1373,_!$A$7:$E$210,2,FALSE)),  \"\")","v":""},{"$f":"_xlfn.IFNA(IF(VLOOKUP(B1373,_!$A$7:$E$210,3,FALSE)=0, \"\", VLOOKUP(B1373,_!$A$7:$E$210,3,FALSE)), \"\")","v":""},{"$f":"_xlfn.IFNA(IF(VLOOKUP(B1373,_!$A$7:$E$210,4,FALSE)=0, \"\",VLOOKUP(B1373,_!$A$7:$E$210,4,FALSE)), \"\")","v":""},{"$f":"_xlfn.IFNA(IF(VLOOKUP(B1373,_!$A$7:$E$210,5,FALSE)=0,\"\",VLOOKUP(B1373,_!$A$7:$E$210,5,FALSE)), \"\")","v":""}]
[8,null,{"$f":"_xlfn.IFNA(VLOOKUP(B1374,_!$A$7:$F$210,6,FALSE),\"\")","v":""},{"$f":"IF(IF(MOD(ROWS(D$3:D1374),20)=1,INDEX('Summary Sheet'!$B$17:$B1409,INT(ROWS(D$3:D1374)/20)+1),\"\")=0,\"\",IF(MOD(ROWS(D$3:D1374),20)=1,INDEX('Summary Sheet'!$B$17:$B1409,INT(ROWS(D$3:D1374)/20)+1),\"\"))","v":""},{"$f":"_xlfn.IFNA(IF(VLOOKUP(B1374,_!$A$7:$E$210,2,FALSE)=0, \"\", VLOOKUP(B1374,_!$A$7:$E$210,2,FALSE)),  \"\")","v":""},{"$f":"_xlfn.IFNA(IF(VLOOKUP(B1374,_!$A$7:$E$210,3,FALSE)=0, \"\", VLOOKUP(B1374,_!$A$7:$E$210,3,FALSE)), \"\")","v":""},{"$f":"_xlfn.IFNA(IF(VLOOKUP(B1374,_!$A$7:$E$210,4,FALSE)=0, \"\",VLOOKUP(B1374,_!$A$7:$E$210,4,FALSE)), \"\")","v":""},{"$f":"_xlfn.IFNA(IF(VLOOKUP(B1374,_!$A$7:$E$210,5,FALSE)=0,\"\",VLOOKUP(B1374,_!$A$7:$E$210,5,FALSE)), \"\")","v":""}]
[9,null,{"$f":"_xlfn.IFNA(VLOOKUP(B1375,_!$A$7:$F$210,6,FALSE),\"\")","v":""},{"$f":"IF(IF(MOD(ROWS(D$3:D1375),20)=1,INDEX('Summary Sheet'!$B$17:$B1409,INT(ROWS(D$3:D1375)/20)+1),\"\")=0,\"\",IF(MOD(ROWS(D$3:D1375),20)=1,INDEX('Summary Sheet'!$B$17:$B1409,INT(ROWS(D$3:D1375)/20)+1),\"\"))","v":""},{"$f":"_xlfn.IFNA(IF(VLOOKUP(B1375,_!$A$7:$E$210,2,FALSE)=0, \"\", VLOOKUP(B1375,_!$A$7:$E$210,2,FALSE)),  \"\")","v":""},{"$f":"_xlfn.IFNA(IF(VLOOKUP(B1375,_!$A$7:$E$210,3,FALSE)=0, \"\", VLOOKUP(B1375,_!$A$7:$E$210,3,FALSE)), \"\")","v":""},{"$f":"_xlfn.IFNA(IF(VLOOKUP(B1375,_!$A$7:$E$210,4,FALSE)=0, \"\",VLOOKUP(B1375,_!$A$7:$E$210,4,FALSE)), \"\")","v":""},{"$f":"_xlfn.IFNA(IF(VLOOKUP(B1375,_!$A$7:$E$210,5,FALSE)=0,\"\",VLOOKUP(B1375,_!$A$7:$E$210,5,FALSE)), \"\")","v":""}]
[10,null,{"$f":"_xlfn.IFNA(VLOOKUP(B1376,_!$A$7:$F$210,6,FALSE),\"\")","v":""},{"$f":"IF(IF(MOD(ROWS(D$14:D1376),20)=1,INDEX('Summary Sheet'!$B$17:$B1409,INT(ROWS(D$14:D1376)/20)+1),\"\")=0,\"\",IF(MOD(ROWS(D$14:D1376),20)=1,INDEX('Summary Sheet'!$B$17:$B1409,INT(ROWS(D$14:D1376)/20)+1),\"\"))","v":""},{"$f":"_xlfn.IFNA(IF(VLOOKUP(B1376,_!$A$7:$E$210,2,FALSE)=0, \"\", VLOOKUP(B1376,_!$A$7:$E$210,2,FALSE)),  \"\")","v":""},{"$f":"_xlfn.IFNA(IF(VLOOKUP(B1376,_!$A$7:$E$210,3,FALSE)=0, \"\", VLOOKUP(B1376,_!$A$7:$E$210,3,FALSE)), \"\")","v":""},{"$f":"_xlfn.IFNA(IF(VLOOKUP(B1376,_!$A$7:$E$210,4,FALSE)=0, \"\",VLOOKUP(B1376,_!$A$7:$E$210,4,FALSE)), \"\")","v":""},{"$f":"_xlfn.IFNA(IF(VLOOKUP(B1376,_!$A$7:$E$210,5,FALSE)=0,\"\",VLOOKUP(B1376,_!$A$7:$E$210,5,FALSE)), \"\")","v":""}]
[null,"\nHighest hazard level for each ‘Uptake Route’\n",null,null,{"$f":"_xlfn.IFNA(IF((INDEX(E1367:E1376,MATCH(\"E\",E1367:E1376,0)))=\"E\",\"E\",\"\"),_xlfn.IFNA(IF((INDEX(E1367:E1376,MATCH(\"D\",E1367:E1376,0)))=\"D\",\"D\",\"\"),_xlfn.IFNA(IF((INDEX(E1367:E1376,MATCH(\"Ca\",E1367:E1376,0)))=\"Ca\",\"C\",\"\"),_xlfn.IFNA(IF((INDEX(E1367:E1376,MATCH(\"C\",E1367:E1376,0)))=\"C\",\"C\",\"\"),_xlfn.IFNA(IF((INDEX(E1367:E1376,MATCH(\"B\",E1367:E1376,0)))=\"B\",\"B\",\"\"),_xlfn.IFNA(IF((INDEX(E1367:E1376,MATCH(\"A\",E1367:E1376,0)))=\"A\",\"A\",\"\"),_xlfn.IFNA(IF((INDEX(E1367:E1376,MATCH(\"n.a.\",E1367:E1376,0)))=\"n.a.\",\"\",\"\"),_xlfn.IFNA(IF((INDEX(E1367:E1376,MATCH(\"\",E1367:E1376,0)))=\"\",\"\",\"\"),\"\"))))))))","v":""},{"$f":"_xlfn.IFNA(IF((INDEX(F1367:F1376,MATCH(\"E\",F1367:F1376,0)))=\"E\",\"E\",\"\"),_xlfn.IFNA(IF((INDEX(F1367:F1376,MATCH(\"D (E)c\",F1367:F1376,0)))=\"D (E)c\",\"D (E)c\",\"\"),_xlfn.IFNA(IF((INDEX(F1367:F1376,MATCH(\"Da (E)c\",F1367:F1376,0)))=\"Da (E)c\",\"D (E)c\",\"\"),_xlfn.IFNA(IF((INDEX(F1367:F1376,MATCH(\"D\",F1367:F1376,0)))=\"D\",\"D\",\"\"),_xlfn.IFNA(IF((INDEX(F1367:F1376,MATCH(\"Ca\",F1367:F1376,0)))=\"Ca\",\"C\",\"\"),_xlfn.IFNA(IF((INDEX(F1367:F1376,MATCH(\"C\",F1367:F1376,0)))=\"C\",\"C\",\"\"),_xlfn.IFNA(IF((INDEX(F1367:F1376,MATCH(\"Ba\",F1367:F1376,0)))=\"Ba\",\"B\",\"\"),_xlfn.IFNA(IF((INDEX(F1367:F1376,MATCH(\"B\",F1367:F1376,0)))=\"B\",\"B\",\"\"),_xlfn.IFNA(IF((INDEX(F1367:F1376,MATCH(\"Aa\",F1367:F1376,0)))=\"Aa\",\"A\",\"\"),_xlfn.IFNA(IF((INDEX(F1367:F1376,MATCH(\"A\",F1367:F1376,0)))=\"A\",\"A\",\"\"),_xlfn.IFNA(IF((INDEX(F1367:F1376,MATCH(\"n.a.\",F1367:F1376,0)))=\"n.a.\",\"\",\"\"),_xlfn.IFNA(IF((INDEX(F1367:F1376,MATCH(\"\",F1367:F1376,0)))=\"\",\"\",\"\"),\"\"))))))))))))","v":""},{"$f":"_xlfn.IFNA(IF((INDEX(G1367:G1376,MATCH(\"E\",G1367:G1376,0)))=\"E\",\"E\",\"\"),_xlfn.IFNA(IF((INDEX(G1367:G1376,MATCH(\"D\",G1367:G1376,0)))=\"D\",\"D\",\"\"),_xlfn.IFNA(IF((INDEX(G1367:G1376,MATCH(\"Ca\",G1367:G1376,0)))=\"Ca\",\"C\",\"\"),_xlfn.IFNA(IF((INDEX(G1367:G1376,MATCH(\"C\",G1367:G1376,0)))=\"C\",\"C\",\"\"),_xlfn.IFNA(IF((INDEX(G1367:G1376,MATCH(\"B\",G1367:G1376,0)))=\"B\",\"B\",\"\"),_xlfn.IFNA(IF((INDEX(G1367:G1376,MATCH(\"A\",G1367:G1376,0)))=\"A\",\"A\",\"\"),_xlfn.IFNA(IF((INDEX(G1367:G1376,MATCH(\"n.a.\",G1367:G1376,0)))=\"n.a.\",\"\",\"\"),_xlfn.IFNA(IF((INDEX(G1367:G1376,MATCH(\"\",G1367:G1376,0)))=\"\",\"\",\"\"),\"\"))))))))","v":""},{"$f":"_xlfn.IFNA(IF((INDEX(H1367:H1376,MATCH(\"E\",H1367:H1376,0)))=\"E\",\"E\",\"\"),_xlfn.IFNA(IF((INDEX(H1367:H1376,MATCH(\"D (E)c\",H1367:H1376,0)))=\"D (E)c\",\"D (E)c\",\"\"),_xlfn.IFNA(IF((INDEX(H1367:H1376,MATCH(\"Db (E)c\",H1367:H1376,0)))=\"Db (E)c\",\"D (E)c\",\"\"),_xlfn.IFNA(IF((INDEX(H1367:H1376,MATCH(\"D\",H1367:H1376,0)))=\"D\",\"D\",\"\"),_xlfn.IFNA(IF((INDEX(H1367:H1376,MATCH(\"Cb\",H1367:H1376,0)))=\"Cb\",\"C\",\"\"),_xlfn.IFNA(IF((INDEX(H1367:H1376,MATCH(\"C\",H1367:H1376,0)))=\"C\",\"C\",\"\"),_xlfn.IFNA(IF((INDEX(H1367:H1376,MATCH(\"Bb\",H1367:H1376,0)))=\"Bb\",\"B\",\"\"),_xlfn.IFNA(IF((INDEX(H1367:H1376,MATCH(\"B\",H1367:H1376,0)))=\"B\",\"B\",\"\"),_xlfn.IFNA(IF((INDEX(H1367:H1376,MATCH(\"Ab\",H1367:H1376,0)))=\"Ab\",\"A\",\"\"),_xlfn.IFNA(IF((INDEX(H1367:H1376,MATCH(\"A\",H1367:H1376,0)))=\"A\",\"A\",\"\"),_xlfn.IFNA(IF((INDEX(H1367:H1376,MATCH(\"n.a.\",H1367:H1376,0)))=\"n.a.\",\"\",\"\"),_xlfn.IFNA(IF((INDEX(H1367:H1376,MATCH(\"\",H1367:H1376,0)))=\"\",\"\",\"\"),\"\"))))))))))))","v":""}]
[null,"\nHighest hazard level for all 'Uptake Routes' \n",null,null,{"$f":"_xlfn.IFNA(IF((INDEX(E1377:H1377,MATCH(\"E\",E1377:H1377,0)))=\"E\",\"E\",\"\"),_xlfn.IFNA(IF((INDEX(E1377:H1377,MATCH(\"D (E)c\",E1377:H1377,0)))=\"D (E)c\",\"D (E)\",\"\"),_xlfn.IFNA(IF((INDEX(E1377:H1377,MATCH(\"D\",E1377:H1377,0)))=\"D\",\"D\",\"\"),_xlfn.IFNA(IF((INDEX(E1377:H1377,MATCH(\"C\",E1377:H1377,0)))=\"C\",\"C\",\"\"),_xlfn.IFNA(IF((INDEX(E1377:H1377,MATCH(\"B\",E1377:H1377,0)))=\"B\",\"B\",\"\"),_xlfn.IFNA(IF((INDEX(E1377:H1377,MATCH(\"A\",E1377:H1377,0)))=\"A\",\"A\",\"\"),_xlfn.IFNA(IF((INDEX(E1377:H1377,MATCH(\"n.a.\",E1377:H1377,0)))=\"n.a.\",\"\",\"\"),_xlfn.IFNA(IF((INDEX(E1377:H1377,MATCH(\"\",E1377:H1377,0)))=\"\",\"\",\"\"),\"\"))))))))","v":""}]
[]
[]
[null,"\nStep 3: D(E) Assessment\nSkip this step if \nyour assessment above does not reveal a D(E) hazard level.\nHover over this cell for additional instructions.\n",null,null,"\nOverall hazard level\n",null,{"$f":"IF(AND(E1378=\"\",C1364=\"Yes\")=TRUE,\"B\",IF(E1378=\"\",\"\",(IF(AND(E1378=\"D (E)\",C1381=\"\"),\"D (E)\"&CHAR(10)&\"Find if cat. 1 acute tox.\",(IF(E1378<>\"D (E)\",E1378,(IF(AND(E1378=\"D (E)\",C1381=\"Yes\"),\"E\",(IF(AND(E1378=\"D (E)\",C1381=\"No\"),\"D\",\"\"))))))))))","v":""}]
[]
[{"$f":"IF(IF(MOD(ROWS(B$3:B1383),20)=1,INDEX('Summary Sheet'!$A$17:$A1428,INT(ROWS(B$3:B1383)/20)+1),\"\")=0,\"\",IF(MOD(ROWS(B$3:B1383),20)=1,INDEX('Summary Sheet'!$A$17:$A1428,INT(ROWS(B$3:B1383)/20)+1),\"\"))","v":70},"Hazard Level Assessment","for",{"$f":"IF(IF(MOD(ROWS(D$3:D1383),20)=1,INDEX('Summary Sheet'!$B$17:$B1428,INT(ROWS(D$3:D1383)/20)+1),\"\")=0,\"\",IF(MOD(ROWS(D$3:D1383),20)=1,INDEX('Summary Sheet'!$B$17:$B1428,INT(ROWS(D$3:D1383)/20)+1),\"\"))","v":""}]
[null,"\nStep 1: Physical & Environmental Hazard Statements/Codes\nFind Section 2 of the SDS and determine if the SDS has physical and/or environmental hazard statements/codes. Hover on this cell for additional instructions.\n",null,{"$f":"IF(IF(MOD(ROWS(D$3:D1384),20)=1,INDEX('Summary Sheet'!$B$17:$B1428,INT(ROWS(D$3:D1384)/20)+1),\"\")=0,\"\",IF(MOD(ROWS(D$3:D1384),20)=1,INDEX('Summary Sheet'!$B$17:$B1428,INT(ROWS(D$3:D1384)/20)+1),\"\"))","v":""}]
[null,"Step 2: Health Hazard Statements/Codes\nProvide the Health Hazard Statements or Codes from Section 2 of the SDS below. Hover on this cell for additional instructions.",null,{"$f":"IF(IF(MOD(ROWS(D$3:D1385),20)=1,INDEX('Summary Sheet'!$B$17:$B1428,INT(ROWS(D$3:D1385)/20)+1),\"\")=0,\"\",IF(MOD(ROWS(D$3:D1385),20)=1,INDEX('Summary Sheet'!$B$17:$B1428,INT(ROWS(D$3:D1385)/20)+1),\"\"))","v":""},"\nHazard Level\n"]
[null,null,null,{"$f":"IF(IF(MOD(ROWS(D$3:D1386),20)=1,INDEX('Summary Sheet'!$B$17:$B1428,INT(ROWS(D$3:D1386)/20)+1),\"\")=0,\"\",IF(MOD(ROWS(D$3:D1386),20)=1,INDEX('Summary Sheet'!$B$17:$B1428,INT(ROWS(D$3:D1386)/20)+1),\"\"))","v":""},"\nEye Damage\n","\nInhalation\n","\nLocal Skin Damage\n","\nSkin uptake, systemic\n"]
[1,null,{"$f":"_xlfn.IFNA(VLOOKUP(B1387,_!$A$7:$F$210,6,FALSE),\"\")","v":""},{"$f":"IF(IF(MOD(ROWS(D$3:D1387),20)=1,INDEX('Summary Sheet'!$B$17:$B1428,INT(ROWS(D$3:D1387)/20)+1),\"\")=0,\"\",IF(MOD(ROWS(D$3:D1387),20)=1,INDEX('Summary Sheet'!$B$17:$B1428,INT(ROWS(D$3:D1387)/20)+1),\"\"))","v":""},{"$f":"_xlfn.IFNA(IF(VLOOKUP(B1387,_!$A$7:$E$210,2,FALSE)=0, \"\", VLOOKUP(B1387,_!$A$7:$E$210,2,FALSE)),  \"\")","v":""},{"$f":"_xlfn.IFNA(IF(VLOOKUP(B1387,_!$A$7:$E$210,3,FALSE)=0, \"\", VLOOKUP(B1387,_!$A$7:$E$210,3,FALSE)), \"\")","v":""},{"$f":"_xlfn.IFNA(IF(VLOOKUP(B1387,_!$A$7:$E$210,4,FALSE)=0, \"\",VLOOKUP(B1387,_!$A$7:$E$210,4,FALSE)), \"\")","v":""},{"$f":"_xlfn.IFNA(IF(VLOOKUP(B1387,_!$A$7:$E$210,5,FALSE)=0,\"\",VLOOKUP(B1387,_!$A$7:$E$210,5,FALSE)), \"\")","v":""}]
[2,null,{"$f":"_xlfn.IFNA(VLOOKUP(B1388,_!$A$7:$F$210,6,FALSE),\"\")","v":""},{"$f":"IF(IF(MOD(ROWS(D$3:D1388),20)=1,INDEX('Summary Sheet'!$B$17:$B1428,INT(ROWS(D$3:D1388)/20)+1),\"\")=0,\"\",IF(MOD(ROWS(D$3:D1388),20)=1,INDEX('Summary Sheet'!$B$17:$B1428,INT(ROWS(D$3:D1388)/20)+1),\"\"))","v":""},{"$f":"_xlfn.IFNA(IF(VLOOKUP(B1388,_!$A$7:$E$210,2,FALSE)=0, \"\", VLOOKUP(B1388,_!$A$7:$E$210,2,FALSE)),  \"\")","v":""},{"$f":"_xlfn.IFNA(IF(VLOOKUP(B1388,_!$A$7:$E$210,3,FALSE)=0, \"\", VLOOKUP(B1388,_!$A$7:$E$210,3,FALSE)), \"\")","v":""},{"$f":"_xlfn.IFNA(IF(VLOOKUP(B1388,_!$A$7:$E$210,4,FALSE)=0, \"\",VLOOKUP(B1388,_!$A$7:$E$210,4,FALSE)), \"\")","v":""},{"$f":"_xlfn.IFNA(IF(VLOOKUP(B1388,_!$A$7:$E$210,5,FALSE)=0,\"\",VLOOKUP(B1388,_!$A$7:$E$210,5,FALSE)), \"\")","v":""}]
[3,null,{"$f":"_xlfn.IFNA(VLOOKUP(B1389,_!$A$7:$F$210,6,FALSE),\"\")","v":""},{"$f":"IF(IF(MOD(ROWS(D$3:D1389),20)=1,INDEX('Summary Sheet'!$B$17:$B1428,INT(ROWS(D$3:D1389)/20)+1),\"\")=0,\"\",IF(MOD(ROWS(D$3:D1389),20)=1,INDEX('Summary Sheet'!$B$17:$B1428,INT(ROWS(D$3:D1389)/20)+1),\"\"))","v":""},{"$f":"_xlfn.IFNA(IF(VLOOKUP(B1389,_!$A$7:$E$210,2,FALSE)=0, \"\", VLOOKUP(B1389,_!$A$7:$E$210,2,FALSE)),  \"\")","v":""},{"$f":"_xlfn.IFNA(IF(VLOOKUP(B1389,_!$A$7:$E$210,3,FALSE)=0, \"\", VLOOKUP(B1389,_!$A$7:$E$210,3,FALSE)), \"\")","v":""},{"$f":"_xlfn.IFNA(IF(VLOOKUP(B1389,_!$A$7:$E$210,4,FALSE)=0, \"\",VLOOKUP(B1389,_!$A$7:$E$210,4,FALSE)), \"\")","v":""},{"$f":"_xlfn.IFNA(IF(VLOOKUP(B1389,_!$A$7:$E$210,5,FALSE)=0,\"\",VLOOKUP(B1389,_!$A$7:$E$210,5,FALSE)), \"\")","v":""}]
[4,null,{"$f":"_xlfn.IFNA(VLOOKUP(B1390,_!$A$7:$F$210,6,FALSE),\"\")","v":""},{"$f":"IF(IF(MOD(ROWS(D$3:D1390),20)=1,INDEX('Summary Sheet'!$B$17:$B1428,INT(ROWS(D$3:D1390)/20)+1),\"\")=0,\"\",IF(MOD(ROWS(D$3:D1390),20)=1,INDEX('Summary Sheet'!$B$17:$B1428,INT(ROWS(D$3:D1390)/20)+1),\"\"))","v":""},{"$f":"_xlfn.IFNA(IF(VLOOKUP(B1390,_!$A$7:$E$210,2,FALSE)=0, \"\", VLOOKUP(B1390,_!$A$7:$E$210,2,FALSE)),  \"\")","v":""},{"$f":"_xlfn.IFNA(IF(VLOOKUP(B1390,_!$A$7:$E$210,3,FALSE)=0, \"\", VLOOKUP(B1390,_!$A$7:$E$210,3,FALSE)), \"\")","v":""},{"$f":"_xlfn.IFNA(IF(VLOOKUP(B1390,_!$A$7:$E$210,4,FALSE)=0, \"\",VLOOKUP(B1390,_!$A$7:$E$210,4,FALSE)), \"\")","v":""},{"$f":"_xlfn.IFNA(IF(VLOOKUP(B1390,_!$A$7:$E$210,5,FALSE)=0,\"\",VLOOKUP(B1390,_!$A$7:$E$210,5,FALSE)), \"\")","v":""}]
[5,null,{"$f":"_xlfn.IFNA(VLOOKUP(B1391,_!$A$7:$F$210,6,FALSE),\"\")","v":""},{"$f":"IF(IF(MOD(ROWS(D$3:D1391),20)=1,INDEX('Summary Sheet'!$B$17:$B1428,INT(ROWS(D$3:D1391)/20)+1),\"\")=0,\"\",IF(MOD(ROWS(D$3:D1391),20)=1,INDEX('Summary Sheet'!$B$17:$B1428,INT(ROWS(D$3:D1391)/20)+1),\"\"))","v":""},{"$f":"_xlfn.IFNA(IF(VLOOKUP(B1391,_!$A$7:$E$210,2,FALSE)=0, \"\", VLOOKUP(B1391,_!$A$7:$E$210,2,FALSE)),  \"\")","v":""},{"$f":"_xlfn.IFNA(IF(VLOOKUP(B1391,_!$A$7:$E$210,3,FALSE)=0, \"\", VLOOKUP(B1391,_!$A$7:$E$210,3,FALSE)), \"\")","v":""},{"$f":"_xlfn.IFNA(IF(VLOOKUP(B1391,_!$A$7:$E$210,4,FALSE)=0, \"\",VLOOKUP(B1391,_!$A$7:$E$210,4,FALSE)), \"\")","v":""},{"$f":"_xlfn.IFNA(IF(VLOOKUP(B1391,_!$A$7:$E$210,5,FALSE)=0,\"\",VLOOKUP(B1391,_!$A$7:$E$210,5,FALSE)), \"\")","v":""}]
[6,null,{"$f":"_xlfn.IFNA(VLOOKUP(B1392,_!$A$7:$F$210,6,FALSE),\"\")","v":""},{"$f":"IF(IF(MOD(ROWS(D$3:D1392),20)=1,INDEX('Summary Sheet'!$B$17:$B1428,INT(ROWS(D$3:D1392)/20)+1),\"\")=0,\"\",IF(MOD(ROWS(D$3:D1392),20)=1,INDEX('Summary Sheet'!$B$17:$B1428,INT(ROWS(D$3:D1392)/20)+1),\"\"))","v":""},{"$f":"_xlfn.IFNA(IF(VLOOKUP(B1392,_!$A$7:$E$210,2,FALSE)=0, \"\", VLOOKUP(B1392,_!$A$7:$E$210,2,FALSE)),  \"\")","v":""},{"$f":"_xlfn.IFNA(IF(VLOOKUP(B1392,_!$A$7:$E$210,3,FALSE)=0, \"\", VLOOKUP(B1392,_!$A$7:$E$210,3,FALSE)), \"\")","v":""},{"$f":"_xlfn.IFNA(IF(VLOOKUP(B1392,_!$A$7:$E$210,4,FALSE)=0, \"\",VLOOKUP(B1392,_!$A$7:$E$210,4,FALSE)), \"\")","v":""},{"$f":"_xlfn.IFNA(IF(VLOOKUP(B1392,_!$A$7:$E$210,5,FALSE)=0,\"\",VLOOKUP(B1392,_!$A$7:$E$210,5,FALSE)), \"\")","v":""}]
[7,null,{"$f":"_xlfn.IFNA(VLOOKUP(B1393,_!$A$7:$F$210,6,FALSE),\"\")","v":""},{"$f":"IF(IF(MOD(ROWS(D$3:D1393),20)=1,INDEX('Summary Sheet'!$B$17:$B1428,INT(ROWS(D$3:D1393)/20)+1),\"\")=0,\"\",IF(MOD(ROWS(D$3:D1393),20)=1,INDEX('Summary Sheet'!$B$17:$B1428,INT(ROWS(D$3:D1393)/20)+1),\"\"))","v":""},{"$f":"_xlfn.IFNA(IF(VLOOKUP(B1393,_!$A$7:$E$210,2,FALSE)=0, \"\", VLOOKUP(B1393,_!$A$7:$E$210,2,FALSE)),  \"\")","v":""},{"$f":"_xlfn.IFNA(IF(VLOOKUP(B1393,_!$A$7:$E$210,3,FALSE)=0, \"\", VLOOKUP(B1393,_!$A$7:$E$210,3,FALSE)), \"\")","v":""},{"$f":"_xlfn.IFNA(IF(VLOOKUP(B1393,_!$A$7:$E$210,4,FALSE)=0, \"\",VLOOKUP(B1393,_!$A$7:$E$210,4,FALSE)), \"\")","v":""},{"$f":"_xlfn.IFNA(IF(VLOOKUP(B1393,_!$A$7:$E$210,5,FALSE)=0,\"\",VLOOKUP(B1393,_!$A$7:$E$210,5,FALSE)), \"\")","v":""}]
[8,null,{"$f":"_xlfn.IFNA(VLOOKUP(B1394,_!$A$7:$F$210,6,FALSE),\"\")","v":""},{"$f":"IF(IF(MOD(ROWS(D$3:D1394),20)=1,INDEX('Summary Sheet'!$B$17:$B1428,INT(ROWS(D$3:D1394)/20)+1),\"\")=0,\"\",IF(MOD(ROWS(D$3:D1394),20)=1,INDEX('Summary Sheet'!$B$17:$B1428,INT(ROWS(D$3:D1394)/20)+1),\"\"))","v":""},{"$f":"_xlfn.IFNA(IF(VLOOKUP(B1394,_!$A$7:$E$210,2,FALSE)=0, \"\", VLOOKUP(B1394,_!$A$7:$E$210,2,FALSE)),  \"\")","v":""},{"$f":"_xlfn.IFNA(IF(VLOOKUP(B1394,_!$A$7:$E$210,3,FALSE)=0, \"\", VLOOKUP(B1394,_!$A$7:$E$210,3,FALSE)), \"\")","v":""},{"$f":"_xlfn.IFNA(IF(VLOOKUP(B1394,_!$A$7:$E$210,4,FALSE)=0, \"\",VLOOKUP(B1394,_!$A$7:$E$210,4,FALSE)), \"\")","v":""},{"$f":"_xlfn.IFNA(IF(VLOOKUP(B1394,_!$A$7:$E$210,5,FALSE)=0,\"\",VLOOKUP(B1394,_!$A$7:$E$210,5,FALSE)), \"\")","v":""}]
[9,null,{"$f":"_xlfn.IFNA(VLOOKUP(B1395,_!$A$7:$F$210,6,FALSE),\"\")","v":""},{"$f":"IF(IF(MOD(ROWS(D$3:D1395),20)=1,INDEX('Summary Sheet'!$B$17:$B1428,INT(ROWS(D$3:D1395)/20)+1),\"\")=0,\"\",IF(MOD(ROWS(D$3:D1395),20)=1,INDEX('Summary Sheet'!$B$17:$B1428,INT(ROWS(D$3:D1395)/20)+1),\"\"))","v":""},{"$f":"_xlfn.IFNA(IF(VLOOKUP(B1395,_!$A$7:$E$210,2,FALSE)=0, \"\", VLOOKUP(B1395,_!$A$7:$E$210,2,FALSE)),  \"\")","v":""},{"$f":"_xlfn.IFNA(IF(VLOOKUP(B1395,_!$A$7:$E$210,3,FALSE)=0, \"\", VLOOKUP(B1395,_!$A$7:$E$210,3,FALSE)), \"\")","v":""},{"$f":"_xlfn.IFNA(IF(VLOOKUP(B1395,_!$A$7:$E$210,4,FALSE)=0, \"\",VLOOKUP(B1395,_!$A$7:$E$210,4,FALSE)), \"\")","v":""},{"$f":"_xlfn.IFNA(IF(VLOOKUP(B1395,_!$A$7:$E$210,5,FALSE)=0,\"\",VLOOKUP(B1395,_!$A$7:$E$210,5,FALSE)), \"\")","v":""}]
[10,null,{"$f":"_xlfn.IFNA(VLOOKUP(B1396,_!$A$7:$F$210,6,FALSE),\"\")","v":""},{"$f":"IF(IF(MOD(ROWS(D$14:D1396),20)=1,INDEX('Summary Sheet'!$B$17:$B1428,INT(ROWS(D$14:D1396)/20)+1),\"\")=0,\"\",IF(MOD(ROWS(D$14:D1396),20)=1,INDEX('Summary Sheet'!$B$17:$B1428,INT(ROWS(D$14:D1396)/20)+1),\"\"))","v":""},{"$f":"_xlfn.IFNA(IF(VLOOKUP(B1396,_!$A$7:$E$210,2,FALSE)=0, \"\", VLOOKUP(B1396,_!$A$7:$E$210,2,FALSE)),  \"\")","v":""},{"$f":"_xlfn.IFNA(IF(VLOOKUP(B1396,_!$A$7:$E$210,3,FALSE)=0, \"\", VLOOKUP(B1396,_!$A$7:$E$210,3,FALSE)), \"\")","v":""},{"$f":"_xlfn.IFNA(IF(VLOOKUP(B1396,_!$A$7:$E$210,4,FALSE)=0, \"\",VLOOKUP(B1396,_!$A$7:$E$210,4,FALSE)), \"\")","v":""},{"$f":"_xlfn.IFNA(IF(VLOOKUP(B1396,_!$A$7:$E$210,5,FALSE)=0,\"\",VLOOKUP(B1396,_!$A$7:$E$210,5,FALSE)), \"\")","v":""}]
[null,"\nHighest hazard level for each ‘Uptake Route’\n",null,null,{"$f":"_xlfn.IFNA(IF((INDEX(E1387:E1396,MATCH(\"E\",E1387:E1396,0)))=\"E\",\"E\",\"\"),_xlfn.IFNA(IF((INDEX(E1387:E1396,MATCH(\"D\",E1387:E1396,0)))=\"D\",\"D\",\"\"),_xlfn.IFNA(IF((INDEX(E1387:E1396,MATCH(\"Ca\",E1387:E1396,0)))=\"Ca\",\"C\",\"\"),_xlfn.IFNA(IF((INDEX(E1387:E1396,MATCH(\"C\",E1387:E1396,0)))=\"C\",\"C\",\"\"),_xlfn.IFNA(IF((INDEX(E1387:E1396,MATCH(\"B\",E1387:E1396,0)))=\"B\",\"B\",\"\"),_xlfn.IFNA(IF((INDEX(E1387:E1396,MATCH(\"A\",E1387:E1396,0)))=\"A\",\"A\",\"\"),_xlfn.IFNA(IF((INDEX(E1387:E1396,MATCH(\"n.a.\",E1387:E1396,0)))=\"n.a.\",\"\",\"\"),_xlfn.IFNA(IF((INDEX(E1387:E1396,MATCH(\"\",E1387:E1396,0)))=\"\",\"\",\"\"),\"\"))))))))","v":""},{"$f":"_xlfn.IFNA(IF((INDEX(F1387:F1396,MATCH(\"E\",F1387:F1396,0)))=\"E\",\"E\",\"\"),_xlfn.IFNA(IF((INDEX(F1387:F1396,MATCH(\"D (E)c\",F1387:F1396,0)))=\"D (E)c\",\"D (E)c\",\"\"),_xlfn.IFNA(IF((INDEX(F1387:F1396,MATCH(\"Da (E)c\",F1387:F1396,0)))=\"Da (E)c\",\"D (E)c\",\"\"),_xlfn.IFNA(IF((INDEX(F1387:F1396,MATCH(\"D\",F1387:F1396,0)))=\"D\",\"D\",\"\"),_xlfn.IFNA(IF((INDEX(F1387:F1396,MATCH(\"Ca\",F1387:F1396,0)))=\"Ca\",\"C\",\"\"),_xlfn.IFNA(IF((INDEX(F1387:F1396,MATCH(\"C\",F1387:F1396,0)))=\"C\",\"C\",\"\"),_xlfn.IFNA(IF((INDEX(F1387:F1396,MATCH(\"Ba\",F1387:F1396,0)))=\"Ba\",\"B\",\"\"),_xlfn.IFNA(IF((INDEX(F1387:F1396,MATCH(\"B\",F1387:F1396,0)))=\"B\",\"B\",\"\"),_xlfn.IFNA(IF((INDEX(F1387:F1396,MATCH(\"Aa\",F1387:F1396,0)))=\"Aa\",\"A\",\"\"),_xlfn.IFNA(IF((INDEX(F1387:F1396,MATCH(\"A\",F1387:F1396,0)))=\"A\",\"A\",\"\"),_xlfn.IFNA(IF((INDEX(F1387:F1396,MATCH(\"n.a.\",F1387:F1396,0)))=\"n.a.\",\"\",\"\"),_xlfn.IFNA(IF((INDEX(F1387:F1396,MATCH(\"\",F1387:F1396,0)))=\"\",\"\",\"\"),\"\"))))))))))))","v":""},{"$f":"_xlfn.IFNA(IF((INDEX(G1387:G1396,MATCH(\"E\",G1387:G1396,0)))=\"E\",\"E\",\"\"),_xlfn.IFNA(IF((INDEX(G1387:G1396,MATCH(\"D\",G1387:G1396,0)))=\"D\",\"D\",\"\"),_xlfn.IFNA(IF((INDEX(G1387:G1396,MATCH(\"Ca\",G1387:G1396,0)))=\"Ca\",\"C\",\"\"),_xlfn.IFNA(IF((INDEX(G1387:G1396,MATCH(\"C\",G1387:G1396,0)))=\"C\",\"C\",\"\"),_xlfn.IFNA(IF((INDEX(G1387:G1396,MATCH(\"B\",G1387:G1396,0)))=\"B\",\"B\",\"\"),_xlfn.IFNA(IF((INDEX(G1387:G1396,MATCH(\"A\",G1387:G1396,0)))=\"A\",\"A\",\"\"),_xlfn.IFNA(IF((INDEX(G1387:G1396,MATCH(\"n.a.\",G1387:G1396,0)))=\"n.a.\",\"\",\"\"),_xlfn.IFNA(IF((INDEX(G1387:G1396,MATCH(\"\",G1387:G1396,0)))=\"\",\"\",\"\"),\"\"))))))))","v":""},{"$f":"_xlfn.IFNA(IF((INDEX(H1387:H1396,MATCH(\"E\",H1387:H1396,0)))=\"E\",\"E\",\"\"),_xlfn.IFNA(IF((INDEX(H1387:H1396,MATCH(\"D (E)c\",H1387:H1396,0)))=\"D (E)c\",\"D (E)c\",\"\"),_xlfn.IFNA(IF((INDEX(H1387:H1396,MATCH(\"Db (E)c\",H1387:H1396,0)))=\"Db (E)c\",\"D (E)c\",\"\"),_xlfn.IFNA(IF((INDEX(H1387:H1396,MATCH(\"D\",H1387:H1396,0)))=\"D\",\"D\",\"\"),_xlfn.IFNA(IF((INDEX(H1387:H1396,MATCH(\"Cb\",H1387:H1396,0)))=\"Cb\",\"C\",\"\"),_xlfn.IFNA(IF((INDEX(H1387:H1396,MATCH(\"C\",H1387:H1396,0)))=\"C\",\"C\",\"\"),_xlfn.IFNA(IF((INDEX(H1387:H1396,MATCH(\"Bb\",H1387:H1396,0)))=\"Bb\",\"B\",\"\"),_xlfn.IFNA(IF((INDEX(H1387:H1396,MATCH(\"B\",H1387:H1396,0)))=\"B\",\"B\",\"\"),_xlfn.IFNA(IF((INDEX(H1387:H1396,MATCH(\"Ab\",H1387:H1396,0)))=\"Ab\",\"A\",\"\"),_xlfn.IFNA(IF((INDEX(H1387:H1396,MATCH(\"A\",H1387:H1396,0)))=\"A\",\"A\",\"\"),_xlfn.IFNA(IF((INDEX(H1387:H1396,MATCH(\"n.a.\",H1387:H1396,0)))=\"n.a.\",\"\",\"\"),_xlfn.IFNA(IF((INDEX(H1387:H1396,MATCH(\"\",H1387:H1396,0)))=\"\",\"\",\"\"),\"\"))))))))))))","v":""}]
[null,"\nHighest hazard level for all 'Uptake Routes' \n",null,null,{"$f":"_xlfn.IFNA(IF((INDEX(E1397:H1397,MATCH(\"E\",E1397:H1397,0)))=\"E\",\"E\",\"\"),_xlfn.IFNA(IF((INDEX(E1397:H1397,MATCH(\"D (E)c\",E1397:H1397,0)))=\"D (E)c\",\"D (E)\",\"\"),_xlfn.IFNA(IF((INDEX(E1397:H1397,MATCH(\"D\",E1397:H1397,0)))=\"D\",\"D\",\"\"),_xlfn.IFNA(IF((INDEX(E1397:H1397,MATCH(\"C\",E1397:H1397,0)))=\"C\",\"C\",\"\"),_xlfn.IFNA(IF((INDEX(E1397:H1397,MATCH(\"B\",E1397:H1397,0)))=\"B\",\"B\",\"\"),_xlfn.IFNA(IF((INDEX(E1397:H1397,MATCH(\"A\",E1397:H1397,0)))=\"A\",\"A\",\"\"),_xlfn.IFNA(IF((INDEX(E1397:H1397,MATCH(\"n.a.\",E1397:H1397,0)))=\"n.a.\",\"\",\"\"),_xlfn.IFNA(IF((INDEX(E1397:H1397,MATCH(\"\",E1397:H1397,0)))=\"\",\"\",\"\"),\"\"))))))))","v":""}]
[]
[]
[null,"\nStep 3: D(E) Assessment\nSkip this step if \nyour assessment above does not reveal a D(E) hazard level.\nHover over this cell for additional instructions.\n",null,null,"\nOverall hazard level\n",null,{"$f":"IF(AND(E1398=\"\",C1384=\"Yes\")=TRUE,\"B\",IF(E1398=\"\",\"\",(IF(AND(E1398=\"D (E)\",C1401=\"\"),\"D (E)\"&CHAR(10)&\"Find if cat. 1 acute tox.\",(IF(E1398<>\"D (E)\",E1398,(IF(AND(E1398=\"D (E)\",C1401=\"Yes\"),\"E\",(IF(AND(E1398=\"D (E)\",C1401=\"No\"),\"D\",\"\"))))))))))","v":""}]
[]
[{"$f":"IF(IF(MOD(ROWS(B$3:B1403),20)=1,INDEX('Summary Sheet'!$A$17:$A1447,INT(ROWS(B$3:B1403)/20)+1),\"\")=0,\"\",IF(MOD(ROWS(B$3:B1403),20)=1,INDEX('Summary Sheet'!$A$17:$A1447,INT(ROWS(B$3:B1403)/20)+1),\"\"))","v":71},"Hazard Level Assessment","for",{"$f":"IF(IF(MOD(ROWS(D$3:D1403),20)=1,INDEX('Summary Sheet'!$B$17:$B1447,INT(ROWS(D$3:D1403)/20)+1),\"\")=0,\"\",IF(MOD(ROWS(D$3:D1403),20)=1,INDEX('Summary Sheet'!$B$17:$B1447,INT(ROWS(D$3:D1403)/20)+1),\"\"))","v":""}]
[null,"\nStep 1: Physical & Environmental Hazard Statements/Codes\nFind Section 2 of the SDS and determine if the SDS has physical and/or environmental hazard statements/codes. Hover on this cell for additional instructions.\n",null,{"$f":"IF(IF(MOD(ROWS(D$3:D1404),20)=1,INDEX('Summary Sheet'!$B$17:$B1447,INT(ROWS(D$3:D1404)/20)+1),\"\")=0,\"\",IF(MOD(ROWS(D$3:D1404),20)=1,INDEX('Summary Sheet'!$B$17:$B1447,INT(ROWS(D$3:D1404)/20)+1),\"\"))","v":""}]
[null,"Step 2: Health Hazard Statements/Codes\nProvide the Health Hazard Statements or Codes from Section 2 of the SDS below. Hover on this cell for additional instructions.",null,{"$f":"IF(IF(MOD(ROWS(D$3:D1405),20)=1,INDEX('Summary Sheet'!$B$17:$B1447,INT(ROWS(D$3:D1405)/20)+1),\"\")=0,\"\",IF(MOD(ROWS(D$3:D1405),20)=1,INDEX('Summary Sheet'!$B$17:$B1447,INT(ROWS(D$3:D1405)/20)+1),\"\"))","v":""},"\nHazard Level\n"]
[null,null,null,{"$f":"IF(IF(MOD(ROWS(D$3:D1406),20)=1,INDEX('Summary Sheet'!$B$17:$B1447,INT(ROWS(D$3:D1406)/20)+1),\"\")=0,\"\",IF(MOD(ROWS(D$3:D1406),20)=1,INDEX('Summary Sheet'!$B$17:$B1447,INT(ROWS(D$3:D1406)/20)+1),\"\"))","v":""},"\nEye Damage\n","\nInhalation\n","\nLocal Skin Damage\n","\nSkin uptake, systemic\n"]
[1,null,{"$f":"_xlfn.IFNA(VLOOKUP(B1407,_!$A$7:$F$210,6,FALSE),\"\")","v":""},{"$f":"IF(IF(MOD(ROWS(D$3:D1407),20)=1,INDEX('Summary Sheet'!$B$17:$B1447,INT(ROWS(D$3:D1407)/20)+1),\"\")=0,\"\",IF(MOD(ROWS(D$3:D1407),20)=1,INDEX('Summary Sheet'!$B$17:$B1447,INT(ROWS(D$3:D1407)/20)+1),\"\"))","v":""},{"$f":"_xlfn.IFNA(IF(VLOOKUP(B1407,_!$A$7:$E$210,2,FALSE)=0, \"\", VLOOKUP(B1407,_!$A$7:$E$210,2,FALSE)),  \"\")","v":""},{"$f":"_xlfn.IFNA(IF(VLOOKUP(B1407,_!$A$7:$E$210,3,FALSE)=0, \"\", VLOOKUP(B1407,_!$A$7:$E$210,3,FALSE)), \"\")","v":""},{"$f":"_xlfn.IFNA(IF(VLOOKUP(B1407,_!$A$7:$E$210,4,FALSE)=0, \"\",VLOOKUP(B1407,_!$A$7:$E$210,4,FALSE)), \"\")","v":""},{"$f":"_xlfn.IFNA(IF(VLOOKUP(B1407,_!$A$7:$E$210,5,FALSE)=0,\"\",VLOOKUP(B1407,_!$A$7:$E$210,5,FALSE)), \"\")","v":""}]
[2,null,{"$f":"_xlfn.IFNA(VLOOKUP(B1408,_!$A$7:$F$210,6,FALSE),\"\")","v":""},{"$f":"IF(IF(MOD(ROWS(D$3:D1408),20)=1,INDEX('Summary Sheet'!$B$17:$B1447,INT(ROWS(D$3:D1408)/20)+1),\"\")=0,\"\",IF(MOD(ROWS(D$3:D1408),20)=1,INDEX('Summary Sheet'!$B$17:$B1447,INT(ROWS(D$3:D1408)/20)+1),\"\"))","v":""},{"$f":"_xlfn.IFNA(IF(VLOOKUP(B1408,_!$A$7:$E$210,2,FALSE)=0, \"\", VLOOKUP(B1408,_!$A$7:$E$210,2,FALSE)),  \"\")","v":""},{"$f":"_xlfn.IFNA(IF(VLOOKUP(B1408,_!$A$7:$E$210,3,FALSE)=0, \"\", VLOOKUP(B1408,_!$A$7:$E$210,3,FALSE)), \"\")","v":""},{"$f":"_xlfn.IFNA(IF(VLOOKUP(B1408,_!$A$7:$E$210,4,FALSE)=0, \"\",VLOOKUP(B1408,_!$A$7:$E$210,4,FALSE)), \"\")","v":""},{"$f":"_xlfn.IFNA(IF(VLOOKUP(B1408,_!$A$7:$E$210,5,FALSE)=0,\"\",VLOOKUP(B1408,_!$A$7:$E$210,5,FALSE)), \"\")","v":""}]
[3,null,{"$f":"_xlfn.IFNA(VLOOKUP(B1409,_!$A$7:$F$210,6,FALSE),\"\")","v":""},{"$f":"IF(IF(MOD(ROWS(D$3:D1409),20)=1,INDEX('Summary Sheet'!$B$17:$B1447,INT(ROWS(D$3:D1409)/20)+1),\"\")=0,\"\",IF(MOD(ROWS(D$3:D1409),20)=1,INDEX('Summary Sheet'!$B$17:$B1447,INT(ROWS(D$3:D1409)/20)+1),\"\"))","v":""},{"$f":"_xlfn.IFNA(IF(VLOOKUP(B1409,_!$A$7:$E$210,2,FALSE)=0, \"\", VLOOKUP(B1409,_!$A$7:$E$210,2,FALSE)),  \"\")","v":""},{"$f":"_xlfn.IFNA(IF(VLOOKUP(B1409,_!$A$7:$E$210,3,FALSE)=0, \"\", VLOOKUP(B1409,_!$A$7:$E$210,3,FALSE)), \"\")","v":""},{"$f":"_xlfn.IFNA(IF(VLOOKUP(B1409,_!$A$7:$E$210,4,FALSE)=0, \"\",VLOOKUP(B1409,_!$A$7:$E$210,4,FALSE)), \"\")","v":""},{"$f":"_xlfn.IFNA(IF(VLOOKUP(B1409,_!$A$7:$E$210,5,FALSE)=0,\"\",VLOOKUP(B1409,_!$A$7:$E$210,5,FALSE)), \"\")","v":""}]
[4,null,{"$f":"_xlfn.IFNA(VLOOKUP(B1410,_!$A$7:$F$210,6,FALSE),\"\")","v":""},{"$f":"IF(IF(MOD(ROWS(D$3:D1410),20)=1,INDEX('Summary Sheet'!$B$17:$B1447,INT(ROWS(D$3:D1410)/20)+1),\"\")=0,\"\",IF(MOD(ROWS(D$3:D1410),20)=1,INDEX('Summary Sheet'!$B$17:$B1447,INT(ROWS(D$3:D1410)/20)+1),\"\"))","v":""},{"$f":"_xlfn.IFNA(IF(VLOOKUP(B1410,_!$A$7:$E$210,2,FALSE)=0, \"\", VLOOKUP(B1410,_!$A$7:$E$210,2,FALSE)),  \"\")","v":""},{"$f":"_xlfn.IFNA(IF(VLOOKUP(B1410,_!$A$7:$E$210,3,FALSE)=0, \"\", VLOOKUP(B1410,_!$A$7:$E$210,3,FALSE)), \"\")","v":""},{"$f":"_xlfn.IFNA(IF(VLOOKUP(B1410,_!$A$7:$E$210,4,FALSE)=0, \"\",VLOOKUP(B1410,_!$A$7:$E$210,4,FALSE)), \"\")","v":""},{"$f":"_xlfn.IFNA(IF(VLOOKUP(B1410,_!$A$7:$E$210,5,FALSE)=0,\"\",VLOOKUP(B1410,_!$A$7:$E$210,5,FALSE)), \"\")","v":""}]
[5,null,{"$f":"_xlfn.IFNA(VLOOKUP(B1411,_!$A$7:$F$210,6,FALSE),\"\")","v":""},{"$f":"IF(IF(MOD(ROWS(D$3:D1411),20)=1,INDEX('Summary Sheet'!$B$17:$B1447,INT(ROWS(D$3:D1411)/20)+1),\"\")=0,\"\",IF(MOD(ROWS(D$3:D1411),20)=1,INDEX('Summary Sheet'!$B$17:$B1447,INT(ROWS(D$3:D1411)/20)+1),\"\"))","v":""},{"$f":"_xlfn.IFNA(IF(VLOOKUP(B1411,_!$A$7:$E$210,2,FALSE)=0, \"\", VLOOKUP(B1411,_!$A$7:$E$210,2,FALSE)),  \"\")","v":""},{"$f":"_xlfn.IFNA(IF(VLOOKUP(B1411,_!$A$7:$E$210,3,FALSE)=0, \"\", VLOOKUP(B1411,_!$A$7:$E$210,3,FALSE)), \"\")","v":""},{"$f":"_xlfn.IFNA(IF(VLOOKUP(B1411,_!$A$7:$E$210,4,FALSE)=0, \"\",VLOOKUP(B1411,_!$A$7:$E$210,4,FALSE)), \"\")","v":""},{"$f":"_xlfn.IFNA(IF(VLOOKUP(B1411,_!$A$7:$E$210,5,FALSE)=0,\"\",VLOOKUP(B1411,_!$A$7:$E$210,5,FALSE)), \"\")","v":""}]
[6,null,{"$f":"_xlfn.IFNA(VLOOKUP(B1412,_!$A$7:$F$210,6,FALSE),\"\")","v":""},{"$f":"IF(IF(MOD(ROWS(D$3:D1412),20)=1,INDEX('Summary Sheet'!$B$17:$B1447,INT(ROWS(D$3:D1412)/20)+1),\"\")=0,\"\",IF(MOD(ROWS(D$3:D1412),20)=1,INDEX('Summary Sheet'!$B$17:$B1447,INT(ROWS(D$3:D1412)/20)+1),\"\"))","v":""},{"$f":"_xlfn.IFNA(IF(VLOOKUP(B1412,_!$A$7:$E$210,2,FALSE)=0, \"\", VLOOKUP(B1412,_!$A$7:$E$210,2,FALSE)),  \"\")","v":""},{"$f":"_xlfn.IFNA(IF(VLOOKUP(B1412,_!$A$7:$E$210,3,FALSE)=0, \"\", VLOOKUP(B1412,_!$A$7:$E$210,3,FALSE)), \"\")","v":""},{"$f":"_xlfn.IFNA(IF(VLOOKUP(B1412,_!$A$7:$E$210,4,FALSE)=0, \"\",VLOOKUP(B1412,_!$A$7:$E$210,4,FALSE)), \"\")","v":""},{"$f":"_xlfn.IFNA(IF(VLOOKUP(B1412,_!$A$7:$E$210,5,FALSE)=0,\"\",VLOOKUP(B1412,_!$A$7:$E$210,5,FALSE)), \"\")","v":""}]
[7,null,{"$f":"_xlfn.IFNA(VLOOKUP(B1413,_!$A$7:$F$210,6,FALSE),\"\")","v":""},{"$f":"IF(IF(MOD(ROWS(D$3:D1413),20)=1,INDEX('Summary Sheet'!$B$17:$B1447,INT(ROWS(D$3:D1413)/20)+1),\"\")=0,\"\",IF(MOD(ROWS(D$3:D1413),20)=1,INDEX('Summary Sheet'!$B$17:$B1447,INT(ROWS(D$3:D1413)/20)+1),\"\"))","v":""},{"$f":"_xlfn.IFNA(IF(VLOOKUP(B1413,_!$A$7:$E$210,2,FALSE)=0, \"\", VLOOKUP(B1413,_!$A$7:$E$210,2,FALSE)),  \"\")","v":""},{"$f":"_xlfn.IFNA(IF(VLOOKUP(B1413,_!$A$7:$E$210,3,FALSE)=0, \"\", VLOOKUP(B1413,_!$A$7:$E$210,3,FALSE)), \"\")","v":""},{"$f":"_xlfn.IFNA(IF(VLOOKUP(B1413,_!$A$7:$E$210,4,FALSE)=0, \"\",VLOOKUP(B1413,_!$A$7:$E$210,4,FALSE)), \"\")","v":""},{"$f":"_xlfn.IFNA(IF(VLOOKUP(B1413,_!$A$7:$E$210,5,FALSE)=0,\"\",VLOOKUP(B1413,_!$A$7:$E$210,5,FALSE)), \"\")","v":""}]
[8,null,{"$f":"_xlfn.IFNA(VLOOKUP(B1414,_!$A$7:$F$210,6,FALSE),\"\")","v":""},{"$f":"IF(IF(MOD(ROWS(D$3:D1414),20)=1,INDEX('Summary Sheet'!$B$17:$B1447,INT(ROWS(D$3:D1414)/20)+1),\"\")=0,\"\",IF(MOD(ROWS(D$3:D1414),20)=1,INDEX('Summary Sheet'!$B$17:$B1447,INT(ROWS(D$3:D1414)/20)+1),\"\"))","v":""},{"$f":"_xlfn.IFNA(IF(VLOOKUP(B1414,_!$A$7:$E$210,2,FALSE)=0, \"\", VLOOKUP(B1414,_!$A$7:$E$210,2,FALSE)),  \"\")","v":""},{"$f":"_xlfn.IFNA(IF(VLOOKUP(B1414,_!$A$7:$E$210,3,FALSE)=0, \"\", VLOOKUP(B1414,_!$A$7:$E$210,3,FALSE)), \"\")","v":""},{"$f":"_xlfn.IFNA(IF(VLOOKUP(B1414,_!$A$7:$E$210,4,FALSE)=0, \"\",VLOOKUP(B1414,_!$A$7:$E$210,4,FALSE)), \"\")","v":""},{"$f":"_xlfn.IFNA(IF(VLOOKUP(B1414,_!$A$7:$E$210,5,FALSE)=0,\"\",VLOOKUP(B1414,_!$A$7:$E$210,5,FALSE)), \"\")","v":""}]
[9,null,{"$f":"_xlfn.IFNA(VLOOKUP(B1415,_!$A$7:$F$210,6,FALSE),\"\")","v":""},{"$f":"IF(IF(MOD(ROWS(D$3:D1415),20)=1,INDEX('Summary Sheet'!$B$17:$B1447,INT(ROWS(D$3:D1415)/20)+1),\"\")=0,\"\",IF(MOD(ROWS(D$3:D1415),20)=1,INDEX('Summary Sheet'!$B$17:$B1447,INT(ROWS(D$3:D1415)/20)+1),\"\"))","v":""},{"$f":"_xlfn.IFNA(IF(VLOOKUP(B1415,_!$A$7:$E$210,2,FALSE)=0, \"\", VLOOKUP(B1415,_!$A$7:$E$210,2,FALSE)),  \"\")","v":""},{"$f":"_xlfn.IFNA(IF(VLOOKUP(B1415,_!$A$7:$E$210,3,FALSE)=0, \"\", VLOOKUP(B1415,_!$A$7:$E$210,3,FALSE)), \"\")","v":""},{"$f":"_xlfn.IFNA(IF(VLOOKUP(B1415,_!$A$7:$E$210,4,FALSE)=0, \"\",VLOOKUP(B1415,_!$A$7:$E$210,4,FALSE)), \"\")","v":""},{"$f":"_xlfn.IFNA(IF(VLOOKUP(B1415,_!$A$7:$E$210,5,FALSE)=0,\"\",VLOOKUP(B1415,_!$A$7:$E$210,5,FALSE)), \"\")","v":""}]
[10,null,{"$f":"_xlfn.IFNA(VLOOKUP(B1416,_!$A$7:$F$210,6,FALSE),\"\")","v":""},{"$f":"IF(IF(MOD(ROWS(D$14:D1416),20)=1,INDEX('Summary Sheet'!$B$17:$B1447,INT(ROWS(D$14:D1416)/20)+1),\"\")=0,\"\",IF(MOD(ROWS(D$14:D1416),20)=1,INDEX('Summary Sheet'!$B$17:$B1447,INT(ROWS(D$14:D1416)/20)+1),\"\"))","v":""},{"$f":"_xlfn.IFNA(IF(VLOOKUP(B1416,_!$A$7:$E$210,2,FALSE)=0, \"\", VLOOKUP(B1416,_!$A$7:$E$210,2,FALSE)),  \"\")","v":""},{"$f":"_xlfn.IFNA(IF(VLOOKUP(B1416,_!$A$7:$E$210,3,FALSE)=0, \"\", VLOOKUP(B1416,_!$A$7:$E$210,3,FALSE)), \"\")","v":""},{"$f":"_xlfn.IFNA(IF(VLOOKUP(B1416,_!$A$7:$E$210,4,FALSE)=0, \"\",VLOOKUP(B1416,_!$A$7:$E$210,4,FALSE)), \"\")","v":""},{"$f":"_xlfn.IFNA(IF(VLOOKUP(B1416,_!$A$7:$E$210,5,FALSE)=0,\"\",VLOOKUP(B1416,_!$A$7:$E$210,5,FALSE)), \"\")","v":""}]
[null,"\nHighest hazard level for each ‘Uptake Route’\n",null,null,{"$f":"_xlfn.IFNA(IF((INDEX(E1407:E1416,MATCH(\"E\",E1407:E1416,0)))=\"E\",\"E\",\"\"),_xlfn.IFNA(IF((INDEX(E1407:E1416,MATCH(\"D\",E1407:E1416,0)))=\"D\",\"D\",\"\"),_xlfn.IFNA(IF((INDEX(E1407:E1416,MATCH(\"Ca\",E1407:E1416,0)))=\"Ca\",\"C\",\"\"),_xlfn.IFNA(IF((INDEX(E1407:E1416,MATCH(\"C\",E1407:E1416,0)))=\"C\",\"C\",\"\"),_xlfn.IFNA(IF((INDEX(E1407:E1416,MATCH(\"B\",E1407:E1416,0)))=\"B\",\"B\",\"\"),_xlfn.IFNA(IF((INDEX(E1407:E1416,MATCH(\"A\",E1407:E1416,0)))=\"A\",\"A\",\"\"),_xlfn.IFNA(IF((INDEX(E1407:E1416,MATCH(\"n.a.\",E1407:E1416,0)))=\"n.a.\",\"\",\"\"),_xlfn.IFNA(IF((INDEX(E1407:E1416,MATCH(\"\",E1407:E1416,0)))=\"\",\"\",\"\"),\"\"))))))))","v":""},{"$f":"_xlfn.IFNA(IF((INDEX(F1407:F1416,MATCH(\"E\",F1407:F1416,0)))=\"E\",\"E\",\"\"),_xlfn.IFNA(IF((INDEX(F1407:F1416,MATCH(\"D (E)c\",F1407:F1416,0)))=\"D (E)c\",\"D (E)c\",\"\"),_xlfn.IFNA(IF((INDEX(F1407:F1416,MATCH(\"Da (E)c\",F1407:F1416,0)))=\"Da (E)c\",\"D (E)c\",\"\"),_xlfn.IFNA(IF((INDEX(F1407:F1416,MATCH(\"D\",F1407:F1416,0)))=\"D\",\"D\",\"\"),_xlfn.IFNA(IF((INDEX(F1407:F1416,MATCH(\"Ca\",F1407:F1416,0)))=\"Ca\",\"C\",\"\"),_xlfn.IFNA(IF((INDEX(F1407:F1416,MATCH(\"C\",F1407:F1416,0)))=\"C\",\"C\",\"\"),_xlfn.IFNA(IF((INDEX(F1407:F1416,MATCH(\"Ba\",F1407:F1416,0)))=\"Ba\",\"B\",\"\"),_xlfn.IFNA(IF((INDEX(F1407:F1416,MATCH(\"B\",F1407:F1416,0)))=\"B\",\"B\",\"\"),_xlfn.IFNA(IF((INDEX(F1407:F1416,MATCH(\"Aa\",F1407:F1416,0)))=\"Aa\",\"A\",\"\"),_xlfn.IFNA(IF((INDEX(F1407:F1416,MATCH(\"A\",F1407:F1416,0)))=\"A\",\"A\",\"\"),_xlfn.IFNA(IF((INDEX(F1407:F1416,MATCH(\"n.a.\",F1407:F1416,0)))=\"n.a.\",\"\",\"\"),_xlfn.IFNA(IF((INDEX(F1407:F1416,MATCH(\"\",F1407:F1416,0)))=\"\",\"\",\"\"),\"\"))))))))))))","v":""},{"$f":"_xlfn.IFNA(IF((INDEX(G1407:G1416,MATCH(\"E\",G1407:G1416,0)))=\"E\",\"E\",\"\"),_xlfn.IFNA(IF((INDEX(G1407:G1416,MATCH(\"D\",G1407:G1416,0)))=\"D\",\"D\",\"\"),_xlfn.IFNA(IF((INDEX(G1407:G1416,MATCH(\"Ca\",G1407:G1416,0)))=\"Ca\",\"C\",\"\"),_xlfn.IFNA(IF((INDEX(G1407:G1416,MATCH(\"C\",G1407:G1416,0)))=\"C\",\"C\",\"\"),_xlfn.IFNA(IF((INDEX(G1407:G1416,MATCH(\"B\",G1407:G1416,0)))=\"B\",\"B\",\"\"),_xlfn.IFNA(IF((INDEX(G1407:G1416,MATCH(\"A\",G1407:G1416,0)))=\"A\",\"A\",\"\"),_xlfn.IFNA(IF((INDEX(G1407:G1416,MATCH(\"n.a.\",G1407:G1416,0)))=\"n.a.\",\"\",\"\"),_xlfn.IFNA(IF((INDEX(G1407:G1416,MATCH(\"\",G1407:G1416,0)))=\"\",\"\",\"\"),\"\"))))))))","v":""},{"$f":"_xlfn.IFNA(IF((INDEX(H1407:H1416,MATCH(\"E\",H1407:H1416,0)))=\"E\",\"E\",\"\"),_xlfn.IFNA(IF((INDEX(H1407:H1416,MATCH(\"D (E)c\",H1407:H1416,0)))=\"D (E)c\",\"D (E)c\",\"\"),_xlfn.IFNA(IF((INDEX(H1407:H1416,MATCH(\"Db (E)c\",H1407:H1416,0)))=\"Db (E)c\",\"D (E)c\",\"\"),_xlfn.IFNA(IF((INDEX(H1407:H1416,MATCH(\"D\",H1407:H1416,0)))=\"D\",\"D\",\"\"),_xlfn.IFNA(IF((INDEX(H1407:H1416,MATCH(\"Cb\",H1407:H1416,0)))=\"Cb\",\"C\",\"\"),_xlfn.IFNA(IF((INDEX(H1407:H1416,MATCH(\"C\",H1407:H1416,0)))=\"C\",\"C\",\"\"),_xlfn.IFNA(IF((INDEX(H1407:H1416,MATCH(\"Bb\",H1407:H1416,0)))=\"Bb\",\"B\",\"\"),_xlfn.IFNA(IF((INDEX(H1407:H1416,MATCH(\"B\",H1407:H1416,0)))=\"B\",\"B\",\"\"),_xlfn.IFNA(IF((INDEX(H1407:H1416,MATCH(\"Ab\",H1407:H1416,0)))=\"Ab\",\"A\",\"\"),_xlfn.IFNA(IF((INDEX(H1407:H1416,MATCH(\"A\",H1407:H1416,0)))=\"A\",\"A\",\"\"),_xlfn.IFNA(IF((INDEX(H1407:H1416,MATCH(\"n.a.\",H1407:H1416,0)))=\"n.a.\",\"\",\"\"),_xlfn.IFNA(IF((INDEX(H1407:H1416,MATCH(\"\",H1407:H1416,0)))=\"\",\"\",\"\"),\"\"))))))))))))","v":""}]
[null,"\nHighest hazard level for all 'Uptake Routes' \n",null,null,{"$f":"_xlfn.IFNA(IF((INDEX(E1417:H1417,MATCH(\"E\",E1417:H1417,0)))=\"E\",\"E\",\"\"),_xlfn.IFNA(IF((INDEX(E1417:H1417,MATCH(\"D (E)c\",E1417:H1417,0)))=\"D (E)c\",\"D (E)\",\"\"),_xlfn.IFNA(IF((INDEX(E1417:H1417,MATCH(\"D\",E1417:H1417,0)))=\"D\",\"D\",\"\"),_xlfn.IFNA(IF((INDEX(E1417:H1417,MATCH(\"C\",E1417:H1417,0)))=\"C\",\"C\",\"\"),_xlfn.IFNA(IF((INDEX(E1417:H1417,MATCH(\"B\",E1417:H1417,0)))=\"B\",\"B\",\"\"),_xlfn.IFNA(IF((INDEX(E1417:H1417,MATCH(\"A\",E1417:H1417,0)))=\"A\",\"A\",\"\"),_xlfn.IFNA(IF((INDEX(E1417:H1417,MATCH(\"n.a.\",E1417:H1417,0)))=\"n.a.\",\"\",\"\"),_xlfn.IFNA(IF((INDEX(E1417:H1417,MATCH(\"\",E1417:H1417,0)))=\"\",\"\",\"\"),\"\"))))))))","v":""}]
[]
[]
[null,"\nStep 3: D(E) Assessment\nSkip this step if \nyour assessment above does not reveal a D(E) hazard level.\nHover over this cell for additional instructions.\n",null,null,"\nOverall hazard level\n",null,{"$f":"IF(AND(E1418=\"\",C1404=\"Yes\")=TRUE,\"B\",IF(E1418=\"\",\"\",(IF(AND(E1418=\"D (E)\",C1421=\"\"),\"D (E)\"&CHAR(10)&\"Find if cat. 1 acute tox.\",(IF(E1418<>\"D (E)\",E1418,(IF(AND(E1418=\"D (E)\",C1421=\"Yes\"),\"E\",(IF(AND(E1418=\"D (E)\",C1421=\"No\"),\"D\",\"\"))))))))))","v":""}]
[]
[{"$f":"IF(IF(MOD(ROWS(B$3:B1423),20)=1,INDEX('Summary Sheet'!$A$17:$A1466,INT(ROWS(B$3:B1423)/20)+1),\"\")=0,\"\",IF(MOD(ROWS(B$3:B1423),20)=1,INDEX('Summary Sheet'!$A$17:$A1466,INT(ROWS(B$3:B1423)/20)+1),\"\"))","v":72},"Hazard Level Assessment","for",{"$f":"IF(IF(MOD(ROWS(D$3:D1423),20)=1,INDEX('Summary Sheet'!$B$17:$B1466,INT(ROWS(D$3:D1423)/20)+1),\"\")=0,\"\",IF(MOD(ROWS(D$3:D1423),20)=1,INDEX('Summary Sheet'!$B$17:$B1466,INT(ROWS(D$3:D1423)/20)+1),\"\"))","v":""}]
[null,"\nStep 1: Physical & Environmental Hazard Statements/Codes\nFind Section 2 of the SDS and determine if the SDS has physical and/or environmental hazard statements/codes. Hover on this cell for additional instructions.\n",null,{"$f":"IF(IF(MOD(ROWS(D$3:D1424),20)=1,INDEX('Summary Sheet'!$B$17:$B1466,INT(ROWS(D$3:D1424)/20)+1),\"\")=0,\"\",IF(MOD(ROWS(D$3:D1424),20)=1,INDEX('Summary Sheet'!$B$17:$B1466,INT(ROWS(D$3:D1424)/20)+1),\"\"))","v":""}]
[null,"Step 2: Health Hazard Statements/Codes\nProvide the Health Hazard Statements or Codes from Section 2 of the SDS below. Hover on this cell for additional instructions.",null,{"$f":"IF(IF(MOD(ROWS(D$3:D1425),20)=1,INDEX('Summary Sheet'!$B$17:$B1466,INT(ROWS(D$3:D1425)/20)+1),\"\")=0,\"\",IF(MOD(ROWS(D$3:D1425),20)=1,INDEX('Summary Sheet'!$B$17:$B1466,INT(ROWS(D$3:D1425)/20)+1),\"\"))","v":""},"\nHazard Level\n"]
[null,null,null,{"$f":"IF(IF(MOD(ROWS(D$3:D1426),20)=1,INDEX('Summary Sheet'!$B$17:$B1466,INT(ROWS(D$3:D1426)/20)+1),\"\")=0,\"\",IF(MOD(ROWS(D$3:D1426),20)=1,INDEX('Summary Sheet'!$B$17:$B1466,INT(ROWS(D$3:D1426)/20)+1),\"\"))","v":""},"\nEye Damage\n","\nInhalation\n","\nLocal Skin Damage\n","\nSkin uptake, systemic\n"]
[1,null,{"$f":"_xlfn.IFNA(VLOOKUP(B1427,_!$A$7:$F$210,6,FALSE),\"\")","v":""},{"$f":"IF(IF(MOD(ROWS(D$3:D1427),20)=1,INDEX('Summary Sheet'!$B$17:$B1466,INT(ROWS(D$3:D1427)/20)+1),\"\")=0,\"\",IF(MOD(ROWS(D$3:D1427),20)=1,INDEX('Summary Sheet'!$B$17:$B1466,INT(ROWS(D$3:D1427)/20)+1),\"\"))","v":""},{"$f":"_xlfn.IFNA(IF(VLOOKUP(B1427,_!$A$7:$E$210,2,FALSE)=0, \"\", VLOOKUP(B1427,_!$A$7:$E$210,2,FALSE)),  \"\")","v":""},{"$f":"_xlfn.IFNA(IF(VLOOKUP(B1427,_!$A$7:$E$210,3,FALSE)=0, \"\", VLOOKUP(B1427,_!$A$7:$E$210,3,FALSE)), \"\")","v":""},{"$f":"_xlfn.IFNA(IF(VLOOKUP(B1427,_!$A$7:$E$210,4,FALSE)=0, \"\",VLOOKUP(B1427,_!$A$7:$E$210,4,FALSE)), \"\")","v":""},{"$f":"_xlfn.IFNA(IF(VLOOKUP(B1427,_!$A$7:$E$210,5,FALSE)=0,\"\",VLOOKUP(B1427,_!$A$7:$E$210,5,FALSE)), \"\")","v":""}]
[2,null,{"$f":"_xlfn.IFNA(VLOOKUP(B1428,_!$A$7:$F$210,6,FALSE),\"\")","v":""},{"$f":"IF(IF(MOD(ROWS(D$3:D1428),20)=1,INDEX('Summary Sheet'!$B$17:$B1466,INT(ROWS(D$3:D1428)/20)+1),\"\")=0,\"\",IF(MOD(ROWS(D$3:D1428),20)=1,INDEX('Summary Sheet'!$B$17:$B1466,INT(ROWS(D$3:D1428)/20)+1),\"\"))","v":""},{"$f":"_xlfn.IFNA(IF(VLOOKUP(B1428,_!$A$7:$E$210,2,FALSE)=0, \"\", VLOOKUP(B1428,_!$A$7:$E$210,2,FALSE)),  \"\")","v":""},{"$f":"_xlfn.IFNA(IF(VLOOKUP(B1428,_!$A$7:$E$210,3,FALSE)=0, \"\", VLOOKUP(B1428,_!$A$7:$E$210,3,FALSE)), \"\")","v":""},{"$f":"_xlfn.IFNA(IF(VLOOKUP(B1428,_!$A$7:$E$210,4,FALSE)=0, \"\",VLOOKUP(B1428,_!$A$7:$E$210,4,FALSE)), \"\")","v":""},{"$f":"_xlfn.IFNA(IF(VLOOKUP(B1428,_!$A$7:$E$210,5,FALSE)=0,\"\",VLOOKUP(B1428,_!$A$7:$E$210,5,FALSE)), \"\")","v":""}]
[3,null,{"$f":"_xlfn.IFNA(VLOOKUP(B1429,_!$A$7:$F$210,6,FALSE),\"\")","v":""},{"$f":"IF(IF(MOD(ROWS(D$3:D1429),20)=1,INDEX('Summary Sheet'!$B$17:$B1466,INT(ROWS(D$3:D1429)/20)+1),\"\")=0,\"\",IF(MOD(ROWS(D$3:D1429),20)=1,INDEX('Summary Sheet'!$B$17:$B1466,INT(ROWS(D$3:D1429)/20)+1),\"\"))","v":""},{"$f":"_xlfn.IFNA(IF(VLOOKUP(B1429,_!$A$7:$E$210,2,FALSE)=0, \"\", VLOOKUP(B1429,_!$A$7:$E$210,2,FALSE)),  \"\")","v":""},{"$f":"_xlfn.IFNA(IF(VLOOKUP(B1429,_!$A$7:$E$210,3,FALSE)=0, \"\", VLOOKUP(B1429,_!$A$7:$E$210,3,FALSE)), \"\")","v":""},{"$f":"_xlfn.IFNA(IF(VLOOKUP(B1429,_!$A$7:$E$210,4,FALSE)=0, \"\",VLOOKUP(B1429,_!$A$7:$E$210,4,FALSE)), \"\")","v":""},{"$f":"_xlfn.IFNA(IF(VLOOKUP(B1429,_!$A$7:$E$210,5,FALSE)=0,\"\",VLOOKUP(B1429,_!$A$7:$E$210,5,FALSE)), \"\")","v":""}]
[4,null,{"$f":"_xlfn.IFNA(VLOOKUP(B1430,_!$A$7:$F$210,6,FALSE),\"\")","v":""},{"$f":"IF(IF(MOD(ROWS(D$3:D1430),20)=1,INDEX('Summary Sheet'!$B$17:$B1466,INT(ROWS(D$3:D1430)/20)+1),\"\")=0,\"\",IF(MOD(ROWS(D$3:D1430),20)=1,INDEX('Summary Sheet'!$B$17:$B1466,INT(ROWS(D$3:D1430)/20)+1),\"\"))","v":""},{"$f":"_xlfn.IFNA(IF(VLOOKUP(B1430,_!$A$7:$E$210,2,FALSE)=0, \"\", VLOOKUP(B1430,_!$A$7:$E$210,2,FALSE)),  \"\")","v":""},{"$f":"_xlfn.IFNA(IF(VLOOKUP(B1430,_!$A$7:$E$210,3,FALSE)=0, \"\", VLOOKUP(B1430,_!$A$7:$E$210,3,FALSE)), \"\")","v":""},{"$f":"_xlfn.IFNA(IF(VLOOKUP(B1430,_!$A$7:$E$210,4,FALSE)=0, \"\",VLOOKUP(B1430,_!$A$7:$E$210,4,FALSE)), \"\")","v":""},{"$f":"_xlfn.IFNA(IF(VLOOKUP(B1430,_!$A$7:$E$210,5,FALSE)=0,\"\",VLOOKUP(B1430,_!$A$7:$E$210,5,FALSE)), \"\")","v":""}]
[5,null,{"$f":"_xlfn.IFNA(VLOOKUP(B1431,_!$A$7:$F$210,6,FALSE),\"\")","v":""},{"$f":"IF(IF(MOD(ROWS(D$3:D1431),20)=1,INDEX('Summary Sheet'!$B$17:$B1466,INT(ROWS(D$3:D1431)/20)+1),\"\")=0,\"\",IF(MOD(ROWS(D$3:D1431),20)=1,INDEX('Summary Sheet'!$B$17:$B1466,INT(ROWS(D$3:D1431)/20)+1),\"\"))","v":""},{"$f":"_xlfn.IFNA(IF(VLOOKUP(B1431,_!$A$7:$E$210,2,FALSE)=0, \"\", VLOOKUP(B1431,_!$A$7:$E$210,2,FALSE)),  \"\")","v":""},{"$f":"_xlfn.IFNA(IF(VLOOKUP(B1431,_!$A$7:$E$210,3,FALSE)=0, \"\", VLOOKUP(B1431,_!$A$7:$E$210,3,FALSE)), \"\")","v":""},{"$f":"_xlfn.IFNA(IF(VLOOKUP(B1431,_!$A$7:$E$210,4,FALSE)=0, \"\",VLOOKUP(B1431,_!$A$7:$E$210,4,FALSE)), \"\")","v":""},{"$f":"_xlfn.IFNA(IF(VLOOKUP(B1431,_!$A$7:$E$210,5,FALSE)=0,\"\",VLOOKUP(B1431,_!$A$7:$E$210,5,FALSE)), \"\")","v":""}]
[6,null,{"$f":"_xlfn.IFNA(VLOOKUP(B1432,_!$A$7:$F$210,6,FALSE),\"\")","v":""},{"$f":"IF(IF(MOD(ROWS(D$3:D1432),20)=1,INDEX('Summary Sheet'!$B$17:$B1466,INT(ROWS(D$3:D1432)/20)+1),\"\")=0,\"\",IF(MOD(ROWS(D$3:D1432),20)=1,INDEX('Summary Sheet'!$B$17:$B1466,INT(ROWS(D$3:D1432)/20)+1),\"\"))","v":""},{"$f":"_xlfn.IFNA(IF(VLOOKUP(B1432,_!$A$7:$E$210,2,FALSE)=0, \"\", VLOOKUP(B1432,_!$A$7:$E$210,2,FALSE)),  \"\")","v":""},{"$f":"_xlfn.IFNA(IF(VLOOKUP(B1432,_!$A$7:$E$210,3,FALSE)=0, \"\", VLOOKUP(B1432,_!$A$7:$E$210,3,FALSE)), \"\")","v":""},{"$f":"_xlfn.IFNA(IF(VLOOKUP(B1432,_!$A$7:$E$210,4,FALSE)=0, \"\",VLOOKUP(B1432,_!$A$7:$E$210,4,FALSE)), \"\")","v":""},{"$f":"_xlfn.IFNA(IF(VLOOKUP(B1432,_!$A$7:$E$210,5,FALSE)=0,\"\",VLOOKUP(B1432,_!$A$7:$E$210,5,FALSE)), \"\")","v":""}]
[7,null,{"$f":"_xlfn.IFNA(VLOOKUP(B1433,_!$A$7:$F$210,6,FALSE),\"\")","v":""},{"$f":"IF(IF(MOD(ROWS(D$3:D1433),20)=1,INDEX('Summary Sheet'!$B$17:$B1466,INT(ROWS(D$3:D1433)/20)+1),\"\")=0,\"\",IF(MOD(ROWS(D$3:D1433),20)=1,INDEX('Summary Sheet'!$B$17:$B1466,INT(ROWS(D$3:D1433)/20)+1),\"\"))","v":""},{"$f":"_xlfn.IFNA(IF(VLOOKUP(B1433,_!$A$7:$E$210,2,FALSE)=0, \"\", VLOOKUP(B1433,_!$A$7:$E$210,2,FALSE)),  \"\")","v":""},{"$f":"_xlfn.IFNA(IF(VLOOKUP(B1433,_!$A$7:$E$210,3,FALSE)=0, \"\", VLOOKUP(B1433,_!$A$7:$E$210,3,FALSE)), \"\")","v":""},{"$f":"_xlfn.IFNA(IF(VLOOKUP(B1433,_!$A$7:$E$210,4,FALSE)=0, \"\",VLOOKUP(B1433,_!$A$7:$E$210,4,FALSE)), \"\")","v":""},{"$f":"_xlfn.IFNA(IF(VLOOKUP(B1433,_!$A$7:$E$210,5,FALSE)=0,\"\",VLOOKUP(B1433,_!$A$7:$E$210,5,FALSE)), \"\")","v":""}]
[8,null,{"$f":"_xlfn.IFNA(VLOOKUP(B1434,_!$A$7:$F$210,6,FALSE),\"\")","v":""},{"$f":"IF(IF(MOD(ROWS(D$3:D1434),20)=1,INDEX('Summary Sheet'!$B$17:$B1466,INT(ROWS(D$3:D1434)/20)+1),\"\")=0,\"\",IF(MOD(ROWS(D$3:D1434),20)=1,INDEX('Summary Sheet'!$B$17:$B1466,INT(ROWS(D$3:D1434)/20)+1),\"\"))","v":""},{"$f":"_xlfn.IFNA(IF(VLOOKUP(B1434,_!$A$7:$E$210,2,FALSE)=0, \"\", VLOOKUP(B1434,_!$A$7:$E$210,2,FALSE)),  \"\")","v":""},{"$f":"_xlfn.IFNA(IF(VLOOKUP(B1434,_!$A$7:$E$210,3,FALSE)=0, \"\", VLOOKUP(B1434,_!$A$7:$E$210,3,FALSE)), \"\")","v":""},{"$f":"_xlfn.IFNA(IF(VLOOKUP(B1434,_!$A$7:$E$210,4,FALSE)=0, \"\",VLOOKUP(B1434,_!$A$7:$E$210,4,FALSE)), \"\")","v":""},{"$f":"_xlfn.IFNA(IF(VLOOKUP(B1434,_!$A$7:$E$210,5,FALSE)=0,\"\",VLOOKUP(B1434,_!$A$7:$E$210,5,FALSE)), \"\")","v":""}]
[9,null,{"$f":"_xlfn.IFNA(VLOOKUP(B1435,_!$A$7:$F$210,6,FALSE),\"\")","v":""},{"$f":"IF(IF(MOD(ROWS(D$3:D1435),20)=1,INDEX('Summary Sheet'!$B$17:$B1466,INT(ROWS(D$3:D1435)/20)+1),\"\")=0,\"\",IF(MOD(ROWS(D$3:D1435),20)=1,INDEX('Summary Sheet'!$B$17:$B1466,INT(ROWS(D$3:D1435)/20)+1),\"\"))","v":""},{"$f":"_xlfn.IFNA(IF(VLOOKUP(B1435,_!$A$7:$E$210,2,FALSE)=0, \"\", VLOOKUP(B1435,_!$A$7:$E$210,2,FALSE)),  \"\")","v":""},{"$f":"_xlfn.IFNA(IF(VLOOKUP(B1435,_!$A$7:$E$210,3,FALSE)=0, \"\", VLOOKUP(B1435,_!$A$7:$E$210,3,FALSE)), \"\")","v":""},{"$f":"_xlfn.IFNA(IF(VLOOKUP(B1435,_!$A$7:$E$210,4,FALSE)=0, \"\",VLOOKUP(B1435,_!$A$7:$E$210,4,FALSE)), \"\")","v":""},{"$f":"_xlfn.IFNA(IF(VLOOKUP(B1435,_!$A$7:$E$210,5,FALSE)=0,\"\",VLOOKUP(B1435,_!$A$7:$E$210,5,FALSE)), \"\")","v":""}]
[10,null,{"$f":"_xlfn.IFNA(VLOOKUP(B1436,_!$A$7:$F$210,6,FALSE),\"\")","v":""},{"$f":"IF(IF(MOD(ROWS(D$14:D1436),20)=1,INDEX('Summary Sheet'!$B$17:$B1466,INT(ROWS(D$14:D1436)/20)+1),\"\")=0,\"\",IF(MOD(ROWS(D$14:D1436),20)=1,INDEX('Summary Sheet'!$B$17:$B1466,INT(ROWS(D$14:D1436)/20)+1),\"\"))","v":""},{"$f":"_xlfn.IFNA(IF(VLOOKUP(B1436,_!$A$7:$E$210,2,FALSE)=0, \"\", VLOOKUP(B1436,_!$A$7:$E$210,2,FALSE)),  \"\")","v":""},{"$f":"_xlfn.IFNA(IF(VLOOKUP(B1436,_!$A$7:$E$210,3,FALSE)=0, \"\", VLOOKUP(B1436,_!$A$7:$E$210,3,FALSE)), \"\")","v":""},{"$f":"_xlfn.IFNA(IF(VLOOKUP(B1436,_!$A$7:$E$210,4,FALSE)=0, \"\",VLOOKUP(B1436,_!$A$7:$E$210,4,FALSE)), \"\")","v":""},{"$f":"_xlfn.IFNA(IF(VLOOKUP(B1436,_!$A$7:$E$210,5,FALSE)=0,\"\",VLOOKUP(B1436,_!$A$7:$E$210,5,FALSE)), \"\")","v":""}]
[null,"\nHighest hazard level for each ‘Uptake Route’\n",null,null,{"$f":"_xlfn.IFNA(IF((INDEX(E1427:E1436,MATCH(\"E\",E1427:E1436,0)))=\"E\",\"E\",\"\"),_xlfn.IFNA(IF((INDEX(E1427:E1436,MATCH(\"D\",E1427:E1436,0)))=\"D\",\"D\",\"\"),_xlfn.IFNA(IF((INDEX(E1427:E1436,MATCH(\"Ca\",E1427:E1436,0)))=\"Ca\",\"C\",\"\"),_xlfn.IFNA(IF((INDEX(E1427:E1436,MATCH(\"C\",E1427:E1436,0)))=\"C\",\"C\",\"\"),_xlfn.IFNA(IF((INDEX(E1427:E1436,MATCH(\"B\",E1427:E1436,0)))=\"B\",\"B\",\"\"),_xlfn.IFNA(IF((INDEX(E1427:E1436,MATCH(\"A\",E1427:E1436,0)))=\"A\",\"A\",\"\"),_xlfn.IFNA(IF((INDEX(E1427:E1436,MATCH(\"n.a.\",E1427:E1436,0)))=\"n.a.\",\"\",\"\"),_xlfn.IFNA(IF((INDEX(E1427:E1436,MATCH(\"\",E1427:E1436,0)))=\"\",\"\",\"\"),\"\"))))))))","v":""},{"$f":"_xlfn.IFNA(IF((INDEX(F1427:F1436,MATCH(\"E\",F1427:F1436,0)))=\"E\",\"E\",\"\"),_xlfn.IFNA(IF((INDEX(F1427:F1436,MATCH(\"D (E)c\",F1427:F1436,0)))=\"D (E)c\",\"D (E)c\",\"\"),_xlfn.IFNA(IF((INDEX(F1427:F1436,MATCH(\"Da (E)c\",F1427:F1436,0)))=\"Da (E)c\",\"D (E)c\",\"\"),_xlfn.IFNA(IF((INDEX(F1427:F1436,MATCH(\"D\",F1427:F1436,0)))=\"D\",\"D\",\"\"),_xlfn.IFNA(IF((INDEX(F1427:F1436,MATCH(\"Ca\",F1427:F1436,0)))=\"Ca\",\"C\",\"\"),_xlfn.IFNA(IF((INDEX(F1427:F1436,MATCH(\"C\",F1427:F1436,0)))=\"C\",\"C\",\"\"),_xlfn.IFNA(IF((INDEX(F1427:F1436,MATCH(\"Ba\",F1427:F1436,0)))=\"Ba\",\"B\",\"\"),_xlfn.IFNA(IF((INDEX(F1427:F1436,MATCH(\"B\",F1427:F1436,0)))=\"B\",\"B\",\"\"),_xlfn.IFNA(IF((INDEX(F1427:F1436,MATCH(\"Aa\",F1427:F1436,0)))=\"Aa\",\"A\",\"\"),_xlfn.IFNA(IF((INDEX(F1427:F1436,MATCH(\"A\",F1427:F1436,0)))=\"A\",\"A\",\"\"),_xlfn.IFNA(IF((INDEX(F1427:F1436,MATCH(\"n.a.\",F1427:F1436,0)))=\"n.a.\",\"\",\"\"),_xlfn.IFNA(IF((INDEX(F1427:F1436,MATCH(\"\",F1427:F1436,0)))=\"\",\"\",\"\"),\"\"))))))))))))","v":""},{"$f":"_xlfn.IFNA(IF((INDEX(G1427:G1436,MATCH(\"E\",G1427:G1436,0)))=\"E\",\"E\",\"\"),_xlfn.IFNA(IF((INDEX(G1427:G1436,MATCH(\"D\",G1427:G1436,0)))=\"D\",\"D\",\"\"),_xlfn.IFNA(IF((INDEX(G1427:G1436,MATCH(\"Ca\",G1427:G1436,0)))=\"Ca\",\"C\",\"\"),_xlfn.IFNA(IF((INDEX(G1427:G1436,MATCH(\"C\",G1427:G1436,0)))=\"C\",\"C\",\"\"),_xlfn.IFNA(IF((INDEX(G1427:G1436,MATCH(\"B\",G1427:G1436,0)))=\"B\",\"B\",\"\"),_xlfn.IFNA(IF((INDEX(G1427:G1436,MATCH(\"A\",G1427:G1436,0)))=\"A\",\"A\",\"\"),_xlfn.IFNA(IF((INDEX(G1427:G1436,MATCH(\"n.a.\",G1427:G1436,0)))=\"n.a.\",\"\",\"\"),_xlfn.IFNA(IF((INDEX(G1427:G1436,MATCH(\"\",G1427:G1436,0)))=\"\",\"\",\"\"),\"\"))))))))","v":""},{"$f":"_xlfn.IFNA(IF((INDEX(H1427:H1436,MATCH(\"E\",H1427:H1436,0)))=\"E\",\"E\",\"\"),_xlfn.IFNA(IF((INDEX(H1427:H1436,MATCH(\"D (E)c\",H1427:H1436,0)))=\"D (E)c\",\"D (E)c\",\"\"),_xlfn.IFNA(IF((INDEX(H1427:H1436,MATCH(\"Db (E)c\",H1427:H1436,0)))=\"Db (E)c\",\"D (E)c\",\"\"),_xlfn.IFNA(IF((INDEX(H1427:H1436,MATCH(\"D\",H1427:H1436,0)))=\"D\",\"D\",\"\"),_xlfn.IFNA(IF((INDEX(H1427:H1436,MATCH(\"Cb\",H1427:H1436,0)))=\"Cb\",\"C\",\"\"),_xlfn.IFNA(IF((INDEX(H1427:H1436,MATCH(\"C\",H1427:H1436,0)))=\"C\",\"C\",\"\"),_xlfn.IFNA(IF((INDEX(H1427:H1436,MATCH(\"Bb\",H1427:H1436,0)))=\"Bb\",\"B\",\"\"),_xlfn.IFNA(IF((INDEX(H1427:H1436,MATCH(\"B\",H1427:H1436,0)))=\"B\",\"B\",\"\"),_xlfn.IFNA(IF((INDEX(H1427:H1436,MATCH(\"Ab\",H1427:H1436,0)))=\"Ab\",\"A\",\"\"),_xlfn.IFNA(IF((INDEX(H1427:H1436,MATCH(\"A\",H1427:H1436,0)))=\"A\",\"A\",\"\"),_xlfn.IFNA(IF((INDEX(H1427:H1436,MATCH(\"n.a.\",H1427:H1436,0)))=\"n.a.\",\"\",\"\"),_xlfn.IFNA(IF((INDEX(H1427:H1436,MATCH(\"\",H1427:H1436,0)))=\"\",\"\",\"\"),\"\"))))))))))))","v":""}]
[null,"\nHighest hazard level for all 'Uptake Routes' \n",null,null,{"$f":"_xlfn.IFNA(IF((INDEX(E1437:H1437,MATCH(\"E\",E1437:H1437,0)))=\"E\",\"E\",\"\"),_xlfn.IFNA(IF((INDEX(E1437:H1437,MATCH(\"D (E)c\",E1437:H1437,0)))=\"D (E)c\",\"D (E)\",\"\"),_xlfn.IFNA(IF((INDEX(E1437:H1437,MATCH(\"D\",E1437:H1437,0)))=\"D\",\"D\",\"\"),_xlfn.IFNA(IF((INDEX(E1437:H1437,MATCH(\"C\",E1437:H1437,0)))=\"C\",\"C\",\"\"),_xlfn.IFNA(IF((INDEX(E1437:H1437,MATCH(\"B\",E1437:H1437,0)))=\"B\",\"B\",\"\"),_xlfn.IFNA(IF((INDEX(E1437:H1437,MATCH(\"A\",E1437:H1437,0)))=\"A\",\"A\",\"\"),_xlfn.IFNA(IF((INDEX(E1437:H1437,MATCH(\"n.a.\",E1437:H1437,0)))=\"n.a.\",\"\",\"\"),_xlfn.IFNA(IF((INDEX(E1437:H1437,MATCH(\"\",E1437:H1437,0)))=\"\",\"\",\"\"),\"\"))))))))","v":""}]
[]
[]
[null,"\nStep 3: D(E) Assessment\nSkip this step if \nyour assessment above does not reveal a D(E) hazard level.\nHover over this cell for additional instructions.\n",null,null,"\nOverall hazard level\n",null,{"$f":"IF(AND(E1438=\"\",C1424=\"Yes\")=TRUE,\"B\",IF(E1438=\"\",\"\",(IF(AND(E1438=\"D (E)\",C1441=\"\"),\"D (E)\"&CHAR(10)&\"Find if cat. 1 acute tox.\",(IF(E1438<>\"D (E)\",E1438,(IF(AND(E1438=\"D (E)\",C1441=\"Yes\"),\"E\",(IF(AND(E1438=\"D (E)\",C1441=\"No\"),\"D\",\"\"))))))))))","v":""}]
[]
[{"$f":"IF(IF(MOD(ROWS(B$3:B1443),20)=1,INDEX('Summary Sheet'!$A$17:$A1485,INT(ROWS(B$3:B1443)/20)+1),\"\")=0,\"\",IF(MOD(ROWS(B$3:B1443),20)=1,INDEX('Summary Sheet'!$A$17:$A1485,INT(ROWS(B$3:B1443)/20)+1),\"\"))","v":73},"Hazard Level Assessment","for",{"$f":"IF(IF(MOD(ROWS(D$3:D1443),20)=1,INDEX('Summary Sheet'!$B$17:$B1485,INT(ROWS(D$3:D1443)/20)+1),\"\")=0,\"\",IF(MOD(ROWS(D$3:D1443),20)=1,INDEX('Summary Sheet'!$B$17:$B1485,INT(ROWS(D$3:D1443)/20)+1),\"\"))","v":""}]
[null,"\nStep 1: Physical & Environmental Hazard Statements/Codes\nFind Section 2 of the SDS and determine if the SDS has physical and/or environmental hazard statements/codes. Hover on this cell for additional instructions.\n",null,{"$f":"IF(IF(MOD(ROWS(D$3:D1444),20)=1,INDEX('Summary Sheet'!$B$17:$B1485,INT(ROWS(D$3:D1444)/20)+1),\"\")=0,\"\",IF(MOD(ROWS(D$3:D1444),20)=1,INDEX('Summary Sheet'!$B$17:$B1485,INT(ROWS(D$3:D1444)/20)+1),\"\"))","v":""}]
[null,"Step 2: Health Hazard Statements/Codes\nProvide the Health Hazard Statements or Codes from Section 2 of the SDS below. Hover on this cell for additional instructions.",null,{"$f":"IF(IF(MOD(ROWS(D$3:D1445),20)=1,INDEX('Summary Sheet'!$B$17:$B1485,INT(ROWS(D$3:D1445)/20)+1),\"\")=0,\"\",IF(MOD(ROWS(D$3:D1445),20)=1,INDEX('Summary Sheet'!$B$17:$B1485,INT(ROWS(D$3:D1445)/20)+1),\"\"))","v":""},"\nHazard Level\n"]
[null,null,null,{"$f":"IF(IF(MOD(ROWS(D$3:D1446),20)=1,INDEX('Summary Sheet'!$B$17:$B1485,INT(ROWS(D$3:D1446)/20)+1),\"\")=0,\"\",IF(MOD(ROWS(D$3:D1446),20)=1,INDEX('Summary Sheet'!$B$17:$B1485,INT(ROWS(D$3:D1446)/20)+1),\"\"))","v":""},"\nEye Damage\n","\nInhalation\n","\nLocal Skin Damage\n","\nSkin uptake, systemic\n"]
[1,null,{"$f":"_xlfn.IFNA(VLOOKUP(B1447,_!$A$7:$F$210,6,FALSE),\"\")","v":""},{"$f":"IF(IF(MOD(ROWS(D$3:D1447),20)=1,INDEX('Summary Sheet'!$B$17:$B1485,INT(ROWS(D$3:D1447)/20)+1),\"\")=0,\"\",IF(MOD(ROWS(D$3:D1447),20)=1,INDEX('Summary Sheet'!$B$17:$B1485,INT(ROWS(D$3:D1447)/20)+1),\"\"))","v":""},{"$f":"_xlfn.IFNA(IF(VLOOKUP(B1447,_!$A$7:$E$210,2,FALSE)=0, \"\", VLOOKUP(B1447,_!$A$7:$E$210,2,FALSE)),  \"\")","v":""},{"$f":"_xlfn.IFNA(IF(VLOOKUP(B1447,_!$A$7:$E$210,3,FALSE)=0, \"\", VLOOKUP(B1447,_!$A$7:$E$210,3,FALSE)), \"\")","v":""},{"$f":"_xlfn.IFNA(IF(VLOOKUP(B1447,_!$A$7:$E$210,4,FALSE)=0, \"\",VLOOKUP(B1447,_!$A$7:$E$210,4,FALSE)), \"\")","v":""},{"$f":"_xlfn.IFNA(IF(VLOOKUP(B1447,_!$A$7:$E$210,5,FALSE)=0,\"\",VLOOKUP(B1447,_!$A$7:$E$210,5,FALSE)), \"\")","v":""}]
[2,null,{"$f":"_xlfn.IFNA(VLOOKUP(B1448,_!$A$7:$F$210,6,FALSE),\"\")","v":""},{"$f":"IF(IF(MOD(ROWS(D$3:D1448),20)=1,INDEX('Summary Sheet'!$B$17:$B1485,INT(ROWS(D$3:D1448)/20)+1),\"\")=0,\"\",IF(MOD(ROWS(D$3:D1448),20)=1,INDEX('Summary Sheet'!$B$17:$B1485,INT(ROWS(D$3:D1448)/20)+1),\"\"))","v":""},{"$f":"_xlfn.IFNA(IF(VLOOKUP(B1448,_!$A$7:$E$210,2,FALSE)=0, \"\", VLOOKUP(B1448,_!$A$7:$E$210,2,FALSE)),  \"\")","v":""},{"$f":"_xlfn.IFNA(IF(VLOOKUP(B1448,_!$A$7:$E$210,3,FALSE)=0, \"\", VLOOKUP(B1448,_!$A$7:$E$210,3,FALSE)), \"\")","v":""},{"$f":"_xlfn.IFNA(IF(VLOOKUP(B1448,_!$A$7:$E$210,4,FALSE)=0, \"\",VLOOKUP(B1448,_!$A$7:$E$210,4,FALSE)), \"\")","v":""},{"$f":"_xlfn.IFNA(IF(VLOOKUP(B1448,_!$A$7:$E$210,5,FALSE)=0,\"\",VLOOKUP(B1448,_!$A$7:$E$210,5,FALSE)), \"\")","v":""}]
[3,null,{"$f":"_xlfn.IFNA(VLOOKUP(B1449,_!$A$7:$F$210,6,FALSE),\"\")","v":""},{"$f":"IF(IF(MOD(ROWS(D$3:D1449),20)=1,INDEX('Summary Sheet'!$B$17:$B1485,INT(ROWS(D$3:D1449)/20)+1),\"\")=0,\"\",IF(MOD(ROWS(D$3:D1449),20)=1,INDEX('Summary Sheet'!$B$17:$B1485,INT(ROWS(D$3:D1449)/20)+1),\"\"))","v":""},{"$f":"_xlfn.IFNA(IF(VLOOKUP(B1449,_!$A$7:$E$210,2,FALSE)=0, \"\", VLOOKUP(B1449,_!$A$7:$E$210,2,FALSE)),  \"\")","v":""},{"$f":"_xlfn.IFNA(IF(VLOOKUP(B1449,_!$A$7:$E$210,3,FALSE)=0, \"\", VLOOKUP(B1449,_!$A$7:$E$210,3,FALSE)), \"\")","v":""},{"$f":"_xlfn.IFNA(IF(VLOOKUP(B1449,_!$A$7:$E$210,4,FALSE)=0, \"\",VLOOKUP(B1449,_!$A$7:$E$210,4,FALSE)), \"\")","v":""},{"$f":"_xlfn.IFNA(IF(VLOOKUP(B1449,_!$A$7:$E$210,5,FALSE)=0,\"\",VLOOKUP(B1449,_!$A$7:$E$210,5,FALSE)), \"\")","v":""}]
[4,null,{"$f":"_xlfn.IFNA(VLOOKUP(B1450,_!$A$7:$F$210,6,FALSE),\"\")","v":""},{"$f":"IF(IF(MOD(ROWS(D$3:D1450),20)=1,INDEX('Summary Sheet'!$B$17:$B1485,INT(ROWS(D$3:D1450)/20)+1),\"\")=0,\"\",IF(MOD(ROWS(D$3:D1450),20)=1,INDEX('Summary Sheet'!$B$17:$B1485,INT(ROWS(D$3:D1450)/20)+1),\"\"))","v":""},{"$f":"_xlfn.IFNA(IF(VLOOKUP(B1450,_!$A$7:$E$210,2,FALSE)=0, \"\", VLOOKUP(B1450,_!$A$7:$E$210,2,FALSE)),  \"\")","v":""},{"$f":"_xlfn.IFNA(IF(VLOOKUP(B1450,_!$A$7:$E$210,3,FALSE)=0, \"\", VLOOKUP(B1450,_!$A$7:$E$210,3,FALSE)), \"\")","v":""},{"$f":"_xlfn.IFNA(IF(VLOOKUP(B1450,_!$A$7:$E$210,4,FALSE)=0, \"\",VLOOKUP(B1450,_!$A$7:$E$210,4,FALSE)), \"\")","v":""},{"$f":"_xlfn.IFNA(IF(VLOOKUP(B1450,_!$A$7:$E$210,5,FALSE)=0,\"\",VLOOKUP(B1450,_!$A$7:$E$210,5,FALSE)), \"\")","v":""}]
[5,null,{"$f":"_xlfn.IFNA(VLOOKUP(B1451,_!$A$7:$F$210,6,FALSE),\"\")","v":""},{"$f":"IF(IF(MOD(ROWS(D$3:D1451),20)=1,INDEX('Summary Sheet'!$B$17:$B1485,INT(ROWS(D$3:D1451)/20)+1),\"\")=0,\"\",IF(MOD(ROWS(D$3:D1451),20)=1,INDEX('Summary Sheet'!$B$17:$B1485,INT(ROWS(D$3:D1451)/20)+1),\"\"))","v":""},{"$f":"_xlfn.IFNA(IF(VLOOKUP(B1451,_!$A$7:$E$210,2,FALSE)=0, \"\", VLOOKUP(B1451,_!$A$7:$E$210,2,FALSE)),  \"\")","v":""},{"$f":"_xlfn.IFNA(IF(VLOOKUP(B1451,_!$A$7:$E$210,3,FALSE)=0, \"\", VLOOKUP(B1451,_!$A$7:$E$210,3,FALSE)), \"\")","v":""},{"$f":"_xlfn.IFNA(IF(VLOOKUP(B1451,_!$A$7:$E$210,4,FALSE)=0, \"\",VLOOKUP(B1451,_!$A$7:$E$210,4,FALSE)), \"\")","v":""},{"$f":"_xlfn.IFNA(IF(VLOOKUP(B1451,_!$A$7:$E$210,5,FALSE)=0,\"\",VLOOKUP(B1451,_!$A$7:$E$210,5,FALSE)), \"\")","v":""}]
[6,null,{"$f":"_xlfn.IFNA(VLOOKUP(B1452,_!$A$7:$F$210,6,FALSE),\"\")","v":""},{"$f":"IF(IF(MOD(ROWS(D$3:D1452),20)=1,INDEX('Summary Sheet'!$B$17:$B1485,INT(ROWS(D$3:D1452)/20)+1),\"\")=0,\"\",IF(MOD(ROWS(D$3:D1452),20)=1,INDEX('Summary Sheet'!$B$17:$B1485,INT(ROWS(D$3:D1452)/20)+1),\"\"))","v":""},{"$f":"_xlfn.IFNA(IF(VLOOKUP(B1452,_!$A$7:$E$210,2,FALSE)=0, \"\", VLOOKUP(B1452,_!$A$7:$E$210,2,FALSE)),  \"\")","v":""},{"$f":"_xlfn.IFNA(IF(VLOOKUP(B1452,_!$A$7:$E$210,3,FALSE)=0, \"\", VLOOKUP(B1452,_!$A$7:$E$210,3,FALSE)), \"\")","v":""},{"$f":"_xlfn.IFNA(IF(VLOOKUP(B1452,_!$A$7:$E$210,4,FALSE)=0, \"\",VLOOKUP(B1452,_!$A$7:$E$210,4,FALSE)), \"\")","v":""},{"$f":"_xlfn.IFNA(IF(VLOOKUP(B1452,_!$A$7:$E$210,5,FALSE)=0,\"\",VLOOKUP(B1452,_!$A$7:$E$210,5,FALSE)), \"\")","v":""}]
[7,null,{"$f":"_xlfn.IFNA(VLOOKUP(B1453,_!$A$7:$F$210,6,FALSE),\"\")","v":""},{"$f":"IF(IF(MOD(ROWS(D$3:D1453),20)=1,INDEX('Summary Sheet'!$B$17:$B1485,INT(ROWS(D$3:D1453)/20)+1),\"\")=0,\"\",IF(MOD(ROWS(D$3:D1453),20)=1,INDEX('Summary Sheet'!$B$17:$B1485,INT(ROWS(D$3:D1453)/20)+1),\"\"))","v":""},{"$f":"_xlfn.IFNA(IF(VLOOKUP(B1453,_!$A$7:$E$210,2,FALSE)=0, \"\", VLOOKUP(B1453,_!$A$7:$E$210,2,FALSE)),  \"\")","v":""},{"$f":"_xlfn.IFNA(IF(VLOOKUP(B1453,_!$A$7:$E$210,3,FALSE)=0, \"\", VLOOKUP(B1453,_!$A$7:$E$210,3,FALSE)), \"\")","v":""},{"$f":"_xlfn.IFNA(IF(VLOOKUP(B1453,_!$A$7:$E$210,4,FALSE)=0, \"\",VLOOKUP(B1453,_!$A$7:$E$210,4,FALSE)), \"\")","v":""},{"$f":"_xlfn.IFNA(IF(VLOOKUP(B1453,_!$A$7:$E$210,5,FALSE)=0,\"\",VLOOKUP(B1453,_!$A$7:$E$210,5,FALSE)), \"\")","v":""}]
[8,null,{"$f":"_xlfn.IFNA(VLOOKUP(B1454,_!$A$7:$F$210,6,FALSE),\"\")","v":""},{"$f":"IF(IF(MOD(ROWS(D$3:D1454),20)=1,INDEX('Summary Sheet'!$B$17:$B1485,INT(ROWS(D$3:D1454)/20)+1),\"\")=0,\"\",IF(MOD(ROWS(D$3:D1454),20)=1,INDEX('Summary Sheet'!$B$17:$B1485,INT(ROWS(D$3:D1454)/20)+1),\"\"))","v":""},{"$f":"_xlfn.IFNA(IF(VLOOKUP(B1454,_!$A$7:$E$210,2,FALSE)=0, \"\", VLOOKUP(B1454,_!$A$7:$E$210,2,FALSE)),  \"\")","v":""},{"$f":"_xlfn.IFNA(IF(VLOOKUP(B1454,_!$A$7:$E$210,3,FALSE)=0, \"\", VLOOKUP(B1454,_!$A$7:$E$210,3,FALSE)), \"\")","v":""},{"$f":"_xlfn.IFNA(IF(VLOOKUP(B1454,_!$A$7:$E$210,4,FALSE)=0, \"\",VLOOKUP(B1454,_!$A$7:$E$210,4,FALSE)), \"\")","v":""},{"$f":"_xlfn.IFNA(IF(VLOOKUP(B1454,_!$A$7:$E$210,5,FALSE)=0,\"\",VLOOKUP(B1454,_!$A$7:$E$210,5,FALSE)), \"\")","v":""}]
[9,null,{"$f":"_xlfn.IFNA(VLOOKUP(B1455,_!$A$7:$F$210,6,FALSE),\"\")","v":""},{"$f":"IF(IF(MOD(ROWS(D$3:D1455),20)=1,INDEX('Summary Sheet'!$B$17:$B1485,INT(ROWS(D$3:D1455)/20)+1),\"\")=0,\"\",IF(MOD(ROWS(D$3:D1455),20)=1,INDEX('Summary Sheet'!$B$17:$B1485,INT(ROWS(D$3:D1455)/20)+1),\"\"))","v":""},{"$f":"_xlfn.IFNA(IF(VLOOKUP(B1455,_!$A$7:$E$210,2,FALSE)=0, \"\", VLOOKUP(B1455,_!$A$7:$E$210,2,FALSE)),  \"\")","v":""},{"$f":"_xlfn.IFNA(IF(VLOOKUP(B1455,_!$A$7:$E$210,3,FALSE)=0, \"\", VLOOKUP(B1455,_!$A$7:$E$210,3,FALSE)), \"\")","v":""},{"$f":"_xlfn.IFNA(IF(VLOOKUP(B1455,_!$A$7:$E$210,4,FALSE)=0, \"\",VLOOKUP(B1455,_!$A$7:$E$210,4,FALSE)), \"\")","v":""},{"$f":"_xlfn.IFNA(IF(VLOOKUP(B1455,_!$A$7:$E$210,5,FALSE)=0,\"\",VLOOKUP(B1455,_!$A$7:$E$210,5,FALSE)), \"\")","v":""}]
[10,null,{"$f":"_xlfn.IFNA(VLOOKUP(B1456,_!$A$7:$F$210,6,FALSE),\"\")","v":""},{"$f":"IF(IF(MOD(ROWS(D$14:D1456),20)=1,INDEX('Summary Sheet'!$B$17:$B1485,INT(ROWS(D$14:D1456)/20)+1),\"\")=0,\"\",IF(MOD(ROWS(D$14:D1456),20)=1,INDEX('Summary Sheet'!$B$17:$B1485,INT(ROWS(D$14:D1456)/20)+1),\"\"))","v":""},{"$f":"_xlfn.IFNA(IF(VLOOKUP(B1456,_!$A$7:$E$210,2,FALSE)=0, \"\", VLOOKUP(B1456,_!$A$7:$E$210,2,FALSE)),  \"\")","v":""},{"$f":"_xlfn.IFNA(IF(VLOOKUP(B1456,_!$A$7:$E$210,3,FALSE)=0, \"\", VLOOKUP(B1456,_!$A$7:$E$210,3,FALSE)), \"\")","v":""},{"$f":"_xlfn.IFNA(IF(VLOOKUP(B1456,_!$A$7:$E$210,4,FALSE)=0, \"\",VLOOKUP(B1456,_!$A$7:$E$210,4,FALSE)), \"\")","v":""},{"$f":"_xlfn.IFNA(IF(VLOOKUP(B1456,_!$A$7:$E$210,5,FALSE)=0,\"\",VLOOKUP(B1456,_!$A$7:$E$210,5,FALSE)), \"\")","v":""}]
[null,"\nHighest hazard level for each ‘Uptake Route’\n",null,null,{"$f":"_xlfn.IFNA(IF((INDEX(E1447:E1456,MATCH(\"E\",E1447:E1456,0)))=\"E\",\"E\",\"\"),_xlfn.IFNA(IF((INDEX(E1447:E1456,MATCH(\"D\",E1447:E1456,0)))=\"D\",\"D\",\"\"),_xlfn.IFNA(IF((INDEX(E1447:E1456,MATCH(\"Ca\",E1447:E1456,0)))=\"Ca\",\"C\",\"\"),_xlfn.IFNA(IF((INDEX(E1447:E1456,MATCH(\"C\",E1447:E1456,0)))=\"C\",\"C\",\"\"),_xlfn.IFNA(IF((INDEX(E1447:E1456,MATCH(\"B\",E1447:E1456,0)))=\"B\",\"B\",\"\"),_xlfn.IFNA(IF((INDEX(E1447:E1456,MATCH(\"A\",E1447:E1456,0)))=\"A\",\"A\",\"\"),_xlfn.IFNA(IF((INDEX(E1447:E1456,MATCH(\"n.a.\",E1447:E1456,0)))=\"n.a.\",\"\",\"\"),_xlfn.IFNA(IF((INDEX(E1447:E1456,MATCH(\"\",E1447:E1456,0)))=\"\",\"\",\"\"),\"\"))))))))","v":""},{"$f":"_xlfn.IFNA(IF((INDEX(F1447:F1456,MATCH(\"E\",F1447:F1456,0)))=\"E\",\"E\",\"\"),_xlfn.IFNA(IF((INDEX(F1447:F1456,MATCH(\"D (E)c\",F1447:F1456,0)))=\"D (E)c\",\"D (E)c\",\"\"),_xlfn.IFNA(IF((INDEX(F1447:F1456,MATCH(\"Da (E)c\",F1447:F1456,0)))=\"Da (E)c\",\"D (E)c\",\"\"),_xlfn.IFNA(IF((INDEX(F1447:F1456,MATCH(\"D\",F1447:F1456,0)))=\"D\",\"D\",\"\"),_xlfn.IFNA(IF((INDEX(F1447:F1456,MATCH(\"Ca\",F1447:F1456,0)))=\"Ca\",\"C\",\"\"),_xlfn.IFNA(IF((INDEX(F1447:F1456,MATCH(\"C\",F1447:F1456,0)))=\"C\",\"C\",\"\"),_xlfn.IFNA(IF((INDEX(F1447:F1456,MATCH(\"Ba\",F1447:F1456,0)))=\"Ba\",\"B\",\"\"),_xlfn.IFNA(IF((INDEX(F1447:F1456,MATCH(\"B\",F1447:F1456,0)))=\"B\",\"B\",\"\"),_xlfn.IFNA(IF((INDEX(F1447:F1456,MATCH(\"Aa\",F1447:F1456,0)))=\"Aa\",\"A\",\"\"),_xlfn.IFNA(IF((INDEX(F1447:F1456,MATCH(\"A\",F1447:F1456,0)))=\"A\",\"A\",\"\"),_xlfn.IFNA(IF((INDEX(F1447:F1456,MATCH(\"n.a.\",F1447:F1456,0)))=\"n.a.\",\"\",\"\"),_xlfn.IFNA(IF((INDEX(F1447:F1456,MATCH(\"\",F1447:F1456,0)))=\"\",\"\",\"\"),\"\"))))))))))))","v":""},{"$f":"_xlfn.IFNA(IF((INDEX(G1447:G1456,MATCH(\"E\",G1447:G1456,0)))=\"E\",\"E\",\"\"),_xlfn.IFNA(IF((INDEX(G1447:G1456,MATCH(\"D\",G1447:G1456,0)))=\"D\",\"D\",\"\"),_xlfn.IFNA(IF((INDEX(G1447:G1456,MATCH(\"Ca\",G1447:G1456,0)))=\"Ca\",\"C\",\"\"),_xlfn.IFNA(IF((INDEX(G1447:G1456,MATCH(\"C\",G1447:G1456,0)))=\"C\",\"C\",\"\"),_xlfn.IFNA(IF((INDEX(G1447:G1456,MATCH(\"B\",G1447:G1456,0)))=\"B\",\"B\",\"\"),_xlfn.IFNA(IF((INDEX(G1447:G1456,MATCH(\"A\",G1447:G1456,0)))=\"A\",\"A\",\"\"),_xlfn.IFNA(IF((INDEX(G1447:G1456,MATCH(\"n.a.\",G1447:G1456,0)))=\"n.a.\",\"\",\"\"),_xlfn.IFNA(IF((INDEX(G1447:G1456,MATCH(\"\",G1447:G1456,0)))=\"\",\"\",\"\"),\"\"))))))))","v":""},{"$f":"_xlfn.IFNA(IF((INDEX(H1447:H1456,MATCH(\"E\",H1447:H1456,0)))=\"E\",\"E\",\"\"),_xlfn.IFNA(IF((INDEX(H1447:H1456,MATCH(\"D (E)c\",H1447:H1456,0)))=\"D (E)c\",\"D (E)c\",\"\"),_xlfn.IFNA(IF((INDEX(H1447:H1456,MATCH(\"Db (E)c\",H1447:H1456,0)))=\"Db (E)c\",\"D (E)c\",\"\"),_xlfn.IFNA(IF((INDEX(H1447:H1456,MATCH(\"D\",H1447:H1456,0)))=\"D\",\"D\",\"\"),_xlfn.IFNA(IF((INDEX(H1447:H1456,MATCH(\"Cb\",H1447:H1456,0)))=\"Cb\",\"C\",\"\"),_xlfn.IFNA(IF((INDEX(H1447:H1456,MATCH(\"C\",H1447:H1456,0)))=\"C\",\"C\",\"\"),_xlfn.IFNA(IF((INDEX(H1447:H1456,MATCH(\"Bb\",H1447:H1456,0)))=\"Bb\",\"B\",\"\"),_xlfn.IFNA(IF((INDEX(H1447:H1456,MATCH(\"B\",H1447:H1456,0)))=\"B\",\"B\",\"\"),_xlfn.IFNA(IF((INDEX(H1447:H1456,MATCH(\"Ab\",H1447:H1456,0)))=\"Ab\",\"A\",\"\"),_xlfn.IFNA(IF((INDEX(H1447:H1456,MATCH(\"A\",H1447:H1456,0)))=\"A\",\"A\",\"\"),_xlfn.IFNA(IF((INDEX(H1447:H1456,MATCH(\"n.a.\",H1447:H1456,0)))=\"n.a.\",\"\",\"\"),_xlfn.IFNA(IF((INDEX(H1447:H1456,MATCH(\"\",H1447:H1456,0)))=\"\",\"\",\"\"),\"\"))))))))))))","v":""}]
[null,"\nHighest hazard level for all 'Uptake Routes' \n",null,null,{"$f":"_xlfn.IFNA(IF((INDEX(E1457:H1457,MATCH(\"E\",E1457:H1457,0)))=\"E\",\"E\",\"\"),_xlfn.IFNA(IF((INDEX(E1457:H1457,MATCH(\"D (E)c\",E1457:H1457,0)))=\"D (E)c\",\"D (E)\",\"\"),_xlfn.IFNA(IF((INDEX(E1457:H1457,MATCH(\"D\",E1457:H1457,0)))=\"D\",\"D\",\"\"),_xlfn.IFNA(IF((INDEX(E1457:H1457,MATCH(\"C\",E1457:H1457,0)))=\"C\",\"C\",\"\"),_xlfn.IFNA(IF((INDEX(E1457:H1457,MATCH(\"B\",E1457:H1457,0)))=\"B\",\"B\",\"\"),_xlfn.IFNA(IF((INDEX(E1457:H1457,MATCH(\"A\",E1457:H1457,0)))=\"A\",\"A\",\"\"),_xlfn.IFNA(IF((INDEX(E1457:H1457,MATCH(\"n.a.\",E1457:H1457,0)))=\"n.a.\",\"\",\"\"),_xlfn.IFNA(IF((INDEX(E1457:H1457,MATCH(\"\",E1457:H1457,0)))=\"\",\"\",\"\"),\"\"))))))))","v":""}]
[]
[]
[null,"\nStep 3: D(E) Assessment\nSkip this step if \nyour assessment above does not reveal a D(E) hazard level.\nHover over this cell for additional instructions.\n",null,null,"\nOverall hazard level\n",null,{"$f":"IF(AND(E1458=\"\",C1444=\"Yes\")=TRUE,\"B\",IF(E1458=\"\",\"\",(IF(AND(E1458=\"D (E)\",C1461=\"\"),\"D (E)\"&CHAR(10)&\"Find if cat. 1 acute tox.\",(IF(E1458<>\"D (E)\",E1458,(IF(AND(E1458=\"D (E)\",C1461=\"Yes\"),\"E\",(IF(AND(E1458=\"D (E)\",C1461=\"No\"),\"D\",\"\"))))))))))","v":""}]
[]
[{"$f":"IF(IF(MOD(ROWS(B$3:B1463),20)=1,INDEX('Summary Sheet'!$A$17:$A1504,INT(ROWS(B$3:B1463)/20)+1),\"\")=0,\"\",IF(MOD(ROWS(B$3:B1463),20)=1,INDEX('Summary Sheet'!$A$17:$A1504,INT(ROWS(B$3:B1463)/20)+1),\"\"))","v":74},"Hazard Level Assessment","for",{"$f":"IF(IF(MOD(ROWS(D$3:D1463),20)=1,INDEX('Summary Sheet'!$B$17:$B1504,INT(ROWS(D$3:D1463)/20)+1),\"\")=0,\"\",IF(MOD(ROWS(D$3:D1463),20)=1,INDEX('Summary Sheet'!$B$17:$B1504,INT(ROWS(D$3:D1463)/20)+1),\"\"))","v":""}]
[null,"\nStep 1: Physical & Environmental Hazard Statements/Codes\nFind Section 2 of the SDS and determine if the SDS has physical and/or environmental hazard statements/codes. Hover on this cell for additional instructions.\n",null,{"$f":"IF(IF(MOD(ROWS(D$3:D1464),20)=1,INDEX('Summary Sheet'!$B$17:$B1504,INT(ROWS(D$3:D1464)/20)+1),\"\")=0,\"\",IF(MOD(ROWS(D$3:D1464),20)=1,INDEX('Summary Sheet'!$B$17:$B1504,INT(ROWS(D$3:D1464)/20)+1),\"\"))","v":""}]
[null,"Step 2: Health Hazard Statements/Codes\nProvide the Health Hazard Statements or Codes from Section 2 of the SDS below. Hover on this cell for additional instructions.",null,{"$f":"IF(IF(MOD(ROWS(D$3:D1465),20)=1,INDEX('Summary Sheet'!$B$17:$B1504,INT(ROWS(D$3:D1465)/20)+1),\"\")=0,\"\",IF(MOD(ROWS(D$3:D1465),20)=1,INDEX('Summary Sheet'!$B$17:$B1504,INT(ROWS(D$3:D1465)/20)+1),\"\"))","v":""},"\nHazard Level\n"]
[null,null,null,{"$f":"IF(IF(MOD(ROWS(D$3:D1466),20)=1,INDEX('Summary Sheet'!$B$17:$B1504,INT(ROWS(D$3:D1466)/20)+1),\"\")=0,\"\",IF(MOD(ROWS(D$3:D1466),20)=1,INDEX('Summary Sheet'!$B$17:$B1504,INT(ROWS(D$3:D1466)/20)+1),\"\"))","v":""},"\nEye Damage\n","\nInhalation\n","\nLocal Skin Damage\n","\nSkin uptake, systemic\n"]
[1,null,{"$f":"_xlfn.IFNA(VLOOKUP(B1467,_!$A$7:$F$210,6,FALSE),\"\")","v":""},{"$f":"IF(IF(MOD(ROWS(D$3:D1467),20)=1,INDEX('Summary Sheet'!$B$17:$B1504,INT(ROWS(D$3:D1467)/20)+1),\"\")=0,\"\",IF(MOD(ROWS(D$3:D1467),20)=1,INDEX('Summary Sheet'!$B$17:$B1504,INT(ROWS(D$3:D1467)/20)+1),\"\"))","v":""},{"$f":"_xlfn.IFNA(IF(VLOOKUP(B1467,_!$A$7:$E$210,2,FALSE)=0, \"\", VLOOKUP(B1467,_!$A$7:$E$210,2,FALSE)),  \"\")","v":""},{"$f":"_xlfn.IFNA(IF(VLOOKUP(B1467,_!$A$7:$E$210,3,FALSE)=0, \"\", VLOOKUP(B1467,_!$A$7:$E$210,3,FALSE)), \"\")","v":""},{"$f":"_xlfn.IFNA(IF(VLOOKUP(B1467,_!$A$7:$E$210,4,FALSE)=0, \"\",VLOOKUP(B1467,_!$A$7:$E$210,4,FALSE)), \"\")","v":""},{"$f":"_xlfn.IFNA(IF(VLOOKUP(B1467,_!$A$7:$E$210,5,FALSE)=0,\"\",VLOOKUP(B1467,_!$A$7:$E$210,5,FALSE)), \"\")","v":""}]
[2,null,{"$f":"_xlfn.IFNA(VLOOKUP(B1468,_!$A$7:$F$210,6,FALSE),\"\")","v":""},{"$f":"IF(IF(MOD(ROWS(D$3:D1468),20)=1,INDEX('Summary Sheet'!$B$17:$B1504,INT(ROWS(D$3:D1468)/20)+1),\"\")=0,\"\",IF(MOD(ROWS(D$3:D1468),20)=1,INDEX('Summary Sheet'!$B$17:$B1504,INT(ROWS(D$3:D1468)/20)+1),\"\"))","v":""},{"$f":"_xlfn.IFNA(IF(VLOOKUP(B1468,_!$A$7:$E$210,2,FALSE)=0, \"\", VLOOKUP(B1468,_!$A$7:$E$210,2,FALSE)),  \"\")","v":""},{"$f":"_xlfn.IFNA(IF(VLOOKUP(B1468,_!$A$7:$E$210,3,FALSE)=0, \"\", VLOOKUP(B1468,_!$A$7:$E$210,3,FALSE)), \"\")","v":""},{"$f":"_xlfn.IFNA(IF(VLOOKUP(B1468,_!$A$7:$E$210,4,FALSE)=0, \"\",VLOOKUP(B1468,_!$A$7:$E$210,4,FALSE)), \"\")","v":""},{"$f":"_xlfn.IFNA(IF(VLOOKUP(B1468,_!$A$7:$E$210,5,FALSE)=0,\"\",VLOOKUP(B1468,_!$A$7:$E$210,5,FALSE)), \"\")","v":""}]
[3,null,{"$f":"_xlfn.IFNA(VLOOKUP(B1469,_!$A$7:$F$210,6,FALSE),\"\")","v":""},{"$f":"IF(IF(MOD(ROWS(D$3:D1469),20)=1,INDEX('Summary Sheet'!$B$17:$B1504,INT(ROWS(D$3:D1469)/20)+1),\"\")=0,\"\",IF(MOD(ROWS(D$3:D1469),20)=1,INDEX('Summary Sheet'!$B$17:$B1504,INT(ROWS(D$3:D1469)/20)+1),\"\"))","v":""},{"$f":"_xlfn.IFNA(IF(VLOOKUP(B1469,_!$A$7:$E$210,2,FALSE)=0, \"\", VLOOKUP(B1469,_!$A$7:$E$210,2,FALSE)),  \"\")","v":""},{"$f":"_xlfn.IFNA(IF(VLOOKUP(B1469,_!$A$7:$E$210,3,FALSE)=0, \"\", VLOOKUP(B1469,_!$A$7:$E$210,3,FALSE)), \"\")","v":""},{"$f":"_xlfn.IFNA(IF(VLOOKUP(B1469,_!$A$7:$E$210,4,FALSE)=0, \"\",VLOOKUP(B1469,_!$A$7:$E$210,4,FALSE)), \"\")","v":""},{"$f":"_xlfn.IFNA(IF(VLOOKUP(B1469,_!$A$7:$E$210,5,FALSE)=0,\"\",VLOOKUP(B1469,_!$A$7:$E$210,5,FALSE)), \"\")","v":""}]
[4,null,{"$f":"_xlfn.IFNA(VLOOKUP(B1470,_!$A$7:$F$210,6,FALSE),\"\")","v":""},{"$f":"IF(IF(MOD(ROWS(D$3:D1470),20)=1,INDEX('Summary Sheet'!$B$17:$B1504,INT(ROWS(D$3:D1470)/20)+1),\"\")=0,\"\",IF(MOD(ROWS(D$3:D1470),20)=1,INDEX('Summary Sheet'!$B$17:$B1504,INT(ROWS(D$3:D1470)/20)+1),\"\"))","v":""},{"$f":"_xlfn.IFNA(IF(VLOOKUP(B1470,_!$A$7:$E$210,2,FALSE)=0, \"\", VLOOKUP(B1470,_!$A$7:$E$210,2,FALSE)),  \"\")","v":""},{"$f":"_xlfn.IFNA(IF(VLOOKUP(B1470,_!$A$7:$E$210,3,FALSE)=0, \"\", VLOOKUP(B1470,_!$A$7:$E$210,3,FALSE)), \"\")","v":""},{"$f":"_xlfn.IFNA(IF(VLOOKUP(B1470,_!$A$7:$E$210,4,FALSE)=0, \"\",VLOOKUP(B1470,_!$A$7:$E$210,4,FALSE)), \"\")","v":""},{"$f":"_xlfn.IFNA(IF(VLOOKUP(B1470,_!$A$7:$E$210,5,FALSE)=0,\"\",VLOOKUP(B1470,_!$A$7:$E$210,5,FALSE)), \"\")","v":""}]
[5,null,{"$f":"_xlfn.IFNA(VLOOKUP(B1471,_!$A$7:$F$210,6,FALSE),\"\")","v":""},{"$f":"IF(IF(MOD(ROWS(D$3:D1471),20)=1,INDEX('Summary Sheet'!$B$17:$B1504,INT(ROWS(D$3:D1471)/20)+1),\"\")=0,\"\",IF(MOD(ROWS(D$3:D1471),20)=1,INDEX('Summary Sheet'!$B$17:$B1504,INT(ROWS(D$3:D1471)/20)+1),\"\"))","v":""},{"$f":"_xlfn.IFNA(IF(VLOOKUP(B1471,_!$A$7:$E$210,2,FALSE)=0, \"\", VLOOKUP(B1471,_!$A$7:$E$210,2,FALSE)),  \"\")","v":""},{"$f":"_xlfn.IFNA(IF(VLOOKUP(B1471,_!$A$7:$E$210,3,FALSE)=0, \"\", VLOOKUP(B1471,_!$A$7:$E$210,3,FALSE)), \"\")","v":""},{"$f":"_xlfn.IFNA(IF(VLOOKUP(B1471,_!$A$7:$E$210,4,FALSE)=0, \"\",VLOOKUP(B1471,_!$A$7:$E$210,4,FALSE)), \"\")","v":""},{"$f":"_xlfn.IFNA(IF(VLOOKUP(B1471,_!$A$7:$E$210,5,FALSE)=0,\"\",VLOOKUP(B1471,_!$A$7:$E$210,5,FALSE)), \"\")","v":""}]
[6,null,{"$f":"_xlfn.IFNA(VLOOKUP(B1472,_!$A$7:$F$210,6,FALSE),\"\")","v":""},{"$f":"IF(IF(MOD(ROWS(D$3:D1472),20)=1,INDEX('Summary Sheet'!$B$17:$B1504,INT(ROWS(D$3:D1472)/20)+1),\"\")=0,\"\",IF(MOD(ROWS(D$3:D1472),20)=1,INDEX('Summary Sheet'!$B$17:$B1504,INT(ROWS(D$3:D1472)/20)+1),\"\"))","v":""},{"$f":"_xlfn.IFNA(IF(VLOOKUP(B1472,_!$A$7:$E$210,2,FALSE)=0, \"\", VLOOKUP(B1472,_!$A$7:$E$210,2,FALSE)),  \"\")","v":""},{"$f":"_xlfn.IFNA(IF(VLOOKUP(B1472,_!$A$7:$E$210,3,FALSE)=0, \"\", VLOOKUP(B1472,_!$A$7:$E$210,3,FALSE)), \"\")","v":""},{"$f":"_xlfn.IFNA(IF(VLOOKUP(B1472,_!$A$7:$E$210,4,FALSE)=0, \"\",VLOOKUP(B1472,_!$A$7:$E$210,4,FALSE)), \"\")","v":""},{"$f":"_xlfn.IFNA(IF(VLOOKUP(B1472,_!$A$7:$E$210,5,FALSE)=0,\"\",VLOOKUP(B1472,_!$A$7:$E$210,5,FALSE)), \"\")","v":""}]
[7,null,{"$f":"_xlfn.IFNA(VLOOKUP(B1473,_!$A$7:$F$210,6,FALSE),\"\")","v":""},{"$f":"IF(IF(MOD(ROWS(D$3:D1473),20)=1,INDEX('Summary Sheet'!$B$17:$B1504,INT(ROWS(D$3:D1473)/20)+1),\"\")=0,\"\",IF(MOD(ROWS(D$3:D1473),20)=1,INDEX('Summary Sheet'!$B$17:$B1504,INT(ROWS(D$3:D1473)/20)+1),\"\"))","v":""},{"$f":"_xlfn.IFNA(IF(VLOOKUP(B1473,_!$A$7:$E$210,2,FALSE)=0, \"\", VLOOKUP(B1473,_!$A$7:$E$210,2,FALSE)),  \"\")","v":""},{"$f":"_xlfn.IFNA(IF(VLOOKUP(B1473,_!$A$7:$E$210,3,FALSE)=0, \"\", VLOOKUP(B1473,_!$A$7:$E$210,3,FALSE)), \"\")","v":""},{"$f":"_xlfn.IFNA(IF(VLOOKUP(B1473,_!$A$7:$E$210,4,FALSE)=0, \"\",VLOOKUP(B1473,_!$A$7:$E$210,4,FALSE)), \"\")","v":""},{"$f":"_xlfn.IFNA(IF(VLOOKUP(B1473,_!$A$7:$E$210,5,FALSE)=0,\"\",VLOOKUP(B1473,_!$A$7:$E$210,5,FALSE)), \"\")","v":""}]
[8,null,{"$f":"_xlfn.IFNA(VLOOKUP(B1474,_!$A$7:$F$210,6,FALSE),\"\")","v":""},{"$f":"IF(IF(MOD(ROWS(D$3:D1474),20)=1,INDEX('Summary Sheet'!$B$17:$B1504,INT(ROWS(D$3:D1474)/20)+1),\"\")=0,\"\",IF(MOD(ROWS(D$3:D1474),20)=1,INDEX('Summary Sheet'!$B$17:$B1504,INT(ROWS(D$3:D1474)/20)+1),\"\"))","v":""},{"$f":"_xlfn.IFNA(IF(VLOOKUP(B1474,_!$A$7:$E$210,2,FALSE)=0, \"\", VLOOKUP(B1474,_!$A$7:$E$210,2,FALSE)),  \"\")","v":""},{"$f":"_xlfn.IFNA(IF(VLOOKUP(B1474,_!$A$7:$E$210,3,FALSE)=0, \"\", VLOOKUP(B1474,_!$A$7:$E$210,3,FALSE)), \"\")","v":""},{"$f":"_xlfn.IFNA(IF(VLOOKUP(B1474,_!$A$7:$E$210,4,FALSE)=0, \"\",VLOOKUP(B1474,_!$A$7:$E$210,4,FALSE)), \"\")","v":""},{"$f":"_xlfn.IFNA(IF(VLOOKUP(B1474,_!$A$7:$E$210,5,FALSE)=0,\"\",VLOOKUP(B1474,_!$A$7:$E$210,5,FALSE)), \"\")","v":""}]
[9,null,{"$f":"_xlfn.IFNA(VLOOKUP(B1475,_!$A$7:$F$210,6,FALSE),\"\")","v":""},{"$f":"IF(IF(MOD(ROWS(D$3:D1475),20)=1,INDEX('Summary Sheet'!$B$17:$B1504,INT(ROWS(D$3:D1475)/20)+1),\"\")=0,\"\",IF(MOD(ROWS(D$3:D1475),20)=1,INDEX('Summary Sheet'!$B$17:$B1504,INT(ROWS(D$3:D1475)/20)+1),\"\"))","v":""},{"$f":"_xlfn.IFNA(IF(VLOOKUP(B1475,_!$A$7:$E$210,2,FALSE)=0, \"\", VLOOKUP(B1475,_!$A$7:$E$210,2,FALSE)),  \"\")","v":""},{"$f":"_xlfn.IFNA(IF(VLOOKUP(B1475,_!$A$7:$E$210,3,FALSE)=0, \"\", VLOOKUP(B1475,_!$A$7:$E$210,3,FALSE)), \"\")","v":""},{"$f":"_xlfn.IFNA(IF(VLOOKUP(B1475,_!$A$7:$E$210,4,FALSE)=0, \"\",VLOOKUP(B1475,_!$A$7:$E$210,4,FALSE)), \"\")","v":""},{"$f":"_xlfn.IFNA(IF(VLOOKUP(B1475,_!$A$7:$E$210,5,FALSE)=0,\"\",VLOOKUP(B1475,_!$A$7:$E$210,5,FALSE)), \"\")","v":""}]
[10,null,{"$f":"_xlfn.IFNA(VLOOKUP(B1476,_!$A$7:$F$210,6,FALSE),\"\")","v":""},{"$f":"IF(IF(MOD(ROWS(D$14:D1476),20)=1,INDEX('Summary Sheet'!$B$17:$B1504,INT(ROWS(D$14:D1476)/20)+1),\"\")=0,\"\",IF(MOD(ROWS(D$14:D1476),20)=1,INDEX('Summary Sheet'!$B$17:$B1504,INT(ROWS(D$14:D1476)/20)+1),\"\"))","v":""},{"$f":"_xlfn.IFNA(IF(VLOOKUP(B1476,_!$A$7:$E$210,2,FALSE)=0, \"\", VLOOKUP(B1476,_!$A$7:$E$210,2,FALSE)),  \"\")","v":""},{"$f":"_xlfn.IFNA(IF(VLOOKUP(B1476,_!$A$7:$E$210,3,FALSE)=0, \"\", VLOOKUP(B1476,_!$A$7:$E$210,3,FALSE)), \"\")","v":""},{"$f":"_xlfn.IFNA(IF(VLOOKUP(B1476,_!$A$7:$E$210,4,FALSE)=0, \"\",VLOOKUP(B1476,_!$A$7:$E$210,4,FALSE)), \"\")","v":""},{"$f":"_xlfn.IFNA(IF(VLOOKUP(B1476,_!$A$7:$E$210,5,FALSE)=0,\"\",VLOOKUP(B1476,_!$A$7:$E$210,5,FALSE)), \"\")","v":""}]
[null,"\nHighest hazard level for each ‘Uptake Route’\n",null,null,{"$f":"_xlfn.IFNA(IF((INDEX(E1467:E1476,MATCH(\"E\",E1467:E1476,0)))=\"E\",\"E\",\"\"),_xlfn.IFNA(IF((INDEX(E1467:E1476,MATCH(\"D\",E1467:E1476,0)))=\"D\",\"D\",\"\"),_xlfn.IFNA(IF((INDEX(E1467:E1476,MATCH(\"Ca\",E1467:E1476,0)))=\"Ca\",\"C\",\"\"),_xlfn.IFNA(IF((INDEX(E1467:E1476,MATCH(\"C\",E1467:E1476,0)))=\"C\",\"C\",\"\"),_xlfn.IFNA(IF((INDEX(E1467:E1476,MATCH(\"B\",E1467:E1476,0)))=\"B\",\"B\",\"\"),_xlfn.IFNA(IF((INDEX(E1467:E1476,MATCH(\"A\",E1467:E1476,0)))=\"A\",\"A\",\"\"),_xlfn.IFNA(IF((INDEX(E1467:E1476,MATCH(\"n.a.\",E1467:E1476,0)))=\"n.a.\",\"\",\"\"),_xlfn.IFNA(IF((INDEX(E1467:E1476,MATCH(\"\",E1467:E1476,0)))=\"\",\"\",\"\"),\"\"))))))))","v":""},{"$f":"_xlfn.IFNA(IF((INDEX(F1467:F1476,MATCH(\"E\",F1467:F1476,0)))=\"E\",\"E\",\"\"),_xlfn.IFNA(IF((INDEX(F1467:F1476,MATCH(\"D (E)c\",F1467:F1476,0)))=\"D (E)c\",\"D (E)c\",\"\"),_xlfn.IFNA(IF((INDEX(F1467:F1476,MATCH(\"Da (E)c\",F1467:F1476,0)))=\"Da (E)c\",\"D (E)c\",\"\"),_xlfn.IFNA(IF((INDEX(F1467:F1476,MATCH(\"D\",F1467:F1476,0)))=\"D\",\"D\",\"\"),_xlfn.IFNA(IF((INDEX(F1467:F1476,MATCH(\"Ca\",F1467:F1476,0)))=\"Ca\",\"C\",\"\"),_xlfn.IFNA(IF((INDEX(F1467:F1476,MATCH(\"C\",F1467:F1476,0)))=\"C\",\"C\",\"\"),_xlfn.IFNA(IF((INDEX(F1467:F1476,MATCH(\"Ba\",F1467:F1476,0)))=\"Ba\",\"B\",\"\"),_xlfn.IFNA(IF((INDEX(F1467:F1476,MATCH(\"B\",F1467:F1476,0)))=\"B\",\"B\",\"\"),_xlfn.IFNA(IF((INDEX(F1467:F1476,MATCH(\"Aa\",F1467:F1476,0)))=\"Aa\",\"A\",\"\"),_xlfn.IFNA(IF((INDEX(F1467:F1476,MATCH(\"A\",F1467:F1476,0)))=\"A\",\"A\",\"\"),_xlfn.IFNA(IF((INDEX(F1467:F1476,MATCH(\"n.a.\",F1467:F1476,0)))=\"n.a.\",\"\",\"\"),_xlfn.IFNA(IF((INDEX(F1467:F1476,MATCH(\"\",F1467:F1476,0)))=\"\",\"\",\"\"),\"\"))))))))))))","v":""},{"$f":"_xlfn.IFNA(IF((INDEX(G1467:G1476,MATCH(\"E\",G1467:G1476,0)))=\"E\",\"E\",\"\"),_xlfn.IFNA(IF((INDEX(G1467:G1476,MATCH(\"D\",G1467:G1476,0)))=\"D\",\"D\",\"\"),_xlfn.IFNA(IF((INDEX(G1467:G1476,MATCH(\"Ca\",G1467:G1476,0)))=\"Ca\",\"C\",\"\"),_xlfn.IFNA(IF((INDEX(G1467:G1476,MATCH(\"C\",G1467:G1476,0)))=\"C\",\"C\",\"\"),_xlfn.IFNA(IF((INDEX(G1467:G1476,MATCH(\"B\",G1467:G1476,0)))=\"B\",\"B\",\"\"),_xlfn.IFNA(IF((INDEX(G1467:G1476,MATCH(\"A\",G1467:G1476,0)))=\"A\",\"A\",\"\"),_xlfn.IFNA(IF((INDEX(G1467:G1476,MATCH(\"n.a.\",G1467:G1476,0)))=\"n.a.\",\"\",\"\"),_xlfn.IFNA(IF((INDEX(G1467:G1476,MATCH(\"\",G1467:G1476,0)))=\"\",\"\",\"\"),\"\"))))))))","v":""},{"$f":"_xlfn.IFNA(IF((INDEX(H1467:H1476,MATCH(\"E\",H1467:H1476,0)))=\"E\",\"E\",\"\"),_xlfn.IFNA(IF((INDEX(H1467:H1476,MATCH(\"D (E)c\",H1467:H1476,0)))=\"D (E)c\",\"D (E)c\",\"\"),_xlfn.IFNA(IF((INDEX(H1467:H1476,MATCH(\"Db (E)c\",H1467:H1476,0)))=\"Db (E)c\",\"D (E)c\",\"\"),_xlfn.IFNA(IF((INDEX(H1467:H1476,MATCH(\"D\",H1467:H1476,0)))=\"D\",\"D\",\"\"),_xlfn.IFNA(IF((INDEX(H1467:H1476,MATCH(\"Cb\",H1467:H1476,0)))=\"Cb\",\"C\",\"\"),_xlfn.IFNA(IF((INDEX(H1467:H1476,MATCH(\"C\",H1467:H1476,0)))=\"C\",\"C\",\"\"),_xlfn.IFNA(IF((INDEX(H1467:H1476,MATCH(\"Bb\",H1467:H1476,0)))=\"Bb\",\"B\",\"\"),_xlfn.IFNA(IF((INDEX(H1467:H1476,MATCH(\"B\",H1467:H1476,0)))=\"B\",\"B\",\"\"),_xlfn.IFNA(IF((INDEX(H1467:H1476,MATCH(\"Ab\",H1467:H1476,0)))=\"Ab\",\"A\",\"\"),_xlfn.IFNA(IF((INDEX(H1467:H1476,MATCH(\"A\",H1467:H1476,0)))=\"A\",\"A\",\"\"),_xlfn.IFNA(IF((INDEX(H1467:H1476,MATCH(\"n.a.\",H1467:H1476,0)))=\"n.a.\",\"\",\"\"),_xlfn.IFNA(IF((INDEX(H1467:H1476,MATCH(\"\",H1467:H1476,0)))=\"\",\"\",\"\"),\"\"))))))))))))","v":""}]
[null,"\nHighest hazard level for all 'Uptake Routes' \n",null,null,{"$f":"_xlfn.IFNA(IF((INDEX(E1477:H1477,MATCH(\"E\",E1477:H1477,0)))=\"E\",\"E\",\"\"),_xlfn.IFNA(IF((INDEX(E1477:H1477,MATCH(\"D (E)c\",E1477:H1477,0)))=\"D (E)c\",\"D (E)\",\"\"),_xlfn.IFNA(IF((INDEX(E1477:H1477,MATCH(\"D\",E1477:H1477,0)))=\"D\",\"D\",\"\"),_xlfn.IFNA(IF((INDEX(E1477:H1477,MATCH(\"C\",E1477:H1477,0)))=\"C\",\"C\",\"\"),_xlfn.IFNA(IF((INDEX(E1477:H1477,MATCH(\"B\",E1477:H1477,0)))=\"B\",\"B\",\"\"),_xlfn.IFNA(IF((INDEX(E1477:H1477,MATCH(\"A\",E1477:H1477,0)))=\"A\",\"A\",\"\"),_xlfn.IFNA(IF((INDEX(E1477:H1477,MATCH(\"n.a.\",E1477:H1477,0)))=\"n.a.\",\"\",\"\"),_xlfn.IFNA(IF((INDEX(E1477:H1477,MATCH(\"\",E1477:H1477,0)))=\"\",\"\",\"\"),\"\"))))))))","v":""}]
[]
[]
[null,"\nStep 3: D(E) Assessment\nSkip this step if \nyour assessment above does not reveal a D(E) hazard level.\nHover over this cell for additional instructions.\n",null,null,"\nOverall hazard level\n",null,{"$f":"IF(AND(E1478=\"\",C1464=\"Yes\")=TRUE,\"B\",IF(E1478=\"\",\"\",(IF(AND(E1478=\"D (E)\",C1481=\"\"),\"D (E)\"&CHAR(10)&\"Find if cat. 1 acute tox.\",(IF(E1478<>\"D (E)\",E1478,(IF(AND(E1478=\"D (E)\",C1481=\"Yes\"),\"E\",(IF(AND(E1478=\"D (E)\",C1481=\"No\"),\"D\",\"\"))))))))))","v":""}]
[]
[{"$f":"IF(IF(MOD(ROWS(B$3:B1483),20)=1,INDEX('Summary Sheet'!$A$17:$A1523,INT(ROWS(B$3:B1483)/20)+1),\"\")=0,\"\",IF(MOD(ROWS(B$3:B1483),20)=1,INDEX('Summary Sheet'!$A$17:$A1523,INT(ROWS(B$3:B1483)/20)+1),\"\"))","v":75},"Hazard Level Assessment","for",{"$f":"IF(IF(MOD(ROWS(D$3:D1483),20)=1,INDEX('Summary Sheet'!$B$17:$B1523,INT(ROWS(D$3:D1483)/20)+1),\"\")=0,\"\",IF(MOD(ROWS(D$3:D1483),20)=1,INDEX('Summary Sheet'!$B$17:$B1523,INT(ROWS(D$3:D1483)/20)+1),\"\"))","v":""}]
[null,"\nStep 1: Physical & Environmental Hazard Statements/Codes\nFind Section 2 of the SDS and determine if the SDS has physical and/or environmental hazard statements/codes. Hover on this cell for additional instructions.\n",null,{"$f":"IF(IF(MOD(ROWS(D$3:D1484),20)=1,INDEX('Summary Sheet'!$B$17:$B1523,INT(ROWS(D$3:D1484)/20)+1),\"\")=0,\"\",IF(MOD(ROWS(D$3:D1484),20)=1,INDEX('Summary Sheet'!$B$17:$B1523,INT(ROWS(D$3:D1484)/20)+1),\"\"))","v":""}]
[null,"Step 2: Health Hazard Statements/Codes\nProvide the Health Hazard Statements or Codes from Section 2 of the SDS below. Hover on this cell for additional instructions.",null,{"$f":"IF(IF(MOD(ROWS(D$3:D1485),20)=1,INDEX('Summary Sheet'!$B$17:$B1523,INT(ROWS(D$3:D1485)/20)+1),\"\")=0,\"\",IF(MOD(ROWS(D$3:D1485),20)=1,INDEX('Summary Sheet'!$B$17:$B1523,INT(ROWS(D$3:D1485)/20)+1),\"\"))","v":""},"\nHazard Level\n"]
[null,null,null,{"$f":"IF(IF(MOD(ROWS(D$3:D1486),20)=1,INDEX('Summary Sheet'!$B$17:$B1523,INT(ROWS(D$3:D1486)/20)+1),\"\")=0,\"\",IF(MOD(ROWS(D$3:D1486),20)=1,INDEX('Summary Sheet'!$B$17:$B1523,INT(ROWS(D$3:D1486)/20)+1),\"\"))","v":""},"\nEye Damage\n","\nInhalation\n","\nLocal Skin Damage\n","\nSkin uptake, systemic\n"]
[1,null,{"$f":"_xlfn.IFNA(VLOOKUP(B1487,_!$A$7:$F$210,6,FALSE),\"\")","v":""},{"$f":"IF(IF(MOD(ROWS(D$3:D1487),20)=1,INDEX('Summary Sheet'!$B$17:$B1523,INT(ROWS(D$3:D1487)/20)+1),\"\")=0,\"\",IF(MOD(ROWS(D$3:D1487),20)=1,INDEX('Summary Sheet'!$B$17:$B1523,INT(ROWS(D$3:D1487)/20)+1),\"\"))","v":""},{"$f":"_xlfn.IFNA(IF(VLOOKUP(B1487,_!$A$7:$E$210,2,FALSE)=0, \"\", VLOOKUP(B1487,_!$A$7:$E$210,2,FALSE)),  \"\")","v":""},{"$f":"_xlfn.IFNA(IF(VLOOKUP(B1487,_!$A$7:$E$210,3,FALSE)=0, \"\", VLOOKUP(B1487,_!$A$7:$E$210,3,FALSE)), \"\")","v":""},{"$f":"_xlfn.IFNA(IF(VLOOKUP(B1487,_!$A$7:$E$210,4,FALSE)=0, \"\",VLOOKUP(B1487,_!$A$7:$E$210,4,FALSE)), \"\")","v":""},{"$f":"_xlfn.IFNA(IF(VLOOKUP(B1487,_!$A$7:$E$210,5,FALSE)=0,\"\",VLOOKUP(B1487,_!$A$7:$E$210,5,FALSE)), \"\")","v":""}]
[2,null,{"$f":"_xlfn.IFNA(VLOOKUP(B1488,_!$A$7:$F$210,6,FALSE),\"\")","v":""},{"$f":"IF(IF(MOD(ROWS(D$3:D1488),20)=1,INDEX('Summary Sheet'!$B$17:$B1523,INT(ROWS(D$3:D1488)/20)+1),\"\")=0,\"\",IF(MOD(ROWS(D$3:D1488),20)=1,INDEX('Summary Sheet'!$B$17:$B1523,INT(ROWS(D$3:D1488)/20)+1),\"\"))","v":""},{"$f":"_xlfn.IFNA(IF(VLOOKUP(B1488,_!$A$7:$E$210,2,FALSE)=0, \"\", VLOOKUP(B1488,_!$A$7:$E$210,2,FALSE)),  \"\")","v":""},{"$f":"_xlfn.IFNA(IF(VLOOKUP(B1488,_!$A$7:$E$210,3,FALSE)=0, \"\", VLOOKUP(B1488,_!$A$7:$E$210,3,FALSE)), \"\")","v":""},{"$f":"_xlfn.IFNA(IF(VLOOKUP(B1488,_!$A$7:$E$210,4,FALSE)=0, \"\",VLOOKUP(B1488,_!$A$7:$E$210,4,FALSE)), \"\")","v":""},{"$f":"_xlfn.IFNA(IF(VLOOKUP(B1488,_!$A$7:$E$210,5,FALSE)=0,\"\",VLOOKUP(B1488,_!$A$7:$E$210,5,FALSE)), \"\")","v":""}]
[3,null,{"$f":"_xlfn.IFNA(VLOOKUP(B1489,_!$A$7:$F$210,6,FALSE),\"\")","v":""},{"$f":"IF(IF(MOD(ROWS(D$3:D1489),20)=1,INDEX('Summary Sheet'!$B$17:$B1523,INT(ROWS(D$3:D1489)/20)+1),\"\")=0,\"\",IF(MOD(ROWS(D$3:D1489),20)=1,INDEX('Summary Sheet'!$B$17:$B1523,INT(ROWS(D$3:D1489)/20)+1),\"\"))","v":""},{"$f":"_xlfn.IFNA(IF(VLOOKUP(B1489,_!$A$7:$E$210,2,FALSE)=0, \"\", VLOOKUP(B1489,_!$A$7:$E$210,2,FALSE)),  \"\")","v":""},{"$f":"_xlfn.IFNA(IF(VLOOKUP(B1489,_!$A$7:$E$210,3,FALSE)=0, \"\", VLOOKUP(B1489,_!$A$7:$E$210,3,FALSE)), \"\")","v":""},{"$f":"_xlfn.IFNA(IF(VLOOKUP(B1489,_!$A$7:$E$210,4,FALSE)=0, \"\",VLOOKUP(B1489,_!$A$7:$E$210,4,FALSE)), \"\")","v":""},{"$f":"_xlfn.IFNA(IF(VLOOKUP(B1489,_!$A$7:$E$210,5,FALSE)=0,\"\",VLOOKUP(B1489,_!$A$7:$E$210,5,FALSE)), \"\")","v":""}]
[4,null,{"$f":"_xlfn.IFNA(VLOOKUP(B1490,_!$A$7:$F$210,6,FALSE),\"\")","v":""},{"$f":"IF(IF(MOD(ROWS(D$3:D1490),20)=1,INDEX('Summary Sheet'!$B$17:$B1523,INT(ROWS(D$3:D1490)/20)+1),\"\")=0,\"\",IF(MOD(ROWS(D$3:D1490),20)=1,INDEX('Summary Sheet'!$B$17:$B1523,INT(ROWS(D$3:D1490)/20)+1),\"\"))","v":""},{"$f":"_xlfn.IFNA(IF(VLOOKUP(B1490,_!$A$7:$E$210,2,FALSE)=0, \"\", VLOOKUP(B1490,_!$A$7:$E$210,2,FALSE)),  \"\")","v":""},{"$f":"_xlfn.IFNA(IF(VLOOKUP(B1490,_!$A$7:$E$210,3,FALSE)=0, \"\", VLOOKUP(B1490,_!$A$7:$E$210,3,FALSE)), \"\")","v":""},{"$f":"_xlfn.IFNA(IF(VLOOKUP(B1490,_!$A$7:$E$210,4,FALSE)=0, \"\",VLOOKUP(B1490,_!$A$7:$E$210,4,FALSE)), \"\")","v":""},{"$f":"_xlfn.IFNA(IF(VLOOKUP(B1490,_!$A$7:$E$210,5,FALSE)=0,\"\",VLOOKUP(B1490,_!$A$7:$E$210,5,FALSE)), \"\")","v":""}]
[5,null,{"$f":"_xlfn.IFNA(VLOOKUP(B1491,_!$A$7:$F$210,6,FALSE),\"\")","v":""},{"$f":"IF(IF(MOD(ROWS(D$3:D1491),20)=1,INDEX('Summary Sheet'!$B$17:$B1523,INT(ROWS(D$3:D1491)/20)+1),\"\")=0,\"\",IF(MOD(ROWS(D$3:D1491),20)=1,INDEX('Summary Sheet'!$B$17:$B1523,INT(ROWS(D$3:D1491)/20)+1),\"\"))","v":""},{"$f":"_xlfn.IFNA(IF(VLOOKUP(B1491,_!$A$7:$E$210,2,FALSE)=0, \"\", VLOOKUP(B1491,_!$A$7:$E$210,2,FALSE)),  \"\")","v":""},{"$f":"_xlfn.IFNA(IF(VLOOKUP(B1491,_!$A$7:$E$210,3,FALSE)=0, \"\", VLOOKUP(B1491,_!$A$7:$E$210,3,FALSE)), \"\")","v":""},{"$f":"_xlfn.IFNA(IF(VLOOKUP(B1491,_!$A$7:$E$210,4,FALSE)=0, \"\",VLOOKUP(B1491,_!$A$7:$E$210,4,FALSE)), \"\")","v":""},{"$f":"_xlfn.IFNA(IF(VLOOKUP(B1491,_!$A$7:$E$210,5,FALSE)=0,\"\",VLOOKUP(B1491,_!$A$7:$E$210,5,FALSE)), \"\")","v":""}]
[6,null,{"$f":"_xlfn.IFNA(VLOOKUP(B1492,_!$A$7:$F$210,6,FALSE),\"\")","v":""},{"$f":"IF(IF(MOD(ROWS(D$3:D1492),20)=1,INDEX('Summary Sheet'!$B$17:$B1523,INT(ROWS(D$3:D1492)/20)+1),\"\")=0,\"\",IF(MOD(ROWS(D$3:D1492),20)=1,INDEX('Summary Sheet'!$B$17:$B1523,INT(ROWS(D$3:D1492)/20)+1),\"\"))","v":""},{"$f":"_xlfn.IFNA(IF(VLOOKUP(B1492,_!$A$7:$E$210,2,FALSE)=0, \"\", VLOOKUP(B1492,_!$A$7:$E$210,2,FALSE)),  \"\")","v":""},{"$f":"_xlfn.IFNA(IF(VLOOKUP(B1492,_!$A$7:$E$210,3,FALSE)=0, \"\", VLOOKUP(B1492,_!$A$7:$E$210,3,FALSE)), \"\")","v":""},{"$f":"_xlfn.IFNA(IF(VLOOKUP(B1492,_!$A$7:$E$210,4,FALSE)=0, \"\",VLOOKUP(B1492,_!$A$7:$E$210,4,FALSE)), \"\")","v":""},{"$f":"_xlfn.IFNA(IF(VLOOKUP(B1492,_!$A$7:$E$210,5,FALSE)=0,\"\",VLOOKUP(B1492,_!$A$7:$E$210,5,FALSE)), \"\")","v":""}]
[7,null,{"$f":"_xlfn.IFNA(VLOOKUP(B1493,_!$A$7:$F$210,6,FALSE),\"\")","v":""},{"$f":"IF(IF(MOD(ROWS(D$3:D1493),20)=1,INDEX('Summary Sheet'!$B$17:$B1523,INT(ROWS(D$3:D1493)/20)+1),\"\")=0,\"\",IF(MOD(ROWS(D$3:D1493),20)=1,INDEX('Summary Sheet'!$B$17:$B1523,INT(ROWS(D$3:D1493)/20)+1),\"\"))","v":""},{"$f":"_xlfn.IFNA(IF(VLOOKUP(B1493,_!$A$7:$E$210,2,FALSE)=0, \"\", VLOOKUP(B1493,_!$A$7:$E$210,2,FALSE)),  \"\")","v":""},{"$f":"_xlfn.IFNA(IF(VLOOKUP(B1493,_!$A$7:$E$210,3,FALSE)=0, \"\", VLOOKUP(B1493,_!$A$7:$E$210,3,FALSE)), \"\")","v":""},{"$f":"_xlfn.IFNA(IF(VLOOKUP(B1493,_!$A$7:$E$210,4,FALSE)=0, \"\",VLOOKUP(B1493,_!$A$7:$E$210,4,FALSE)), \"\")","v":""},{"$f":"_xlfn.IFNA(IF(VLOOKUP(B1493,_!$A$7:$E$210,5,FALSE)=0,\"\",VLOOKUP(B1493,_!$A$7:$E$210,5,FALSE)), \"\")","v":""}]
[8,null,{"$f":"_xlfn.IFNA(VLOOKUP(B1494,_!$A$7:$F$210,6,FALSE),\"\")","v":""},{"$f":"IF(IF(MOD(ROWS(D$3:D1494),20)=1,INDEX('Summary Sheet'!$B$17:$B1523,INT(ROWS(D$3:D1494)/20)+1),\"\")=0,\"\",IF(MOD(ROWS(D$3:D1494),20)=1,INDEX('Summary Sheet'!$B$17:$B1523,INT(ROWS(D$3:D1494)/20)+1),\"\"))","v":""},{"$f":"_xlfn.IFNA(IF(VLOOKUP(B1494,_!$A$7:$E$210,2,FALSE)=0, \"\", VLOOKUP(B1494,_!$A$7:$E$210,2,FALSE)),  \"\")","v":""},{"$f":"_xlfn.IFNA(IF(VLOOKUP(B1494,_!$A$7:$E$210,3,FALSE)=0, \"\", VLOOKUP(B1494,_!$A$7:$E$210,3,FALSE)), \"\")","v":""},{"$f":"_xlfn.IFNA(IF(VLOOKUP(B1494,_!$A$7:$E$210,4,FALSE)=0, \"\",VLOOKUP(B1494,_!$A$7:$E$210,4,FALSE)), \"\")","v":""},{"$f":"_xlfn.IFNA(IF(VLOOKUP(B1494,_!$A$7:$E$210,5,FALSE)=0,\"\",VLOOKUP(B1494,_!$A$7:$E$210,5,FALSE)), \"\")","v":""}]
[9,null,{"$f":"_xlfn.IFNA(VLOOKUP(B1495,_!$A$7:$F$210,6,FALSE),\"\")","v":""},{"$f":"IF(IF(MOD(ROWS(D$3:D1495),20)=1,INDEX('Summary Sheet'!$B$17:$B1523,INT(ROWS(D$3:D1495)/20)+1),\"\")=0,\"\",IF(MOD(ROWS(D$3:D1495),20)=1,INDEX('Summary Sheet'!$B$17:$B1523,INT(ROWS(D$3:D1495)/20)+1),\"\"))","v":""},{"$f":"_xlfn.IFNA(IF(VLOOKUP(B1495,_!$A$7:$E$210,2,FALSE)=0, \"\", VLOOKUP(B1495,_!$A$7:$E$210,2,FALSE)),  \"\")","v":""},{"$f":"_xlfn.IFNA(IF(VLOOKUP(B1495,_!$A$7:$E$210,3,FALSE)=0, \"\", VLOOKUP(B1495,_!$A$7:$E$210,3,FALSE)), \"\")","v":""},{"$f":"_xlfn.IFNA(IF(VLOOKUP(B1495,_!$A$7:$E$210,4,FALSE)=0, \"\",VLOOKUP(B1495,_!$A$7:$E$210,4,FALSE)), \"\")","v":""},{"$f":"_xlfn.IFNA(IF(VLOOKUP(B1495,_!$A$7:$E$210,5,FALSE)=0,\"\",VLOOKUP(B1495,_!$A$7:$E$210,5,FALSE)), \"\")","v":""}]
[10,null,{"$f":"_xlfn.IFNA(VLOOKUP(B1496,_!$A$7:$F$210,6,FALSE),\"\")","v":""},{"$f":"IF(IF(MOD(ROWS(D$14:D1496),20)=1,INDEX('Summary Sheet'!$B$17:$B1523,INT(ROWS(D$14:D1496)/20)+1),\"\")=0,\"\",IF(MOD(ROWS(D$14:D1496),20)=1,INDEX('Summary Sheet'!$B$17:$B1523,INT(ROWS(D$14:D1496)/20)+1),\"\"))","v":""},{"$f":"_xlfn.IFNA(IF(VLOOKUP(B1496,_!$A$7:$E$210,2,FALSE)=0, \"\", VLOOKUP(B1496,_!$A$7:$E$210,2,FALSE)),  \"\")","v":""},{"$f":"_xlfn.IFNA(IF(VLOOKUP(B1496,_!$A$7:$E$210,3,FALSE)=0, \"\", VLOOKUP(B1496,_!$A$7:$E$210,3,FALSE)), \"\")","v":""},{"$f":"_xlfn.IFNA(IF(VLOOKUP(B1496,_!$A$7:$E$210,4,FALSE)=0, \"\",VLOOKUP(B1496,_!$A$7:$E$210,4,FALSE)), \"\")","v":""},{"$f":"_xlfn.IFNA(IF(VLOOKUP(B1496,_!$A$7:$E$210,5,FALSE)=0,\"\",VLOOKUP(B1496,_!$A$7:$E$210,5,FALSE)), \"\")","v":""}]
[null,"\nHighest hazard level for each ‘Uptake Route’\n",null,null,{"$f":"_xlfn.IFNA(IF((INDEX(E1487:E1496,MATCH(\"E\",E1487:E1496,0)))=\"E\",\"E\",\"\"),_xlfn.IFNA(IF((INDEX(E1487:E1496,MATCH(\"D\",E1487:E1496,0)))=\"D\",\"D\",\"\"),_xlfn.IFNA(IF((INDEX(E1487:E1496,MATCH(\"Ca\",E1487:E1496,0)))=\"Ca\",\"C\",\"\"),_xlfn.IFNA(IF((INDEX(E1487:E1496,MATCH(\"C\",E1487:E1496,0)))=\"C\",\"C\",\"\"),_xlfn.IFNA(IF((INDEX(E1487:E1496,MATCH(\"B\",E1487:E1496,0)))=\"B\",\"B\",\"\"),_xlfn.IFNA(IF((INDEX(E1487:E1496,MATCH(\"A\",E1487:E1496,0)))=\"A\",\"A\",\"\"),_xlfn.IFNA(IF((INDEX(E1487:E1496,MATCH(\"n.a.\",E1487:E1496,0)))=\"n.a.\",\"\",\"\"),_xlfn.IFNA(IF((INDEX(E1487:E1496,MATCH(\"\",E1487:E1496,0)))=\"\",\"\",\"\"),\"\"))))))))","v":""},{"$f":"_xlfn.IFNA(IF((INDEX(F1487:F1496,MATCH(\"E\",F1487:F1496,0)))=\"E\",\"E\",\"\"),_xlfn.IFNA(IF((INDEX(F1487:F1496,MATCH(\"D (E)c\",F1487:F1496,0)))=\"D (E)c\",\"D (E)c\",\"\"),_xlfn.IFNA(IF((INDEX(F1487:F1496,MATCH(\"Da (E)c\",F1487:F1496,0)))=\"Da (E)c\",\"D (E)c\",\"\"),_xlfn.IFNA(IF((INDEX(F1487:F1496,MATCH(\"D\",F1487:F1496,0)))=\"D\",\"D\",\"\"),_xlfn.IFNA(IF((INDEX(F1487:F1496,MATCH(\"Ca\",F1487:F1496,0)))=\"Ca\",\"C\",\"\"),_xlfn.IFNA(IF((INDEX(F1487:F1496,MATCH(\"C\",F1487:F1496,0)))=\"C\",\"C\",\"\"),_xlfn.IFNA(IF((INDEX(F1487:F1496,MATCH(\"Ba\",F1487:F1496,0)))=\"Ba\",\"B\",\"\"),_xlfn.IFNA(IF((INDEX(F1487:F1496,MATCH(\"B\",F1487:F1496,0)))=\"B\",\"B\",\"\"),_xlfn.IFNA(IF((INDEX(F1487:F1496,MATCH(\"Aa\",F1487:F1496,0)))=\"Aa\",\"A\",\"\"),_xlfn.IFNA(IF((INDEX(F1487:F1496,MATCH(\"A\",F1487:F1496,0)))=\"A\",\"A\",\"\"),_xlfn.IFNA(IF((INDEX(F1487:F1496,MATCH(\"n.a.\",F1487:F1496,0)))=\"n.a.\",\"\",\"\"),_xlfn.IFNA(IF((INDEX(F1487:F1496,MATCH(\"\",F1487:F1496,0)))=\"\",\"\",\"\"),\"\"))))))))))))","v":""},{"$f":"_xlfn.IFNA(IF((INDEX(G1487:G1496,MATCH(\"E\",G1487:G1496,0)))=\"E\",\"E\",\"\"),_xlfn.IFNA(IF((INDEX(G1487:G1496,MATCH(\"D\",G1487:G1496,0)))=\"D\",\"D\",\"\"),_xlfn.IFNA(IF((INDEX(G1487:G1496,MATCH(\"Ca\",G1487:G1496,0)))=\"Ca\",\"C\",\"\"),_xlfn.IFNA(IF((INDEX(G1487:G1496,MATCH(\"C\",G1487:G1496,0)))=\"C\",\"C\",\"\"),_xlfn.IFNA(IF((INDEX(G1487:G1496,MATCH(\"B\",G1487:G1496,0)))=\"B\",\"B\",\"\"),_xlfn.IFNA(IF((INDEX(G1487:G1496,MATCH(\"A\",G1487:G1496,0)))=\"A\",\"A\",\"\"),_xlfn.IFNA(IF((INDEX(G1487:G1496,MATCH(\"n.a.\",G1487:G1496,0)))=\"n.a.\",\"\",\"\"),_xlfn.IFNA(IF((INDEX(G1487:G1496,MATCH(\"\",G1487:G1496,0)))=\"\",\"\",\"\"),\"\"))))))))","v":""},{"$f":"_xlfn.IFNA(IF((INDEX(H1487:H1496,MATCH(\"E\",H1487:H1496,0)))=\"E\",\"E\",\"\"),_xlfn.IFNA(IF((INDEX(H1487:H1496,MATCH(\"D (E)c\",H1487:H1496,0)))=\"D (E)c\",\"D (E)c\",\"\"),_xlfn.IFNA(IF((INDEX(H1487:H1496,MATCH(\"Db (E)c\",H1487:H1496,0)))=\"Db (E)c\",\"D (E)c\",\"\"),_xlfn.IFNA(IF((INDEX(H1487:H1496,MATCH(\"D\",H1487:H1496,0)))=\"D\",\"D\",\"\"),_xlfn.IFNA(IF((INDEX(H1487:H1496,MATCH(\"Cb\",H1487:H1496,0)))=\"Cb\",\"C\",\"\"),_xlfn.IFNA(IF((INDEX(H1487:H1496,MATCH(\"C\",H1487:H1496,0)))=\"C\",\"C\",\"\"),_xlfn.IFNA(IF((INDEX(H1487:H1496,MATCH(\"Bb\",H1487:H1496,0)))=\"Bb\",\"B\",\"\"),_xlfn.IFNA(IF((INDEX(H1487:H1496,MATCH(\"B\",H1487:H1496,0)))=\"B\",\"B\",\"\"),_xlfn.IFNA(IF((INDEX(H1487:H1496,MATCH(\"Ab\",H1487:H1496,0)))=\"Ab\",\"A\",\"\"),_xlfn.IFNA(IF((INDEX(H1487:H1496,MATCH(\"A\",H1487:H1496,0)))=\"A\",\"A\",\"\"),_xlfn.IFNA(IF((INDEX(H1487:H1496,MATCH(\"n.a.\",H1487:H1496,0)))=\"n.a.\",\"\",\"\"),_xlfn.IFNA(IF((INDEX(H1487:H1496,MATCH(\"\",H1487:H1496,0)))=\"\",\"\",\"\"),\"\"))))))))))))","v":""}]
[null,"\nHighest hazard level for all 'Uptake Routes' \n",null,null,{"$f":"_xlfn.IFNA(IF((INDEX(E1497:H1497,MATCH(\"E\",E1497:H1497,0)))=\"E\",\"E\",\"\"),_xlfn.IFNA(IF((INDEX(E1497:H1497,MATCH(\"D (E)c\",E1497:H1497,0)))=\"D (E)c\",\"D (E)\",\"\"),_xlfn.IFNA(IF((INDEX(E1497:H1497,MATCH(\"D\",E1497:H1497,0)))=\"D\",\"D\",\"\"),_xlfn.IFNA(IF((INDEX(E1497:H1497,MATCH(\"C\",E1497:H1497,0)))=\"C\",\"C\",\"\"),_xlfn.IFNA(IF((INDEX(E1497:H1497,MATCH(\"B\",E1497:H1497,0)))=\"B\",\"B\",\"\"),_xlfn.IFNA(IF((INDEX(E1497:H1497,MATCH(\"A\",E1497:H1497,0)))=\"A\",\"A\",\"\"),_xlfn.IFNA(IF((INDEX(E1497:H1497,MATCH(\"n.a.\",E1497:H1497,0)))=\"n.a.\",\"\",\"\"),_xlfn.IFNA(IF((INDEX(E1497:H1497,MATCH(\"\",E1497:H1497,0)))=\"\",\"\",\"\"),\"\"))))))))","v":""}]
[]
[]
[null,"\nStep 3: D(E) Assessment\nSkip this step if \nyour assessment above does not reveal a D(E) hazard level.\nHover over this cell for additional instructions.\n",null,null,"\nOverall hazard level\n",null,{"$f":"IF(AND(E1498=\"\",C1484=\"Yes\")=TRUE,\"B\",IF(E1498=\"\",\"\",(IF(AND(E1498=\"D (E)\",C1501=\"\"),\"D (E)\"&CHAR(10)&\"Find if cat. 1 acute tox.\",(IF(E1498<>\"D (E)\",E1498,(IF(AND(E1498=\"D (E)\",C1501=\"Yes\"),\"E\",(IF(AND(E1498=\"D (E)\",C1501=\"No\"),\"D\",\"\"))))))))))","v":""}]
[]
[{"$f":"IF(IF(MOD(ROWS(B$3:B1503),20)=1,INDEX('Summary Sheet'!$A$17:$A1542,INT(ROWS(B$3:B1503)/20)+1),\"\")=0,\"\",IF(MOD(ROWS(B$3:B1503),20)=1,INDEX('Summary Sheet'!$A$17:$A1542,INT(ROWS(B$3:B1503)/20)+1),\"\"))","v":76},"Hazard Level Assessment","for",{"$f":"IF(IF(MOD(ROWS(D$3:D1503),20)=1,INDEX('Summary Sheet'!$B$17:$B1542,INT(ROWS(D$3:D1503)/20)+1),\"\")=0,\"\",IF(MOD(ROWS(D$3:D1503),20)=1,INDEX('Summary Sheet'!$B$17:$B1542,INT(ROWS(D$3:D1503)/20)+1),\"\"))","v":""}]
[null,"\nStep 1: Physical & Environmental Hazard Statements/Codes\nFind Section 2 of the SDS and determine if the SDS has physical and/or environmental hazard statements/codes. Hover on this cell for additional instructions.\n",null,{"$f":"IF(IF(MOD(ROWS(D$3:D1504),20)=1,INDEX('Summary Sheet'!$B$17:$B1542,INT(ROWS(D$3:D1504)/20)+1),\"\")=0,\"\",IF(MOD(ROWS(D$3:D1504),20)=1,INDEX('Summary Sheet'!$B$17:$B1542,INT(ROWS(D$3:D1504)/20)+1),\"\"))","v":""}]
[null,"Step 2: Health Hazard Statements/Codes\nProvide the Health Hazard Statements or Codes from Section 2 of the SDS below. Hover on this cell for additional instructions.",null,{"$f":"IF(IF(MOD(ROWS(D$3:D1505),20)=1,INDEX('Summary Sheet'!$B$17:$B1542,INT(ROWS(D$3:D1505)/20)+1),\"\")=0,\"\",IF(MOD(ROWS(D$3:D1505),20)=1,INDEX('Summary Sheet'!$B$17:$B1542,INT(ROWS(D$3:D1505)/20)+1),\"\"))","v":""},"\nHazard Level\n"]
[null,null,null,{"$f":"IF(IF(MOD(ROWS(D$3:D1506),20)=1,INDEX('Summary Sheet'!$B$17:$B1542,INT(ROWS(D$3:D1506)/20)+1),\"\")=0,\"\",IF(MOD(ROWS(D$3:D1506),20)=1,INDEX('Summary Sheet'!$B$17:$B1542,INT(ROWS(D$3:D1506)/20)+1),\"\"))","v":""},"\nEye Damage\n","\nInhalation\n","\nLocal Skin Damage\n","\nSkin uptake, systemic\n"]
[1,null,{"$f":"_xlfn.IFNA(VLOOKUP(B1507,_!$A$7:$F$210,6,FALSE),\"\")","v":""},{"$f":"IF(IF(MOD(ROWS(D$3:D1507),20)=1,INDEX('Summary Sheet'!$B$17:$B1542,INT(ROWS(D$3:D1507)/20)+1),\"\")=0,\"\",IF(MOD(ROWS(D$3:D1507),20)=1,INDEX('Summary Sheet'!$B$17:$B1542,INT(ROWS(D$3:D1507)/20)+1),\"\"))","v":""},{"$f":"_xlfn.IFNA(IF(VLOOKUP(B1507,_!$A$7:$E$210,2,FALSE)=0, \"\", VLOOKUP(B1507,_!$A$7:$E$210,2,FALSE)),  \"\")","v":""},{"$f":"_xlfn.IFNA(IF(VLOOKUP(B1507,_!$A$7:$E$210,3,FALSE)=0, \"\", VLOOKUP(B1507,_!$A$7:$E$210,3,FALSE)), \"\")","v":""},{"$f":"_xlfn.IFNA(IF(VLOOKUP(B1507,_!$A$7:$E$210,4,FALSE)=0, \"\",VLOOKUP(B1507,_!$A$7:$E$210,4,FALSE)), \"\")","v":""},{"$f":"_xlfn.IFNA(IF(VLOOKUP(B1507,_!$A$7:$E$210,5,FALSE)=0,\"\",VLOOKUP(B1507,_!$A$7:$E$210,5,FALSE)), \"\")","v":""}]
[2,null,{"$f":"_xlfn.IFNA(VLOOKUP(B1508,_!$A$7:$F$210,6,FALSE),\"\")","v":""},{"$f":"IF(IF(MOD(ROWS(D$3:D1508),20)=1,INDEX('Summary Sheet'!$B$17:$B1542,INT(ROWS(D$3:D1508)/20)+1),\"\")=0,\"\",IF(MOD(ROWS(D$3:D1508),20)=1,INDEX('Summary Sheet'!$B$17:$B1542,INT(ROWS(D$3:D1508)/20)+1),\"\"))","v":""},{"$f":"_xlfn.IFNA(IF(VLOOKUP(B1508,_!$A$7:$E$210,2,FALSE)=0, \"\", VLOOKUP(B1508,_!$A$7:$E$210,2,FALSE)),  \"\")","v":""},{"$f":"_xlfn.IFNA(IF(VLOOKUP(B1508,_!$A$7:$E$210,3,FALSE)=0, \"\", VLOOKUP(B1508,_!$A$7:$E$210,3,FALSE)), \"\")","v":""},{"$f":"_xlfn.IFNA(IF(VLOOKUP(B1508,_!$A$7:$E$210,4,FALSE)=0, \"\",VLOOKUP(B1508,_!$A$7:$E$210,4,FALSE)), \"\")","v":""},{"$f":"_xlfn.IFNA(IF(VLOOKUP(B1508,_!$A$7:$E$210,5,FALSE)=0,\"\",VLOOKUP(B1508,_!$A$7:$E$210,5,FALSE)), \"\")","v":""}]
[3,null,{"$f":"_xlfn.IFNA(VLOOKUP(B1509,_!$A$7:$F$210,6,FALSE),\"\")","v":""},{"$f":"IF(IF(MOD(ROWS(D$3:D1509),20)=1,INDEX('Summary Sheet'!$B$17:$B1542,INT(ROWS(D$3:D1509)/20)+1),\"\")=0,\"\",IF(MOD(ROWS(D$3:D1509),20)=1,INDEX('Summary Sheet'!$B$17:$B1542,INT(ROWS(D$3:D1509)/20)+1),\"\"))","v":""},{"$f":"_xlfn.IFNA(IF(VLOOKUP(B1509,_!$A$7:$E$210,2,FALSE)=0, \"\", VLOOKUP(B1509,_!$A$7:$E$210,2,FALSE)),  \"\")","v":""},{"$f":"_xlfn.IFNA(IF(VLOOKUP(B1509,_!$A$7:$E$210,3,FALSE)=0, \"\", VLOOKUP(B1509,_!$A$7:$E$210,3,FALSE)), \"\")","v":""},{"$f":"_xlfn.IFNA(IF(VLOOKUP(B1509,_!$A$7:$E$210,4,FALSE)=0, \"\",VLOOKUP(B1509,_!$A$7:$E$210,4,FALSE)), \"\")","v":""},{"$f":"_xlfn.IFNA(IF(VLOOKUP(B1509,_!$A$7:$E$210,5,FALSE)=0,\"\",VLOOKUP(B1509,_!$A$7:$E$210,5,FALSE)), \"\")","v":""}]
[4,null,{"$f":"_xlfn.IFNA(VLOOKUP(B1510,_!$A$7:$F$210,6,FALSE),\"\")","v":""},{"$f":"IF(IF(MOD(ROWS(D$3:D1510),20)=1,INDEX('Summary Sheet'!$B$17:$B1542,INT(ROWS(D$3:D1510)/20)+1),\"\")=0,\"\",IF(MOD(ROWS(D$3:D1510),20)=1,INDEX('Summary Sheet'!$B$17:$B1542,INT(ROWS(D$3:D1510)/20)+1),\"\"))","v":""},{"$f":"_xlfn.IFNA(IF(VLOOKUP(B1510,_!$A$7:$E$210,2,FALSE)=0, \"\", VLOOKUP(B1510,_!$A$7:$E$210,2,FALSE)),  \"\")","v":""},{"$f":"_xlfn.IFNA(IF(VLOOKUP(B1510,_!$A$7:$E$210,3,FALSE)=0, \"\", VLOOKUP(B1510,_!$A$7:$E$210,3,FALSE)), \"\")","v":""},{"$f":"_xlfn.IFNA(IF(VLOOKUP(B1510,_!$A$7:$E$210,4,FALSE)=0, \"\",VLOOKUP(B1510,_!$A$7:$E$210,4,FALSE)), \"\")","v":""},{"$f":"_xlfn.IFNA(IF(VLOOKUP(B1510,_!$A$7:$E$210,5,FALSE)=0,\"\",VLOOKUP(B1510,_!$A$7:$E$210,5,FALSE)), \"\")","v":""}]
[5,null,{"$f":"_xlfn.IFNA(VLOOKUP(B1511,_!$A$7:$F$210,6,FALSE),\"\")","v":""},{"$f":"IF(IF(MOD(ROWS(D$3:D1511),20)=1,INDEX('Summary Sheet'!$B$17:$B1542,INT(ROWS(D$3:D1511)/20)+1),\"\")=0,\"\",IF(MOD(ROWS(D$3:D1511),20)=1,INDEX('Summary Sheet'!$B$17:$B1542,INT(ROWS(D$3:D1511)/20)+1),\"\"))","v":""},{"$f":"_xlfn.IFNA(IF(VLOOKUP(B1511,_!$A$7:$E$210,2,FALSE)=0, \"\", VLOOKUP(B1511,_!$A$7:$E$210,2,FALSE)),  \"\")","v":""},{"$f":"_xlfn.IFNA(IF(VLOOKUP(B1511,_!$A$7:$E$210,3,FALSE)=0, \"\", VLOOKUP(B1511,_!$A$7:$E$210,3,FALSE)), \"\")","v":""},{"$f":"_xlfn.IFNA(IF(VLOOKUP(B1511,_!$A$7:$E$210,4,FALSE)=0, \"\",VLOOKUP(B1511,_!$A$7:$E$210,4,FALSE)), \"\")","v":""},{"$f":"_xlfn.IFNA(IF(VLOOKUP(B1511,_!$A$7:$E$210,5,FALSE)=0,\"\",VLOOKUP(B1511,_!$A$7:$E$210,5,FALSE)), \"\")","v":""}]
[6,null,{"$f":"_xlfn.IFNA(VLOOKUP(B1512,_!$A$7:$F$210,6,FALSE),\"\")","v":""},{"$f":"IF(IF(MOD(ROWS(D$3:D1512),20)=1,INDEX('Summary Sheet'!$B$17:$B1542,INT(ROWS(D$3:D1512)/20)+1),\"\")=0,\"\",IF(MOD(ROWS(D$3:D1512),20)=1,INDEX('Summary Sheet'!$B$17:$B1542,INT(ROWS(D$3:D1512)/20)+1),\"\"))","v":""},{"$f":"_xlfn.IFNA(IF(VLOOKUP(B1512,_!$A$7:$E$210,2,FALSE)=0, \"\", VLOOKUP(B1512,_!$A$7:$E$210,2,FALSE)),  \"\")","v":""},{"$f":"_xlfn.IFNA(IF(VLOOKUP(B1512,_!$A$7:$E$210,3,FALSE)=0, \"\", VLOOKUP(B1512,_!$A$7:$E$210,3,FALSE)), \"\")","v":""},{"$f":"_xlfn.IFNA(IF(VLOOKUP(B1512,_!$A$7:$E$210,4,FALSE)=0, \"\",VLOOKUP(B1512,_!$A$7:$E$210,4,FALSE)), \"\")","v":""},{"$f":"_xlfn.IFNA(IF(VLOOKUP(B1512,_!$A$7:$E$210,5,FALSE)=0,\"\",VLOOKUP(B1512,_!$A$7:$E$210,5,FALSE)), \"\")","v":""}]
[7,null,{"$f":"_xlfn.IFNA(VLOOKUP(B1513,_!$A$7:$F$210,6,FALSE),\"\")","v":""},{"$f":"IF(IF(MOD(ROWS(D$3:D1513),20)=1,INDEX('Summary Sheet'!$B$17:$B1542,INT(ROWS(D$3:D1513)/20)+1),\"\")=0,\"\",IF(MOD(ROWS(D$3:D1513),20)=1,INDEX('Summary Sheet'!$B$17:$B1542,INT(ROWS(D$3:D1513)/20)+1),\"\"))","v":""},{"$f":"_xlfn.IFNA(IF(VLOOKUP(B1513,_!$A$7:$E$210,2,FALSE)=0, \"\", VLOOKUP(B1513,_!$A$7:$E$210,2,FALSE)),  \"\")","v":""},{"$f":"_xlfn.IFNA(IF(VLOOKUP(B1513,_!$A$7:$E$210,3,FALSE)=0, \"\", VLOOKUP(B1513,_!$A$7:$E$210,3,FALSE)), \"\")","v":""},{"$f":"_xlfn.IFNA(IF(VLOOKUP(B1513,_!$A$7:$E$210,4,FALSE)=0, \"\",VLOOKUP(B1513,_!$A$7:$E$210,4,FALSE)), \"\")","v":""},{"$f":"_xlfn.IFNA(IF(VLOOKUP(B1513,_!$A$7:$E$210,5,FALSE)=0,\"\",VLOOKUP(B1513,_!$A$7:$E$210,5,FALSE)), \"\")","v":""}]
[8,null,{"$f":"_xlfn.IFNA(VLOOKUP(B1514,_!$A$7:$F$210,6,FALSE),\"\")","v":""},{"$f":"IF(IF(MOD(ROWS(D$3:D1514),20)=1,INDEX('Summary Sheet'!$B$17:$B1542,INT(ROWS(D$3:D1514)/20)+1),\"\")=0,\"\",IF(MOD(ROWS(D$3:D1514),20)=1,INDEX('Summary Sheet'!$B$17:$B1542,INT(ROWS(D$3:D1514)/20)+1),\"\"))","v":""},{"$f":"_xlfn.IFNA(IF(VLOOKUP(B1514,_!$A$7:$E$210,2,FALSE)=0, \"\", VLOOKUP(B1514,_!$A$7:$E$210,2,FALSE)),  \"\")","v":""},{"$f":"_xlfn.IFNA(IF(VLOOKUP(B1514,_!$A$7:$E$210,3,FALSE)=0, \"\", VLOOKUP(B1514,_!$A$7:$E$210,3,FALSE)), \"\")","v":""},{"$f":"_xlfn.IFNA(IF(VLOOKUP(B1514,_!$A$7:$E$210,4,FALSE)=0, \"\",VLOOKUP(B1514,_!$A$7:$E$210,4,FALSE)), \"\")","v":""},{"$f":"_xlfn.IFNA(IF(VLOOKUP(B1514,_!$A$7:$E$210,5,FALSE)=0,\"\",VLOOKUP(B1514,_!$A$7:$E$210,5,FALSE)), \"\")","v":""}]
[9,null,{"$f":"_xlfn.IFNA(VLOOKUP(B1515,_!$A$7:$F$210,6,FALSE),\"\")","v":""},{"$f":"IF(IF(MOD(ROWS(D$3:D1515),20)=1,INDEX('Summary Sheet'!$B$17:$B1542,INT(ROWS(D$3:D1515)/20)+1),\"\")=0,\"\",IF(MOD(ROWS(D$3:D1515),20)=1,INDEX('Summary Sheet'!$B$17:$B1542,INT(ROWS(D$3:D1515)/20)+1),\"\"))","v":""},{"$f":"_xlfn.IFNA(IF(VLOOKUP(B1515,_!$A$7:$E$210,2,FALSE)=0, \"\", VLOOKUP(B1515,_!$A$7:$E$210,2,FALSE)),  \"\")","v":""},{"$f":"_xlfn.IFNA(IF(VLOOKUP(B1515,_!$A$7:$E$210,3,FALSE)=0, \"\", VLOOKUP(B1515,_!$A$7:$E$210,3,FALSE)), \"\")","v":""},{"$f":"_xlfn.IFNA(IF(VLOOKUP(B1515,_!$A$7:$E$210,4,FALSE)=0, \"\",VLOOKUP(B1515,_!$A$7:$E$210,4,FALSE)), \"\")","v":""},{"$f":"_xlfn.IFNA(IF(VLOOKUP(B1515,_!$A$7:$E$210,5,FALSE)=0,\"\",VLOOKUP(B1515,_!$A$7:$E$210,5,FALSE)), \"\")","v":""}]
[10,null,{"$f":"_xlfn.IFNA(VLOOKUP(B1516,_!$A$7:$F$210,6,FALSE),\"\")","v":""},{"$f":"IF(IF(MOD(ROWS(D$14:D1516),20)=1,INDEX('Summary Sheet'!$B$17:$B1542,INT(ROWS(D$14:D1516)/20)+1),\"\")=0,\"\",IF(MOD(ROWS(D$14:D1516),20)=1,INDEX('Summary Sheet'!$B$17:$B1542,INT(ROWS(D$14:D1516)/20)+1),\"\"))","v":""},{"$f":"_xlfn.IFNA(IF(VLOOKUP(B1516,_!$A$7:$E$210,2,FALSE)=0, \"\", VLOOKUP(B1516,_!$A$7:$E$210,2,FALSE)),  \"\")","v":""},{"$f":"_xlfn.IFNA(IF(VLOOKUP(B1516,_!$A$7:$E$210,3,FALSE)=0, \"\", VLOOKUP(B1516,_!$A$7:$E$210,3,FALSE)), \"\")","v":""},{"$f":"_xlfn.IFNA(IF(VLOOKUP(B1516,_!$A$7:$E$210,4,FALSE)=0, \"\",VLOOKUP(B1516,_!$A$7:$E$210,4,FALSE)), \"\")","v":""},{"$f":"_xlfn.IFNA(IF(VLOOKUP(B1516,_!$A$7:$E$210,5,FALSE)=0,\"\",VLOOKUP(B1516,_!$A$7:$E$210,5,FALSE)), \"\")","v":""}]
[null,"\nHighest hazard level for each ‘Uptake Route’\n",null,null,{"$f":"_xlfn.IFNA(IF((INDEX(E1507:E1516,MATCH(\"E\",E1507:E1516,0)))=\"E\",\"E\",\"\"),_xlfn.IFNA(IF((INDEX(E1507:E1516,MATCH(\"D\",E1507:E1516,0)))=\"D\",\"D\",\"\"),_xlfn.IFNA(IF((INDEX(E1507:E1516,MATCH(\"Ca\",E1507:E1516,0)))=\"Ca\",\"C\",\"\"),_xlfn.IFNA(IF((INDEX(E1507:E1516,MATCH(\"C\",E1507:E1516,0)))=\"C\",\"C\",\"\"),_xlfn.IFNA(IF((INDEX(E1507:E1516,MATCH(\"B\",E1507:E1516,0)))=\"B\",\"B\",\"\"),_xlfn.IFNA(IF((INDEX(E1507:E1516,MATCH(\"A\",E1507:E1516,0)))=\"A\",\"A\",\"\"),_xlfn.IFNA(IF((INDEX(E1507:E1516,MATCH(\"n.a.\",E1507:E1516,0)))=\"n.a.\",\"\",\"\"),_xlfn.IFNA(IF((INDEX(E1507:E1516,MATCH(\"\",E1507:E1516,0)))=\"\",\"\",\"\"),\"\"))))))))","v":""},{"$f":"_xlfn.IFNA(IF((INDEX(F1507:F1516,MATCH(\"E\",F1507:F1516,0)))=\"E\",\"E\",\"\"),_xlfn.IFNA(IF((INDEX(F1507:F1516,MATCH(\"D (E)c\",F1507:F1516,0)))=\"D (E)c\",\"D (E)c\",\"\"),_xlfn.IFNA(IF((INDEX(F1507:F1516,MATCH(\"Da (E)c\",F1507:F1516,0)))=\"Da (E)c\",\"D (E)c\",\"\"),_xlfn.IFNA(IF((INDEX(F1507:F1516,MATCH(\"D\",F1507:F1516,0)))=\"D\",\"D\",\"\"),_xlfn.IFNA(IF((INDEX(F1507:F1516,MATCH(\"Ca\",F1507:F1516,0)))=\"Ca\",\"C\",\"\"),_xlfn.IFNA(IF((INDEX(F1507:F1516,MATCH(\"C\",F1507:F1516,0)))=\"C\",\"C\",\"\"),_xlfn.IFNA(IF((INDEX(F1507:F1516,MATCH(\"Ba\",F1507:F1516,0)))=\"Ba\",\"B\",\"\"),_xlfn.IFNA(IF((INDEX(F1507:F1516,MATCH(\"B\",F1507:F1516,0)))=\"B\",\"B\",\"\"),_xlfn.IFNA(IF((INDEX(F1507:F1516,MATCH(\"Aa\",F1507:F1516,0)))=\"Aa\",\"A\",\"\"),_xlfn.IFNA(IF((INDEX(F1507:F1516,MATCH(\"A\",F1507:F1516,0)))=\"A\",\"A\",\"\"),_xlfn.IFNA(IF((INDEX(F1507:F1516,MATCH(\"n.a.\",F1507:F1516,0)))=\"n.a.\",\"\",\"\"),_xlfn.IFNA(IF((INDEX(F1507:F1516,MATCH(\"\",F1507:F1516,0)))=\"\",\"\",\"\"),\"\"))))))))))))","v":""},{"$f":"_xlfn.IFNA(IF((INDEX(G1507:G1516,MATCH(\"E\",G1507:G1516,0)))=\"E\",\"E\",\"\"),_xlfn.IFNA(IF((INDEX(G1507:G1516,MATCH(\"D\",G1507:G1516,0)))=\"D\",\"D\",\"\"),_xlfn.IFNA(IF((INDEX(G1507:G1516,MATCH(\"Ca\",G1507:G1516,0)))=\"Ca\",\"C\",\"\"),_xlfn.IFNA(IF((INDEX(G1507:G1516,MATCH(\"C\",G1507:G1516,0)))=\"C\",\"C\",\"\"),_xlfn.IFNA(IF((INDEX(G1507:G1516,MATCH(\"B\",G1507:G1516,0)))=\"B\",\"B\",\"\"),_xlfn.IFNA(IF((INDEX(G1507:G1516,MATCH(\"A\",G1507:G1516,0)))=\"A\",\"A\",\"\"),_xlfn.IFNA(IF((INDEX(G1507:G1516,MATCH(\"n.a.\",G1507:G1516,0)))=\"n.a.\",\"\",\"\"),_xlfn.IFNA(IF((INDEX(G1507:G1516,MATCH(\"\",G1507:G1516,0)))=\"\",\"\",\"\"),\"\"))))))))","v":""},{"$f":"_xlfn.IFNA(IF((INDEX(H1507:H1516,MATCH(\"E\",H1507:H1516,0)))=\"E\",\"E\",\"\"),_xlfn.IFNA(IF((INDEX(H1507:H1516,MATCH(\"D (E)c\",H1507:H1516,0)))=\"D (E)c\",\"D (E)c\",\"\"),_xlfn.IFNA(IF((INDEX(H1507:H1516,MATCH(\"Db (E)c\",H1507:H1516,0)))=\"Db (E)c\",\"D (E)c\",\"\"),_xlfn.IFNA(IF((INDEX(H1507:H1516,MATCH(\"D\",H1507:H1516,0)))=\"D\",\"D\",\"\"),_xlfn.IFNA(IF((INDEX(H1507:H1516,MATCH(\"Cb\",H1507:H1516,0)))=\"Cb\",\"C\",\"\"),_xlfn.IFNA(IF((INDEX(H1507:H1516,MATCH(\"C\",H1507:H1516,0)))=\"C\",\"C\",\"\"),_xlfn.IFNA(IF((INDEX(H1507:H1516,MATCH(\"Bb\",H1507:H1516,0)))=\"Bb\",\"B\",\"\"),_xlfn.IFNA(IF((INDEX(H1507:H1516,MATCH(\"B\",H1507:H1516,0)))=\"B\",\"B\",\"\"),_xlfn.IFNA(IF((INDEX(H1507:H1516,MATCH(\"Ab\",H1507:H1516,0)))=\"Ab\",\"A\",\"\"),_xlfn.IFNA(IF((INDEX(H1507:H1516,MATCH(\"A\",H1507:H1516,0)))=\"A\",\"A\",\"\"),_xlfn.IFNA(IF((INDEX(H1507:H1516,MATCH(\"n.a.\",H1507:H1516,0)))=\"n.a.\",\"\",\"\"),_xlfn.IFNA(IF((INDEX(H1507:H1516,MATCH(\"\",H1507:H1516,0)))=\"\",\"\",\"\"),\"\"))))))))))))","v":""}]
[null,"\nHighest hazard level for all 'Uptake Routes' \n",null,null,{"$f":"_xlfn.IFNA(IF((INDEX(E1517:H1517,MATCH(\"E\",E1517:H1517,0)))=\"E\",\"E\",\"\"),_xlfn.IFNA(IF((INDEX(E1517:H1517,MATCH(\"D (E)c\",E1517:H1517,0)))=\"D (E)c\",\"D (E)\",\"\"),_xlfn.IFNA(IF((INDEX(E1517:H1517,MATCH(\"D\",E1517:H1517,0)))=\"D\",\"D\",\"\"),_xlfn.IFNA(IF((INDEX(E1517:H1517,MATCH(\"C\",E1517:H1517,0)))=\"C\",\"C\",\"\"),_xlfn.IFNA(IF((INDEX(E1517:H1517,MATCH(\"B\",E1517:H1517,0)))=\"B\",\"B\",\"\"),_xlfn.IFNA(IF((INDEX(E1517:H1517,MATCH(\"A\",E1517:H1517,0)))=\"A\",\"A\",\"\"),_xlfn.IFNA(IF((INDEX(E1517:H1517,MATCH(\"n.a.\",E1517:H1517,0)))=\"n.a.\",\"\",\"\"),_xlfn.IFNA(IF((INDEX(E1517:H1517,MATCH(\"\",E1517:H1517,0)))=\"\",\"\",\"\"),\"\"))))))))","v":""}]
[]
[]
[null,"\nStep 3: D(E) Assessment\nSkip this step if \nyour assessment above does not reveal a D(E) hazard level.\nHover over this cell for additional instructions.\n",null,null,"\nOverall hazard level\n",null,{"$f":"IF(AND(E1518=\"\",C1504=\"Yes\")=TRUE,\"B\",IF(E1518=\"\",\"\",(IF(AND(E1518=\"D (E)\",C1521=\"\"),\"D (E)\"&CHAR(10)&\"Find if cat. 1 acute tox.\",(IF(E1518<>\"D (E)\",E1518,(IF(AND(E1518=\"D (E)\",C1521=\"Yes\"),\"E\",(IF(AND(E1518=\"D (E)\",C1521=\"No\"),\"D\",\"\"))))))))))","v":""}]
[]
[{"$f":"IF(IF(MOD(ROWS(B$3:B1523),20)=1,INDEX('Summary Sheet'!$A$17:$A1561,INT(ROWS(B$3:B1523)/20)+1),\"\")=0,\"\",IF(MOD(ROWS(B$3:B1523),20)=1,INDEX('Summary Sheet'!$A$17:$A1561,INT(ROWS(B$3:B1523)/20)+1),\"\"))","v":77},"Hazard Level Assessment","for",{"$f":"IF(IF(MOD(ROWS(D$3:D1523),20)=1,INDEX('Summary Sheet'!$B$17:$B1561,INT(ROWS(D$3:D1523)/20)+1),\"\")=0,\"\",IF(MOD(ROWS(D$3:D1523),20)=1,INDEX('Summary Sheet'!$B$17:$B1561,INT(ROWS(D$3:D1523)/20)+1),\"\"))","v":""}]
[null,"\nStep 1: Physical & Environmental Hazard Statements/Codes\nFind Section 2 of the SDS and determine if the SDS has physical and/or environmental hazard statements/codes. Hover on this cell for additional instructions.\n",null,{"$f":"IF(IF(MOD(ROWS(D$3:D1524),20)=1,INDEX('Summary Sheet'!$B$17:$B1561,INT(ROWS(D$3:D1524)/20)+1),\"\")=0,\"\",IF(MOD(ROWS(D$3:D1524),20)=1,INDEX('Summary Sheet'!$B$17:$B1561,INT(ROWS(D$3:D1524)/20)+1),\"\"))","v":""}]
[null,"Step 2: Health Hazard Statements/Codes\nProvide the Health Hazard Statements or Codes from Section 2 of the SDS below. Hover on this cell for additional instructions.",null,{"$f":"IF(IF(MOD(ROWS(D$3:D1525),20)=1,INDEX('Summary Sheet'!$B$17:$B1561,INT(ROWS(D$3:D1525)/20)+1),\"\")=0,\"\",IF(MOD(ROWS(D$3:D1525),20)=1,INDEX('Summary Sheet'!$B$17:$B1561,INT(ROWS(D$3:D1525)/20)+1),\"\"))","v":""},"\nHazard Level\n"]
[null,null,null,{"$f":"IF(IF(MOD(ROWS(D$3:D1526),20)=1,INDEX('Summary Sheet'!$B$17:$B1561,INT(ROWS(D$3:D1526)/20)+1),\"\")=0,\"\",IF(MOD(ROWS(D$3:D1526),20)=1,INDEX('Summary Sheet'!$B$17:$B1561,INT(ROWS(D$3:D1526)/20)+1),\"\"))","v":""},"\nEye Damage\n","\nInhalation\n","\nLocal Skin Damage\n","\nSkin uptake, systemic\n"]
[1,null,{"$f":"_xlfn.IFNA(VLOOKUP(B1527,_!$A$7:$F$210,6,FALSE),\"\")","v":""},{"$f":"IF(IF(MOD(ROWS(D$3:D1527),20)=1,INDEX('Summary Sheet'!$B$17:$B1561,INT(ROWS(D$3:D1527)/20)+1),\"\")=0,\"\",IF(MOD(ROWS(D$3:D1527),20)=1,INDEX('Summary Sheet'!$B$17:$B1561,INT(ROWS(D$3:D1527)/20)+1),\"\"))","v":""},{"$f":"_xlfn.IFNA(IF(VLOOKUP(B1527,_!$A$7:$E$210,2,FALSE)=0, \"\", VLOOKUP(B1527,_!$A$7:$E$210,2,FALSE)),  \"\")","v":""},{"$f":"_xlfn.IFNA(IF(VLOOKUP(B1527,_!$A$7:$E$210,3,FALSE)=0, \"\", VLOOKUP(B1527,_!$A$7:$E$210,3,FALSE)), \"\")","v":""},{"$f":"_xlfn.IFNA(IF(VLOOKUP(B1527,_!$A$7:$E$210,4,FALSE)=0, \"\",VLOOKUP(B1527,_!$A$7:$E$210,4,FALSE)), \"\")","v":""},{"$f":"_xlfn.IFNA(IF(VLOOKUP(B1527,_!$A$7:$E$210,5,FALSE)=0,\"\",VLOOKUP(B1527,_!$A$7:$E$210,5,FALSE)), \"\")","v":""}]
[2,null,{"$f":"_xlfn.IFNA(VLOOKUP(B1528,_!$A$7:$F$210,6,FALSE),\"\")","v":""},{"$f":"IF(IF(MOD(ROWS(D$3:D1528),20)=1,INDEX('Summary Sheet'!$B$17:$B1561,INT(ROWS(D$3:D1528)/20)+1),\"\")=0,\"\",IF(MOD(ROWS(D$3:D1528),20)=1,INDEX('Summary Sheet'!$B$17:$B1561,INT(ROWS(D$3:D1528)/20)+1),\"\"))","v":""},{"$f":"_xlfn.IFNA(IF(VLOOKUP(B1528,_!$A$7:$E$210,2,FALSE)=0, \"\", VLOOKUP(B1528,_!$A$7:$E$210,2,FALSE)),  \"\")","v":""},{"$f":"_xlfn.IFNA(IF(VLOOKUP(B1528,_!$A$7:$E$210,3,FALSE)=0, \"\", VLOOKUP(B1528,_!$A$7:$E$210,3,FALSE)), \"\")","v":""},{"$f":"_xlfn.IFNA(IF(VLOOKUP(B1528,_!$A$7:$E$210,4,FALSE)=0, \"\",VLOOKUP(B1528,_!$A$7:$E$210,4,FALSE)), \"\")","v":""},{"$f":"_xlfn.IFNA(IF(VLOOKUP(B1528,_!$A$7:$E$210,5,FALSE)=0,\"\",VLOOKUP(B1528,_!$A$7:$E$210,5,FALSE)), \"\")","v":""}]
[3,null,{"$f":"_xlfn.IFNA(VLOOKUP(B1529,_!$A$7:$F$210,6,FALSE),\"\")","v":""},{"$f":"IF(IF(MOD(ROWS(D$3:D1529),20)=1,INDEX('Summary Sheet'!$B$17:$B1561,INT(ROWS(D$3:D1529)/20)+1),\"\")=0,\"\",IF(MOD(ROWS(D$3:D1529),20)=1,INDEX('Summary Sheet'!$B$17:$B1561,INT(ROWS(D$3:D1529)/20)+1),\"\"))","v":""},{"$f":"_xlfn.IFNA(IF(VLOOKUP(B1529,_!$A$7:$E$210,2,FALSE)=0, \"\", VLOOKUP(B1529,_!$A$7:$E$210,2,FALSE)),  \"\")","v":""},{"$f":"_xlfn.IFNA(IF(VLOOKUP(B1529,_!$A$7:$E$210,3,FALSE)=0, \"\", VLOOKUP(B1529,_!$A$7:$E$210,3,FALSE)), \"\")","v":""},{"$f":"_xlfn.IFNA(IF(VLOOKUP(B1529,_!$A$7:$E$210,4,FALSE)=0, \"\",VLOOKUP(B1529,_!$A$7:$E$210,4,FALSE)), \"\")","v":""},{"$f":"_xlfn.IFNA(IF(VLOOKUP(B1529,_!$A$7:$E$210,5,FALSE)=0,\"\",VLOOKUP(B1529,_!$A$7:$E$210,5,FALSE)), \"\")","v":""}]
[4,null,{"$f":"_xlfn.IFNA(VLOOKUP(B1530,_!$A$7:$F$210,6,FALSE),\"\")","v":""},{"$f":"IF(IF(MOD(ROWS(D$3:D1530),20)=1,INDEX('Summary Sheet'!$B$17:$B1561,INT(ROWS(D$3:D1530)/20)+1),\"\")=0,\"\",IF(MOD(ROWS(D$3:D1530),20)=1,INDEX('Summary Sheet'!$B$17:$B1561,INT(ROWS(D$3:D1530)/20)+1),\"\"))","v":""},{"$f":"_xlfn.IFNA(IF(VLOOKUP(B1530,_!$A$7:$E$210,2,FALSE)=0, \"\", VLOOKUP(B1530,_!$A$7:$E$210,2,FALSE)),  \"\")","v":""},{"$f":"_xlfn.IFNA(IF(VLOOKUP(B1530,_!$A$7:$E$210,3,FALSE)=0, \"\", VLOOKUP(B1530,_!$A$7:$E$210,3,FALSE)), \"\")","v":""},{"$f":"_xlfn.IFNA(IF(VLOOKUP(B1530,_!$A$7:$E$210,4,FALSE)=0, \"\",VLOOKUP(B1530,_!$A$7:$E$210,4,FALSE)), \"\")","v":""},{"$f":"_xlfn.IFNA(IF(VLOOKUP(B1530,_!$A$7:$E$210,5,FALSE)=0,\"\",VLOOKUP(B1530,_!$A$7:$E$210,5,FALSE)), \"\")","v":""}]
[5,null,{"$f":"_xlfn.IFNA(VLOOKUP(B1531,_!$A$7:$F$210,6,FALSE),\"\")","v":""},{"$f":"IF(IF(MOD(ROWS(D$3:D1531),20)=1,INDEX('Summary Sheet'!$B$17:$B1561,INT(ROWS(D$3:D1531)/20)+1),\"\")=0,\"\",IF(MOD(ROWS(D$3:D1531),20)=1,INDEX('Summary Sheet'!$B$17:$B1561,INT(ROWS(D$3:D1531)/20)+1),\"\"))","v":""},{"$f":"_xlfn.IFNA(IF(VLOOKUP(B1531,_!$A$7:$E$210,2,FALSE)=0, \"\", VLOOKUP(B1531,_!$A$7:$E$210,2,FALSE)),  \"\")","v":""},{"$f":"_xlfn.IFNA(IF(VLOOKUP(B1531,_!$A$7:$E$210,3,FALSE)=0, \"\", VLOOKUP(B1531,_!$A$7:$E$210,3,FALSE)), \"\")","v":""},{"$f":"_xlfn.IFNA(IF(VLOOKUP(B1531,_!$A$7:$E$210,4,FALSE)=0, \"\",VLOOKUP(B1531,_!$A$7:$E$210,4,FALSE)), \"\")","v":""},{"$f":"_xlfn.IFNA(IF(VLOOKUP(B1531,_!$A$7:$E$210,5,FALSE)=0,\"\",VLOOKUP(B1531,_!$A$7:$E$210,5,FALSE)), \"\")","v":""}]
[6,null,{"$f":"_xlfn.IFNA(VLOOKUP(B1532,_!$A$7:$F$210,6,FALSE),\"\")","v":""},{"$f":"IF(IF(MOD(ROWS(D$3:D1532),20)=1,INDEX('Summary Sheet'!$B$17:$B1561,INT(ROWS(D$3:D1532)/20)+1),\"\")=0,\"\",IF(MOD(ROWS(D$3:D1532),20)=1,INDEX('Summary Sheet'!$B$17:$B1561,INT(ROWS(D$3:D1532)/20)+1),\"\"))","v":""},{"$f":"_xlfn.IFNA(IF(VLOOKUP(B1532,_!$A$7:$E$210,2,FALSE)=0, \"\", VLOOKUP(B1532,_!$A$7:$E$210,2,FALSE)),  \"\")","v":""},{"$f":"_xlfn.IFNA(IF(VLOOKUP(B1532,_!$A$7:$E$210,3,FALSE)=0, \"\", VLOOKUP(B1532,_!$A$7:$E$210,3,FALSE)), \"\")","v":""},{"$f":"_xlfn.IFNA(IF(VLOOKUP(B1532,_!$A$7:$E$210,4,FALSE)=0, \"\",VLOOKUP(B1532,_!$A$7:$E$210,4,FALSE)), \"\")","v":""},{"$f":"_xlfn.IFNA(IF(VLOOKUP(B1532,_!$A$7:$E$210,5,FALSE)=0,\"\",VLOOKUP(B1532,_!$A$7:$E$210,5,FALSE)), \"\")","v":""}]
[7,null,{"$f":"_xlfn.IFNA(VLOOKUP(B1533,_!$A$7:$F$210,6,FALSE),\"\")","v":""},{"$f":"IF(IF(MOD(ROWS(D$3:D1533),20)=1,INDEX('Summary Sheet'!$B$17:$B1561,INT(ROWS(D$3:D1533)/20)+1),\"\")=0,\"\",IF(MOD(ROWS(D$3:D1533),20)=1,INDEX('Summary Sheet'!$B$17:$B1561,INT(ROWS(D$3:D1533)/20)+1),\"\"))","v":""},{"$f":"_xlfn.IFNA(IF(VLOOKUP(B1533,_!$A$7:$E$210,2,FALSE)=0, \"\", VLOOKUP(B1533,_!$A$7:$E$210,2,FALSE)),  \"\")","v":""},{"$f":"_xlfn.IFNA(IF(VLOOKUP(B1533,_!$A$7:$E$210,3,FALSE)=0, \"\", VLOOKUP(B1533,_!$A$7:$E$210,3,FALSE)), \"\")","v":""},{"$f":"_xlfn.IFNA(IF(VLOOKUP(B1533,_!$A$7:$E$210,4,FALSE)=0, \"\",VLOOKUP(B1533,_!$A$7:$E$210,4,FALSE)), \"\")","v":""},{"$f":"_xlfn.IFNA(IF(VLOOKUP(B1533,_!$A$7:$E$210,5,FALSE)=0,\"\",VLOOKUP(B1533,_!$A$7:$E$210,5,FALSE)), \"\")","v":""}]
[8,null,{"$f":"_xlfn.IFNA(VLOOKUP(B1534,_!$A$7:$F$210,6,FALSE),\"\")","v":""},{"$f":"IF(IF(MOD(ROWS(D$3:D1534),20)=1,INDEX('Summary Sheet'!$B$17:$B1561,INT(ROWS(D$3:D1534)/20)+1),\"\")=0,\"\",IF(MOD(ROWS(D$3:D1534),20)=1,INDEX('Summary Sheet'!$B$17:$B1561,INT(ROWS(D$3:D1534)/20)+1),\"\"))","v":""},{"$f":"_xlfn.IFNA(IF(VLOOKUP(B1534,_!$A$7:$E$210,2,FALSE)=0, \"\", VLOOKUP(B1534,_!$A$7:$E$210,2,FALSE)),  \"\")","v":""},{"$f":"_xlfn.IFNA(IF(VLOOKUP(B1534,_!$A$7:$E$210,3,FALSE)=0, \"\", VLOOKUP(B1534,_!$A$7:$E$210,3,FALSE)), \"\")","v":""},{"$f":"_xlfn.IFNA(IF(VLOOKUP(B1534,_!$A$7:$E$210,4,FALSE)=0, \"\",VLOOKUP(B1534,_!$A$7:$E$210,4,FALSE)), \"\")","v":""},{"$f":"_xlfn.IFNA(IF(VLOOKUP(B1534,_!$A$7:$E$210,5,FALSE)=0,\"\",VLOOKUP(B1534,_!$A$7:$E$210,5,FALSE)), \"\")","v":""}]
[9,null,{"$f":"_xlfn.IFNA(VLOOKUP(B1535,_!$A$7:$F$210,6,FALSE),\"\")","v":""},{"$f":"IF(IF(MOD(ROWS(D$3:D1535),20)=1,INDEX('Summary Sheet'!$B$17:$B1561,INT(ROWS(D$3:D1535)/20)+1),\"\")=0,\"\",IF(MOD(ROWS(D$3:D1535),20)=1,INDEX('Summary Sheet'!$B$17:$B1561,INT(ROWS(D$3:D1535)/20)+1),\"\"))","v":""},{"$f":"_xlfn.IFNA(IF(VLOOKUP(B1535,_!$A$7:$E$210,2,FALSE)=0, \"\", VLOOKUP(B1535,_!$A$7:$E$210,2,FALSE)),  \"\")","v":""},{"$f":"_xlfn.IFNA(IF(VLOOKUP(B1535,_!$A$7:$E$210,3,FALSE)=0, \"\", VLOOKUP(B1535,_!$A$7:$E$210,3,FALSE)), \"\")","v":""},{"$f":"_xlfn.IFNA(IF(VLOOKUP(B1535,_!$A$7:$E$210,4,FALSE)=0, \"\",VLOOKUP(B1535,_!$A$7:$E$210,4,FALSE)), \"\")","v":""},{"$f":"_xlfn.IFNA(IF(VLOOKUP(B1535,_!$A$7:$E$210,5,FALSE)=0,\"\",VLOOKUP(B1535,_!$A$7:$E$210,5,FALSE)), \"\")","v":""}]
[10,null,{"$f":"_xlfn.IFNA(VLOOKUP(B1536,_!$A$7:$F$210,6,FALSE),\"\")","v":""},{"$f":"IF(IF(MOD(ROWS(D$14:D1536),20)=1,INDEX('Summary Sheet'!$B$17:$B1561,INT(ROWS(D$14:D1536)/20)+1),\"\")=0,\"\",IF(MOD(ROWS(D$14:D1536),20)=1,INDEX('Summary Sheet'!$B$17:$B1561,INT(ROWS(D$14:D1536)/20)+1),\"\"))","v":""},{"$f":"_xlfn.IFNA(IF(VLOOKUP(B1536,_!$A$7:$E$210,2,FALSE)=0, \"\", VLOOKUP(B1536,_!$A$7:$E$210,2,FALSE)),  \"\")","v":""},{"$f":"_xlfn.IFNA(IF(VLOOKUP(B1536,_!$A$7:$E$210,3,FALSE)=0, \"\", VLOOKUP(B1536,_!$A$7:$E$210,3,FALSE)), \"\")","v":""},{"$f":"_xlfn.IFNA(IF(VLOOKUP(B1536,_!$A$7:$E$210,4,FALSE)=0, \"\",VLOOKUP(B1536,_!$A$7:$E$210,4,FALSE)), \"\")","v":""},{"$f":"_xlfn.IFNA(IF(VLOOKUP(B1536,_!$A$7:$E$210,5,FALSE)=0,\"\",VLOOKUP(B1536,_!$A$7:$E$210,5,FALSE)), \"\")","v":""}]
[null,"\nHighest hazard level for each ‘Uptake Route’\n",null,null,{"$f":"_xlfn.IFNA(IF((INDEX(E1527:E1536,MATCH(\"E\",E1527:E1536,0)))=\"E\",\"E\",\"\"),_xlfn.IFNA(IF((INDEX(E1527:E1536,MATCH(\"D\",E1527:E1536,0)))=\"D\",\"D\",\"\"),_xlfn.IFNA(IF((INDEX(E1527:E1536,MATCH(\"Ca\",E1527:E1536,0)))=\"Ca\",\"C\",\"\"),_xlfn.IFNA(IF((INDEX(E1527:E1536,MATCH(\"C\",E1527:E1536,0)))=\"C\",\"C\",\"\"),_xlfn.IFNA(IF((INDEX(E1527:E1536,MATCH(\"B\",E1527:E1536,0)))=\"B\",\"B\",\"\"),_xlfn.IFNA(IF((INDEX(E1527:E1536,MATCH(\"A\",E1527:E1536,0)))=\"A\",\"A\",\"\"),_xlfn.IFNA(IF((INDEX(E1527:E1536,MATCH(\"n.a.\",E1527:E1536,0)))=\"n.a.\",\"\",\"\"),_xlfn.IFNA(IF((INDEX(E1527:E1536,MATCH(\"\",E1527:E1536,0)))=\"\",\"\",\"\"),\"\"))))))))","v":""},{"$f":"_xlfn.IFNA(IF((INDEX(F1527:F1536,MATCH(\"E\",F1527:F1536,0)))=\"E\",\"E\",\"\"),_xlfn.IFNA(IF((INDEX(F1527:F1536,MATCH(\"D (E)c\",F1527:F1536,0)))=\"D (E)c\",\"D (E)c\",\"\"),_xlfn.IFNA(IF((INDEX(F1527:F1536,MATCH(\"Da (E)c\",F1527:F1536,0)))=\"Da (E)c\",\"D (E)c\",\"\"),_xlfn.IFNA(IF((INDEX(F1527:F1536,MATCH(\"D\",F1527:F1536,0)))=\"D\",\"D\",\"\"),_xlfn.IFNA(IF((INDEX(F1527:F1536,MATCH(\"Ca\",F1527:F1536,0)))=\"Ca\",\"C\",\"\"),_xlfn.IFNA(IF((INDEX(F1527:F1536,MATCH(\"C\",F1527:F1536,0)))=\"C\",\"C\",\"\"),_xlfn.IFNA(IF((INDEX(F1527:F1536,MATCH(\"Ba\",F1527:F1536,0)))=\"Ba\",\"B\",\"\"),_xlfn.IFNA(IF((INDEX(F1527:F1536,MATCH(\"B\",F1527:F1536,0)))=\"B\",\"B\",\"\"),_xlfn.IFNA(IF((INDEX(F1527:F1536,MATCH(\"Aa\",F1527:F1536,0)))=\"Aa\",\"A\",\"\"),_xlfn.IFNA(IF((INDEX(F1527:F1536,MATCH(\"A\",F1527:F1536,0)))=\"A\",\"A\",\"\"),_xlfn.IFNA(IF((INDEX(F1527:F1536,MATCH(\"n.a.\",F1527:F1536,0)))=\"n.a.\",\"\",\"\"),_xlfn.IFNA(IF((INDEX(F1527:F1536,MATCH(\"\",F1527:F1536,0)))=\"\",\"\",\"\"),\"\"))))))))))))","v":""},{"$f":"_xlfn.IFNA(IF((INDEX(G1527:G1536,MATCH(\"E\",G1527:G1536,0)))=\"E\",\"E\",\"\"),_xlfn.IFNA(IF((INDEX(G1527:G1536,MATCH(\"D\",G1527:G1536,0)))=\"D\",\"D\",\"\"),_xlfn.IFNA(IF((INDEX(G1527:G1536,MATCH(\"Ca\",G1527:G1536,0)))=\"Ca\",\"C\",\"\"),_xlfn.IFNA(IF((INDEX(G1527:G1536,MATCH(\"C\",G1527:G1536,0)))=\"C\",\"C\",\"\"),_xlfn.IFNA(IF((INDEX(G1527:G1536,MATCH(\"B\",G1527:G1536,0)))=\"B\",\"B\",\"\"),_xlfn.IFNA(IF((INDEX(G1527:G1536,MATCH(\"A\",G1527:G1536,0)))=\"A\",\"A\",\"\"),_xlfn.IFNA(IF((INDEX(G1527:G1536,MATCH(\"n.a.\",G1527:G1536,0)))=\"n.a.\",\"\",\"\"),_xlfn.IFNA(IF((INDEX(G1527:G1536,MATCH(\"\",G1527:G1536,0)))=\"\",\"\",\"\"),\"\"))))))))","v":""},{"$f":"_xlfn.IFNA(IF((INDEX(H1527:H1536,MATCH(\"E\",H1527:H1536,0)))=\"E\",\"E\",\"\"),_xlfn.IFNA(IF((INDEX(H1527:H1536,MATCH(\"D (E)c\",H1527:H1536,0)))=\"D (E)c\",\"D (E)c\",\"\"),_xlfn.IFNA(IF((INDEX(H1527:H1536,MATCH(\"Db (E)c\",H1527:H1536,0)))=\"Db (E)c\",\"D (E)c\",\"\"),_xlfn.IFNA(IF((INDEX(H1527:H1536,MATCH(\"D\",H1527:H1536,0)))=\"D\",\"D\",\"\"),_xlfn.IFNA(IF((INDEX(H1527:H1536,MATCH(\"Cb\",H1527:H1536,0)))=\"Cb\",\"C\",\"\"),_xlfn.IFNA(IF((INDEX(H1527:H1536,MATCH(\"C\",H1527:H1536,0)))=\"C\",\"C\",\"\"),_xlfn.IFNA(IF((INDEX(H1527:H1536,MATCH(\"Bb\",H1527:H1536,0)))=\"Bb\",\"B\",\"\"),_xlfn.IFNA(IF((INDEX(H1527:H1536,MATCH(\"B\",H1527:H1536,0)))=\"B\",\"B\",\"\"),_xlfn.IFNA(IF((INDEX(H1527:H1536,MATCH(\"Ab\",H1527:H1536,0)))=\"Ab\",\"A\",\"\"),_xlfn.IFNA(IF((INDEX(H1527:H1536,MATCH(\"A\",H1527:H1536,0)))=\"A\",\"A\",\"\"),_xlfn.IFNA(IF((INDEX(H1527:H1536,MATCH(\"n.a.\",H1527:H1536,0)))=\"n.a.\",\"\",\"\"),_xlfn.IFNA(IF((INDEX(H1527:H1536,MATCH(\"\",H1527:H1536,0)))=\"\",\"\",\"\"),\"\"))))))))))))","v":""}]
[null,"\nHighest hazard level for all 'Uptake Routes' \n",null,null,{"$f":"_xlfn.IFNA(IF((INDEX(E1537:H1537,MATCH(\"E\",E1537:H1537,0)))=\"E\",\"E\",\"\"),_xlfn.IFNA(IF((INDEX(E1537:H1537,MATCH(\"D (E)c\",E1537:H1537,0)))=\"D (E)c\",\"D (E)\",\"\"),_xlfn.IFNA(IF((INDEX(E1537:H1537,MATCH(\"D\",E1537:H1537,0)))=\"D\",\"D\",\"\"),_xlfn.IFNA(IF((INDEX(E1537:H1537,MATCH(\"C\",E1537:H1537,0)))=\"C\",\"C\",\"\"),_xlfn.IFNA(IF((INDEX(E1537:H1537,MATCH(\"B\",E1537:H1537,0)))=\"B\",\"B\",\"\"),_xlfn.IFNA(IF((INDEX(E1537:H1537,MATCH(\"A\",E1537:H1537,0)))=\"A\",\"A\",\"\"),_xlfn.IFNA(IF((INDEX(E1537:H1537,MATCH(\"n.a.\",E1537:H1537,0)))=\"n.a.\",\"\",\"\"),_xlfn.IFNA(IF((INDEX(E1537:H1537,MATCH(\"\",E1537:H1537,0)))=\"\",\"\",\"\"),\"\"))))))))","v":""}]
[]
[]
[null,"\nStep 3: D(E) Assessment\nSkip this step if \nyour assessment above does not reveal a D(E) hazard level.\nHover over this cell for additional instructions.\n",null,null,"\nOverall hazard level\n",null,{"$f":"IF(AND(E1538=\"\",C1524=\"Yes\")=TRUE,\"B\",IF(E1538=\"\",\"\",(IF(AND(E1538=\"D (E)\",C1541=\"\"),\"D (E)\"&CHAR(10)&\"Find if cat. 1 acute tox.\",(IF(E1538<>\"D (E)\",E1538,(IF(AND(E1538=\"D (E)\",C1541=\"Yes\"),\"E\",(IF(AND(E1538=\"D (E)\",C1541=\"No\"),\"D\",\"\"))))))))))","v":""}]
[]
[{"$f":"IF(IF(MOD(ROWS(B$3:B1543),20)=1,INDEX('Summary Sheet'!$A$17:$A1580,INT(ROWS(B$3:B1543)/20)+1),\"\")=0,\"\",IF(MOD(ROWS(B$3:B1543),20)=1,INDEX('Summary Sheet'!$A$17:$A1580,INT(ROWS(B$3:B1543)/20)+1),\"\"))","v":78},"Hazard Level Assessment","for",{"$f":"IF(IF(MOD(ROWS(D$3:D1543),20)=1,INDEX('Summary Sheet'!$B$17:$B1580,INT(ROWS(D$3:D1543)/20)+1),\"\")=0,\"\",IF(MOD(ROWS(D$3:D1543),20)=1,INDEX('Summary Sheet'!$B$17:$B1580,INT(ROWS(D$3:D1543)/20)+1),\"\"))","v":""}]
[null,"\nStep 1: Physical & Environmental Hazard Statements/Codes\nFind Section 2 of the SDS and determine if the SDS has physical and/or environmental hazard statements/codes. Hover on this cell for additional instructions.\n",null,{"$f":"IF(IF(MOD(ROWS(D$3:D1544),20)=1,INDEX('Summary Sheet'!$B$17:$B1580,INT(ROWS(D$3:D1544)/20)+1),\"\")=0,\"\",IF(MOD(ROWS(D$3:D1544),20)=1,INDEX('Summary Sheet'!$B$17:$B1580,INT(ROWS(D$3:D1544)/20)+1),\"\"))","v":""}]
[null,"Step 2: Health Hazard Statements/Codes\nProvide the Health Hazard Statements or Codes from Section 2 of the SDS below. Hover on this cell for additional instructions.",null,{"$f":"IF(IF(MOD(ROWS(D$3:D1545),20)=1,INDEX('Summary Sheet'!$B$17:$B1580,INT(ROWS(D$3:D1545)/20)+1),\"\")=0,\"\",IF(MOD(ROWS(D$3:D1545),20)=1,INDEX('Summary Sheet'!$B$17:$B1580,INT(ROWS(D$3:D1545)/20)+1),\"\"))","v":""},"\nHazard Level\n"]
[null,null,null,{"$f":"IF(IF(MOD(ROWS(D$3:D1546),20)=1,INDEX('Summary Sheet'!$B$17:$B1580,INT(ROWS(D$3:D1546)/20)+1),\"\")=0,\"\",IF(MOD(ROWS(D$3:D1546),20)=1,INDEX('Summary Sheet'!$B$17:$B1580,INT(ROWS(D$3:D1546)/20)+1),\"\"))","v":""},"\nEye Damage\n","\nInhalation\n","\nLocal Skin Damage\n","\nSkin uptake, systemic\n"]
[1,null,{"$f":"_xlfn.IFNA(VLOOKUP(B1547,_!$A$7:$F$210,6,FALSE),\"\")","v":""},{"$f":"IF(IF(MOD(ROWS(D$3:D1547),20)=1,INDEX('Summary Sheet'!$B$17:$B1580,INT(ROWS(D$3:D1547)/20)+1),\"\")=0,\"\",IF(MOD(ROWS(D$3:D1547),20)=1,INDEX('Summary Sheet'!$B$17:$B1580,INT(ROWS(D$3:D1547)/20)+1),\"\"))","v":""},{"$f":"_xlfn.IFNA(IF(VLOOKUP(B1547,_!$A$7:$E$210,2,FALSE)=0, \"\", VLOOKUP(B1547,_!$A$7:$E$210,2,FALSE)),  \"\")","v":""},{"$f":"_xlfn.IFNA(IF(VLOOKUP(B1547,_!$A$7:$E$210,3,FALSE)=0, \"\", VLOOKUP(B1547,_!$A$7:$E$210,3,FALSE)), \"\")","v":""},{"$f":"_xlfn.IFNA(IF(VLOOKUP(B1547,_!$A$7:$E$210,4,FALSE)=0, \"\",VLOOKUP(B1547,_!$A$7:$E$210,4,FALSE)), \"\")","v":""},{"$f":"_xlfn.IFNA(IF(VLOOKUP(B1547,_!$A$7:$E$210,5,FALSE)=0,\"\",VLOOKUP(B1547,_!$A$7:$E$210,5,FALSE)), \"\")","v":""}]
[2,null,{"$f":"_xlfn.IFNA(VLOOKUP(B1548,_!$A$7:$F$210,6,FALSE),\"\")","v":""},{"$f":"IF(IF(MOD(ROWS(D$3:D1548),20)=1,INDEX('Summary Sheet'!$B$17:$B1580,INT(ROWS(D$3:D1548)/20)+1),\"\")=0,\"\",IF(MOD(ROWS(D$3:D1548),20)=1,INDEX('Summary Sheet'!$B$17:$B1580,INT(ROWS(D$3:D1548)/20)+1),\"\"))","v":""},{"$f":"_xlfn.IFNA(IF(VLOOKUP(B1548,_!$A$7:$E$210,2,FALSE)=0, \"\", VLOOKUP(B1548,_!$A$7:$E$210,2,FALSE)),  \"\")","v":""},{"$f":"_xlfn.IFNA(IF(VLOOKUP(B1548,_!$A$7:$E$210,3,FALSE)=0, \"\", VLOOKUP(B1548,_!$A$7:$E$210,3,FALSE)), \"\")","v":""},{"$f":"_xlfn.IFNA(IF(VLOOKUP(B1548,_!$A$7:$E$210,4,FALSE)=0, \"\",VLOOKUP(B1548,_!$A$7:$E$210,4,FALSE)), \"\")","v":""},{"$f":"_xlfn.IFNA(IF(VLOOKUP(B1548,_!$A$7:$E$210,5,FALSE)=0,\"\",VLOOKUP(B1548,_!$A$7:$E$210,5,FALSE)), \"\")","v":""}]
[3,null,{"$f":"_xlfn.IFNA(VLOOKUP(B1549,_!$A$7:$F$210,6,FALSE),\"\")","v":""},{"$f":"IF(IF(MOD(ROWS(D$3:D1549),20)=1,INDEX('Summary Sheet'!$B$17:$B1580,INT(ROWS(D$3:D1549)/20)+1),\"\")=0,\"\",IF(MOD(ROWS(D$3:D1549),20)=1,INDEX('Summary Sheet'!$B$17:$B1580,INT(ROWS(D$3:D1549)/20)+1),\"\"))","v":""},{"$f":"_xlfn.IFNA(IF(VLOOKUP(B1549,_!$A$7:$E$210,2,FALSE)=0, \"\", VLOOKUP(B1549,_!$A$7:$E$210,2,FALSE)),  \"\")","v":""},{"$f":"_xlfn.IFNA(IF(VLOOKUP(B1549,_!$A$7:$E$210,3,FALSE)=0, \"\", VLOOKUP(B1549,_!$A$7:$E$210,3,FALSE)), \"\")","v":""},{"$f":"_xlfn.IFNA(IF(VLOOKUP(B1549,_!$A$7:$E$210,4,FALSE)=0, \"\",VLOOKUP(B1549,_!$A$7:$E$210,4,FALSE)), \"\")","v":""},{"$f":"_xlfn.IFNA(IF(VLOOKUP(B1549,_!$A$7:$E$210,5,FALSE)=0,\"\",VLOOKUP(B1549,_!$A$7:$E$210,5,FALSE)), \"\")","v":""}]
[4,null,{"$f":"_xlfn.IFNA(VLOOKUP(B1550,_!$A$7:$F$210,6,FALSE),\"\")","v":""},{"$f":"IF(IF(MOD(ROWS(D$3:D1550),20)=1,INDEX('Summary Sheet'!$B$17:$B1580,INT(ROWS(D$3:D1550)/20)+1),\"\")=0,\"\",IF(MOD(ROWS(D$3:D1550),20)=1,INDEX('Summary Sheet'!$B$17:$B1580,INT(ROWS(D$3:D1550)/20)+1),\"\"))","v":""},{"$f":"_xlfn.IFNA(IF(VLOOKUP(B1550,_!$A$7:$E$210,2,FALSE)=0, \"\", VLOOKUP(B1550,_!$A$7:$E$210,2,FALSE)),  \"\")","v":""},{"$f":"_xlfn.IFNA(IF(VLOOKUP(B1550,_!$A$7:$E$210,3,FALSE)=0, \"\", VLOOKUP(B1550,_!$A$7:$E$210,3,FALSE)), \"\")","v":""},{"$f":"_xlfn.IFNA(IF(VLOOKUP(B1550,_!$A$7:$E$210,4,FALSE)=0, \"\",VLOOKUP(B1550,_!$A$7:$E$210,4,FALSE)), \"\")","v":""},{"$f":"_xlfn.IFNA(IF(VLOOKUP(B1550,_!$A$7:$E$210,5,FALSE)=0,\"\",VLOOKUP(B1550,_!$A$7:$E$210,5,FALSE)), \"\")","v":""}]
[5,null,{"$f":"_xlfn.IFNA(VLOOKUP(B1551,_!$A$7:$F$210,6,FALSE),\"\")","v":""},{"$f":"IF(IF(MOD(ROWS(D$3:D1551),20)=1,INDEX('Summary Sheet'!$B$17:$B1580,INT(ROWS(D$3:D1551)/20)+1),\"\")=0,\"\",IF(MOD(ROWS(D$3:D1551),20)=1,INDEX('Summary Sheet'!$B$17:$B1580,INT(ROWS(D$3:D1551)/20)+1),\"\"))","v":""},{"$f":"_xlfn.IFNA(IF(VLOOKUP(B1551,_!$A$7:$E$210,2,FALSE)=0, \"\", VLOOKUP(B1551,_!$A$7:$E$210,2,FALSE)),  \"\")","v":""},{"$f":"_xlfn.IFNA(IF(VLOOKUP(B1551,_!$A$7:$E$210,3,FALSE)=0, \"\", VLOOKUP(B1551,_!$A$7:$E$210,3,FALSE)), \"\")","v":""},{"$f":"_xlfn.IFNA(IF(VLOOKUP(B1551,_!$A$7:$E$210,4,FALSE)=0, \"\",VLOOKUP(B1551,_!$A$7:$E$210,4,FALSE)), \"\")","v":""},{"$f":"_xlfn.IFNA(IF(VLOOKUP(B1551,_!$A$7:$E$210,5,FALSE)=0,\"\",VLOOKUP(B1551,_!$A$7:$E$210,5,FALSE)), \"\")","v":""}]
[6,null,{"$f":"_xlfn.IFNA(VLOOKUP(B1552,_!$A$7:$F$210,6,FALSE),\"\")","v":""},{"$f":"IF(IF(MOD(ROWS(D$3:D1552),20)=1,INDEX('Summary Sheet'!$B$17:$B1580,INT(ROWS(D$3:D1552)/20)+1),\"\")=0,\"\",IF(MOD(ROWS(D$3:D1552),20)=1,INDEX('Summary Sheet'!$B$17:$B1580,INT(ROWS(D$3:D1552)/20)+1),\"\"))","v":""},{"$f":"_xlfn.IFNA(IF(VLOOKUP(B1552,_!$A$7:$E$210,2,FALSE)=0, \"\", VLOOKUP(B1552,_!$A$7:$E$210,2,FALSE)),  \"\")","v":""},{"$f":"_xlfn.IFNA(IF(VLOOKUP(B1552,_!$A$7:$E$210,3,FALSE)=0, \"\", VLOOKUP(B1552,_!$A$7:$E$210,3,FALSE)), \"\")","v":""},{"$f":"_xlfn.IFNA(IF(VLOOKUP(B1552,_!$A$7:$E$210,4,FALSE)=0, \"\",VLOOKUP(B1552,_!$A$7:$E$210,4,FALSE)), \"\")","v":""},{"$f":"_xlfn.IFNA(IF(VLOOKUP(B1552,_!$A$7:$E$210,5,FALSE)=0,\"\",VLOOKUP(B1552,_!$A$7:$E$210,5,FALSE)), \"\")","v":""}]
[7,null,{"$f":"_xlfn.IFNA(VLOOKUP(B1553,_!$A$7:$F$210,6,FALSE),\"\")","v":""},{"$f":"IF(IF(MOD(ROWS(D$3:D1553),20)=1,INDEX('Summary Sheet'!$B$17:$B1580,INT(ROWS(D$3:D1553)/20)+1),\"\")=0,\"\",IF(MOD(ROWS(D$3:D1553),20)=1,INDEX('Summary Sheet'!$B$17:$B1580,INT(ROWS(D$3:D1553)/20)+1),\"\"))","v":""},{"$f":"_xlfn.IFNA(IF(VLOOKUP(B1553,_!$A$7:$E$210,2,FALSE)=0, \"\", VLOOKUP(B1553,_!$A$7:$E$210,2,FALSE)),  \"\")","v":""},{"$f":"_xlfn.IFNA(IF(VLOOKUP(B1553,_!$A$7:$E$210,3,FALSE)=0, \"\", VLOOKUP(B1553,_!$A$7:$E$210,3,FALSE)), \"\")","v":""},{"$f":"_xlfn.IFNA(IF(VLOOKUP(B1553,_!$A$7:$E$210,4,FALSE)=0, \"\",VLOOKUP(B1553,_!$A$7:$E$210,4,FALSE)), \"\")","v":""},{"$f":"_xlfn.IFNA(IF(VLOOKUP(B1553,_!$A$7:$E$210,5,FALSE)=0,\"\",VLOOKUP(B1553,_!$A$7:$E$210,5,FALSE)), \"\")","v":""}]
[8,null,{"$f":"_xlfn.IFNA(VLOOKUP(B1554,_!$A$7:$F$210,6,FALSE),\"\")","v":""},{"$f":"IF(IF(MOD(ROWS(D$3:D1554),20)=1,INDEX('Summary Sheet'!$B$17:$B1580,INT(ROWS(D$3:D1554)/20)+1),\"\")=0,\"\",IF(MOD(ROWS(D$3:D1554),20)=1,INDEX('Summary Sheet'!$B$17:$B1580,INT(ROWS(D$3:D1554)/20)+1),\"\"))","v":""},{"$f":"_xlfn.IFNA(IF(VLOOKUP(B1554,_!$A$7:$E$210,2,FALSE)=0, \"\", VLOOKUP(B1554,_!$A$7:$E$210,2,FALSE)),  \"\")","v":""},{"$f":"_xlfn.IFNA(IF(VLOOKUP(B1554,_!$A$7:$E$210,3,FALSE)=0, \"\", VLOOKUP(B1554,_!$A$7:$E$210,3,FALSE)), \"\")","v":""},{"$f":"_xlfn.IFNA(IF(VLOOKUP(B1554,_!$A$7:$E$210,4,FALSE)=0, \"\",VLOOKUP(B1554,_!$A$7:$E$210,4,FALSE)), \"\")","v":""},{"$f":"_xlfn.IFNA(IF(VLOOKUP(B1554,_!$A$7:$E$210,5,FALSE)=0,\"\",VLOOKUP(B1554,_!$A$7:$E$210,5,FALSE)), \"\")","v":""}]
[9,null,{"$f":"_xlfn.IFNA(VLOOKUP(B1555,_!$A$7:$F$210,6,FALSE),\"\")","v":""},{"$f":"IF(IF(MOD(ROWS(D$3:D1555),20)=1,INDEX('Summary Sheet'!$B$17:$B1580,INT(ROWS(D$3:D1555)/20)+1),\"\")=0,\"\",IF(MOD(ROWS(D$3:D1555),20)=1,INDEX('Summary Sheet'!$B$17:$B1580,INT(ROWS(D$3:D1555)/20)+1),\"\"))","v":""},{"$f":"_xlfn.IFNA(IF(VLOOKUP(B1555,_!$A$7:$E$210,2,FALSE)=0, \"\", VLOOKUP(B1555,_!$A$7:$E$210,2,FALSE)),  \"\")","v":""},{"$f":"_xlfn.IFNA(IF(VLOOKUP(B1555,_!$A$7:$E$210,3,FALSE)=0, \"\", VLOOKUP(B1555,_!$A$7:$E$210,3,FALSE)), \"\")","v":""},{"$f":"_xlfn.IFNA(IF(VLOOKUP(B1555,_!$A$7:$E$210,4,FALSE)=0, \"\",VLOOKUP(B1555,_!$A$7:$E$210,4,FALSE)), \"\")","v":""},{"$f":"_xlfn.IFNA(IF(VLOOKUP(B1555,_!$A$7:$E$210,5,FALSE)=0,\"\",VLOOKUP(B1555,_!$A$7:$E$210,5,FALSE)), \"\")","v":""}]
[10,null,{"$f":"_xlfn.IFNA(VLOOKUP(B1556,_!$A$7:$F$210,6,FALSE),\"\")","v":""},{"$f":"IF(IF(MOD(ROWS(D$14:D1556),20)=1,INDEX('Summary Sheet'!$B$17:$B1580,INT(ROWS(D$14:D1556)/20)+1),\"\")=0,\"\",IF(MOD(ROWS(D$14:D1556),20)=1,INDEX('Summary Sheet'!$B$17:$B1580,INT(ROWS(D$14:D1556)/20)+1),\"\"))","v":""},{"$f":"_xlfn.IFNA(IF(VLOOKUP(B1556,_!$A$7:$E$210,2,FALSE)=0, \"\", VLOOKUP(B1556,_!$A$7:$E$210,2,FALSE)),  \"\")","v":""},{"$f":"_xlfn.IFNA(IF(VLOOKUP(B1556,_!$A$7:$E$210,3,FALSE)=0, \"\", VLOOKUP(B1556,_!$A$7:$E$210,3,FALSE)), \"\")","v":""},{"$f":"_xlfn.IFNA(IF(VLOOKUP(B1556,_!$A$7:$E$210,4,FALSE)=0, \"\",VLOOKUP(B1556,_!$A$7:$E$210,4,FALSE)), \"\")","v":""},{"$f":"_xlfn.IFNA(IF(VLOOKUP(B1556,_!$A$7:$E$210,5,FALSE)=0,\"\",VLOOKUP(B1556,_!$A$7:$E$210,5,FALSE)), \"\")","v":""}]
[null,"\nHighest hazard level for each ‘Uptake Route’\n",null,null,{"$f":"_xlfn.IFNA(IF((INDEX(E1547:E1556,MATCH(\"E\",E1547:E1556,0)))=\"E\",\"E\",\"\"),_xlfn.IFNA(IF((INDEX(E1547:E1556,MATCH(\"D\",E1547:E1556,0)))=\"D\",\"D\",\"\"),_xlfn.IFNA(IF((INDEX(E1547:E1556,MATCH(\"Ca\",E1547:E1556,0)))=\"Ca\",\"C\",\"\"),_xlfn.IFNA(IF((INDEX(E1547:E1556,MATCH(\"C\",E1547:E1556,0)))=\"C\",\"C\",\"\"),_xlfn.IFNA(IF((INDEX(E1547:E1556,MATCH(\"B\",E1547:E1556,0)))=\"B\",\"B\",\"\"),_xlfn.IFNA(IF((INDEX(E1547:E1556,MATCH(\"A\",E1547:E1556,0)))=\"A\",\"A\",\"\"),_xlfn.IFNA(IF((INDEX(E1547:E1556,MATCH(\"n.a.\",E1547:E1556,0)))=\"n.a.\",\"\",\"\"),_xlfn.IFNA(IF((INDEX(E1547:E1556,MATCH(\"\",E1547:E1556,0)))=\"\",\"\",\"\"),\"\"))))))))","v":""},{"$f":"_xlfn.IFNA(IF((INDEX(F1547:F1556,MATCH(\"E\",F1547:F1556,0)))=\"E\",\"E\",\"\"),_xlfn.IFNA(IF((INDEX(F1547:F1556,MATCH(\"D (E)c\",F1547:F1556,0)))=\"D (E)c\",\"D (E)c\",\"\"),_xlfn.IFNA(IF((INDEX(F1547:F1556,MATCH(\"Da (E)c\",F1547:F1556,0)))=\"Da (E)c\",\"D (E)c\",\"\"),_xlfn.IFNA(IF((INDEX(F1547:F1556,MATCH(\"D\",F1547:F1556,0)))=\"D\",\"D\",\"\"),_xlfn.IFNA(IF((INDEX(F1547:F1556,MATCH(\"Ca\",F1547:F1556,0)))=\"Ca\",\"C\",\"\"),_xlfn.IFNA(IF((INDEX(F1547:F1556,MATCH(\"C\",F1547:F1556,0)))=\"C\",\"C\",\"\"),_xlfn.IFNA(IF((INDEX(F1547:F1556,MATCH(\"Ba\",F1547:F1556,0)))=\"Ba\",\"B\",\"\"),_xlfn.IFNA(IF((INDEX(F1547:F1556,MATCH(\"B\",F1547:F1556,0)))=\"B\",\"B\",\"\"),_xlfn.IFNA(IF((INDEX(F1547:F1556,MATCH(\"Aa\",F1547:F1556,0)))=\"Aa\",\"A\",\"\"),_xlfn.IFNA(IF((INDEX(F1547:F1556,MATCH(\"A\",F1547:F1556,0)))=\"A\",\"A\",\"\"),_xlfn.IFNA(IF((INDEX(F1547:F1556,MATCH(\"n.a.\",F1547:F1556,0)))=\"n.a.\",\"\",\"\"),_xlfn.IFNA(IF((INDEX(F1547:F1556,MATCH(\"\",F1547:F1556,0)))=\"\",\"\",\"\"),\"\"))))))))))))","v":""},{"$f":"_xlfn.IFNA(IF((INDEX(G1547:G1556,MATCH(\"E\",G1547:G1556,0)))=\"E\",\"E\",\"\"),_xlfn.IFNA(IF((INDEX(G1547:G1556,MATCH(\"D\",G1547:G1556,0)))=\"D\",\"D\",\"\"),_xlfn.IFNA(IF((INDEX(G1547:G1556,MATCH(\"Ca\",G1547:G1556,0)))=\"Ca\",\"C\",\"\"),_xlfn.IFNA(IF((INDEX(G1547:G1556,MATCH(\"C\",G1547:G1556,0)))=\"C\",\"C\",\"\"),_xlfn.IFNA(IF((INDEX(G1547:G1556,MATCH(\"B\",G1547:G1556,0)))=\"B\",\"B\",\"\"),_xlfn.IFNA(IF((INDEX(G1547:G1556,MATCH(\"A\",G1547:G1556,0)))=\"A\",\"A\",\"\"),_xlfn.IFNA(IF((INDEX(G1547:G1556,MATCH(\"n.a.\",G1547:G1556,0)))=\"n.a.\",\"\",\"\"),_xlfn.IFNA(IF((INDEX(G1547:G1556,MATCH(\"\",G1547:G1556,0)))=\"\",\"\",\"\"),\"\"))))))))","v":""},{"$f":"_xlfn.IFNA(IF((INDEX(H1547:H1556,MATCH(\"E\",H1547:H1556,0)))=\"E\",\"E\",\"\"),_xlfn.IFNA(IF((INDEX(H1547:H1556,MATCH(\"D (E)c\",H1547:H1556,0)))=\"D (E)c\",\"D (E)c\",\"\"),_xlfn.IFNA(IF((INDEX(H1547:H1556,MATCH(\"Db (E)c\",H1547:H1556,0)))=\"Db (E)c\",\"D (E)c\",\"\"),_xlfn.IFNA(IF((INDEX(H1547:H1556,MATCH(\"D\",H1547:H1556,0)))=\"D\",\"D\",\"\"),_xlfn.IFNA(IF((INDEX(H1547:H1556,MATCH(\"Cb\",H1547:H1556,0)))=\"Cb\",\"C\",\"\"),_xlfn.IFNA(IF((INDEX(H1547:H1556,MATCH(\"C\",H1547:H1556,0)))=\"C\",\"C\",\"\"),_xlfn.IFNA(IF((INDEX(H1547:H1556,MATCH(\"Bb\",H1547:H1556,0)))=\"Bb\",\"B\",\"\"),_xlfn.IFNA(IF((INDEX(H1547:H1556,MATCH(\"B\",H1547:H1556,0)))=\"B\",\"B\",\"\"),_xlfn.IFNA(IF((INDEX(H1547:H1556,MATCH(\"Ab\",H1547:H1556,0)))=\"Ab\",\"A\",\"\"),_xlfn.IFNA(IF((INDEX(H1547:H1556,MATCH(\"A\",H1547:H1556,0)))=\"A\",\"A\",\"\"),_xlfn.IFNA(IF((INDEX(H1547:H1556,MATCH(\"n.a.\",H1547:H1556,0)))=\"n.a.\",\"\",\"\"),_xlfn.IFNA(IF((INDEX(H1547:H1556,MATCH(\"\",H1547:H1556,0)))=\"\",\"\",\"\"),\"\"))))))))))))","v":""}]
[null,"\nHighest hazard level for all 'Uptake Routes' \n",null,null,{"$f":"_xlfn.IFNA(IF((INDEX(E1557:H1557,MATCH(\"E\",E1557:H1557,0)))=\"E\",\"E\",\"\"),_xlfn.IFNA(IF((INDEX(E1557:H1557,MATCH(\"D (E)c\",E1557:H1557,0)))=\"D (E)c\",\"D (E)\",\"\"),_xlfn.IFNA(IF((INDEX(E1557:H1557,MATCH(\"D\",E1557:H1557,0)))=\"D\",\"D\",\"\"),_xlfn.IFNA(IF((INDEX(E1557:H1557,MATCH(\"C\",E1557:H1557,0)))=\"C\",\"C\",\"\"),_xlfn.IFNA(IF((INDEX(E1557:H1557,MATCH(\"B\",E1557:H1557,0)))=\"B\",\"B\",\"\"),_xlfn.IFNA(IF((INDEX(E1557:H1557,MATCH(\"A\",E1557:H1557,0)))=\"A\",\"A\",\"\"),_xlfn.IFNA(IF((INDEX(E1557:H1557,MATCH(\"n.a.\",E1557:H1557,0)))=\"n.a.\",\"\",\"\"),_xlfn.IFNA(IF((INDEX(E1557:H1557,MATCH(\"\",E1557:H1557,0)))=\"\",\"\",\"\"),\"\"))))))))","v":""}]
[]
[]
[null,"\nStep 3: D(E) Assessment\nSkip this step if \nyour assessment above does not reveal a D(E) hazard level.\nHover over this cell for additional instructions.\n",null,null,"\nOverall hazard level\n",null,{"$f":"IF(AND(E1558=\"\",C1544=\"Yes\")=TRUE,\"B\",IF(E1558=\"\",\"\",(IF(AND(E1558=\"D (E)\",C1561=\"\"),\"D (E)\"&CHAR(10)&\"Find if cat. 1 acute tox.\",(IF(E1558<>\"D (E)\",E1558,(IF(AND(E1558=\"D (E)\",C1561=\"Yes\"),\"E\",(IF(AND(E1558=\"D (E)\",C1561=\"No\"),\"D\",\"\"))))))))))","v":""}]
[]
[{"$f":"IF(IF(MOD(ROWS(B$3:B1563),20)=1,INDEX('Summary Sheet'!$A$17:$A1599,INT(ROWS(B$3:B1563)/20)+1),\"\")=0,\"\",IF(MOD(ROWS(B$3:B1563),20)=1,INDEX('Summary Sheet'!$A$17:$A1599,INT(ROWS(B$3:B1563)/20)+1),\"\"))","v":79},"Hazard Level Assessment","for",{"$f":"IF(IF(MOD(ROWS(D$3:D1563),20)=1,INDEX('Summary Sheet'!$B$17:$B1599,INT(ROWS(D$3:D1563)/20)+1),\"\")=0,\"\",IF(MOD(ROWS(D$3:D1563),20)=1,INDEX('Summary Sheet'!$B$17:$B1599,INT(ROWS(D$3:D1563)/20)+1),\"\"))","v":""}]
[null,"\nStep 1: Physical & Environmental Hazard Statements/Codes\nFind Section 2 of the SDS and determine if the SDS has physical and/or environmental hazard statements/codes. Hover on this cell for additional instructions.\n",null,{"$f":"IF(IF(MOD(ROWS(D$3:D1564),20)=1,INDEX('Summary Sheet'!$B$17:$B1599,INT(ROWS(D$3:D1564)/20)+1),\"\")=0,\"\",IF(MOD(ROWS(D$3:D1564),20)=1,INDEX('Summary Sheet'!$B$17:$B1599,INT(ROWS(D$3:D1564)/20)+1),\"\"))","v":""}]
[null,"Step 2: Health Hazard Statements/Codes\nProvide the Health Hazard Statements or Codes from Section 2 of the SDS below. Hover on this cell for additional instructions.",null,{"$f":"IF(IF(MOD(ROWS(D$3:D1565),20)=1,INDEX('Summary Sheet'!$B$17:$B1599,INT(ROWS(D$3:D1565)/20)+1),\"\")=0,\"\",IF(MOD(ROWS(D$3:D1565),20)=1,INDEX('Summary Sheet'!$B$17:$B1599,INT(ROWS(D$3:D1565)/20)+1),\"\"))","v":""},"\nHazard Level\n"]
[null,null,null,{"$f":"IF(IF(MOD(ROWS(D$3:D1566),20)=1,INDEX('Summary Sheet'!$B$17:$B1599,INT(ROWS(D$3:D1566)/20)+1),\"\")=0,\"\",IF(MOD(ROWS(D$3:D1566),20)=1,INDEX('Summary Sheet'!$B$17:$B1599,INT(ROWS(D$3:D1566)/20)+1),\"\"))","v":""},"\nEye Damage\n","\nInhalation\n","\nLocal Skin Damage\n","\nSkin uptake, systemic\n"]
[1,null,{"$f":"_xlfn.IFNA(VLOOKUP(B1567,_!$A$7:$F$210,6,FALSE),\"\")","v":""},{"$f":"IF(IF(MOD(ROWS(D$3:D1567),20)=1,INDEX('Summary Sheet'!$B$17:$B1599,INT(ROWS(D$3:D1567)/20)+1),\"\")=0,\"\",IF(MOD(ROWS(D$3:D1567),20)=1,INDEX('Summary Sheet'!$B$17:$B1599,INT(ROWS(D$3:D1567)/20)+1),\"\"))","v":""},{"$f":"_xlfn.IFNA(IF(VLOOKUP(B1567,_!$A$7:$E$210,2,FALSE)=0, \"\", VLOOKUP(B1567,_!$A$7:$E$210,2,FALSE)),  \"\")","v":""},{"$f":"_xlfn.IFNA(IF(VLOOKUP(B1567,_!$A$7:$E$210,3,FALSE)=0, \"\", VLOOKUP(B1567,_!$A$7:$E$210,3,FALSE)), \"\")","v":""},{"$f":"_xlfn.IFNA(IF(VLOOKUP(B1567,_!$A$7:$E$210,4,FALSE)=0, \"\",VLOOKUP(B1567,_!$A$7:$E$210,4,FALSE)), \"\")","v":""},{"$f":"_xlfn.IFNA(IF(VLOOKUP(B1567,_!$A$7:$E$210,5,FALSE)=0,\"\",VLOOKUP(B1567,_!$A$7:$E$210,5,FALSE)), \"\")","v":""}]
[2,null,{"$f":"_xlfn.IFNA(VLOOKUP(B1568,_!$A$7:$F$210,6,FALSE),\"\")","v":""},{"$f":"IF(IF(MOD(ROWS(D$3:D1568),20)=1,INDEX('Summary Sheet'!$B$17:$B1599,INT(ROWS(D$3:D1568)/20)+1),\"\")=0,\"\",IF(MOD(ROWS(D$3:D1568),20)=1,INDEX('Summary Sheet'!$B$17:$B1599,INT(ROWS(D$3:D1568)/20)+1),\"\"))","v":""},{"$f":"_xlfn.IFNA(IF(VLOOKUP(B1568,_!$A$7:$E$210,2,FALSE)=0, \"\", VLOOKUP(B1568,_!$A$7:$E$210,2,FALSE)),  \"\")","v":""},{"$f":"_xlfn.IFNA(IF(VLOOKUP(B1568,_!$A$7:$E$210,3,FALSE)=0, \"\", VLOOKUP(B1568,_!$A$7:$E$210,3,FALSE)), \"\")","v":""},{"$f":"_xlfn.IFNA(IF(VLOOKUP(B1568,_!$A$7:$E$210,4,FALSE)=0, \"\",VLOOKUP(B1568,_!$A$7:$E$210,4,FALSE)), \"\")","v":""},{"$f":"_xlfn.IFNA(IF(VLOOKUP(B1568,_!$A$7:$E$210,5,FALSE)=0,\"\",VLOOKUP(B1568,_!$A$7:$E$210,5,FALSE)), \"\")","v":""}]
[3,null,{"$f":"_xlfn.IFNA(VLOOKUP(B1569,_!$A$7:$F$210,6,FALSE),\"\")","v":""},{"$f":"IF(IF(MOD(ROWS(D$3:D1569),20)=1,INDEX('Summary Sheet'!$B$17:$B1599,INT(ROWS(D$3:D1569)/20)+1),\"\")=0,\"\",IF(MOD(ROWS(D$3:D1569),20)=1,INDEX('Summary Sheet'!$B$17:$B1599,INT(ROWS(D$3:D1569)/20)+1),\"\"))","v":""},{"$f":"_xlfn.IFNA(IF(VLOOKUP(B1569,_!$A$7:$E$210,2,FALSE)=0, \"\", VLOOKUP(B1569,_!$A$7:$E$210,2,FALSE)),  \"\")","v":""},{"$f":"_xlfn.IFNA(IF(VLOOKUP(B1569,_!$A$7:$E$210,3,FALSE)=0, \"\", VLOOKUP(B1569,_!$A$7:$E$210,3,FALSE)), \"\")","v":""},{"$f":"_xlfn.IFNA(IF(VLOOKUP(B1569,_!$A$7:$E$210,4,FALSE)=0, \"\",VLOOKUP(B1569,_!$A$7:$E$210,4,FALSE)), \"\")","v":""},{"$f":"_xlfn.IFNA(IF(VLOOKUP(B1569,_!$A$7:$E$210,5,FALSE)=0,\"\",VLOOKUP(B1569,_!$A$7:$E$210,5,FALSE)), \"\")","v":""}]
[4,null,{"$f":"_xlfn.IFNA(VLOOKUP(B1570,_!$A$7:$F$210,6,FALSE),\"\")","v":""},{"$f":"IF(IF(MOD(ROWS(D$3:D1570),20)=1,INDEX('Summary Sheet'!$B$17:$B1599,INT(ROWS(D$3:D1570)/20)+1),\"\")=0,\"\",IF(MOD(ROWS(D$3:D1570),20)=1,INDEX('Summary Sheet'!$B$17:$B1599,INT(ROWS(D$3:D1570)/20)+1),\"\"))","v":""},{"$f":"_xlfn.IFNA(IF(VLOOKUP(B1570,_!$A$7:$E$210,2,FALSE)=0, \"\", VLOOKUP(B1570,_!$A$7:$E$210,2,FALSE)),  \"\")","v":""},{"$f":"_xlfn.IFNA(IF(VLOOKUP(B1570,_!$A$7:$E$210,3,FALSE)=0, \"\", VLOOKUP(B1570,_!$A$7:$E$210,3,FALSE)), \"\")","v":""},{"$f":"_xlfn.IFNA(IF(VLOOKUP(B1570,_!$A$7:$E$210,4,FALSE)=0, \"\",VLOOKUP(B1570,_!$A$7:$E$210,4,FALSE)), \"\")","v":""},{"$f":"_xlfn.IFNA(IF(VLOOKUP(B1570,_!$A$7:$E$210,5,FALSE)=0,\"\",VLOOKUP(B1570,_!$A$7:$E$210,5,FALSE)), \"\")","v":""}]
[5,null,{"$f":"_xlfn.IFNA(VLOOKUP(B1571,_!$A$7:$F$210,6,FALSE),\"\")","v":""},{"$f":"IF(IF(MOD(ROWS(D$3:D1571),20)=1,INDEX('Summary Sheet'!$B$17:$B1599,INT(ROWS(D$3:D1571)/20)+1),\"\")=0,\"\",IF(MOD(ROWS(D$3:D1571),20)=1,INDEX('Summary Sheet'!$B$17:$B1599,INT(ROWS(D$3:D1571)/20)+1),\"\"))","v":""},{"$f":"_xlfn.IFNA(IF(VLOOKUP(B1571,_!$A$7:$E$210,2,FALSE)=0, \"\", VLOOKUP(B1571,_!$A$7:$E$210,2,FALSE)),  \"\")","v":""},{"$f":"_xlfn.IFNA(IF(VLOOKUP(B1571,_!$A$7:$E$210,3,FALSE)=0, \"\", VLOOKUP(B1571,_!$A$7:$E$210,3,FALSE)), \"\")","v":""},{"$f":"_xlfn.IFNA(IF(VLOOKUP(B1571,_!$A$7:$E$210,4,FALSE)=0, \"\",VLOOKUP(B1571,_!$A$7:$E$210,4,FALSE)), \"\")","v":""},{"$f":"_xlfn.IFNA(IF(VLOOKUP(B1571,_!$A$7:$E$210,5,FALSE)=0,\"\",VLOOKUP(B1571,_!$A$7:$E$210,5,FALSE)), \"\")","v":""}]
[6,null,{"$f":"_xlfn.IFNA(VLOOKUP(B1572,_!$A$7:$F$210,6,FALSE),\"\")","v":""},{"$f":"IF(IF(MOD(ROWS(D$3:D1572),20)=1,INDEX('Summary Sheet'!$B$17:$B1599,INT(ROWS(D$3:D1572)/20)+1),\"\")=0,\"\",IF(MOD(ROWS(D$3:D1572),20)=1,INDEX('Summary Sheet'!$B$17:$B1599,INT(ROWS(D$3:D1572)/20)+1),\"\"))","v":""},{"$f":"_xlfn.IFNA(IF(VLOOKUP(B1572,_!$A$7:$E$210,2,FALSE)=0, \"\", VLOOKUP(B1572,_!$A$7:$E$210,2,FALSE)),  \"\")","v":""},{"$f":"_xlfn.IFNA(IF(VLOOKUP(B1572,_!$A$7:$E$210,3,FALSE)=0, \"\", VLOOKUP(B1572,_!$A$7:$E$210,3,FALSE)), \"\")","v":""},{"$f":"_xlfn.IFNA(IF(VLOOKUP(B1572,_!$A$7:$E$210,4,FALSE)=0, \"\",VLOOKUP(B1572,_!$A$7:$E$210,4,FALSE)), \"\")","v":""},{"$f":"_xlfn.IFNA(IF(VLOOKUP(B1572,_!$A$7:$E$210,5,FALSE)=0,\"\",VLOOKUP(B1572,_!$A$7:$E$210,5,FALSE)), \"\")","v":""}]
[7,null,{"$f":"_xlfn.IFNA(VLOOKUP(B1573,_!$A$7:$F$210,6,FALSE),\"\")","v":""},{"$f":"IF(IF(MOD(ROWS(D$3:D1573),20)=1,INDEX('Summary Sheet'!$B$17:$B1599,INT(ROWS(D$3:D1573)/20)+1),\"\")=0,\"\",IF(MOD(ROWS(D$3:D1573),20)=1,INDEX('Summary Sheet'!$B$17:$B1599,INT(ROWS(D$3:D1573)/20)+1),\"\"))","v":""},{"$f":"_xlfn.IFNA(IF(VLOOKUP(B1573,_!$A$7:$E$210,2,FALSE)=0, \"\", VLOOKUP(B1573,_!$A$7:$E$210,2,FALSE)),  \"\")","v":""},{"$f":"_xlfn.IFNA(IF(VLOOKUP(B1573,_!$A$7:$E$210,3,FALSE)=0, \"\", VLOOKUP(B1573,_!$A$7:$E$210,3,FALSE)), \"\")","v":""},{"$f":"_xlfn.IFNA(IF(VLOOKUP(B1573,_!$A$7:$E$210,4,FALSE)=0, \"\",VLOOKUP(B1573,_!$A$7:$E$210,4,FALSE)), \"\")","v":""},{"$f":"_xlfn.IFNA(IF(VLOOKUP(B1573,_!$A$7:$E$210,5,FALSE)=0,\"\",VLOOKUP(B1573,_!$A$7:$E$210,5,FALSE)), \"\")","v":""}]
[8,null,{"$f":"_xlfn.IFNA(VLOOKUP(B1574,_!$A$7:$F$210,6,FALSE),\"\")","v":""},{"$f":"IF(IF(MOD(ROWS(D$3:D1574),20)=1,INDEX('Summary Sheet'!$B$17:$B1599,INT(ROWS(D$3:D1574)/20)+1),\"\")=0,\"\",IF(MOD(ROWS(D$3:D1574),20)=1,INDEX('Summary Sheet'!$B$17:$B1599,INT(ROWS(D$3:D1574)/20)+1),\"\"))","v":""},{"$f":"_xlfn.IFNA(IF(VLOOKUP(B1574,_!$A$7:$E$210,2,FALSE)=0, \"\", VLOOKUP(B1574,_!$A$7:$E$210,2,FALSE)),  \"\")","v":""},{"$f":"_xlfn.IFNA(IF(VLOOKUP(B1574,_!$A$7:$E$210,3,FALSE)=0, \"\", VLOOKUP(B1574,_!$A$7:$E$210,3,FALSE)), \"\")","v":""},{"$f":"_xlfn.IFNA(IF(VLOOKUP(B1574,_!$A$7:$E$210,4,FALSE)=0, \"\",VLOOKUP(B1574,_!$A$7:$E$210,4,FALSE)), \"\")","v":""},{"$f":"_xlfn.IFNA(IF(VLOOKUP(B1574,_!$A$7:$E$210,5,FALSE)=0,\"\",VLOOKUP(B1574,_!$A$7:$E$210,5,FALSE)), \"\")","v":""}]
[9,null,{"$f":"_xlfn.IFNA(VLOOKUP(B1575,_!$A$7:$F$210,6,FALSE),\"\")","v":""},{"$f":"IF(IF(MOD(ROWS(D$3:D1575),20)=1,INDEX('Summary Sheet'!$B$17:$B1599,INT(ROWS(D$3:D1575)/20)+1),\"\")=0,\"\",IF(MOD(ROWS(D$3:D1575),20)=1,INDEX('Summary Sheet'!$B$17:$B1599,INT(ROWS(D$3:D1575)/20)+1),\"\"))","v":""},{"$f":"_xlfn.IFNA(IF(VLOOKUP(B1575,_!$A$7:$E$210,2,FALSE)=0, \"\", VLOOKUP(B1575,_!$A$7:$E$210,2,FALSE)),  \"\")","v":""},{"$f":"_xlfn.IFNA(IF(VLOOKUP(B1575,_!$A$7:$E$210,3,FALSE)=0, \"\", VLOOKUP(B1575,_!$A$7:$E$210,3,FALSE)), \"\")","v":""},{"$f":"_xlfn.IFNA(IF(VLOOKUP(B1575,_!$A$7:$E$210,4,FALSE)=0, \"\",VLOOKUP(B1575,_!$A$7:$E$210,4,FALSE)), \"\")","v":""},{"$f":"_xlfn.IFNA(IF(VLOOKUP(B1575,_!$A$7:$E$210,5,FALSE)=0,\"\",VLOOKUP(B1575,_!$A$7:$E$210,5,FALSE)), \"\")","v":""}]
[10,null,{"$f":"_xlfn.IFNA(VLOOKUP(B1576,_!$A$7:$F$210,6,FALSE),\"\")","v":""},{"$f":"IF(IF(MOD(ROWS(D$14:D1576),20)=1,INDEX('Summary Sheet'!$B$17:$B1599,INT(ROWS(D$14:D1576)/20)+1),\"\")=0,\"\",IF(MOD(ROWS(D$14:D1576),20)=1,INDEX('Summary Sheet'!$B$17:$B1599,INT(ROWS(D$14:D1576)/20)+1),\"\"))","v":""},{"$f":"_xlfn.IFNA(IF(VLOOKUP(B1576,_!$A$7:$E$210,2,FALSE)=0, \"\", VLOOKUP(B1576,_!$A$7:$E$210,2,FALSE)),  \"\")","v":""},{"$f":"_xlfn.IFNA(IF(VLOOKUP(B1576,_!$A$7:$E$210,3,FALSE)=0, \"\", VLOOKUP(B1576,_!$A$7:$E$210,3,FALSE)), \"\")","v":""},{"$f":"_xlfn.IFNA(IF(VLOOKUP(B1576,_!$A$7:$E$210,4,FALSE)=0, \"\",VLOOKUP(B1576,_!$A$7:$E$210,4,FALSE)), \"\")","v":""},{"$f":"_xlfn.IFNA(IF(VLOOKUP(B1576,_!$A$7:$E$210,5,FALSE)=0,\"\",VLOOKUP(B1576,_!$A$7:$E$210,5,FALSE)), \"\")","v":""}]
[null,"\nHighest hazard level for each ‘Uptake Route’\n",null,null,{"$f":"_xlfn.IFNA(IF((INDEX(E1567:E1576,MATCH(\"E\",E1567:E1576,0)))=\"E\",\"E\",\"\"),_xlfn.IFNA(IF((INDEX(E1567:E1576,MATCH(\"D\",E1567:E1576,0)))=\"D\",\"D\",\"\"),_xlfn.IFNA(IF((INDEX(E1567:E1576,MATCH(\"Ca\",E1567:E1576,0)))=\"Ca\",\"C\",\"\"),_xlfn.IFNA(IF((INDEX(E1567:E1576,MATCH(\"C\",E1567:E1576,0)))=\"C\",\"C\",\"\"),_xlfn.IFNA(IF((INDEX(E1567:E1576,MATCH(\"B\",E1567:E1576,0)))=\"B\",\"B\",\"\"),_xlfn.IFNA(IF((INDEX(E1567:E1576,MATCH(\"A\",E1567:E1576,0)))=\"A\",\"A\",\"\"),_xlfn.IFNA(IF((INDEX(E1567:E1576,MATCH(\"n.a.\",E1567:E1576,0)))=\"n.a.\",\"\",\"\"),_xlfn.IFNA(IF((INDEX(E1567:E1576,MATCH(\"\",E1567:E1576,0)))=\"\",\"\",\"\"),\"\"))))))))","v":""},{"$f":"_xlfn.IFNA(IF((INDEX(F1567:F1576,MATCH(\"E\",F1567:F1576,0)))=\"E\",\"E\",\"\"),_xlfn.IFNA(IF((INDEX(F1567:F1576,MATCH(\"D (E)c\",F1567:F1576,0)))=\"D (E)c\",\"D (E)c\",\"\"),_xlfn.IFNA(IF((INDEX(F1567:F1576,MATCH(\"Da (E)c\",F1567:F1576,0)))=\"Da (E)c\",\"D (E)c\",\"\"),_xlfn.IFNA(IF((INDEX(F1567:F1576,MATCH(\"D\",F1567:F1576,0)))=\"D\",\"D\",\"\"),_xlfn.IFNA(IF((INDEX(F1567:F1576,MATCH(\"Ca\",F1567:F1576,0)))=\"Ca\",\"C\",\"\"),_xlfn.IFNA(IF((INDEX(F1567:F1576,MATCH(\"C\",F1567:F1576,0)))=\"C\",\"C\",\"\"),_xlfn.IFNA(IF((INDEX(F1567:F1576,MATCH(\"Ba\",F1567:F1576,0)))=\"Ba\",\"B\",\"\"),_xlfn.IFNA(IF((INDEX(F1567:F1576,MATCH(\"B\",F1567:F1576,0)))=\"B\",\"B\",\"\"),_xlfn.IFNA(IF((INDEX(F1567:F1576,MATCH(\"Aa\",F1567:F1576,0)))=\"Aa\",\"A\",\"\"),_xlfn.IFNA(IF((INDEX(F1567:F1576,MATCH(\"A\",F1567:F1576,0)))=\"A\",\"A\",\"\"),_xlfn.IFNA(IF((INDEX(F1567:F1576,MATCH(\"n.a.\",F1567:F1576,0)))=\"n.a.\",\"\",\"\"),_xlfn.IFNA(IF((INDEX(F1567:F1576,MATCH(\"\",F1567:F1576,0)))=\"\",\"\",\"\"),\"\"))))))))))))","v":""},{"$f":"_xlfn.IFNA(IF((INDEX(G1567:G1576,MATCH(\"E\",G1567:G1576,0)))=\"E\",\"E\",\"\"),_xlfn.IFNA(IF((INDEX(G1567:G1576,MATCH(\"D\",G1567:G1576,0)))=\"D\",\"D\",\"\"),_xlfn.IFNA(IF((INDEX(G1567:G1576,MATCH(\"Ca\",G1567:G1576,0)))=\"Ca\",\"C\",\"\"),_xlfn.IFNA(IF((INDEX(G1567:G1576,MATCH(\"C\",G1567:G1576,0)))=\"C\",\"C\",\"\"),_xlfn.IFNA(IF((INDEX(G1567:G1576,MATCH(\"B\",G1567:G1576,0)))=\"B\",\"B\",\"\"),_xlfn.IFNA(IF((INDEX(G1567:G1576,MATCH(\"A\",G1567:G1576,0)))=\"A\",\"A\",\"\"),_xlfn.IFNA(IF((INDEX(G1567:G1576,MATCH(\"n.a.\",G1567:G1576,0)))=\"n.a.\",\"\",\"\"),_xlfn.IFNA(IF((INDEX(G1567:G1576,MATCH(\"\",G1567:G1576,0)))=\"\",\"\",\"\"),\"\"))))))))","v":""},{"$f":"_xlfn.IFNA(IF((INDEX(H1567:H1576,MATCH(\"E\",H1567:H1576,0)))=\"E\",\"E\",\"\"),_xlfn.IFNA(IF((INDEX(H1567:H1576,MATCH(\"D (E)c\",H1567:H1576,0)))=\"D (E)c\",\"D (E)c\",\"\"),_xlfn.IFNA(IF((INDEX(H1567:H1576,MATCH(\"Db (E)c\",H1567:H1576,0)))=\"Db (E)c\",\"D (E)c\",\"\"),_xlfn.IFNA(IF((INDEX(H1567:H1576,MATCH(\"D\",H1567:H1576,0)))=\"D\",\"D\",\"\"),_xlfn.IFNA(IF((INDEX(H1567:H1576,MATCH(\"Cb\",H1567:H1576,0)))=\"Cb\",\"C\",\"\"),_xlfn.IFNA(IF((INDEX(H1567:H1576,MATCH(\"C\",H1567:H1576,0)))=\"C\",\"C\",\"\"),_xlfn.IFNA(IF((INDEX(H1567:H1576,MATCH(\"Bb\",H1567:H1576,0)))=\"Bb\",\"B\",\"\"),_xlfn.IFNA(IF((INDEX(H1567:H1576,MATCH(\"B\",H1567:H1576,0)))=\"B\",\"B\",\"\"),_xlfn.IFNA(IF((INDEX(H1567:H1576,MATCH(\"Ab\",H1567:H1576,0)))=\"Ab\",\"A\",\"\"),_xlfn.IFNA(IF((INDEX(H1567:H1576,MATCH(\"A\",H1567:H1576,0)))=\"A\",\"A\",\"\"),_xlfn.IFNA(IF((INDEX(H1567:H1576,MATCH(\"n.a.\",H1567:H1576,0)))=\"n.a.\",\"\",\"\"),_xlfn.IFNA(IF((INDEX(H1567:H1576,MATCH(\"\",H1567:H1576,0)))=\"\",\"\",\"\"),\"\"))))))))))))","v":""}]
[null,"\nHighest hazard level for all 'Uptake Routes' \n",null,null,{"$f":"_xlfn.IFNA(IF((INDEX(E1577:H1577,MATCH(\"E\",E1577:H1577,0)))=\"E\",\"E\",\"\"),_xlfn.IFNA(IF((INDEX(E1577:H1577,MATCH(\"D (E)c\",E1577:H1577,0)))=\"D (E)c\",\"D (E)\",\"\"),_xlfn.IFNA(IF((INDEX(E1577:H1577,MATCH(\"D\",E1577:H1577,0)))=\"D\",\"D\",\"\"),_xlfn.IFNA(IF((INDEX(E1577:H1577,MATCH(\"C\",E1577:H1577,0)))=\"C\",\"C\",\"\"),_xlfn.IFNA(IF((INDEX(E1577:H1577,MATCH(\"B\",E1577:H1577,0)))=\"B\",\"B\",\"\"),_xlfn.IFNA(IF((INDEX(E1577:H1577,MATCH(\"A\",E1577:H1577,0)))=\"A\",\"A\",\"\"),_xlfn.IFNA(IF((INDEX(E1577:H1577,MATCH(\"n.a.\",E1577:H1577,0)))=\"n.a.\",\"\",\"\"),_xlfn.IFNA(IF((INDEX(E1577:H1577,MATCH(\"\",E1577:H1577,0)))=\"\",\"\",\"\"),\"\"))))))))","v":""}]
[]
[]
[null,"\nStep 3: D(E) Assessment\nSkip this step if \nyour assessment above does not reveal a D(E) hazard level.\nHover over this cell for additional instructions.\n",null,null,"\nOverall hazard level\n",null,{"$f":"IF(AND(E1578=\"\",C1564=\"Yes\")=TRUE,\"B\",IF(E1578=\"\",\"\",(IF(AND(E1578=\"D (E)\",C1581=\"\"),\"D (E)\"&CHAR(10)&\"Find if cat. 1 acute tox.\",(IF(E1578<>\"D (E)\",E1578,(IF(AND(E1578=\"D (E)\",C1581=\"Yes\"),\"E\",(IF(AND(E1578=\"D (E)\",C1581=\"No\"),\"D\",\"\"))))))))))","v":""}]
[]
[{"$f":"IF(IF(MOD(ROWS(B$3:B1583),20)=1,INDEX('Summary Sheet'!$A$17:$A1618,INT(ROWS(B$3:B1583)/20)+1),\"\")=0,\"\",IF(MOD(ROWS(B$3:B1583),20)=1,INDEX('Summary Sheet'!$A$17:$A1618,INT(ROWS(B$3:B1583)/20)+1),\"\"))","v":80},"Hazard Level Assessment","for",{"$f":"IF(IF(MOD(ROWS(D$3:D1583),20)=1,INDEX('Summary Sheet'!$B$17:$B1618,INT(ROWS(D$3:D1583)/20)+1),\"\")=0,\"\",IF(MOD(ROWS(D$3:D1583),20)=1,INDEX('Summary Sheet'!$B$17:$B1618,INT(ROWS(D$3:D1583)/20)+1),\"\"))","v":""}]
[null,"\nStep 1: Physical & Environmental Hazard Statements/Codes\nFind Section 2 of the SDS and determine if the SDS has physical and/or environmental hazard statements/codes. Hover on this cell for additional instructions.\n",null,{"$f":"IF(IF(MOD(ROWS(D$3:D1584),20)=1,INDEX('Summary Sheet'!$B$17:$B1618,INT(ROWS(D$3:D1584)/20)+1),\"\")=0,\"\",IF(MOD(ROWS(D$3:D1584),20)=1,INDEX('Summary Sheet'!$B$17:$B1618,INT(ROWS(D$3:D1584)/20)+1),\"\"))","v":""}]
[null,"Step 2: Health Hazard Statements/Codes\nProvide the Health Hazard Statements or Codes from Section 2 of the SDS below. Hover on this cell for additional instructions.",null,{"$f":"IF(IF(MOD(ROWS(D$3:D1585),20)=1,INDEX('Summary Sheet'!$B$17:$B1618,INT(ROWS(D$3:D1585)/20)+1),\"\")=0,\"\",IF(MOD(ROWS(D$3:D1585),20)=1,INDEX('Summary Sheet'!$B$17:$B1618,INT(ROWS(D$3:D1585)/20)+1),\"\"))","v":""},"\nHazard Level\n"]
[null,null,null,{"$f":"IF(IF(MOD(ROWS(D$3:D1586),20)=1,INDEX('Summary Sheet'!$B$17:$B1618,INT(ROWS(D$3:D1586)/20)+1),\"\")=0,\"\",IF(MOD(ROWS(D$3:D1586),20)=1,INDEX('Summary Sheet'!$B$17:$B1618,INT(ROWS(D$3:D1586)/20)+1),\"\"))","v":""},"\nEye Damage\n","\nInhalation\n","\nLocal Skin Damage\n","\nSkin uptake, systemic\n"]
[1,null,{"$f":"_xlfn.IFNA(VLOOKUP(B1587,_!$A$7:$F$210,6,FALSE),\"\")","v":""},{"$f":"IF(IF(MOD(ROWS(D$3:D1587),20)=1,INDEX('Summary Sheet'!$B$17:$B1618,INT(ROWS(D$3:D1587)/20)+1),\"\")=0,\"\",IF(MOD(ROWS(D$3:D1587),20)=1,INDEX('Summary Sheet'!$B$17:$B1618,INT(ROWS(D$3:D1587)/20)+1),\"\"))","v":""},{"$f":"_xlfn.IFNA(IF(VLOOKUP(B1587,_!$A$7:$E$210,2,FALSE)=0, \"\", VLOOKUP(B1587,_!$A$7:$E$210,2,FALSE)),  \"\")","v":""},{"$f":"_xlfn.IFNA(IF(VLOOKUP(B1587,_!$A$7:$E$210,3,FALSE)=0, \"\", VLOOKUP(B1587,_!$A$7:$E$210,3,FALSE)), \"\")","v":""},{"$f":"_xlfn.IFNA(IF(VLOOKUP(B1587,_!$A$7:$E$210,4,FALSE)=0, \"\",VLOOKUP(B1587,_!$A$7:$E$210,4,FALSE)), \"\")","v":""},{"$f":"_xlfn.IFNA(IF(VLOOKUP(B1587,_!$A$7:$E$210,5,FALSE)=0,\"\",VLOOKUP(B1587,_!$A$7:$E$210,5,FALSE)), \"\")","v":""}]
[2,null,{"$f":"_xlfn.IFNA(VLOOKUP(B1588,_!$A$7:$F$210,6,FALSE),\"\")","v":""},{"$f":"IF(IF(MOD(ROWS(D$3:D1588),20)=1,INDEX('Summary Sheet'!$B$17:$B1618,INT(ROWS(D$3:D1588)/20)+1),\"\")=0,\"\",IF(MOD(ROWS(D$3:D1588),20)=1,INDEX('Summary Sheet'!$B$17:$B1618,INT(ROWS(D$3:D1588)/20)+1),\"\"))","v":""},{"$f":"_xlfn.IFNA(IF(VLOOKUP(B1588,_!$A$7:$E$210,2,FALSE)=0, \"\", VLOOKUP(B1588,_!$A$7:$E$210,2,FALSE)),  \"\")","v":""},{"$f":"_xlfn.IFNA(IF(VLOOKUP(B1588,_!$A$7:$E$210,3,FALSE)=0, \"\", VLOOKUP(B1588,_!$A$7:$E$210,3,FALSE)), \"\")","v":""},{"$f":"_xlfn.IFNA(IF(VLOOKUP(B1588,_!$A$7:$E$210,4,FALSE)=0, \"\",VLOOKUP(B1588,_!$A$7:$E$210,4,FALSE)), \"\")","v":""},{"$f":"_xlfn.IFNA(IF(VLOOKUP(B1588,_!$A$7:$E$210,5,FALSE)=0,\"\",VLOOKUP(B1588,_!$A$7:$E$210,5,FALSE)), \"\")","v":""}]
[3,null,{"$f":"_xlfn.IFNA(VLOOKUP(B1589,_!$A$7:$F$210,6,FALSE),\"\")","v":""},{"$f":"IF(IF(MOD(ROWS(D$3:D1589),20)=1,INDEX('Summary Sheet'!$B$17:$B1618,INT(ROWS(D$3:D1589)/20)+1),\"\")=0,\"\",IF(MOD(ROWS(D$3:D1589),20)=1,INDEX('Summary Sheet'!$B$17:$B1618,INT(ROWS(D$3:D1589)/20)+1),\"\"))","v":""},{"$f":"_xlfn.IFNA(IF(VLOOKUP(B1589,_!$A$7:$E$210,2,FALSE)=0, \"\", VLOOKUP(B1589,_!$A$7:$E$210,2,FALSE)),  \"\")","v":""},{"$f":"_xlfn.IFNA(IF(VLOOKUP(B1589,_!$A$7:$E$210,3,FALSE)=0, \"\", VLOOKUP(B1589,_!$A$7:$E$210,3,FALSE)), \"\")","v":""},{"$f":"_xlfn.IFNA(IF(VLOOKUP(B1589,_!$A$7:$E$210,4,FALSE)=0, \"\",VLOOKUP(B1589,_!$A$7:$E$210,4,FALSE)), \"\")","v":""},{"$f":"_xlfn.IFNA(IF(VLOOKUP(B1589,_!$A$7:$E$210,5,FALSE)=0,\"\",VLOOKUP(B1589,_!$A$7:$E$210,5,FALSE)), \"\")","v":""}]
[4,null,{"$f":"_xlfn.IFNA(VLOOKUP(B1590,_!$A$7:$F$210,6,FALSE),\"\")","v":""},{"$f":"IF(IF(MOD(ROWS(D$3:D1590),20)=1,INDEX('Summary Sheet'!$B$17:$B1618,INT(ROWS(D$3:D1590)/20)+1),\"\")=0,\"\",IF(MOD(ROWS(D$3:D1590),20)=1,INDEX('Summary Sheet'!$B$17:$B1618,INT(ROWS(D$3:D1590)/20)+1),\"\"))","v":""},{"$f":"_xlfn.IFNA(IF(VLOOKUP(B1590,_!$A$7:$E$210,2,FALSE)=0, \"\", VLOOKUP(B1590,_!$A$7:$E$210,2,FALSE)),  \"\")","v":""},{"$f":"_xlfn.IFNA(IF(VLOOKUP(B1590,_!$A$7:$E$210,3,FALSE)=0, \"\", VLOOKUP(B1590,_!$A$7:$E$210,3,FALSE)), \"\")","v":""},{"$f":"_xlfn.IFNA(IF(VLOOKUP(B1590,_!$A$7:$E$210,4,FALSE)=0, \"\",VLOOKUP(B1590,_!$A$7:$E$210,4,FALSE)), \"\")","v":""},{"$f":"_xlfn.IFNA(IF(VLOOKUP(B1590,_!$A$7:$E$210,5,FALSE)=0,\"\",VLOOKUP(B1590,_!$A$7:$E$210,5,FALSE)), \"\")","v":""}]
[5,null,{"$f":"_xlfn.IFNA(VLOOKUP(B1591,_!$A$7:$F$210,6,FALSE),\"\")","v":""},{"$f":"IF(IF(MOD(ROWS(D$3:D1591),20)=1,INDEX('Summary Sheet'!$B$17:$B1618,INT(ROWS(D$3:D1591)/20)+1),\"\")=0,\"\",IF(MOD(ROWS(D$3:D1591),20)=1,INDEX('Summary Sheet'!$B$17:$B1618,INT(ROWS(D$3:D1591)/20)+1),\"\"))","v":""},{"$f":"_xlfn.IFNA(IF(VLOOKUP(B1591,_!$A$7:$E$210,2,FALSE)=0, \"\", VLOOKUP(B1591,_!$A$7:$E$210,2,FALSE)),  \"\")","v":""},{"$f":"_xlfn.IFNA(IF(VLOOKUP(B1591,_!$A$7:$E$210,3,FALSE)=0, \"\", VLOOKUP(B1591,_!$A$7:$E$210,3,FALSE)), \"\")","v":""},{"$f":"_xlfn.IFNA(IF(VLOOKUP(B1591,_!$A$7:$E$210,4,FALSE)=0, \"\",VLOOKUP(B1591,_!$A$7:$E$210,4,FALSE)), \"\")","v":""},{"$f":"_xlfn.IFNA(IF(VLOOKUP(B1591,_!$A$7:$E$210,5,FALSE)=0,\"\",VLOOKUP(B1591,_!$A$7:$E$210,5,FALSE)), \"\")","v":""}]
[6,null,{"$f":"_xlfn.IFNA(VLOOKUP(B1592,_!$A$7:$F$210,6,FALSE),\"\")","v":""},{"$f":"IF(IF(MOD(ROWS(D$3:D1592),20)=1,INDEX('Summary Sheet'!$B$17:$B1618,INT(ROWS(D$3:D1592)/20)+1),\"\")=0,\"\",IF(MOD(ROWS(D$3:D1592),20)=1,INDEX('Summary Sheet'!$B$17:$B1618,INT(ROWS(D$3:D1592)/20)+1),\"\"))","v":""},{"$f":"_xlfn.IFNA(IF(VLOOKUP(B1592,_!$A$7:$E$210,2,FALSE)=0, \"\", VLOOKUP(B1592,_!$A$7:$E$210,2,FALSE)),  \"\")","v":""},{"$f":"_xlfn.IFNA(IF(VLOOKUP(B1592,_!$A$7:$E$210,3,FALSE)=0, \"\", VLOOKUP(B1592,_!$A$7:$E$210,3,FALSE)), \"\")","v":""},{"$f":"_xlfn.IFNA(IF(VLOOKUP(B1592,_!$A$7:$E$210,4,FALSE)=0, \"\",VLOOKUP(B1592,_!$A$7:$E$210,4,FALSE)), \"\")","v":""},{"$f":"_xlfn.IFNA(IF(VLOOKUP(B1592,_!$A$7:$E$210,5,FALSE)=0,\"\",VLOOKUP(B1592,_!$A$7:$E$210,5,FALSE)), \"\")","v":""}]
[7,null,{"$f":"_xlfn.IFNA(VLOOKUP(B1593,_!$A$7:$F$210,6,FALSE),\"\")","v":""},{"$f":"IF(IF(MOD(ROWS(D$3:D1593),20)=1,INDEX('Summary Sheet'!$B$17:$B1618,INT(ROWS(D$3:D1593)/20)+1),\"\")=0,\"\",IF(MOD(ROWS(D$3:D1593),20)=1,INDEX('Summary Sheet'!$B$17:$B1618,INT(ROWS(D$3:D1593)/20)+1),\"\"))","v":""},{"$f":"_xlfn.IFNA(IF(VLOOKUP(B1593,_!$A$7:$E$210,2,FALSE)=0, \"\", VLOOKUP(B1593,_!$A$7:$E$210,2,FALSE)),  \"\")","v":""},{"$f":"_xlfn.IFNA(IF(VLOOKUP(B1593,_!$A$7:$E$210,3,FALSE)=0, \"\", VLOOKUP(B1593,_!$A$7:$E$210,3,FALSE)), \"\")","v":""},{"$f":"_xlfn.IFNA(IF(VLOOKUP(B1593,_!$A$7:$E$210,4,FALSE)=0, \"\",VLOOKUP(B1593,_!$A$7:$E$210,4,FALSE)), \"\")","v":""},{"$f":"_xlfn.IFNA(IF(VLOOKUP(B1593,_!$A$7:$E$210,5,FALSE)=0,\"\",VLOOKUP(B1593,_!$A$7:$E$210,5,FALSE)), \"\")","v":""}]
[8,null,{"$f":"_xlfn.IFNA(VLOOKUP(B1594,_!$A$7:$F$210,6,FALSE),\"\")","v":""},{"$f":"IF(IF(MOD(ROWS(D$3:D1594),20)=1,INDEX('Summary Sheet'!$B$17:$B1618,INT(ROWS(D$3:D1594)/20)+1),\"\")=0,\"\",IF(MOD(ROWS(D$3:D1594),20)=1,INDEX('Summary Sheet'!$B$17:$B1618,INT(ROWS(D$3:D1594)/20)+1),\"\"))","v":""},{"$f":"_xlfn.IFNA(IF(VLOOKUP(B1594,_!$A$7:$E$210,2,FALSE)=0, \"\", VLOOKUP(B1594,_!$A$7:$E$210,2,FALSE)),  \"\")","v":""},{"$f":"_xlfn.IFNA(IF(VLOOKUP(B1594,_!$A$7:$E$210,3,FALSE)=0, \"\", VLOOKUP(B1594,_!$A$7:$E$210,3,FALSE)), \"\")","v":""},{"$f":"_xlfn.IFNA(IF(VLOOKUP(B1594,_!$A$7:$E$210,4,FALSE)=0, \"\",VLOOKUP(B1594,_!$A$7:$E$210,4,FALSE)), \"\")","v":""},{"$f":"_xlfn.IFNA(IF(VLOOKUP(B1594,_!$A$7:$E$210,5,FALSE)=0,\"\",VLOOKUP(B1594,_!$A$7:$E$210,5,FALSE)), \"\")","v":""}]
[9,null,{"$f":"_xlfn.IFNA(VLOOKUP(B1595,_!$A$7:$F$210,6,FALSE),\"\")","v":""},{"$f":"IF(IF(MOD(ROWS(D$3:D1595),20)=1,INDEX('Summary Sheet'!$B$17:$B1618,INT(ROWS(D$3:D1595)/20)+1),\"\")=0,\"\",IF(MOD(ROWS(D$3:D1595),20)=1,INDEX('Summary Sheet'!$B$17:$B1618,INT(ROWS(D$3:D1595)/20)+1),\"\"))","v":""},{"$f":"_xlfn.IFNA(IF(VLOOKUP(B1595,_!$A$7:$E$210,2,FALSE)=0, \"\", VLOOKUP(B1595,_!$A$7:$E$210,2,FALSE)),  \"\")","v":""},{"$f":"_xlfn.IFNA(IF(VLOOKUP(B1595,_!$A$7:$E$210,3,FALSE)=0, \"\", VLOOKUP(B1595,_!$A$7:$E$210,3,FALSE)), \"\")","v":""},{"$f":"_xlfn.IFNA(IF(VLOOKUP(B1595,_!$A$7:$E$210,4,FALSE)=0, \"\",VLOOKUP(B1595,_!$A$7:$E$210,4,FALSE)), \"\")","v":""},{"$f":"_xlfn.IFNA(IF(VLOOKUP(B1595,_!$A$7:$E$210,5,FALSE)=0,\"\",VLOOKUP(B1595,_!$A$7:$E$210,5,FALSE)), \"\")","v":""}]
[10,null,{"$f":"_xlfn.IFNA(VLOOKUP(B1596,_!$A$7:$F$210,6,FALSE),\"\")","v":""},{"$f":"IF(IF(MOD(ROWS(D$14:D1596),20)=1,INDEX('Summary Sheet'!$B$17:$B1618,INT(ROWS(D$14:D1596)/20)+1),\"\")=0,\"\",IF(MOD(ROWS(D$14:D1596),20)=1,INDEX('Summary Sheet'!$B$17:$B1618,INT(ROWS(D$14:D1596)/20)+1),\"\"))","v":""},{"$f":"_xlfn.IFNA(IF(VLOOKUP(B1596,_!$A$7:$E$210,2,FALSE)=0, \"\", VLOOKUP(B1596,_!$A$7:$E$210,2,FALSE)),  \"\")","v":""},{"$f":"_xlfn.IFNA(IF(VLOOKUP(B1596,_!$A$7:$E$210,3,FALSE)=0, \"\", VLOOKUP(B1596,_!$A$7:$E$210,3,FALSE)), \"\")","v":""},{"$f":"_xlfn.IFNA(IF(VLOOKUP(B1596,_!$A$7:$E$210,4,FALSE)=0, \"\",VLOOKUP(B1596,_!$A$7:$E$210,4,FALSE)), \"\")","v":""},{"$f":"_xlfn.IFNA(IF(VLOOKUP(B1596,_!$A$7:$E$210,5,FALSE)=0,\"\",VLOOKUP(B1596,_!$A$7:$E$210,5,FALSE)), \"\")","v":""}]
[null,"\nHighest hazard level for each ‘Uptake Route’\n",null,null,{"$f":"_xlfn.IFNA(IF((INDEX(E1587:E1596,MATCH(\"E\",E1587:E1596,0)))=\"E\",\"E\",\"\"),_xlfn.IFNA(IF((INDEX(E1587:E1596,MATCH(\"D\",E1587:E1596,0)))=\"D\",\"D\",\"\"),_xlfn.IFNA(IF((INDEX(E1587:E1596,MATCH(\"Ca\",E1587:E1596,0)))=\"Ca\",\"C\",\"\"),_xlfn.IFNA(IF((INDEX(E1587:E1596,MATCH(\"C\",E1587:E1596,0)))=\"C\",\"C\",\"\"),_xlfn.IFNA(IF((INDEX(E1587:E1596,MATCH(\"B\",E1587:E1596,0)))=\"B\",\"B\",\"\"),_xlfn.IFNA(IF((INDEX(E1587:E1596,MATCH(\"A\",E1587:E1596,0)))=\"A\",\"A\",\"\"),_xlfn.IFNA(IF((INDEX(E1587:E1596,MATCH(\"n.a.\",E1587:E1596,0)))=\"n.a.\",\"\",\"\"),_xlfn.IFNA(IF((INDEX(E1587:E1596,MATCH(\"\",E1587:E1596,0)))=\"\",\"\",\"\"),\"\"))))))))","v":""},{"$f":"_xlfn.IFNA(IF((INDEX(F1587:F1596,MATCH(\"E\",F1587:F1596,0)))=\"E\",\"E\",\"\"),_xlfn.IFNA(IF((INDEX(F1587:F1596,MATCH(\"D (E)c\",F1587:F1596,0)))=\"D (E)c\",\"D (E)c\",\"\"),_xlfn.IFNA(IF((INDEX(F1587:F1596,MATCH(\"Da (E)c\",F1587:F1596,0)))=\"Da (E)c\",\"D (E)c\",\"\"),_xlfn.IFNA(IF((INDEX(F1587:F1596,MATCH(\"D\",F1587:F1596,0)))=\"D\",\"D\",\"\"),_xlfn.IFNA(IF((INDEX(F1587:F1596,MATCH(\"Ca\",F1587:F1596,0)))=\"Ca\",\"C\",\"\"),_xlfn.IFNA(IF((INDEX(F1587:F1596,MATCH(\"C\",F1587:F1596,0)))=\"C\",\"C\",\"\"),_xlfn.IFNA(IF((INDEX(F1587:F1596,MATCH(\"Ba\",F1587:F1596,0)))=\"Ba\",\"B\",\"\"),_xlfn.IFNA(IF((INDEX(F1587:F1596,MATCH(\"B\",F1587:F1596,0)))=\"B\",\"B\",\"\"),_xlfn.IFNA(IF((INDEX(F1587:F1596,MATCH(\"Aa\",F1587:F1596,0)))=\"Aa\",\"A\",\"\"),_xlfn.IFNA(IF((INDEX(F1587:F1596,MATCH(\"A\",F1587:F1596,0)))=\"A\",\"A\",\"\"),_xlfn.IFNA(IF((INDEX(F1587:F1596,MATCH(\"n.a.\",F1587:F1596,0)))=\"n.a.\",\"\",\"\"),_xlfn.IFNA(IF((INDEX(F1587:F1596,MATCH(\"\",F1587:F1596,0)))=\"\",\"\",\"\"),\"\"))))))))))))","v":""},{"$f":"_xlfn.IFNA(IF((INDEX(G1587:G1596,MATCH(\"E\",G1587:G1596,0)))=\"E\",\"E\",\"\"),_xlfn.IFNA(IF((INDEX(G1587:G1596,MATCH(\"D\",G1587:G1596,0)))=\"D\",\"D\",\"\"),_xlfn.IFNA(IF((INDEX(G1587:G1596,MATCH(\"Ca\",G1587:G1596,0)))=\"Ca\",\"C\",\"\"),_xlfn.IFNA(IF((INDEX(G1587:G1596,MATCH(\"C\",G1587:G1596,0)))=\"C\",\"C\",\"\"),_xlfn.IFNA(IF((INDEX(G1587:G1596,MATCH(\"B\",G1587:G1596,0)))=\"B\",\"B\",\"\"),_xlfn.IFNA(IF((INDEX(G1587:G1596,MATCH(\"A\",G1587:G1596,0)))=\"A\",\"A\",\"\"),_xlfn.IFNA(IF((INDEX(G1587:G1596,MATCH(\"n.a.\",G1587:G1596,0)))=\"n.a.\",\"\",\"\"),_xlfn.IFNA(IF((INDEX(G1587:G1596,MATCH(\"\",G1587:G1596,0)))=\"\",\"\",\"\"),\"\"))))))))","v":""},{"$f":"_xlfn.IFNA(IF((INDEX(H1587:H1596,MATCH(\"E\",H1587:H1596,0)))=\"E\",\"E\",\"\"),_xlfn.IFNA(IF((INDEX(H1587:H1596,MATCH(\"D (E)c\",H1587:H1596,0)))=\"D (E)c\",\"D (E)c\",\"\"),_xlfn.IFNA(IF((INDEX(H1587:H1596,MATCH(\"Db (E)c\",H1587:H1596,0)))=\"Db (E)c\",\"D (E)c\",\"\"),_xlfn.IFNA(IF((INDEX(H1587:H1596,MATCH(\"D\",H1587:H1596,0)))=\"D\",\"D\",\"\"),_xlfn.IFNA(IF((INDEX(H1587:H1596,MATCH(\"Cb\",H1587:H1596,0)))=\"Cb\",\"C\",\"\"),_xlfn.IFNA(IF((INDEX(H1587:H1596,MATCH(\"C\",H1587:H1596,0)))=\"C\",\"C\",\"\"),_xlfn.IFNA(IF((INDEX(H1587:H1596,MATCH(\"Bb\",H1587:H1596,0)))=\"Bb\",\"B\",\"\"),_xlfn.IFNA(IF((INDEX(H1587:H1596,MATCH(\"B\",H1587:H1596,0)))=\"B\",\"B\",\"\"),_xlfn.IFNA(IF((INDEX(H1587:H1596,MATCH(\"Ab\",H1587:H1596,0)))=\"Ab\",\"A\",\"\"),_xlfn.IFNA(IF((INDEX(H1587:H1596,MATCH(\"A\",H1587:H1596,0)))=\"A\",\"A\",\"\"),_xlfn.IFNA(IF((INDEX(H1587:H1596,MATCH(\"n.a.\",H1587:H1596,0)))=\"n.a.\",\"\",\"\"),_xlfn.IFNA(IF((INDEX(H1587:H1596,MATCH(\"\",H1587:H1596,0)))=\"\",\"\",\"\"),\"\"))))))))))))","v":""}]
[null,"\nHighest hazard level for all 'Uptake Routes' \n",null,null,{"$f":"_xlfn.IFNA(IF((INDEX(E1597:H1597,MATCH(\"E\",E1597:H1597,0)))=\"E\",\"E\",\"\"),_xlfn.IFNA(IF((INDEX(E1597:H1597,MATCH(\"D (E)c\",E1597:H1597,0)))=\"D (E)c\",\"D (E)\",\"\"),_xlfn.IFNA(IF((INDEX(E1597:H1597,MATCH(\"D\",E1597:H1597,0)))=\"D\",\"D\",\"\"),_xlfn.IFNA(IF((INDEX(E1597:H1597,MATCH(\"C\",E1597:H1597,0)))=\"C\",\"C\",\"\"),_xlfn.IFNA(IF((INDEX(E1597:H1597,MATCH(\"B\",E1597:H1597,0)))=\"B\",\"B\",\"\"),_xlfn.IFNA(IF((INDEX(E1597:H1597,MATCH(\"A\",E1597:H1597,0)))=\"A\",\"A\",\"\"),_xlfn.IFNA(IF((INDEX(E1597:H1597,MATCH(\"n.a.\",E1597:H1597,0)))=\"n.a.\",\"\",\"\"),_xlfn.IFNA(IF((INDEX(E1597:H1597,MATCH(\"\",E1597:H1597,0)))=\"\",\"\",\"\"),\"\"))))))))","v":""}]
[]
[]
[null,"\nStep 3: D(E) Assessment\nSkip this step if \nyour assessment above does not reveal a D(E) hazard level.\nHover over this cell for additional instructions.\n",null,null,"\nOverall hazard level\n",null,{"$f":"IF(AND(E1598=\"\",C1584=\"Yes\")=TRUE,\"B\",IF(E1598=\"\",\"\",(IF(AND(E1598=\"D (E)\",C1601=\"\"),\"D (E)\"&CHAR(10)&\"Find if cat. 1 acute tox.\",(IF(E1598<>\"D (E)\",E1598,(IF(AND(E1598=\"D (E)\",C1601=\"Yes\"),\"E\",(IF(AND(E1598=\"D (E)\",C1601=\"No\"),\"D\",\"\"))))))))))","v":""}]
[]
[{"$f":"IF(IF(MOD(ROWS(B$3:B1603),20)=1,INDEX('Summary Sheet'!$A$17:$A1637,INT(ROWS(B$3:B1603)/20)+1),\"\")=0,\"\",IF(MOD(ROWS(B$3:B1603),20)=1,INDEX('Summary Sheet'!$A$17:$A1637,INT(ROWS(B$3:B1603)/20)+1),\"\"))","v":81},"Hazard Level Assessment","for",{"$f":"IF(IF(MOD(ROWS(D$3:D1603),20)=1,INDEX('Summary Sheet'!$B$17:$B1637,INT(ROWS(D$3:D1603)/20)+1),\"\")=0,\"\",IF(MOD(ROWS(D$3:D1603),20)=1,INDEX('Summary Sheet'!$B$17:$B1637,INT(ROWS(D$3:D1603)/20)+1),\"\"))","v":""}]
[null,"\nStep 1: Physical & Environmental Hazard Statements/Codes\nFind Section 2 of the SDS and determine if the SDS has physical and/or environmental hazard statements/codes. Hover on this cell for additional instructions.\n",null,{"$f":"IF(IF(MOD(ROWS(D$3:D1604),20)=1,INDEX('Summary Sheet'!$B$17:$B1637,INT(ROWS(D$3:D1604)/20)+1),\"\")=0,\"\",IF(MOD(ROWS(D$3:D1604),20)=1,INDEX('Summary Sheet'!$B$17:$B1637,INT(ROWS(D$3:D1604)/20)+1),\"\"))","v":""}]
[null,"Step 2: Health Hazard Statements/Codes\nProvide the Health Hazard Statements or Codes from Section 2 of the SDS below. Hover on this cell for additional instructions.",null,{"$f":"IF(IF(MOD(ROWS(D$3:D1605),20)=1,INDEX('Summary Sheet'!$B$17:$B1637,INT(ROWS(D$3:D1605)/20)+1),\"\")=0,\"\",IF(MOD(ROWS(D$3:D1605),20)=1,INDEX('Summary Sheet'!$B$17:$B1637,INT(ROWS(D$3:D1605)/20)+1),\"\"))","v":""},"\nHazard Level\n"]
[null,null,null,{"$f":"IF(IF(MOD(ROWS(D$3:D1606),20)=1,INDEX('Summary Sheet'!$B$17:$B1637,INT(ROWS(D$3:D1606)/20)+1),\"\")=0,\"\",IF(MOD(ROWS(D$3:D1606),20)=1,INDEX('Summary Sheet'!$B$17:$B1637,INT(ROWS(D$3:D1606)/20)+1),\"\"))","v":""},"\nEye Damage\n","\nInhalation\n","\nLocal Skin Damage\n","\nSkin uptake, systemic\n"]
[1,null,{"$f":"_xlfn.IFNA(VLOOKUP(B1607,_!$A$7:$F$210,6,FALSE),\"\")","v":""},{"$f":"IF(IF(MOD(ROWS(D$3:D1607),20)=1,INDEX('Summary Sheet'!$B$17:$B1637,INT(ROWS(D$3:D1607)/20)+1),\"\")=0,\"\",IF(MOD(ROWS(D$3:D1607),20)=1,INDEX('Summary Sheet'!$B$17:$B1637,INT(ROWS(D$3:D1607)/20)+1),\"\"))","v":""},{"$f":"_xlfn.IFNA(IF(VLOOKUP(B1607,_!$A$7:$E$210,2,FALSE)=0, \"\", VLOOKUP(B1607,_!$A$7:$E$210,2,FALSE)),  \"\")","v":""},{"$f":"_xlfn.IFNA(IF(VLOOKUP(B1607,_!$A$7:$E$210,3,FALSE)=0, \"\", VLOOKUP(B1607,_!$A$7:$E$210,3,FALSE)), \"\")","v":""},{"$f":"_xlfn.IFNA(IF(VLOOKUP(B1607,_!$A$7:$E$210,4,FALSE)=0, \"\",VLOOKUP(B1607,_!$A$7:$E$210,4,FALSE)), \"\")","v":""},{"$f":"_xlfn.IFNA(IF(VLOOKUP(B1607,_!$A$7:$E$210,5,FALSE)=0,\"\",VLOOKUP(B1607,_!$A$7:$E$210,5,FALSE)), \"\")","v":""}]
[2,null,{"$f":"_xlfn.IFNA(VLOOKUP(B1608,_!$A$7:$F$210,6,FALSE),\"\")","v":""},{"$f":"IF(IF(MOD(ROWS(D$3:D1608),20)=1,INDEX('Summary Sheet'!$B$17:$B1637,INT(ROWS(D$3:D1608)/20)+1),\"\")=0,\"\",IF(MOD(ROWS(D$3:D1608),20)=1,INDEX('Summary Sheet'!$B$17:$B1637,INT(ROWS(D$3:D1608)/20)+1),\"\"))","v":""},{"$f":"_xlfn.IFNA(IF(VLOOKUP(B1608,_!$A$7:$E$210,2,FALSE)=0, \"\", VLOOKUP(B1608,_!$A$7:$E$210,2,FALSE)),  \"\")","v":""},{"$f":"_xlfn.IFNA(IF(VLOOKUP(B1608,_!$A$7:$E$210,3,FALSE)=0, \"\", VLOOKUP(B1608,_!$A$7:$E$210,3,FALSE)), \"\")","v":""},{"$f":"_xlfn.IFNA(IF(VLOOKUP(B1608,_!$A$7:$E$210,4,FALSE)=0, \"\",VLOOKUP(B1608,_!$A$7:$E$210,4,FALSE)), \"\")","v":""},{"$f":"_xlfn.IFNA(IF(VLOOKUP(B1608,_!$A$7:$E$210,5,FALSE)=0,\"\",VLOOKUP(B1608,_!$A$7:$E$210,5,FALSE)), \"\")","v":""}]
[3,null,{"$f":"_xlfn.IFNA(VLOOKUP(B1609,_!$A$7:$F$210,6,FALSE),\"\")","v":""},{"$f":"IF(IF(MOD(ROWS(D$3:D1609),20)=1,INDEX('Summary Sheet'!$B$17:$B1637,INT(ROWS(D$3:D1609)/20)+1),\"\")=0,\"\",IF(MOD(ROWS(D$3:D1609),20)=1,INDEX('Summary Sheet'!$B$17:$B1637,INT(ROWS(D$3:D1609)/20)+1),\"\"))","v":""},{"$f":"_xlfn.IFNA(IF(VLOOKUP(B1609,_!$A$7:$E$210,2,FALSE)=0, \"\", VLOOKUP(B1609,_!$A$7:$E$210,2,FALSE)),  \"\")","v":""},{"$f":"_xlfn.IFNA(IF(VLOOKUP(B1609,_!$A$7:$E$210,3,FALSE)=0, \"\", VLOOKUP(B1609,_!$A$7:$E$210,3,FALSE)), \"\")","v":""},{"$f":"_xlfn.IFNA(IF(VLOOKUP(B1609,_!$A$7:$E$210,4,FALSE)=0, \"\",VLOOKUP(B1609,_!$A$7:$E$210,4,FALSE)), \"\")","v":""},{"$f":"_xlfn.IFNA(IF(VLOOKUP(B1609,_!$A$7:$E$210,5,FALSE)=0,\"\",VLOOKUP(B1609,_!$A$7:$E$210,5,FALSE)), \"\")","v":""}]
[4,null,{"$f":"_xlfn.IFNA(VLOOKUP(B1610,_!$A$7:$F$210,6,FALSE),\"\")","v":""},{"$f":"IF(IF(MOD(ROWS(D$3:D1610),20)=1,INDEX('Summary Sheet'!$B$17:$B1637,INT(ROWS(D$3:D1610)/20)+1),\"\")=0,\"\",IF(MOD(ROWS(D$3:D1610),20)=1,INDEX('Summary Sheet'!$B$17:$B1637,INT(ROWS(D$3:D1610)/20)+1),\"\"))","v":""},{"$f":"_xlfn.IFNA(IF(VLOOKUP(B1610,_!$A$7:$E$210,2,FALSE)=0, \"\", VLOOKUP(B1610,_!$A$7:$E$210,2,FALSE)),  \"\")","v":""},{"$f":"_xlfn.IFNA(IF(VLOOKUP(B1610,_!$A$7:$E$210,3,FALSE)=0, \"\", VLOOKUP(B1610,_!$A$7:$E$210,3,FALSE)), \"\")","v":""},{"$f":"_xlfn.IFNA(IF(VLOOKUP(B1610,_!$A$7:$E$210,4,FALSE)=0, \"\",VLOOKUP(B1610,_!$A$7:$E$210,4,FALSE)), \"\")","v":""},{"$f":"_xlfn.IFNA(IF(VLOOKUP(B1610,_!$A$7:$E$210,5,FALSE)=0,\"\",VLOOKUP(B1610,_!$A$7:$E$210,5,FALSE)), \"\")","v":""}]
[5,null,{"$f":"_xlfn.IFNA(VLOOKUP(B1611,_!$A$7:$F$210,6,FALSE),\"\")","v":""},{"$f":"IF(IF(MOD(ROWS(D$3:D1611),20)=1,INDEX('Summary Sheet'!$B$17:$B1637,INT(ROWS(D$3:D1611)/20)+1),\"\")=0,\"\",IF(MOD(ROWS(D$3:D1611),20)=1,INDEX('Summary Sheet'!$B$17:$B1637,INT(ROWS(D$3:D1611)/20)+1),\"\"))","v":""},{"$f":"_xlfn.IFNA(IF(VLOOKUP(B1611,_!$A$7:$E$210,2,FALSE)=0, \"\", VLOOKUP(B1611,_!$A$7:$E$210,2,FALSE)),  \"\")","v":""},{"$f":"_xlfn.IFNA(IF(VLOOKUP(B1611,_!$A$7:$E$210,3,FALSE)=0, \"\", VLOOKUP(B1611,_!$A$7:$E$210,3,FALSE)), \"\")","v":""},{"$f":"_xlfn.IFNA(IF(VLOOKUP(B1611,_!$A$7:$E$210,4,FALSE)=0, \"\",VLOOKUP(B1611,_!$A$7:$E$210,4,FALSE)), \"\")","v":""},{"$f":"_xlfn.IFNA(IF(VLOOKUP(B1611,_!$A$7:$E$210,5,FALSE)=0,\"\",VLOOKUP(B1611,_!$A$7:$E$210,5,FALSE)), \"\")","v":""}]
[6,null,{"$f":"_xlfn.IFNA(VLOOKUP(B1612,_!$A$7:$F$210,6,FALSE),\"\")","v":""},{"$f":"IF(IF(MOD(ROWS(D$3:D1612),20)=1,INDEX('Summary Sheet'!$B$17:$B1637,INT(ROWS(D$3:D1612)/20)+1),\"\")=0,\"\",IF(MOD(ROWS(D$3:D1612),20)=1,INDEX('Summary Sheet'!$B$17:$B1637,INT(ROWS(D$3:D1612)/20)+1),\"\"))","v":""},{"$f":"_xlfn.IFNA(IF(VLOOKUP(B1612,_!$A$7:$E$210,2,FALSE)=0, \"\", VLOOKUP(B1612,_!$A$7:$E$210,2,FALSE)),  \"\")","v":""},{"$f":"_xlfn.IFNA(IF(VLOOKUP(B1612,_!$A$7:$E$210,3,FALSE)=0, \"\", VLOOKUP(B1612,_!$A$7:$E$210,3,FALSE)), \"\")","v":""},{"$f":"_xlfn.IFNA(IF(VLOOKUP(B1612,_!$A$7:$E$210,4,FALSE)=0, \"\",VLOOKUP(B1612,_!$A$7:$E$210,4,FALSE)), \"\")","v":""},{"$f":"_xlfn.IFNA(IF(VLOOKUP(B1612,_!$A$7:$E$210,5,FALSE)=0,\"\",VLOOKUP(B1612,_!$A$7:$E$210,5,FALSE)), \"\")","v":""}]
[7,null,{"$f":"_xlfn.IFNA(VLOOKUP(B1613,_!$A$7:$F$210,6,FALSE),\"\")","v":""},{"$f":"IF(IF(MOD(ROWS(D$3:D1613),20)=1,INDEX('Summary Sheet'!$B$17:$B1637,INT(ROWS(D$3:D1613)/20)+1),\"\")=0,\"\",IF(MOD(ROWS(D$3:D1613),20)=1,INDEX('Summary Sheet'!$B$17:$B1637,INT(ROWS(D$3:D1613)/20)+1),\"\"))","v":""},{"$f":"_xlfn.IFNA(IF(VLOOKUP(B1613,_!$A$7:$E$210,2,FALSE)=0, \"\", VLOOKUP(B1613,_!$A$7:$E$210,2,FALSE)),  \"\")","v":""},{"$f":"_xlfn.IFNA(IF(VLOOKUP(B1613,_!$A$7:$E$210,3,FALSE)=0, \"\", VLOOKUP(B1613,_!$A$7:$E$210,3,FALSE)), \"\")","v":""},{"$f":"_xlfn.IFNA(IF(VLOOKUP(B1613,_!$A$7:$E$210,4,FALSE)=0, \"\",VLOOKUP(B1613,_!$A$7:$E$210,4,FALSE)), \"\")","v":""},{"$f":"_xlfn.IFNA(IF(VLOOKUP(B1613,_!$A$7:$E$210,5,FALSE)=0,\"\",VLOOKUP(B1613,_!$A$7:$E$210,5,FALSE)), \"\")","v":""}]
[8,null,{"$f":"_xlfn.IFNA(VLOOKUP(B1614,_!$A$7:$F$210,6,FALSE),\"\")","v":""},{"$f":"IF(IF(MOD(ROWS(D$3:D1614),20)=1,INDEX('Summary Sheet'!$B$17:$B1637,INT(ROWS(D$3:D1614)/20)+1),\"\")=0,\"\",IF(MOD(ROWS(D$3:D1614),20)=1,INDEX('Summary Sheet'!$B$17:$B1637,INT(ROWS(D$3:D1614)/20)+1),\"\"))","v":""},{"$f":"_xlfn.IFNA(IF(VLOOKUP(B1614,_!$A$7:$E$210,2,FALSE)=0, \"\", VLOOKUP(B1614,_!$A$7:$E$210,2,FALSE)),  \"\")","v":""},{"$f":"_xlfn.IFNA(IF(VLOOKUP(B1614,_!$A$7:$E$210,3,FALSE)=0, \"\", VLOOKUP(B1614,_!$A$7:$E$210,3,FALSE)), \"\")","v":""},{"$f":"_xlfn.IFNA(IF(VLOOKUP(B1614,_!$A$7:$E$210,4,FALSE)=0, \"\",VLOOKUP(B1614,_!$A$7:$E$210,4,FALSE)), \"\")","v":""},{"$f":"_xlfn.IFNA(IF(VLOOKUP(B1614,_!$A$7:$E$210,5,FALSE)=0,\"\",VLOOKUP(B1614,_!$A$7:$E$210,5,FALSE)), \"\")","v":""}]
[9,null,{"$f":"_xlfn.IFNA(VLOOKUP(B1615,_!$A$7:$F$210,6,FALSE),\"\")","v":""},{"$f":"IF(IF(MOD(ROWS(D$3:D1615),20)=1,INDEX('Summary Sheet'!$B$17:$B1637,INT(ROWS(D$3:D1615)/20)+1),\"\")=0,\"\",IF(MOD(ROWS(D$3:D1615),20)=1,INDEX('Summary Sheet'!$B$17:$B1637,INT(ROWS(D$3:D1615)/20)+1),\"\"))","v":""},{"$f":"_xlfn.IFNA(IF(VLOOKUP(B1615,_!$A$7:$E$210,2,FALSE)=0, \"\", VLOOKUP(B1615,_!$A$7:$E$210,2,FALSE)),  \"\")","v":""},{"$f":"_xlfn.IFNA(IF(VLOOKUP(B1615,_!$A$7:$E$210,3,FALSE)=0, \"\", VLOOKUP(B1615,_!$A$7:$E$210,3,FALSE)), \"\")","v":""},{"$f":"_xlfn.IFNA(IF(VLOOKUP(B1615,_!$A$7:$E$210,4,FALSE)=0, \"\",VLOOKUP(B1615,_!$A$7:$E$210,4,FALSE)), \"\")","v":""},{"$f":"_xlfn.IFNA(IF(VLOOKUP(B1615,_!$A$7:$E$210,5,FALSE)=0,\"\",VLOOKUP(B1615,_!$A$7:$E$210,5,FALSE)), \"\")","v":""}]
[10,null,{"$f":"_xlfn.IFNA(VLOOKUP(B1616,_!$A$7:$F$210,6,FALSE),\"\")","v":""},{"$f":"IF(IF(MOD(ROWS(D$14:D1616),20)=1,INDEX('Summary Sheet'!$B$17:$B1637,INT(ROWS(D$14:D1616)/20)+1),\"\")=0,\"\",IF(MOD(ROWS(D$14:D1616),20)=1,INDEX('Summary Sheet'!$B$17:$B1637,INT(ROWS(D$14:D1616)/20)+1),\"\"))","v":""},{"$f":"_xlfn.IFNA(IF(VLOOKUP(B1616,_!$A$7:$E$210,2,FALSE)=0, \"\", VLOOKUP(B1616,_!$A$7:$E$210,2,FALSE)),  \"\")","v":""},{"$f":"_xlfn.IFNA(IF(VLOOKUP(B1616,_!$A$7:$E$210,3,FALSE)=0, \"\", VLOOKUP(B1616,_!$A$7:$E$210,3,FALSE)), \"\")","v":""},{"$f":"_xlfn.IFNA(IF(VLOOKUP(B1616,_!$A$7:$E$210,4,FALSE)=0, \"\",VLOOKUP(B1616,_!$A$7:$E$210,4,FALSE)), \"\")","v":""},{"$f":"_xlfn.IFNA(IF(VLOOKUP(B1616,_!$A$7:$E$210,5,FALSE)=0,\"\",VLOOKUP(B1616,_!$A$7:$E$210,5,FALSE)), \"\")","v":""}]
[null,"\nHighest hazard level for each ‘Uptake Route’\n",null,null,{"$f":"_xlfn.IFNA(IF((INDEX(E1607:E1616,MATCH(\"E\",E1607:E1616,0)))=\"E\",\"E\",\"\"),_xlfn.IFNA(IF((INDEX(E1607:E1616,MATCH(\"D\",E1607:E1616,0)))=\"D\",\"D\",\"\"),_xlfn.IFNA(IF((INDEX(E1607:E1616,MATCH(\"Ca\",E1607:E1616,0)))=\"Ca\",\"C\",\"\"),_xlfn.IFNA(IF((INDEX(E1607:E1616,MATCH(\"C\",E1607:E1616,0)))=\"C\",\"C\",\"\"),_xlfn.IFNA(IF((INDEX(E1607:E1616,MATCH(\"B\",E1607:E1616,0)))=\"B\",\"B\",\"\"),_xlfn.IFNA(IF((INDEX(E1607:E1616,MATCH(\"A\",E1607:E1616,0)))=\"A\",\"A\",\"\"),_xlfn.IFNA(IF((INDEX(E1607:E1616,MATCH(\"n.a.\",E1607:E1616,0)))=\"n.a.\",\"\",\"\"),_xlfn.IFNA(IF((INDEX(E1607:E1616,MATCH(\"\",E1607:E1616,0)))=\"\",\"\",\"\"),\"\"))))))))","v":""},{"$f":"_xlfn.IFNA(IF((INDEX(F1607:F1616,MATCH(\"E\",F1607:F1616,0)))=\"E\",\"E\",\"\"),_xlfn.IFNA(IF((INDEX(F1607:F1616,MATCH(\"D (E)c\",F1607:F1616,0)))=\"D (E)c\",\"D (E)c\",\"\"),_xlfn.IFNA(IF((INDEX(F1607:F1616,MATCH(\"Da (E)c\",F1607:F1616,0)))=\"Da (E)c\",\"D (E)c\",\"\"),_xlfn.IFNA(IF((INDEX(F1607:F1616,MATCH(\"D\",F1607:F1616,0)))=\"D\",\"D\",\"\"),_xlfn.IFNA(IF((INDEX(F1607:F1616,MATCH(\"Ca\",F1607:F1616,0)))=\"Ca\",\"C\",\"\"),_xlfn.IFNA(IF((INDEX(F1607:F1616,MATCH(\"C\",F1607:F1616,0)))=\"C\",\"C\",\"\"),_xlfn.IFNA(IF((INDEX(F1607:F1616,MATCH(\"Ba\",F1607:F1616,0)))=\"Ba\",\"B\",\"\"),_xlfn.IFNA(IF((INDEX(F1607:F1616,MATCH(\"B\",F1607:F1616,0)))=\"B\",\"B\",\"\"),_xlfn.IFNA(IF((INDEX(F1607:F1616,MATCH(\"Aa\",F1607:F1616,0)))=\"Aa\",\"A\",\"\"),_xlfn.IFNA(IF((INDEX(F1607:F1616,MATCH(\"A\",F1607:F1616,0)))=\"A\",\"A\",\"\"),_xlfn.IFNA(IF((INDEX(F1607:F1616,MATCH(\"n.a.\",F1607:F1616,0)))=\"n.a.\",\"\",\"\"),_xlfn.IFNA(IF((INDEX(F1607:F1616,MATCH(\"\",F1607:F1616,0)))=\"\",\"\",\"\"),\"\"))))))))))))","v":""},{"$f":"_xlfn.IFNA(IF((INDEX(G1607:G1616,MATCH(\"E\",G1607:G1616,0)))=\"E\",\"E\",\"\"),_xlfn.IFNA(IF((INDEX(G1607:G1616,MATCH(\"D\",G1607:G1616,0)))=\"D\",\"D\",\"\"),_xlfn.IFNA(IF((INDEX(G1607:G1616,MATCH(\"Ca\",G1607:G1616,0)))=\"Ca\",\"C\",\"\"),_xlfn.IFNA(IF((INDEX(G1607:G1616,MATCH(\"C\",G1607:G1616,0)))=\"C\",\"C\",\"\"),_xlfn.IFNA(IF((INDEX(G1607:G1616,MATCH(\"B\",G1607:G1616,0)))=\"B\",\"B\",\"\"),_xlfn.IFNA(IF((INDEX(G1607:G1616,MATCH(\"A\",G1607:G1616,0)))=\"A\",\"A\",\"\"),_xlfn.IFNA(IF((INDEX(G1607:G1616,MATCH(\"n.a.\",G1607:G1616,0)))=\"n.a.\",\"\",\"\"),_xlfn.IFNA(IF((INDEX(G1607:G1616,MATCH(\"\",G1607:G1616,0)))=\"\",\"\",\"\"),\"\"))))))))","v":""},{"$f":"_xlfn.IFNA(IF((INDEX(H1607:H1616,MATCH(\"E\",H1607:H1616,0)))=\"E\",\"E\",\"\"),_xlfn.IFNA(IF((INDEX(H1607:H1616,MATCH(\"D (E)c\",H1607:H1616,0)))=\"D (E)c\",\"D (E)c\",\"\"),_xlfn.IFNA(IF((INDEX(H1607:H1616,MATCH(\"Db (E)c\",H1607:H1616,0)))=\"Db (E)c\",\"D (E)c\",\"\"),_xlfn.IFNA(IF((INDEX(H1607:H1616,MATCH(\"D\",H1607:H1616,0)))=\"D\",\"D\",\"\"),_xlfn.IFNA(IF((INDEX(H1607:H1616,MATCH(\"Cb\",H1607:H1616,0)))=\"Cb\",\"C\",\"\"),_xlfn.IFNA(IF((INDEX(H1607:H1616,MATCH(\"C\",H1607:H1616,0)))=\"C\",\"C\",\"\"),_xlfn.IFNA(IF((INDEX(H1607:H1616,MATCH(\"Bb\",H1607:H1616,0)))=\"Bb\",\"B\",\"\"),_xlfn.IFNA(IF((INDEX(H1607:H1616,MATCH(\"B\",H1607:H1616,0)))=\"B\",\"B\",\"\"),_xlfn.IFNA(IF((INDEX(H1607:H1616,MATCH(\"Ab\",H1607:H1616,0)))=\"Ab\",\"A\",\"\"),_xlfn.IFNA(IF((INDEX(H1607:H1616,MATCH(\"A\",H1607:H1616,0)))=\"A\",\"A\",\"\"),_xlfn.IFNA(IF((INDEX(H1607:H1616,MATCH(\"n.a.\",H1607:H1616,0)))=\"n.a.\",\"\",\"\"),_xlfn.IFNA(IF((INDEX(H1607:H1616,MATCH(\"\",H1607:H1616,0)))=\"\",\"\",\"\"),\"\"))))))))))))","v":""}]
[null,"\nHighest hazard level for all 'Uptake Routes' \n",null,null,{"$f":"_xlfn.IFNA(IF((INDEX(E1617:H1617,MATCH(\"E\",E1617:H1617,0)))=\"E\",\"E\",\"\"),_xlfn.IFNA(IF((INDEX(E1617:H1617,MATCH(\"D (E)c\",E1617:H1617,0)))=\"D (E)c\",\"D (E)\",\"\"),_xlfn.IFNA(IF((INDEX(E1617:H1617,MATCH(\"D\",E1617:H1617,0)))=\"D\",\"D\",\"\"),_xlfn.IFNA(IF((INDEX(E1617:H1617,MATCH(\"C\",E1617:H1617,0)))=\"C\",\"C\",\"\"),_xlfn.IFNA(IF((INDEX(E1617:H1617,MATCH(\"B\",E1617:H1617,0)))=\"B\",\"B\",\"\"),_xlfn.IFNA(IF((INDEX(E1617:H1617,MATCH(\"A\",E1617:H1617,0)))=\"A\",\"A\",\"\"),_xlfn.IFNA(IF((INDEX(E1617:H1617,MATCH(\"n.a.\",E1617:H1617,0)))=\"n.a.\",\"\",\"\"),_xlfn.IFNA(IF((INDEX(E1617:H1617,MATCH(\"\",E1617:H1617,0)))=\"\",\"\",\"\"),\"\"))))))))","v":""}]
[]
[]
[null,"\nStep 3: D(E) Assessment\nSkip this step if \nyour assessment above does not reveal a D(E) hazard level.\nHover over this cell for additional instructions.\n",null,null,"\nOverall hazard level\n",null,{"$f":"IF(AND(E1618=\"\",C1604=\"Yes\")=TRUE,\"B\",IF(E1618=\"\",\"\",(IF(AND(E1618=\"D (E)\",C1621=\"\"),\"D (E)\"&CHAR(10)&\"Find if cat. 1 acute tox.\",(IF(E1618<>\"D (E)\",E1618,(IF(AND(E1618=\"D (E)\",C1621=\"Yes\"),\"E\",(IF(AND(E1618=\"D (E)\",C1621=\"No\"),\"D\",\"\"))))))))))","v":""}]
[]
[{"$f":"IF(IF(MOD(ROWS(B$3:B1623),20)=1,INDEX('Summary Sheet'!$A$17:$A1656,INT(ROWS(B$3:B1623)/20)+1),\"\")=0,\"\",IF(MOD(ROWS(B$3:B1623),20)=1,INDEX('Summary Sheet'!$A$17:$A1656,INT(ROWS(B$3:B1623)/20)+1),\"\"))","v":82},"Hazard Level Assessment","for",{"$f":"IF(IF(MOD(ROWS(D$3:D1623),20)=1,INDEX('Summary Sheet'!$B$17:$B1656,INT(ROWS(D$3:D1623)/20)+1),\"\")=0,\"\",IF(MOD(ROWS(D$3:D1623),20)=1,INDEX('Summary Sheet'!$B$17:$B1656,INT(ROWS(D$3:D1623)/20)+1),\"\"))","v":""}]
[null,"\nStep 1: Physical & Environmental Hazard Statements/Codes\nFind Section 2 of the SDS and determine if the SDS has physical and/or environmental hazard statements/codes. Hover on this cell for additional instructions.\n",null,{"$f":"IF(IF(MOD(ROWS(D$3:D1624),20)=1,INDEX('Summary Sheet'!$B$17:$B1656,INT(ROWS(D$3:D1624)/20)+1),\"\")=0,\"\",IF(MOD(ROWS(D$3:D1624),20)=1,INDEX('Summary Sheet'!$B$17:$B1656,INT(ROWS(D$3:D1624)/20)+1),\"\"))","v":""}]
[null,"Step 2: Health Hazard Statements/Codes\nProvide the Health Hazard Statements or Codes from Section 2 of the SDS below. Hover on this cell for additional instructions.",null,{"$f":"IF(IF(MOD(ROWS(D$3:D1625),20)=1,INDEX('Summary Sheet'!$B$17:$B1656,INT(ROWS(D$3:D1625)/20)+1),\"\")=0,\"\",IF(MOD(ROWS(D$3:D1625),20)=1,INDEX('Summary Sheet'!$B$17:$B1656,INT(ROWS(D$3:D1625)/20)+1),\"\"))","v":""},"\nHazard Level\n"]
[null,null,null,{"$f":"IF(IF(MOD(ROWS(D$3:D1626),20)=1,INDEX('Summary Sheet'!$B$17:$B1656,INT(ROWS(D$3:D1626)/20)+1),\"\")=0,\"\",IF(MOD(ROWS(D$3:D1626),20)=1,INDEX('Summary Sheet'!$B$17:$B1656,INT(ROWS(D$3:D1626)/20)+1),\"\"))","v":""},"\nEye Damage\n","\nInhalation\n","\nLocal Skin Damage\n","\nSkin uptake, systemic\n"]
[1,null,{"$f":"_xlfn.IFNA(VLOOKUP(B1627,_!$A$7:$F$210,6,FALSE),\"\")","v":""},{"$f":"IF(IF(MOD(ROWS(D$3:D1627),20)=1,INDEX('Summary Sheet'!$B$17:$B1656,INT(ROWS(D$3:D1627)/20)+1),\"\")=0,\"\",IF(MOD(ROWS(D$3:D1627),20)=1,INDEX('Summary Sheet'!$B$17:$B1656,INT(ROWS(D$3:D1627)/20)+1),\"\"))","v":""},{"$f":"_xlfn.IFNA(IF(VLOOKUP(B1627,_!$A$7:$E$210,2,FALSE)=0, \"\", VLOOKUP(B1627,_!$A$7:$E$210,2,FALSE)),  \"\")","v":""},{"$f":"_xlfn.IFNA(IF(VLOOKUP(B1627,_!$A$7:$E$210,3,FALSE)=0, \"\", VLOOKUP(B1627,_!$A$7:$E$210,3,FALSE)), \"\")","v":""},{"$f":"_xlfn.IFNA(IF(VLOOKUP(B1627,_!$A$7:$E$210,4,FALSE)=0, \"\",VLOOKUP(B1627,_!$A$7:$E$210,4,FALSE)), \"\")","v":""},{"$f":"_xlfn.IFNA(IF(VLOOKUP(B1627,_!$A$7:$E$210,5,FALSE)=0,\"\",VLOOKUP(B1627,_!$A$7:$E$210,5,FALSE)), \"\")","v":""}]
[2,null,{"$f":"_xlfn.IFNA(VLOOKUP(B1628,_!$A$7:$F$210,6,FALSE),\"\")","v":""},{"$f":"IF(IF(MOD(ROWS(D$3:D1628),20)=1,INDEX('Summary Sheet'!$B$17:$B1656,INT(ROWS(D$3:D1628)/20)+1),\"\")=0,\"\",IF(MOD(ROWS(D$3:D1628),20)=1,INDEX('Summary Sheet'!$B$17:$B1656,INT(ROWS(D$3:D1628)/20)+1),\"\"))","v":""},{"$f":"_xlfn.IFNA(IF(VLOOKUP(B1628,_!$A$7:$E$210,2,FALSE)=0, \"\", VLOOKUP(B1628,_!$A$7:$E$210,2,FALSE)),  \"\")","v":""},{"$f":"_xlfn.IFNA(IF(VLOOKUP(B1628,_!$A$7:$E$210,3,FALSE)=0, \"\", VLOOKUP(B1628,_!$A$7:$E$210,3,FALSE)), \"\")","v":""},{"$f":"_xlfn.IFNA(IF(VLOOKUP(B1628,_!$A$7:$E$210,4,FALSE)=0, \"\",VLOOKUP(B1628,_!$A$7:$E$210,4,FALSE)), \"\")","v":""},{"$f":"_xlfn.IFNA(IF(VLOOKUP(B1628,_!$A$7:$E$210,5,FALSE)=0,\"\",VLOOKUP(B1628,_!$A$7:$E$210,5,FALSE)), \"\")","v":""}]
[3,null,{"$f":"_xlfn.IFNA(VLOOKUP(B1629,_!$A$7:$F$210,6,FALSE),\"\")","v":""},{"$f":"IF(IF(MOD(ROWS(D$3:D1629),20)=1,INDEX('Summary Sheet'!$B$17:$B1656,INT(ROWS(D$3:D1629)/20)+1),\"\")=0,\"\",IF(MOD(ROWS(D$3:D1629),20)=1,INDEX('Summary Sheet'!$B$17:$B1656,INT(ROWS(D$3:D1629)/20)+1),\"\"))","v":""},{"$f":"_xlfn.IFNA(IF(VLOOKUP(B1629,_!$A$7:$E$210,2,FALSE)=0, \"\", VLOOKUP(B1629,_!$A$7:$E$210,2,FALSE)),  \"\")","v":""},{"$f":"_xlfn.IFNA(IF(VLOOKUP(B1629,_!$A$7:$E$210,3,FALSE)=0, \"\", VLOOKUP(B1629,_!$A$7:$E$210,3,FALSE)), \"\")","v":""},{"$f":"_xlfn.IFNA(IF(VLOOKUP(B1629,_!$A$7:$E$210,4,FALSE)=0, \"\",VLOOKUP(B1629,_!$A$7:$E$210,4,FALSE)), \"\")","v":""},{"$f":"_xlfn.IFNA(IF(VLOOKUP(B1629,_!$A$7:$E$210,5,FALSE)=0,\"\",VLOOKUP(B1629,_!$A$7:$E$210,5,FALSE)), \"\")","v":""}]
[4,null,{"$f":"_xlfn.IFNA(VLOOKUP(B1630,_!$A$7:$F$210,6,FALSE),\"\")","v":""},{"$f":"IF(IF(MOD(ROWS(D$3:D1630),20)=1,INDEX('Summary Sheet'!$B$17:$B1656,INT(ROWS(D$3:D1630)/20)+1),\"\")=0,\"\",IF(MOD(ROWS(D$3:D1630),20)=1,INDEX('Summary Sheet'!$B$17:$B1656,INT(ROWS(D$3:D1630)/20)+1),\"\"))","v":""},{"$f":"_xlfn.IFNA(IF(VLOOKUP(B1630,_!$A$7:$E$210,2,FALSE)=0, \"\", VLOOKUP(B1630,_!$A$7:$E$210,2,FALSE)),  \"\")","v":""},{"$f":"_xlfn.IFNA(IF(VLOOKUP(B1630,_!$A$7:$E$210,3,FALSE)=0, \"\", VLOOKUP(B1630,_!$A$7:$E$210,3,FALSE)), \"\")","v":""},{"$f":"_xlfn.IFNA(IF(VLOOKUP(B1630,_!$A$7:$E$210,4,FALSE)=0, \"\",VLOOKUP(B1630,_!$A$7:$E$210,4,FALSE)), \"\")","v":""},{"$f":"_xlfn.IFNA(IF(VLOOKUP(B1630,_!$A$7:$E$210,5,FALSE)=0,\"\",VLOOKUP(B1630,_!$A$7:$E$210,5,FALSE)), \"\")","v":""}]
[5,null,{"$f":"_xlfn.IFNA(VLOOKUP(B1631,_!$A$7:$F$210,6,FALSE),\"\")","v":""},{"$f":"IF(IF(MOD(ROWS(D$3:D1631),20)=1,INDEX('Summary Sheet'!$B$17:$B1656,INT(ROWS(D$3:D1631)/20)+1),\"\")=0,\"\",IF(MOD(ROWS(D$3:D1631),20)=1,INDEX('Summary Sheet'!$B$17:$B1656,INT(ROWS(D$3:D1631)/20)+1),\"\"))","v":""},{"$f":"_xlfn.IFNA(IF(VLOOKUP(B1631,_!$A$7:$E$210,2,FALSE)=0, \"\", VLOOKUP(B1631,_!$A$7:$E$210,2,FALSE)),  \"\")","v":""},{"$f":"_xlfn.IFNA(IF(VLOOKUP(B1631,_!$A$7:$E$210,3,FALSE)=0, \"\", VLOOKUP(B1631,_!$A$7:$E$210,3,FALSE)), \"\")","v":""},{"$f":"_xlfn.IFNA(IF(VLOOKUP(B1631,_!$A$7:$E$210,4,FALSE)=0, \"\",VLOOKUP(B1631,_!$A$7:$E$210,4,FALSE)), \"\")","v":""},{"$f":"_xlfn.IFNA(IF(VLOOKUP(B1631,_!$A$7:$E$210,5,FALSE)=0,\"\",VLOOKUP(B1631,_!$A$7:$E$210,5,FALSE)), \"\")","v":""}]
[6,null,{"$f":"_xlfn.IFNA(VLOOKUP(B1632,_!$A$7:$F$210,6,FALSE),\"\")","v":""},{"$f":"IF(IF(MOD(ROWS(D$3:D1632),20)=1,INDEX('Summary Sheet'!$B$17:$B1656,INT(ROWS(D$3:D1632)/20)+1),\"\")=0,\"\",IF(MOD(ROWS(D$3:D1632),20)=1,INDEX('Summary Sheet'!$B$17:$B1656,INT(ROWS(D$3:D1632)/20)+1),\"\"))","v":""},{"$f":"_xlfn.IFNA(IF(VLOOKUP(B1632,_!$A$7:$E$210,2,FALSE)=0, \"\", VLOOKUP(B1632,_!$A$7:$E$210,2,FALSE)),  \"\")","v":""},{"$f":"_xlfn.IFNA(IF(VLOOKUP(B1632,_!$A$7:$E$210,3,FALSE)=0, \"\", VLOOKUP(B1632,_!$A$7:$E$210,3,FALSE)), \"\")","v":""},{"$f":"_xlfn.IFNA(IF(VLOOKUP(B1632,_!$A$7:$E$210,4,FALSE)=0, \"\",VLOOKUP(B1632,_!$A$7:$E$210,4,FALSE)), \"\")","v":""},{"$f":"_xlfn.IFNA(IF(VLOOKUP(B1632,_!$A$7:$E$210,5,FALSE)=0,\"\",VLOOKUP(B1632,_!$A$7:$E$210,5,FALSE)), \"\")","v":""}]
[7,null,{"$f":"_xlfn.IFNA(VLOOKUP(B1633,_!$A$7:$F$210,6,FALSE),\"\")","v":""},{"$f":"IF(IF(MOD(ROWS(D$3:D1633),20)=1,INDEX('Summary Sheet'!$B$17:$B1656,INT(ROWS(D$3:D1633)/20)+1),\"\")=0,\"\",IF(MOD(ROWS(D$3:D1633),20)=1,INDEX('Summary Sheet'!$B$17:$B1656,INT(ROWS(D$3:D1633)/20)+1),\"\"))","v":""},{"$f":"_xlfn.IFNA(IF(VLOOKUP(B1633,_!$A$7:$E$210,2,FALSE)=0, \"\", VLOOKUP(B1633,_!$A$7:$E$210,2,FALSE)),  \"\")","v":""},{"$f":"_xlfn.IFNA(IF(VLOOKUP(B1633,_!$A$7:$E$210,3,FALSE)=0, \"\", VLOOKUP(B1633,_!$A$7:$E$210,3,FALSE)), \"\")","v":""},{"$f":"_xlfn.IFNA(IF(VLOOKUP(B1633,_!$A$7:$E$210,4,FALSE)=0, \"\",VLOOKUP(B1633,_!$A$7:$E$210,4,FALSE)), \"\")","v":""},{"$f":"_xlfn.IFNA(IF(VLOOKUP(B1633,_!$A$7:$E$210,5,FALSE)=0,\"\",VLOOKUP(B1633,_!$A$7:$E$210,5,FALSE)), \"\")","v":""}]
[8,null,{"$f":"_xlfn.IFNA(VLOOKUP(B1634,_!$A$7:$F$210,6,FALSE),\"\")","v":""},{"$f":"IF(IF(MOD(ROWS(D$3:D1634),20)=1,INDEX('Summary Sheet'!$B$17:$B1656,INT(ROWS(D$3:D1634)/20)+1),\"\")=0,\"\",IF(MOD(ROWS(D$3:D1634),20)=1,INDEX('Summary Sheet'!$B$17:$B1656,INT(ROWS(D$3:D1634)/20)+1),\"\"))","v":""},{"$f":"_xlfn.IFNA(IF(VLOOKUP(B1634,_!$A$7:$E$210,2,FALSE)=0, \"\", VLOOKUP(B1634,_!$A$7:$E$210,2,FALSE)),  \"\")","v":""},{"$f":"_xlfn.IFNA(IF(VLOOKUP(B1634,_!$A$7:$E$210,3,FALSE)=0, \"\", VLOOKUP(B1634,_!$A$7:$E$210,3,FALSE)), \"\")","v":""},{"$f":"_xlfn.IFNA(IF(VLOOKUP(B1634,_!$A$7:$E$210,4,FALSE)=0, \"\",VLOOKUP(B1634,_!$A$7:$E$210,4,FALSE)), \"\")","v":""},{"$f":"_xlfn.IFNA(IF(VLOOKUP(B1634,_!$A$7:$E$210,5,FALSE)=0,\"\",VLOOKUP(B1634,_!$A$7:$E$210,5,FALSE)), \"\")","v":""}]
[9,null,{"$f":"_xlfn.IFNA(VLOOKUP(B1635,_!$A$7:$F$210,6,FALSE),\"\")","v":""},{"$f":"IF(IF(MOD(ROWS(D$3:D1635),20)=1,INDEX('Summary Sheet'!$B$17:$B1656,INT(ROWS(D$3:D1635)/20)+1),\"\")=0,\"\",IF(MOD(ROWS(D$3:D1635),20)=1,INDEX('Summary Sheet'!$B$17:$B1656,INT(ROWS(D$3:D1635)/20)+1),\"\"))","v":""},{"$f":"_xlfn.IFNA(IF(VLOOKUP(B1635,_!$A$7:$E$210,2,FALSE)=0, \"\", VLOOKUP(B1635,_!$A$7:$E$210,2,FALSE)),  \"\")","v":""},{"$f":"_xlfn.IFNA(IF(VLOOKUP(B1635,_!$A$7:$E$210,3,FALSE)=0, \"\", VLOOKUP(B1635,_!$A$7:$E$210,3,FALSE)), \"\")","v":""},{"$f":"_xlfn.IFNA(IF(VLOOKUP(B1635,_!$A$7:$E$210,4,FALSE)=0, \"\",VLOOKUP(B1635,_!$A$7:$E$210,4,FALSE)), \"\")","v":""},{"$f":"_xlfn.IFNA(IF(VLOOKUP(B1635,_!$A$7:$E$210,5,FALSE)=0,\"\",VLOOKUP(B1635,_!$A$7:$E$210,5,FALSE)), \"\")","v":""}]
[10,null,{"$f":"_xlfn.IFNA(VLOOKUP(B1636,_!$A$7:$F$210,6,FALSE),\"\")","v":""},{"$f":"IF(IF(MOD(ROWS(D$14:D1636),20)=1,INDEX('Summary Sheet'!$B$17:$B1656,INT(ROWS(D$14:D1636)/20)+1),\"\")=0,\"\",IF(MOD(ROWS(D$14:D1636),20)=1,INDEX('Summary Sheet'!$B$17:$B1656,INT(ROWS(D$14:D1636)/20)+1),\"\"))","v":""},{"$f":"_xlfn.IFNA(IF(VLOOKUP(B1636,_!$A$7:$E$210,2,FALSE)=0, \"\", VLOOKUP(B1636,_!$A$7:$E$210,2,FALSE)),  \"\")","v":""},{"$f":"_xlfn.IFNA(IF(VLOOKUP(B1636,_!$A$7:$E$210,3,FALSE)=0, \"\", VLOOKUP(B1636,_!$A$7:$E$210,3,FALSE)), \"\")","v":""},{"$f":"_xlfn.IFNA(IF(VLOOKUP(B1636,_!$A$7:$E$210,4,FALSE)=0, \"\",VLOOKUP(B1636,_!$A$7:$E$210,4,FALSE)), \"\")","v":""},{"$f":"_xlfn.IFNA(IF(VLOOKUP(B1636,_!$A$7:$E$210,5,FALSE)=0,\"\",VLOOKUP(B1636,_!$A$7:$E$210,5,FALSE)), \"\")","v":""}]
[null,"\nHighest hazard level for each ‘Uptake Route’\n",null,null,{"$f":"_xlfn.IFNA(IF((INDEX(E1627:E1636,MATCH(\"E\",E1627:E1636,0)))=\"E\",\"E\",\"\"),_xlfn.IFNA(IF((INDEX(E1627:E1636,MATCH(\"D\",E1627:E1636,0)))=\"D\",\"D\",\"\"),_xlfn.IFNA(IF((INDEX(E1627:E1636,MATCH(\"Ca\",E1627:E1636,0)))=\"Ca\",\"C\",\"\"),_xlfn.IFNA(IF((INDEX(E1627:E1636,MATCH(\"C\",E1627:E1636,0)))=\"C\",\"C\",\"\"),_xlfn.IFNA(IF((INDEX(E1627:E1636,MATCH(\"B\",E1627:E1636,0)))=\"B\",\"B\",\"\"),_xlfn.IFNA(IF((INDEX(E1627:E1636,MATCH(\"A\",E1627:E1636,0)))=\"A\",\"A\",\"\"),_xlfn.IFNA(IF((INDEX(E1627:E1636,MATCH(\"n.a.\",E1627:E1636,0)))=\"n.a.\",\"\",\"\"),_xlfn.IFNA(IF((INDEX(E1627:E1636,MATCH(\"\",E1627:E1636,0)))=\"\",\"\",\"\"),\"\"))))))))","v":""},{"$f":"_xlfn.IFNA(IF((INDEX(F1627:F1636,MATCH(\"E\",F1627:F1636,0)))=\"E\",\"E\",\"\"),_xlfn.IFNA(IF((INDEX(F1627:F1636,MATCH(\"D (E)c\",F1627:F1636,0)))=\"D (E)c\",\"D (E)c\",\"\"),_xlfn.IFNA(IF((INDEX(F1627:F1636,MATCH(\"Da (E)c\",F1627:F1636,0)))=\"Da (E)c\",\"D (E)c\",\"\"),_xlfn.IFNA(IF((INDEX(F1627:F1636,MATCH(\"D\",F1627:F1636,0)))=\"D\",\"D\",\"\"),_xlfn.IFNA(IF((INDEX(F1627:F1636,MATCH(\"Ca\",F1627:F1636,0)))=\"Ca\",\"C\",\"\"),_xlfn.IFNA(IF((INDEX(F1627:F1636,MATCH(\"C\",F1627:F1636,0)))=\"C\",\"C\",\"\"),_xlfn.IFNA(IF((INDEX(F1627:F1636,MATCH(\"Ba\",F1627:F1636,0)))=\"Ba\",\"B\",\"\"),_xlfn.IFNA(IF((INDEX(F1627:F1636,MATCH(\"B\",F1627:F1636,0)))=\"B\",\"B\",\"\"),_xlfn.IFNA(IF((INDEX(F1627:F1636,MATCH(\"Aa\",F1627:F1636,0)))=\"Aa\",\"A\",\"\"),_xlfn.IFNA(IF((INDEX(F1627:F1636,MATCH(\"A\",F1627:F1636,0)))=\"A\",\"A\",\"\"),_xlfn.IFNA(IF((INDEX(F1627:F1636,MATCH(\"n.a.\",F1627:F1636,0)))=\"n.a.\",\"\",\"\"),_xlfn.IFNA(IF((INDEX(F1627:F1636,MATCH(\"\",F1627:F1636,0)))=\"\",\"\",\"\"),\"\"))))))))))))","v":""},{"$f":"_xlfn.IFNA(IF((INDEX(G1627:G1636,MATCH(\"E\",G1627:G1636,0)))=\"E\",\"E\",\"\"),_xlfn.IFNA(IF((INDEX(G1627:G1636,MATCH(\"D\",G1627:G1636,0)))=\"D\",\"D\",\"\"),_xlfn.IFNA(IF((INDEX(G1627:G1636,MATCH(\"Ca\",G1627:G1636,0)))=\"Ca\",\"C\",\"\"),_xlfn.IFNA(IF((INDEX(G1627:G1636,MATCH(\"C\",G1627:G1636,0)))=\"C\",\"C\",\"\"),_xlfn.IFNA(IF((INDEX(G1627:G1636,MATCH(\"B\",G1627:G1636,0)))=\"B\",\"B\",\"\"),_xlfn.IFNA(IF((INDEX(G1627:G1636,MATCH(\"A\",G1627:G1636,0)))=\"A\",\"A\",\"\"),_xlfn.IFNA(IF((INDEX(G1627:G1636,MATCH(\"n.a.\",G1627:G1636,0)))=\"n.a.\",\"\",\"\"),_xlfn.IFNA(IF((INDEX(G1627:G1636,MATCH(\"\",G1627:G1636,0)))=\"\",\"\",\"\"),\"\"))))))))","v":""},{"$f":"_xlfn.IFNA(IF((INDEX(H1627:H1636,MATCH(\"E\",H1627:H1636,0)))=\"E\",\"E\",\"\"),_xlfn.IFNA(IF((INDEX(H1627:H1636,MATCH(\"D (E)c\",H1627:H1636,0)))=\"D (E)c\",\"D (E)c\",\"\"),_xlfn.IFNA(IF((INDEX(H1627:H1636,MATCH(\"Db (E)c\",H1627:H1636,0)))=\"Db (E)c\",\"D (E)c\",\"\"),_xlfn.IFNA(IF((INDEX(H1627:H1636,MATCH(\"D\",H1627:H1636,0)))=\"D\",\"D\",\"\"),_xlfn.IFNA(IF((INDEX(H1627:H1636,MATCH(\"Cb\",H1627:H1636,0)))=\"Cb\",\"C\",\"\"),_xlfn.IFNA(IF((INDEX(H1627:H1636,MATCH(\"C\",H1627:H1636,0)))=\"C\",\"C\",\"\"),_xlfn.IFNA(IF((INDEX(H1627:H1636,MATCH(\"Bb\",H1627:H1636,0)))=\"Bb\",\"B\",\"\"),_xlfn.IFNA(IF((INDEX(H1627:H1636,MATCH(\"B\",H1627:H1636,0)))=\"B\",\"B\",\"\"),_xlfn.IFNA(IF((INDEX(H1627:H1636,MATCH(\"Ab\",H1627:H1636,0)))=\"Ab\",\"A\",\"\"),_xlfn.IFNA(IF((INDEX(H1627:H1636,MATCH(\"A\",H1627:H1636,0)))=\"A\",\"A\",\"\"),_xlfn.IFNA(IF((INDEX(H1627:H1636,MATCH(\"n.a.\",H1627:H1636,0)))=\"n.a.\",\"\",\"\"),_xlfn.IFNA(IF((INDEX(H1627:H1636,MATCH(\"\",H1627:H1636,0)))=\"\",\"\",\"\"),\"\"))))))))))))","v":""}]
[null,"\nHighest hazard level for all 'Uptake Routes' \n",null,null,{"$f":"_xlfn.IFNA(IF((INDEX(E1637:H1637,MATCH(\"E\",E1637:H1637,0)))=\"E\",\"E\",\"\"),_xlfn.IFNA(IF((INDEX(E1637:H1637,MATCH(\"D (E)c\",E1637:H1637,0)))=\"D (E)c\",\"D (E)\",\"\"),_xlfn.IFNA(IF((INDEX(E1637:H1637,MATCH(\"D\",E1637:H1637,0)))=\"D\",\"D\",\"\"),_xlfn.IFNA(IF((INDEX(E1637:H1637,MATCH(\"C\",E1637:H1637,0)))=\"C\",\"C\",\"\"),_xlfn.IFNA(IF((INDEX(E1637:H1637,MATCH(\"B\",E1637:H1637,0)))=\"B\",\"B\",\"\"),_xlfn.IFNA(IF((INDEX(E1637:H1637,MATCH(\"A\",E1637:H1637,0)))=\"A\",\"A\",\"\"),_xlfn.IFNA(IF((INDEX(E1637:H1637,MATCH(\"n.a.\",E1637:H1637,0)))=\"n.a.\",\"\",\"\"),_xlfn.IFNA(IF((INDEX(E1637:H1637,MATCH(\"\",E1637:H1637,0)))=\"\",\"\",\"\"),\"\"))))))))","v":""}]
[]
[]
[null,"\nStep 3: D(E) Assessment\nSkip this step if \nyour assessment above does not reveal a D(E) hazard level.\nHover over this cell for additional instructions.\n",null,null,"\nOverall hazard level\n",null,{"$f":"IF(AND(E1638=\"\",C1624=\"Yes\")=TRUE,\"B\",IF(E1638=\"\",\"\",(IF(AND(E1638=\"D (E)\",C1641=\"\"),\"D (E)\"&CHAR(10)&\"Find if cat. 1 acute tox.\",(IF(E1638<>\"D (E)\",E1638,(IF(AND(E1638=\"D (E)\",C1641=\"Yes\"),\"E\",(IF(AND(E1638=\"D (E)\",C1641=\"No\"),\"D\",\"\"))))))))))","v":""}]
[]
[{"$f":"IF(IF(MOD(ROWS(B$3:B1643),20)=1,INDEX('Summary Sheet'!$A$17:$A1675,INT(ROWS(B$3:B1643)/20)+1),\"\")=0,\"\",IF(MOD(ROWS(B$3:B1643),20)=1,INDEX('Summary Sheet'!$A$17:$A1675,INT(ROWS(B$3:B1643)/20)+1),\"\"))","v":83},"Hazard Level Assessment","for",{"$f":"IF(IF(MOD(ROWS(D$3:D1643),20)=1,INDEX('Summary Sheet'!$B$17:$B1675,INT(ROWS(D$3:D1643)/20)+1),\"\")=0,\"\",IF(MOD(ROWS(D$3:D1643),20)=1,INDEX('Summary Sheet'!$B$17:$B1675,INT(ROWS(D$3:D1643)/20)+1),\"\"))","v":""}]
[null,"\nStep 1: Physical & Environmental Hazard Statements/Codes\nFind Section 2 of the SDS and determine if the SDS has physical and/or environmental hazard statements/codes. Hover on this cell for additional instructions.\n",null,{"$f":"IF(IF(MOD(ROWS(D$3:D1644),20)=1,INDEX('Summary Sheet'!$B$17:$B1675,INT(ROWS(D$3:D1644)/20)+1),\"\")=0,\"\",IF(MOD(ROWS(D$3:D1644),20)=1,INDEX('Summary Sheet'!$B$17:$B1675,INT(ROWS(D$3:D1644)/20)+1),\"\"))","v":""}]
[null,"Step 2: Health Hazard Statements/Codes\nProvide the Health Hazard Statements or Codes from Section 2 of the SDS below. Hover on this cell for additional instructions.",null,{"$f":"IF(IF(MOD(ROWS(D$3:D1645),20)=1,INDEX('Summary Sheet'!$B$17:$B1675,INT(ROWS(D$3:D1645)/20)+1),\"\")=0,\"\",IF(MOD(ROWS(D$3:D1645),20)=1,INDEX('Summary Sheet'!$B$17:$B1675,INT(ROWS(D$3:D1645)/20)+1),\"\"))","v":""},"\nHazard Level\n"]
[null,null,null,{"$f":"IF(IF(MOD(ROWS(D$3:D1646),20)=1,INDEX('Summary Sheet'!$B$17:$B1675,INT(ROWS(D$3:D1646)/20)+1),\"\")=0,\"\",IF(MOD(ROWS(D$3:D1646),20)=1,INDEX('Summary Sheet'!$B$17:$B1675,INT(ROWS(D$3:D1646)/20)+1),\"\"))","v":""},"\nEye Damage\n","\nInhalation\n","\nLocal Skin Damage\n","\nSkin uptake, systemic\n"]
[1,null,{"$f":"_xlfn.IFNA(VLOOKUP(B1647,_!$A$7:$F$210,6,FALSE),\"\")","v":""},{"$f":"IF(IF(MOD(ROWS(D$3:D1647),20)=1,INDEX('Summary Sheet'!$B$17:$B1675,INT(ROWS(D$3:D1647)/20)+1),\"\")=0,\"\",IF(MOD(ROWS(D$3:D1647),20)=1,INDEX('Summary Sheet'!$B$17:$B1675,INT(ROWS(D$3:D1647)/20)+1),\"\"))","v":""},{"$f":"_xlfn.IFNA(IF(VLOOKUP(B1647,_!$A$7:$E$210,2,FALSE)=0, \"\", VLOOKUP(B1647,_!$A$7:$E$210,2,FALSE)),  \"\")","v":""},{"$f":"_xlfn.IFNA(IF(VLOOKUP(B1647,_!$A$7:$E$210,3,FALSE)=0, \"\", VLOOKUP(B1647,_!$A$7:$E$210,3,FALSE)), \"\")","v":""},{"$f":"_xlfn.IFNA(IF(VLOOKUP(B1647,_!$A$7:$E$210,4,FALSE)=0, \"\",VLOOKUP(B1647,_!$A$7:$E$210,4,FALSE)), \"\")","v":""},{"$f":"_xlfn.IFNA(IF(VLOOKUP(B1647,_!$A$7:$E$210,5,FALSE)=0,\"\",VLOOKUP(B1647,_!$A$7:$E$210,5,FALSE)), \"\")","v":""}]
[2,null,{"$f":"_xlfn.IFNA(VLOOKUP(B1648,_!$A$7:$F$210,6,FALSE),\"\")","v":""},{"$f":"IF(IF(MOD(ROWS(D$3:D1648),20)=1,INDEX('Summary Sheet'!$B$17:$B1675,INT(ROWS(D$3:D1648)/20)+1),\"\")=0,\"\",IF(MOD(ROWS(D$3:D1648),20)=1,INDEX('Summary Sheet'!$B$17:$B1675,INT(ROWS(D$3:D1648)/20)+1),\"\"))","v":""},{"$f":"_xlfn.IFNA(IF(VLOOKUP(B1648,_!$A$7:$E$210,2,FALSE)=0, \"\", VLOOKUP(B1648,_!$A$7:$E$210,2,FALSE)),  \"\")","v":""},{"$f":"_xlfn.IFNA(IF(VLOOKUP(B1648,_!$A$7:$E$210,3,FALSE)=0, \"\", VLOOKUP(B1648,_!$A$7:$E$210,3,FALSE)), \"\")","v":""},{"$f":"_xlfn.IFNA(IF(VLOOKUP(B1648,_!$A$7:$E$210,4,FALSE)=0, \"\",VLOOKUP(B1648,_!$A$7:$E$210,4,FALSE)), \"\")","v":""},{"$f":"_xlfn.IFNA(IF(VLOOKUP(B1648,_!$A$7:$E$210,5,FALSE)=0,\"\",VLOOKUP(B1648,_!$A$7:$E$210,5,FALSE)), \"\")","v":""}]
[3,null,{"$f":"_xlfn.IFNA(VLOOKUP(B1649,_!$A$7:$F$210,6,FALSE),\"\")","v":""},{"$f":"IF(IF(MOD(ROWS(D$3:D1649),20)=1,INDEX('Summary Sheet'!$B$17:$B1675,INT(ROWS(D$3:D1649)/20)+1),\"\")=0,\"\",IF(MOD(ROWS(D$3:D1649),20)=1,INDEX('Summary Sheet'!$B$17:$B1675,INT(ROWS(D$3:D1649)/20)+1),\"\"))","v":""},{"$f":"_xlfn.IFNA(IF(VLOOKUP(B1649,_!$A$7:$E$210,2,FALSE)=0, \"\", VLOOKUP(B1649,_!$A$7:$E$210,2,FALSE)),  \"\")","v":""},{"$f":"_xlfn.IFNA(IF(VLOOKUP(B1649,_!$A$7:$E$210,3,FALSE)=0, \"\", VLOOKUP(B1649,_!$A$7:$E$210,3,FALSE)), \"\")","v":""},{"$f":"_xlfn.IFNA(IF(VLOOKUP(B1649,_!$A$7:$E$210,4,FALSE)=0, \"\",VLOOKUP(B1649,_!$A$7:$E$210,4,FALSE)), \"\")","v":""},{"$f":"_xlfn.IFNA(IF(VLOOKUP(B1649,_!$A$7:$E$210,5,FALSE)=0,\"\",VLOOKUP(B1649,_!$A$7:$E$210,5,FALSE)), \"\")","v":""}]
[4,null,{"$f":"_xlfn.IFNA(VLOOKUP(B1650,_!$A$7:$F$210,6,FALSE),\"\")","v":""},{"$f":"IF(IF(MOD(ROWS(D$3:D1650),20)=1,INDEX('Summary Sheet'!$B$17:$B1675,INT(ROWS(D$3:D1650)/20)+1),\"\")=0,\"\",IF(MOD(ROWS(D$3:D1650),20)=1,INDEX('Summary Sheet'!$B$17:$B1675,INT(ROWS(D$3:D1650)/20)+1),\"\"))","v":""},{"$f":"_xlfn.IFNA(IF(VLOOKUP(B1650,_!$A$7:$E$210,2,FALSE)=0, \"\", VLOOKUP(B1650,_!$A$7:$E$210,2,FALSE)),  \"\")","v":""},{"$f":"_xlfn.IFNA(IF(VLOOKUP(B1650,_!$A$7:$E$210,3,FALSE)=0, \"\", VLOOKUP(B1650,_!$A$7:$E$210,3,FALSE)), \"\")","v":""},{"$f":"_xlfn.IFNA(IF(VLOOKUP(B1650,_!$A$7:$E$210,4,FALSE)=0, \"\",VLOOKUP(B1650,_!$A$7:$E$210,4,FALSE)), \"\")","v":""},{"$f":"_xlfn.IFNA(IF(VLOOKUP(B1650,_!$A$7:$E$210,5,FALSE)=0,\"\",VLOOKUP(B1650,_!$A$7:$E$210,5,FALSE)), \"\")","v":""}]
[5,null,{"$f":"_xlfn.IFNA(VLOOKUP(B1651,_!$A$7:$F$210,6,FALSE),\"\")","v":""},{"$f":"IF(IF(MOD(ROWS(D$3:D1651),20)=1,INDEX('Summary Sheet'!$B$17:$B1675,INT(ROWS(D$3:D1651)/20)+1),\"\")=0,\"\",IF(MOD(ROWS(D$3:D1651),20)=1,INDEX('Summary Sheet'!$B$17:$B1675,INT(ROWS(D$3:D1651)/20)+1),\"\"))","v":""},{"$f":"_xlfn.IFNA(IF(VLOOKUP(B1651,_!$A$7:$E$210,2,FALSE)=0, \"\", VLOOKUP(B1651,_!$A$7:$E$210,2,FALSE)),  \"\")","v":""},{"$f":"_xlfn.IFNA(IF(VLOOKUP(B1651,_!$A$7:$E$210,3,FALSE)=0, \"\", VLOOKUP(B1651,_!$A$7:$E$210,3,FALSE)), \"\")","v":""},{"$f":"_xlfn.IFNA(IF(VLOOKUP(B1651,_!$A$7:$E$210,4,FALSE)=0, \"\",VLOOKUP(B1651,_!$A$7:$E$210,4,FALSE)), \"\")","v":""},{"$f":"_xlfn.IFNA(IF(VLOOKUP(B1651,_!$A$7:$E$210,5,FALSE)=0,\"\",VLOOKUP(B1651,_!$A$7:$E$210,5,FALSE)), \"\")","v":""}]
[6,null,{"$f":"_xlfn.IFNA(VLOOKUP(B1652,_!$A$7:$F$210,6,FALSE),\"\")","v":""},{"$f":"IF(IF(MOD(ROWS(D$3:D1652),20)=1,INDEX('Summary Sheet'!$B$17:$B1675,INT(ROWS(D$3:D1652)/20)+1),\"\")=0,\"\",IF(MOD(ROWS(D$3:D1652),20)=1,INDEX('Summary Sheet'!$B$17:$B1675,INT(ROWS(D$3:D1652)/20)+1),\"\"))","v":""},{"$f":"_xlfn.IFNA(IF(VLOOKUP(B1652,_!$A$7:$E$210,2,FALSE)=0, \"\", VLOOKUP(B1652,_!$A$7:$E$210,2,FALSE)),  \"\")","v":""},{"$f":"_xlfn.IFNA(IF(VLOOKUP(B1652,_!$A$7:$E$210,3,FALSE)=0, \"\", VLOOKUP(B1652,_!$A$7:$E$210,3,FALSE)), \"\")","v":""},{"$f":"_xlfn.IFNA(IF(VLOOKUP(B1652,_!$A$7:$E$210,4,FALSE)=0, \"\",VLOOKUP(B1652,_!$A$7:$E$210,4,FALSE)), \"\")","v":""},{"$f":"_xlfn.IFNA(IF(VLOOKUP(B1652,_!$A$7:$E$210,5,FALSE)=0,\"\",VLOOKUP(B1652,_!$A$7:$E$210,5,FALSE)), \"\")","v":""}]
[7,null,{"$f":"_xlfn.IFNA(VLOOKUP(B1653,_!$A$7:$F$210,6,FALSE),\"\")","v":""},{"$f":"IF(IF(MOD(ROWS(D$3:D1653),20)=1,INDEX('Summary Sheet'!$B$17:$B1675,INT(ROWS(D$3:D1653)/20)+1),\"\")=0,\"\",IF(MOD(ROWS(D$3:D1653),20)=1,INDEX('Summary Sheet'!$B$17:$B1675,INT(ROWS(D$3:D1653)/20)+1),\"\"))","v":""},{"$f":"_xlfn.IFNA(IF(VLOOKUP(B1653,_!$A$7:$E$210,2,FALSE)=0, \"\", VLOOKUP(B1653,_!$A$7:$E$210,2,FALSE)),  \"\")","v":""},{"$f":"_xlfn.IFNA(IF(VLOOKUP(B1653,_!$A$7:$E$210,3,FALSE)=0, \"\", VLOOKUP(B1653,_!$A$7:$E$210,3,FALSE)), \"\")","v":""},{"$f":"_xlfn.IFNA(IF(VLOOKUP(B1653,_!$A$7:$E$210,4,FALSE)=0, \"\",VLOOKUP(B1653,_!$A$7:$E$210,4,FALSE)), \"\")","v":""},{"$f":"_xlfn.IFNA(IF(VLOOKUP(B1653,_!$A$7:$E$210,5,FALSE)=0,\"\",VLOOKUP(B1653,_!$A$7:$E$210,5,FALSE)), \"\")","v":""}]
[8,null,{"$f":"_xlfn.IFNA(VLOOKUP(B1654,_!$A$7:$F$210,6,FALSE),\"\")","v":""},{"$f":"IF(IF(MOD(ROWS(D$3:D1654),20)=1,INDEX('Summary Sheet'!$B$17:$B1675,INT(ROWS(D$3:D1654)/20)+1),\"\")=0,\"\",IF(MOD(ROWS(D$3:D1654),20)=1,INDEX('Summary Sheet'!$B$17:$B1675,INT(ROWS(D$3:D1654)/20)+1),\"\"))","v":""},{"$f":"_xlfn.IFNA(IF(VLOOKUP(B1654,_!$A$7:$E$210,2,FALSE)=0, \"\", VLOOKUP(B1654,_!$A$7:$E$210,2,FALSE)),  \"\")","v":""},{"$f":"_xlfn.IFNA(IF(VLOOKUP(B1654,_!$A$7:$E$210,3,FALSE)=0, \"\", VLOOKUP(B1654,_!$A$7:$E$210,3,FALSE)), \"\")","v":""},{"$f":"_xlfn.IFNA(IF(VLOOKUP(B1654,_!$A$7:$E$210,4,FALSE)=0, \"\",VLOOKUP(B1654,_!$A$7:$E$210,4,FALSE)), \"\")","v":""},{"$f":"_xlfn.IFNA(IF(VLOOKUP(B1654,_!$A$7:$E$210,5,FALSE)=0,\"\",VLOOKUP(B1654,_!$A$7:$E$210,5,FALSE)), \"\")","v":""}]
[9,null,{"$f":"_xlfn.IFNA(VLOOKUP(B1655,_!$A$7:$F$210,6,FALSE),\"\")","v":""},{"$f":"IF(IF(MOD(ROWS(D$3:D1655),20)=1,INDEX('Summary Sheet'!$B$17:$B1675,INT(ROWS(D$3:D1655)/20)+1),\"\")=0,\"\",IF(MOD(ROWS(D$3:D1655),20)=1,INDEX('Summary Sheet'!$B$17:$B1675,INT(ROWS(D$3:D1655)/20)+1),\"\"))","v":""},{"$f":"_xlfn.IFNA(IF(VLOOKUP(B1655,_!$A$7:$E$210,2,FALSE)=0, \"\", VLOOKUP(B1655,_!$A$7:$E$210,2,FALSE)),  \"\")","v":""},{"$f":"_xlfn.IFNA(IF(VLOOKUP(B1655,_!$A$7:$E$210,3,FALSE)=0, \"\", VLOOKUP(B1655,_!$A$7:$E$210,3,FALSE)), \"\")","v":""},{"$f":"_xlfn.IFNA(IF(VLOOKUP(B1655,_!$A$7:$E$210,4,FALSE)=0, \"\",VLOOKUP(B1655,_!$A$7:$E$210,4,FALSE)), \"\")","v":""},{"$f":"_xlfn.IFNA(IF(VLOOKUP(B1655,_!$A$7:$E$210,5,FALSE)=0,\"\",VLOOKUP(B1655,_!$A$7:$E$210,5,FALSE)), \"\")","v":""}]
[10,null,{"$f":"_xlfn.IFNA(VLOOKUP(B1656,_!$A$7:$F$210,6,FALSE),\"\")","v":""},{"$f":"IF(IF(MOD(ROWS(D$14:D1656),20)=1,INDEX('Summary Sheet'!$B$17:$B1675,INT(ROWS(D$14:D1656)/20)+1),\"\")=0,\"\",IF(MOD(ROWS(D$14:D1656),20)=1,INDEX('Summary Sheet'!$B$17:$B1675,INT(ROWS(D$14:D1656)/20)+1),\"\"))","v":""},{"$f":"_xlfn.IFNA(IF(VLOOKUP(B1656,_!$A$7:$E$210,2,FALSE)=0, \"\", VLOOKUP(B1656,_!$A$7:$E$210,2,FALSE)),  \"\")","v":""},{"$f":"_xlfn.IFNA(IF(VLOOKUP(B1656,_!$A$7:$E$210,3,FALSE)=0, \"\", VLOOKUP(B1656,_!$A$7:$E$210,3,FALSE)), \"\")","v":""},{"$f":"_xlfn.IFNA(IF(VLOOKUP(B1656,_!$A$7:$E$210,4,FALSE)=0, \"\",VLOOKUP(B1656,_!$A$7:$E$210,4,FALSE)), \"\")","v":""},{"$f":"_xlfn.IFNA(IF(VLOOKUP(B1656,_!$A$7:$E$210,5,FALSE)=0,\"\",VLOOKUP(B1656,_!$A$7:$E$210,5,FALSE)), \"\")","v":""}]
[null,"\nHighest hazard level for each ‘Uptake Route’\n",null,null,{"$f":"_xlfn.IFNA(IF((INDEX(E1647:E1656,MATCH(\"E\",E1647:E1656,0)))=\"E\",\"E\",\"\"),_xlfn.IFNA(IF((INDEX(E1647:E1656,MATCH(\"D\",E1647:E1656,0)))=\"D\",\"D\",\"\"),_xlfn.IFNA(IF((INDEX(E1647:E1656,MATCH(\"Ca\",E1647:E1656,0)))=\"Ca\",\"C\",\"\"),_xlfn.IFNA(IF((INDEX(E1647:E1656,MATCH(\"C\",E1647:E1656,0)))=\"C\",\"C\",\"\"),_xlfn.IFNA(IF((INDEX(E1647:E1656,MATCH(\"B\",E1647:E1656,0)))=\"B\",\"B\",\"\"),_xlfn.IFNA(IF((INDEX(E1647:E1656,MATCH(\"A\",E1647:E1656,0)))=\"A\",\"A\",\"\"),_xlfn.IFNA(IF((INDEX(E1647:E1656,MATCH(\"n.a.\",E1647:E1656,0)))=\"n.a.\",\"\",\"\"),_xlfn.IFNA(IF((INDEX(E1647:E1656,MATCH(\"\",E1647:E1656,0)))=\"\",\"\",\"\"),\"\"))))))))","v":""},{"$f":"_xlfn.IFNA(IF((INDEX(F1647:F1656,MATCH(\"E\",F1647:F1656,0)))=\"E\",\"E\",\"\"),_xlfn.IFNA(IF((INDEX(F1647:F1656,MATCH(\"D (E)c\",F1647:F1656,0)))=\"D (E)c\",\"D (E)c\",\"\"),_xlfn.IFNA(IF((INDEX(F1647:F1656,MATCH(\"Da (E)c\",F1647:F1656,0)))=\"Da (E)c\",\"D (E)c\",\"\"),_xlfn.IFNA(IF((INDEX(F1647:F1656,MATCH(\"D\",F1647:F1656,0)))=\"D\",\"D\",\"\"),_xlfn.IFNA(IF((INDEX(F1647:F1656,MATCH(\"Ca\",F1647:F1656,0)))=\"Ca\",\"C\",\"\"),_xlfn.IFNA(IF((INDEX(F1647:F1656,MATCH(\"C\",F1647:F1656,0)))=\"C\",\"C\",\"\"),_xlfn.IFNA(IF((INDEX(F1647:F1656,MATCH(\"Ba\",F1647:F1656,0)))=\"Ba\",\"B\",\"\"),_xlfn.IFNA(IF((INDEX(F1647:F1656,MATCH(\"B\",F1647:F1656,0)))=\"B\",\"B\",\"\"),_xlfn.IFNA(IF((INDEX(F1647:F1656,MATCH(\"Aa\",F1647:F1656,0)))=\"Aa\",\"A\",\"\"),_xlfn.IFNA(IF((INDEX(F1647:F1656,MATCH(\"A\",F1647:F1656,0)))=\"A\",\"A\",\"\"),_xlfn.IFNA(IF((INDEX(F1647:F1656,MATCH(\"n.a.\",F1647:F1656,0)))=\"n.a.\",\"\",\"\"),_xlfn.IFNA(IF((INDEX(F1647:F1656,MATCH(\"\",F1647:F1656,0)))=\"\",\"\",\"\"),\"\"))))))))))))","v":""},{"$f":"_xlfn.IFNA(IF((INDEX(G1647:G1656,MATCH(\"E\",G1647:G1656,0)))=\"E\",\"E\",\"\"),_xlfn.IFNA(IF((INDEX(G1647:G1656,MATCH(\"D\",G1647:G1656,0)))=\"D\",\"D\",\"\"),_xlfn.IFNA(IF((INDEX(G1647:G1656,MATCH(\"Ca\",G1647:G1656,0)))=\"Ca\",\"C\",\"\"),_xlfn.IFNA(IF((INDEX(G1647:G1656,MATCH(\"C\",G1647:G1656,0)))=\"C\",\"C\",\"\"),_xlfn.IFNA(IF((INDEX(G1647:G1656,MATCH(\"B\",G1647:G1656,0)))=\"B\",\"B\",\"\"),_xlfn.IFNA(IF((INDEX(G1647:G1656,MATCH(\"A\",G1647:G1656,0)))=\"A\",\"A\",\"\"),_xlfn.IFNA(IF((INDEX(G1647:G1656,MATCH(\"n.a.\",G1647:G1656,0)))=\"n.a.\",\"\",\"\"),_xlfn.IFNA(IF((INDEX(G1647:G1656,MATCH(\"\",G1647:G1656,0)))=\"\",\"\",\"\"),\"\"))))))))","v":""},{"$f":"_xlfn.IFNA(IF((INDEX(H1647:H1656,MATCH(\"E\",H1647:H1656,0)))=\"E\",\"E\",\"\"),_xlfn.IFNA(IF((INDEX(H1647:H1656,MATCH(\"D (E)c\",H1647:H1656,0)))=\"D (E)c\",\"D (E)c\",\"\"),_xlfn.IFNA(IF((INDEX(H1647:H1656,MATCH(\"Db (E)c\",H1647:H1656,0)))=\"Db (E)c\",\"D (E)c\",\"\"),_xlfn.IFNA(IF((INDEX(H1647:H1656,MATCH(\"D\",H1647:H1656,0)))=\"D\",\"D\",\"\"),_xlfn.IFNA(IF((INDEX(H1647:H1656,MATCH(\"Cb\",H1647:H1656,0)))=\"Cb\",\"C\",\"\"),_xlfn.IFNA(IF((INDEX(H1647:H1656,MATCH(\"C\",H1647:H1656,0)))=\"C\",\"C\",\"\"),_xlfn.IFNA(IF((INDEX(H1647:H1656,MATCH(\"Bb\",H1647:H1656,0)))=\"Bb\",\"B\",\"\"),_xlfn.IFNA(IF((INDEX(H1647:H1656,MATCH(\"B\",H1647:H1656,0)))=\"B\",\"B\",\"\"),_xlfn.IFNA(IF((INDEX(H1647:H1656,MATCH(\"Ab\",H1647:H1656,0)))=\"Ab\",\"A\",\"\"),_xlfn.IFNA(IF((INDEX(H1647:H1656,MATCH(\"A\",H1647:H1656,0)))=\"A\",\"A\",\"\"),_xlfn.IFNA(IF((INDEX(H1647:H1656,MATCH(\"n.a.\",H1647:H1656,0)))=\"n.a.\",\"\",\"\"),_xlfn.IFNA(IF((INDEX(H1647:H1656,MATCH(\"\",H1647:H1656,0)))=\"\",\"\",\"\"),\"\"))))))))))))","v":""}]
[null,"\nHighest hazard level for all 'Uptake Routes' \n",null,null,{"$f":"_xlfn.IFNA(IF((INDEX(E1657:H1657,MATCH(\"E\",E1657:H1657,0)))=\"E\",\"E\",\"\"),_xlfn.IFNA(IF((INDEX(E1657:H1657,MATCH(\"D (E)c\",E1657:H1657,0)))=\"D (E)c\",\"D (E)\",\"\"),_xlfn.IFNA(IF((INDEX(E1657:H1657,MATCH(\"D\",E1657:H1657,0)))=\"D\",\"D\",\"\"),_xlfn.IFNA(IF((INDEX(E1657:H1657,MATCH(\"C\",E1657:H1657,0)))=\"C\",\"C\",\"\"),_xlfn.IFNA(IF((INDEX(E1657:H1657,MATCH(\"B\",E1657:H1657,0)))=\"B\",\"B\",\"\"),_xlfn.IFNA(IF((INDEX(E1657:H1657,MATCH(\"A\",E1657:H1657,0)))=\"A\",\"A\",\"\"),_xlfn.IFNA(IF((INDEX(E1657:H1657,MATCH(\"n.a.\",E1657:H1657,0)))=\"n.a.\",\"\",\"\"),_xlfn.IFNA(IF((INDEX(E1657:H1657,MATCH(\"\",E1657:H1657,0)))=\"\",\"\",\"\"),\"\"))))))))","v":""}]
[]
[]
[null,"\nStep 3: D(E) Assessment\nSkip this step if \nyour assessment above does not reveal a D(E) hazard level.\nHover over this cell for additional instructions.\n",null,null,"\nOverall hazard level\n",null,{"$f":"IF(AND(E1658=\"\",C1644=\"Yes\")=TRUE,\"B\",IF(E1658=\"\",\"\",(IF(AND(E1658=\"D (E)\",C1661=\"\"),\"D (E)\"&CHAR(10)&\"Find if cat. 1 acute tox.\",(IF(E1658<>\"D (E)\",E1658,(IF(AND(E1658=\"D (E)\",C1661=\"Yes\"),\"E\",(IF(AND(E1658=\"D (E)\",C1661=\"No\"),\"D\",\"\"))))))))))","v":""}]
[]
[{"$f":"IF(IF(MOD(ROWS(B$3:B1663),20)=1,INDEX('Summary Sheet'!$A$17:$A1694,INT(ROWS(B$3:B1663)/20)+1),\"\")=0,\"\",IF(MOD(ROWS(B$3:B1663),20)=1,INDEX('Summary Sheet'!$A$17:$A1694,INT(ROWS(B$3:B1663)/20)+1),\"\"))","v":84},"Hazard Level Assessment","for",{"$f":"IF(IF(MOD(ROWS(D$3:D1663),20)=1,INDEX('Summary Sheet'!$B$17:$B1694,INT(ROWS(D$3:D1663)/20)+1),\"\")=0,\"\",IF(MOD(ROWS(D$3:D1663),20)=1,INDEX('Summary Sheet'!$B$17:$B1694,INT(ROWS(D$3:D1663)/20)+1),\"\"))","v":""}]
[null,"\nStep 1: Physical & Environmental Hazard Statements/Codes\nFind Section 2 of the SDS and determine if the SDS has physical and/or environmental hazard statements/codes. Hover on this cell for additional instructions.\n",null,{"$f":"IF(IF(MOD(ROWS(D$3:D1664),20)=1,INDEX('Summary Sheet'!$B$17:$B1694,INT(ROWS(D$3:D1664)/20)+1),\"\")=0,\"\",IF(MOD(ROWS(D$3:D1664),20)=1,INDEX('Summary Sheet'!$B$17:$B1694,INT(ROWS(D$3:D1664)/20)+1),\"\"))","v":""}]
[null,"Step 2: Health Hazard Statements/Codes\nProvide the Health Hazard Statements or Codes from Section 2 of the SDS below. Hover on this cell for additional instructions.",null,{"$f":"IF(IF(MOD(ROWS(D$3:D1665),20)=1,INDEX('Summary Sheet'!$B$17:$B1694,INT(ROWS(D$3:D1665)/20)+1),\"\")=0,\"\",IF(MOD(ROWS(D$3:D1665),20)=1,INDEX('Summary Sheet'!$B$17:$B1694,INT(ROWS(D$3:D1665)/20)+1),\"\"))","v":""},"\nHazard Level\n"]
[null,null,null,{"$f":"IF(IF(MOD(ROWS(D$3:D1666),20)=1,INDEX('Summary Sheet'!$B$17:$B1694,INT(ROWS(D$3:D1666)/20)+1),\"\")=0,\"\",IF(MOD(ROWS(D$3:D1666),20)=1,INDEX('Summary Sheet'!$B$17:$B1694,INT(ROWS(D$3:D1666)/20)+1),\"\"))","v":""},"\nEye Damage\n","\nInhalation\n","\nLocal Skin Damage\n","\nSkin uptake, systemic\n"]
[1,null,{"$f":"_xlfn.IFNA(VLOOKUP(B1667,_!$A$7:$F$210,6,FALSE),\"\")","v":""},{"$f":"IF(IF(MOD(ROWS(D$3:D1667),20)=1,INDEX('Summary Sheet'!$B$17:$B1694,INT(ROWS(D$3:D1667)/20)+1),\"\")=0,\"\",IF(MOD(ROWS(D$3:D1667),20)=1,INDEX('Summary Sheet'!$B$17:$B1694,INT(ROWS(D$3:D1667)/20)+1),\"\"))","v":""},{"$f":"_xlfn.IFNA(IF(VLOOKUP(B1667,_!$A$7:$E$210,2,FALSE)=0, \"\", VLOOKUP(B1667,_!$A$7:$E$210,2,FALSE)),  \"\")","v":""},{"$f":"_xlfn.IFNA(IF(VLOOKUP(B1667,_!$A$7:$E$210,3,FALSE)=0, \"\", VLOOKUP(B1667,_!$A$7:$E$210,3,FALSE)), \"\")","v":""},{"$f":"_xlfn.IFNA(IF(VLOOKUP(B1667,_!$A$7:$E$210,4,FALSE)=0, \"\",VLOOKUP(B1667,_!$A$7:$E$210,4,FALSE)), \"\")","v":""},{"$f":"_xlfn.IFNA(IF(VLOOKUP(B1667,_!$A$7:$E$210,5,FALSE)=0,\"\",VLOOKUP(B1667,_!$A$7:$E$210,5,FALSE)), \"\")","v":""}]
[2,null,{"$f":"_xlfn.IFNA(VLOOKUP(B1668,_!$A$7:$F$210,6,FALSE),\"\")","v":""},{"$f":"IF(IF(MOD(ROWS(D$3:D1668),20)=1,INDEX('Summary Sheet'!$B$17:$B1694,INT(ROWS(D$3:D1668)/20)+1),\"\")=0,\"\",IF(MOD(ROWS(D$3:D1668),20)=1,INDEX('Summary Sheet'!$B$17:$B1694,INT(ROWS(D$3:D1668)/20)+1),\"\"))","v":""},{"$f":"_xlfn.IFNA(IF(VLOOKUP(B1668,_!$A$7:$E$210,2,FALSE)=0, \"\", VLOOKUP(B1668,_!$A$7:$E$210,2,FALSE)),  \"\")","v":""},{"$f":"_xlfn.IFNA(IF(VLOOKUP(B1668,_!$A$7:$E$210,3,FALSE)=0, \"\", VLOOKUP(B1668,_!$A$7:$E$210,3,FALSE)), \"\")","v":""},{"$f":"_xlfn.IFNA(IF(VLOOKUP(B1668,_!$A$7:$E$210,4,FALSE)=0, \"\",VLOOKUP(B1668,_!$A$7:$E$210,4,FALSE)), \"\")","v":""},{"$f":"_xlfn.IFNA(IF(VLOOKUP(B1668,_!$A$7:$E$210,5,FALSE)=0,\"\",VLOOKUP(B1668,_!$A$7:$E$210,5,FALSE)), \"\")","v":""}]
[3,null,{"$f":"_xlfn.IFNA(VLOOKUP(B1669,_!$A$7:$F$210,6,FALSE),\"\")","v":""},{"$f":"IF(IF(MOD(ROWS(D$3:D1669),20)=1,INDEX('Summary Sheet'!$B$17:$B1694,INT(ROWS(D$3:D1669)/20)+1),\"\")=0,\"\",IF(MOD(ROWS(D$3:D1669),20)=1,INDEX('Summary Sheet'!$B$17:$B1694,INT(ROWS(D$3:D1669)/20)+1),\"\"))","v":""},{"$f":"_xlfn.IFNA(IF(VLOOKUP(B1669,_!$A$7:$E$210,2,FALSE)=0, \"\", VLOOKUP(B1669,_!$A$7:$E$210,2,FALSE)),  \"\")","v":""},{"$f":"_xlfn.IFNA(IF(VLOOKUP(B1669,_!$A$7:$E$210,3,FALSE)=0, \"\", VLOOKUP(B1669,_!$A$7:$E$210,3,FALSE)), \"\")","v":""},{"$f":"_xlfn.IFNA(IF(VLOOKUP(B1669,_!$A$7:$E$210,4,FALSE)=0, \"\",VLOOKUP(B1669,_!$A$7:$E$210,4,FALSE)), \"\")","v":""},{"$f":"_xlfn.IFNA(IF(VLOOKUP(B1669,_!$A$7:$E$210,5,FALSE)=0,\"\",VLOOKUP(B1669,_!$A$7:$E$210,5,FALSE)), \"\")","v":""}]
[4,null,{"$f":"_xlfn.IFNA(VLOOKUP(B1670,_!$A$7:$F$210,6,FALSE),\"\")","v":""},{"$f":"IF(IF(MOD(ROWS(D$3:D1670),20)=1,INDEX('Summary Sheet'!$B$17:$B1694,INT(ROWS(D$3:D1670)/20)+1),\"\")=0,\"\",IF(MOD(ROWS(D$3:D1670),20)=1,INDEX('Summary Sheet'!$B$17:$B1694,INT(ROWS(D$3:D1670)/20)+1),\"\"))","v":""},{"$f":"_xlfn.IFNA(IF(VLOOKUP(B1670,_!$A$7:$E$210,2,FALSE)=0, \"\", VLOOKUP(B1670,_!$A$7:$E$210,2,FALSE)),  \"\")","v":""},{"$f":"_xlfn.IFNA(IF(VLOOKUP(B1670,_!$A$7:$E$210,3,FALSE)=0, \"\", VLOOKUP(B1670,_!$A$7:$E$210,3,FALSE)), \"\")","v":""},{"$f":"_xlfn.IFNA(IF(VLOOKUP(B1670,_!$A$7:$E$210,4,FALSE)=0, \"\",VLOOKUP(B1670,_!$A$7:$E$210,4,FALSE)), \"\")","v":""},{"$f":"_xlfn.IFNA(IF(VLOOKUP(B1670,_!$A$7:$E$210,5,FALSE)=0,\"\",VLOOKUP(B1670,_!$A$7:$E$210,5,FALSE)), \"\")","v":""}]
[5,null,{"$f":"_xlfn.IFNA(VLOOKUP(B1671,_!$A$7:$F$210,6,FALSE),\"\")","v":""},{"$f":"IF(IF(MOD(ROWS(D$3:D1671),20)=1,INDEX('Summary Sheet'!$B$17:$B1694,INT(ROWS(D$3:D1671)/20)+1),\"\")=0,\"\",IF(MOD(ROWS(D$3:D1671),20)=1,INDEX('Summary Sheet'!$B$17:$B1694,INT(ROWS(D$3:D1671)/20)+1),\"\"))","v":""},{"$f":"_xlfn.IFNA(IF(VLOOKUP(B1671,_!$A$7:$E$210,2,FALSE)=0, \"\", VLOOKUP(B1671,_!$A$7:$E$210,2,FALSE)),  \"\")","v":""},{"$f":"_xlfn.IFNA(IF(VLOOKUP(B1671,_!$A$7:$E$210,3,FALSE)=0, \"\", VLOOKUP(B1671,_!$A$7:$E$210,3,FALSE)), \"\")","v":""},{"$f":"_xlfn.IFNA(IF(VLOOKUP(B1671,_!$A$7:$E$210,4,FALSE)=0, \"\",VLOOKUP(B1671,_!$A$7:$E$210,4,FALSE)), \"\")","v":""},{"$f":"_xlfn.IFNA(IF(VLOOKUP(B1671,_!$A$7:$E$210,5,FALSE)=0,\"\",VLOOKUP(B1671,_!$A$7:$E$210,5,FALSE)), \"\")","v":""}]
[6,null,{"$f":"_xlfn.IFNA(VLOOKUP(B1672,_!$A$7:$F$210,6,FALSE),\"\")","v":""},{"$f":"IF(IF(MOD(ROWS(D$3:D1672),20)=1,INDEX('Summary Sheet'!$B$17:$B1694,INT(ROWS(D$3:D1672)/20)+1),\"\")=0,\"\",IF(MOD(ROWS(D$3:D1672),20)=1,INDEX('Summary Sheet'!$B$17:$B1694,INT(ROWS(D$3:D1672)/20)+1),\"\"))","v":""},{"$f":"_xlfn.IFNA(IF(VLOOKUP(B1672,_!$A$7:$E$210,2,FALSE)=0, \"\", VLOOKUP(B1672,_!$A$7:$E$210,2,FALSE)),  \"\")","v":""},{"$f":"_xlfn.IFNA(IF(VLOOKUP(B1672,_!$A$7:$E$210,3,FALSE)=0, \"\", VLOOKUP(B1672,_!$A$7:$E$210,3,FALSE)), \"\")","v":""},{"$f":"_xlfn.IFNA(IF(VLOOKUP(B1672,_!$A$7:$E$210,4,FALSE)=0, \"\",VLOOKUP(B1672,_!$A$7:$E$210,4,FALSE)), \"\")","v":""},{"$f":"_xlfn.IFNA(IF(VLOOKUP(B1672,_!$A$7:$E$210,5,FALSE)=0,\"\",VLOOKUP(B1672,_!$A$7:$E$210,5,FALSE)), \"\")","v":""}]
[7,null,{"$f":"_xlfn.IFNA(VLOOKUP(B1673,_!$A$7:$F$210,6,FALSE),\"\")","v":""},{"$f":"IF(IF(MOD(ROWS(D$3:D1673),20)=1,INDEX('Summary Sheet'!$B$17:$B1694,INT(ROWS(D$3:D1673)/20)+1),\"\")=0,\"\",IF(MOD(ROWS(D$3:D1673),20)=1,INDEX('Summary Sheet'!$B$17:$B1694,INT(ROWS(D$3:D1673)/20)+1),\"\"))","v":""},{"$f":"_xlfn.IFNA(IF(VLOOKUP(B1673,_!$A$7:$E$210,2,FALSE)=0, \"\", VLOOKUP(B1673,_!$A$7:$E$210,2,FALSE)),  \"\")","v":""},{"$f":"_xlfn.IFNA(IF(VLOOKUP(B1673,_!$A$7:$E$210,3,FALSE)=0, \"\", VLOOKUP(B1673,_!$A$7:$E$210,3,FALSE)), \"\")","v":""},{"$f":"_xlfn.IFNA(IF(VLOOKUP(B1673,_!$A$7:$E$210,4,FALSE)=0, \"\",VLOOKUP(B1673,_!$A$7:$E$210,4,FALSE)), \"\")","v":""},{"$f":"_xlfn.IFNA(IF(VLOOKUP(B1673,_!$A$7:$E$210,5,FALSE)=0,\"\",VLOOKUP(B1673,_!$A$7:$E$210,5,FALSE)), \"\")","v":""}]
[8,null,{"$f":"_xlfn.IFNA(VLOOKUP(B1674,_!$A$7:$F$210,6,FALSE),\"\")","v":""},{"$f":"IF(IF(MOD(ROWS(D$3:D1674),20)=1,INDEX('Summary Sheet'!$B$17:$B1694,INT(ROWS(D$3:D1674)/20)+1),\"\")=0,\"\",IF(MOD(ROWS(D$3:D1674),20)=1,INDEX('Summary Sheet'!$B$17:$B1694,INT(ROWS(D$3:D1674)/20)+1),\"\"))","v":""},{"$f":"_xlfn.IFNA(IF(VLOOKUP(B1674,_!$A$7:$E$210,2,FALSE)=0, \"\", VLOOKUP(B1674,_!$A$7:$E$210,2,FALSE)),  \"\")","v":""},{"$f":"_xlfn.IFNA(IF(VLOOKUP(B1674,_!$A$7:$E$210,3,FALSE)=0, \"\", VLOOKUP(B1674,_!$A$7:$E$210,3,FALSE)), \"\")","v":""},{"$f":"_xlfn.IFNA(IF(VLOOKUP(B1674,_!$A$7:$E$210,4,FALSE)=0, \"\",VLOOKUP(B1674,_!$A$7:$E$210,4,FALSE)), \"\")","v":""},{"$f":"_xlfn.IFNA(IF(VLOOKUP(B1674,_!$A$7:$E$210,5,FALSE)=0,\"\",VLOOKUP(B1674,_!$A$7:$E$210,5,FALSE)), \"\")","v":""}]
[9,null,{"$f":"_xlfn.IFNA(VLOOKUP(B1675,_!$A$7:$F$210,6,FALSE),\"\")","v":""},{"$f":"IF(IF(MOD(ROWS(D$3:D1675),20)=1,INDEX('Summary Sheet'!$B$17:$B1694,INT(ROWS(D$3:D1675)/20)+1),\"\")=0,\"\",IF(MOD(ROWS(D$3:D1675),20)=1,INDEX('Summary Sheet'!$B$17:$B1694,INT(ROWS(D$3:D1675)/20)+1),\"\"))","v":""},{"$f":"_xlfn.IFNA(IF(VLOOKUP(B1675,_!$A$7:$E$210,2,FALSE)=0, \"\", VLOOKUP(B1675,_!$A$7:$E$210,2,FALSE)),  \"\")","v":""},{"$f":"_xlfn.IFNA(IF(VLOOKUP(B1675,_!$A$7:$E$210,3,FALSE)=0, \"\", VLOOKUP(B1675,_!$A$7:$E$210,3,FALSE)), \"\")","v":""},{"$f":"_xlfn.IFNA(IF(VLOOKUP(B1675,_!$A$7:$E$210,4,FALSE)=0, \"\",VLOOKUP(B1675,_!$A$7:$E$210,4,FALSE)), \"\")","v":""},{"$f":"_xlfn.IFNA(IF(VLOOKUP(B1675,_!$A$7:$E$210,5,FALSE)=0,\"\",VLOOKUP(B1675,_!$A$7:$E$210,5,FALSE)), \"\")","v":""}]
[10,null,{"$f":"_xlfn.IFNA(VLOOKUP(B1676,_!$A$7:$F$210,6,FALSE),\"\")","v":""},{"$f":"IF(IF(MOD(ROWS(D$14:D1676),20)=1,INDEX('Summary Sheet'!$B$17:$B1694,INT(ROWS(D$14:D1676)/20)+1),\"\")=0,\"\",IF(MOD(ROWS(D$14:D1676),20)=1,INDEX('Summary Sheet'!$B$17:$B1694,INT(ROWS(D$14:D1676)/20)+1),\"\"))","v":""},{"$f":"_xlfn.IFNA(IF(VLOOKUP(B1676,_!$A$7:$E$210,2,FALSE)=0, \"\", VLOOKUP(B1676,_!$A$7:$E$210,2,FALSE)),  \"\")","v":""},{"$f":"_xlfn.IFNA(IF(VLOOKUP(B1676,_!$A$7:$E$210,3,FALSE)=0, \"\", VLOOKUP(B1676,_!$A$7:$E$210,3,FALSE)), \"\")","v":""},{"$f":"_xlfn.IFNA(IF(VLOOKUP(B1676,_!$A$7:$E$210,4,FALSE)=0, \"\",VLOOKUP(B1676,_!$A$7:$E$210,4,FALSE)), \"\")","v":""},{"$f":"_xlfn.IFNA(IF(VLOOKUP(B1676,_!$A$7:$E$210,5,FALSE)=0,\"\",VLOOKUP(B1676,_!$A$7:$E$210,5,FALSE)), \"\")","v":""}]
[null,"\nHighest hazard level for each ‘Uptake Route’\n",null,null,{"$f":"_xlfn.IFNA(IF((INDEX(E1667:E1676,MATCH(\"E\",E1667:E1676,0)))=\"E\",\"E\",\"\"),_xlfn.IFNA(IF((INDEX(E1667:E1676,MATCH(\"D\",E1667:E1676,0)))=\"D\",\"D\",\"\"),_xlfn.IFNA(IF((INDEX(E1667:E1676,MATCH(\"Ca\",E1667:E1676,0)))=\"Ca\",\"C\",\"\"),_xlfn.IFNA(IF((INDEX(E1667:E1676,MATCH(\"C\",E1667:E1676,0)))=\"C\",\"C\",\"\"),_xlfn.IFNA(IF((INDEX(E1667:E1676,MATCH(\"B\",E1667:E1676,0)))=\"B\",\"B\",\"\"),_xlfn.IFNA(IF((INDEX(E1667:E1676,MATCH(\"A\",E1667:E1676,0)))=\"A\",\"A\",\"\"),_xlfn.IFNA(IF((INDEX(E1667:E1676,MATCH(\"n.a.\",E1667:E1676,0)))=\"n.a.\",\"\",\"\"),_xlfn.IFNA(IF((INDEX(E1667:E1676,MATCH(\"\",E1667:E1676,0)))=\"\",\"\",\"\"),\"\"))))))))","v":""},{"$f":"_xlfn.IFNA(IF((INDEX(F1667:F1676,MATCH(\"E\",F1667:F1676,0)))=\"E\",\"E\",\"\"),_xlfn.IFNA(IF((INDEX(F1667:F1676,MATCH(\"D (E)c\",F1667:F1676,0)))=\"D (E)c\",\"D (E)c\",\"\"),_xlfn.IFNA(IF((INDEX(F1667:F1676,MATCH(\"Da (E)c\",F1667:F1676,0)))=\"Da (E)c\",\"D (E)c\",\"\"),_xlfn.IFNA(IF((INDEX(F1667:F1676,MATCH(\"D\",F1667:F1676,0)))=\"D\",\"D\",\"\"),_xlfn.IFNA(IF((INDEX(F1667:F1676,MATCH(\"Ca\",F1667:F1676,0)))=\"Ca\",\"C\",\"\"),_xlfn.IFNA(IF((INDEX(F1667:F1676,MATCH(\"C\",F1667:F1676,0)))=\"C\",\"C\",\"\"),_xlfn.IFNA(IF((INDEX(F1667:F1676,MATCH(\"Ba\",F1667:F1676,0)))=\"Ba\",\"B\",\"\"),_xlfn.IFNA(IF((INDEX(F1667:F1676,MATCH(\"B\",F1667:F1676,0)))=\"B\",\"B\",\"\"),_xlfn.IFNA(IF((INDEX(F1667:F1676,MATCH(\"Aa\",F1667:F1676,0)))=\"Aa\",\"A\",\"\"),_xlfn.IFNA(IF((INDEX(F1667:F1676,MATCH(\"A\",F1667:F1676,0)))=\"A\",\"A\",\"\"),_xlfn.IFNA(IF((INDEX(F1667:F1676,MATCH(\"n.a.\",F1667:F1676,0)))=\"n.a.\",\"\",\"\"),_xlfn.IFNA(IF((INDEX(F1667:F1676,MATCH(\"\",F1667:F1676,0)))=\"\",\"\",\"\"),\"\"))))))))))))","v":""},{"$f":"_xlfn.IFNA(IF((INDEX(G1667:G1676,MATCH(\"E\",G1667:G1676,0)))=\"E\",\"E\",\"\"),_xlfn.IFNA(IF((INDEX(G1667:G1676,MATCH(\"D\",G1667:G1676,0)))=\"D\",\"D\",\"\"),_xlfn.IFNA(IF((INDEX(G1667:G1676,MATCH(\"Ca\",G1667:G1676,0)))=\"Ca\",\"C\",\"\"),_xlfn.IFNA(IF((INDEX(G1667:G1676,MATCH(\"C\",G1667:G1676,0)))=\"C\",\"C\",\"\"),_xlfn.IFNA(IF((INDEX(G1667:G1676,MATCH(\"B\",G1667:G1676,0)))=\"B\",\"B\",\"\"),_xlfn.IFNA(IF((INDEX(G1667:G1676,MATCH(\"A\",G1667:G1676,0)))=\"A\",\"A\",\"\"),_xlfn.IFNA(IF((INDEX(G1667:G1676,MATCH(\"n.a.\",G1667:G1676,0)))=\"n.a.\",\"\",\"\"),_xlfn.IFNA(IF((INDEX(G1667:G1676,MATCH(\"\",G1667:G1676,0)))=\"\",\"\",\"\"),\"\"))))))))","v":""},{"$f":"_xlfn.IFNA(IF((INDEX(H1667:H1676,MATCH(\"E\",H1667:H1676,0)))=\"E\",\"E\",\"\"),_xlfn.IFNA(IF((INDEX(H1667:H1676,MATCH(\"D (E)c\",H1667:H1676,0)))=\"D (E)c\",\"D (E)c\",\"\"),_xlfn.IFNA(IF((INDEX(H1667:H1676,MATCH(\"Db (E)c\",H1667:H1676,0)))=\"Db (E)c\",\"D (E)c\",\"\"),_xlfn.IFNA(IF((INDEX(H1667:H1676,MATCH(\"D\",H1667:H1676,0)))=\"D\",\"D\",\"\"),_xlfn.IFNA(IF((INDEX(H1667:H1676,MATCH(\"Cb\",H1667:H1676,0)))=\"Cb\",\"C\",\"\"),_xlfn.IFNA(IF((INDEX(H1667:H1676,MATCH(\"C\",H1667:H1676,0)))=\"C\",\"C\",\"\"),_xlfn.IFNA(IF((INDEX(H1667:H1676,MATCH(\"Bb\",H1667:H1676,0)))=\"Bb\",\"B\",\"\"),_xlfn.IFNA(IF((INDEX(H1667:H1676,MATCH(\"B\",H1667:H1676,0)))=\"B\",\"B\",\"\"),_xlfn.IFNA(IF((INDEX(H1667:H1676,MATCH(\"Ab\",H1667:H1676,0)))=\"Ab\",\"A\",\"\"),_xlfn.IFNA(IF((INDEX(H1667:H1676,MATCH(\"A\",H1667:H1676,0)))=\"A\",\"A\",\"\"),_xlfn.IFNA(IF((INDEX(H1667:H1676,MATCH(\"n.a.\",H1667:H1676,0)))=\"n.a.\",\"\",\"\"),_xlfn.IFNA(IF((INDEX(H1667:H1676,MATCH(\"\",H1667:H1676,0)))=\"\",\"\",\"\"),\"\"))))))))))))","v":""}]
[null,"\nHighest hazard level for all 'Uptake Routes' \n",null,null,{"$f":"_xlfn.IFNA(IF((INDEX(E1677:H1677,MATCH(\"E\",E1677:H1677,0)))=\"E\",\"E\",\"\"),_xlfn.IFNA(IF((INDEX(E1677:H1677,MATCH(\"D (E)c\",E1677:H1677,0)))=\"D (E)c\",\"D (E)\",\"\"),_xlfn.IFNA(IF((INDEX(E1677:H1677,MATCH(\"D\",E1677:H1677,0)))=\"D\",\"D\",\"\"),_xlfn.IFNA(IF((INDEX(E1677:H1677,MATCH(\"C\",E1677:H1677,0)))=\"C\",\"C\",\"\"),_xlfn.IFNA(IF((INDEX(E1677:H1677,MATCH(\"B\",E1677:H1677,0)))=\"B\",\"B\",\"\"),_xlfn.IFNA(IF((INDEX(E1677:H1677,MATCH(\"A\",E1677:H1677,0)))=\"A\",\"A\",\"\"),_xlfn.IFNA(IF((INDEX(E1677:H1677,MATCH(\"n.a.\",E1677:H1677,0)))=\"n.a.\",\"\",\"\"),_xlfn.IFNA(IF((INDEX(E1677:H1677,MATCH(\"\",E1677:H1677,0)))=\"\",\"\",\"\"),\"\"))))))))","v":""}]
[]
[]
[null,"\nStep 3: D(E) Assessment\nSkip this step if \nyour assessment above does not reveal a D(E) hazard level.\nHover over this cell for additional instructions.\n",null,null,"\nOverall hazard level\n",null,{"$f":"IF(AND(E1678=\"\",C1664=\"Yes\")=TRUE,\"B\",IF(E1678=\"\",\"\",(IF(AND(E1678=\"D (E)\",C1681=\"\"),\"D (E)\"&CHAR(10)&\"Find if cat. 1 acute tox.\",(IF(E1678<>\"D (E)\",E1678,(IF(AND(E1678=\"D (E)\",C1681=\"Yes\"),\"E\",(IF(AND(E1678=\"D (E)\",C1681=\"No\"),\"D\",\"\"))))))))))","v":""}]
[]
[{"$f":"IF(IF(MOD(ROWS(B$3:B1683),20)=1,INDEX('Summary Sheet'!$A$17:$A1713,INT(ROWS(B$3:B1683)/20)+1),\"\")=0,\"\",IF(MOD(ROWS(B$3:B1683),20)=1,INDEX('Summary Sheet'!$A$17:$A1713,INT(ROWS(B$3:B1683)/20)+1),\"\"))","v":85},"Hazard Level Assessment","for",{"$f":"IF(IF(MOD(ROWS(D$3:D1683),20)=1,INDEX('Summary Sheet'!$B$17:$B1713,INT(ROWS(D$3:D1683)/20)+1),\"\")=0,\"\",IF(MOD(ROWS(D$3:D1683),20)=1,INDEX('Summary Sheet'!$B$17:$B1713,INT(ROWS(D$3:D1683)/20)+1),\"\"))","v":""}]
[null,"\nStep 1: Physical & Environmental Hazard Statements/Codes\nFind Section 2 of the SDS and determine if the SDS has physical and/or environmental hazard statements/codes. Hover on this cell for additional instructions.\n",null,{"$f":"IF(IF(MOD(ROWS(D$3:D1684),20)=1,INDEX('Summary Sheet'!$B$17:$B1713,INT(ROWS(D$3:D1684)/20)+1),\"\")=0,\"\",IF(MOD(ROWS(D$3:D1684),20)=1,INDEX('Summary Sheet'!$B$17:$B1713,INT(ROWS(D$3:D1684)/20)+1),\"\"))","v":""}]
[null,"Step 2: Health Hazard Statements/Codes\nProvide the Health Hazard Statements or Codes from Section 2 of the SDS below. Hover on this cell for additional instructions.",null,{"$f":"IF(IF(MOD(ROWS(D$3:D1685),20)=1,INDEX('Summary Sheet'!$B$17:$B1713,INT(ROWS(D$3:D1685)/20)+1),\"\")=0,\"\",IF(MOD(ROWS(D$3:D1685),20)=1,INDEX('Summary Sheet'!$B$17:$B1713,INT(ROWS(D$3:D1685)/20)+1),\"\"))","v":""},"\nHazard Level\n"]
[null,null,null,{"$f":"IF(IF(MOD(ROWS(D$3:D1686),20)=1,INDEX('Summary Sheet'!$B$17:$B1713,INT(ROWS(D$3:D1686)/20)+1),\"\")=0,\"\",IF(MOD(ROWS(D$3:D1686),20)=1,INDEX('Summary Sheet'!$B$17:$B1713,INT(ROWS(D$3:D1686)/20)+1),\"\"))","v":""},"\nEye Damage\n","\nInhalation\n","\nLocal Skin Damage\n","\nSkin uptake, systemic\n"]
[1,null,{"$f":"_xlfn.IFNA(VLOOKUP(B1687,_!$A$7:$F$210,6,FALSE),\"\")","v":""},{"$f":"IF(IF(MOD(ROWS(D$3:D1687),20)=1,INDEX('Summary Sheet'!$B$17:$B1713,INT(ROWS(D$3:D1687)/20)+1),\"\")=0,\"\",IF(MOD(ROWS(D$3:D1687),20)=1,INDEX('Summary Sheet'!$B$17:$B1713,INT(ROWS(D$3:D1687)/20)+1),\"\"))","v":""},{"$f":"_xlfn.IFNA(IF(VLOOKUP(B1687,_!$A$7:$E$210,2,FALSE)=0, \"\", VLOOKUP(B1687,_!$A$7:$E$210,2,FALSE)),  \"\")","v":""},{"$f":"_xlfn.IFNA(IF(VLOOKUP(B1687,_!$A$7:$E$210,3,FALSE)=0, \"\", VLOOKUP(B1687,_!$A$7:$E$210,3,FALSE)), \"\")","v":""},{"$f":"_xlfn.IFNA(IF(VLOOKUP(B1687,_!$A$7:$E$210,4,FALSE)=0, \"\",VLOOKUP(B1687,_!$A$7:$E$210,4,FALSE)), \"\")","v":""},{"$f":"_xlfn.IFNA(IF(VLOOKUP(B1687,_!$A$7:$E$210,5,FALSE)=0,\"\",VLOOKUP(B1687,_!$A$7:$E$210,5,FALSE)), \"\")","v":""}]
[2,null,{"$f":"_xlfn.IFNA(VLOOKUP(B1688,_!$A$7:$F$210,6,FALSE),\"\")","v":""},{"$f":"IF(IF(MOD(ROWS(D$3:D1688),20)=1,INDEX('Summary Sheet'!$B$17:$B1713,INT(ROWS(D$3:D1688)/20)+1),\"\")=0,\"\",IF(MOD(ROWS(D$3:D1688),20)=1,INDEX('Summary Sheet'!$B$17:$B1713,INT(ROWS(D$3:D1688)/20)+1),\"\"))","v":""},{"$f":"_xlfn.IFNA(IF(VLOOKUP(B1688,_!$A$7:$E$210,2,FALSE)=0, \"\", VLOOKUP(B1688,_!$A$7:$E$210,2,FALSE)),  \"\")","v":""},{"$f":"_xlfn.IFNA(IF(VLOOKUP(B1688,_!$A$7:$E$210,3,FALSE)=0, \"\", VLOOKUP(B1688,_!$A$7:$E$210,3,FALSE)), \"\")","v":""},{"$f":"_xlfn.IFNA(IF(VLOOKUP(B1688,_!$A$7:$E$210,4,FALSE)=0, \"\",VLOOKUP(B1688,_!$A$7:$E$210,4,FALSE)), \"\")","v":""},{"$f":"_xlfn.IFNA(IF(VLOOKUP(B1688,_!$A$7:$E$210,5,FALSE)=0,\"\",VLOOKUP(B1688,_!$A$7:$E$210,5,FALSE)), \"\")","v":""}]
[3,null,{"$f":"_xlfn.IFNA(VLOOKUP(B1689,_!$A$7:$F$210,6,FALSE),\"\")","v":""},{"$f":"IF(IF(MOD(ROWS(D$3:D1689),20)=1,INDEX('Summary Sheet'!$B$17:$B1713,INT(ROWS(D$3:D1689)/20)+1),\"\")=0,\"\",IF(MOD(ROWS(D$3:D1689),20)=1,INDEX('Summary Sheet'!$B$17:$B1713,INT(ROWS(D$3:D1689)/20)+1),\"\"))","v":""},{"$f":"_xlfn.IFNA(IF(VLOOKUP(B1689,_!$A$7:$E$210,2,FALSE)=0, \"\", VLOOKUP(B1689,_!$A$7:$E$210,2,FALSE)),  \"\")","v":""},{"$f":"_xlfn.IFNA(IF(VLOOKUP(B1689,_!$A$7:$E$210,3,FALSE)=0, \"\", VLOOKUP(B1689,_!$A$7:$E$210,3,FALSE)), \"\")","v":""},{"$f":"_xlfn.IFNA(IF(VLOOKUP(B1689,_!$A$7:$E$210,4,FALSE)=0, \"\",VLOOKUP(B1689,_!$A$7:$E$210,4,FALSE)), \"\")","v":""},{"$f":"_xlfn.IFNA(IF(VLOOKUP(B1689,_!$A$7:$E$210,5,FALSE)=0,\"\",VLOOKUP(B1689,_!$A$7:$E$210,5,FALSE)), \"\")","v":""}]
[4,null,{"$f":"_xlfn.IFNA(VLOOKUP(B1690,_!$A$7:$F$210,6,FALSE),\"\")","v":""},{"$f":"IF(IF(MOD(ROWS(D$3:D1690),20)=1,INDEX('Summary Sheet'!$B$17:$B1713,INT(ROWS(D$3:D1690)/20)+1),\"\")=0,\"\",IF(MOD(ROWS(D$3:D1690),20)=1,INDEX('Summary Sheet'!$B$17:$B1713,INT(ROWS(D$3:D1690)/20)+1),\"\"))","v":""},{"$f":"_xlfn.IFNA(IF(VLOOKUP(B1690,_!$A$7:$E$210,2,FALSE)=0, \"\", VLOOKUP(B1690,_!$A$7:$E$210,2,FALSE)),  \"\")","v":""},{"$f":"_xlfn.IFNA(IF(VLOOKUP(B1690,_!$A$7:$E$210,3,FALSE)=0, \"\", VLOOKUP(B1690,_!$A$7:$E$210,3,FALSE)), \"\")","v":""},{"$f":"_xlfn.IFNA(IF(VLOOKUP(B1690,_!$A$7:$E$210,4,FALSE)=0, \"\",VLOOKUP(B1690,_!$A$7:$E$210,4,FALSE)), \"\")","v":""},{"$f":"_xlfn.IFNA(IF(VLOOKUP(B1690,_!$A$7:$E$210,5,FALSE)=0,\"\",VLOOKUP(B1690,_!$A$7:$E$210,5,FALSE)), \"\")","v":""}]
[5,null,{"$f":"_xlfn.IFNA(VLOOKUP(B1691,_!$A$7:$F$210,6,FALSE),\"\")","v":""},{"$f":"IF(IF(MOD(ROWS(D$3:D1691),20)=1,INDEX('Summary Sheet'!$B$17:$B1713,INT(ROWS(D$3:D1691)/20)+1),\"\")=0,\"\",IF(MOD(ROWS(D$3:D1691),20)=1,INDEX('Summary Sheet'!$B$17:$B1713,INT(ROWS(D$3:D1691)/20)+1),\"\"))","v":""},{"$f":"_xlfn.IFNA(IF(VLOOKUP(B1691,_!$A$7:$E$210,2,FALSE)=0, \"\", VLOOKUP(B1691,_!$A$7:$E$210,2,FALSE)),  \"\")","v":""},{"$f":"_xlfn.IFNA(IF(VLOOKUP(B1691,_!$A$7:$E$210,3,FALSE)=0, \"\", VLOOKUP(B1691,_!$A$7:$E$210,3,FALSE)), \"\")","v":""},{"$f":"_xlfn.IFNA(IF(VLOOKUP(B1691,_!$A$7:$E$210,4,FALSE)=0, \"\",VLOOKUP(B1691,_!$A$7:$E$210,4,FALSE)), \"\")","v":""},{"$f":"_xlfn.IFNA(IF(VLOOKUP(B1691,_!$A$7:$E$210,5,FALSE)=0,\"\",VLOOKUP(B1691,_!$A$7:$E$210,5,FALSE)), \"\")","v":""}]
[6,null,{"$f":"_xlfn.IFNA(VLOOKUP(B1692,_!$A$7:$F$210,6,FALSE),\"\")","v":""},{"$f":"IF(IF(MOD(ROWS(D$3:D1692),20)=1,INDEX('Summary Sheet'!$B$17:$B1713,INT(ROWS(D$3:D1692)/20)+1),\"\")=0,\"\",IF(MOD(ROWS(D$3:D1692),20)=1,INDEX('Summary Sheet'!$B$17:$B1713,INT(ROWS(D$3:D1692)/20)+1),\"\"))","v":""},{"$f":"_xlfn.IFNA(IF(VLOOKUP(B1692,_!$A$7:$E$210,2,FALSE)=0, \"\", VLOOKUP(B1692,_!$A$7:$E$210,2,FALSE)),  \"\")","v":""},{"$f":"_xlfn.IFNA(IF(VLOOKUP(B1692,_!$A$7:$E$210,3,FALSE)=0, \"\", VLOOKUP(B1692,_!$A$7:$E$210,3,FALSE)), \"\")","v":""},{"$f":"_xlfn.IFNA(IF(VLOOKUP(B1692,_!$A$7:$E$210,4,FALSE)=0, \"\",VLOOKUP(B1692,_!$A$7:$E$210,4,FALSE)), \"\")","v":""},{"$f":"_xlfn.IFNA(IF(VLOOKUP(B1692,_!$A$7:$E$210,5,FALSE)=0,\"\",VLOOKUP(B1692,_!$A$7:$E$210,5,FALSE)), \"\")","v":""}]
[7,null,{"$f":"_xlfn.IFNA(VLOOKUP(B1693,_!$A$7:$F$210,6,FALSE),\"\")","v":""},{"$f":"IF(IF(MOD(ROWS(D$3:D1693),20)=1,INDEX('Summary Sheet'!$B$17:$B1713,INT(ROWS(D$3:D1693)/20)+1),\"\")=0,\"\",IF(MOD(ROWS(D$3:D1693),20)=1,INDEX('Summary Sheet'!$B$17:$B1713,INT(ROWS(D$3:D1693)/20)+1),\"\"))","v":""},{"$f":"_xlfn.IFNA(IF(VLOOKUP(B1693,_!$A$7:$E$210,2,FALSE)=0, \"\", VLOOKUP(B1693,_!$A$7:$E$210,2,FALSE)),  \"\")","v":""},{"$f":"_xlfn.IFNA(IF(VLOOKUP(B1693,_!$A$7:$E$210,3,FALSE)=0, \"\", VLOOKUP(B1693,_!$A$7:$E$210,3,FALSE)), \"\")","v":""},{"$f":"_xlfn.IFNA(IF(VLOOKUP(B1693,_!$A$7:$E$210,4,FALSE)=0, \"\",VLOOKUP(B1693,_!$A$7:$E$210,4,FALSE)), \"\")","v":""},{"$f":"_xlfn.IFNA(IF(VLOOKUP(B1693,_!$A$7:$E$210,5,FALSE)=0,\"\",VLOOKUP(B1693,_!$A$7:$E$210,5,FALSE)), \"\")","v":""}]
[8,null,{"$f":"_xlfn.IFNA(VLOOKUP(B1694,_!$A$7:$F$210,6,FALSE),\"\")","v":""},{"$f":"IF(IF(MOD(ROWS(D$3:D1694),20)=1,INDEX('Summary Sheet'!$B$17:$B1713,INT(ROWS(D$3:D1694)/20)+1),\"\")=0,\"\",IF(MOD(ROWS(D$3:D1694),20)=1,INDEX('Summary Sheet'!$B$17:$B1713,INT(ROWS(D$3:D1694)/20)+1),\"\"))","v":""},{"$f":"_xlfn.IFNA(IF(VLOOKUP(B1694,_!$A$7:$E$210,2,FALSE)=0, \"\", VLOOKUP(B1694,_!$A$7:$E$210,2,FALSE)),  \"\")","v":""},{"$f":"_xlfn.IFNA(IF(VLOOKUP(B1694,_!$A$7:$E$210,3,FALSE)=0, \"\", VLOOKUP(B1694,_!$A$7:$E$210,3,FALSE)), \"\")","v":""},{"$f":"_xlfn.IFNA(IF(VLOOKUP(B1694,_!$A$7:$E$210,4,FALSE)=0, \"\",VLOOKUP(B1694,_!$A$7:$E$210,4,FALSE)), \"\")","v":""},{"$f":"_xlfn.IFNA(IF(VLOOKUP(B1694,_!$A$7:$E$210,5,FALSE)=0,\"\",VLOOKUP(B1694,_!$A$7:$E$210,5,FALSE)), \"\")","v":""}]
[9,null,{"$f":"_xlfn.IFNA(VLOOKUP(B1695,_!$A$7:$F$210,6,FALSE),\"\")","v":""},{"$f":"IF(IF(MOD(ROWS(D$3:D1695),20)=1,INDEX('Summary Sheet'!$B$17:$B1713,INT(ROWS(D$3:D1695)/20)+1),\"\")=0,\"\",IF(MOD(ROWS(D$3:D1695),20)=1,INDEX('Summary Sheet'!$B$17:$B1713,INT(ROWS(D$3:D1695)/20)+1),\"\"))","v":""},{"$f":"_xlfn.IFNA(IF(VLOOKUP(B1695,_!$A$7:$E$210,2,FALSE)=0, \"\", VLOOKUP(B1695,_!$A$7:$E$210,2,FALSE)),  \"\")","v":""},{"$f":"_xlfn.IFNA(IF(VLOOKUP(B1695,_!$A$7:$E$210,3,FALSE)=0, \"\", VLOOKUP(B1695,_!$A$7:$E$210,3,FALSE)), \"\")","v":""},{"$f":"_xlfn.IFNA(IF(VLOOKUP(B1695,_!$A$7:$E$210,4,FALSE)=0, \"\",VLOOKUP(B1695,_!$A$7:$E$210,4,FALSE)), \"\")","v":""},{"$f":"_xlfn.IFNA(IF(VLOOKUP(B1695,_!$A$7:$E$210,5,FALSE)=0,\"\",VLOOKUP(B1695,_!$A$7:$E$210,5,FALSE)), \"\")","v":""}]
[10,null,{"$f":"_xlfn.IFNA(VLOOKUP(B1696,_!$A$7:$F$210,6,FALSE),\"\")","v":""},{"$f":"IF(IF(MOD(ROWS(D$14:D1696),20)=1,INDEX('Summary Sheet'!$B$17:$B1713,INT(ROWS(D$14:D1696)/20)+1),\"\")=0,\"\",IF(MOD(ROWS(D$14:D1696),20)=1,INDEX('Summary Sheet'!$B$17:$B1713,INT(ROWS(D$14:D1696)/20)+1),\"\"))","v":""},{"$f":"_xlfn.IFNA(IF(VLOOKUP(B1696,_!$A$7:$E$210,2,FALSE)=0, \"\", VLOOKUP(B1696,_!$A$7:$E$210,2,FALSE)),  \"\")","v":""},{"$f":"_xlfn.IFNA(IF(VLOOKUP(B1696,_!$A$7:$E$210,3,FALSE)=0, \"\", VLOOKUP(B1696,_!$A$7:$E$210,3,FALSE)), \"\")","v":""},{"$f":"_xlfn.IFNA(IF(VLOOKUP(B1696,_!$A$7:$E$210,4,FALSE)=0, \"\",VLOOKUP(B1696,_!$A$7:$E$210,4,FALSE)), \"\")","v":""},{"$f":"_xlfn.IFNA(IF(VLOOKUP(B1696,_!$A$7:$E$210,5,FALSE)=0,\"\",VLOOKUP(B1696,_!$A$7:$E$210,5,FALSE)), \"\")","v":""}]
[null,"\nHighest hazard level for each ‘Uptake Route’\n",null,null,{"$f":"_xlfn.IFNA(IF((INDEX(E1687:E1696,MATCH(\"E\",E1687:E1696,0)))=\"E\",\"E\",\"\"),_xlfn.IFNA(IF((INDEX(E1687:E1696,MATCH(\"D\",E1687:E1696,0)))=\"D\",\"D\",\"\"),_xlfn.IFNA(IF((INDEX(E1687:E1696,MATCH(\"Ca\",E1687:E1696,0)))=\"Ca\",\"C\",\"\"),_xlfn.IFNA(IF((INDEX(E1687:E1696,MATCH(\"C\",E1687:E1696,0)))=\"C\",\"C\",\"\"),_xlfn.IFNA(IF((INDEX(E1687:E1696,MATCH(\"B\",E1687:E1696,0)))=\"B\",\"B\",\"\"),_xlfn.IFNA(IF((INDEX(E1687:E1696,MATCH(\"A\",E1687:E1696,0)))=\"A\",\"A\",\"\"),_xlfn.IFNA(IF((INDEX(E1687:E1696,MATCH(\"n.a.\",E1687:E1696,0)))=\"n.a.\",\"\",\"\"),_xlfn.IFNA(IF((INDEX(E1687:E1696,MATCH(\"\",E1687:E1696,0)))=\"\",\"\",\"\"),\"\"))))))))","v":""},{"$f":"_xlfn.IFNA(IF((INDEX(F1687:F1696,MATCH(\"E\",F1687:F1696,0)))=\"E\",\"E\",\"\"),_xlfn.IFNA(IF((INDEX(F1687:F1696,MATCH(\"D (E)c\",F1687:F1696,0)))=\"D (E)c\",\"D (E)c\",\"\"),_xlfn.IFNA(IF((INDEX(F1687:F1696,MATCH(\"Da (E)c\",F1687:F1696,0)))=\"Da (E)c\",\"D (E)c\",\"\"),_xlfn.IFNA(IF((INDEX(F1687:F1696,MATCH(\"D\",F1687:F1696,0)))=\"D\",\"D\",\"\"),_xlfn.IFNA(IF((INDEX(F1687:F1696,MATCH(\"Ca\",F1687:F1696,0)))=\"Ca\",\"C\",\"\"),_xlfn.IFNA(IF((INDEX(F1687:F1696,MATCH(\"C\",F1687:F1696,0)))=\"C\",\"C\",\"\"),_xlfn.IFNA(IF((INDEX(F1687:F1696,MATCH(\"Ba\",F1687:F1696,0)))=\"Ba\",\"B\",\"\"),_xlfn.IFNA(IF((INDEX(F1687:F1696,MATCH(\"B\",F1687:F1696,0)))=\"B\",\"B\",\"\"),_xlfn.IFNA(IF((INDEX(F1687:F1696,MATCH(\"Aa\",F1687:F1696,0)))=\"Aa\",\"A\",\"\"),_xlfn.IFNA(IF((INDEX(F1687:F1696,MATCH(\"A\",F1687:F1696,0)))=\"A\",\"A\",\"\"),_xlfn.IFNA(IF((INDEX(F1687:F1696,MATCH(\"n.a.\",F1687:F1696,0)))=\"n.a.\",\"\",\"\"),_xlfn.IFNA(IF((INDEX(F1687:F1696,MATCH(\"\",F1687:F1696,0)))=\"\",\"\",\"\"),\"\"))))))))))))","v":""},{"$f":"_xlfn.IFNA(IF((INDEX(G1687:G1696,MATCH(\"E\",G1687:G1696,0)))=\"E\",\"E\",\"\"),_xlfn.IFNA(IF((INDEX(G1687:G1696,MATCH(\"D\",G1687:G1696,0)))=\"D\",\"D\",\"\"),_xlfn.IFNA(IF((INDEX(G1687:G1696,MATCH(\"Ca\",G1687:G1696,0)))=\"Ca\",\"C\",\"\"),_xlfn.IFNA(IF((INDEX(G1687:G1696,MATCH(\"C\",G1687:G1696,0)))=\"C\",\"C\",\"\"),_xlfn.IFNA(IF((INDEX(G1687:G1696,MATCH(\"B\",G1687:G1696,0)))=\"B\",\"B\",\"\"),_xlfn.IFNA(IF((INDEX(G1687:G1696,MATCH(\"A\",G1687:G1696,0)))=\"A\",\"A\",\"\"),_xlfn.IFNA(IF((INDEX(G1687:G1696,MATCH(\"n.a.\",G1687:G1696,0)))=\"n.a.\",\"\",\"\"),_xlfn.IFNA(IF((INDEX(G1687:G1696,MATCH(\"\",G1687:G1696,0)))=\"\",\"\",\"\"),\"\"))))))))","v":""},{"$f":"_xlfn.IFNA(IF((INDEX(H1687:H1696,MATCH(\"E\",H1687:H1696,0)))=\"E\",\"E\",\"\"),_xlfn.IFNA(IF((INDEX(H1687:H1696,MATCH(\"D (E)c\",H1687:H1696,0)))=\"D (E)c\",\"D (E)c\",\"\"),_xlfn.IFNA(IF((INDEX(H1687:H1696,MATCH(\"Db (E)c\",H1687:H1696,0)))=\"Db (E)c\",\"D (E)c\",\"\"),_xlfn.IFNA(IF((INDEX(H1687:H1696,MATCH(\"D\",H1687:H1696,0)))=\"D\",\"D\",\"\"),_xlfn.IFNA(IF((INDEX(H1687:H1696,MATCH(\"Cb\",H1687:H1696,0)))=\"Cb\",\"C\",\"\"),_xlfn.IFNA(IF((INDEX(H1687:H1696,MATCH(\"C\",H1687:H1696,0)))=\"C\",\"C\",\"\"),_xlfn.IFNA(IF((INDEX(H1687:H1696,MATCH(\"Bb\",H1687:H1696,0)))=\"Bb\",\"B\",\"\"),_xlfn.IFNA(IF((INDEX(H1687:H1696,MATCH(\"B\",H1687:H1696,0)))=\"B\",\"B\",\"\"),_xlfn.IFNA(IF((INDEX(H1687:H1696,MATCH(\"Ab\",H1687:H1696,0)))=\"Ab\",\"A\",\"\"),_xlfn.IFNA(IF((INDEX(H1687:H1696,MATCH(\"A\",H1687:H1696,0)))=\"A\",\"A\",\"\"),_xlfn.IFNA(IF((INDEX(H1687:H1696,MATCH(\"n.a.\",H1687:H1696,0)))=\"n.a.\",\"\",\"\"),_xlfn.IFNA(IF((INDEX(H1687:H1696,MATCH(\"\",H1687:H1696,0)))=\"\",\"\",\"\"),\"\"))))))))))))","v":""}]
[null,"\nHighest hazard level for all 'Uptake Routes' \n",null,null,{"$f":"_xlfn.IFNA(IF((INDEX(E1697:H1697,MATCH(\"E\",E1697:H1697,0)))=\"E\",\"E\",\"\"),_xlfn.IFNA(IF((INDEX(E1697:H1697,MATCH(\"D (E)c\",E1697:H1697,0)))=\"D (E)c\",\"D (E)\",\"\"),_xlfn.IFNA(IF((INDEX(E1697:H1697,MATCH(\"D\",E1697:H1697,0)))=\"D\",\"D\",\"\"),_xlfn.IFNA(IF((INDEX(E1697:H1697,MATCH(\"C\",E1697:H1697,0)))=\"C\",\"C\",\"\"),_xlfn.IFNA(IF((INDEX(E1697:H1697,MATCH(\"B\",E1697:H1697,0)))=\"B\",\"B\",\"\"),_xlfn.IFNA(IF((INDEX(E1697:H1697,MATCH(\"A\",E1697:H1697,0)))=\"A\",\"A\",\"\"),_xlfn.IFNA(IF((INDEX(E1697:H1697,MATCH(\"n.a.\",E1697:H1697,0)))=\"n.a.\",\"\",\"\"),_xlfn.IFNA(IF((INDEX(E1697:H1697,MATCH(\"\",E1697:H1697,0)))=\"\",\"\",\"\"),\"\"))))))))","v":""}]
[]
[]
[null,"\nStep 3: D(E) Assessment\nSkip this step if \nyour assessment above does not reveal a D(E) hazard level.\nHover over this cell for additional instructions.\n",null,null,"\nOverall hazard level\n",null,{"$f":"IF(AND(E1698=\"\",C1684=\"Yes\")=TRUE,\"B\",IF(E1698=\"\",\"\",(IF(AND(E1698=\"D (E)\",C1701=\"\"),\"D (E)\"&CHAR(10)&\"Find if cat. 1 acute tox.\",(IF(E1698<>\"D (E)\",E1698,(IF(AND(E1698=\"D (E)\",C1701=\"Yes\"),\"E\",(IF(AND(E1698=\"D (E)\",C1701=\"No\"),\"D\",\"\"))))))))))","v":""}]
[]
[{"$f":"IF(IF(MOD(ROWS(B$3:B1703),20)=1,INDEX('Summary Sheet'!$A$17:$A1732,INT(ROWS(B$3:B1703)/20)+1),\"\")=0,\"\",IF(MOD(ROWS(B$3:B1703),20)=1,INDEX('Summary Sheet'!$A$17:$A1732,INT(ROWS(B$3:B1703)/20)+1),\"\"))","v":86},"Hazard Level Assessment","for",{"$f":"IF(IF(MOD(ROWS(D$3:D1703),20)=1,INDEX('Summary Sheet'!$B$17:$B1732,INT(ROWS(D$3:D1703)/20)+1),\"\")=0,\"\",IF(MOD(ROWS(D$3:D1703),20)=1,INDEX('Summary Sheet'!$B$17:$B1732,INT(ROWS(D$3:D1703)/20)+1),\"\"))","v":""}]
[null,"\nStep 1: Physical & Environmental Hazard Statements/Codes\nFind Section 2 of the SDS and determine if the SDS has physical and/or environmental hazard statements/codes. Hover on this cell for additional instructions.\n",null,{"$f":"IF(IF(MOD(ROWS(D$3:D1704),20)=1,INDEX('Summary Sheet'!$B$17:$B1732,INT(ROWS(D$3:D1704)/20)+1),\"\")=0,\"\",IF(MOD(ROWS(D$3:D1704),20)=1,INDEX('Summary Sheet'!$B$17:$B1732,INT(ROWS(D$3:D1704)/20)+1),\"\"))","v":""}]
[null,"Step 2: Health Hazard Statements/Codes\nProvide the Health Hazard Statements or Codes from Section 2 of the SDS below. Hover on this cell for additional instructions.",null,{"$f":"IF(IF(MOD(ROWS(D$3:D1705),20)=1,INDEX('Summary Sheet'!$B$17:$B1732,INT(ROWS(D$3:D1705)/20)+1),\"\")=0,\"\",IF(MOD(ROWS(D$3:D1705),20)=1,INDEX('Summary Sheet'!$B$17:$B1732,INT(ROWS(D$3:D1705)/20)+1),\"\"))","v":""},"\nHazard Level\n"]
[null,null,null,{"$f":"IF(IF(MOD(ROWS(D$3:D1706),20)=1,INDEX('Summary Sheet'!$B$17:$B1732,INT(ROWS(D$3:D1706)/20)+1),\"\")=0,\"\",IF(MOD(ROWS(D$3:D1706),20)=1,INDEX('Summary Sheet'!$B$17:$B1732,INT(ROWS(D$3:D1706)/20)+1),\"\"))","v":""},"\nEye Damage\n","\nInhalation\n","\nLocal Skin Damage\n","\nSkin uptake, systemic\n"]
[1,null,{"$f":"_xlfn.IFNA(VLOOKUP(B1707,_!$A$7:$F$210,6,FALSE),\"\")","v":""},{"$f":"IF(IF(MOD(ROWS(D$3:D1707),20)=1,INDEX('Summary Sheet'!$B$17:$B1732,INT(ROWS(D$3:D1707)/20)+1),\"\")=0,\"\",IF(MOD(ROWS(D$3:D1707),20)=1,INDEX('Summary Sheet'!$B$17:$B1732,INT(ROWS(D$3:D1707)/20)+1),\"\"))","v":""},{"$f":"_xlfn.IFNA(IF(VLOOKUP(B1707,_!$A$7:$E$210,2,FALSE)=0, \"\", VLOOKUP(B1707,_!$A$7:$E$210,2,FALSE)),  \"\")","v":""},{"$f":"_xlfn.IFNA(IF(VLOOKUP(B1707,_!$A$7:$E$210,3,FALSE)=0, \"\", VLOOKUP(B1707,_!$A$7:$E$210,3,FALSE)), \"\")","v":""},{"$f":"_xlfn.IFNA(IF(VLOOKUP(B1707,_!$A$7:$E$210,4,FALSE)=0, \"\",VLOOKUP(B1707,_!$A$7:$E$210,4,FALSE)), \"\")","v":""},{"$f":"_xlfn.IFNA(IF(VLOOKUP(B1707,_!$A$7:$E$210,5,FALSE)=0,\"\",VLOOKUP(B1707,_!$A$7:$E$210,5,FALSE)), \"\")","v":""}]
[2,null,{"$f":"_xlfn.IFNA(VLOOKUP(B1708,_!$A$7:$F$210,6,FALSE),\"\")","v":""},{"$f":"IF(IF(MOD(ROWS(D$3:D1708),20)=1,INDEX('Summary Sheet'!$B$17:$B1732,INT(ROWS(D$3:D1708)/20)+1),\"\")=0,\"\",IF(MOD(ROWS(D$3:D1708),20)=1,INDEX('Summary Sheet'!$B$17:$B1732,INT(ROWS(D$3:D1708)/20)+1),\"\"))","v":""},{"$f":"_xlfn.IFNA(IF(VLOOKUP(B1708,_!$A$7:$E$210,2,FALSE)=0, \"\", VLOOKUP(B1708,_!$A$7:$E$210,2,FALSE)),  \"\")","v":""},{"$f":"_xlfn.IFNA(IF(VLOOKUP(B1708,_!$A$7:$E$210,3,FALSE)=0, \"\", VLOOKUP(B1708,_!$A$7:$E$210,3,FALSE)), \"\")","v":""},{"$f":"_xlfn.IFNA(IF(VLOOKUP(B1708,_!$A$7:$E$210,4,FALSE)=0, \"\",VLOOKUP(B1708,_!$A$7:$E$210,4,FALSE)), \"\")","v":""},{"$f":"_xlfn.IFNA(IF(VLOOKUP(B1708,_!$A$7:$E$210,5,FALSE)=0,\"\",VLOOKUP(B1708,_!$A$7:$E$210,5,FALSE)), \"\")","v":""}]
[3,null,{"$f":"_xlfn.IFNA(VLOOKUP(B1709,_!$A$7:$F$210,6,FALSE),\"\")","v":""},{"$f":"IF(IF(MOD(ROWS(D$3:D1709),20)=1,INDEX('Summary Sheet'!$B$17:$B1732,INT(ROWS(D$3:D1709)/20)+1),\"\")=0,\"\",IF(MOD(ROWS(D$3:D1709),20)=1,INDEX('Summary Sheet'!$B$17:$B1732,INT(ROWS(D$3:D1709)/20)+1),\"\"))","v":""},{"$f":"_xlfn.IFNA(IF(VLOOKUP(B1709,_!$A$7:$E$210,2,FALSE)=0, \"\", VLOOKUP(B1709,_!$A$7:$E$210,2,FALSE)),  \"\")","v":""},{"$f":"_xlfn.IFNA(IF(VLOOKUP(B1709,_!$A$7:$E$210,3,FALSE)=0, \"\", VLOOKUP(B1709,_!$A$7:$E$210,3,FALSE)), \"\")","v":""},{"$f":"_xlfn.IFNA(IF(VLOOKUP(B1709,_!$A$7:$E$210,4,FALSE)=0, \"\",VLOOKUP(B1709,_!$A$7:$E$210,4,FALSE)), \"\")","v":""},{"$f":"_xlfn.IFNA(IF(VLOOKUP(B1709,_!$A$7:$E$210,5,FALSE)=0,\"\",VLOOKUP(B1709,_!$A$7:$E$210,5,FALSE)), \"\")","v":""}]
[4,null,{"$f":"_xlfn.IFNA(VLOOKUP(B1710,_!$A$7:$F$210,6,FALSE),\"\")","v":""},{"$f":"IF(IF(MOD(ROWS(D$3:D1710),20)=1,INDEX('Summary Sheet'!$B$17:$B1732,INT(ROWS(D$3:D1710)/20)+1),\"\")=0,\"\",IF(MOD(ROWS(D$3:D1710),20)=1,INDEX('Summary Sheet'!$B$17:$B1732,INT(ROWS(D$3:D1710)/20)+1),\"\"))","v":""},{"$f":"_xlfn.IFNA(IF(VLOOKUP(B1710,_!$A$7:$E$210,2,FALSE)=0, \"\", VLOOKUP(B1710,_!$A$7:$E$210,2,FALSE)),  \"\")","v":""},{"$f":"_xlfn.IFNA(IF(VLOOKUP(B1710,_!$A$7:$E$210,3,FALSE)=0, \"\", VLOOKUP(B1710,_!$A$7:$E$210,3,FALSE)), \"\")","v":""},{"$f":"_xlfn.IFNA(IF(VLOOKUP(B1710,_!$A$7:$E$210,4,FALSE)=0, \"\",VLOOKUP(B1710,_!$A$7:$E$210,4,FALSE)), \"\")","v":""},{"$f":"_xlfn.IFNA(IF(VLOOKUP(B1710,_!$A$7:$E$210,5,FALSE)=0,\"\",VLOOKUP(B1710,_!$A$7:$E$210,5,FALSE)), \"\")","v":""}]
[5,null,{"$f":"_xlfn.IFNA(VLOOKUP(B1711,_!$A$7:$F$210,6,FALSE),\"\")","v":""},{"$f":"IF(IF(MOD(ROWS(D$3:D1711),20)=1,INDEX('Summary Sheet'!$B$17:$B1732,INT(ROWS(D$3:D1711)/20)+1),\"\")=0,\"\",IF(MOD(ROWS(D$3:D1711),20)=1,INDEX('Summary Sheet'!$B$17:$B1732,INT(ROWS(D$3:D1711)/20)+1),\"\"))","v":""},{"$f":"_xlfn.IFNA(IF(VLOOKUP(B1711,_!$A$7:$E$210,2,FALSE)=0, \"\", VLOOKUP(B1711,_!$A$7:$E$210,2,FALSE)),  \"\")","v":""},{"$f":"_xlfn.IFNA(IF(VLOOKUP(B1711,_!$A$7:$E$210,3,FALSE)=0, \"\", VLOOKUP(B1711,_!$A$7:$E$210,3,FALSE)), \"\")","v":""},{"$f":"_xlfn.IFNA(IF(VLOOKUP(B1711,_!$A$7:$E$210,4,FALSE)=0, \"\",VLOOKUP(B1711,_!$A$7:$E$210,4,FALSE)), \"\")","v":""},{"$f":"_xlfn.IFNA(IF(VLOOKUP(B1711,_!$A$7:$E$210,5,FALSE)=0,\"\",VLOOKUP(B1711,_!$A$7:$E$210,5,FALSE)), \"\")","v":""}]
[6,null,{"$f":"_xlfn.IFNA(VLOOKUP(B1712,_!$A$7:$F$210,6,FALSE),\"\")","v":""},{"$f":"IF(IF(MOD(ROWS(D$3:D1712),20)=1,INDEX('Summary Sheet'!$B$17:$B1732,INT(ROWS(D$3:D1712)/20)+1),\"\")=0,\"\",IF(MOD(ROWS(D$3:D1712),20)=1,INDEX('Summary Sheet'!$B$17:$B1732,INT(ROWS(D$3:D1712)/20)+1),\"\"))","v":""},{"$f":"_xlfn.IFNA(IF(VLOOKUP(B1712,_!$A$7:$E$210,2,FALSE)=0, \"\", VLOOKUP(B1712,_!$A$7:$E$210,2,FALSE)),  \"\")","v":""},{"$f":"_xlfn.IFNA(IF(VLOOKUP(B1712,_!$A$7:$E$210,3,FALSE)=0, \"\", VLOOKUP(B1712,_!$A$7:$E$210,3,FALSE)), \"\")","v":""},{"$f":"_xlfn.IFNA(IF(VLOOKUP(B1712,_!$A$7:$E$210,4,FALSE)=0, \"\",VLOOKUP(B1712,_!$A$7:$E$210,4,FALSE)), \"\")","v":""},{"$f":"_xlfn.IFNA(IF(VLOOKUP(B1712,_!$A$7:$E$210,5,FALSE)=0,\"\",VLOOKUP(B1712,_!$A$7:$E$210,5,FALSE)), \"\")","v":""}]
[7,null,{"$f":"_xlfn.IFNA(VLOOKUP(B1713,_!$A$7:$F$210,6,FALSE),\"\")","v":""},{"$f":"IF(IF(MOD(ROWS(D$3:D1713),20)=1,INDEX('Summary Sheet'!$B$17:$B1732,INT(ROWS(D$3:D1713)/20)+1),\"\")=0,\"\",IF(MOD(ROWS(D$3:D1713),20)=1,INDEX('Summary Sheet'!$B$17:$B1732,INT(ROWS(D$3:D1713)/20)+1),\"\"))","v":""},{"$f":"_xlfn.IFNA(IF(VLOOKUP(B1713,_!$A$7:$E$210,2,FALSE)=0, \"\", VLOOKUP(B1713,_!$A$7:$E$210,2,FALSE)),  \"\")","v":""},{"$f":"_xlfn.IFNA(IF(VLOOKUP(B1713,_!$A$7:$E$210,3,FALSE)=0, \"\", VLOOKUP(B1713,_!$A$7:$E$210,3,FALSE)), \"\")","v":""},{"$f":"_xlfn.IFNA(IF(VLOOKUP(B1713,_!$A$7:$E$210,4,FALSE)=0, \"\",VLOOKUP(B1713,_!$A$7:$E$210,4,FALSE)), \"\")","v":""},{"$f":"_xlfn.IFNA(IF(VLOOKUP(B1713,_!$A$7:$E$210,5,FALSE)=0,\"\",VLOOKUP(B1713,_!$A$7:$E$210,5,FALSE)), \"\")","v":""}]
[8,null,{"$f":"_xlfn.IFNA(VLOOKUP(B1714,_!$A$7:$F$210,6,FALSE),\"\")","v":""},{"$f":"IF(IF(MOD(ROWS(D$3:D1714),20)=1,INDEX('Summary Sheet'!$B$17:$B1732,INT(ROWS(D$3:D1714)/20)+1),\"\")=0,\"\",IF(MOD(ROWS(D$3:D1714),20)=1,INDEX('Summary Sheet'!$B$17:$B1732,INT(ROWS(D$3:D1714)/20)+1),\"\"))","v":""},{"$f":"_xlfn.IFNA(IF(VLOOKUP(B1714,_!$A$7:$E$210,2,FALSE)=0, \"\", VLOOKUP(B1714,_!$A$7:$E$210,2,FALSE)),  \"\")","v":""},{"$f":"_xlfn.IFNA(IF(VLOOKUP(B1714,_!$A$7:$E$210,3,FALSE)=0, \"\", VLOOKUP(B1714,_!$A$7:$E$210,3,FALSE)), \"\")","v":""},{"$f":"_xlfn.IFNA(IF(VLOOKUP(B1714,_!$A$7:$E$210,4,FALSE)=0, \"\",VLOOKUP(B1714,_!$A$7:$E$210,4,FALSE)), \"\")","v":""},{"$f":"_xlfn.IFNA(IF(VLOOKUP(B1714,_!$A$7:$E$210,5,FALSE)=0,\"\",VLOOKUP(B1714,_!$A$7:$E$210,5,FALSE)), \"\")","v":""}]
[9,null,{"$f":"_xlfn.IFNA(VLOOKUP(B1715,_!$A$7:$F$210,6,FALSE),\"\")","v":""},{"$f":"IF(IF(MOD(ROWS(D$3:D1715),20)=1,INDEX('Summary Sheet'!$B$17:$B1732,INT(ROWS(D$3:D1715)/20)+1),\"\")=0,\"\",IF(MOD(ROWS(D$3:D1715),20)=1,INDEX('Summary Sheet'!$B$17:$B1732,INT(ROWS(D$3:D1715)/20)+1),\"\"))","v":""},{"$f":"_xlfn.IFNA(IF(VLOOKUP(B1715,_!$A$7:$E$210,2,FALSE)=0, \"\", VLOOKUP(B1715,_!$A$7:$E$210,2,FALSE)),  \"\")","v":""},{"$f":"_xlfn.IFNA(IF(VLOOKUP(B1715,_!$A$7:$E$210,3,FALSE)=0, \"\", VLOOKUP(B1715,_!$A$7:$E$210,3,FALSE)), \"\")","v":""},{"$f":"_xlfn.IFNA(IF(VLOOKUP(B1715,_!$A$7:$E$210,4,FALSE)=0, \"\",VLOOKUP(B1715,_!$A$7:$E$210,4,FALSE)), \"\")","v":""},{"$f":"_xlfn.IFNA(IF(VLOOKUP(B1715,_!$A$7:$E$210,5,FALSE)=0,\"\",VLOOKUP(B1715,_!$A$7:$E$210,5,FALSE)), \"\")","v":""}]
[10,null,{"$f":"_xlfn.IFNA(VLOOKUP(B1716,_!$A$7:$F$210,6,FALSE),\"\")","v":""},{"$f":"IF(IF(MOD(ROWS(D$14:D1716),20)=1,INDEX('Summary Sheet'!$B$17:$B1732,INT(ROWS(D$14:D1716)/20)+1),\"\")=0,\"\",IF(MOD(ROWS(D$14:D1716),20)=1,INDEX('Summary Sheet'!$B$17:$B1732,INT(ROWS(D$14:D1716)/20)+1),\"\"))","v":""},{"$f":"_xlfn.IFNA(IF(VLOOKUP(B1716,_!$A$7:$E$210,2,FALSE)=0, \"\", VLOOKUP(B1716,_!$A$7:$E$210,2,FALSE)),  \"\")","v":""},{"$f":"_xlfn.IFNA(IF(VLOOKUP(B1716,_!$A$7:$E$210,3,FALSE)=0, \"\", VLOOKUP(B1716,_!$A$7:$E$210,3,FALSE)), \"\")","v":""},{"$f":"_xlfn.IFNA(IF(VLOOKUP(B1716,_!$A$7:$E$210,4,FALSE)=0, \"\",VLOOKUP(B1716,_!$A$7:$E$210,4,FALSE)), \"\")","v":""},{"$f":"_xlfn.IFNA(IF(VLOOKUP(B1716,_!$A$7:$E$210,5,FALSE)=0,\"\",VLOOKUP(B1716,_!$A$7:$E$210,5,FALSE)), \"\")","v":""}]
[null,"\nHighest hazard level for each ‘Uptake Route’\n",null,null,{"$f":"_xlfn.IFNA(IF((INDEX(E1707:E1716,MATCH(\"E\",E1707:E1716,0)))=\"E\",\"E\",\"\"),_xlfn.IFNA(IF((INDEX(E1707:E1716,MATCH(\"D\",E1707:E1716,0)))=\"D\",\"D\",\"\"),_xlfn.IFNA(IF((INDEX(E1707:E1716,MATCH(\"Ca\",E1707:E1716,0)))=\"Ca\",\"C\",\"\"),_xlfn.IFNA(IF((INDEX(E1707:E1716,MATCH(\"C\",E1707:E1716,0)))=\"C\",\"C\",\"\"),_xlfn.IFNA(IF((INDEX(E1707:E1716,MATCH(\"B\",E1707:E1716,0)))=\"B\",\"B\",\"\"),_xlfn.IFNA(IF((INDEX(E1707:E1716,MATCH(\"A\",E1707:E1716,0)))=\"A\",\"A\",\"\"),_xlfn.IFNA(IF((INDEX(E1707:E1716,MATCH(\"n.a.\",E1707:E1716,0)))=\"n.a.\",\"\",\"\"),_xlfn.IFNA(IF((INDEX(E1707:E1716,MATCH(\"\",E1707:E1716,0)))=\"\",\"\",\"\"),\"\"))))))))","v":""},{"$f":"_xlfn.IFNA(IF((INDEX(F1707:F1716,MATCH(\"E\",F1707:F1716,0)))=\"E\",\"E\",\"\"),_xlfn.IFNA(IF((INDEX(F1707:F1716,MATCH(\"D (E)c\",F1707:F1716,0)))=\"D (E)c\",\"D (E)c\",\"\"),_xlfn.IFNA(IF((INDEX(F1707:F1716,MATCH(\"Da (E)c\",F1707:F1716,0)))=\"Da (E)c\",\"D (E)c\",\"\"),_xlfn.IFNA(IF((INDEX(F1707:F1716,MATCH(\"D\",F1707:F1716,0)))=\"D\",\"D\",\"\"),_xlfn.IFNA(IF((INDEX(F1707:F1716,MATCH(\"Ca\",F1707:F1716,0)))=\"Ca\",\"C\",\"\"),_xlfn.IFNA(IF((INDEX(F1707:F1716,MATCH(\"C\",F1707:F1716,0)))=\"C\",\"C\",\"\"),_xlfn.IFNA(IF((INDEX(F1707:F1716,MATCH(\"Ba\",F1707:F1716,0)))=\"Ba\",\"B\",\"\"),_xlfn.IFNA(IF((INDEX(F1707:F1716,MATCH(\"B\",F1707:F1716,0)))=\"B\",\"B\",\"\"),_xlfn.IFNA(IF((INDEX(F1707:F1716,MATCH(\"Aa\",F1707:F1716,0)))=\"Aa\",\"A\",\"\"),_xlfn.IFNA(IF((INDEX(F1707:F1716,MATCH(\"A\",F1707:F1716,0)))=\"A\",\"A\",\"\"),_xlfn.IFNA(IF((INDEX(F1707:F1716,MATCH(\"n.a.\",F1707:F1716,0)))=\"n.a.\",\"\",\"\"),_xlfn.IFNA(IF((INDEX(F1707:F1716,MATCH(\"\",F1707:F1716,0)))=\"\",\"\",\"\"),\"\"))))))))))))","v":""},{"$f":"_xlfn.IFNA(IF((INDEX(G1707:G1716,MATCH(\"E\",G1707:G1716,0)))=\"E\",\"E\",\"\"),_xlfn.IFNA(IF((INDEX(G1707:G1716,MATCH(\"D\",G1707:G1716,0)))=\"D\",\"D\",\"\"),_xlfn.IFNA(IF((INDEX(G1707:G1716,MATCH(\"Ca\",G1707:G1716,0)))=\"Ca\",\"C\",\"\"),_xlfn.IFNA(IF((INDEX(G1707:G1716,MATCH(\"C\",G1707:G1716,0)))=\"C\",\"C\",\"\"),_xlfn.IFNA(IF((INDEX(G1707:G1716,MATCH(\"B\",G1707:G1716,0)))=\"B\",\"B\",\"\"),_xlfn.IFNA(IF((INDEX(G1707:G1716,MATCH(\"A\",G1707:G1716,0)))=\"A\",\"A\",\"\"),_xlfn.IFNA(IF((INDEX(G1707:G1716,MATCH(\"n.a.\",G1707:G1716,0)))=\"n.a.\",\"\",\"\"),_xlfn.IFNA(IF((INDEX(G1707:G1716,MATCH(\"\",G1707:G1716,0)))=\"\",\"\",\"\"),\"\"))))))))","v":""},{"$f":"_xlfn.IFNA(IF((INDEX(H1707:H1716,MATCH(\"E\",H1707:H1716,0)))=\"E\",\"E\",\"\"),_xlfn.IFNA(IF((INDEX(H1707:H1716,MATCH(\"D (E)c\",H1707:H1716,0)))=\"D (E)c\",\"D (E)c\",\"\"),_xlfn.IFNA(IF((INDEX(H1707:H1716,MATCH(\"Db (E)c\",H1707:H1716,0)))=\"Db (E)c\",\"D (E)c\",\"\"),_xlfn.IFNA(IF((INDEX(H1707:H1716,MATCH(\"D\",H1707:H1716,0)))=\"D\",\"D\",\"\"),_xlfn.IFNA(IF((INDEX(H1707:H1716,MATCH(\"Cb\",H1707:H1716,0)))=\"Cb\",\"C\",\"\"),_xlfn.IFNA(IF((INDEX(H1707:H1716,MATCH(\"C\",H1707:H1716,0)))=\"C\",\"C\",\"\"),_xlfn.IFNA(IF((INDEX(H1707:H1716,MATCH(\"Bb\",H1707:H1716,0)))=\"Bb\",\"B\",\"\"),_xlfn.IFNA(IF((INDEX(H1707:H1716,MATCH(\"B\",H1707:H1716,0)))=\"B\",\"B\",\"\"),_xlfn.IFNA(IF((INDEX(H1707:H1716,MATCH(\"Ab\",H1707:H1716,0)))=\"Ab\",\"A\",\"\"),_xlfn.IFNA(IF((INDEX(H1707:H1716,MATCH(\"A\",H1707:H1716,0)))=\"A\",\"A\",\"\"),_xlfn.IFNA(IF((INDEX(H1707:H1716,MATCH(\"n.a.\",H1707:H1716,0)))=\"n.a.\",\"\",\"\"),_xlfn.IFNA(IF((INDEX(H1707:H1716,MATCH(\"\",H1707:H1716,0)))=\"\",\"\",\"\"),\"\"))))))))))))","v":""}]
[null,"\nHighest hazard level for all 'Uptake Routes' \n",null,null,{"$f":"_xlfn.IFNA(IF((INDEX(E1717:H1717,MATCH(\"E\",E1717:H1717,0)))=\"E\",\"E\",\"\"),_xlfn.IFNA(IF((INDEX(E1717:H1717,MATCH(\"D (E)c\",E1717:H1717,0)))=\"D (E)c\",\"D (E)\",\"\"),_xlfn.IFNA(IF((INDEX(E1717:H1717,MATCH(\"D\",E1717:H1717,0)))=\"D\",\"D\",\"\"),_xlfn.IFNA(IF((INDEX(E1717:H1717,MATCH(\"C\",E1717:H1717,0)))=\"C\",\"C\",\"\"),_xlfn.IFNA(IF((INDEX(E1717:H1717,MATCH(\"B\",E1717:H1717,0)))=\"B\",\"B\",\"\"),_xlfn.IFNA(IF((INDEX(E1717:H1717,MATCH(\"A\",E1717:H1717,0)))=\"A\",\"A\",\"\"),_xlfn.IFNA(IF((INDEX(E1717:H1717,MATCH(\"n.a.\",E1717:H1717,0)))=\"n.a.\",\"\",\"\"),_xlfn.IFNA(IF((INDEX(E1717:H1717,MATCH(\"\",E1717:H1717,0)))=\"\",\"\",\"\"),\"\"))))))))","v":""}]
[]
[]
[null,"\nStep 3: D(E) Assessment\nSkip this step if \nyour assessment above does not reveal a D(E) hazard level.\nHover over this cell for additional instructions.\n",null,null,"\nOverall hazard level\n",null,{"$f":"IF(AND(E1718=\"\",C1704=\"Yes\")=TRUE,\"B\",IF(E1718=\"\",\"\",(IF(AND(E1718=\"D (E)\",C1721=\"\"),\"D (E)\"&CHAR(10)&\"Find if cat. 1 acute tox.\",(IF(E1718<>\"D (E)\",E1718,(IF(AND(E1718=\"D (E)\",C1721=\"Yes\"),\"E\",(IF(AND(E1718=\"D (E)\",C1721=\"No\"),\"D\",\"\"))))))))))","v":""}]
[]
[{"$f":"IF(IF(MOD(ROWS(B$3:B1723),20)=1,INDEX('Summary Sheet'!$A$17:$A1751,INT(ROWS(B$3:B1723)/20)+1),\"\")=0,\"\",IF(MOD(ROWS(B$3:B1723),20)=1,INDEX('Summary Sheet'!$A$17:$A1751,INT(ROWS(B$3:B1723)/20)+1),\"\"))","v":87},"Hazard Level Assessment","for",{"$f":"IF(IF(MOD(ROWS(D$3:D1723),20)=1,INDEX('Summary Sheet'!$B$17:$B1751,INT(ROWS(D$3:D1723)/20)+1),\"\")=0,\"\",IF(MOD(ROWS(D$3:D1723),20)=1,INDEX('Summary Sheet'!$B$17:$B1751,INT(ROWS(D$3:D1723)/20)+1),\"\"))","v":""}]
[null,"\nStep 1: Physical & Environmental Hazard Statements/Codes\nFind Section 2 of the SDS and determine if the SDS has physical and/or environmental hazard statements/codes. Hover on this cell for additional instructions.\n",null,{"$f":"IF(IF(MOD(ROWS(D$3:D1724),20)=1,INDEX('Summary Sheet'!$B$17:$B1751,INT(ROWS(D$3:D1724)/20)+1),\"\")=0,\"\",IF(MOD(ROWS(D$3:D1724),20)=1,INDEX('Summary Sheet'!$B$17:$B1751,INT(ROWS(D$3:D1724)/20)+1),\"\"))","v":""}]
[null,"Step 2: Health Hazard Statements/Codes\nProvide the Health Hazard Statements or Codes from Section 2 of the SDS below. Hover on this cell for additional instructions.",null,{"$f":"IF(IF(MOD(ROWS(D$3:D1725),20)=1,INDEX('Summary Sheet'!$B$17:$B1751,INT(ROWS(D$3:D1725)/20)+1),\"\")=0,\"\",IF(MOD(ROWS(D$3:D1725),20)=1,INDEX('Summary Sheet'!$B$17:$B1751,INT(ROWS(D$3:D1725)/20)+1),\"\"))","v":""},"\nHazard Level\n"]
[null,null,null,{"$f":"IF(IF(MOD(ROWS(D$3:D1726),20)=1,INDEX('Summary Sheet'!$B$17:$B1751,INT(ROWS(D$3:D1726)/20)+1),\"\")=0,\"\",IF(MOD(ROWS(D$3:D1726),20)=1,INDEX('Summary Sheet'!$B$17:$B1751,INT(ROWS(D$3:D1726)/20)+1),\"\"))","v":""},"\nEye Damage\n","\nInhalation\n","\nLocal Skin Damage\n","\nSkin uptake, systemic\n"]
[1,null,{"$f":"_xlfn.IFNA(VLOOKUP(B1727,_!$A$7:$F$210,6,FALSE),\"\")","v":""},{"$f":"IF(IF(MOD(ROWS(D$3:D1727),20)=1,INDEX('Summary Sheet'!$B$17:$B1751,INT(ROWS(D$3:D1727)/20)+1),\"\")=0,\"\",IF(MOD(ROWS(D$3:D1727),20)=1,INDEX('Summary Sheet'!$B$17:$B1751,INT(ROWS(D$3:D1727)/20)+1),\"\"))","v":""},{"$f":"_xlfn.IFNA(IF(VLOOKUP(B1727,_!$A$7:$E$210,2,FALSE)=0, \"\", VLOOKUP(B1727,_!$A$7:$E$210,2,FALSE)),  \"\")","v":""},{"$f":"_xlfn.IFNA(IF(VLOOKUP(B1727,_!$A$7:$E$210,3,FALSE)=0, \"\", VLOOKUP(B1727,_!$A$7:$E$210,3,FALSE)), \"\")","v":""},{"$f":"_xlfn.IFNA(IF(VLOOKUP(B1727,_!$A$7:$E$210,4,FALSE)=0, \"\",VLOOKUP(B1727,_!$A$7:$E$210,4,FALSE)), \"\")","v":""},{"$f":"_xlfn.IFNA(IF(VLOOKUP(B1727,_!$A$7:$E$210,5,FALSE)=0,\"\",VLOOKUP(B1727,_!$A$7:$E$210,5,FALSE)), \"\")","v":""}]
[2,null,{"$f":"_xlfn.IFNA(VLOOKUP(B1728,_!$A$7:$F$210,6,FALSE),\"\")","v":""},{"$f":"IF(IF(MOD(ROWS(D$3:D1728),20)=1,INDEX('Summary Sheet'!$B$17:$B1751,INT(ROWS(D$3:D1728)/20)+1),\"\")=0,\"\",IF(MOD(ROWS(D$3:D1728),20)=1,INDEX('Summary Sheet'!$B$17:$B1751,INT(ROWS(D$3:D1728)/20)+1),\"\"))","v":""},{"$f":"_xlfn.IFNA(IF(VLOOKUP(B1728,_!$A$7:$E$210,2,FALSE)=0, \"\", VLOOKUP(B1728,_!$A$7:$E$210,2,FALSE)),  \"\")","v":""},{"$f":"_xlfn.IFNA(IF(VLOOKUP(B1728,_!$A$7:$E$210,3,FALSE)=0, \"\", VLOOKUP(B1728,_!$A$7:$E$210,3,FALSE)), \"\")","v":""},{"$f":"_xlfn.IFNA(IF(VLOOKUP(B1728,_!$A$7:$E$210,4,FALSE)=0, \"\",VLOOKUP(B1728,_!$A$7:$E$210,4,FALSE)), \"\")","v":""},{"$f":"_xlfn.IFNA(IF(VLOOKUP(B1728,_!$A$7:$E$210,5,FALSE)=0,\"\",VLOOKUP(B1728,_!$A$7:$E$210,5,FALSE)), \"\")","v":""}]
[3,null,{"$f":"_xlfn.IFNA(VLOOKUP(B1729,_!$A$7:$F$210,6,FALSE),\"\")","v":""},{"$f":"IF(IF(MOD(ROWS(D$3:D1729),20)=1,INDEX('Summary Sheet'!$B$17:$B1751,INT(ROWS(D$3:D1729)/20)+1),\"\")=0,\"\",IF(MOD(ROWS(D$3:D1729),20)=1,INDEX('Summary Sheet'!$B$17:$B1751,INT(ROWS(D$3:D1729)/20)+1),\"\"))","v":""},{"$f":"_xlfn.IFNA(IF(VLOOKUP(B1729,_!$A$7:$E$210,2,FALSE)=0, \"\", VLOOKUP(B1729,_!$A$7:$E$210,2,FALSE)),  \"\")","v":""},{"$f":"_xlfn.IFNA(IF(VLOOKUP(B1729,_!$A$7:$E$210,3,FALSE)=0, \"\", VLOOKUP(B1729,_!$A$7:$E$210,3,FALSE)), \"\")","v":""},{"$f":"_xlfn.IFNA(IF(VLOOKUP(B1729,_!$A$7:$E$210,4,FALSE)=0, \"\",VLOOKUP(B1729,_!$A$7:$E$210,4,FALSE)), \"\")","v":""},{"$f":"_xlfn.IFNA(IF(VLOOKUP(B1729,_!$A$7:$E$210,5,FALSE)=0,\"\",VLOOKUP(B1729,_!$A$7:$E$210,5,FALSE)), \"\")","v":""}]
[4,null,{"$f":"_xlfn.IFNA(VLOOKUP(B1730,_!$A$7:$F$210,6,FALSE),\"\")","v":""},{"$f":"IF(IF(MOD(ROWS(D$3:D1730),20)=1,INDEX('Summary Sheet'!$B$17:$B1751,INT(ROWS(D$3:D1730)/20)+1),\"\")=0,\"\",IF(MOD(ROWS(D$3:D1730),20)=1,INDEX('Summary Sheet'!$B$17:$B1751,INT(ROWS(D$3:D1730)/20)+1),\"\"))","v":""},{"$f":"_xlfn.IFNA(IF(VLOOKUP(B1730,_!$A$7:$E$210,2,FALSE)=0, \"\", VLOOKUP(B1730,_!$A$7:$E$210,2,FALSE)),  \"\")","v":""},{"$f":"_xlfn.IFNA(IF(VLOOKUP(B1730,_!$A$7:$E$210,3,FALSE)=0, \"\", VLOOKUP(B1730,_!$A$7:$E$210,3,FALSE)), \"\")","v":""},{"$f":"_xlfn.IFNA(IF(VLOOKUP(B1730,_!$A$7:$E$210,4,FALSE)=0, \"\",VLOOKUP(B1730,_!$A$7:$E$210,4,FALSE)), \"\")","v":""},{"$f":"_xlfn.IFNA(IF(VLOOKUP(B1730,_!$A$7:$E$210,5,FALSE)=0,\"\",VLOOKUP(B1730,_!$A$7:$E$210,5,FALSE)), \"\")","v":""}]
[5,null,{"$f":"_xlfn.IFNA(VLOOKUP(B1731,_!$A$7:$F$210,6,FALSE),\"\")","v":""},{"$f":"IF(IF(MOD(ROWS(D$3:D1731),20)=1,INDEX('Summary Sheet'!$B$17:$B1751,INT(ROWS(D$3:D1731)/20)+1),\"\")=0,\"\",IF(MOD(ROWS(D$3:D1731),20)=1,INDEX('Summary Sheet'!$B$17:$B1751,INT(ROWS(D$3:D1731)/20)+1),\"\"))","v":""},{"$f":"_xlfn.IFNA(IF(VLOOKUP(B1731,_!$A$7:$E$210,2,FALSE)=0, \"\", VLOOKUP(B1731,_!$A$7:$E$210,2,FALSE)),  \"\")","v":""},{"$f":"_xlfn.IFNA(IF(VLOOKUP(B1731,_!$A$7:$E$210,3,FALSE)=0, \"\", VLOOKUP(B1731,_!$A$7:$E$210,3,FALSE)), \"\")","v":""},{"$f":"_xlfn.IFNA(IF(VLOOKUP(B1731,_!$A$7:$E$210,4,FALSE)=0, \"\",VLOOKUP(B1731,_!$A$7:$E$210,4,FALSE)), \"\")","v":""},{"$f":"_xlfn.IFNA(IF(VLOOKUP(B1731,_!$A$7:$E$210,5,FALSE)=0,\"\",VLOOKUP(B1731,_!$A$7:$E$210,5,FALSE)), \"\")","v":""}]
[6,null,{"$f":"_xlfn.IFNA(VLOOKUP(B1732,_!$A$7:$F$210,6,FALSE),\"\")","v":""},{"$f":"IF(IF(MOD(ROWS(D$3:D1732),20)=1,INDEX('Summary Sheet'!$B$17:$B1751,INT(ROWS(D$3:D1732)/20)+1),\"\")=0,\"\",IF(MOD(ROWS(D$3:D1732),20)=1,INDEX('Summary Sheet'!$B$17:$B1751,INT(ROWS(D$3:D1732)/20)+1),\"\"))","v":""},{"$f":"_xlfn.IFNA(IF(VLOOKUP(B1732,_!$A$7:$E$210,2,FALSE)=0, \"\", VLOOKUP(B1732,_!$A$7:$E$210,2,FALSE)),  \"\")","v":""},{"$f":"_xlfn.IFNA(IF(VLOOKUP(B1732,_!$A$7:$E$210,3,FALSE)=0, \"\", VLOOKUP(B1732,_!$A$7:$E$210,3,FALSE)), \"\")","v":""},{"$f":"_xlfn.IFNA(IF(VLOOKUP(B1732,_!$A$7:$E$210,4,FALSE)=0, \"\",VLOOKUP(B1732,_!$A$7:$E$210,4,FALSE)), \"\")","v":""},{"$f":"_xlfn.IFNA(IF(VLOOKUP(B1732,_!$A$7:$E$210,5,FALSE)=0,\"\",VLOOKUP(B1732,_!$A$7:$E$210,5,FALSE)), \"\")","v":""}]
[7,null,{"$f":"_xlfn.IFNA(VLOOKUP(B1733,_!$A$7:$F$210,6,FALSE),\"\")","v":""},{"$f":"IF(IF(MOD(ROWS(D$3:D1733),20)=1,INDEX('Summary Sheet'!$B$17:$B1751,INT(ROWS(D$3:D1733)/20)+1),\"\")=0,\"\",IF(MOD(ROWS(D$3:D1733),20)=1,INDEX('Summary Sheet'!$B$17:$B1751,INT(ROWS(D$3:D1733)/20)+1),\"\"))","v":""},{"$f":"_xlfn.IFNA(IF(VLOOKUP(B1733,_!$A$7:$E$210,2,FALSE)=0, \"\", VLOOKUP(B1733,_!$A$7:$E$210,2,FALSE)),  \"\")","v":""},{"$f":"_xlfn.IFNA(IF(VLOOKUP(B1733,_!$A$7:$E$210,3,FALSE)=0, \"\", VLOOKUP(B1733,_!$A$7:$E$210,3,FALSE)), \"\")","v":""},{"$f":"_xlfn.IFNA(IF(VLOOKUP(B1733,_!$A$7:$E$210,4,FALSE)=0, \"\",VLOOKUP(B1733,_!$A$7:$E$210,4,FALSE)), \"\")","v":""},{"$f":"_xlfn.IFNA(IF(VLOOKUP(B1733,_!$A$7:$E$210,5,FALSE)=0,\"\",VLOOKUP(B1733,_!$A$7:$E$210,5,FALSE)), \"\")","v":""}]
[8,null,{"$f":"_xlfn.IFNA(VLOOKUP(B1734,_!$A$7:$F$210,6,FALSE),\"\")","v":""},{"$f":"IF(IF(MOD(ROWS(D$3:D1734),20)=1,INDEX('Summary Sheet'!$B$17:$B1751,INT(ROWS(D$3:D1734)/20)+1),\"\")=0,\"\",IF(MOD(ROWS(D$3:D1734),20)=1,INDEX('Summary Sheet'!$B$17:$B1751,INT(ROWS(D$3:D1734)/20)+1),\"\"))","v":""},{"$f":"_xlfn.IFNA(IF(VLOOKUP(B1734,_!$A$7:$E$210,2,FALSE)=0, \"\", VLOOKUP(B1734,_!$A$7:$E$210,2,FALSE)),  \"\")","v":""},{"$f":"_xlfn.IFNA(IF(VLOOKUP(B1734,_!$A$7:$E$210,3,FALSE)=0, \"\", VLOOKUP(B1734,_!$A$7:$E$210,3,FALSE)), \"\")","v":""},{"$f":"_xlfn.IFNA(IF(VLOOKUP(B1734,_!$A$7:$E$210,4,FALSE)=0, \"\",VLOOKUP(B1734,_!$A$7:$E$210,4,FALSE)), \"\")","v":""},{"$f":"_xlfn.IFNA(IF(VLOOKUP(B1734,_!$A$7:$E$210,5,FALSE)=0,\"\",VLOOKUP(B1734,_!$A$7:$E$210,5,FALSE)), \"\")","v":""}]
[9,null,{"$f":"_xlfn.IFNA(VLOOKUP(B1735,_!$A$7:$F$210,6,FALSE),\"\")","v":""},{"$f":"IF(IF(MOD(ROWS(D$3:D1735),20)=1,INDEX('Summary Sheet'!$B$17:$B1751,INT(ROWS(D$3:D1735)/20)+1),\"\")=0,\"\",IF(MOD(ROWS(D$3:D1735),20)=1,INDEX('Summary Sheet'!$B$17:$B1751,INT(ROWS(D$3:D1735)/20)+1),\"\"))","v":""},{"$f":"_xlfn.IFNA(IF(VLOOKUP(B1735,_!$A$7:$E$210,2,FALSE)=0, \"\", VLOOKUP(B1735,_!$A$7:$E$210,2,FALSE)),  \"\")","v":""},{"$f":"_xlfn.IFNA(IF(VLOOKUP(B1735,_!$A$7:$E$210,3,FALSE)=0, \"\", VLOOKUP(B1735,_!$A$7:$E$210,3,FALSE)), \"\")","v":""},{"$f":"_xlfn.IFNA(IF(VLOOKUP(B1735,_!$A$7:$E$210,4,FALSE)=0, \"\",VLOOKUP(B1735,_!$A$7:$E$210,4,FALSE)), \"\")","v":""},{"$f":"_xlfn.IFNA(IF(VLOOKUP(B1735,_!$A$7:$E$210,5,FALSE)=0,\"\",VLOOKUP(B1735,_!$A$7:$E$210,5,FALSE)), \"\")","v":""}]
[10,null,{"$f":"_xlfn.IFNA(VLOOKUP(B1736,_!$A$7:$F$210,6,FALSE),\"\")","v":""},{"$f":"IF(IF(MOD(ROWS(D$14:D1736),20)=1,INDEX('Summary Sheet'!$B$17:$B1751,INT(ROWS(D$14:D1736)/20)+1),\"\")=0,\"\",IF(MOD(ROWS(D$14:D1736),20)=1,INDEX('Summary Sheet'!$B$17:$B1751,INT(ROWS(D$14:D1736)/20)+1),\"\"))","v":""},{"$f":"_xlfn.IFNA(IF(VLOOKUP(B1736,_!$A$7:$E$210,2,FALSE)=0, \"\", VLOOKUP(B1736,_!$A$7:$E$210,2,FALSE)),  \"\")","v":""},{"$f":"_xlfn.IFNA(IF(VLOOKUP(B1736,_!$A$7:$E$210,3,FALSE)=0, \"\", VLOOKUP(B1736,_!$A$7:$E$210,3,FALSE)), \"\")","v":""},{"$f":"_xlfn.IFNA(IF(VLOOKUP(B1736,_!$A$7:$E$210,4,FALSE)=0, \"\",VLOOKUP(B1736,_!$A$7:$E$210,4,FALSE)), \"\")","v":""},{"$f":"_xlfn.IFNA(IF(VLOOKUP(B1736,_!$A$7:$E$210,5,FALSE)=0,\"\",VLOOKUP(B1736,_!$A$7:$E$210,5,FALSE)), \"\")","v":""}]
[null,"\nHighest hazard level for each ‘Uptake Route’\n",null,null,{"$f":"_xlfn.IFNA(IF((INDEX(E1727:E1736,MATCH(\"E\",E1727:E1736,0)))=\"E\",\"E\",\"\"),_xlfn.IFNA(IF((INDEX(E1727:E1736,MATCH(\"D\",E1727:E1736,0)))=\"D\",\"D\",\"\"),_xlfn.IFNA(IF((INDEX(E1727:E1736,MATCH(\"Ca\",E1727:E1736,0)))=\"Ca\",\"C\",\"\"),_xlfn.IFNA(IF((INDEX(E1727:E1736,MATCH(\"C\",E1727:E1736,0)))=\"C\",\"C\",\"\"),_xlfn.IFNA(IF((INDEX(E1727:E1736,MATCH(\"B\",E1727:E1736,0)))=\"B\",\"B\",\"\"),_xlfn.IFNA(IF((INDEX(E1727:E1736,MATCH(\"A\",E1727:E1736,0)))=\"A\",\"A\",\"\"),_xlfn.IFNA(IF((INDEX(E1727:E1736,MATCH(\"n.a.\",E1727:E1736,0)))=\"n.a.\",\"\",\"\"),_xlfn.IFNA(IF((INDEX(E1727:E1736,MATCH(\"\",E1727:E1736,0)))=\"\",\"\",\"\"),\"\"))))))))","v":""},{"$f":"_xlfn.IFNA(IF((INDEX(F1727:F1736,MATCH(\"E\",F1727:F1736,0)))=\"E\",\"E\",\"\"),_xlfn.IFNA(IF((INDEX(F1727:F1736,MATCH(\"D (E)c\",F1727:F1736,0)))=\"D (E)c\",\"D (E)c\",\"\"),_xlfn.IFNA(IF((INDEX(F1727:F1736,MATCH(\"Da (E)c\",F1727:F1736,0)))=\"Da (E)c\",\"D (E)c\",\"\"),_xlfn.IFNA(IF((INDEX(F1727:F1736,MATCH(\"D\",F1727:F1736,0)))=\"D\",\"D\",\"\"),_xlfn.IFNA(IF((INDEX(F1727:F1736,MATCH(\"Ca\",F1727:F1736,0)))=\"Ca\",\"C\",\"\"),_xlfn.IFNA(IF((INDEX(F1727:F1736,MATCH(\"C\",F1727:F1736,0)))=\"C\",\"C\",\"\"),_xlfn.IFNA(IF((INDEX(F1727:F1736,MATCH(\"Ba\",F1727:F1736,0)))=\"Ba\",\"B\",\"\"),_xlfn.IFNA(IF((INDEX(F1727:F1736,MATCH(\"B\",F1727:F1736,0)))=\"B\",\"B\",\"\"),_xlfn.IFNA(IF((INDEX(F1727:F1736,MATCH(\"Aa\",F1727:F1736,0)))=\"Aa\",\"A\",\"\"),_xlfn.IFNA(IF((INDEX(F1727:F1736,MATCH(\"A\",F1727:F1736,0)))=\"A\",\"A\",\"\"),_xlfn.IFNA(IF((INDEX(F1727:F1736,MATCH(\"n.a.\",F1727:F1736,0)))=\"n.a.\",\"\",\"\"),_xlfn.IFNA(IF((INDEX(F1727:F1736,MATCH(\"\",F1727:F1736,0)))=\"\",\"\",\"\"),\"\"))))))))))))","v":""},{"$f":"_xlfn.IFNA(IF((INDEX(G1727:G1736,MATCH(\"E\",G1727:G1736,0)))=\"E\",\"E\",\"\"),_xlfn.IFNA(IF((INDEX(G1727:G1736,MATCH(\"D\",G1727:G1736,0)))=\"D\",\"D\",\"\"),_xlfn.IFNA(IF((INDEX(G1727:G1736,MATCH(\"Ca\",G1727:G1736,0)))=\"Ca\",\"C\",\"\"),_xlfn.IFNA(IF((INDEX(G1727:G1736,MATCH(\"C\",G1727:G1736,0)))=\"C\",\"C\",\"\"),_xlfn.IFNA(IF((INDEX(G1727:G1736,MATCH(\"B\",G1727:G1736,0)))=\"B\",\"B\",\"\"),_xlfn.IFNA(IF((INDEX(G1727:G1736,MATCH(\"A\",G1727:G1736,0)))=\"A\",\"A\",\"\"),_xlfn.IFNA(IF((INDEX(G1727:G1736,MATCH(\"n.a.\",G1727:G1736,0)))=\"n.a.\",\"\",\"\"),_xlfn.IFNA(IF((INDEX(G1727:G1736,MATCH(\"\",G1727:G1736,0)))=\"\",\"\",\"\"),\"\"))))))))","v":""},{"$f":"_xlfn.IFNA(IF((INDEX(H1727:H1736,MATCH(\"E\",H1727:H1736,0)))=\"E\",\"E\",\"\"),_xlfn.IFNA(IF((INDEX(H1727:H1736,MATCH(\"D (E)c\",H1727:H1736,0)))=\"D (E)c\",\"D (E)c\",\"\"),_xlfn.IFNA(IF((INDEX(H1727:H1736,MATCH(\"Db (E)c\",H1727:H1736,0)))=\"Db (E)c\",\"D (E)c\",\"\"),_xlfn.IFNA(IF((INDEX(H1727:H1736,MATCH(\"D\",H1727:H1736,0)))=\"D\",\"D\",\"\"),_xlfn.IFNA(IF((INDEX(H1727:H1736,MATCH(\"Cb\",H1727:H1736,0)))=\"Cb\",\"C\",\"\"),_xlfn.IFNA(IF((INDEX(H1727:H1736,MATCH(\"C\",H1727:H1736,0)))=\"C\",\"C\",\"\"),_xlfn.IFNA(IF((INDEX(H1727:H1736,MATCH(\"Bb\",H1727:H1736,0)))=\"Bb\",\"B\",\"\"),_xlfn.IFNA(IF((INDEX(H1727:H1736,MATCH(\"B\",H1727:H1736,0)))=\"B\",\"B\",\"\"),_xlfn.IFNA(IF((INDEX(H1727:H1736,MATCH(\"Ab\",H1727:H1736,0)))=\"Ab\",\"A\",\"\"),_xlfn.IFNA(IF((INDEX(H1727:H1736,MATCH(\"A\",H1727:H1736,0)))=\"A\",\"A\",\"\"),_xlfn.IFNA(IF((INDEX(H1727:H1736,MATCH(\"n.a.\",H1727:H1736,0)))=\"n.a.\",\"\",\"\"),_xlfn.IFNA(IF((INDEX(H1727:H1736,MATCH(\"\",H1727:H1736,0)))=\"\",\"\",\"\"),\"\"))))))))))))","v":""}]
[null,"\nHighest hazard level for all 'Uptake Routes' \n",null,null,{"$f":"_xlfn.IFNA(IF((INDEX(E1737:H1737,MATCH(\"E\",E1737:H1737,0)))=\"E\",\"E\",\"\"),_xlfn.IFNA(IF((INDEX(E1737:H1737,MATCH(\"D (E)c\",E1737:H1737,0)))=\"D (E)c\",\"D (E)\",\"\"),_xlfn.IFNA(IF((INDEX(E1737:H1737,MATCH(\"D\",E1737:H1737,0)))=\"D\",\"D\",\"\"),_xlfn.IFNA(IF((INDEX(E1737:H1737,MATCH(\"C\",E1737:H1737,0)))=\"C\",\"C\",\"\"),_xlfn.IFNA(IF((INDEX(E1737:H1737,MATCH(\"B\",E1737:H1737,0)))=\"B\",\"B\",\"\"),_xlfn.IFNA(IF((INDEX(E1737:H1737,MATCH(\"A\",E1737:H1737,0)))=\"A\",\"A\",\"\"),_xlfn.IFNA(IF((INDEX(E1737:H1737,MATCH(\"n.a.\",E1737:H1737,0)))=\"n.a.\",\"\",\"\"),_xlfn.IFNA(IF((INDEX(E1737:H1737,MATCH(\"\",E1737:H1737,0)))=\"\",\"\",\"\"),\"\"))))))))","v":""}]
[]
[]
[null,"\nStep 3: D(E) Assessment\nSkip this step if \nyour assessment above does not reveal a D(E) hazard level.\nHover over this cell for additional instructions.\n",null,null,"\nOverall hazard level\n",null,{"$f":"IF(AND(E1738=\"\",C1724=\"Yes\")=TRUE,\"B\",IF(E1738=\"\",\"\",(IF(AND(E1738=\"D (E)\",C1741=\"\"),\"D (E)\"&CHAR(10)&\"Find if cat. 1 acute tox.\",(IF(E1738<>\"D (E)\",E1738,(IF(AND(E1738=\"D (E)\",C1741=\"Yes\"),\"E\",(IF(AND(E1738=\"D (E)\",C1741=\"No\"),\"D\",\"\"))))))))))","v":""}]
[]
[{"$f":"IF(IF(MOD(ROWS(B$3:B1743),20)=1,INDEX('Summary Sheet'!$A$17:$A1770,INT(ROWS(B$3:B1743)/20)+1),\"\")=0,\"\",IF(MOD(ROWS(B$3:B1743),20)=1,INDEX('Summary Sheet'!$A$17:$A1770,INT(ROWS(B$3:B1743)/20)+1),\"\"))","v":88},"Hazard Level Assessment","for",{"$f":"IF(IF(MOD(ROWS(D$3:D1743),20)=1,INDEX('Summary Sheet'!$B$17:$B1770,INT(ROWS(D$3:D1743)/20)+1),\"\")=0,\"\",IF(MOD(ROWS(D$3:D1743),20)=1,INDEX('Summary Sheet'!$B$17:$B1770,INT(ROWS(D$3:D1743)/20)+1),\"\"))","v":""}]
[null,"\nStep 1: Physical & Environmental Hazard Statements/Codes\nFind Section 2 of the SDS and determine if the SDS has physical and/or environmental hazard statements/codes. Hover on this cell for additional instructions.\n",null,{"$f":"IF(IF(MOD(ROWS(D$3:D1744),20)=1,INDEX('Summary Sheet'!$B$17:$B1770,INT(ROWS(D$3:D1744)/20)+1),\"\")=0,\"\",IF(MOD(ROWS(D$3:D1744),20)=1,INDEX('Summary Sheet'!$B$17:$B1770,INT(ROWS(D$3:D1744)/20)+1),\"\"))","v":""}]
[null,"Step 2: Health Hazard Statements/Codes\nProvide the Health Hazard Statements or Codes from Section 2 of the SDS below. Hover on this cell for additional instructions.",null,{"$f":"IF(IF(MOD(ROWS(D$3:D1745),20)=1,INDEX('Summary Sheet'!$B$17:$B1770,INT(ROWS(D$3:D1745)/20)+1),\"\")=0,\"\",IF(MOD(ROWS(D$3:D1745),20)=1,INDEX('Summary Sheet'!$B$17:$B1770,INT(ROWS(D$3:D1745)/20)+1),\"\"))","v":""},"\nHazard Level\n"]
[null,null,null,{"$f":"IF(IF(MOD(ROWS(D$3:D1746),20)=1,INDEX('Summary Sheet'!$B$17:$B1770,INT(ROWS(D$3:D1746)/20)+1),\"\")=0,\"\",IF(MOD(ROWS(D$3:D1746),20)=1,INDEX('Summary Sheet'!$B$17:$B1770,INT(ROWS(D$3:D1746)/20)+1),\"\"))","v":""},"\nEye Damage\n","\nInhalation\n","\nLocal Skin Damage\n","\nSkin uptake, systemic\n"]
[1,null,{"$f":"_xlfn.IFNA(VLOOKUP(B1747,_!$A$7:$F$210,6,FALSE),\"\")","v":""},{"$f":"IF(IF(MOD(ROWS(D$3:D1747),20)=1,INDEX('Summary Sheet'!$B$17:$B1770,INT(ROWS(D$3:D1747)/20)+1),\"\")=0,\"\",IF(MOD(ROWS(D$3:D1747),20)=1,INDEX('Summary Sheet'!$B$17:$B1770,INT(ROWS(D$3:D1747)/20)+1),\"\"))","v":""},{"$f":"_xlfn.IFNA(IF(VLOOKUP(B1747,_!$A$7:$E$210,2,FALSE)=0, \"\", VLOOKUP(B1747,_!$A$7:$E$210,2,FALSE)),  \"\")","v":""},{"$f":"_xlfn.IFNA(IF(VLOOKUP(B1747,_!$A$7:$E$210,3,FALSE)=0, \"\", VLOOKUP(B1747,_!$A$7:$E$210,3,FALSE)), \"\")","v":""},{"$f":"_xlfn.IFNA(IF(VLOOKUP(B1747,_!$A$7:$E$210,4,FALSE)=0, \"\",VLOOKUP(B1747,_!$A$7:$E$210,4,FALSE)), \"\")","v":""},{"$f":"_xlfn.IFNA(IF(VLOOKUP(B1747,_!$A$7:$E$210,5,FALSE)=0,\"\",VLOOKUP(B1747,_!$A$7:$E$210,5,FALSE)), \"\")","v":""}]
[2,null,{"$f":"_xlfn.IFNA(VLOOKUP(B1748,_!$A$7:$F$210,6,FALSE),\"\")","v":""},{"$f":"IF(IF(MOD(ROWS(D$3:D1748),20)=1,INDEX('Summary Sheet'!$B$17:$B1770,INT(ROWS(D$3:D1748)/20)+1),\"\")=0,\"\",IF(MOD(ROWS(D$3:D1748),20)=1,INDEX('Summary Sheet'!$B$17:$B1770,INT(ROWS(D$3:D1748)/20)+1),\"\"))","v":""},{"$f":"_xlfn.IFNA(IF(VLOOKUP(B1748,_!$A$7:$E$210,2,FALSE)=0, \"\", VLOOKUP(B1748,_!$A$7:$E$210,2,FALSE)),  \"\")","v":""},{"$f":"_xlfn.IFNA(IF(VLOOKUP(B1748,_!$A$7:$E$210,3,FALSE)=0, \"\", VLOOKUP(B1748,_!$A$7:$E$210,3,FALSE)), \"\")","v":""},{"$f":"_xlfn.IFNA(IF(VLOOKUP(B1748,_!$A$7:$E$210,4,FALSE)=0, \"\",VLOOKUP(B1748,_!$A$7:$E$210,4,FALSE)), \"\")","v":""},{"$f":"_xlfn.IFNA(IF(VLOOKUP(B1748,_!$A$7:$E$210,5,FALSE)=0,\"\",VLOOKUP(B1748,_!$A$7:$E$210,5,FALSE)), \"\")","v":""}]
[3,null,{"$f":"_xlfn.IFNA(VLOOKUP(B1749,_!$A$7:$F$210,6,FALSE),\"\")","v":""},{"$f":"IF(IF(MOD(ROWS(D$3:D1749),20)=1,INDEX('Summary Sheet'!$B$17:$B1770,INT(ROWS(D$3:D1749)/20)+1),\"\")=0,\"\",IF(MOD(ROWS(D$3:D1749),20)=1,INDEX('Summary Sheet'!$B$17:$B1770,INT(ROWS(D$3:D1749)/20)+1),\"\"))","v":""},{"$f":"_xlfn.IFNA(IF(VLOOKUP(B1749,_!$A$7:$E$210,2,FALSE)=0, \"\", VLOOKUP(B1749,_!$A$7:$E$210,2,FALSE)),  \"\")","v":""},{"$f":"_xlfn.IFNA(IF(VLOOKUP(B1749,_!$A$7:$E$210,3,FALSE)=0, \"\", VLOOKUP(B1749,_!$A$7:$E$210,3,FALSE)), \"\")","v":""},{"$f":"_xlfn.IFNA(IF(VLOOKUP(B1749,_!$A$7:$E$210,4,FALSE)=0, \"\",VLOOKUP(B1749,_!$A$7:$E$210,4,FALSE)), \"\")","v":""},{"$f":"_xlfn.IFNA(IF(VLOOKUP(B1749,_!$A$7:$E$210,5,FALSE)=0,\"\",VLOOKUP(B1749,_!$A$7:$E$210,5,FALSE)), \"\")","v":""}]
[4,null,{"$f":"_xlfn.IFNA(VLOOKUP(B1750,_!$A$7:$F$210,6,FALSE),\"\")","v":""},{"$f":"IF(IF(MOD(ROWS(D$3:D1750),20)=1,INDEX('Summary Sheet'!$B$17:$B1770,INT(ROWS(D$3:D1750)/20)+1),\"\")=0,\"\",IF(MOD(ROWS(D$3:D1750),20)=1,INDEX('Summary Sheet'!$B$17:$B1770,INT(ROWS(D$3:D1750)/20)+1),\"\"))","v":""},{"$f":"_xlfn.IFNA(IF(VLOOKUP(B1750,_!$A$7:$E$210,2,FALSE)=0, \"\", VLOOKUP(B1750,_!$A$7:$E$210,2,FALSE)),  \"\")","v":""},{"$f":"_xlfn.IFNA(IF(VLOOKUP(B1750,_!$A$7:$E$210,3,FALSE)=0, \"\", VLOOKUP(B1750,_!$A$7:$E$210,3,FALSE)), \"\")","v":""},{"$f":"_xlfn.IFNA(IF(VLOOKUP(B1750,_!$A$7:$E$210,4,FALSE)=0, \"\",VLOOKUP(B1750,_!$A$7:$E$210,4,FALSE)), \"\")","v":""},{"$f":"_xlfn.IFNA(IF(VLOOKUP(B1750,_!$A$7:$E$210,5,FALSE)=0,\"\",VLOOKUP(B1750,_!$A$7:$E$210,5,FALSE)), \"\")","v":""}]
[5,null,{"$f":"_xlfn.IFNA(VLOOKUP(B1751,_!$A$7:$F$210,6,FALSE),\"\")","v":""},{"$f":"IF(IF(MOD(ROWS(D$3:D1751),20)=1,INDEX('Summary Sheet'!$B$17:$B1770,INT(ROWS(D$3:D1751)/20)+1),\"\")=0,\"\",IF(MOD(ROWS(D$3:D1751),20)=1,INDEX('Summary Sheet'!$B$17:$B1770,INT(ROWS(D$3:D1751)/20)+1),\"\"))","v":""},{"$f":"_xlfn.IFNA(IF(VLOOKUP(B1751,_!$A$7:$E$210,2,FALSE)=0, \"\", VLOOKUP(B1751,_!$A$7:$E$210,2,FALSE)),  \"\")","v":""},{"$f":"_xlfn.IFNA(IF(VLOOKUP(B1751,_!$A$7:$E$210,3,FALSE)=0, \"\", VLOOKUP(B1751,_!$A$7:$E$210,3,FALSE)), \"\")","v":""},{"$f":"_xlfn.IFNA(IF(VLOOKUP(B1751,_!$A$7:$E$210,4,FALSE)=0, \"\",VLOOKUP(B1751,_!$A$7:$E$210,4,FALSE)), \"\")","v":""},{"$f":"_xlfn.IFNA(IF(VLOOKUP(B1751,_!$A$7:$E$210,5,FALSE)=0,\"\",VLOOKUP(B1751,_!$A$7:$E$210,5,FALSE)), \"\")","v":""}]
[6,null,{"$f":"_xlfn.IFNA(VLOOKUP(B1752,_!$A$7:$F$210,6,FALSE),\"\")","v":""},{"$f":"IF(IF(MOD(ROWS(D$3:D1752),20)=1,INDEX('Summary Sheet'!$B$17:$B1770,INT(ROWS(D$3:D1752)/20)+1),\"\")=0,\"\",IF(MOD(ROWS(D$3:D1752),20)=1,INDEX('Summary Sheet'!$B$17:$B1770,INT(ROWS(D$3:D1752)/20)+1),\"\"))","v":""},{"$f":"_xlfn.IFNA(IF(VLOOKUP(B1752,_!$A$7:$E$210,2,FALSE)=0, \"\", VLOOKUP(B1752,_!$A$7:$E$210,2,FALSE)),  \"\")","v":""},{"$f":"_xlfn.IFNA(IF(VLOOKUP(B1752,_!$A$7:$E$210,3,FALSE)=0, \"\", VLOOKUP(B1752,_!$A$7:$E$210,3,FALSE)), \"\")","v":""},{"$f":"_xlfn.IFNA(IF(VLOOKUP(B1752,_!$A$7:$E$210,4,FALSE)=0, \"\",VLOOKUP(B1752,_!$A$7:$E$210,4,FALSE)), \"\")","v":""},{"$f":"_xlfn.IFNA(IF(VLOOKUP(B1752,_!$A$7:$E$210,5,FALSE)=0,\"\",VLOOKUP(B1752,_!$A$7:$E$210,5,FALSE)), \"\")","v":""}]
[7,null,{"$f":"_xlfn.IFNA(VLOOKUP(B1753,_!$A$7:$F$210,6,FALSE),\"\")","v":""},{"$f":"IF(IF(MOD(ROWS(D$3:D1753),20)=1,INDEX('Summary Sheet'!$B$17:$B1770,INT(ROWS(D$3:D1753)/20)+1),\"\")=0,\"\",IF(MOD(ROWS(D$3:D1753),20)=1,INDEX('Summary Sheet'!$B$17:$B1770,INT(ROWS(D$3:D1753)/20)+1),\"\"))","v":""},{"$f":"_xlfn.IFNA(IF(VLOOKUP(B1753,_!$A$7:$E$210,2,FALSE)=0, \"\", VLOOKUP(B1753,_!$A$7:$E$210,2,FALSE)),  \"\")","v":""},{"$f":"_xlfn.IFNA(IF(VLOOKUP(B1753,_!$A$7:$E$210,3,FALSE)=0, \"\", VLOOKUP(B1753,_!$A$7:$E$210,3,FALSE)), \"\")","v":""},{"$f":"_xlfn.IFNA(IF(VLOOKUP(B1753,_!$A$7:$E$210,4,FALSE)=0, \"\",VLOOKUP(B1753,_!$A$7:$E$210,4,FALSE)), \"\")","v":""},{"$f":"_xlfn.IFNA(IF(VLOOKUP(B1753,_!$A$7:$E$210,5,FALSE)=0,\"\",VLOOKUP(B1753,_!$A$7:$E$210,5,FALSE)), \"\")","v":""}]
[8,null,{"$f":"_xlfn.IFNA(VLOOKUP(B1754,_!$A$7:$F$210,6,FALSE),\"\")","v":""},{"$f":"IF(IF(MOD(ROWS(D$3:D1754),20)=1,INDEX('Summary Sheet'!$B$17:$B1770,INT(ROWS(D$3:D1754)/20)+1),\"\")=0,\"\",IF(MOD(ROWS(D$3:D1754),20)=1,INDEX('Summary Sheet'!$B$17:$B1770,INT(ROWS(D$3:D1754)/20)+1),\"\"))","v":""},{"$f":"_xlfn.IFNA(IF(VLOOKUP(B1754,_!$A$7:$E$210,2,FALSE)=0, \"\", VLOOKUP(B1754,_!$A$7:$E$210,2,FALSE)),  \"\")","v":""},{"$f":"_xlfn.IFNA(IF(VLOOKUP(B1754,_!$A$7:$E$210,3,FALSE)=0, \"\", VLOOKUP(B1754,_!$A$7:$E$210,3,FALSE)), \"\")","v":""},{"$f":"_xlfn.IFNA(IF(VLOOKUP(B1754,_!$A$7:$E$210,4,FALSE)=0, \"\",VLOOKUP(B1754,_!$A$7:$E$210,4,FALSE)), \"\")","v":""},{"$f":"_xlfn.IFNA(IF(VLOOKUP(B1754,_!$A$7:$E$210,5,FALSE)=0,\"\",VLOOKUP(B1754,_!$A$7:$E$210,5,FALSE)), \"\")","v":""}]
[9,null,{"$f":"_xlfn.IFNA(VLOOKUP(B1755,_!$A$7:$F$210,6,FALSE),\"\")","v":""},{"$f":"IF(IF(MOD(ROWS(D$3:D1755),20)=1,INDEX('Summary Sheet'!$B$17:$B1770,INT(ROWS(D$3:D1755)/20)+1),\"\")=0,\"\",IF(MOD(ROWS(D$3:D1755),20)=1,INDEX('Summary Sheet'!$B$17:$B1770,INT(ROWS(D$3:D1755)/20)+1),\"\"))","v":""},{"$f":"_xlfn.IFNA(IF(VLOOKUP(B1755,_!$A$7:$E$210,2,FALSE)=0, \"\", VLOOKUP(B1755,_!$A$7:$E$210,2,FALSE)),  \"\")","v":""},{"$f":"_xlfn.IFNA(IF(VLOOKUP(B1755,_!$A$7:$E$210,3,FALSE)=0, \"\", VLOOKUP(B1755,_!$A$7:$E$210,3,FALSE)), \"\")","v":""},{"$f":"_xlfn.IFNA(IF(VLOOKUP(B1755,_!$A$7:$E$210,4,FALSE)=0, \"\",VLOOKUP(B1755,_!$A$7:$E$210,4,FALSE)), \"\")","v":""},{"$f":"_xlfn.IFNA(IF(VLOOKUP(B1755,_!$A$7:$E$210,5,FALSE)=0,\"\",VLOOKUP(B1755,_!$A$7:$E$210,5,FALSE)), \"\")","v":""}]
[10,null,{"$f":"_xlfn.IFNA(VLOOKUP(B1756,_!$A$7:$F$210,6,FALSE),\"\")","v":""},{"$f":"IF(IF(MOD(ROWS(D$14:D1756),20)=1,INDEX('Summary Sheet'!$B$17:$B1770,INT(ROWS(D$14:D1756)/20)+1),\"\")=0,\"\",IF(MOD(ROWS(D$14:D1756),20)=1,INDEX('Summary Sheet'!$B$17:$B1770,INT(ROWS(D$14:D1756)/20)+1),\"\"))","v":""},{"$f":"_xlfn.IFNA(IF(VLOOKUP(B1756,_!$A$7:$E$210,2,FALSE)=0, \"\", VLOOKUP(B1756,_!$A$7:$E$210,2,FALSE)),  \"\")","v":""},{"$f":"_xlfn.IFNA(IF(VLOOKUP(B1756,_!$A$7:$E$210,3,FALSE)=0, \"\", VLOOKUP(B1756,_!$A$7:$E$210,3,FALSE)), \"\")","v":""},{"$f":"_xlfn.IFNA(IF(VLOOKUP(B1756,_!$A$7:$E$210,4,FALSE)=0, \"\",VLOOKUP(B1756,_!$A$7:$E$210,4,FALSE)), \"\")","v":""},{"$f":"_xlfn.IFNA(IF(VLOOKUP(B1756,_!$A$7:$E$210,5,FALSE)=0,\"\",VLOOKUP(B1756,_!$A$7:$E$210,5,FALSE)), \"\")","v":""}]
[null,"\nHighest hazard level for each ‘Uptake Route’\n",null,null,{"$f":"_xlfn.IFNA(IF((INDEX(E1747:E1756,MATCH(\"E\",E1747:E1756,0)))=\"E\",\"E\",\"\"),_xlfn.IFNA(IF((INDEX(E1747:E1756,MATCH(\"D\",E1747:E1756,0)))=\"D\",\"D\",\"\"),_xlfn.IFNA(IF((INDEX(E1747:E1756,MATCH(\"Ca\",E1747:E1756,0)))=\"Ca\",\"C\",\"\"),_xlfn.IFNA(IF((INDEX(E1747:E1756,MATCH(\"C\",E1747:E1756,0)))=\"C\",\"C\",\"\"),_xlfn.IFNA(IF((INDEX(E1747:E1756,MATCH(\"B\",E1747:E1756,0)))=\"B\",\"B\",\"\"),_xlfn.IFNA(IF((INDEX(E1747:E1756,MATCH(\"A\",E1747:E1756,0)))=\"A\",\"A\",\"\"),_xlfn.IFNA(IF((INDEX(E1747:E1756,MATCH(\"n.a.\",E1747:E1756,0)))=\"n.a.\",\"\",\"\"),_xlfn.IFNA(IF((INDEX(E1747:E1756,MATCH(\"\",E1747:E1756,0)))=\"\",\"\",\"\"),\"\"))))))))","v":""},{"$f":"_xlfn.IFNA(IF((INDEX(F1747:F1756,MATCH(\"E\",F1747:F1756,0)))=\"E\",\"E\",\"\"),_xlfn.IFNA(IF((INDEX(F1747:F1756,MATCH(\"D (E)c\",F1747:F1756,0)))=\"D (E)c\",\"D (E)c\",\"\"),_xlfn.IFNA(IF((INDEX(F1747:F1756,MATCH(\"Da (E)c\",F1747:F1756,0)))=\"Da (E)c\",\"D (E)c\",\"\"),_xlfn.IFNA(IF((INDEX(F1747:F1756,MATCH(\"D\",F1747:F1756,0)))=\"D\",\"D\",\"\"),_xlfn.IFNA(IF((INDEX(F1747:F1756,MATCH(\"Ca\",F1747:F1756,0)))=\"Ca\",\"C\",\"\"),_xlfn.IFNA(IF((INDEX(F1747:F1756,MATCH(\"C\",F1747:F1756,0)))=\"C\",\"C\",\"\"),_xlfn.IFNA(IF((INDEX(F1747:F1756,MATCH(\"Ba\",F1747:F1756,0)))=\"Ba\",\"B\",\"\"),_xlfn.IFNA(IF((INDEX(F1747:F1756,MATCH(\"B\",F1747:F1756,0)))=\"B\",\"B\",\"\"),_xlfn.IFNA(IF((INDEX(F1747:F1756,MATCH(\"Aa\",F1747:F1756,0)))=\"Aa\",\"A\",\"\"),_xlfn.IFNA(IF((INDEX(F1747:F1756,MATCH(\"A\",F1747:F1756,0)))=\"A\",\"A\",\"\"),_xlfn.IFNA(IF((INDEX(F1747:F1756,MATCH(\"n.a.\",F1747:F1756,0)))=\"n.a.\",\"\",\"\"),_xlfn.IFNA(IF((INDEX(F1747:F1756,MATCH(\"\",F1747:F1756,0)))=\"\",\"\",\"\"),\"\"))))))))))))","v":""},{"$f":"_xlfn.IFNA(IF((INDEX(G1747:G1756,MATCH(\"E\",G1747:G1756,0)))=\"E\",\"E\",\"\"),_xlfn.IFNA(IF((INDEX(G1747:G1756,MATCH(\"D\",G1747:G1756,0)))=\"D\",\"D\",\"\"),_xlfn.IFNA(IF((INDEX(G1747:G1756,MATCH(\"Ca\",G1747:G1756,0)))=\"Ca\",\"C\",\"\"),_xlfn.IFNA(IF((INDEX(G1747:G1756,MATCH(\"C\",G1747:G1756,0)))=\"C\",\"C\",\"\"),_xlfn.IFNA(IF((INDEX(G1747:G1756,MATCH(\"B\",G1747:G1756,0)))=\"B\",\"B\",\"\"),_xlfn.IFNA(IF((INDEX(G1747:G1756,MATCH(\"A\",G1747:G1756,0)))=\"A\",\"A\",\"\"),_xlfn.IFNA(IF((INDEX(G1747:G1756,MATCH(\"n.a.\",G1747:G1756,0)))=\"n.a.\",\"\",\"\"),_xlfn.IFNA(IF((INDEX(G1747:G1756,MATCH(\"\",G1747:G1756,0)))=\"\",\"\",\"\"),\"\"))))))))","v":""},{"$f":"_xlfn.IFNA(IF((INDEX(H1747:H1756,MATCH(\"E\",H1747:H1756,0)))=\"E\",\"E\",\"\"),_xlfn.IFNA(IF((INDEX(H1747:H1756,MATCH(\"D (E)c\",H1747:H1756,0)))=\"D (E)c\",\"D (E)c\",\"\"),_xlfn.IFNA(IF((INDEX(H1747:H1756,MATCH(\"Db (E)c\",H1747:H1756,0)))=\"Db (E)c\",\"D (E)c\",\"\"),_xlfn.IFNA(IF((INDEX(H1747:H1756,MATCH(\"D\",H1747:H1756,0)))=\"D\",\"D\",\"\"),_xlfn.IFNA(IF((INDEX(H1747:H1756,MATCH(\"Cb\",H1747:H1756,0)))=\"Cb\",\"C\",\"\"),_xlfn.IFNA(IF((INDEX(H1747:H1756,MATCH(\"C\",H1747:H1756,0)))=\"C\",\"C\",\"\"),_xlfn.IFNA(IF((INDEX(H1747:H1756,MATCH(\"Bb\",H1747:H1756,0)))=\"Bb\",\"B\",\"\"),_xlfn.IFNA(IF((INDEX(H1747:H1756,MATCH(\"B\",H1747:H1756,0)))=\"B\",\"B\",\"\"),_xlfn.IFNA(IF((INDEX(H1747:H1756,MATCH(\"Ab\",H1747:H1756,0)))=\"Ab\",\"A\",\"\"),_xlfn.IFNA(IF((INDEX(H1747:H1756,MATCH(\"A\",H1747:H1756,0)))=\"A\",\"A\",\"\"),_xlfn.IFNA(IF((INDEX(H1747:H1756,MATCH(\"n.a.\",H1747:H1756,0)))=\"n.a.\",\"\",\"\"),_xlfn.IFNA(IF((INDEX(H1747:H1756,MATCH(\"\",H1747:H1756,0)))=\"\",\"\",\"\"),\"\"))))))))))))","v":""}]
[null,"\nHighest hazard level for all 'Uptake Routes' \n",null,null,{"$f":"_xlfn.IFNA(IF((INDEX(E1757:H1757,MATCH(\"E\",E1757:H1757,0)))=\"E\",\"E\",\"\"),_xlfn.IFNA(IF((INDEX(E1757:H1757,MATCH(\"D (E)c\",E1757:H1757,0)))=\"D (E)c\",\"D (E)\",\"\"),_xlfn.IFNA(IF((INDEX(E1757:H1757,MATCH(\"D\",E1757:H1757,0)))=\"D\",\"D\",\"\"),_xlfn.IFNA(IF((INDEX(E1757:H1757,MATCH(\"C\",E1757:H1757,0)))=\"C\",\"C\",\"\"),_xlfn.IFNA(IF((INDEX(E1757:H1757,MATCH(\"B\",E1757:H1757,0)))=\"B\",\"B\",\"\"),_xlfn.IFNA(IF((INDEX(E1757:H1757,MATCH(\"A\",E1757:H1757,0)))=\"A\",\"A\",\"\"),_xlfn.IFNA(IF((INDEX(E1757:H1757,MATCH(\"n.a.\",E1757:H1757,0)))=\"n.a.\",\"\",\"\"),_xlfn.IFNA(IF((INDEX(E1757:H1757,MATCH(\"\",E1757:H1757,0)))=\"\",\"\",\"\"),\"\"))))))))","v":""}]
[]
[]
[null,"\nStep 3: D(E) Assessment\nSkip this step if \nyour assessment above does not reveal a D(E) hazard level.\nHover over this cell for additional instructions.\n",null,null,"\nOverall hazard level\n",null,{"$f":"IF(AND(E1758=\"\",C1744=\"Yes\")=TRUE,\"B\",IF(E1758=\"\",\"\",(IF(AND(E1758=\"D (E)\",C1761=\"\"),\"D (E)\"&CHAR(10)&\"Find if cat. 1 acute tox.\",(IF(E1758<>\"D (E)\",E1758,(IF(AND(E1758=\"D (E)\",C1761=\"Yes\"),\"E\",(IF(AND(E1758=\"D (E)\",C1761=\"No\"),\"D\",\"\"))))))))))","v":""}]
[]
[{"$f":"IF(IF(MOD(ROWS(B$3:B1763),20)=1,INDEX('Summary Sheet'!$A$17:$A1789,INT(ROWS(B$3:B1763)/20)+1),\"\")=0,\"\",IF(MOD(ROWS(B$3:B1763),20)=1,INDEX('Summary Sheet'!$A$17:$A1789,INT(ROWS(B$3:B1763)/20)+1),\"\"))","v":89},"Hazard Level Assessment","for",{"$f":"IF(IF(MOD(ROWS(D$3:D1763),20)=1,INDEX('Summary Sheet'!$B$17:$B1789,INT(ROWS(D$3:D1763)/20)+1),\"\")=0,\"\",IF(MOD(ROWS(D$3:D1763),20)=1,INDEX('Summary Sheet'!$B$17:$B1789,INT(ROWS(D$3:D1763)/20)+1),\"\"))","v":""}]
[null,"\nStep 1: Physical & Environmental Hazard Statements/Codes\nFind Section 2 of the SDS and determine if the SDS has physical and/or environmental hazard statements/codes. Hover on this cell for additional instructions.\n",null,{"$f":"IF(IF(MOD(ROWS(D$3:D1764),20)=1,INDEX('Summary Sheet'!$B$17:$B1789,INT(ROWS(D$3:D1764)/20)+1),\"\")=0,\"\",IF(MOD(ROWS(D$3:D1764),20)=1,INDEX('Summary Sheet'!$B$17:$B1789,INT(ROWS(D$3:D1764)/20)+1),\"\"))","v":""}]
[null,"Step 2: Health Hazard Statements/Codes\nProvide the Health Hazard Statements or Codes from Section 2 of the SDS below. Hover on this cell for additional instructions.",null,{"$f":"IF(IF(MOD(ROWS(D$3:D1765),20)=1,INDEX('Summary Sheet'!$B$17:$B1789,INT(ROWS(D$3:D1765)/20)+1),\"\")=0,\"\",IF(MOD(ROWS(D$3:D1765),20)=1,INDEX('Summary Sheet'!$B$17:$B1789,INT(ROWS(D$3:D1765)/20)+1),\"\"))","v":""},"\nHazard Level\n"]
[null,null,null,{"$f":"IF(IF(MOD(ROWS(D$3:D1766),20)=1,INDEX('Summary Sheet'!$B$17:$B1789,INT(ROWS(D$3:D1766)/20)+1),\"\")=0,\"\",IF(MOD(ROWS(D$3:D1766),20)=1,INDEX('Summary Sheet'!$B$17:$B1789,INT(ROWS(D$3:D1766)/20)+1),\"\"))","v":""},"\nEye Damage\n","\nInhalation\n","\nLocal Skin Damage\n","\nSkin uptake, systemic\n"]
[1,null,{"$f":"_xlfn.IFNA(VLOOKUP(B1767,_!$A$7:$F$210,6,FALSE),\"\")","v":""},{"$f":"IF(IF(MOD(ROWS(D$3:D1767),20)=1,INDEX('Summary Sheet'!$B$17:$B1789,INT(ROWS(D$3:D1767)/20)+1),\"\")=0,\"\",IF(MOD(ROWS(D$3:D1767),20)=1,INDEX('Summary Sheet'!$B$17:$B1789,INT(ROWS(D$3:D1767)/20)+1),\"\"))","v":""},{"$f":"_xlfn.IFNA(IF(VLOOKUP(B1767,_!$A$7:$E$210,2,FALSE)=0, \"\", VLOOKUP(B1767,_!$A$7:$E$210,2,FALSE)),  \"\")","v":""},{"$f":"_xlfn.IFNA(IF(VLOOKUP(B1767,_!$A$7:$E$210,3,FALSE)=0, \"\", VLOOKUP(B1767,_!$A$7:$E$210,3,FALSE)), \"\")","v":""},{"$f":"_xlfn.IFNA(IF(VLOOKUP(B1767,_!$A$7:$E$210,4,FALSE)=0, \"\",VLOOKUP(B1767,_!$A$7:$E$210,4,FALSE)), \"\")","v":""},{"$f":"_xlfn.IFNA(IF(VLOOKUP(B1767,_!$A$7:$E$210,5,FALSE)=0,\"\",VLOOKUP(B1767,_!$A$7:$E$210,5,FALSE)), \"\")","v":""}]
[2,null,{"$f":"_xlfn.IFNA(VLOOKUP(B1768,_!$A$7:$F$210,6,FALSE),\"\")","v":""},{"$f":"IF(IF(MOD(ROWS(D$3:D1768),20)=1,INDEX('Summary Sheet'!$B$17:$B1789,INT(ROWS(D$3:D1768)/20)+1),\"\")=0,\"\",IF(MOD(ROWS(D$3:D1768),20)=1,INDEX('Summary Sheet'!$B$17:$B1789,INT(ROWS(D$3:D1768)/20)+1),\"\"))","v":""},{"$f":"_xlfn.IFNA(IF(VLOOKUP(B1768,_!$A$7:$E$210,2,FALSE)=0, \"\", VLOOKUP(B1768,_!$A$7:$E$210,2,FALSE)),  \"\")","v":""},{"$f":"_xlfn.IFNA(IF(VLOOKUP(B1768,_!$A$7:$E$210,3,FALSE)=0, \"\", VLOOKUP(B1768,_!$A$7:$E$210,3,FALSE)), \"\")","v":""},{"$f":"_xlfn.IFNA(IF(VLOOKUP(B1768,_!$A$7:$E$210,4,FALSE)=0, \"\",VLOOKUP(B1768,_!$A$7:$E$210,4,FALSE)), \"\")","v":""},{"$f":"_xlfn.IFNA(IF(VLOOKUP(B1768,_!$A$7:$E$210,5,FALSE)=0,\"\",VLOOKUP(B1768,_!$A$7:$E$210,5,FALSE)), \"\")","v":""}]
[3,null,{"$f":"_xlfn.IFNA(VLOOKUP(B1769,_!$A$7:$F$210,6,FALSE),\"\")","v":""},{"$f":"IF(IF(MOD(ROWS(D$3:D1769),20)=1,INDEX('Summary Sheet'!$B$17:$B1789,INT(ROWS(D$3:D1769)/20)+1),\"\")=0,\"\",IF(MOD(ROWS(D$3:D1769),20)=1,INDEX('Summary Sheet'!$B$17:$B1789,INT(ROWS(D$3:D1769)/20)+1),\"\"))","v":""},{"$f":"_xlfn.IFNA(IF(VLOOKUP(B1769,_!$A$7:$E$210,2,FALSE)=0, \"\", VLOOKUP(B1769,_!$A$7:$E$210,2,FALSE)),  \"\")","v":""},{"$f":"_xlfn.IFNA(IF(VLOOKUP(B1769,_!$A$7:$E$210,3,FALSE)=0, \"\", VLOOKUP(B1769,_!$A$7:$E$210,3,FALSE)), \"\")","v":""},{"$f":"_xlfn.IFNA(IF(VLOOKUP(B1769,_!$A$7:$E$210,4,FALSE)=0, \"\",VLOOKUP(B1769,_!$A$7:$E$210,4,FALSE)), \"\")","v":""},{"$f":"_xlfn.IFNA(IF(VLOOKUP(B1769,_!$A$7:$E$210,5,FALSE)=0,\"\",VLOOKUP(B1769,_!$A$7:$E$210,5,FALSE)), \"\")","v":""}]
[4,null,{"$f":"_xlfn.IFNA(VLOOKUP(B1770,_!$A$7:$F$210,6,FALSE),\"\")","v":""},{"$f":"IF(IF(MOD(ROWS(D$3:D1770),20)=1,INDEX('Summary Sheet'!$B$17:$B1789,INT(ROWS(D$3:D1770)/20)+1),\"\")=0,\"\",IF(MOD(ROWS(D$3:D1770),20)=1,INDEX('Summary Sheet'!$B$17:$B1789,INT(ROWS(D$3:D1770)/20)+1),\"\"))","v":""},{"$f":"_xlfn.IFNA(IF(VLOOKUP(B1770,_!$A$7:$E$210,2,FALSE)=0, \"\", VLOOKUP(B1770,_!$A$7:$E$210,2,FALSE)),  \"\")","v":""},{"$f":"_xlfn.IFNA(IF(VLOOKUP(B1770,_!$A$7:$E$210,3,FALSE)=0, \"\", VLOOKUP(B1770,_!$A$7:$E$210,3,FALSE)), \"\")","v":""},{"$f":"_xlfn.IFNA(IF(VLOOKUP(B1770,_!$A$7:$E$210,4,FALSE)=0, \"\",VLOOKUP(B1770,_!$A$7:$E$210,4,FALSE)), \"\")","v":""},{"$f":"_xlfn.IFNA(IF(VLOOKUP(B1770,_!$A$7:$E$210,5,FALSE)=0,\"\",VLOOKUP(B1770,_!$A$7:$E$210,5,FALSE)), \"\")","v":""}]
[5,null,{"$f":"_xlfn.IFNA(VLOOKUP(B1771,_!$A$7:$F$210,6,FALSE),\"\")","v":""},{"$f":"IF(IF(MOD(ROWS(D$3:D1771),20)=1,INDEX('Summary Sheet'!$B$17:$B1789,INT(ROWS(D$3:D1771)/20)+1),\"\")=0,\"\",IF(MOD(ROWS(D$3:D1771),20)=1,INDEX('Summary Sheet'!$B$17:$B1789,INT(ROWS(D$3:D1771)/20)+1),\"\"))","v":""},{"$f":"_xlfn.IFNA(IF(VLOOKUP(B1771,_!$A$7:$E$210,2,FALSE)=0, \"\", VLOOKUP(B1771,_!$A$7:$E$210,2,FALSE)),  \"\")","v":""},{"$f":"_xlfn.IFNA(IF(VLOOKUP(B1771,_!$A$7:$E$210,3,FALSE)=0, \"\", VLOOKUP(B1771,_!$A$7:$E$210,3,FALSE)), \"\")","v":""},{"$f":"_xlfn.IFNA(IF(VLOOKUP(B1771,_!$A$7:$E$210,4,FALSE)=0, \"\",VLOOKUP(B1771,_!$A$7:$E$210,4,FALSE)), \"\")","v":""},{"$f":"_xlfn.IFNA(IF(VLOOKUP(B1771,_!$A$7:$E$210,5,FALSE)=0,\"\",VLOOKUP(B1771,_!$A$7:$E$210,5,FALSE)), \"\")","v":""}]
[6,null,{"$f":"_xlfn.IFNA(VLOOKUP(B1772,_!$A$7:$F$210,6,FALSE),\"\")","v":""},{"$f":"IF(IF(MOD(ROWS(D$3:D1772),20)=1,INDEX('Summary Sheet'!$B$17:$B1789,INT(ROWS(D$3:D1772)/20)+1),\"\")=0,\"\",IF(MOD(ROWS(D$3:D1772),20)=1,INDEX('Summary Sheet'!$B$17:$B1789,INT(ROWS(D$3:D1772)/20)+1),\"\"))","v":""},{"$f":"_xlfn.IFNA(IF(VLOOKUP(B1772,_!$A$7:$E$210,2,FALSE)=0, \"\", VLOOKUP(B1772,_!$A$7:$E$210,2,FALSE)),  \"\")","v":""},{"$f":"_xlfn.IFNA(IF(VLOOKUP(B1772,_!$A$7:$E$210,3,FALSE)=0, \"\", VLOOKUP(B1772,_!$A$7:$E$210,3,FALSE)), \"\")","v":""},{"$f":"_xlfn.IFNA(IF(VLOOKUP(B1772,_!$A$7:$E$210,4,FALSE)=0, \"\",VLOOKUP(B1772,_!$A$7:$E$210,4,FALSE)), \"\")","v":""},{"$f":"_xlfn.IFNA(IF(VLOOKUP(B1772,_!$A$7:$E$210,5,FALSE)=0,\"\",VLOOKUP(B1772,_!$A$7:$E$210,5,FALSE)), \"\")","v":""}]
[7,null,{"$f":"_xlfn.IFNA(VLOOKUP(B1773,_!$A$7:$F$210,6,FALSE),\"\")","v":""},{"$f":"IF(IF(MOD(ROWS(D$3:D1773),20)=1,INDEX('Summary Sheet'!$B$17:$B1789,INT(ROWS(D$3:D1773)/20)+1),\"\")=0,\"\",IF(MOD(ROWS(D$3:D1773),20)=1,INDEX('Summary Sheet'!$B$17:$B1789,INT(ROWS(D$3:D1773)/20)+1),\"\"))","v":""},{"$f":"_xlfn.IFNA(IF(VLOOKUP(B1773,_!$A$7:$E$210,2,FALSE)=0, \"\", VLOOKUP(B1773,_!$A$7:$E$210,2,FALSE)),  \"\")","v":""},{"$f":"_xlfn.IFNA(IF(VLOOKUP(B1773,_!$A$7:$E$210,3,FALSE)=0, \"\", VLOOKUP(B1773,_!$A$7:$E$210,3,FALSE)), \"\")","v":""},{"$f":"_xlfn.IFNA(IF(VLOOKUP(B1773,_!$A$7:$E$210,4,FALSE)=0, \"\",VLOOKUP(B1773,_!$A$7:$E$210,4,FALSE)), \"\")","v":""},{"$f":"_xlfn.IFNA(IF(VLOOKUP(B1773,_!$A$7:$E$210,5,FALSE)=0,\"\",VLOOKUP(B1773,_!$A$7:$E$210,5,FALSE)), \"\")","v":""}]
[8,null,{"$f":"_xlfn.IFNA(VLOOKUP(B1774,_!$A$7:$F$210,6,FALSE),\"\")","v":""},{"$f":"IF(IF(MOD(ROWS(D$3:D1774),20)=1,INDEX('Summary Sheet'!$B$17:$B1789,INT(ROWS(D$3:D1774)/20)+1),\"\")=0,\"\",IF(MOD(ROWS(D$3:D1774),20)=1,INDEX('Summary Sheet'!$B$17:$B1789,INT(ROWS(D$3:D1774)/20)+1),\"\"))","v":""},{"$f":"_xlfn.IFNA(IF(VLOOKUP(B1774,_!$A$7:$E$210,2,FALSE)=0, \"\", VLOOKUP(B1774,_!$A$7:$E$210,2,FALSE)),  \"\")","v":""},{"$f":"_xlfn.IFNA(IF(VLOOKUP(B1774,_!$A$7:$E$210,3,FALSE)=0, \"\", VLOOKUP(B1774,_!$A$7:$E$210,3,FALSE)), \"\")","v":""},{"$f":"_xlfn.IFNA(IF(VLOOKUP(B1774,_!$A$7:$E$210,4,FALSE)=0, \"\",VLOOKUP(B1774,_!$A$7:$E$210,4,FALSE)), \"\")","v":""},{"$f":"_xlfn.IFNA(IF(VLOOKUP(B1774,_!$A$7:$E$210,5,FALSE)=0,\"\",VLOOKUP(B1774,_!$A$7:$E$210,5,FALSE)), \"\")","v":""}]
[9,null,{"$f":"_xlfn.IFNA(VLOOKUP(B1775,_!$A$7:$F$210,6,FALSE),\"\")","v":""},{"$f":"IF(IF(MOD(ROWS(D$3:D1775),20)=1,INDEX('Summary Sheet'!$B$17:$B1789,INT(ROWS(D$3:D1775)/20)+1),\"\")=0,\"\",IF(MOD(ROWS(D$3:D1775),20)=1,INDEX('Summary Sheet'!$B$17:$B1789,INT(ROWS(D$3:D1775)/20)+1),\"\"))","v":""},{"$f":"_xlfn.IFNA(IF(VLOOKUP(B1775,_!$A$7:$E$210,2,FALSE)=0, \"\", VLOOKUP(B1775,_!$A$7:$E$210,2,FALSE)),  \"\")","v":""},{"$f":"_xlfn.IFNA(IF(VLOOKUP(B1775,_!$A$7:$E$210,3,FALSE)=0, \"\", VLOOKUP(B1775,_!$A$7:$E$210,3,FALSE)), \"\")","v":""},{"$f":"_xlfn.IFNA(IF(VLOOKUP(B1775,_!$A$7:$E$210,4,FALSE)=0, \"\",VLOOKUP(B1775,_!$A$7:$E$210,4,FALSE)), \"\")","v":""},{"$f":"_xlfn.IFNA(IF(VLOOKUP(B1775,_!$A$7:$E$210,5,FALSE)=0,\"\",VLOOKUP(B1775,_!$A$7:$E$210,5,FALSE)), \"\")","v":""}]
[10,null,{"$f":"_xlfn.IFNA(VLOOKUP(B1776,_!$A$7:$F$210,6,FALSE),\"\")","v":""},{"$f":"IF(IF(MOD(ROWS(D$14:D1776),20)=1,INDEX('Summary Sheet'!$B$17:$B1789,INT(ROWS(D$14:D1776)/20)+1),\"\")=0,\"\",IF(MOD(ROWS(D$14:D1776),20)=1,INDEX('Summary Sheet'!$B$17:$B1789,INT(ROWS(D$14:D1776)/20)+1),\"\"))","v":""},{"$f":"_xlfn.IFNA(IF(VLOOKUP(B1776,_!$A$7:$E$210,2,FALSE)=0, \"\", VLOOKUP(B1776,_!$A$7:$E$210,2,FALSE)),  \"\")","v":""},{"$f":"_xlfn.IFNA(IF(VLOOKUP(B1776,_!$A$7:$E$210,3,FALSE)=0, \"\", VLOOKUP(B1776,_!$A$7:$E$210,3,FALSE)), \"\")","v":""},{"$f":"_xlfn.IFNA(IF(VLOOKUP(B1776,_!$A$7:$E$210,4,FALSE)=0, \"\",VLOOKUP(B1776,_!$A$7:$E$210,4,FALSE)), \"\")","v":""},{"$f":"_xlfn.IFNA(IF(VLOOKUP(B1776,_!$A$7:$E$210,5,FALSE)=0,\"\",VLOOKUP(B1776,_!$A$7:$E$210,5,FALSE)), \"\")","v":""}]
[null,"\nHighest hazard level for each ‘Uptake Route’\n",null,null,{"$f":"_xlfn.IFNA(IF((INDEX(E1767:E1776,MATCH(\"E\",E1767:E1776,0)))=\"E\",\"E\",\"\"),_xlfn.IFNA(IF((INDEX(E1767:E1776,MATCH(\"D\",E1767:E1776,0)))=\"D\",\"D\",\"\"),_xlfn.IFNA(IF((INDEX(E1767:E1776,MATCH(\"Ca\",E1767:E1776,0)))=\"Ca\",\"C\",\"\"),_xlfn.IFNA(IF((INDEX(E1767:E1776,MATCH(\"C\",E1767:E1776,0)))=\"C\",\"C\",\"\"),_xlfn.IFNA(IF((INDEX(E1767:E1776,MATCH(\"B\",E1767:E1776,0)))=\"B\",\"B\",\"\"),_xlfn.IFNA(IF((INDEX(E1767:E1776,MATCH(\"A\",E1767:E1776,0)))=\"A\",\"A\",\"\"),_xlfn.IFNA(IF((INDEX(E1767:E1776,MATCH(\"n.a.\",E1767:E1776,0)))=\"n.a.\",\"\",\"\"),_xlfn.IFNA(IF((INDEX(E1767:E1776,MATCH(\"\",E1767:E1776,0)))=\"\",\"\",\"\"),\"\"))))))))","v":""},{"$f":"_xlfn.IFNA(IF((INDEX(F1767:F1776,MATCH(\"E\",F1767:F1776,0)))=\"E\",\"E\",\"\"),_xlfn.IFNA(IF((INDEX(F1767:F1776,MATCH(\"D (E)c\",F1767:F1776,0)))=\"D (E)c\",\"D (E)c\",\"\"),_xlfn.IFNA(IF((INDEX(F1767:F1776,MATCH(\"Da (E)c\",F1767:F1776,0)))=\"Da (E)c\",\"D (E)c\",\"\"),_xlfn.IFNA(IF((INDEX(F1767:F1776,MATCH(\"D\",F1767:F1776,0)))=\"D\",\"D\",\"\"),_xlfn.IFNA(IF((INDEX(F1767:F1776,MATCH(\"Ca\",F1767:F1776,0)))=\"Ca\",\"C\",\"\"),_xlfn.IFNA(IF((INDEX(F1767:F1776,MATCH(\"C\",F1767:F1776,0)))=\"C\",\"C\",\"\"),_xlfn.IFNA(IF((INDEX(F1767:F1776,MATCH(\"Ba\",F1767:F1776,0)))=\"Ba\",\"B\",\"\"),_xlfn.IFNA(IF((INDEX(F1767:F1776,MATCH(\"B\",F1767:F1776,0)))=\"B\",\"B\",\"\"),_xlfn.IFNA(IF((INDEX(F1767:F1776,MATCH(\"Aa\",F1767:F1776,0)))=\"Aa\",\"A\",\"\"),_xlfn.IFNA(IF((INDEX(F1767:F1776,MATCH(\"A\",F1767:F1776,0)))=\"A\",\"A\",\"\"),_xlfn.IFNA(IF((INDEX(F1767:F1776,MATCH(\"n.a.\",F1767:F1776,0)))=\"n.a.\",\"\",\"\"),_xlfn.IFNA(IF((INDEX(F1767:F1776,MATCH(\"\",F1767:F1776,0)))=\"\",\"\",\"\"),\"\"))))))))))))","v":""},{"$f":"_xlfn.IFNA(IF((INDEX(G1767:G1776,MATCH(\"E\",G1767:G1776,0)))=\"E\",\"E\",\"\"),_xlfn.IFNA(IF((INDEX(G1767:G1776,MATCH(\"D\",G1767:G1776,0)))=\"D\",\"D\",\"\"),_xlfn.IFNA(IF((INDEX(G1767:G1776,MATCH(\"Ca\",G1767:G1776,0)))=\"Ca\",\"C\",\"\"),_xlfn.IFNA(IF((INDEX(G1767:G1776,MATCH(\"C\",G1767:G1776,0)))=\"C\",\"C\",\"\"),_xlfn.IFNA(IF((INDEX(G1767:G1776,MATCH(\"B\",G1767:G1776,0)))=\"B\",\"B\",\"\"),_xlfn.IFNA(IF((INDEX(G1767:G1776,MATCH(\"A\",G1767:G1776,0)))=\"A\",\"A\",\"\"),_xlfn.IFNA(IF((INDEX(G1767:G1776,MATCH(\"n.a.\",G1767:G1776,0)))=\"n.a.\",\"\",\"\"),_xlfn.IFNA(IF((INDEX(G1767:G1776,MATCH(\"\",G1767:G1776,0)))=\"\",\"\",\"\"),\"\"))))))))","v":""},{"$f":"_xlfn.IFNA(IF((INDEX(H1767:H1776,MATCH(\"E\",H1767:H1776,0)))=\"E\",\"E\",\"\"),_xlfn.IFNA(IF((INDEX(H1767:H1776,MATCH(\"D (E)c\",H1767:H1776,0)))=\"D (E)c\",\"D (E)c\",\"\"),_xlfn.IFNA(IF((INDEX(H1767:H1776,MATCH(\"Db (E)c\",H1767:H1776,0)))=\"Db (E)c\",\"D (E)c\",\"\"),_xlfn.IFNA(IF((INDEX(H1767:H1776,MATCH(\"D\",H1767:H1776,0)))=\"D\",\"D\",\"\"),_xlfn.IFNA(IF((INDEX(H1767:H1776,MATCH(\"Cb\",H1767:H1776,0)))=\"Cb\",\"C\",\"\"),_xlfn.IFNA(IF((INDEX(H1767:H1776,MATCH(\"C\",H1767:H1776,0)))=\"C\",\"C\",\"\"),_xlfn.IFNA(IF((INDEX(H1767:H1776,MATCH(\"Bb\",H1767:H1776,0)))=\"Bb\",\"B\",\"\"),_xlfn.IFNA(IF((INDEX(H1767:H1776,MATCH(\"B\",H1767:H1776,0)))=\"B\",\"B\",\"\"),_xlfn.IFNA(IF((INDEX(H1767:H1776,MATCH(\"Ab\",H1767:H1776,0)))=\"Ab\",\"A\",\"\"),_xlfn.IFNA(IF((INDEX(H1767:H1776,MATCH(\"A\",H1767:H1776,0)))=\"A\",\"A\",\"\"),_xlfn.IFNA(IF((INDEX(H1767:H1776,MATCH(\"n.a.\",H1767:H1776,0)))=\"n.a.\",\"\",\"\"),_xlfn.IFNA(IF((INDEX(H1767:H1776,MATCH(\"\",H1767:H1776,0)))=\"\",\"\",\"\"),\"\"))))))))))))","v":""}]
[null,"\nHighest hazard level for all 'Uptake Routes' \n",null,null,{"$f":"_xlfn.IFNA(IF((INDEX(E1777:H1777,MATCH(\"E\",E1777:H1777,0)))=\"E\",\"E\",\"\"),_xlfn.IFNA(IF((INDEX(E1777:H1777,MATCH(\"D (E)c\",E1777:H1777,0)))=\"D (E)c\",\"D (E)\",\"\"),_xlfn.IFNA(IF((INDEX(E1777:H1777,MATCH(\"D\",E1777:H1777,0)))=\"D\",\"D\",\"\"),_xlfn.IFNA(IF((INDEX(E1777:H1777,MATCH(\"C\",E1777:H1777,0)))=\"C\",\"C\",\"\"),_xlfn.IFNA(IF((INDEX(E1777:H1777,MATCH(\"B\",E1777:H1777,0)))=\"B\",\"B\",\"\"),_xlfn.IFNA(IF((INDEX(E1777:H1777,MATCH(\"A\",E1777:H1777,0)))=\"A\",\"A\",\"\"),_xlfn.IFNA(IF((INDEX(E1777:H1777,MATCH(\"n.a.\",E1777:H1777,0)))=\"n.a.\",\"\",\"\"),_xlfn.IFNA(IF((INDEX(E1777:H1777,MATCH(\"\",E1777:H1777,0)))=\"\",\"\",\"\"),\"\"))))))))","v":""}]
[]
[]
[null,"\nStep 3: D(E) Assessment\nSkip this step if \nyour assessment above does not reveal a D(E) hazard level.\nHover over this cell for additional instructions.\n",null,null,"\nOverall hazard level\n",null,{"$f":"IF(AND(E1778=\"\",C1764=\"Yes\")=TRUE,\"B\",IF(E1778=\"\",\"\",(IF(AND(E1778=\"D (E)\",C1781=\"\"),\"D (E)\"&CHAR(10)&\"Find if cat. 1 acute tox.\",(IF(E1778<>\"D (E)\",E1778,(IF(AND(E1778=\"D (E)\",C1781=\"Yes\"),\"E\",(IF(AND(E1778=\"D (E)\",C1781=\"No\"),\"D\",\"\"))))))))))","v":""}]
[]
[{"$f":"IF(IF(MOD(ROWS(B$3:B1783),20)=1,INDEX('Summary Sheet'!$A$17:$A1808,INT(ROWS(B$3:B1783)/20)+1),\"\")=0,\"\",IF(MOD(ROWS(B$3:B1783),20)=1,INDEX('Summary Sheet'!$A$17:$A1808,INT(ROWS(B$3:B1783)/20)+1),\"\"))","v":90},"Hazard Level Assessment","for",{"$f":"IF(IF(MOD(ROWS(D$3:D1783),20)=1,INDEX('Summary Sheet'!$B$17:$B1808,INT(ROWS(D$3:D1783)/20)+1),\"\")=0,\"\",IF(MOD(ROWS(D$3:D1783),20)=1,INDEX('Summary Sheet'!$B$17:$B1808,INT(ROWS(D$3:D1783)/20)+1),\"\"))","v":""}]
[null,"\nStep 1: Physical & Environmental Hazard Statements/Codes\nFind Section 2 of the SDS and determine if the SDS has physical and/or environmental hazard statements/codes. Hover on this cell for additional instructions.\n",null,{"$f":"IF(IF(MOD(ROWS(D$3:D1784),20)=1,INDEX('Summary Sheet'!$B$17:$B1808,INT(ROWS(D$3:D1784)/20)+1),\"\")=0,\"\",IF(MOD(ROWS(D$3:D1784),20)=1,INDEX('Summary Sheet'!$B$17:$B1808,INT(ROWS(D$3:D1784)/20)+1),\"\"))","v":""}]
[null,"Step 2: Health Hazard Statements/Codes\nProvide the Health Hazard Statements or Codes from Section 2 of the SDS below. Hover on this cell for additional instructions.",null,{"$f":"IF(IF(MOD(ROWS(D$3:D1785),20)=1,INDEX('Summary Sheet'!$B$17:$B1808,INT(ROWS(D$3:D1785)/20)+1),\"\")=0,\"\",IF(MOD(ROWS(D$3:D1785),20)=1,INDEX('Summary Sheet'!$B$17:$B1808,INT(ROWS(D$3:D1785)/20)+1),\"\"))","v":""},"\nHazard Level\n"]
[null,null,null,{"$f":"IF(IF(MOD(ROWS(D$3:D1786),20)=1,INDEX('Summary Sheet'!$B$17:$B1808,INT(ROWS(D$3:D1786)/20)+1),\"\")=0,\"\",IF(MOD(ROWS(D$3:D1786),20)=1,INDEX('Summary Sheet'!$B$17:$B1808,INT(ROWS(D$3:D1786)/20)+1),\"\"))","v":""},"\nEye Damage\n","\nInhalation\n","\nLocal Skin Damage\n","\nSkin uptake, systemic\n"]
[1,null,{"$f":"_xlfn.IFNA(VLOOKUP(B1787,_!$A$7:$F$210,6,FALSE),\"\")","v":""},{"$f":"IF(IF(MOD(ROWS(D$3:D1787),20)=1,INDEX('Summary Sheet'!$B$17:$B1808,INT(ROWS(D$3:D1787)/20)+1),\"\")=0,\"\",IF(MOD(ROWS(D$3:D1787),20)=1,INDEX('Summary Sheet'!$B$17:$B1808,INT(ROWS(D$3:D1787)/20)+1),\"\"))","v":""},{"$f":"_xlfn.IFNA(IF(VLOOKUP(B1787,_!$A$7:$E$210,2,FALSE)=0, \"\", VLOOKUP(B1787,_!$A$7:$E$210,2,FALSE)),  \"\")","v":""},{"$f":"_xlfn.IFNA(IF(VLOOKUP(B1787,_!$A$7:$E$210,3,FALSE)=0, \"\", VLOOKUP(B1787,_!$A$7:$E$210,3,FALSE)), \"\")","v":""},{"$f":"_xlfn.IFNA(IF(VLOOKUP(B1787,_!$A$7:$E$210,4,FALSE)=0, \"\",VLOOKUP(B1787,_!$A$7:$E$210,4,FALSE)), \"\")","v":""},{"$f":"_xlfn.IFNA(IF(VLOOKUP(B1787,_!$A$7:$E$210,5,FALSE)=0,\"\",VLOOKUP(B1787,_!$A$7:$E$210,5,FALSE)), \"\")","v":""}]
[2,null,{"$f":"_xlfn.IFNA(VLOOKUP(B1788,_!$A$7:$F$210,6,FALSE),\"\")","v":""},{"$f":"IF(IF(MOD(ROWS(D$3:D1788),20)=1,INDEX('Summary Sheet'!$B$17:$B1808,INT(ROWS(D$3:D1788)/20)+1),\"\")=0,\"\",IF(MOD(ROWS(D$3:D1788),20)=1,INDEX('Summary Sheet'!$B$17:$B1808,INT(ROWS(D$3:D1788)/20)+1),\"\"))","v":""},{"$f":"_xlfn.IFNA(IF(VLOOKUP(B1788,_!$A$7:$E$210,2,FALSE)=0, \"\", VLOOKUP(B1788,_!$A$7:$E$210,2,FALSE)),  \"\")","v":""},{"$f":"_xlfn.IFNA(IF(VLOOKUP(B1788,_!$A$7:$E$210,3,FALSE)=0, \"\", VLOOKUP(B1788,_!$A$7:$E$210,3,FALSE)), \"\")","v":""},{"$f":"_xlfn.IFNA(IF(VLOOKUP(B1788,_!$A$7:$E$210,4,FALSE)=0, \"\",VLOOKUP(B1788,_!$A$7:$E$210,4,FALSE)), \"\")","v":""},{"$f":"_xlfn.IFNA(IF(VLOOKUP(B1788,_!$A$7:$E$210,5,FALSE)=0,\"\",VLOOKUP(B1788,_!$A$7:$E$210,5,FALSE)), \"\")","v":""}]
[3,null,{"$f":"_xlfn.IFNA(VLOOKUP(B1789,_!$A$7:$F$210,6,FALSE),\"\")","v":""},{"$f":"IF(IF(MOD(ROWS(D$3:D1789),20)=1,INDEX('Summary Sheet'!$B$17:$B1808,INT(ROWS(D$3:D1789)/20)+1),\"\")=0,\"\",IF(MOD(ROWS(D$3:D1789),20)=1,INDEX('Summary Sheet'!$B$17:$B1808,INT(ROWS(D$3:D1789)/20)+1),\"\"))","v":""},{"$f":"_xlfn.IFNA(IF(VLOOKUP(B1789,_!$A$7:$E$210,2,FALSE)=0, \"\", VLOOKUP(B1789,_!$A$7:$E$210,2,FALSE)),  \"\")","v":""},{"$f":"_xlfn.IFNA(IF(VLOOKUP(B1789,_!$A$7:$E$210,3,FALSE)=0, \"\", VLOOKUP(B1789,_!$A$7:$E$210,3,FALSE)), \"\")","v":""},{"$f":"_xlfn.IFNA(IF(VLOOKUP(B1789,_!$A$7:$E$210,4,FALSE)=0, \"\",VLOOKUP(B1789,_!$A$7:$E$210,4,FALSE)), \"\")","v":""},{"$f":"_xlfn.IFNA(IF(VLOOKUP(B1789,_!$A$7:$E$210,5,FALSE)=0,\"\",VLOOKUP(B1789,_!$A$7:$E$210,5,FALSE)), \"\")","v":""}]
[4,null,{"$f":"_xlfn.IFNA(VLOOKUP(B1790,_!$A$7:$F$210,6,FALSE),\"\")","v":""},{"$f":"IF(IF(MOD(ROWS(D$3:D1790),20)=1,INDEX('Summary Sheet'!$B$17:$B1808,INT(ROWS(D$3:D1790)/20)+1),\"\")=0,\"\",IF(MOD(ROWS(D$3:D1790),20)=1,INDEX('Summary Sheet'!$B$17:$B1808,INT(ROWS(D$3:D1790)/20)+1),\"\"))","v":""},{"$f":"_xlfn.IFNA(IF(VLOOKUP(B1790,_!$A$7:$E$210,2,FALSE)=0, \"\", VLOOKUP(B1790,_!$A$7:$E$210,2,FALSE)),  \"\")","v":""},{"$f":"_xlfn.IFNA(IF(VLOOKUP(B1790,_!$A$7:$E$210,3,FALSE)=0, \"\", VLOOKUP(B1790,_!$A$7:$E$210,3,FALSE)), \"\")","v":""},{"$f":"_xlfn.IFNA(IF(VLOOKUP(B1790,_!$A$7:$E$210,4,FALSE)=0, \"\",VLOOKUP(B1790,_!$A$7:$E$210,4,FALSE)), \"\")","v":""},{"$f":"_xlfn.IFNA(IF(VLOOKUP(B1790,_!$A$7:$E$210,5,FALSE)=0,\"\",VLOOKUP(B1790,_!$A$7:$E$210,5,FALSE)), \"\")","v":""}]
[5,null,{"$f":"_xlfn.IFNA(VLOOKUP(B1791,_!$A$7:$F$210,6,FALSE),\"\")","v":""},{"$f":"IF(IF(MOD(ROWS(D$3:D1791),20)=1,INDEX('Summary Sheet'!$B$17:$B1808,INT(ROWS(D$3:D1791)/20)+1),\"\")=0,\"\",IF(MOD(ROWS(D$3:D1791),20)=1,INDEX('Summary Sheet'!$B$17:$B1808,INT(ROWS(D$3:D1791)/20)+1),\"\"))","v":""},{"$f":"_xlfn.IFNA(IF(VLOOKUP(B1791,_!$A$7:$E$210,2,FALSE)=0, \"\", VLOOKUP(B1791,_!$A$7:$E$210,2,FALSE)),  \"\")","v":""},{"$f":"_xlfn.IFNA(IF(VLOOKUP(B1791,_!$A$7:$E$210,3,FALSE)=0, \"\", VLOOKUP(B1791,_!$A$7:$E$210,3,FALSE)), \"\")","v":""},{"$f":"_xlfn.IFNA(IF(VLOOKUP(B1791,_!$A$7:$E$210,4,FALSE)=0, \"\",VLOOKUP(B1791,_!$A$7:$E$210,4,FALSE)), \"\")","v":""},{"$f":"_xlfn.IFNA(IF(VLOOKUP(B1791,_!$A$7:$E$210,5,FALSE)=0,\"\",VLOOKUP(B1791,_!$A$7:$E$210,5,FALSE)), \"\")","v":""}]
[6,null,{"$f":"_xlfn.IFNA(VLOOKUP(B1792,_!$A$7:$F$210,6,FALSE),\"\")","v":""},{"$f":"IF(IF(MOD(ROWS(D$3:D1792),20)=1,INDEX('Summary Sheet'!$B$17:$B1808,INT(ROWS(D$3:D1792)/20)+1),\"\")=0,\"\",IF(MOD(ROWS(D$3:D1792),20)=1,INDEX('Summary Sheet'!$B$17:$B1808,INT(ROWS(D$3:D1792)/20)+1),\"\"))","v":""},{"$f":"_xlfn.IFNA(IF(VLOOKUP(B1792,_!$A$7:$E$210,2,FALSE)=0, \"\", VLOOKUP(B1792,_!$A$7:$E$210,2,FALSE)),  \"\")","v":""},{"$f":"_xlfn.IFNA(IF(VLOOKUP(B1792,_!$A$7:$E$210,3,FALSE)=0, \"\", VLOOKUP(B1792,_!$A$7:$E$210,3,FALSE)), \"\")","v":""},{"$f":"_xlfn.IFNA(IF(VLOOKUP(B1792,_!$A$7:$E$210,4,FALSE)=0, \"\",VLOOKUP(B1792,_!$A$7:$E$210,4,FALSE)), \"\")","v":""},{"$f":"_xlfn.IFNA(IF(VLOOKUP(B1792,_!$A$7:$E$210,5,FALSE)=0,\"\",VLOOKUP(B1792,_!$A$7:$E$210,5,FALSE)), \"\")","v":""}]
[7,null,{"$f":"_xlfn.IFNA(VLOOKUP(B1793,_!$A$7:$F$210,6,FALSE),\"\")","v":""},{"$f":"IF(IF(MOD(ROWS(D$3:D1793),20)=1,INDEX('Summary Sheet'!$B$17:$B1808,INT(ROWS(D$3:D1793)/20)+1),\"\")=0,\"\",IF(MOD(ROWS(D$3:D1793),20)=1,INDEX('Summary Sheet'!$B$17:$B1808,INT(ROWS(D$3:D1793)/20)+1),\"\"))","v":""},{"$f":"_xlfn.IFNA(IF(VLOOKUP(B1793,_!$A$7:$E$210,2,FALSE)=0, \"\", VLOOKUP(B1793,_!$A$7:$E$210,2,FALSE)),  \"\")","v":""},{"$f":"_xlfn.IFNA(IF(VLOOKUP(B1793,_!$A$7:$E$210,3,FALSE)=0, \"\", VLOOKUP(B1793,_!$A$7:$E$210,3,FALSE)), \"\")","v":""},{"$f":"_xlfn.IFNA(IF(VLOOKUP(B1793,_!$A$7:$E$210,4,FALSE)=0, \"\",VLOOKUP(B1793,_!$A$7:$E$210,4,FALSE)), \"\")","v":""},{"$f":"_xlfn.IFNA(IF(VLOOKUP(B1793,_!$A$7:$E$210,5,FALSE)=0,\"\",VLOOKUP(B1793,_!$A$7:$E$210,5,FALSE)), \"\")","v":""}]
[8,null,{"$f":"_xlfn.IFNA(VLOOKUP(B1794,_!$A$7:$F$210,6,FALSE),\"\")","v":""},{"$f":"IF(IF(MOD(ROWS(D$3:D1794),20)=1,INDEX('Summary Sheet'!$B$17:$B1808,INT(ROWS(D$3:D1794)/20)+1),\"\")=0,\"\",IF(MOD(ROWS(D$3:D1794),20)=1,INDEX('Summary Sheet'!$B$17:$B1808,INT(ROWS(D$3:D1794)/20)+1),\"\"))","v":""},{"$f":"_xlfn.IFNA(IF(VLOOKUP(B1794,_!$A$7:$E$210,2,FALSE)=0, \"\", VLOOKUP(B1794,_!$A$7:$E$210,2,FALSE)),  \"\")","v":""},{"$f":"_xlfn.IFNA(IF(VLOOKUP(B1794,_!$A$7:$E$210,3,FALSE)=0, \"\", VLOOKUP(B1794,_!$A$7:$E$210,3,FALSE)), \"\")","v":""},{"$f":"_xlfn.IFNA(IF(VLOOKUP(B1794,_!$A$7:$E$210,4,FALSE)=0, \"\",VLOOKUP(B1794,_!$A$7:$E$210,4,FALSE)), \"\")","v":""},{"$f":"_xlfn.IFNA(IF(VLOOKUP(B1794,_!$A$7:$E$210,5,FALSE)=0,\"\",VLOOKUP(B1794,_!$A$7:$E$210,5,FALSE)), \"\")","v":""}]
[9,null,{"$f":"_xlfn.IFNA(VLOOKUP(B1795,_!$A$7:$F$210,6,FALSE),\"\")","v":""},{"$f":"IF(IF(MOD(ROWS(D$3:D1795),20)=1,INDEX('Summary Sheet'!$B$17:$B1808,INT(ROWS(D$3:D1795)/20)+1),\"\")=0,\"\",IF(MOD(ROWS(D$3:D1795),20)=1,INDEX('Summary Sheet'!$B$17:$B1808,INT(ROWS(D$3:D1795)/20)+1),\"\"))","v":""},{"$f":"_xlfn.IFNA(IF(VLOOKUP(B1795,_!$A$7:$E$210,2,FALSE)=0, \"\", VLOOKUP(B1795,_!$A$7:$E$210,2,FALSE)),  \"\")","v":""},{"$f":"_xlfn.IFNA(IF(VLOOKUP(B1795,_!$A$7:$E$210,3,FALSE)=0, \"\", VLOOKUP(B1795,_!$A$7:$E$210,3,FALSE)), \"\")","v":""},{"$f":"_xlfn.IFNA(IF(VLOOKUP(B1795,_!$A$7:$E$210,4,FALSE)=0, \"\",VLOOKUP(B1795,_!$A$7:$E$210,4,FALSE)), \"\")","v":""},{"$f":"_xlfn.IFNA(IF(VLOOKUP(B1795,_!$A$7:$E$210,5,FALSE)=0,\"\",VLOOKUP(B1795,_!$A$7:$E$210,5,FALSE)), \"\")","v":""}]
[10,null,{"$f":"_xlfn.IFNA(VLOOKUP(B1796,_!$A$7:$F$210,6,FALSE),\"\")","v":""},{"$f":"IF(IF(MOD(ROWS(D$14:D1796),20)=1,INDEX('Summary Sheet'!$B$17:$B1808,INT(ROWS(D$14:D1796)/20)+1),\"\")=0,\"\",IF(MOD(ROWS(D$14:D1796),20)=1,INDEX('Summary Sheet'!$B$17:$B1808,INT(ROWS(D$14:D1796)/20)+1),\"\"))","v":""},{"$f":"_xlfn.IFNA(IF(VLOOKUP(B1796,_!$A$7:$E$210,2,FALSE)=0, \"\", VLOOKUP(B1796,_!$A$7:$E$210,2,FALSE)),  \"\")","v":""},{"$f":"_xlfn.IFNA(IF(VLOOKUP(B1796,_!$A$7:$E$210,3,FALSE)=0, \"\", VLOOKUP(B1796,_!$A$7:$E$210,3,FALSE)), \"\")","v":""},{"$f":"_xlfn.IFNA(IF(VLOOKUP(B1796,_!$A$7:$E$210,4,FALSE)=0, \"\",VLOOKUP(B1796,_!$A$7:$E$210,4,FALSE)), \"\")","v":""},{"$f":"_xlfn.IFNA(IF(VLOOKUP(B1796,_!$A$7:$E$210,5,FALSE)=0,\"\",VLOOKUP(B1796,_!$A$7:$E$210,5,FALSE)), \"\")","v":""}]
[null,"\nHighest hazard level for each ‘Uptake Route’\n",null,null,{"$f":"_xlfn.IFNA(IF((INDEX(E1787:E1796,MATCH(\"E\",E1787:E1796,0)))=\"E\",\"E\",\"\"),_xlfn.IFNA(IF((INDEX(E1787:E1796,MATCH(\"D\",E1787:E1796,0)))=\"D\",\"D\",\"\"),_xlfn.IFNA(IF((INDEX(E1787:E1796,MATCH(\"Ca\",E1787:E1796,0)))=\"Ca\",\"C\",\"\"),_xlfn.IFNA(IF((INDEX(E1787:E1796,MATCH(\"C\",E1787:E1796,0)))=\"C\",\"C\",\"\"),_xlfn.IFNA(IF((INDEX(E1787:E1796,MATCH(\"B\",E1787:E1796,0)))=\"B\",\"B\",\"\"),_xlfn.IFNA(IF((INDEX(E1787:E1796,MATCH(\"A\",E1787:E1796,0)))=\"A\",\"A\",\"\"),_xlfn.IFNA(IF((INDEX(E1787:E1796,MATCH(\"n.a.\",E1787:E1796,0)))=\"n.a.\",\"\",\"\"),_xlfn.IFNA(IF((INDEX(E1787:E1796,MATCH(\"\",E1787:E1796,0)))=\"\",\"\",\"\"),\"\"))))))))","v":""},{"$f":"_xlfn.IFNA(IF((INDEX(F1787:F1796,MATCH(\"E\",F1787:F1796,0)))=\"E\",\"E\",\"\"),_xlfn.IFNA(IF((INDEX(F1787:F1796,MATCH(\"D (E)c\",F1787:F1796,0)))=\"D (E)c\",\"D (E)c\",\"\"),_xlfn.IFNA(IF((INDEX(F1787:F1796,MATCH(\"Da (E)c\",F1787:F1796,0)))=\"Da (E)c\",\"D (E)c\",\"\"),_xlfn.IFNA(IF((INDEX(F1787:F1796,MATCH(\"D\",F1787:F1796,0)))=\"D\",\"D\",\"\"),_xlfn.IFNA(IF((INDEX(F1787:F1796,MATCH(\"Ca\",F1787:F1796,0)))=\"Ca\",\"C\",\"\"),_xlfn.IFNA(IF((INDEX(F1787:F1796,MATCH(\"C\",F1787:F1796,0)))=\"C\",\"C\",\"\"),_xlfn.IFNA(IF((INDEX(F1787:F1796,MATCH(\"Ba\",F1787:F1796,0)))=\"Ba\",\"B\",\"\"),_xlfn.IFNA(IF((INDEX(F1787:F1796,MATCH(\"B\",F1787:F1796,0)))=\"B\",\"B\",\"\"),_xlfn.IFNA(IF((INDEX(F1787:F1796,MATCH(\"Aa\",F1787:F1796,0)))=\"Aa\",\"A\",\"\"),_xlfn.IFNA(IF((INDEX(F1787:F1796,MATCH(\"A\",F1787:F1796,0)))=\"A\",\"A\",\"\"),_xlfn.IFNA(IF((INDEX(F1787:F1796,MATCH(\"n.a.\",F1787:F1796,0)))=\"n.a.\",\"\",\"\"),_xlfn.IFNA(IF((INDEX(F1787:F1796,MATCH(\"\",F1787:F1796,0)))=\"\",\"\",\"\"),\"\"))))))))))))","v":""},{"$f":"_xlfn.IFNA(IF((INDEX(G1787:G1796,MATCH(\"E\",G1787:G1796,0)))=\"E\",\"E\",\"\"),_xlfn.IFNA(IF((INDEX(G1787:G1796,MATCH(\"D\",G1787:G1796,0)))=\"D\",\"D\",\"\"),_xlfn.IFNA(IF((INDEX(G1787:G1796,MATCH(\"Ca\",G1787:G1796,0)))=\"Ca\",\"C\",\"\"),_xlfn.IFNA(IF((INDEX(G1787:G1796,MATCH(\"C\",G1787:G1796,0)))=\"C\",\"C\",\"\"),_xlfn.IFNA(IF((INDEX(G1787:G1796,MATCH(\"B\",G1787:G1796,0)))=\"B\",\"B\",\"\"),_xlfn.IFNA(IF((INDEX(G1787:G1796,MATCH(\"A\",G1787:G1796,0)))=\"A\",\"A\",\"\"),_xlfn.IFNA(IF((INDEX(G1787:G1796,MATCH(\"n.a.\",G1787:G1796,0)))=\"n.a.\",\"\",\"\"),_xlfn.IFNA(IF((INDEX(G1787:G1796,MATCH(\"\",G1787:G1796,0)))=\"\",\"\",\"\"),\"\"))))))))","v":""},{"$f":"_xlfn.IFNA(IF((INDEX(H1787:H1796,MATCH(\"E\",H1787:H1796,0)))=\"E\",\"E\",\"\"),_xlfn.IFNA(IF((INDEX(H1787:H1796,MATCH(\"D (E)c\",H1787:H1796,0)))=\"D (E)c\",\"D (E)c\",\"\"),_xlfn.IFNA(IF((INDEX(H1787:H1796,MATCH(\"Db (E)c\",H1787:H1796,0)))=\"Db (E)c\",\"D (E)c\",\"\"),_xlfn.IFNA(IF((INDEX(H1787:H1796,MATCH(\"D\",H1787:H1796,0)))=\"D\",\"D\",\"\"),_xlfn.IFNA(IF((INDEX(H1787:H1796,MATCH(\"Cb\",H1787:H1796,0)))=\"Cb\",\"C\",\"\"),_xlfn.IFNA(IF((INDEX(H1787:H1796,MATCH(\"C\",H1787:H1796,0)))=\"C\",\"C\",\"\"),_xlfn.IFNA(IF((INDEX(H1787:H1796,MATCH(\"Bb\",H1787:H1796,0)))=\"Bb\",\"B\",\"\"),_xlfn.IFNA(IF((INDEX(H1787:H1796,MATCH(\"B\",H1787:H1796,0)))=\"B\",\"B\",\"\"),_xlfn.IFNA(IF((INDEX(H1787:H1796,MATCH(\"Ab\",H1787:H1796,0)))=\"Ab\",\"A\",\"\"),_xlfn.IFNA(IF((INDEX(H1787:H1796,MATCH(\"A\",H1787:H1796,0)))=\"A\",\"A\",\"\"),_xlfn.IFNA(IF((INDEX(H1787:H1796,MATCH(\"n.a.\",H1787:H1796,0)))=\"n.a.\",\"\",\"\"),_xlfn.IFNA(IF((INDEX(H1787:H1796,MATCH(\"\",H1787:H1796,0)))=\"\",\"\",\"\"),\"\"))))))))))))","v":""}]
[null,"\nHighest hazard level for all 'Uptake Routes' \n",null,null,{"$f":"_xlfn.IFNA(IF((INDEX(E1797:H1797,MATCH(\"E\",E1797:H1797,0)))=\"E\",\"E\",\"\"),_xlfn.IFNA(IF((INDEX(E1797:H1797,MATCH(\"D (E)c\",E1797:H1797,0)))=\"D (E)c\",\"D (E)\",\"\"),_xlfn.IFNA(IF((INDEX(E1797:H1797,MATCH(\"D\",E1797:H1797,0)))=\"D\",\"D\",\"\"),_xlfn.IFNA(IF((INDEX(E1797:H1797,MATCH(\"C\",E1797:H1797,0)))=\"C\",\"C\",\"\"),_xlfn.IFNA(IF((INDEX(E1797:H1797,MATCH(\"B\",E1797:H1797,0)))=\"B\",\"B\",\"\"),_xlfn.IFNA(IF((INDEX(E1797:H1797,MATCH(\"A\",E1797:H1797,0)))=\"A\",\"A\",\"\"),_xlfn.IFNA(IF((INDEX(E1797:H1797,MATCH(\"n.a.\",E1797:H1797,0)))=\"n.a.\",\"\",\"\"),_xlfn.IFNA(IF((INDEX(E1797:H1797,MATCH(\"\",E1797:H1797,0)))=\"\",\"\",\"\"),\"\"))))))))","v":""}]
[]
[]
[null,"\nStep 3: D(E) Assessment\nSkip this step if \nyour assessment above does not reveal a D(E) hazard level.\nHover over this cell for additional instructions.\n",null,null,"\nOverall hazard level\n",null,{"$f":"IF(AND(E1798=\"\",C1784=\"Yes\")=TRUE,\"B\",IF(E1798=\"\",\"\",(IF(AND(E1798=\"D (E)\",C1801=\"\"),\"D (E)\"&CHAR(10)&\"Find if cat. 1 acute tox.\",(IF(E1798<>\"D (E)\",E1798,(IF(AND(E1798=\"D (E)\",C1801=\"Yes\"),\"E\",(IF(AND(E1798=\"D (E)\",C1801=\"No\"),\"D\",\"\"))))))))))","v":""}]
[]
[{"$f":"IF(IF(MOD(ROWS(B$3:B1803),20)=1,INDEX('Summary Sheet'!$A$17:$A1827,INT(ROWS(B$3:B1803)/20)+1),\"\")=0,\"\",IF(MOD(ROWS(B$3:B1803),20)=1,INDEX('Summary Sheet'!$A$17:$A1827,INT(ROWS(B$3:B1803)/20)+1),\"\"))","v":91},"Hazard Level Assessment","for",{"$f":"IF(IF(MOD(ROWS(D$3:D1803),20)=1,INDEX('Summary Sheet'!$B$17:$B1827,INT(ROWS(D$3:D1803)/20)+1),\"\")=0,\"\",IF(MOD(ROWS(D$3:D1803),20)=1,INDEX('Summary Sheet'!$B$17:$B1827,INT(ROWS(D$3:D1803)/20)+1),\"\"))","v":""}]
[null,"\nStep 1: Physical & Environmental Hazard Statements/Codes\nFind Section 2 of the SDS and determine if the SDS has physical and/or environmental hazard statements/codes. Hover on this cell for additional instructions.\n",null,{"$f":"IF(IF(MOD(ROWS(D$3:D1804),20)=1,INDEX('Summary Sheet'!$B$17:$B1827,INT(ROWS(D$3:D1804)/20)+1),\"\")=0,\"\",IF(MOD(ROWS(D$3:D1804),20)=1,INDEX('Summary Sheet'!$B$17:$B1827,INT(ROWS(D$3:D1804)/20)+1),\"\"))","v":""}]
[null,"Step 2: Health Hazard Statements/Codes\nProvide the Health Hazard Statements or Codes from Section 2 of the SDS below. Hover on this cell for additional instructions.",null,{"$f":"IF(IF(MOD(ROWS(D$3:D1805),20)=1,INDEX('Summary Sheet'!$B$17:$B1827,INT(ROWS(D$3:D1805)/20)+1),\"\")=0,\"\",IF(MOD(ROWS(D$3:D1805),20)=1,INDEX('Summary Sheet'!$B$17:$B1827,INT(ROWS(D$3:D1805)/20)+1),\"\"))","v":""},"\nHazard Level\n"]
[null,null,null,{"$f":"IF(IF(MOD(ROWS(D$3:D1806),20)=1,INDEX('Summary Sheet'!$B$17:$B1827,INT(ROWS(D$3:D1806)/20)+1),\"\")=0,\"\",IF(MOD(ROWS(D$3:D1806),20)=1,INDEX('Summary Sheet'!$B$17:$B1827,INT(ROWS(D$3:D1806)/20)+1),\"\"))","v":""},"\nEye Damage\n","\nInhalation\n","\nLocal Skin Damage\n","\nSkin uptake, systemic\n"]
[1,null,{"$f":"_xlfn.IFNA(VLOOKUP(B1807,_!$A$7:$F$210,6,FALSE),\"\")","v":""},{"$f":"IF(IF(MOD(ROWS(D$3:D1807),20)=1,INDEX('Summary Sheet'!$B$17:$B1827,INT(ROWS(D$3:D1807)/20)+1),\"\")=0,\"\",IF(MOD(ROWS(D$3:D1807),20)=1,INDEX('Summary Sheet'!$B$17:$B1827,INT(ROWS(D$3:D1807)/20)+1),\"\"))","v":""},{"$f":"_xlfn.IFNA(IF(VLOOKUP(B1807,_!$A$7:$E$210,2,FALSE)=0, \"\", VLOOKUP(B1807,_!$A$7:$E$210,2,FALSE)),  \"\")","v":""},{"$f":"_xlfn.IFNA(IF(VLOOKUP(B1807,_!$A$7:$E$210,3,FALSE)=0, \"\", VLOOKUP(B1807,_!$A$7:$E$210,3,FALSE)), \"\")","v":""},{"$f":"_xlfn.IFNA(IF(VLOOKUP(B1807,_!$A$7:$E$210,4,FALSE)=0, \"\",VLOOKUP(B1807,_!$A$7:$E$210,4,FALSE)), \"\")","v":""},{"$f":"_xlfn.IFNA(IF(VLOOKUP(B1807,_!$A$7:$E$210,5,FALSE)=0,\"\",VLOOKUP(B1807,_!$A$7:$E$210,5,FALSE)), \"\")","v":""}]
[2,null,{"$f":"_xlfn.IFNA(VLOOKUP(B1808,_!$A$7:$F$210,6,FALSE),\"\")","v":""},{"$f":"IF(IF(MOD(ROWS(D$3:D1808),20)=1,INDEX('Summary Sheet'!$B$17:$B1827,INT(ROWS(D$3:D1808)/20)+1),\"\")=0,\"\",IF(MOD(ROWS(D$3:D1808),20)=1,INDEX('Summary Sheet'!$B$17:$B1827,INT(ROWS(D$3:D1808)/20)+1),\"\"))","v":""},{"$f":"_xlfn.IFNA(IF(VLOOKUP(B1808,_!$A$7:$E$210,2,FALSE)=0, \"\", VLOOKUP(B1808,_!$A$7:$E$210,2,FALSE)),  \"\")","v":""},{"$f":"_xlfn.IFNA(IF(VLOOKUP(B1808,_!$A$7:$E$210,3,FALSE)=0, \"\", VLOOKUP(B1808,_!$A$7:$E$210,3,FALSE)), \"\")","v":""},{"$f":"_xlfn.IFNA(IF(VLOOKUP(B1808,_!$A$7:$E$210,4,FALSE)=0, \"\",VLOOKUP(B1808,_!$A$7:$E$210,4,FALSE)), \"\")","v":""},{"$f":"_xlfn.IFNA(IF(VLOOKUP(B1808,_!$A$7:$E$210,5,FALSE)=0,\"\",VLOOKUP(B1808,_!$A$7:$E$210,5,FALSE)), \"\")","v":""}]
[3,null,{"$f":"_xlfn.IFNA(VLOOKUP(B1809,_!$A$7:$F$210,6,FALSE),\"\")","v":""},{"$f":"IF(IF(MOD(ROWS(D$3:D1809),20)=1,INDEX('Summary Sheet'!$B$17:$B1827,INT(ROWS(D$3:D1809)/20)+1),\"\")=0,\"\",IF(MOD(ROWS(D$3:D1809),20)=1,INDEX('Summary Sheet'!$B$17:$B1827,INT(ROWS(D$3:D1809)/20)+1),\"\"))","v":""},{"$f":"_xlfn.IFNA(IF(VLOOKUP(B1809,_!$A$7:$E$210,2,FALSE)=0, \"\", VLOOKUP(B1809,_!$A$7:$E$210,2,FALSE)),  \"\")","v":""},{"$f":"_xlfn.IFNA(IF(VLOOKUP(B1809,_!$A$7:$E$210,3,FALSE)=0, \"\", VLOOKUP(B1809,_!$A$7:$E$210,3,FALSE)), \"\")","v":""},{"$f":"_xlfn.IFNA(IF(VLOOKUP(B1809,_!$A$7:$E$210,4,FALSE)=0, \"\",VLOOKUP(B1809,_!$A$7:$E$210,4,FALSE)), \"\")","v":""},{"$f":"_xlfn.IFNA(IF(VLOOKUP(B1809,_!$A$7:$E$210,5,FALSE)=0,\"\",VLOOKUP(B1809,_!$A$7:$E$210,5,FALSE)), \"\")","v":""}]
[4,null,{"$f":"_xlfn.IFNA(VLOOKUP(B1810,_!$A$7:$F$210,6,FALSE),\"\")","v":""},{"$f":"IF(IF(MOD(ROWS(D$3:D1810),20)=1,INDEX('Summary Sheet'!$B$17:$B1827,INT(ROWS(D$3:D1810)/20)+1),\"\")=0,\"\",IF(MOD(ROWS(D$3:D1810),20)=1,INDEX('Summary Sheet'!$B$17:$B1827,INT(ROWS(D$3:D1810)/20)+1),\"\"))","v":""},{"$f":"_xlfn.IFNA(IF(VLOOKUP(B1810,_!$A$7:$E$210,2,FALSE)=0, \"\", VLOOKUP(B1810,_!$A$7:$E$210,2,FALSE)),  \"\")","v":""},{"$f":"_xlfn.IFNA(IF(VLOOKUP(B1810,_!$A$7:$E$210,3,FALSE)=0, \"\", VLOOKUP(B1810,_!$A$7:$E$210,3,FALSE)), \"\")","v":""},{"$f":"_xlfn.IFNA(IF(VLOOKUP(B1810,_!$A$7:$E$210,4,FALSE)=0, \"\",VLOOKUP(B1810,_!$A$7:$E$210,4,FALSE)), \"\")","v":""},{"$f":"_xlfn.IFNA(IF(VLOOKUP(B1810,_!$A$7:$E$210,5,FALSE)=0,\"\",VLOOKUP(B1810,_!$A$7:$E$210,5,FALSE)), \"\")","v":""}]
[5,null,{"$f":"_xlfn.IFNA(VLOOKUP(B1811,_!$A$7:$F$210,6,FALSE),\"\")","v":""},{"$f":"IF(IF(MOD(ROWS(D$3:D1811),20)=1,INDEX('Summary Sheet'!$B$17:$B1827,INT(ROWS(D$3:D1811)/20)+1),\"\")=0,\"\",IF(MOD(ROWS(D$3:D1811),20)=1,INDEX('Summary Sheet'!$B$17:$B1827,INT(ROWS(D$3:D1811)/20)+1),\"\"))","v":""},{"$f":"_xlfn.IFNA(IF(VLOOKUP(B1811,_!$A$7:$E$210,2,FALSE)=0, \"\", VLOOKUP(B1811,_!$A$7:$E$210,2,FALSE)),  \"\")","v":""},{"$f":"_xlfn.IFNA(IF(VLOOKUP(B1811,_!$A$7:$E$210,3,FALSE)=0, \"\", VLOOKUP(B1811,_!$A$7:$E$210,3,FALSE)), \"\")","v":""},{"$f":"_xlfn.IFNA(IF(VLOOKUP(B1811,_!$A$7:$E$210,4,FALSE)=0, \"\",VLOOKUP(B1811,_!$A$7:$E$210,4,FALSE)), \"\")","v":""},{"$f":"_xlfn.IFNA(IF(VLOOKUP(B1811,_!$A$7:$E$210,5,FALSE)=0,\"\",VLOOKUP(B1811,_!$A$7:$E$210,5,FALSE)), \"\")","v":""}]
[6,null,{"$f":"_xlfn.IFNA(VLOOKUP(B1812,_!$A$7:$F$210,6,FALSE),\"\")","v":""},{"$f":"IF(IF(MOD(ROWS(D$3:D1812),20)=1,INDEX('Summary Sheet'!$B$17:$B1827,INT(ROWS(D$3:D1812)/20)+1),\"\")=0,\"\",IF(MOD(ROWS(D$3:D1812),20)=1,INDEX('Summary Sheet'!$B$17:$B1827,INT(ROWS(D$3:D1812)/20)+1),\"\"))","v":""},{"$f":"_xlfn.IFNA(IF(VLOOKUP(B1812,_!$A$7:$E$210,2,FALSE)=0, \"\", VLOOKUP(B1812,_!$A$7:$E$210,2,FALSE)),  \"\")","v":""},{"$f":"_xlfn.IFNA(IF(VLOOKUP(B1812,_!$A$7:$E$210,3,FALSE)=0, \"\", VLOOKUP(B1812,_!$A$7:$E$210,3,FALSE)), \"\")","v":""},{"$f":"_xlfn.IFNA(IF(VLOOKUP(B1812,_!$A$7:$E$210,4,FALSE)=0, \"\",VLOOKUP(B1812,_!$A$7:$E$210,4,FALSE)), \"\")","v":""},{"$f":"_xlfn.IFNA(IF(VLOOKUP(B1812,_!$A$7:$E$210,5,FALSE)=0,\"\",VLOOKUP(B1812,_!$A$7:$E$210,5,FALSE)), \"\")","v":""}]
[7,null,{"$f":"_xlfn.IFNA(VLOOKUP(B1813,_!$A$7:$F$210,6,FALSE),\"\")","v":""},{"$f":"IF(IF(MOD(ROWS(D$3:D1813),20)=1,INDEX('Summary Sheet'!$B$17:$B1827,INT(ROWS(D$3:D1813)/20)+1),\"\")=0,\"\",IF(MOD(ROWS(D$3:D1813),20)=1,INDEX('Summary Sheet'!$B$17:$B1827,INT(ROWS(D$3:D1813)/20)+1),\"\"))","v":""},{"$f":"_xlfn.IFNA(IF(VLOOKUP(B1813,_!$A$7:$E$210,2,FALSE)=0, \"\", VLOOKUP(B1813,_!$A$7:$E$210,2,FALSE)),  \"\")","v":""},{"$f":"_xlfn.IFNA(IF(VLOOKUP(B1813,_!$A$7:$E$210,3,FALSE)=0, \"\", VLOOKUP(B1813,_!$A$7:$E$210,3,FALSE)), \"\")","v":""},{"$f":"_xlfn.IFNA(IF(VLOOKUP(B1813,_!$A$7:$E$210,4,FALSE)=0, \"\",VLOOKUP(B1813,_!$A$7:$E$210,4,FALSE)), \"\")","v":""},{"$f":"_xlfn.IFNA(IF(VLOOKUP(B1813,_!$A$7:$E$210,5,FALSE)=0,\"\",VLOOKUP(B1813,_!$A$7:$E$210,5,FALSE)), \"\")","v":""}]
[8,null,{"$f":"_xlfn.IFNA(VLOOKUP(B1814,_!$A$7:$F$210,6,FALSE),\"\")","v":""},{"$f":"IF(IF(MOD(ROWS(D$3:D1814),20)=1,INDEX('Summary Sheet'!$B$17:$B1827,INT(ROWS(D$3:D1814)/20)+1),\"\")=0,\"\",IF(MOD(ROWS(D$3:D1814),20)=1,INDEX('Summary Sheet'!$B$17:$B1827,INT(ROWS(D$3:D1814)/20)+1),\"\"))","v":""},{"$f":"_xlfn.IFNA(IF(VLOOKUP(B1814,_!$A$7:$E$210,2,FALSE)=0, \"\", VLOOKUP(B1814,_!$A$7:$E$210,2,FALSE)),  \"\")","v":""},{"$f":"_xlfn.IFNA(IF(VLOOKUP(B1814,_!$A$7:$E$210,3,FALSE)=0, \"\", VLOOKUP(B1814,_!$A$7:$E$210,3,FALSE)), \"\")","v":""},{"$f":"_xlfn.IFNA(IF(VLOOKUP(B1814,_!$A$7:$E$210,4,FALSE)=0, \"\",VLOOKUP(B1814,_!$A$7:$E$210,4,FALSE)), \"\")","v":""},{"$f":"_xlfn.IFNA(IF(VLOOKUP(B1814,_!$A$7:$E$210,5,FALSE)=0,\"\",VLOOKUP(B1814,_!$A$7:$E$210,5,FALSE)), \"\")","v":""}]
[9,null,{"$f":"_xlfn.IFNA(VLOOKUP(B1815,_!$A$7:$F$210,6,FALSE),\"\")","v":""},{"$f":"IF(IF(MOD(ROWS(D$3:D1815),20)=1,INDEX('Summary Sheet'!$B$17:$B1827,INT(ROWS(D$3:D1815)/20)+1),\"\")=0,\"\",IF(MOD(ROWS(D$3:D1815),20)=1,INDEX('Summary Sheet'!$B$17:$B1827,INT(ROWS(D$3:D1815)/20)+1),\"\"))","v":""},{"$f":"_xlfn.IFNA(IF(VLOOKUP(B1815,_!$A$7:$E$210,2,FALSE)=0, \"\", VLOOKUP(B1815,_!$A$7:$E$210,2,FALSE)),  \"\")","v":""},{"$f":"_xlfn.IFNA(IF(VLOOKUP(B1815,_!$A$7:$E$210,3,FALSE)=0, \"\", VLOOKUP(B1815,_!$A$7:$E$210,3,FALSE)), \"\")","v":""},{"$f":"_xlfn.IFNA(IF(VLOOKUP(B1815,_!$A$7:$E$210,4,FALSE)=0, \"\",VLOOKUP(B1815,_!$A$7:$E$210,4,FALSE)), \"\")","v":""},{"$f":"_xlfn.IFNA(IF(VLOOKUP(B1815,_!$A$7:$E$210,5,FALSE)=0,\"\",VLOOKUP(B1815,_!$A$7:$E$210,5,FALSE)), \"\")","v":""}]
[10,null,{"$f":"_xlfn.IFNA(VLOOKUP(B1816,_!$A$7:$F$210,6,FALSE),\"\")","v":""},{"$f":"IF(IF(MOD(ROWS(D$14:D1816),20)=1,INDEX('Summary Sheet'!$B$17:$B1827,INT(ROWS(D$14:D1816)/20)+1),\"\")=0,\"\",IF(MOD(ROWS(D$14:D1816),20)=1,INDEX('Summary Sheet'!$B$17:$B1827,INT(ROWS(D$14:D1816)/20)+1),\"\"))","v":""},{"$f":"_xlfn.IFNA(IF(VLOOKUP(B1816,_!$A$7:$E$210,2,FALSE)=0, \"\", VLOOKUP(B1816,_!$A$7:$E$210,2,FALSE)),  \"\")","v":""},{"$f":"_xlfn.IFNA(IF(VLOOKUP(B1816,_!$A$7:$E$210,3,FALSE)=0, \"\", VLOOKUP(B1816,_!$A$7:$E$210,3,FALSE)), \"\")","v":""},{"$f":"_xlfn.IFNA(IF(VLOOKUP(B1816,_!$A$7:$E$210,4,FALSE)=0, \"\",VLOOKUP(B1816,_!$A$7:$E$210,4,FALSE)), \"\")","v":""},{"$f":"_xlfn.IFNA(IF(VLOOKUP(B1816,_!$A$7:$E$210,5,FALSE)=0,\"\",VLOOKUP(B1816,_!$A$7:$E$210,5,FALSE)), \"\")","v":""}]
[null,"\nHighest hazard level for each ‘Uptake Route’\n",null,null,{"$f":"_xlfn.IFNA(IF((INDEX(E1807:E1816,MATCH(\"E\",E1807:E1816,0)))=\"E\",\"E\",\"\"),_xlfn.IFNA(IF((INDEX(E1807:E1816,MATCH(\"D\",E1807:E1816,0)))=\"D\",\"D\",\"\"),_xlfn.IFNA(IF((INDEX(E1807:E1816,MATCH(\"Ca\",E1807:E1816,0)))=\"Ca\",\"C\",\"\"),_xlfn.IFNA(IF((INDEX(E1807:E1816,MATCH(\"C\",E1807:E1816,0)))=\"C\",\"C\",\"\"),_xlfn.IFNA(IF((INDEX(E1807:E1816,MATCH(\"B\",E1807:E1816,0)))=\"B\",\"B\",\"\"),_xlfn.IFNA(IF((INDEX(E1807:E1816,MATCH(\"A\",E1807:E1816,0)))=\"A\",\"A\",\"\"),_xlfn.IFNA(IF((INDEX(E1807:E1816,MATCH(\"n.a.\",E1807:E1816,0)))=\"n.a.\",\"\",\"\"),_xlfn.IFNA(IF((INDEX(E1807:E1816,MATCH(\"\",E1807:E1816,0)))=\"\",\"\",\"\"),\"\"))))))))","v":""},{"$f":"_xlfn.IFNA(IF((INDEX(F1807:F1816,MATCH(\"E\",F1807:F1816,0)))=\"E\",\"E\",\"\"),_xlfn.IFNA(IF((INDEX(F1807:F1816,MATCH(\"D (E)c\",F1807:F1816,0)))=\"D (E)c\",\"D (E)c\",\"\"),_xlfn.IFNA(IF((INDEX(F1807:F1816,MATCH(\"Da (E)c\",F1807:F1816,0)))=\"Da (E)c\",\"D (E)c\",\"\"),_xlfn.IFNA(IF((INDEX(F1807:F1816,MATCH(\"D\",F1807:F1816,0)))=\"D\",\"D\",\"\"),_xlfn.IFNA(IF((INDEX(F1807:F1816,MATCH(\"Ca\",F1807:F1816,0)))=\"Ca\",\"C\",\"\"),_xlfn.IFNA(IF((INDEX(F1807:F1816,MATCH(\"C\",F1807:F1816,0)))=\"C\",\"C\",\"\"),_xlfn.IFNA(IF((INDEX(F1807:F1816,MATCH(\"Ba\",F1807:F1816,0)))=\"Ba\",\"B\",\"\"),_xlfn.IFNA(IF((INDEX(F1807:F1816,MATCH(\"B\",F1807:F1816,0)))=\"B\",\"B\",\"\"),_xlfn.IFNA(IF((INDEX(F1807:F1816,MATCH(\"Aa\",F1807:F1816,0)))=\"Aa\",\"A\",\"\"),_xlfn.IFNA(IF((INDEX(F1807:F1816,MATCH(\"A\",F1807:F1816,0)))=\"A\",\"A\",\"\"),_xlfn.IFNA(IF((INDEX(F1807:F1816,MATCH(\"n.a.\",F1807:F1816,0)))=\"n.a.\",\"\",\"\"),_xlfn.IFNA(IF((INDEX(F1807:F1816,MATCH(\"\",F1807:F1816,0)))=\"\",\"\",\"\"),\"\"))))))))))))","v":""},{"$f":"_xlfn.IFNA(IF((INDEX(G1807:G1816,MATCH(\"E\",G1807:G1816,0)))=\"E\",\"E\",\"\"),_xlfn.IFNA(IF((INDEX(G1807:G1816,MATCH(\"D\",G1807:G1816,0)))=\"D\",\"D\",\"\"),_xlfn.IFNA(IF((INDEX(G1807:G1816,MATCH(\"Ca\",G1807:G1816,0)))=\"Ca\",\"C\",\"\"),_xlfn.IFNA(IF((INDEX(G1807:G1816,MATCH(\"C\",G1807:G1816,0)))=\"C\",\"C\",\"\"),_xlfn.IFNA(IF((INDEX(G1807:G1816,MATCH(\"B\",G1807:G1816,0)))=\"B\",\"B\",\"\"),_xlfn.IFNA(IF((INDEX(G1807:G1816,MATCH(\"A\",G1807:G1816,0)))=\"A\",\"A\",\"\"),_xlfn.IFNA(IF((INDEX(G1807:G1816,MATCH(\"n.a.\",G1807:G1816,0)))=\"n.a.\",\"\",\"\"),_xlfn.IFNA(IF((INDEX(G1807:G1816,MATCH(\"\",G1807:G1816,0)))=\"\",\"\",\"\"),\"\"))))))))","v":""},{"$f":"_xlfn.IFNA(IF((INDEX(H1807:H1816,MATCH(\"E\",H1807:H1816,0)))=\"E\",\"E\",\"\"),_xlfn.IFNA(IF((INDEX(H1807:H1816,MATCH(\"D (E)c\",H1807:H1816,0)))=\"D (E)c\",\"D (E)c\",\"\"),_xlfn.IFNA(IF((INDEX(H1807:H1816,MATCH(\"Db (E)c\",H1807:H1816,0)))=\"Db (E)c\",\"D (E)c\",\"\"),_xlfn.IFNA(IF((INDEX(H1807:H1816,MATCH(\"D\",H1807:H1816,0)))=\"D\",\"D\",\"\"),_xlfn.IFNA(IF((INDEX(H1807:H1816,MATCH(\"Cb\",H1807:H1816,0)))=\"Cb\",\"C\",\"\"),_xlfn.IFNA(IF((INDEX(H1807:H1816,MATCH(\"C\",H1807:H1816,0)))=\"C\",\"C\",\"\"),_xlfn.IFNA(IF((INDEX(H1807:H1816,MATCH(\"Bb\",H1807:H1816,0)))=\"Bb\",\"B\",\"\"),_xlfn.IFNA(IF((INDEX(H1807:H1816,MATCH(\"B\",H1807:H1816,0)))=\"B\",\"B\",\"\"),_xlfn.IFNA(IF((INDEX(H1807:H1816,MATCH(\"Ab\",H1807:H1816,0)))=\"Ab\",\"A\",\"\"),_xlfn.IFNA(IF((INDEX(H1807:H1816,MATCH(\"A\",H1807:H1816,0)))=\"A\",\"A\",\"\"),_xlfn.IFNA(IF((INDEX(H1807:H1816,MATCH(\"n.a.\",H1807:H1816,0)))=\"n.a.\",\"\",\"\"),_xlfn.IFNA(IF((INDEX(H1807:H1816,MATCH(\"\",H1807:H1816,0)))=\"\",\"\",\"\"),\"\"))))))))))))","v":""}]
[null,"\nHighest hazard level for all 'Uptake Routes' \n",null,null,{"$f":"_xlfn.IFNA(IF((INDEX(E1817:H1817,MATCH(\"E\",E1817:H1817,0)))=\"E\",\"E\",\"\"),_xlfn.IFNA(IF((INDEX(E1817:H1817,MATCH(\"D (E)c\",E1817:H1817,0)))=\"D (E)c\",\"D (E)\",\"\"),_xlfn.IFNA(IF((INDEX(E1817:H1817,MATCH(\"D\",E1817:H1817,0)))=\"D\",\"D\",\"\"),_xlfn.IFNA(IF((INDEX(E1817:H1817,MATCH(\"C\",E1817:H1817,0)))=\"C\",\"C\",\"\"),_xlfn.IFNA(IF((INDEX(E1817:H1817,MATCH(\"B\",E1817:H1817,0)))=\"B\",\"B\",\"\"),_xlfn.IFNA(IF((INDEX(E1817:H1817,MATCH(\"A\",E1817:H1817,0)))=\"A\",\"A\",\"\"),_xlfn.IFNA(IF((INDEX(E1817:H1817,MATCH(\"n.a.\",E1817:H1817,0)))=\"n.a.\",\"\",\"\"),_xlfn.IFNA(IF((INDEX(E1817:H1817,MATCH(\"\",E1817:H1817,0)))=\"\",\"\",\"\"),\"\"))))))))","v":""}]
[]
[]
[null,"\nStep 3: D(E) Assessment\nSkip this step if \nyour assessment above does not reveal a D(E) hazard level.\nHover over this cell for additional instructions.\n",null,null,"\nOverall hazard level\n",null,{"$f":"IF(AND(E1818=\"\",C1804=\"Yes\")=TRUE,\"B\",IF(E1818=\"\",\"\",(IF(AND(E1818=\"D (E)\",C1821=\"\"),\"D (E)\"&CHAR(10)&\"Find if cat. 1 acute tox.\",(IF(E1818<>\"D (E)\",E1818,(IF(AND(E1818=\"D (E)\",C1821=\"Yes\"),\"E\",(IF(AND(E1818=\"D (E)\",C1821=\"No\"),\"D\",\"\"))))))))))","v":""}]
[]
[{"$f":"IF(IF(MOD(ROWS(B$3:B1823),20)=1,INDEX('Summary Sheet'!$A$17:$A1846,INT(ROWS(B$3:B1823)/20)+1),\"\")=0,\"\",IF(MOD(ROWS(B$3:B1823),20)=1,INDEX('Summary Sheet'!$A$17:$A1846,INT(ROWS(B$3:B1823)/20)+1),\"\"))","v":92},"Hazard Level Assessment","for",{"$f":"IF(IF(MOD(ROWS(D$3:D1823),20)=1,INDEX('Summary Sheet'!$B$17:$B1846,INT(ROWS(D$3:D1823)/20)+1),\"\")=0,\"\",IF(MOD(ROWS(D$3:D1823),20)=1,INDEX('Summary Sheet'!$B$17:$B1846,INT(ROWS(D$3:D1823)/20)+1),\"\"))","v":""}]
[null,"\nStep 1: Physical & Environmental Hazard Statements/Codes\nFind Section 2 of the SDS and determine if the SDS has physical and/or environmental hazard statements/codes. Hover on this cell for additional instructions.\n",null,{"$f":"IF(IF(MOD(ROWS(D$3:D1824),20)=1,INDEX('Summary Sheet'!$B$17:$B1846,INT(ROWS(D$3:D1824)/20)+1),\"\")=0,\"\",IF(MOD(ROWS(D$3:D1824),20)=1,INDEX('Summary Sheet'!$B$17:$B1846,INT(ROWS(D$3:D1824)/20)+1),\"\"))","v":""}]
[null,"Step 2: Health Hazard Statements/Codes\nProvide the Health Hazard Statements or Codes from Section 2 of the SDS below. Hover on this cell for additional instructions.",null,{"$f":"IF(IF(MOD(ROWS(D$3:D1825),20)=1,INDEX('Summary Sheet'!$B$17:$B1846,INT(ROWS(D$3:D1825)/20)+1),\"\")=0,\"\",IF(MOD(ROWS(D$3:D1825),20)=1,INDEX('Summary Sheet'!$B$17:$B1846,INT(ROWS(D$3:D1825)/20)+1),\"\"))","v":""},"\nHazard Level\n"]
[null,null,null,{"$f":"IF(IF(MOD(ROWS(D$3:D1826),20)=1,INDEX('Summary Sheet'!$B$17:$B1846,INT(ROWS(D$3:D1826)/20)+1),\"\")=0,\"\",IF(MOD(ROWS(D$3:D1826),20)=1,INDEX('Summary Sheet'!$B$17:$B1846,INT(ROWS(D$3:D1826)/20)+1),\"\"))","v":""},"\nEye Damage\n","\nInhalation\n","\nLocal Skin Damage\n","\nSkin uptake, systemic\n"]
[1,null,{"$f":"_xlfn.IFNA(VLOOKUP(B1827,_!$A$7:$F$210,6,FALSE),\"\")","v":""},{"$f":"IF(IF(MOD(ROWS(D$3:D1827),20)=1,INDEX('Summary Sheet'!$B$17:$B1846,INT(ROWS(D$3:D1827)/20)+1),\"\")=0,\"\",IF(MOD(ROWS(D$3:D1827),20)=1,INDEX('Summary Sheet'!$B$17:$B1846,INT(ROWS(D$3:D1827)/20)+1),\"\"))","v":""},{"$f":"_xlfn.IFNA(IF(VLOOKUP(B1827,_!$A$7:$E$210,2,FALSE)=0, \"\", VLOOKUP(B1827,_!$A$7:$E$210,2,FALSE)),  \"\")","v":""},{"$f":"_xlfn.IFNA(IF(VLOOKUP(B1827,_!$A$7:$E$210,3,FALSE)=0, \"\", VLOOKUP(B1827,_!$A$7:$E$210,3,FALSE)), \"\")","v":""},{"$f":"_xlfn.IFNA(IF(VLOOKUP(B1827,_!$A$7:$E$210,4,FALSE)=0, \"\",VLOOKUP(B1827,_!$A$7:$E$210,4,FALSE)), \"\")","v":""},{"$f":"_xlfn.IFNA(IF(VLOOKUP(B1827,_!$A$7:$E$210,5,FALSE)=0,\"\",VLOOKUP(B1827,_!$A$7:$E$210,5,FALSE)), \"\")","v":""}]
[2,null,{"$f":"_xlfn.IFNA(VLOOKUP(B1828,_!$A$7:$F$210,6,FALSE),\"\")","v":""},{"$f":"IF(IF(MOD(ROWS(D$3:D1828),20)=1,INDEX('Summary Sheet'!$B$17:$B1846,INT(ROWS(D$3:D1828)/20)+1),\"\")=0,\"\",IF(MOD(ROWS(D$3:D1828),20)=1,INDEX('Summary Sheet'!$B$17:$B1846,INT(ROWS(D$3:D1828)/20)+1),\"\"))","v":""},{"$f":"_xlfn.IFNA(IF(VLOOKUP(B1828,_!$A$7:$E$210,2,FALSE)=0, \"\", VLOOKUP(B1828,_!$A$7:$E$210,2,FALSE)),  \"\")","v":""},{"$f":"_xlfn.IFNA(IF(VLOOKUP(B1828,_!$A$7:$E$210,3,FALSE)=0, \"\", VLOOKUP(B1828,_!$A$7:$E$210,3,FALSE)), \"\")","v":""},{"$f":"_xlfn.IFNA(IF(VLOOKUP(B1828,_!$A$7:$E$210,4,FALSE)=0, \"\",VLOOKUP(B1828,_!$A$7:$E$210,4,FALSE)), \"\")","v":""},{"$f":"_xlfn.IFNA(IF(VLOOKUP(B1828,_!$A$7:$E$210,5,FALSE)=0,\"\",VLOOKUP(B1828,_!$A$7:$E$210,5,FALSE)), \"\")","v":""}]
[3,null,{"$f":"_xlfn.IFNA(VLOOKUP(B1829,_!$A$7:$F$210,6,FALSE),\"\")","v":""},{"$f":"IF(IF(MOD(ROWS(D$3:D1829),20)=1,INDEX('Summary Sheet'!$B$17:$B1846,INT(ROWS(D$3:D1829)/20)+1),\"\")=0,\"\",IF(MOD(ROWS(D$3:D1829),20)=1,INDEX('Summary Sheet'!$B$17:$B1846,INT(ROWS(D$3:D1829)/20)+1),\"\"))","v":""},{"$f":"_xlfn.IFNA(IF(VLOOKUP(B1829,_!$A$7:$E$210,2,FALSE)=0, \"\", VLOOKUP(B1829,_!$A$7:$E$210,2,FALSE)),  \"\")","v":""},{"$f":"_xlfn.IFNA(IF(VLOOKUP(B1829,_!$A$7:$E$210,3,FALSE)=0, \"\", VLOOKUP(B1829,_!$A$7:$E$210,3,FALSE)), \"\")","v":""},{"$f":"_xlfn.IFNA(IF(VLOOKUP(B1829,_!$A$7:$E$210,4,FALSE)=0, \"\",VLOOKUP(B1829,_!$A$7:$E$210,4,FALSE)), \"\")","v":""},{"$f":"_xlfn.IFNA(IF(VLOOKUP(B1829,_!$A$7:$E$210,5,FALSE)=0,\"\",VLOOKUP(B1829,_!$A$7:$E$210,5,FALSE)), \"\")","v":""}]
[4,null,{"$f":"_xlfn.IFNA(VLOOKUP(B1830,_!$A$7:$F$210,6,FALSE),\"\")","v":""},{"$f":"IF(IF(MOD(ROWS(D$3:D1830),20)=1,INDEX('Summary Sheet'!$B$17:$B1846,INT(ROWS(D$3:D1830)/20)+1),\"\")=0,\"\",IF(MOD(ROWS(D$3:D1830),20)=1,INDEX('Summary Sheet'!$B$17:$B1846,INT(ROWS(D$3:D1830)/20)+1),\"\"))","v":""},{"$f":"_xlfn.IFNA(IF(VLOOKUP(B1830,_!$A$7:$E$210,2,FALSE)=0, \"\", VLOOKUP(B1830,_!$A$7:$E$210,2,FALSE)),  \"\")","v":""},{"$f":"_xlfn.IFNA(IF(VLOOKUP(B1830,_!$A$7:$E$210,3,FALSE)=0, \"\", VLOOKUP(B1830,_!$A$7:$E$210,3,FALSE)), \"\")","v":""},{"$f":"_xlfn.IFNA(IF(VLOOKUP(B1830,_!$A$7:$E$210,4,FALSE)=0, \"\",VLOOKUP(B1830,_!$A$7:$E$210,4,FALSE)), \"\")","v":""},{"$f":"_xlfn.IFNA(IF(VLOOKUP(B1830,_!$A$7:$E$210,5,FALSE)=0,\"\",VLOOKUP(B1830,_!$A$7:$E$210,5,FALSE)), \"\")","v":""}]
[5,null,{"$f":"_xlfn.IFNA(VLOOKUP(B1831,_!$A$7:$F$210,6,FALSE),\"\")","v":""},{"$f":"IF(IF(MOD(ROWS(D$3:D1831),20)=1,INDEX('Summary Sheet'!$B$17:$B1846,INT(ROWS(D$3:D1831)/20)+1),\"\")=0,\"\",IF(MOD(ROWS(D$3:D1831),20)=1,INDEX('Summary Sheet'!$B$17:$B1846,INT(ROWS(D$3:D1831)/20)+1),\"\"))","v":""},{"$f":"_xlfn.IFNA(IF(VLOOKUP(B1831,_!$A$7:$E$210,2,FALSE)=0, \"\", VLOOKUP(B1831,_!$A$7:$E$210,2,FALSE)),  \"\")","v":""},{"$f":"_xlfn.IFNA(IF(VLOOKUP(B1831,_!$A$7:$E$210,3,FALSE)=0, \"\", VLOOKUP(B1831,_!$A$7:$E$210,3,FALSE)), \"\")","v":""},{"$f":"_xlfn.IFNA(IF(VLOOKUP(B1831,_!$A$7:$E$210,4,FALSE)=0, \"\",VLOOKUP(B1831,_!$A$7:$E$210,4,FALSE)), \"\")","v":""},{"$f":"_xlfn.IFNA(IF(VLOOKUP(B1831,_!$A$7:$E$210,5,FALSE)=0,\"\",VLOOKUP(B1831,_!$A$7:$E$210,5,FALSE)), \"\")","v":""}]
[6,null,{"$f":"_xlfn.IFNA(VLOOKUP(B1832,_!$A$7:$F$210,6,FALSE),\"\")","v":""},{"$f":"IF(IF(MOD(ROWS(D$3:D1832),20)=1,INDEX('Summary Sheet'!$B$17:$B1846,INT(ROWS(D$3:D1832)/20)+1),\"\")=0,\"\",IF(MOD(ROWS(D$3:D1832),20)=1,INDEX('Summary Sheet'!$B$17:$B1846,INT(ROWS(D$3:D1832)/20)+1),\"\"))","v":""},{"$f":"_xlfn.IFNA(IF(VLOOKUP(B1832,_!$A$7:$E$210,2,FALSE)=0, \"\", VLOOKUP(B1832,_!$A$7:$E$210,2,FALSE)),  \"\")","v":""},{"$f":"_xlfn.IFNA(IF(VLOOKUP(B1832,_!$A$7:$E$210,3,FALSE)=0, \"\", VLOOKUP(B1832,_!$A$7:$E$210,3,FALSE)), \"\")","v":""},{"$f":"_xlfn.IFNA(IF(VLOOKUP(B1832,_!$A$7:$E$210,4,FALSE)=0, \"\",VLOOKUP(B1832,_!$A$7:$E$210,4,FALSE)), \"\")","v":""},{"$f":"_xlfn.IFNA(IF(VLOOKUP(B1832,_!$A$7:$E$210,5,FALSE)=0,\"\",VLOOKUP(B1832,_!$A$7:$E$210,5,FALSE)), \"\")","v":""}]
[7,null,{"$f":"_xlfn.IFNA(VLOOKUP(B1833,_!$A$7:$F$210,6,FALSE),\"\")","v":""},{"$f":"IF(IF(MOD(ROWS(D$3:D1833),20)=1,INDEX('Summary Sheet'!$B$17:$B1846,INT(ROWS(D$3:D1833)/20)+1),\"\")=0,\"\",IF(MOD(ROWS(D$3:D1833),20)=1,INDEX('Summary Sheet'!$B$17:$B1846,INT(ROWS(D$3:D1833)/20)+1),\"\"))","v":""},{"$f":"_xlfn.IFNA(IF(VLOOKUP(B1833,_!$A$7:$E$210,2,FALSE)=0, \"\", VLOOKUP(B1833,_!$A$7:$E$210,2,FALSE)),  \"\")","v":""},{"$f":"_xlfn.IFNA(IF(VLOOKUP(B1833,_!$A$7:$E$210,3,FALSE)=0, \"\", VLOOKUP(B1833,_!$A$7:$E$210,3,FALSE)), \"\")","v":""},{"$f":"_xlfn.IFNA(IF(VLOOKUP(B1833,_!$A$7:$E$210,4,FALSE)=0, \"\",VLOOKUP(B1833,_!$A$7:$E$210,4,FALSE)), \"\")","v":""},{"$f":"_xlfn.IFNA(IF(VLOOKUP(B1833,_!$A$7:$E$210,5,FALSE)=0,\"\",VLOOKUP(B1833,_!$A$7:$E$210,5,FALSE)), \"\")","v":""}]
[8,null,{"$f":"_xlfn.IFNA(VLOOKUP(B1834,_!$A$7:$F$210,6,FALSE),\"\")","v":""},{"$f":"IF(IF(MOD(ROWS(D$3:D1834),20)=1,INDEX('Summary Sheet'!$B$17:$B1846,INT(ROWS(D$3:D1834)/20)+1),\"\")=0,\"\",IF(MOD(ROWS(D$3:D1834),20)=1,INDEX('Summary Sheet'!$B$17:$B1846,INT(ROWS(D$3:D1834)/20)+1),\"\"))","v":""},{"$f":"_xlfn.IFNA(IF(VLOOKUP(B1834,_!$A$7:$E$210,2,FALSE)=0, \"\", VLOOKUP(B1834,_!$A$7:$E$210,2,FALSE)),  \"\")","v":""},{"$f":"_xlfn.IFNA(IF(VLOOKUP(B1834,_!$A$7:$E$210,3,FALSE)=0, \"\", VLOOKUP(B1834,_!$A$7:$E$210,3,FALSE)), \"\")","v":""},{"$f":"_xlfn.IFNA(IF(VLOOKUP(B1834,_!$A$7:$E$210,4,FALSE)=0, \"\",VLOOKUP(B1834,_!$A$7:$E$210,4,FALSE)), \"\")","v":""},{"$f":"_xlfn.IFNA(IF(VLOOKUP(B1834,_!$A$7:$E$210,5,FALSE)=0,\"\",VLOOKUP(B1834,_!$A$7:$E$210,5,FALSE)), \"\")","v":""}]
[9,null,{"$f":"_xlfn.IFNA(VLOOKUP(B1835,_!$A$7:$F$210,6,FALSE),\"\")","v":""},{"$f":"IF(IF(MOD(ROWS(D$3:D1835),20)=1,INDEX('Summary Sheet'!$B$17:$B1846,INT(ROWS(D$3:D1835)/20)+1),\"\")=0,\"\",IF(MOD(ROWS(D$3:D1835),20)=1,INDEX('Summary Sheet'!$B$17:$B1846,INT(ROWS(D$3:D1835)/20)+1),\"\"))","v":""},{"$f":"_xlfn.IFNA(IF(VLOOKUP(B1835,_!$A$7:$E$210,2,FALSE)=0, \"\", VLOOKUP(B1835,_!$A$7:$E$210,2,FALSE)),  \"\")","v":""},{"$f":"_xlfn.IFNA(IF(VLOOKUP(B1835,_!$A$7:$E$210,3,FALSE)=0, \"\", VLOOKUP(B1835,_!$A$7:$E$210,3,FALSE)), \"\")","v":""},{"$f":"_xlfn.IFNA(IF(VLOOKUP(B1835,_!$A$7:$E$210,4,FALSE)=0, \"\",VLOOKUP(B1835,_!$A$7:$E$210,4,FALSE)), \"\")","v":""},{"$f":"_xlfn.IFNA(IF(VLOOKUP(B1835,_!$A$7:$E$210,5,FALSE)=0,\"\",VLOOKUP(B1835,_!$A$7:$E$210,5,FALSE)), \"\")","v":""}]
[10,null,{"$f":"_xlfn.IFNA(VLOOKUP(B1836,_!$A$7:$F$210,6,FALSE),\"\")","v":""},{"$f":"IF(IF(MOD(ROWS(D$14:D1836),20)=1,INDEX('Summary Sheet'!$B$17:$B1846,INT(ROWS(D$14:D1836)/20)+1),\"\")=0,\"\",IF(MOD(ROWS(D$14:D1836),20)=1,INDEX('Summary Sheet'!$B$17:$B1846,INT(ROWS(D$14:D1836)/20)+1),\"\"))","v":""},{"$f":"_xlfn.IFNA(IF(VLOOKUP(B1836,_!$A$7:$E$210,2,FALSE)=0, \"\", VLOOKUP(B1836,_!$A$7:$E$210,2,FALSE)),  \"\")","v":""},{"$f":"_xlfn.IFNA(IF(VLOOKUP(B1836,_!$A$7:$E$210,3,FALSE)=0, \"\", VLOOKUP(B1836,_!$A$7:$E$210,3,FALSE)), \"\")","v":""},{"$f":"_xlfn.IFNA(IF(VLOOKUP(B1836,_!$A$7:$E$210,4,FALSE)=0, \"\",VLOOKUP(B1836,_!$A$7:$E$210,4,FALSE)), \"\")","v":""},{"$f":"_xlfn.IFNA(IF(VLOOKUP(B1836,_!$A$7:$E$210,5,FALSE)=0,\"\",VLOOKUP(B1836,_!$A$7:$E$210,5,FALSE)), \"\")","v":""}]
[null,"\nHighest hazard level for each ‘Uptake Route’\n",null,null,{"$f":"_xlfn.IFNA(IF((INDEX(E1827:E1836,MATCH(\"E\",E1827:E1836,0)))=\"E\",\"E\",\"\"),_xlfn.IFNA(IF((INDEX(E1827:E1836,MATCH(\"D\",E1827:E1836,0)))=\"D\",\"D\",\"\"),_xlfn.IFNA(IF((INDEX(E1827:E1836,MATCH(\"Ca\",E1827:E1836,0)))=\"Ca\",\"C\",\"\"),_xlfn.IFNA(IF((INDEX(E1827:E1836,MATCH(\"C\",E1827:E1836,0)))=\"C\",\"C\",\"\"),_xlfn.IFNA(IF((INDEX(E1827:E1836,MATCH(\"B\",E1827:E1836,0)))=\"B\",\"B\",\"\"),_xlfn.IFNA(IF((INDEX(E1827:E1836,MATCH(\"A\",E1827:E1836,0)))=\"A\",\"A\",\"\"),_xlfn.IFNA(IF((INDEX(E1827:E1836,MATCH(\"n.a.\",E1827:E1836,0)))=\"n.a.\",\"\",\"\"),_xlfn.IFNA(IF((INDEX(E1827:E1836,MATCH(\"\",E1827:E1836,0)))=\"\",\"\",\"\"),\"\"))))))))","v":""},{"$f":"_xlfn.IFNA(IF((INDEX(F1827:F1836,MATCH(\"E\",F1827:F1836,0)))=\"E\",\"E\",\"\"),_xlfn.IFNA(IF((INDEX(F1827:F1836,MATCH(\"D (E)c\",F1827:F1836,0)))=\"D (E)c\",\"D (E)c\",\"\"),_xlfn.IFNA(IF((INDEX(F1827:F1836,MATCH(\"Da (E)c\",F1827:F1836,0)))=\"Da (E)c\",\"D (E)c\",\"\"),_xlfn.IFNA(IF((INDEX(F1827:F1836,MATCH(\"D\",F1827:F1836,0)))=\"D\",\"D\",\"\"),_xlfn.IFNA(IF((INDEX(F1827:F1836,MATCH(\"Ca\",F1827:F1836,0)))=\"Ca\",\"C\",\"\"),_xlfn.IFNA(IF((INDEX(F1827:F1836,MATCH(\"C\",F1827:F1836,0)))=\"C\",\"C\",\"\"),_xlfn.IFNA(IF((INDEX(F1827:F1836,MATCH(\"Ba\",F1827:F1836,0)))=\"Ba\",\"B\",\"\"),_xlfn.IFNA(IF((INDEX(F1827:F1836,MATCH(\"B\",F1827:F1836,0)))=\"B\",\"B\",\"\"),_xlfn.IFNA(IF((INDEX(F1827:F1836,MATCH(\"Aa\",F1827:F1836,0)))=\"Aa\",\"A\",\"\"),_xlfn.IFNA(IF((INDEX(F1827:F1836,MATCH(\"A\",F1827:F1836,0)))=\"A\",\"A\",\"\"),_xlfn.IFNA(IF((INDEX(F1827:F1836,MATCH(\"n.a.\",F1827:F1836,0)))=\"n.a.\",\"\",\"\"),_xlfn.IFNA(IF((INDEX(F1827:F1836,MATCH(\"\",F1827:F1836,0)))=\"\",\"\",\"\"),\"\"))))))))))))","v":""},{"$f":"_xlfn.IFNA(IF((INDEX(G1827:G1836,MATCH(\"E\",G1827:G1836,0)))=\"E\",\"E\",\"\"),_xlfn.IFNA(IF((INDEX(G1827:G1836,MATCH(\"D\",G1827:G1836,0)))=\"D\",\"D\",\"\"),_xlfn.IFNA(IF((INDEX(G1827:G1836,MATCH(\"Ca\",G1827:G1836,0)))=\"Ca\",\"C\",\"\"),_xlfn.IFNA(IF((INDEX(G1827:G1836,MATCH(\"C\",G1827:G1836,0)))=\"C\",\"C\",\"\"),_xlfn.IFNA(IF((INDEX(G1827:G1836,MATCH(\"B\",G1827:G1836,0)))=\"B\",\"B\",\"\"),_xlfn.IFNA(IF((INDEX(G1827:G1836,MATCH(\"A\",G1827:G1836,0)))=\"A\",\"A\",\"\"),_xlfn.IFNA(IF((INDEX(G1827:G1836,MATCH(\"n.a.\",G1827:G1836,0)))=\"n.a.\",\"\",\"\"),_xlfn.IFNA(IF((INDEX(G1827:G1836,MATCH(\"\",G1827:G1836,0)))=\"\",\"\",\"\"),\"\"))))))))","v":""},{"$f":"_xlfn.IFNA(IF((INDEX(H1827:H1836,MATCH(\"E\",H1827:H1836,0)))=\"E\",\"E\",\"\"),_xlfn.IFNA(IF((INDEX(H1827:H1836,MATCH(\"D (E)c\",H1827:H1836,0)))=\"D (E)c\",\"D (E)c\",\"\"),_xlfn.IFNA(IF((INDEX(H1827:H1836,MATCH(\"Db (E)c\",H1827:H1836,0)))=\"Db (E)c\",\"D (E)c\",\"\"),_xlfn.IFNA(IF((INDEX(H1827:H1836,MATCH(\"D\",H1827:H1836,0)))=\"D\",\"D\",\"\"),_xlfn.IFNA(IF((INDEX(H1827:H1836,MATCH(\"Cb\",H1827:H1836,0)))=\"Cb\",\"C\",\"\"),_xlfn.IFNA(IF((INDEX(H1827:H1836,MATCH(\"C\",H1827:H1836,0)))=\"C\",\"C\",\"\"),_xlfn.IFNA(IF((INDEX(H1827:H1836,MATCH(\"Bb\",H1827:H1836,0)))=\"Bb\",\"B\",\"\"),_xlfn.IFNA(IF((INDEX(H1827:H1836,MATCH(\"B\",H1827:H1836,0)))=\"B\",\"B\",\"\"),_xlfn.IFNA(IF((INDEX(H1827:H1836,MATCH(\"Ab\",H1827:H1836,0)))=\"Ab\",\"A\",\"\"),_xlfn.IFNA(IF((INDEX(H1827:H1836,MATCH(\"A\",H1827:H1836,0)))=\"A\",\"A\",\"\"),_xlfn.IFNA(IF((INDEX(H1827:H1836,MATCH(\"n.a.\",H1827:H1836,0)))=\"n.a.\",\"\",\"\"),_xlfn.IFNA(IF((INDEX(H1827:H1836,MATCH(\"\",H1827:H1836,0)))=\"\",\"\",\"\"),\"\"))))))))))))","v":""}]
[null,"\nHighest hazard level for all 'Uptake Routes' \n",null,null,{"$f":"_xlfn.IFNA(IF((INDEX(E1837:H1837,MATCH(\"E\",E1837:H1837,0)))=\"E\",\"E\",\"\"),_xlfn.IFNA(IF((INDEX(E1837:H1837,MATCH(\"D (E)c\",E1837:H1837,0)))=\"D (E)c\",\"D (E)\",\"\"),_xlfn.IFNA(IF((INDEX(E1837:H1837,MATCH(\"D\",E1837:H1837,0)))=\"D\",\"D\",\"\"),_xlfn.IFNA(IF((INDEX(E1837:H1837,MATCH(\"C\",E1837:H1837,0)))=\"C\",\"C\",\"\"),_xlfn.IFNA(IF((INDEX(E1837:H1837,MATCH(\"B\",E1837:H1837,0)))=\"B\",\"B\",\"\"),_xlfn.IFNA(IF((INDEX(E1837:H1837,MATCH(\"A\",E1837:H1837,0)))=\"A\",\"A\",\"\"),_xlfn.IFNA(IF((INDEX(E1837:H1837,MATCH(\"n.a.\",E1837:H1837,0)))=\"n.a.\",\"\",\"\"),_xlfn.IFNA(IF((INDEX(E1837:H1837,MATCH(\"\",E1837:H1837,0)))=\"\",\"\",\"\"),\"\"))))))))","v":""}]
[]
[]
[null,"\nStep 3: D(E) Assessment\nSkip this step if \nyour assessment above does not reveal a D(E) hazard level.\nHover over this cell for additional instructions.\n",null,null,"\nOverall hazard level\n",null,{"$f":"IF(AND(E1838=\"\",C1824=\"Yes\")=TRUE,\"B\",IF(E1838=\"\",\"\",(IF(AND(E1838=\"D (E)\",C1841=\"\"),\"D (E)\"&CHAR(10)&\"Find if cat. 1 acute tox.\",(IF(E1838<>\"D (E)\",E1838,(IF(AND(E1838=\"D (E)\",C1841=\"Yes\"),\"E\",(IF(AND(E1838=\"D (E)\",C1841=\"No\"),\"D\",\"\"))))))))))","v":""}]
[]
[{"$f":"IF(IF(MOD(ROWS(B$3:B1843),20)=1,INDEX('Summary Sheet'!$A$17:$A1865,INT(ROWS(B$3:B1843)/20)+1),\"\")=0,\"\",IF(MOD(ROWS(B$3:B1843),20)=1,INDEX('Summary Sheet'!$A$17:$A1865,INT(ROWS(B$3:B1843)/20)+1),\"\"))","v":93},"Hazard Level Assessment","for",{"$f":"IF(IF(MOD(ROWS(D$3:D1843),20)=1,INDEX('Summary Sheet'!$B$17:$B1865,INT(ROWS(D$3:D1843)/20)+1),\"\")=0,\"\",IF(MOD(ROWS(D$3:D1843),20)=1,INDEX('Summary Sheet'!$B$17:$B1865,INT(ROWS(D$3:D1843)/20)+1),\"\"))","v":""}]
[null,"\nStep 1: Physical & Environmental Hazard Statements/Codes\nFind Section 2 of the SDS and determine if the SDS has physical and/or environmental hazard statements/codes. Hover on this cell for additional instructions.\n",null,{"$f":"IF(IF(MOD(ROWS(D$3:D1844),20)=1,INDEX('Summary Sheet'!$B$17:$B1865,INT(ROWS(D$3:D1844)/20)+1),\"\")=0,\"\",IF(MOD(ROWS(D$3:D1844),20)=1,INDEX('Summary Sheet'!$B$17:$B1865,INT(ROWS(D$3:D1844)/20)+1),\"\"))","v":""}]
[null,"Step 2: Health Hazard Statements/Codes\nProvide the Health Hazard Statements or Codes from Section 2 of the SDS below. Hover on this cell for additional instructions.",null,{"$f":"IF(IF(MOD(ROWS(D$3:D1845),20)=1,INDEX('Summary Sheet'!$B$17:$B1865,INT(ROWS(D$3:D1845)/20)+1),\"\")=0,\"\",IF(MOD(ROWS(D$3:D1845),20)=1,INDEX('Summary Sheet'!$B$17:$B1865,INT(ROWS(D$3:D1845)/20)+1),\"\"))","v":""},"\nHazard Level\n"]
[null,null,null,{"$f":"IF(IF(MOD(ROWS(D$3:D1846),20)=1,INDEX('Summary Sheet'!$B$17:$B1865,INT(ROWS(D$3:D1846)/20)+1),\"\")=0,\"\",IF(MOD(ROWS(D$3:D1846),20)=1,INDEX('Summary Sheet'!$B$17:$B1865,INT(ROWS(D$3:D1846)/20)+1),\"\"))","v":""},"\nEye Damage\n","\nInhalation\n","\nLocal Skin Damage\n","\nSkin uptake, systemic\n"]
[1,null,{"$f":"_xlfn.IFNA(VLOOKUP(B1847,_!$A$7:$F$210,6,FALSE),\"\")","v":""},{"$f":"IF(IF(MOD(ROWS(D$3:D1847),20)=1,INDEX('Summary Sheet'!$B$17:$B1865,INT(ROWS(D$3:D1847)/20)+1),\"\")=0,\"\",IF(MOD(ROWS(D$3:D1847),20)=1,INDEX('Summary Sheet'!$B$17:$B1865,INT(ROWS(D$3:D1847)/20)+1),\"\"))","v":""},{"$f":"_xlfn.IFNA(IF(VLOOKUP(B1847,_!$A$7:$E$210,2,FALSE)=0, \"\", VLOOKUP(B1847,_!$A$7:$E$210,2,FALSE)),  \"\")","v":""},{"$f":"_xlfn.IFNA(IF(VLOOKUP(B1847,_!$A$7:$E$210,3,FALSE)=0, \"\", VLOOKUP(B1847,_!$A$7:$E$210,3,FALSE)), \"\")","v":""},{"$f":"_xlfn.IFNA(IF(VLOOKUP(B1847,_!$A$7:$E$210,4,FALSE)=0, \"\",VLOOKUP(B1847,_!$A$7:$E$210,4,FALSE)), \"\")","v":""},{"$f":"_xlfn.IFNA(IF(VLOOKUP(B1847,_!$A$7:$E$210,5,FALSE)=0,\"\",VLOOKUP(B1847,_!$A$7:$E$210,5,FALSE)), \"\")","v":""}]
[2,null,{"$f":"_xlfn.IFNA(VLOOKUP(B1848,_!$A$7:$F$210,6,FALSE),\"\")","v":""},{"$f":"IF(IF(MOD(ROWS(D$3:D1848),20)=1,INDEX('Summary Sheet'!$B$17:$B1865,INT(ROWS(D$3:D1848)/20)+1),\"\")=0,\"\",IF(MOD(ROWS(D$3:D1848),20)=1,INDEX('Summary Sheet'!$B$17:$B1865,INT(ROWS(D$3:D1848)/20)+1),\"\"))","v":""},{"$f":"_xlfn.IFNA(IF(VLOOKUP(B1848,_!$A$7:$E$210,2,FALSE)=0, \"\", VLOOKUP(B1848,_!$A$7:$E$210,2,FALSE)),  \"\")","v":""},{"$f":"_xlfn.IFNA(IF(VLOOKUP(B1848,_!$A$7:$E$210,3,FALSE)=0, \"\", VLOOKUP(B1848,_!$A$7:$E$210,3,FALSE)), \"\")","v":""},{"$f":"_xlfn.IFNA(IF(VLOOKUP(B1848,_!$A$7:$E$210,4,FALSE)=0, \"\",VLOOKUP(B1848,_!$A$7:$E$210,4,FALSE)), \"\")","v":""},{"$f":"_xlfn.IFNA(IF(VLOOKUP(B1848,_!$A$7:$E$210,5,FALSE)=0,\"\",VLOOKUP(B1848,_!$A$7:$E$210,5,FALSE)), \"\")","v":""}]
[3,null,{"$f":"_xlfn.IFNA(VLOOKUP(B1849,_!$A$7:$F$210,6,FALSE),\"\")","v":""},{"$f":"IF(IF(MOD(ROWS(D$3:D1849),20)=1,INDEX('Summary Sheet'!$B$17:$B1865,INT(ROWS(D$3:D1849)/20)+1),\"\")=0,\"\",IF(MOD(ROWS(D$3:D1849),20)=1,INDEX('Summary Sheet'!$B$17:$B1865,INT(ROWS(D$3:D1849)/20)+1),\"\"))","v":""},{"$f":"_xlfn.IFNA(IF(VLOOKUP(B1849,_!$A$7:$E$210,2,FALSE)=0, \"\", VLOOKUP(B1849,_!$A$7:$E$210,2,FALSE)),  \"\")","v":""},{"$f":"_xlfn.IFNA(IF(VLOOKUP(B1849,_!$A$7:$E$210,3,FALSE)=0, \"\", VLOOKUP(B1849,_!$A$7:$E$210,3,FALSE)), \"\")","v":""},{"$f":"_xlfn.IFNA(IF(VLOOKUP(B1849,_!$A$7:$E$210,4,FALSE)=0, \"\",VLOOKUP(B1849,_!$A$7:$E$210,4,FALSE)), \"\")","v":""},{"$f":"_xlfn.IFNA(IF(VLOOKUP(B1849,_!$A$7:$E$210,5,FALSE)=0,\"\",VLOOKUP(B1849,_!$A$7:$E$210,5,FALSE)), \"\")","v":""}]
[4,null,{"$f":"_xlfn.IFNA(VLOOKUP(B1850,_!$A$7:$F$210,6,FALSE),\"\")","v":""},{"$f":"IF(IF(MOD(ROWS(D$3:D1850),20)=1,INDEX('Summary Sheet'!$B$17:$B1865,INT(ROWS(D$3:D1850)/20)+1),\"\")=0,\"\",IF(MOD(ROWS(D$3:D1850),20)=1,INDEX('Summary Sheet'!$B$17:$B1865,INT(ROWS(D$3:D1850)/20)+1),\"\"))","v":""},{"$f":"_xlfn.IFNA(IF(VLOOKUP(B1850,_!$A$7:$E$210,2,FALSE)=0, \"\", VLOOKUP(B1850,_!$A$7:$E$210,2,FALSE)),  \"\")","v":""},{"$f":"_xlfn.IFNA(IF(VLOOKUP(B1850,_!$A$7:$E$210,3,FALSE)=0, \"\", VLOOKUP(B1850,_!$A$7:$E$210,3,FALSE)), \"\")","v":""},{"$f":"_xlfn.IFNA(IF(VLOOKUP(B1850,_!$A$7:$E$210,4,FALSE)=0, \"\",VLOOKUP(B1850,_!$A$7:$E$210,4,FALSE)), \"\")","v":""},{"$f":"_xlfn.IFNA(IF(VLOOKUP(B1850,_!$A$7:$E$210,5,FALSE)=0,\"\",VLOOKUP(B1850,_!$A$7:$E$210,5,FALSE)), \"\")","v":""}]
[5,null,{"$f":"_xlfn.IFNA(VLOOKUP(B1851,_!$A$7:$F$210,6,FALSE),\"\")","v":""},{"$f":"IF(IF(MOD(ROWS(D$3:D1851),20)=1,INDEX('Summary Sheet'!$B$17:$B1865,INT(ROWS(D$3:D1851)/20)+1),\"\")=0,\"\",IF(MOD(ROWS(D$3:D1851),20)=1,INDEX('Summary Sheet'!$B$17:$B1865,INT(ROWS(D$3:D1851)/20)+1),\"\"))","v":""},{"$f":"_xlfn.IFNA(IF(VLOOKUP(B1851,_!$A$7:$E$210,2,FALSE)=0, \"\", VLOOKUP(B1851,_!$A$7:$E$210,2,FALSE)),  \"\")","v":""},{"$f":"_xlfn.IFNA(IF(VLOOKUP(B1851,_!$A$7:$E$210,3,FALSE)=0, \"\", VLOOKUP(B1851,_!$A$7:$E$210,3,FALSE)), \"\")","v":""},{"$f":"_xlfn.IFNA(IF(VLOOKUP(B1851,_!$A$7:$E$210,4,FALSE)=0, \"\",VLOOKUP(B1851,_!$A$7:$E$210,4,FALSE)), \"\")","v":""},{"$f":"_xlfn.IFNA(IF(VLOOKUP(B1851,_!$A$7:$E$210,5,FALSE)=0,\"\",VLOOKUP(B1851,_!$A$7:$E$210,5,FALSE)), \"\")","v":""}]
[6,null,{"$f":"_xlfn.IFNA(VLOOKUP(B1852,_!$A$7:$F$210,6,FALSE),\"\")","v":""},{"$f":"IF(IF(MOD(ROWS(D$3:D1852),20)=1,INDEX('Summary Sheet'!$B$17:$B1865,INT(ROWS(D$3:D1852)/20)+1),\"\")=0,\"\",IF(MOD(ROWS(D$3:D1852),20)=1,INDEX('Summary Sheet'!$B$17:$B1865,INT(ROWS(D$3:D1852)/20)+1),\"\"))","v":""},{"$f":"_xlfn.IFNA(IF(VLOOKUP(B1852,_!$A$7:$E$210,2,FALSE)=0, \"\", VLOOKUP(B1852,_!$A$7:$E$210,2,FALSE)),  \"\")","v":""},{"$f":"_xlfn.IFNA(IF(VLOOKUP(B1852,_!$A$7:$E$210,3,FALSE)=0, \"\", VLOOKUP(B1852,_!$A$7:$E$210,3,FALSE)), \"\")","v":""},{"$f":"_xlfn.IFNA(IF(VLOOKUP(B1852,_!$A$7:$E$210,4,FALSE)=0, \"\",VLOOKUP(B1852,_!$A$7:$E$210,4,FALSE)), \"\")","v":""},{"$f":"_xlfn.IFNA(IF(VLOOKUP(B1852,_!$A$7:$E$210,5,FALSE)=0,\"\",VLOOKUP(B1852,_!$A$7:$E$210,5,FALSE)), \"\")","v":""}]
[7,null,{"$f":"_xlfn.IFNA(VLOOKUP(B1853,_!$A$7:$F$210,6,FALSE),\"\")","v":""},{"$f":"IF(IF(MOD(ROWS(D$3:D1853),20)=1,INDEX('Summary Sheet'!$B$17:$B1865,INT(ROWS(D$3:D1853)/20)+1),\"\")=0,\"\",IF(MOD(ROWS(D$3:D1853),20)=1,INDEX('Summary Sheet'!$B$17:$B1865,INT(ROWS(D$3:D1853)/20)+1),\"\"))","v":""},{"$f":"_xlfn.IFNA(IF(VLOOKUP(B1853,_!$A$7:$E$210,2,FALSE)=0, \"\", VLOOKUP(B1853,_!$A$7:$E$210,2,FALSE)),  \"\")","v":""},{"$f":"_xlfn.IFNA(IF(VLOOKUP(B1853,_!$A$7:$E$210,3,FALSE)=0, \"\", VLOOKUP(B1853,_!$A$7:$E$210,3,FALSE)), \"\")","v":""},{"$f":"_xlfn.IFNA(IF(VLOOKUP(B1853,_!$A$7:$E$210,4,FALSE)=0, \"\",VLOOKUP(B1853,_!$A$7:$E$210,4,FALSE)), \"\")","v":""},{"$f":"_xlfn.IFNA(IF(VLOOKUP(B1853,_!$A$7:$E$210,5,FALSE)=0,\"\",VLOOKUP(B1853,_!$A$7:$E$210,5,FALSE)), \"\")","v":""}]
[8,null,{"$f":"_xlfn.IFNA(VLOOKUP(B1854,_!$A$7:$F$210,6,FALSE),\"\")","v":""},{"$f":"IF(IF(MOD(ROWS(D$3:D1854),20)=1,INDEX('Summary Sheet'!$B$17:$B1865,INT(ROWS(D$3:D1854)/20)+1),\"\")=0,\"\",IF(MOD(ROWS(D$3:D1854),20)=1,INDEX('Summary Sheet'!$B$17:$B1865,INT(ROWS(D$3:D1854)/20)+1),\"\"))","v":""},{"$f":"_xlfn.IFNA(IF(VLOOKUP(B1854,_!$A$7:$E$210,2,FALSE)=0, \"\", VLOOKUP(B1854,_!$A$7:$E$210,2,FALSE)),  \"\")","v":""},{"$f":"_xlfn.IFNA(IF(VLOOKUP(B1854,_!$A$7:$E$210,3,FALSE)=0, \"\", VLOOKUP(B1854,_!$A$7:$E$210,3,FALSE)), \"\")","v":""},{"$f":"_xlfn.IFNA(IF(VLOOKUP(B1854,_!$A$7:$E$210,4,FALSE)=0, \"\",VLOOKUP(B1854,_!$A$7:$E$210,4,FALSE)), \"\")","v":""},{"$f":"_xlfn.IFNA(IF(VLOOKUP(B1854,_!$A$7:$E$210,5,FALSE)=0,\"\",VLOOKUP(B1854,_!$A$7:$E$210,5,FALSE)), \"\")","v":""}]
[9,null,{"$f":"_xlfn.IFNA(VLOOKUP(B1855,_!$A$7:$F$210,6,FALSE),\"\")","v":""},{"$f":"IF(IF(MOD(ROWS(D$3:D1855),20)=1,INDEX('Summary Sheet'!$B$17:$B1865,INT(ROWS(D$3:D1855)/20)+1),\"\")=0,\"\",IF(MOD(ROWS(D$3:D1855),20)=1,INDEX('Summary Sheet'!$B$17:$B1865,INT(ROWS(D$3:D1855)/20)+1),\"\"))","v":""},{"$f":"_xlfn.IFNA(IF(VLOOKUP(B1855,_!$A$7:$E$210,2,FALSE)=0, \"\", VLOOKUP(B1855,_!$A$7:$E$210,2,FALSE)),  \"\")","v":""},{"$f":"_xlfn.IFNA(IF(VLOOKUP(B1855,_!$A$7:$E$210,3,FALSE)=0, \"\", VLOOKUP(B1855,_!$A$7:$E$210,3,FALSE)), \"\")","v":""},{"$f":"_xlfn.IFNA(IF(VLOOKUP(B1855,_!$A$7:$E$210,4,FALSE)=0, \"\",VLOOKUP(B1855,_!$A$7:$E$210,4,FALSE)), \"\")","v":""},{"$f":"_xlfn.IFNA(IF(VLOOKUP(B1855,_!$A$7:$E$210,5,FALSE)=0,\"\",VLOOKUP(B1855,_!$A$7:$E$210,5,FALSE)), \"\")","v":""}]
[10,null,{"$f":"_xlfn.IFNA(VLOOKUP(B1856,_!$A$7:$F$210,6,FALSE),\"\")","v":""},{"$f":"IF(IF(MOD(ROWS(D$14:D1856),20)=1,INDEX('Summary Sheet'!$B$17:$B1865,INT(ROWS(D$14:D1856)/20)+1),\"\")=0,\"\",IF(MOD(ROWS(D$14:D1856),20)=1,INDEX('Summary Sheet'!$B$17:$B1865,INT(ROWS(D$14:D1856)/20)+1),\"\"))","v":""},{"$f":"_xlfn.IFNA(IF(VLOOKUP(B1856,_!$A$7:$E$210,2,FALSE)=0, \"\", VLOOKUP(B1856,_!$A$7:$E$210,2,FALSE)),  \"\")","v":""},{"$f":"_xlfn.IFNA(IF(VLOOKUP(B1856,_!$A$7:$E$210,3,FALSE)=0, \"\", VLOOKUP(B1856,_!$A$7:$E$210,3,FALSE)), \"\")","v":""},{"$f":"_xlfn.IFNA(IF(VLOOKUP(B1856,_!$A$7:$E$210,4,FALSE)=0, \"\",VLOOKUP(B1856,_!$A$7:$E$210,4,FALSE)), \"\")","v":""},{"$f":"_xlfn.IFNA(IF(VLOOKUP(B1856,_!$A$7:$E$210,5,FALSE)=0,\"\",VLOOKUP(B1856,_!$A$7:$E$210,5,FALSE)), \"\")","v":""}]
[null,"\nHighest hazard level for each ‘Uptake Route’\n",null,null,{"$f":"_xlfn.IFNA(IF((INDEX(E1847:E1856,MATCH(\"E\",E1847:E1856,0)))=\"E\",\"E\",\"\"),_xlfn.IFNA(IF((INDEX(E1847:E1856,MATCH(\"D\",E1847:E1856,0)))=\"D\",\"D\",\"\"),_xlfn.IFNA(IF((INDEX(E1847:E1856,MATCH(\"Ca\",E1847:E1856,0)))=\"Ca\",\"C\",\"\"),_xlfn.IFNA(IF((INDEX(E1847:E1856,MATCH(\"C\",E1847:E1856,0)))=\"C\",\"C\",\"\"),_xlfn.IFNA(IF((INDEX(E1847:E1856,MATCH(\"B\",E1847:E1856,0)))=\"B\",\"B\",\"\"),_xlfn.IFNA(IF((INDEX(E1847:E1856,MATCH(\"A\",E1847:E1856,0)))=\"A\",\"A\",\"\"),_xlfn.IFNA(IF((INDEX(E1847:E1856,MATCH(\"n.a.\",E1847:E1856,0)))=\"n.a.\",\"\",\"\"),_xlfn.IFNA(IF((INDEX(E1847:E1856,MATCH(\"\",E1847:E1856,0)))=\"\",\"\",\"\"),\"\"))))))))","v":""},{"$f":"_xlfn.IFNA(IF((INDEX(F1847:F1856,MATCH(\"E\",F1847:F1856,0)))=\"E\",\"E\",\"\"),_xlfn.IFNA(IF((INDEX(F1847:F1856,MATCH(\"D (E)c\",F1847:F1856,0)))=\"D (E)c\",\"D (E)c\",\"\"),_xlfn.IFNA(IF((INDEX(F1847:F1856,MATCH(\"Da (E)c\",F1847:F1856,0)))=\"Da (E)c\",\"D (E)c\",\"\"),_xlfn.IFNA(IF((INDEX(F1847:F1856,MATCH(\"D\",F1847:F1856,0)))=\"D\",\"D\",\"\"),_xlfn.IFNA(IF((INDEX(F1847:F1856,MATCH(\"Ca\",F1847:F1856,0)))=\"Ca\",\"C\",\"\"),_xlfn.IFNA(IF((INDEX(F1847:F1856,MATCH(\"C\",F1847:F1856,0)))=\"C\",\"C\",\"\"),_xlfn.IFNA(IF((INDEX(F1847:F1856,MATCH(\"Ba\",F1847:F1856,0)))=\"Ba\",\"B\",\"\"),_xlfn.IFNA(IF((INDEX(F1847:F1856,MATCH(\"B\",F1847:F1856,0)))=\"B\",\"B\",\"\"),_xlfn.IFNA(IF((INDEX(F1847:F1856,MATCH(\"Aa\",F1847:F1856,0)))=\"Aa\",\"A\",\"\"),_xlfn.IFNA(IF((INDEX(F1847:F1856,MATCH(\"A\",F1847:F1856,0)))=\"A\",\"A\",\"\"),_xlfn.IFNA(IF((INDEX(F1847:F1856,MATCH(\"n.a.\",F1847:F1856,0)))=\"n.a.\",\"\",\"\"),_xlfn.IFNA(IF((INDEX(F1847:F1856,MATCH(\"\",F1847:F1856,0)))=\"\",\"\",\"\"),\"\"))))))))))))","v":""},{"$f":"_xlfn.IFNA(IF((INDEX(G1847:G1856,MATCH(\"E\",G1847:G1856,0)))=\"E\",\"E\",\"\"),_xlfn.IFNA(IF((INDEX(G1847:G1856,MATCH(\"D\",G1847:G1856,0)))=\"D\",\"D\",\"\"),_xlfn.IFNA(IF((INDEX(G1847:G1856,MATCH(\"Ca\",G1847:G1856,0)))=\"Ca\",\"C\",\"\"),_xlfn.IFNA(IF((INDEX(G1847:G1856,MATCH(\"C\",G1847:G1856,0)))=\"C\",\"C\",\"\"),_xlfn.IFNA(IF((INDEX(G1847:G1856,MATCH(\"B\",G1847:G1856,0)))=\"B\",\"B\",\"\"),_xlfn.IFNA(IF((INDEX(G1847:G1856,MATCH(\"A\",G1847:G1856,0)))=\"A\",\"A\",\"\"),_xlfn.IFNA(IF((INDEX(G1847:G1856,MATCH(\"n.a.\",G1847:G1856,0)))=\"n.a.\",\"\",\"\"),_xlfn.IFNA(IF((INDEX(G1847:G1856,MATCH(\"\",G1847:G1856,0)))=\"\",\"\",\"\"),\"\"))))))))","v":""},{"$f":"_xlfn.IFNA(IF((INDEX(H1847:H1856,MATCH(\"E\",H1847:H1856,0)))=\"E\",\"E\",\"\"),_xlfn.IFNA(IF((INDEX(H1847:H1856,MATCH(\"D (E)c\",H1847:H1856,0)))=\"D (E)c\",\"D (E)c\",\"\"),_xlfn.IFNA(IF((INDEX(H1847:H1856,MATCH(\"Db (E)c\",H1847:H1856,0)))=\"Db (E)c\",\"D (E)c\",\"\"),_xlfn.IFNA(IF((INDEX(H1847:H1856,MATCH(\"D\",H1847:H1856,0)))=\"D\",\"D\",\"\"),_xlfn.IFNA(IF((INDEX(H1847:H1856,MATCH(\"Cb\",H1847:H1856,0)))=\"Cb\",\"C\",\"\"),_xlfn.IFNA(IF((INDEX(H1847:H1856,MATCH(\"C\",H1847:H1856,0)))=\"C\",\"C\",\"\"),_xlfn.IFNA(IF((INDEX(H1847:H1856,MATCH(\"Bb\",H1847:H1856,0)))=\"Bb\",\"B\",\"\"),_xlfn.IFNA(IF((INDEX(H1847:H1856,MATCH(\"B\",H1847:H1856,0)))=\"B\",\"B\",\"\"),_xlfn.IFNA(IF((INDEX(H1847:H1856,MATCH(\"Ab\",H1847:H1856,0)))=\"Ab\",\"A\",\"\"),_xlfn.IFNA(IF((INDEX(H1847:H1856,MATCH(\"A\",H1847:H1856,0)))=\"A\",\"A\",\"\"),_xlfn.IFNA(IF((INDEX(H1847:H1856,MATCH(\"n.a.\",H1847:H1856,0)))=\"n.a.\",\"\",\"\"),_xlfn.IFNA(IF((INDEX(H1847:H1856,MATCH(\"\",H1847:H1856,0)))=\"\",\"\",\"\"),\"\"))))))))))))","v":""}]
[null,"\nHighest hazard level for all 'Uptake Routes' \n",null,null,{"$f":"_xlfn.IFNA(IF((INDEX(E1857:H1857,MATCH(\"E\",E1857:H1857,0)))=\"E\",\"E\",\"\"),_xlfn.IFNA(IF((INDEX(E1857:H1857,MATCH(\"D (E)c\",E1857:H1857,0)))=\"D (E)c\",\"D (E)\",\"\"),_xlfn.IFNA(IF((INDEX(E1857:H1857,MATCH(\"D\",E1857:H1857,0)))=\"D\",\"D\",\"\"),_xlfn.IFNA(IF((INDEX(E1857:H1857,MATCH(\"C\",E1857:H1857,0)))=\"C\",\"C\",\"\"),_xlfn.IFNA(IF((INDEX(E1857:H1857,MATCH(\"B\",E1857:H1857,0)))=\"B\",\"B\",\"\"),_xlfn.IFNA(IF((INDEX(E1857:H1857,MATCH(\"A\",E1857:H1857,0)))=\"A\",\"A\",\"\"),_xlfn.IFNA(IF((INDEX(E1857:H1857,MATCH(\"n.a.\",E1857:H1857,0)))=\"n.a.\",\"\",\"\"),_xlfn.IFNA(IF((INDEX(E1857:H1857,MATCH(\"\",E1857:H1857,0)))=\"\",\"\",\"\"),\"\"))))))))","v":""}]
[]
[]
[null,"\nStep 3: D(E) Assessment\nSkip this step if \nyour assessment above does not reveal a D(E) hazard level.\nHover over this cell for additional instructions.\n",null,null,"\nOverall hazard level\n",null,{"$f":"IF(AND(E1858=\"\",C1844=\"Yes\")=TRUE,\"B\",IF(E1858=\"\",\"\",(IF(AND(E1858=\"D (E)\",C1861=\"\"),\"D (E)\"&CHAR(10)&\"Find if cat. 1 acute tox.\",(IF(E1858<>\"D (E)\",E1858,(IF(AND(E1858=\"D (E)\",C1861=\"Yes\"),\"E\",(IF(AND(E1858=\"D (E)\",C1861=\"No\"),\"D\",\"\"))))))))))","v":""}]
[]
[{"$f":"IF(IF(MOD(ROWS(B$3:B1863),20)=1,INDEX('Summary Sheet'!$A$17:$A1884,INT(ROWS(B$3:B1863)/20)+1),\"\")=0,\"\",IF(MOD(ROWS(B$3:B1863),20)=1,INDEX('Summary Sheet'!$A$17:$A1884,INT(ROWS(B$3:B1863)/20)+1),\"\"))","v":94},"Hazard Level Assessment","for",{"$f":"IF(IF(MOD(ROWS(D$3:D1863),20)=1,INDEX('Summary Sheet'!$B$17:$B1884,INT(ROWS(D$3:D1863)/20)+1),\"\")=0,\"\",IF(MOD(ROWS(D$3:D1863),20)=1,INDEX('Summary Sheet'!$B$17:$B1884,INT(ROWS(D$3:D1863)/20)+1),\"\"))","v":""}]
[null,"\nStep 1: Physical & Environmental Hazard Statements/Codes\nFind Section 2 of the SDS and determine if the SDS has physical and/or environmental hazard statements/codes. Hover on this cell for additional instructions.\n",null,{"$f":"IF(IF(MOD(ROWS(D$3:D1864),20)=1,INDEX('Summary Sheet'!$B$17:$B1884,INT(ROWS(D$3:D1864)/20)+1),\"\")=0,\"\",IF(MOD(ROWS(D$3:D1864),20)=1,INDEX('Summary Sheet'!$B$17:$B1884,INT(ROWS(D$3:D1864)/20)+1),\"\"))","v":""}]
[null,"Step 2: Health Hazard Statements/Codes\nProvide the Health Hazard Statements or Codes from Section 2 of the SDS below. Hover on this cell for additional instructions.",null,{"$f":"IF(IF(MOD(ROWS(D$3:D1865),20)=1,INDEX('Summary Sheet'!$B$17:$B1884,INT(ROWS(D$3:D1865)/20)+1),\"\")=0,\"\",IF(MOD(ROWS(D$3:D1865),20)=1,INDEX('Summary Sheet'!$B$17:$B1884,INT(ROWS(D$3:D1865)/20)+1),\"\"))","v":""},"\nHazard Level\n"]
[null,null,null,{"$f":"IF(IF(MOD(ROWS(D$3:D1866),20)=1,INDEX('Summary Sheet'!$B$17:$B1884,INT(ROWS(D$3:D1866)/20)+1),\"\")=0,\"\",IF(MOD(ROWS(D$3:D1866),20)=1,INDEX('Summary Sheet'!$B$17:$B1884,INT(ROWS(D$3:D1866)/20)+1),\"\"))","v":""},"\nEye Damage\n","\nInhalation\n","\nLocal Skin Damage\n","\nSkin uptake, systemic\n"]
[1,null,{"$f":"_xlfn.IFNA(VLOOKUP(B1867,_!$A$7:$F$210,6,FALSE),\"\")","v":""},{"$f":"IF(IF(MOD(ROWS(D$3:D1867),20)=1,INDEX('Summary Sheet'!$B$17:$B1884,INT(ROWS(D$3:D1867)/20)+1),\"\")=0,\"\",IF(MOD(ROWS(D$3:D1867),20)=1,INDEX('Summary Sheet'!$B$17:$B1884,INT(ROWS(D$3:D1867)/20)+1),\"\"))","v":""},{"$f":"_xlfn.IFNA(IF(VLOOKUP(B1867,_!$A$7:$E$210,2,FALSE)=0, \"\", VLOOKUP(B1867,_!$A$7:$E$210,2,FALSE)),  \"\")","v":""},{"$f":"_xlfn.IFNA(IF(VLOOKUP(B1867,_!$A$7:$E$210,3,FALSE)=0, \"\", VLOOKUP(B1867,_!$A$7:$E$210,3,FALSE)), \"\")","v":""},{"$f":"_xlfn.IFNA(IF(VLOOKUP(B1867,_!$A$7:$E$210,4,FALSE)=0, \"\",VLOOKUP(B1867,_!$A$7:$E$210,4,FALSE)), \"\")","v":""},{"$f":"_xlfn.IFNA(IF(VLOOKUP(B1867,_!$A$7:$E$210,5,FALSE)=0,\"\",VLOOKUP(B1867,_!$A$7:$E$210,5,FALSE)), \"\")","v":""}]
[2,null,{"$f":"_xlfn.IFNA(VLOOKUP(B1868,_!$A$7:$F$210,6,FALSE),\"\")","v":""},{"$f":"IF(IF(MOD(ROWS(D$3:D1868),20)=1,INDEX('Summary Sheet'!$B$17:$B1884,INT(ROWS(D$3:D1868)/20)+1),\"\")=0,\"\",IF(MOD(ROWS(D$3:D1868),20)=1,INDEX('Summary Sheet'!$B$17:$B1884,INT(ROWS(D$3:D1868)/20)+1),\"\"))","v":""},{"$f":"_xlfn.IFNA(IF(VLOOKUP(B1868,_!$A$7:$E$210,2,FALSE)=0, \"\", VLOOKUP(B1868,_!$A$7:$E$210,2,FALSE)),  \"\")","v":""},{"$f":"_xlfn.IFNA(IF(VLOOKUP(B1868,_!$A$7:$E$210,3,FALSE)=0, \"\", VLOOKUP(B1868,_!$A$7:$E$210,3,FALSE)), \"\")","v":""},{"$f":"_xlfn.IFNA(IF(VLOOKUP(B1868,_!$A$7:$E$210,4,FALSE)=0, \"\",VLOOKUP(B1868,_!$A$7:$E$210,4,FALSE)), \"\")","v":""},{"$f":"_xlfn.IFNA(IF(VLOOKUP(B1868,_!$A$7:$E$210,5,FALSE)=0,\"\",VLOOKUP(B1868,_!$A$7:$E$210,5,FALSE)), \"\")","v":""}]
[3,null,{"$f":"_xlfn.IFNA(VLOOKUP(B1869,_!$A$7:$F$210,6,FALSE),\"\")","v":""},{"$f":"IF(IF(MOD(ROWS(D$3:D1869),20)=1,INDEX('Summary Sheet'!$B$17:$B1884,INT(ROWS(D$3:D1869)/20)+1),\"\")=0,\"\",IF(MOD(ROWS(D$3:D1869),20)=1,INDEX('Summary Sheet'!$B$17:$B1884,INT(ROWS(D$3:D1869)/20)+1),\"\"))","v":""},{"$f":"_xlfn.IFNA(IF(VLOOKUP(B1869,_!$A$7:$E$210,2,FALSE)=0, \"\", VLOOKUP(B1869,_!$A$7:$E$210,2,FALSE)),  \"\")","v":""},{"$f":"_xlfn.IFNA(IF(VLOOKUP(B1869,_!$A$7:$E$210,3,FALSE)=0, \"\", VLOOKUP(B1869,_!$A$7:$E$210,3,FALSE)), \"\")","v":""},{"$f":"_xlfn.IFNA(IF(VLOOKUP(B1869,_!$A$7:$E$210,4,FALSE)=0, \"\",VLOOKUP(B1869,_!$A$7:$E$210,4,FALSE)), \"\")","v":""},{"$f":"_xlfn.IFNA(IF(VLOOKUP(B1869,_!$A$7:$E$210,5,FALSE)=0,\"\",VLOOKUP(B1869,_!$A$7:$E$210,5,FALSE)), \"\")","v":""}]
[4,null,{"$f":"_xlfn.IFNA(VLOOKUP(B1870,_!$A$7:$F$210,6,FALSE),\"\")","v":""},{"$f":"IF(IF(MOD(ROWS(D$3:D1870),20)=1,INDEX('Summary Sheet'!$B$17:$B1884,INT(ROWS(D$3:D1870)/20)+1),\"\")=0,\"\",IF(MOD(ROWS(D$3:D1870),20)=1,INDEX('Summary Sheet'!$B$17:$B1884,INT(ROWS(D$3:D1870)/20)+1),\"\"))","v":""},{"$f":"_xlfn.IFNA(IF(VLOOKUP(B1870,_!$A$7:$E$210,2,FALSE)=0, \"\", VLOOKUP(B1870,_!$A$7:$E$210,2,FALSE)),  \"\")","v":""},{"$f":"_xlfn.IFNA(IF(VLOOKUP(B1870,_!$A$7:$E$210,3,FALSE)=0, \"\", VLOOKUP(B1870,_!$A$7:$E$210,3,FALSE)), \"\")","v":""},{"$f":"_xlfn.IFNA(IF(VLOOKUP(B1870,_!$A$7:$E$210,4,FALSE)=0, \"\",VLOOKUP(B1870,_!$A$7:$E$210,4,FALSE)), \"\")","v":""},{"$f":"_xlfn.IFNA(IF(VLOOKUP(B1870,_!$A$7:$E$210,5,FALSE)=0,\"\",VLOOKUP(B1870,_!$A$7:$E$210,5,FALSE)), \"\")","v":""}]
[5,null,{"$f":"_xlfn.IFNA(VLOOKUP(B1871,_!$A$7:$F$210,6,FALSE),\"\")","v":""},{"$f":"IF(IF(MOD(ROWS(D$3:D1871),20)=1,INDEX('Summary Sheet'!$B$17:$B1884,INT(ROWS(D$3:D1871)/20)+1),\"\")=0,\"\",IF(MOD(ROWS(D$3:D1871),20)=1,INDEX('Summary Sheet'!$B$17:$B1884,INT(ROWS(D$3:D1871)/20)+1),\"\"))","v":""},{"$f":"_xlfn.IFNA(IF(VLOOKUP(B1871,_!$A$7:$E$210,2,FALSE)=0, \"\", VLOOKUP(B1871,_!$A$7:$E$210,2,FALSE)),  \"\")","v":""},{"$f":"_xlfn.IFNA(IF(VLOOKUP(B1871,_!$A$7:$E$210,3,FALSE)=0, \"\", VLOOKUP(B1871,_!$A$7:$E$210,3,FALSE)), \"\")","v":""},{"$f":"_xlfn.IFNA(IF(VLOOKUP(B1871,_!$A$7:$E$210,4,FALSE)=0, \"\",VLOOKUP(B1871,_!$A$7:$E$210,4,FALSE)), \"\")","v":""},{"$f":"_xlfn.IFNA(IF(VLOOKUP(B1871,_!$A$7:$E$210,5,FALSE)=0,\"\",VLOOKUP(B1871,_!$A$7:$E$210,5,FALSE)), \"\")","v":""}]
[6,null,{"$f":"_xlfn.IFNA(VLOOKUP(B1872,_!$A$7:$F$210,6,FALSE),\"\")","v":""},{"$f":"IF(IF(MOD(ROWS(D$3:D1872),20)=1,INDEX('Summary Sheet'!$B$17:$B1884,INT(ROWS(D$3:D1872)/20)+1),\"\")=0,\"\",IF(MOD(ROWS(D$3:D1872),20)=1,INDEX('Summary Sheet'!$B$17:$B1884,INT(ROWS(D$3:D1872)/20)+1),\"\"))","v":""},{"$f":"_xlfn.IFNA(IF(VLOOKUP(B1872,_!$A$7:$E$210,2,FALSE)=0, \"\", VLOOKUP(B1872,_!$A$7:$E$210,2,FALSE)),  \"\")","v":""},{"$f":"_xlfn.IFNA(IF(VLOOKUP(B1872,_!$A$7:$E$210,3,FALSE)=0, \"\", VLOOKUP(B1872,_!$A$7:$E$210,3,FALSE)), \"\")","v":""},{"$f":"_xlfn.IFNA(IF(VLOOKUP(B1872,_!$A$7:$E$210,4,FALSE)=0, \"\",VLOOKUP(B1872,_!$A$7:$E$210,4,FALSE)), \"\")","v":""},{"$f":"_xlfn.IFNA(IF(VLOOKUP(B1872,_!$A$7:$E$210,5,FALSE)=0,\"\",VLOOKUP(B1872,_!$A$7:$E$210,5,FALSE)), \"\")","v":""}]
[7,null,{"$f":"_xlfn.IFNA(VLOOKUP(B1873,_!$A$7:$F$210,6,FALSE),\"\")","v":""},{"$f":"IF(IF(MOD(ROWS(D$3:D1873),20)=1,INDEX('Summary Sheet'!$B$17:$B1884,INT(ROWS(D$3:D1873)/20)+1),\"\")=0,\"\",IF(MOD(ROWS(D$3:D1873),20)=1,INDEX('Summary Sheet'!$B$17:$B1884,INT(ROWS(D$3:D1873)/20)+1),\"\"))","v":""},{"$f":"_xlfn.IFNA(IF(VLOOKUP(B1873,_!$A$7:$E$210,2,FALSE)=0, \"\", VLOOKUP(B1873,_!$A$7:$E$210,2,FALSE)),  \"\")","v":""},{"$f":"_xlfn.IFNA(IF(VLOOKUP(B1873,_!$A$7:$E$210,3,FALSE)=0, \"\", VLOOKUP(B1873,_!$A$7:$E$210,3,FALSE)), \"\")","v":""},{"$f":"_xlfn.IFNA(IF(VLOOKUP(B1873,_!$A$7:$E$210,4,FALSE)=0, \"\",VLOOKUP(B1873,_!$A$7:$E$210,4,FALSE)), \"\")","v":""},{"$f":"_xlfn.IFNA(IF(VLOOKUP(B1873,_!$A$7:$E$210,5,FALSE)=0,\"\",VLOOKUP(B1873,_!$A$7:$E$210,5,FALSE)), \"\")","v":""}]
[8,null,{"$f":"_xlfn.IFNA(VLOOKUP(B1874,_!$A$7:$F$210,6,FALSE),\"\")","v":""},{"$f":"IF(IF(MOD(ROWS(D$3:D1874),20)=1,INDEX('Summary Sheet'!$B$17:$B1884,INT(ROWS(D$3:D1874)/20)+1),\"\")=0,\"\",IF(MOD(ROWS(D$3:D1874),20)=1,INDEX('Summary Sheet'!$B$17:$B1884,INT(ROWS(D$3:D1874)/20)+1),\"\"))","v":""},{"$f":"_xlfn.IFNA(IF(VLOOKUP(B1874,_!$A$7:$E$210,2,FALSE)=0, \"\", VLOOKUP(B1874,_!$A$7:$E$210,2,FALSE)),  \"\")","v":""},{"$f":"_xlfn.IFNA(IF(VLOOKUP(B1874,_!$A$7:$E$210,3,FALSE)=0, \"\", VLOOKUP(B1874,_!$A$7:$E$210,3,FALSE)), \"\")","v":""},{"$f":"_xlfn.IFNA(IF(VLOOKUP(B1874,_!$A$7:$E$210,4,FALSE)=0, \"\",VLOOKUP(B1874,_!$A$7:$E$210,4,FALSE)), \"\")","v":""},{"$f":"_xlfn.IFNA(IF(VLOOKUP(B1874,_!$A$7:$E$210,5,FALSE)=0,\"\",VLOOKUP(B1874,_!$A$7:$E$210,5,FALSE)), \"\")","v":""}]
[9,null,{"$f":"_xlfn.IFNA(VLOOKUP(B1875,_!$A$7:$F$210,6,FALSE),\"\")","v":""},{"$f":"IF(IF(MOD(ROWS(D$3:D1875),20)=1,INDEX('Summary Sheet'!$B$17:$B1884,INT(ROWS(D$3:D1875)/20)+1),\"\")=0,\"\",IF(MOD(ROWS(D$3:D1875),20)=1,INDEX('Summary Sheet'!$B$17:$B1884,INT(ROWS(D$3:D1875)/20)+1),\"\"))","v":""},{"$f":"_xlfn.IFNA(IF(VLOOKUP(B1875,_!$A$7:$E$210,2,FALSE)=0, \"\", VLOOKUP(B1875,_!$A$7:$E$210,2,FALSE)),  \"\")","v":""},{"$f":"_xlfn.IFNA(IF(VLOOKUP(B1875,_!$A$7:$E$210,3,FALSE)=0, \"\", VLOOKUP(B1875,_!$A$7:$E$210,3,FALSE)), \"\")","v":""},{"$f":"_xlfn.IFNA(IF(VLOOKUP(B1875,_!$A$7:$E$210,4,FALSE)=0, \"\",VLOOKUP(B1875,_!$A$7:$E$210,4,FALSE)), \"\")","v":""},{"$f":"_xlfn.IFNA(IF(VLOOKUP(B1875,_!$A$7:$E$210,5,FALSE)=0,\"\",VLOOKUP(B1875,_!$A$7:$E$210,5,FALSE)), \"\")","v":""}]
[10,null,{"$f":"_xlfn.IFNA(VLOOKUP(B1876,_!$A$7:$F$210,6,FALSE),\"\")","v":""},{"$f":"IF(IF(MOD(ROWS(D$14:D1876),20)=1,INDEX('Summary Sheet'!$B$17:$B1884,INT(ROWS(D$14:D1876)/20)+1),\"\")=0,\"\",IF(MOD(ROWS(D$14:D1876),20)=1,INDEX('Summary Sheet'!$B$17:$B1884,INT(ROWS(D$14:D1876)/20)+1),\"\"))","v":""},{"$f":"_xlfn.IFNA(IF(VLOOKUP(B1876,_!$A$7:$E$210,2,FALSE)=0, \"\", VLOOKUP(B1876,_!$A$7:$E$210,2,FALSE)),  \"\")","v":""},{"$f":"_xlfn.IFNA(IF(VLOOKUP(B1876,_!$A$7:$E$210,3,FALSE)=0, \"\", VLOOKUP(B1876,_!$A$7:$E$210,3,FALSE)), \"\")","v":""},{"$f":"_xlfn.IFNA(IF(VLOOKUP(B1876,_!$A$7:$E$210,4,FALSE)=0, \"\",VLOOKUP(B1876,_!$A$7:$E$210,4,FALSE)), \"\")","v":""},{"$f":"_xlfn.IFNA(IF(VLOOKUP(B1876,_!$A$7:$E$210,5,FALSE)=0,\"\",VLOOKUP(B1876,_!$A$7:$E$210,5,FALSE)), \"\")","v":""}]
[null,"\nHighest hazard level for each ‘Uptake Route’\n",null,null,{"$f":"_xlfn.IFNA(IF((INDEX(E1867:E1876,MATCH(\"E\",E1867:E1876,0)))=\"E\",\"E\",\"\"),_xlfn.IFNA(IF((INDEX(E1867:E1876,MATCH(\"D\",E1867:E1876,0)))=\"D\",\"D\",\"\"),_xlfn.IFNA(IF((INDEX(E1867:E1876,MATCH(\"Ca\",E1867:E1876,0)))=\"Ca\",\"C\",\"\"),_xlfn.IFNA(IF((INDEX(E1867:E1876,MATCH(\"C\",E1867:E1876,0)))=\"C\",\"C\",\"\"),_xlfn.IFNA(IF((INDEX(E1867:E1876,MATCH(\"B\",E1867:E1876,0)))=\"B\",\"B\",\"\"),_xlfn.IFNA(IF((INDEX(E1867:E1876,MATCH(\"A\",E1867:E1876,0)))=\"A\",\"A\",\"\"),_xlfn.IFNA(IF((INDEX(E1867:E1876,MATCH(\"n.a.\",E1867:E1876,0)))=\"n.a.\",\"\",\"\"),_xlfn.IFNA(IF((INDEX(E1867:E1876,MATCH(\"\",E1867:E1876,0)))=\"\",\"\",\"\"),\"\"))))))))","v":""},{"$f":"_xlfn.IFNA(IF((INDEX(F1867:F1876,MATCH(\"E\",F1867:F1876,0)))=\"E\",\"E\",\"\"),_xlfn.IFNA(IF((INDEX(F1867:F1876,MATCH(\"D (E)c\",F1867:F1876,0)))=\"D (E)c\",\"D (E)c\",\"\"),_xlfn.IFNA(IF((INDEX(F1867:F1876,MATCH(\"Da (E)c\",F1867:F1876,0)))=\"Da (E)c\",\"D (E)c\",\"\"),_xlfn.IFNA(IF((INDEX(F1867:F1876,MATCH(\"D\",F1867:F1876,0)))=\"D\",\"D\",\"\"),_xlfn.IFNA(IF((INDEX(F1867:F1876,MATCH(\"Ca\",F1867:F1876,0)))=\"Ca\",\"C\",\"\"),_xlfn.IFNA(IF((INDEX(F1867:F1876,MATCH(\"C\",F1867:F1876,0)))=\"C\",\"C\",\"\"),_xlfn.IFNA(IF((INDEX(F1867:F1876,MATCH(\"Ba\",F1867:F1876,0)))=\"Ba\",\"B\",\"\"),_xlfn.IFNA(IF((INDEX(F1867:F1876,MATCH(\"B\",F1867:F1876,0)))=\"B\",\"B\",\"\"),_xlfn.IFNA(IF((INDEX(F1867:F1876,MATCH(\"Aa\",F1867:F1876,0)))=\"Aa\",\"A\",\"\"),_xlfn.IFNA(IF((INDEX(F1867:F1876,MATCH(\"A\",F1867:F1876,0)))=\"A\",\"A\",\"\"),_xlfn.IFNA(IF((INDEX(F1867:F1876,MATCH(\"n.a.\",F1867:F1876,0)))=\"n.a.\",\"\",\"\"),_xlfn.IFNA(IF((INDEX(F1867:F1876,MATCH(\"\",F1867:F1876,0)))=\"\",\"\",\"\"),\"\"))))))))))))","v":""},{"$f":"_xlfn.IFNA(IF((INDEX(G1867:G1876,MATCH(\"E\",G1867:G1876,0)))=\"E\",\"E\",\"\"),_xlfn.IFNA(IF((INDEX(G1867:G1876,MATCH(\"D\",G1867:G1876,0)))=\"D\",\"D\",\"\"),_xlfn.IFNA(IF((INDEX(G1867:G1876,MATCH(\"Ca\",G1867:G1876,0)))=\"Ca\",\"C\",\"\"),_xlfn.IFNA(IF((INDEX(G1867:G1876,MATCH(\"C\",G1867:G1876,0)))=\"C\",\"C\",\"\"),_xlfn.IFNA(IF((INDEX(G1867:G1876,MATCH(\"B\",G1867:G1876,0)))=\"B\",\"B\",\"\"),_xlfn.IFNA(IF((INDEX(G1867:G1876,MATCH(\"A\",G1867:G1876,0)))=\"A\",\"A\",\"\"),_xlfn.IFNA(IF((INDEX(G1867:G1876,MATCH(\"n.a.\",G1867:G1876,0)))=\"n.a.\",\"\",\"\"),_xlfn.IFNA(IF((INDEX(G1867:G1876,MATCH(\"\",G1867:G1876,0)))=\"\",\"\",\"\"),\"\"))))))))","v":""},{"$f":"_xlfn.IFNA(IF((INDEX(H1867:H1876,MATCH(\"E\",H1867:H1876,0)))=\"E\",\"E\",\"\"),_xlfn.IFNA(IF((INDEX(H1867:H1876,MATCH(\"D (E)c\",H1867:H1876,0)))=\"D (E)c\",\"D (E)c\",\"\"),_xlfn.IFNA(IF((INDEX(H1867:H1876,MATCH(\"Db (E)c\",H1867:H1876,0)))=\"Db (E)c\",\"D (E)c\",\"\"),_xlfn.IFNA(IF((INDEX(H1867:H1876,MATCH(\"D\",H1867:H1876,0)))=\"D\",\"D\",\"\"),_xlfn.IFNA(IF((INDEX(H1867:H1876,MATCH(\"Cb\",H1867:H1876,0)))=\"Cb\",\"C\",\"\"),_xlfn.IFNA(IF((INDEX(H1867:H1876,MATCH(\"C\",H1867:H1876,0)))=\"C\",\"C\",\"\"),_xlfn.IFNA(IF((INDEX(H1867:H1876,MATCH(\"Bb\",H1867:H1876,0)))=\"Bb\",\"B\",\"\"),_xlfn.IFNA(IF((INDEX(H1867:H1876,MATCH(\"B\",H1867:H1876,0)))=\"B\",\"B\",\"\"),_xlfn.IFNA(IF((INDEX(H1867:H1876,MATCH(\"Ab\",H1867:H1876,0)))=\"Ab\",\"A\",\"\"),_xlfn.IFNA(IF((INDEX(H1867:H1876,MATCH(\"A\",H1867:H1876,0)))=\"A\",\"A\",\"\"),_xlfn.IFNA(IF((INDEX(H1867:H1876,MATCH(\"n.a.\",H1867:H1876,0)))=\"n.a.\",\"\",\"\"),_xlfn.IFNA(IF((INDEX(H1867:H1876,MATCH(\"\",H1867:H1876,0)))=\"\",\"\",\"\"),\"\"))))))))))))","v":""}]
[null,"\nHighest hazard level for all 'Uptake Routes' \n",null,null,{"$f":"_xlfn.IFNA(IF((INDEX(E1877:H1877,MATCH(\"E\",E1877:H1877,0)))=\"E\",\"E\",\"\"),_xlfn.IFNA(IF((INDEX(E1877:H1877,MATCH(\"D (E)c\",E1877:H1877,0)))=\"D (E)c\",\"D (E)\",\"\"),_xlfn.IFNA(IF((INDEX(E1877:H1877,MATCH(\"D\",E1877:H1877,0)))=\"D\",\"D\",\"\"),_xlfn.IFNA(IF((INDEX(E1877:H1877,MATCH(\"C\",E1877:H1877,0)))=\"C\",\"C\",\"\"),_xlfn.IFNA(IF((INDEX(E1877:H1877,MATCH(\"B\",E1877:H1877,0)))=\"B\",\"B\",\"\"),_xlfn.IFNA(IF((INDEX(E1877:H1877,MATCH(\"A\",E1877:H1877,0)))=\"A\",\"A\",\"\"),_xlfn.IFNA(IF((INDEX(E1877:H1877,MATCH(\"n.a.\",E1877:H1877,0)))=\"n.a.\",\"\",\"\"),_xlfn.IFNA(IF((INDEX(E1877:H1877,MATCH(\"\",E1877:H1877,0)))=\"\",\"\",\"\"),\"\"))))))))","v":""}]
[]
[]
[null,"\nStep 3: D(E) Assessment\nSkip this step if \nyour assessment above does not reveal a D(E) hazard level.\nHover over this cell for additional instructions.\n",null,null,"\nOverall hazard level\n",null,{"$f":"IF(AND(E1878=\"\",C1864=\"Yes\")=TRUE,\"B\",IF(E1878=\"\",\"\",(IF(AND(E1878=\"D (E)\",C1881=\"\"),\"D (E)\"&CHAR(10)&\"Find if cat. 1 acute tox.\",(IF(E1878<>\"D (E)\",E1878,(IF(AND(E1878=\"D (E)\",C1881=\"Yes\"),\"E\",(IF(AND(E1878=\"D (E)\",C1881=\"No\"),\"D\",\"\"))))))))))","v":""}]
[]
[{"$f":"IF(IF(MOD(ROWS(B$3:B1883),20)=1,INDEX('Summary Sheet'!$A$17:$A1903,INT(ROWS(B$3:B1883)/20)+1),\"\")=0,\"\",IF(MOD(ROWS(B$3:B1883),20)=1,INDEX('Summary Sheet'!$A$17:$A1903,INT(ROWS(B$3:B1883)/20)+1),\"\"))","v":95},"Hazard Level Assessment","for",{"$f":"IF(IF(MOD(ROWS(D$3:D1883),20)=1,INDEX('Summary Sheet'!$B$17:$B1903,INT(ROWS(D$3:D1883)/20)+1),\"\")=0,\"\",IF(MOD(ROWS(D$3:D1883),20)=1,INDEX('Summary Sheet'!$B$17:$B1903,INT(ROWS(D$3:D1883)/20)+1),\"\"))","v":""}]
[null,"\nStep 1: Physical & Environmental Hazard Statements/Codes\nFind Section 2 of the SDS and determine if the SDS has physical and/or environmental hazard statements/codes. Hover on this cell for additional instructions.\n",null,{"$f":"IF(IF(MOD(ROWS(D$3:D1884),20)=1,INDEX('Summary Sheet'!$B$17:$B1903,INT(ROWS(D$3:D1884)/20)+1),\"\")=0,\"\",IF(MOD(ROWS(D$3:D1884),20)=1,INDEX('Summary Sheet'!$B$17:$B1903,INT(ROWS(D$3:D1884)/20)+1),\"\"))","v":""}]
[null,"Step 2: Health Hazard Statements/Codes\nProvide the Health Hazard Statements or Codes from Section 2 of the SDS below. Hover on this cell for additional instructions.",null,{"$f":"IF(IF(MOD(ROWS(D$3:D1885),20)=1,INDEX('Summary Sheet'!$B$17:$B1903,INT(ROWS(D$3:D1885)/20)+1),\"\")=0,\"\",IF(MOD(ROWS(D$3:D1885),20)=1,INDEX('Summary Sheet'!$B$17:$B1903,INT(ROWS(D$3:D1885)/20)+1),\"\"))","v":""},"\nHazard Level\n"]
[null,null,null,{"$f":"IF(IF(MOD(ROWS(D$3:D1886),20)=1,INDEX('Summary Sheet'!$B$17:$B1903,INT(ROWS(D$3:D1886)/20)+1),\"\")=0,\"\",IF(MOD(ROWS(D$3:D1886),20)=1,INDEX('Summary Sheet'!$B$17:$B1903,INT(ROWS(D$3:D1886)/20)+1),\"\"))","v":""},"\nEye Damage\n","\nInhalation\n","\nLocal Skin Damage\n","\nSkin uptake, systemic\n"]
[1,null,{"$f":"_xlfn.IFNA(VLOOKUP(B1887,_!$A$7:$F$210,6,FALSE),\"\")","v":""},{"$f":"IF(IF(MOD(ROWS(D$3:D1887),20)=1,INDEX('Summary Sheet'!$B$17:$B1903,INT(ROWS(D$3:D1887)/20)+1),\"\")=0,\"\",IF(MOD(ROWS(D$3:D1887),20)=1,INDEX('Summary Sheet'!$B$17:$B1903,INT(ROWS(D$3:D1887)/20)+1),\"\"))","v":""},{"$f":"_xlfn.IFNA(IF(VLOOKUP(B1887,_!$A$7:$E$210,2,FALSE)=0, \"\", VLOOKUP(B1887,_!$A$7:$E$210,2,FALSE)),  \"\")","v":""},{"$f":"_xlfn.IFNA(IF(VLOOKUP(B1887,_!$A$7:$E$210,3,FALSE)=0, \"\", VLOOKUP(B1887,_!$A$7:$E$210,3,FALSE)), \"\")","v":""},{"$f":"_xlfn.IFNA(IF(VLOOKUP(B1887,_!$A$7:$E$210,4,FALSE)=0, \"\",VLOOKUP(B1887,_!$A$7:$E$210,4,FALSE)), \"\")","v":""},{"$f":"_xlfn.IFNA(IF(VLOOKUP(B1887,_!$A$7:$E$210,5,FALSE)=0,\"\",VLOOKUP(B1887,_!$A$7:$E$210,5,FALSE)), \"\")","v":""}]
[2,null,{"$f":"_xlfn.IFNA(VLOOKUP(B1888,_!$A$7:$F$210,6,FALSE),\"\")","v":""},{"$f":"IF(IF(MOD(ROWS(D$3:D1888),20)=1,INDEX('Summary Sheet'!$B$17:$B1903,INT(ROWS(D$3:D1888)/20)+1),\"\")=0,\"\",IF(MOD(ROWS(D$3:D1888),20)=1,INDEX('Summary Sheet'!$B$17:$B1903,INT(ROWS(D$3:D1888)/20)+1),\"\"))","v":""},{"$f":"_xlfn.IFNA(IF(VLOOKUP(B1888,_!$A$7:$E$210,2,FALSE)=0, \"\", VLOOKUP(B1888,_!$A$7:$E$210,2,FALSE)),  \"\")","v":""},{"$f":"_xlfn.IFNA(IF(VLOOKUP(B1888,_!$A$7:$E$210,3,FALSE)=0, \"\", VLOOKUP(B1888,_!$A$7:$E$210,3,FALSE)), \"\")","v":""},{"$f":"_xlfn.IFNA(IF(VLOOKUP(B1888,_!$A$7:$E$210,4,FALSE)=0, \"\",VLOOKUP(B1888,_!$A$7:$E$210,4,FALSE)), \"\")","v":""},{"$f":"_xlfn.IFNA(IF(VLOOKUP(B1888,_!$A$7:$E$210,5,FALSE)=0,\"\",VLOOKUP(B1888,_!$A$7:$E$210,5,FALSE)), \"\")","v":""}]
[3,null,{"$f":"_xlfn.IFNA(VLOOKUP(B1889,_!$A$7:$F$210,6,FALSE),\"\")","v":""},{"$f":"IF(IF(MOD(ROWS(D$3:D1889),20)=1,INDEX('Summary Sheet'!$B$17:$B1903,INT(ROWS(D$3:D1889)/20)+1),\"\")=0,\"\",IF(MOD(ROWS(D$3:D1889),20)=1,INDEX('Summary Sheet'!$B$17:$B1903,INT(ROWS(D$3:D1889)/20)+1),\"\"))","v":""},{"$f":"_xlfn.IFNA(IF(VLOOKUP(B1889,_!$A$7:$E$210,2,FALSE)=0, \"\", VLOOKUP(B1889,_!$A$7:$E$210,2,FALSE)),  \"\")","v":""},{"$f":"_xlfn.IFNA(IF(VLOOKUP(B1889,_!$A$7:$E$210,3,FALSE)=0, \"\", VLOOKUP(B1889,_!$A$7:$E$210,3,FALSE)), \"\")","v":""},{"$f":"_xlfn.IFNA(IF(VLOOKUP(B1889,_!$A$7:$E$210,4,FALSE)=0, \"\",VLOOKUP(B1889,_!$A$7:$E$210,4,FALSE)), \"\")","v":""},{"$f":"_xlfn.IFNA(IF(VLOOKUP(B1889,_!$A$7:$E$210,5,FALSE)=0,\"\",VLOOKUP(B1889,_!$A$7:$E$210,5,FALSE)), \"\")","v":""}]
[4,null,{"$f":"_xlfn.IFNA(VLOOKUP(B1890,_!$A$7:$F$210,6,FALSE),\"\")","v":""},{"$f":"IF(IF(MOD(ROWS(D$3:D1890),20)=1,INDEX('Summary Sheet'!$B$17:$B1903,INT(ROWS(D$3:D1890)/20)+1),\"\")=0,\"\",IF(MOD(ROWS(D$3:D1890),20)=1,INDEX('Summary Sheet'!$B$17:$B1903,INT(ROWS(D$3:D1890)/20)+1),\"\"))","v":""},{"$f":"_xlfn.IFNA(IF(VLOOKUP(B1890,_!$A$7:$E$210,2,FALSE)=0, \"\", VLOOKUP(B1890,_!$A$7:$E$210,2,FALSE)),  \"\")","v":""},{"$f":"_xlfn.IFNA(IF(VLOOKUP(B1890,_!$A$7:$E$210,3,FALSE)=0, \"\", VLOOKUP(B1890,_!$A$7:$E$210,3,FALSE)), \"\")","v":""},{"$f":"_xlfn.IFNA(IF(VLOOKUP(B1890,_!$A$7:$E$210,4,FALSE)=0, \"\",VLOOKUP(B1890,_!$A$7:$E$210,4,FALSE)), \"\")","v":""},{"$f":"_xlfn.IFNA(IF(VLOOKUP(B1890,_!$A$7:$E$210,5,FALSE)=0,\"\",VLOOKUP(B1890,_!$A$7:$E$210,5,FALSE)), \"\")","v":""}]
[5,null,{"$f":"_xlfn.IFNA(VLOOKUP(B1891,_!$A$7:$F$210,6,FALSE),\"\")","v":""},{"$f":"IF(IF(MOD(ROWS(D$3:D1891),20)=1,INDEX('Summary Sheet'!$B$17:$B1903,INT(ROWS(D$3:D1891)/20)+1),\"\")=0,\"\",IF(MOD(ROWS(D$3:D1891),20)=1,INDEX('Summary Sheet'!$B$17:$B1903,INT(ROWS(D$3:D1891)/20)+1),\"\"))","v":""},{"$f":"_xlfn.IFNA(IF(VLOOKUP(B1891,_!$A$7:$E$210,2,FALSE)=0, \"\", VLOOKUP(B1891,_!$A$7:$E$210,2,FALSE)),  \"\")","v":""},{"$f":"_xlfn.IFNA(IF(VLOOKUP(B1891,_!$A$7:$E$210,3,FALSE)=0, \"\", VLOOKUP(B1891,_!$A$7:$E$210,3,FALSE)), \"\")","v":""},{"$f":"_xlfn.IFNA(IF(VLOOKUP(B1891,_!$A$7:$E$210,4,FALSE)=0, \"\",VLOOKUP(B1891,_!$A$7:$E$210,4,FALSE)), \"\")","v":""},{"$f":"_xlfn.IFNA(IF(VLOOKUP(B1891,_!$A$7:$E$210,5,FALSE)=0,\"\",VLOOKUP(B1891,_!$A$7:$E$210,5,FALSE)), \"\")","v":""}]
[6,null,{"$f":"_xlfn.IFNA(VLOOKUP(B1892,_!$A$7:$F$210,6,FALSE),\"\")","v":""},{"$f":"IF(IF(MOD(ROWS(D$3:D1892),20)=1,INDEX('Summary Sheet'!$B$17:$B1903,INT(ROWS(D$3:D1892)/20)+1),\"\")=0,\"\",IF(MOD(ROWS(D$3:D1892),20)=1,INDEX('Summary Sheet'!$B$17:$B1903,INT(ROWS(D$3:D1892)/20)+1),\"\"))","v":""},{"$f":"_xlfn.IFNA(IF(VLOOKUP(B1892,_!$A$7:$E$210,2,FALSE)=0, \"\", VLOOKUP(B1892,_!$A$7:$E$210,2,FALSE)),  \"\")","v":""},{"$f":"_xlfn.IFNA(IF(VLOOKUP(B1892,_!$A$7:$E$210,3,FALSE)=0, \"\", VLOOKUP(B1892,_!$A$7:$E$210,3,FALSE)), \"\")","v":""},{"$f":"_xlfn.IFNA(IF(VLOOKUP(B1892,_!$A$7:$E$210,4,FALSE)=0, \"\",VLOOKUP(B1892,_!$A$7:$E$210,4,FALSE)), \"\")","v":""},{"$f":"_xlfn.IFNA(IF(VLOOKUP(B1892,_!$A$7:$E$210,5,FALSE)=0,\"\",VLOOKUP(B1892,_!$A$7:$E$210,5,FALSE)), \"\")","v":""}]
[7,null,{"$f":"_xlfn.IFNA(VLOOKUP(B1893,_!$A$7:$F$210,6,FALSE),\"\")","v":""},{"$f":"IF(IF(MOD(ROWS(D$3:D1893),20)=1,INDEX('Summary Sheet'!$B$17:$B1903,INT(ROWS(D$3:D1893)/20)+1),\"\")=0,\"\",IF(MOD(ROWS(D$3:D1893),20)=1,INDEX('Summary Sheet'!$B$17:$B1903,INT(ROWS(D$3:D1893)/20)+1),\"\"))","v":""},{"$f":"_xlfn.IFNA(IF(VLOOKUP(B1893,_!$A$7:$E$210,2,FALSE)=0, \"\", VLOOKUP(B1893,_!$A$7:$E$210,2,FALSE)),  \"\")","v":""},{"$f":"_xlfn.IFNA(IF(VLOOKUP(B1893,_!$A$7:$E$210,3,FALSE)=0, \"\", VLOOKUP(B1893,_!$A$7:$E$210,3,FALSE)), \"\")","v":""},{"$f":"_xlfn.IFNA(IF(VLOOKUP(B1893,_!$A$7:$E$210,4,FALSE)=0, \"\",VLOOKUP(B1893,_!$A$7:$E$210,4,FALSE)), \"\")","v":""},{"$f":"_xlfn.IFNA(IF(VLOOKUP(B1893,_!$A$7:$E$210,5,FALSE)=0,\"\",VLOOKUP(B1893,_!$A$7:$E$210,5,FALSE)), \"\")","v":""}]
[8,null,{"$f":"_xlfn.IFNA(VLOOKUP(B1894,_!$A$7:$F$210,6,FALSE),\"\")","v":""},{"$f":"IF(IF(MOD(ROWS(D$3:D1894),20)=1,INDEX('Summary Sheet'!$B$17:$B1903,INT(ROWS(D$3:D1894)/20)+1),\"\")=0,\"\",IF(MOD(ROWS(D$3:D1894),20)=1,INDEX('Summary Sheet'!$B$17:$B1903,INT(ROWS(D$3:D1894)/20)+1),\"\"))","v":""},{"$f":"_xlfn.IFNA(IF(VLOOKUP(B1894,_!$A$7:$E$210,2,FALSE)=0, \"\", VLOOKUP(B1894,_!$A$7:$E$210,2,FALSE)),  \"\")","v":""},{"$f":"_xlfn.IFNA(IF(VLOOKUP(B1894,_!$A$7:$E$210,3,FALSE)=0, \"\", VLOOKUP(B1894,_!$A$7:$E$210,3,FALSE)), \"\")","v":""},{"$f":"_xlfn.IFNA(IF(VLOOKUP(B1894,_!$A$7:$E$210,4,FALSE)=0, \"\",VLOOKUP(B1894,_!$A$7:$E$210,4,FALSE)), \"\")","v":""},{"$f":"_xlfn.IFNA(IF(VLOOKUP(B1894,_!$A$7:$E$210,5,FALSE)=0,\"\",VLOOKUP(B1894,_!$A$7:$E$210,5,FALSE)), \"\")","v":""}]
[9,null,{"$f":"_xlfn.IFNA(VLOOKUP(B1895,_!$A$7:$F$210,6,FALSE),\"\")","v":""},{"$f":"IF(IF(MOD(ROWS(D$3:D1895),20)=1,INDEX('Summary Sheet'!$B$17:$B1903,INT(ROWS(D$3:D1895)/20)+1),\"\")=0,\"\",IF(MOD(ROWS(D$3:D1895),20)=1,INDEX('Summary Sheet'!$B$17:$B1903,INT(ROWS(D$3:D1895)/20)+1),\"\"))","v":""},{"$f":"_xlfn.IFNA(IF(VLOOKUP(B1895,_!$A$7:$E$210,2,FALSE)=0, \"\", VLOOKUP(B1895,_!$A$7:$E$210,2,FALSE)),  \"\")","v":""},{"$f":"_xlfn.IFNA(IF(VLOOKUP(B1895,_!$A$7:$E$210,3,FALSE)=0, \"\", VLOOKUP(B1895,_!$A$7:$E$210,3,FALSE)), \"\")","v":""},{"$f":"_xlfn.IFNA(IF(VLOOKUP(B1895,_!$A$7:$E$210,4,FALSE)=0, \"\",VLOOKUP(B1895,_!$A$7:$E$210,4,FALSE)), \"\")","v":""},{"$f":"_xlfn.IFNA(IF(VLOOKUP(B1895,_!$A$7:$E$210,5,FALSE)=0,\"\",VLOOKUP(B1895,_!$A$7:$E$210,5,FALSE)), \"\")","v":""}]
[10,null,{"$f":"_xlfn.IFNA(VLOOKUP(B1896,_!$A$7:$F$210,6,FALSE),\"\")","v":""},{"$f":"IF(IF(MOD(ROWS(D$14:D1896),20)=1,INDEX('Summary Sheet'!$B$17:$B1903,INT(ROWS(D$14:D1896)/20)+1),\"\")=0,\"\",IF(MOD(ROWS(D$14:D1896),20)=1,INDEX('Summary Sheet'!$B$17:$B1903,INT(ROWS(D$14:D1896)/20)+1),\"\"))","v":""},{"$f":"_xlfn.IFNA(IF(VLOOKUP(B1896,_!$A$7:$E$210,2,FALSE)=0, \"\", VLOOKUP(B1896,_!$A$7:$E$210,2,FALSE)),  \"\")","v":""},{"$f":"_xlfn.IFNA(IF(VLOOKUP(B1896,_!$A$7:$E$210,3,FALSE)=0, \"\", VLOOKUP(B1896,_!$A$7:$E$210,3,FALSE)), \"\")","v":""},{"$f":"_xlfn.IFNA(IF(VLOOKUP(B1896,_!$A$7:$E$210,4,FALSE)=0, \"\",VLOOKUP(B1896,_!$A$7:$E$210,4,FALSE)), \"\")","v":""},{"$f":"_xlfn.IFNA(IF(VLOOKUP(B1896,_!$A$7:$E$210,5,FALSE)=0,\"\",VLOOKUP(B1896,_!$A$7:$E$210,5,FALSE)), \"\")","v":""}]
[null,"\nHighest hazard level for each ‘Uptake Route’\n",null,null,{"$f":"_xlfn.IFNA(IF((INDEX(E1887:E1896,MATCH(\"E\",E1887:E1896,0)))=\"E\",\"E\",\"\"),_xlfn.IFNA(IF((INDEX(E1887:E1896,MATCH(\"D\",E1887:E1896,0)))=\"D\",\"D\",\"\"),_xlfn.IFNA(IF((INDEX(E1887:E1896,MATCH(\"Ca\",E1887:E1896,0)))=\"Ca\",\"C\",\"\"),_xlfn.IFNA(IF((INDEX(E1887:E1896,MATCH(\"C\",E1887:E1896,0)))=\"C\",\"C\",\"\"),_xlfn.IFNA(IF((INDEX(E1887:E1896,MATCH(\"B\",E1887:E1896,0)))=\"B\",\"B\",\"\"),_xlfn.IFNA(IF((INDEX(E1887:E1896,MATCH(\"A\",E1887:E1896,0)))=\"A\",\"A\",\"\"),_xlfn.IFNA(IF((INDEX(E1887:E1896,MATCH(\"n.a.\",E1887:E1896,0)))=\"n.a.\",\"\",\"\"),_xlfn.IFNA(IF((INDEX(E1887:E1896,MATCH(\"\",E1887:E1896,0)))=\"\",\"\",\"\"),\"\"))))))))","v":""},{"$f":"_xlfn.IFNA(IF((INDEX(F1887:F1896,MATCH(\"E\",F1887:F1896,0)))=\"E\",\"E\",\"\"),_xlfn.IFNA(IF((INDEX(F1887:F1896,MATCH(\"D (E)c\",F1887:F1896,0)))=\"D (E)c\",\"D (E)c\",\"\"),_xlfn.IFNA(IF((INDEX(F1887:F1896,MATCH(\"Da (E)c\",F1887:F1896,0)))=\"Da (E)c\",\"D (E)c\",\"\"),_xlfn.IFNA(IF((INDEX(F1887:F1896,MATCH(\"D\",F1887:F1896,0)))=\"D\",\"D\",\"\"),_xlfn.IFNA(IF((INDEX(F1887:F1896,MATCH(\"Ca\",F1887:F1896,0)))=\"Ca\",\"C\",\"\"),_xlfn.IFNA(IF((INDEX(F1887:F1896,MATCH(\"C\",F1887:F1896,0)))=\"C\",\"C\",\"\"),_xlfn.IFNA(IF((INDEX(F1887:F1896,MATCH(\"Ba\",F1887:F1896,0)))=\"Ba\",\"B\",\"\"),_xlfn.IFNA(IF((INDEX(F1887:F1896,MATCH(\"B\",F1887:F1896,0)))=\"B\",\"B\",\"\"),_xlfn.IFNA(IF((INDEX(F1887:F1896,MATCH(\"Aa\",F1887:F1896,0)))=\"Aa\",\"A\",\"\"),_xlfn.IFNA(IF((INDEX(F1887:F1896,MATCH(\"A\",F1887:F1896,0)))=\"A\",\"A\",\"\"),_xlfn.IFNA(IF((INDEX(F1887:F1896,MATCH(\"n.a.\",F1887:F1896,0)))=\"n.a.\",\"\",\"\"),_xlfn.IFNA(IF((INDEX(F1887:F1896,MATCH(\"\",F1887:F1896,0)))=\"\",\"\",\"\"),\"\"))))))))))))","v":""},{"$f":"_xlfn.IFNA(IF((INDEX(G1887:G1896,MATCH(\"E\",G1887:G1896,0)))=\"E\",\"E\",\"\"),_xlfn.IFNA(IF((INDEX(G1887:G1896,MATCH(\"D\",G1887:G1896,0)))=\"D\",\"D\",\"\"),_xlfn.IFNA(IF((INDEX(G1887:G1896,MATCH(\"Ca\",G1887:G1896,0)))=\"Ca\",\"C\",\"\"),_xlfn.IFNA(IF((INDEX(G1887:G1896,MATCH(\"C\",G1887:G1896,0)))=\"C\",\"C\",\"\"),_xlfn.IFNA(IF((INDEX(G1887:G1896,MATCH(\"B\",G1887:G1896,0)))=\"B\",\"B\",\"\"),_xlfn.IFNA(IF((INDEX(G1887:G1896,MATCH(\"A\",G1887:G1896,0)))=\"A\",\"A\",\"\"),_xlfn.IFNA(IF((INDEX(G1887:G1896,MATCH(\"n.a.\",G1887:G1896,0)))=\"n.a.\",\"\",\"\"),_xlfn.IFNA(IF((INDEX(G1887:G1896,MATCH(\"\",G1887:G1896,0)))=\"\",\"\",\"\"),\"\"))))))))","v":""},{"$f":"_xlfn.IFNA(IF((INDEX(H1887:H1896,MATCH(\"E\",H1887:H1896,0)))=\"E\",\"E\",\"\"),_xlfn.IFNA(IF((INDEX(H1887:H1896,MATCH(\"D (E)c\",H1887:H1896,0)))=\"D (E)c\",\"D (E)c\",\"\"),_xlfn.IFNA(IF((INDEX(H1887:H1896,MATCH(\"Db (E)c\",H1887:H1896,0)))=\"Db (E)c\",\"D (E)c\",\"\"),_xlfn.IFNA(IF((INDEX(H1887:H1896,MATCH(\"D\",H1887:H1896,0)))=\"D\",\"D\",\"\"),_xlfn.IFNA(IF((INDEX(H1887:H1896,MATCH(\"Cb\",H1887:H1896,0)))=\"Cb\",\"C\",\"\"),_xlfn.IFNA(IF((INDEX(H1887:H1896,MATCH(\"C\",H1887:H1896,0)))=\"C\",\"C\",\"\"),_xlfn.IFNA(IF((INDEX(H1887:H1896,MATCH(\"Bb\",H1887:H1896,0)))=\"Bb\",\"B\",\"\"),_xlfn.IFNA(IF((INDEX(H1887:H1896,MATCH(\"B\",H1887:H1896,0)))=\"B\",\"B\",\"\"),_xlfn.IFNA(IF((INDEX(H1887:H1896,MATCH(\"Ab\",H1887:H1896,0)))=\"Ab\",\"A\",\"\"),_xlfn.IFNA(IF((INDEX(H1887:H1896,MATCH(\"A\",H1887:H1896,0)))=\"A\",\"A\",\"\"),_xlfn.IFNA(IF((INDEX(H1887:H1896,MATCH(\"n.a.\",H1887:H1896,0)))=\"n.a.\",\"\",\"\"),_xlfn.IFNA(IF((INDEX(H1887:H1896,MATCH(\"\",H1887:H1896,0)))=\"\",\"\",\"\"),\"\"))))))))))))","v":""}]
[null,"\nHighest hazard level for all 'Uptake Routes' \n",null,null,{"$f":"_xlfn.IFNA(IF((INDEX(E1897:H1897,MATCH(\"E\",E1897:H1897,0)))=\"E\",\"E\",\"\"),_xlfn.IFNA(IF((INDEX(E1897:H1897,MATCH(\"D (E)c\",E1897:H1897,0)))=\"D (E)c\",\"D (E)\",\"\"),_xlfn.IFNA(IF((INDEX(E1897:H1897,MATCH(\"D\",E1897:H1897,0)))=\"D\",\"D\",\"\"),_xlfn.IFNA(IF((INDEX(E1897:H1897,MATCH(\"C\",E1897:H1897,0)))=\"C\",\"C\",\"\"),_xlfn.IFNA(IF((INDEX(E1897:H1897,MATCH(\"B\",E1897:H1897,0)))=\"B\",\"B\",\"\"),_xlfn.IFNA(IF((INDEX(E1897:H1897,MATCH(\"A\",E1897:H1897,0)))=\"A\",\"A\",\"\"),_xlfn.IFNA(IF((INDEX(E1897:H1897,MATCH(\"n.a.\",E1897:H1897,0)))=\"n.a.\",\"\",\"\"),_xlfn.IFNA(IF((INDEX(E1897:H1897,MATCH(\"\",E1897:H1897,0)))=\"\",\"\",\"\"),\"\"))))))))","v":""}]
[]
[]
[null,"\nStep 3: D(E) Assessment\nSkip this step if \nyour assessment above does not reveal a D(E) hazard level.\nHover over this cell for additional instructions.\n",null,null,"\nOverall hazard level\n",null,{"$f":"IF(AND(E1898=\"\",C1884=\"Yes\")=TRUE,\"B\",IF(E1898=\"\",\"\",(IF(AND(E1898=\"D (E)\",C1901=\"\"),\"D (E)\"&CHAR(10)&\"Find if cat. 1 acute tox.\",(IF(E1898<>\"D (E)\",E1898,(IF(AND(E1898=\"D (E)\",C1901=\"Yes\"),\"E\",(IF(AND(E1898=\"D (E)\",C1901=\"No\"),\"D\",\"\"))))))))))","v":""}]
[]
[{"$f":"IF(IF(MOD(ROWS(B$3:B1903),20)=1,INDEX('Summary Sheet'!$A$17:$A1922,INT(ROWS(B$3:B1903)/20)+1),\"\")=0,\"\",IF(MOD(ROWS(B$3:B1903),20)=1,INDEX('Summary Sheet'!$A$17:$A1922,INT(ROWS(B$3:B1903)/20)+1),\"\"))","v":96},"Hazard Level Assessment","for",{"$f":"IF(IF(MOD(ROWS(D$3:D1903),20)=1,INDEX('Summary Sheet'!$B$17:$B1922,INT(ROWS(D$3:D1903)/20)+1),\"\")=0,\"\",IF(MOD(ROWS(D$3:D1903),20)=1,INDEX('Summary Sheet'!$B$17:$B1922,INT(ROWS(D$3:D1903)/20)+1),\"\"))","v":""}]
[null,"\nStep 1: Physical & Environmental Hazard Statements/Codes\nFind Section 2 of the SDS and determine if the SDS has physical and/or environmental hazard statements/codes. Hover on this cell for additional instructions.\n",null,{"$f":"IF(IF(MOD(ROWS(D$3:D1904),20)=1,INDEX('Summary Sheet'!$B$17:$B1922,INT(ROWS(D$3:D1904)/20)+1),\"\")=0,\"\",IF(MOD(ROWS(D$3:D1904),20)=1,INDEX('Summary Sheet'!$B$17:$B1922,INT(ROWS(D$3:D1904)/20)+1),\"\"))","v":""}]
[null,"Step 2: Health Hazard Statements/Codes\nProvide the Health Hazard Statements or Codes from Section 2 of the SDS below. Hover on this cell for additional instructions.",null,{"$f":"IF(IF(MOD(ROWS(D$3:D1905),20)=1,INDEX('Summary Sheet'!$B$17:$B1922,INT(ROWS(D$3:D1905)/20)+1),\"\")=0,\"\",IF(MOD(ROWS(D$3:D1905),20)=1,INDEX('Summary Sheet'!$B$17:$B1922,INT(ROWS(D$3:D1905)/20)+1),\"\"))","v":""},"\nHazard Level\n"]
[null,null,null,{"$f":"IF(IF(MOD(ROWS(D$3:D1906),20)=1,INDEX('Summary Sheet'!$B$17:$B1922,INT(ROWS(D$3:D1906)/20)+1),\"\")=0,\"\",IF(MOD(ROWS(D$3:D1906),20)=1,INDEX('Summary Sheet'!$B$17:$B1922,INT(ROWS(D$3:D1906)/20)+1),\"\"))","v":""},"\nEye Damage\n","\nInhalation\n","\nLocal Skin Damage\n","\nSkin uptake, systemic\n"]
[1,null,{"$f":"_xlfn.IFNA(VLOOKUP(B1907,_!$A$7:$F$210,6,FALSE),\"\")","v":""},{"$f":"IF(IF(MOD(ROWS(D$3:D1907),20)=1,INDEX('Summary Sheet'!$B$17:$B1922,INT(ROWS(D$3:D1907)/20)+1),\"\")=0,\"\",IF(MOD(ROWS(D$3:D1907),20)=1,INDEX('Summary Sheet'!$B$17:$B1922,INT(ROWS(D$3:D1907)/20)+1),\"\"))","v":""},{"$f":"_xlfn.IFNA(IF(VLOOKUP(B1907,_!$A$7:$E$210,2,FALSE)=0, \"\", VLOOKUP(B1907,_!$A$7:$E$210,2,FALSE)),  \"\")","v":""},{"$f":"_xlfn.IFNA(IF(VLOOKUP(B1907,_!$A$7:$E$210,3,FALSE)=0, \"\", VLOOKUP(B1907,_!$A$7:$E$210,3,FALSE)), \"\")","v":""},{"$f":"_xlfn.IFNA(IF(VLOOKUP(B1907,_!$A$7:$E$210,4,FALSE)=0, \"\",VLOOKUP(B1907,_!$A$7:$E$210,4,FALSE)), \"\")","v":""},{"$f":"_xlfn.IFNA(IF(VLOOKUP(B1907,_!$A$7:$E$210,5,FALSE)=0,\"\",VLOOKUP(B1907,_!$A$7:$E$210,5,FALSE)), \"\")","v":""}]
[2,null,{"$f":"_xlfn.IFNA(VLOOKUP(B1908,_!$A$7:$F$210,6,FALSE),\"\")","v":""},{"$f":"IF(IF(MOD(ROWS(D$3:D1908),20)=1,INDEX('Summary Sheet'!$B$17:$B1922,INT(ROWS(D$3:D1908)/20)+1),\"\")=0,\"\",IF(MOD(ROWS(D$3:D1908),20)=1,INDEX('Summary Sheet'!$B$17:$B1922,INT(ROWS(D$3:D1908)/20)+1),\"\"))","v":""},{"$f":"_xlfn.IFNA(IF(VLOOKUP(B1908,_!$A$7:$E$210,2,FALSE)=0, \"\", VLOOKUP(B1908,_!$A$7:$E$210,2,FALSE)),  \"\")","v":""},{"$f":"_xlfn.IFNA(IF(VLOOKUP(B1908,_!$A$7:$E$210,3,FALSE)=0, \"\", VLOOKUP(B1908,_!$A$7:$E$210,3,FALSE)), \"\")","v":""},{"$f":"_xlfn.IFNA(IF(VLOOKUP(B1908,_!$A$7:$E$210,4,FALSE)=0, \"\",VLOOKUP(B1908,_!$A$7:$E$210,4,FALSE)), \"\")","v":""},{"$f":"_xlfn.IFNA(IF(VLOOKUP(B1908,_!$A$7:$E$210,5,FALSE)=0,\"\",VLOOKUP(B1908,_!$A$7:$E$210,5,FALSE)), \"\")","v":""}]
[3,null,{"$f":"_xlfn.IFNA(VLOOKUP(B1909,_!$A$7:$F$210,6,FALSE),\"\")","v":""},{"$f":"IF(IF(MOD(ROWS(D$3:D1909),20)=1,INDEX('Summary Sheet'!$B$17:$B1922,INT(ROWS(D$3:D1909)/20)+1),\"\")=0,\"\",IF(MOD(ROWS(D$3:D1909),20)=1,INDEX('Summary Sheet'!$B$17:$B1922,INT(ROWS(D$3:D1909)/20)+1),\"\"))","v":""},{"$f":"_xlfn.IFNA(IF(VLOOKUP(B1909,_!$A$7:$E$210,2,FALSE)=0, \"\", VLOOKUP(B1909,_!$A$7:$E$210,2,FALSE)),  \"\")","v":""},{"$f":"_xlfn.IFNA(IF(VLOOKUP(B1909,_!$A$7:$E$210,3,FALSE)=0, \"\", VLOOKUP(B1909,_!$A$7:$E$210,3,FALSE)), \"\")","v":""},{"$f":"_xlfn.IFNA(IF(VLOOKUP(B1909,_!$A$7:$E$210,4,FALSE)=0, \"\",VLOOKUP(B1909,_!$A$7:$E$210,4,FALSE)), \"\")","v":""},{"$f":"_xlfn.IFNA(IF(VLOOKUP(B1909,_!$A$7:$E$210,5,FALSE)=0,\"\",VLOOKUP(B1909,_!$A$7:$E$210,5,FALSE)), \"\")","v":""}]
[4,null,{"$f":"_xlfn.IFNA(VLOOKUP(B1910,_!$A$7:$F$210,6,FALSE),\"\")","v":""},{"$f":"IF(IF(MOD(ROWS(D$3:D1910),20)=1,INDEX('Summary Sheet'!$B$17:$B1922,INT(ROWS(D$3:D1910)/20)+1),\"\")=0,\"\",IF(MOD(ROWS(D$3:D1910),20)=1,INDEX('Summary Sheet'!$B$17:$B1922,INT(ROWS(D$3:D1910)/20)+1),\"\"))","v":""},{"$f":"_xlfn.IFNA(IF(VLOOKUP(B1910,_!$A$7:$E$210,2,FALSE)=0, \"\", VLOOKUP(B1910,_!$A$7:$E$210,2,FALSE)),  \"\")","v":""},{"$f":"_xlfn.IFNA(IF(VLOOKUP(B1910,_!$A$7:$E$210,3,FALSE)=0, \"\", VLOOKUP(B1910,_!$A$7:$E$210,3,FALSE)), \"\")","v":""},{"$f":"_xlfn.IFNA(IF(VLOOKUP(B1910,_!$A$7:$E$210,4,FALSE)=0, \"\",VLOOKUP(B1910,_!$A$7:$E$210,4,FALSE)), \"\")","v":""},{"$f":"_xlfn.IFNA(IF(VLOOKUP(B1910,_!$A$7:$E$210,5,FALSE)=0,\"\",VLOOKUP(B1910,_!$A$7:$E$210,5,FALSE)), \"\")","v":""}]
[5,null,{"$f":"_xlfn.IFNA(VLOOKUP(B1911,_!$A$7:$F$210,6,FALSE),\"\")","v":""},{"$f":"IF(IF(MOD(ROWS(D$3:D1911),20)=1,INDEX('Summary Sheet'!$B$17:$B1922,INT(ROWS(D$3:D1911)/20)+1),\"\")=0,\"\",IF(MOD(ROWS(D$3:D1911),20)=1,INDEX('Summary Sheet'!$B$17:$B1922,INT(ROWS(D$3:D1911)/20)+1),\"\"))","v":""},{"$f":"_xlfn.IFNA(IF(VLOOKUP(B1911,_!$A$7:$E$210,2,FALSE)=0, \"\", VLOOKUP(B1911,_!$A$7:$E$210,2,FALSE)),  \"\")","v":""},{"$f":"_xlfn.IFNA(IF(VLOOKUP(B1911,_!$A$7:$E$210,3,FALSE)=0, \"\", VLOOKUP(B1911,_!$A$7:$E$210,3,FALSE)), \"\")","v":""},{"$f":"_xlfn.IFNA(IF(VLOOKUP(B1911,_!$A$7:$E$210,4,FALSE)=0, \"\",VLOOKUP(B1911,_!$A$7:$E$210,4,FALSE)), \"\")","v":""},{"$f":"_xlfn.IFNA(IF(VLOOKUP(B1911,_!$A$7:$E$210,5,FALSE)=0,\"\",VLOOKUP(B1911,_!$A$7:$E$210,5,FALSE)), \"\")","v":""}]
[6,null,{"$f":"_xlfn.IFNA(VLOOKUP(B1912,_!$A$7:$F$210,6,FALSE),\"\")","v":""},{"$f":"IF(IF(MOD(ROWS(D$3:D1912),20)=1,INDEX('Summary Sheet'!$B$17:$B1922,INT(ROWS(D$3:D1912)/20)+1),\"\")=0,\"\",IF(MOD(ROWS(D$3:D1912),20)=1,INDEX('Summary Sheet'!$B$17:$B1922,INT(ROWS(D$3:D1912)/20)+1),\"\"))","v":""},{"$f":"_xlfn.IFNA(IF(VLOOKUP(B1912,_!$A$7:$E$210,2,FALSE)=0, \"\", VLOOKUP(B1912,_!$A$7:$E$210,2,FALSE)),  \"\")","v":""},{"$f":"_xlfn.IFNA(IF(VLOOKUP(B1912,_!$A$7:$E$210,3,FALSE)=0, \"\", VLOOKUP(B1912,_!$A$7:$E$210,3,FALSE)), \"\")","v":""},{"$f":"_xlfn.IFNA(IF(VLOOKUP(B1912,_!$A$7:$E$210,4,FALSE)=0, \"\",VLOOKUP(B1912,_!$A$7:$E$210,4,FALSE)), \"\")","v":""},{"$f":"_xlfn.IFNA(IF(VLOOKUP(B1912,_!$A$7:$E$210,5,FALSE)=0,\"\",VLOOKUP(B1912,_!$A$7:$E$210,5,FALSE)), \"\")","v":""}]
[7,null,{"$f":"_xlfn.IFNA(VLOOKUP(B1913,_!$A$7:$F$210,6,FALSE),\"\")","v":""},{"$f":"IF(IF(MOD(ROWS(D$3:D1913),20)=1,INDEX('Summary Sheet'!$B$17:$B1922,INT(ROWS(D$3:D1913)/20)+1),\"\")=0,\"\",IF(MOD(ROWS(D$3:D1913),20)=1,INDEX('Summary Sheet'!$B$17:$B1922,INT(ROWS(D$3:D1913)/20)+1),\"\"))","v":""},{"$f":"_xlfn.IFNA(IF(VLOOKUP(B1913,_!$A$7:$E$210,2,FALSE)=0, \"\", VLOOKUP(B1913,_!$A$7:$E$210,2,FALSE)),  \"\")","v":""},{"$f":"_xlfn.IFNA(IF(VLOOKUP(B1913,_!$A$7:$E$210,3,FALSE)=0, \"\", VLOOKUP(B1913,_!$A$7:$E$210,3,FALSE)), \"\")","v":""},{"$f":"_xlfn.IFNA(IF(VLOOKUP(B1913,_!$A$7:$E$210,4,FALSE)=0, \"\",VLOOKUP(B1913,_!$A$7:$E$210,4,FALSE)), \"\")","v":""},{"$f":"_xlfn.IFNA(IF(VLOOKUP(B1913,_!$A$7:$E$210,5,FALSE)=0,\"\",VLOOKUP(B1913,_!$A$7:$E$210,5,FALSE)), \"\")","v":""}]
[8,null,{"$f":"_xlfn.IFNA(VLOOKUP(B1914,_!$A$7:$F$210,6,FALSE),\"\")","v":""},{"$f":"IF(IF(MOD(ROWS(D$3:D1914),20)=1,INDEX('Summary Sheet'!$B$17:$B1922,INT(ROWS(D$3:D1914)/20)+1),\"\")=0,\"\",IF(MOD(ROWS(D$3:D1914),20)=1,INDEX('Summary Sheet'!$B$17:$B1922,INT(ROWS(D$3:D1914)/20)+1),\"\"))","v":""},{"$f":"_xlfn.IFNA(IF(VLOOKUP(B1914,_!$A$7:$E$210,2,FALSE)=0, \"\", VLOOKUP(B1914,_!$A$7:$E$210,2,FALSE)),  \"\")","v":""},{"$f":"_xlfn.IFNA(IF(VLOOKUP(B1914,_!$A$7:$E$210,3,FALSE)=0, \"\", VLOOKUP(B1914,_!$A$7:$E$210,3,FALSE)), \"\")","v":""},{"$f":"_xlfn.IFNA(IF(VLOOKUP(B1914,_!$A$7:$E$210,4,FALSE)=0, \"\",VLOOKUP(B1914,_!$A$7:$E$210,4,FALSE)), \"\")","v":""},{"$f":"_xlfn.IFNA(IF(VLOOKUP(B1914,_!$A$7:$E$210,5,FALSE)=0,\"\",VLOOKUP(B1914,_!$A$7:$E$210,5,FALSE)), \"\")","v":""}]
[9,null,{"$f":"_xlfn.IFNA(VLOOKUP(B1915,_!$A$7:$F$210,6,FALSE),\"\")","v":""},{"$f":"IF(IF(MOD(ROWS(D$3:D1915),20)=1,INDEX('Summary Sheet'!$B$17:$B1922,INT(ROWS(D$3:D1915)/20)+1),\"\")=0,\"\",IF(MOD(ROWS(D$3:D1915),20)=1,INDEX('Summary Sheet'!$B$17:$B1922,INT(ROWS(D$3:D1915)/20)+1),\"\"))","v":""},{"$f":"_xlfn.IFNA(IF(VLOOKUP(B1915,_!$A$7:$E$210,2,FALSE)=0, \"\", VLOOKUP(B1915,_!$A$7:$E$210,2,FALSE)),  \"\")","v":""},{"$f":"_xlfn.IFNA(IF(VLOOKUP(B1915,_!$A$7:$E$210,3,FALSE)=0, \"\", VLOOKUP(B1915,_!$A$7:$E$210,3,FALSE)), \"\")","v":""},{"$f":"_xlfn.IFNA(IF(VLOOKUP(B1915,_!$A$7:$E$210,4,FALSE)=0, \"\",VLOOKUP(B1915,_!$A$7:$E$210,4,FALSE)), \"\")","v":""},{"$f":"_xlfn.IFNA(IF(VLOOKUP(B1915,_!$A$7:$E$210,5,FALSE)=0,\"\",VLOOKUP(B1915,_!$A$7:$E$210,5,FALSE)), \"\")","v":""}]
[10,null,{"$f":"_xlfn.IFNA(VLOOKUP(B1916,_!$A$7:$F$210,6,FALSE),\"\")","v":""},{"$f":"IF(IF(MOD(ROWS(D$14:D1916),20)=1,INDEX('Summary Sheet'!$B$17:$B1922,INT(ROWS(D$14:D1916)/20)+1),\"\")=0,\"\",IF(MOD(ROWS(D$14:D1916),20)=1,INDEX('Summary Sheet'!$B$17:$B1922,INT(ROWS(D$14:D1916)/20)+1),\"\"))","v":""},{"$f":"_xlfn.IFNA(IF(VLOOKUP(B1916,_!$A$7:$E$210,2,FALSE)=0, \"\", VLOOKUP(B1916,_!$A$7:$E$210,2,FALSE)),  \"\")","v":""},{"$f":"_xlfn.IFNA(IF(VLOOKUP(B1916,_!$A$7:$E$210,3,FALSE)=0, \"\", VLOOKUP(B1916,_!$A$7:$E$210,3,FALSE)), \"\")","v":""},{"$f":"_xlfn.IFNA(IF(VLOOKUP(B1916,_!$A$7:$E$210,4,FALSE)=0, \"\",VLOOKUP(B1916,_!$A$7:$E$210,4,FALSE)), \"\")","v":""},{"$f":"_xlfn.IFNA(IF(VLOOKUP(B1916,_!$A$7:$E$210,5,FALSE)=0,\"\",VLOOKUP(B1916,_!$A$7:$E$210,5,FALSE)), \"\")","v":""}]
[null,"\nHighest hazard level for each ‘Uptake Route’\n",null,null,{"$f":"_xlfn.IFNA(IF((INDEX(E1907:E1916,MATCH(\"E\",E1907:E1916,0)))=\"E\",\"E\",\"\"),_xlfn.IFNA(IF((INDEX(E1907:E1916,MATCH(\"D\",E1907:E1916,0)))=\"D\",\"D\",\"\"),_xlfn.IFNA(IF((INDEX(E1907:E1916,MATCH(\"Ca\",E1907:E1916,0)))=\"Ca\",\"C\",\"\"),_xlfn.IFNA(IF((INDEX(E1907:E1916,MATCH(\"C\",E1907:E1916,0)))=\"C\",\"C\",\"\"),_xlfn.IFNA(IF((INDEX(E1907:E1916,MATCH(\"B\",E1907:E1916,0)))=\"B\",\"B\",\"\"),_xlfn.IFNA(IF((INDEX(E1907:E1916,MATCH(\"A\",E1907:E1916,0)))=\"A\",\"A\",\"\"),_xlfn.IFNA(IF((INDEX(E1907:E1916,MATCH(\"n.a.\",E1907:E1916,0)))=\"n.a.\",\"\",\"\"),_xlfn.IFNA(IF((INDEX(E1907:E1916,MATCH(\"\",E1907:E1916,0)))=\"\",\"\",\"\"),\"\"))))))))","v":""},{"$f":"_xlfn.IFNA(IF((INDEX(F1907:F1916,MATCH(\"E\",F1907:F1916,0)))=\"E\",\"E\",\"\"),_xlfn.IFNA(IF((INDEX(F1907:F1916,MATCH(\"D (E)c\",F1907:F1916,0)))=\"D (E)c\",\"D (E)c\",\"\"),_xlfn.IFNA(IF((INDEX(F1907:F1916,MATCH(\"Da (E)c\",F1907:F1916,0)))=\"Da (E)c\",\"D (E)c\",\"\"),_xlfn.IFNA(IF((INDEX(F1907:F1916,MATCH(\"D\",F1907:F1916,0)))=\"D\",\"D\",\"\"),_xlfn.IFNA(IF((INDEX(F1907:F1916,MATCH(\"Ca\",F1907:F1916,0)))=\"Ca\",\"C\",\"\"),_xlfn.IFNA(IF((INDEX(F1907:F1916,MATCH(\"C\",F1907:F1916,0)))=\"C\",\"C\",\"\"),_xlfn.IFNA(IF((INDEX(F1907:F1916,MATCH(\"Ba\",F1907:F1916,0)))=\"Ba\",\"B\",\"\"),_xlfn.IFNA(IF((INDEX(F1907:F1916,MATCH(\"B\",F1907:F1916,0)))=\"B\",\"B\",\"\"),_xlfn.IFNA(IF((INDEX(F1907:F1916,MATCH(\"Aa\",F1907:F1916,0)))=\"Aa\",\"A\",\"\"),_xlfn.IFNA(IF((INDEX(F1907:F1916,MATCH(\"A\",F1907:F1916,0)))=\"A\",\"A\",\"\"),_xlfn.IFNA(IF((INDEX(F1907:F1916,MATCH(\"n.a.\",F1907:F1916,0)))=\"n.a.\",\"\",\"\"),_xlfn.IFNA(IF((INDEX(F1907:F1916,MATCH(\"\",F1907:F1916,0)))=\"\",\"\",\"\"),\"\"))))))))))))","v":""},{"$f":"_xlfn.IFNA(IF((INDEX(G1907:G1916,MATCH(\"E\",G1907:G1916,0)))=\"E\",\"E\",\"\"),_xlfn.IFNA(IF((INDEX(G1907:G1916,MATCH(\"D\",G1907:G1916,0)))=\"D\",\"D\",\"\"),_xlfn.IFNA(IF((INDEX(G1907:G1916,MATCH(\"Ca\",G1907:G1916,0)))=\"Ca\",\"C\",\"\"),_xlfn.IFNA(IF((INDEX(G1907:G1916,MATCH(\"C\",G1907:G1916,0)))=\"C\",\"C\",\"\"),_xlfn.IFNA(IF((INDEX(G1907:G1916,MATCH(\"B\",G1907:G1916,0)))=\"B\",\"B\",\"\"),_xlfn.IFNA(IF((INDEX(G1907:G1916,MATCH(\"A\",G1907:G1916,0)))=\"A\",\"A\",\"\"),_xlfn.IFNA(IF((INDEX(G1907:G1916,MATCH(\"n.a.\",G1907:G1916,0)))=\"n.a.\",\"\",\"\"),_xlfn.IFNA(IF((INDEX(G1907:G1916,MATCH(\"\",G1907:G1916,0)))=\"\",\"\",\"\"),\"\"))))))))","v":""},{"$f":"_xlfn.IFNA(IF((INDEX(H1907:H1916,MATCH(\"E\",H1907:H1916,0)))=\"E\",\"E\",\"\"),_xlfn.IFNA(IF((INDEX(H1907:H1916,MATCH(\"D (E)c\",H1907:H1916,0)))=\"D (E)c\",\"D (E)c\",\"\"),_xlfn.IFNA(IF((INDEX(H1907:H1916,MATCH(\"Db (E)c\",H1907:H1916,0)))=\"Db (E)c\",\"D (E)c\",\"\"),_xlfn.IFNA(IF((INDEX(H1907:H1916,MATCH(\"D\",H1907:H1916,0)))=\"D\",\"D\",\"\"),_xlfn.IFNA(IF((INDEX(H1907:H1916,MATCH(\"Cb\",H1907:H1916,0)))=\"Cb\",\"C\",\"\"),_xlfn.IFNA(IF((INDEX(H1907:H1916,MATCH(\"C\",H1907:H1916,0)))=\"C\",\"C\",\"\"),_xlfn.IFNA(IF((INDEX(H1907:H1916,MATCH(\"Bb\",H1907:H1916,0)))=\"Bb\",\"B\",\"\"),_xlfn.IFNA(IF((INDEX(H1907:H1916,MATCH(\"B\",H1907:H1916,0)))=\"B\",\"B\",\"\"),_xlfn.IFNA(IF((INDEX(H1907:H1916,MATCH(\"Ab\",H1907:H1916,0)))=\"Ab\",\"A\",\"\"),_xlfn.IFNA(IF((INDEX(H1907:H1916,MATCH(\"A\",H1907:H1916,0)))=\"A\",\"A\",\"\"),_xlfn.IFNA(IF((INDEX(H1907:H1916,MATCH(\"n.a.\",H1907:H1916,0)))=\"n.a.\",\"\",\"\"),_xlfn.IFNA(IF((INDEX(H1907:H1916,MATCH(\"\",H1907:H1916,0)))=\"\",\"\",\"\"),\"\"))))))))))))","v":""}]
[null,"\nHighest hazard level for all 'Uptake Routes' \n",null,null,{"$f":"_xlfn.IFNA(IF((INDEX(E1917:H1917,MATCH(\"E\",E1917:H1917,0)))=\"E\",\"E\",\"\"),_xlfn.IFNA(IF((INDEX(E1917:H1917,MATCH(\"D (E)c\",E1917:H1917,0)))=\"D (E)c\",\"D (E)\",\"\"),_xlfn.IFNA(IF((INDEX(E1917:H1917,MATCH(\"D\",E1917:H1917,0)))=\"D\",\"D\",\"\"),_xlfn.IFNA(IF((INDEX(E1917:H1917,MATCH(\"C\",E1917:H1917,0)))=\"C\",\"C\",\"\"),_xlfn.IFNA(IF((INDEX(E1917:H1917,MATCH(\"B\",E1917:H1917,0)))=\"B\",\"B\",\"\"),_xlfn.IFNA(IF((INDEX(E1917:H1917,MATCH(\"A\",E1917:H1917,0)))=\"A\",\"A\",\"\"),_xlfn.IFNA(IF((INDEX(E1917:H1917,MATCH(\"n.a.\",E1917:H1917,0)))=\"n.a.\",\"\",\"\"),_xlfn.IFNA(IF((INDEX(E1917:H1917,MATCH(\"\",E1917:H1917,0)))=\"\",\"\",\"\"),\"\"))))))))","v":""}]
[]
[]
[null,"\nStep 3: D(E) Assessment\nSkip this step if \nyour assessment above does not reveal a D(E) hazard level.\nHover over this cell for additional instructions.\n",null,null,"\nOverall hazard level\n",null,{"$f":"IF(AND(E1918=\"\",C1904=\"Yes\")=TRUE,\"B\",IF(E1918=\"\",\"\",(IF(AND(E1918=\"D (E)\",C1921=\"\"),\"D (E)\"&CHAR(10)&\"Find if cat. 1 acute tox.\",(IF(E1918<>\"D (E)\",E1918,(IF(AND(E1918=\"D (E)\",C1921=\"Yes\"),\"E\",(IF(AND(E1918=\"D (E)\",C1921=\"No\"),\"D\",\"\"))))))))))","v":""}]
[]
[{"$f":"IF(IF(MOD(ROWS(B$3:B1923),20)=1,INDEX('Summary Sheet'!$A$17:$A1941,INT(ROWS(B$3:B1923)/20)+1),\"\")=0,\"\",IF(MOD(ROWS(B$3:B1923),20)=1,INDEX('Summary Sheet'!$A$17:$A1941,INT(ROWS(B$3:B1923)/20)+1),\"\"))","v":97},"Hazard Level Assessment","for",{"$f":"IF(IF(MOD(ROWS(D$3:D1923),20)=1,INDEX('Summary Sheet'!$B$17:$B1941,INT(ROWS(D$3:D1923)/20)+1),\"\")=0,\"\",IF(MOD(ROWS(D$3:D1923),20)=1,INDEX('Summary Sheet'!$B$17:$B1941,INT(ROWS(D$3:D1923)/20)+1),\"\"))","v":""}]
[null,"\nStep 1: Physical & Environmental Hazard Statements/Codes\nFind Section 2 of the SDS and determine if the SDS has physical and/or environmental hazard statements/codes. Hover on this cell for additional instructions.\n",null,{"$f":"IF(IF(MOD(ROWS(D$3:D1924),20)=1,INDEX('Summary Sheet'!$B$17:$B1941,INT(ROWS(D$3:D1924)/20)+1),\"\")=0,\"\",IF(MOD(ROWS(D$3:D1924),20)=1,INDEX('Summary Sheet'!$B$17:$B1941,INT(ROWS(D$3:D1924)/20)+1),\"\"))","v":""}]
[null,"Step 2: Health Hazard Statements/Codes\nProvide the Health Hazard Statements or Codes from Section 2 of the SDS below. Hover on this cell for additional instructions.",null,{"$f":"IF(IF(MOD(ROWS(D$3:D1925),20)=1,INDEX('Summary Sheet'!$B$17:$B1941,INT(ROWS(D$3:D1925)/20)+1),\"\")=0,\"\",IF(MOD(ROWS(D$3:D1925),20)=1,INDEX('Summary Sheet'!$B$17:$B1941,INT(ROWS(D$3:D1925)/20)+1),\"\"))","v":""},"\nHazard Level\n"]
[null,null,null,{"$f":"IF(IF(MOD(ROWS(D$3:D1926),20)=1,INDEX('Summary Sheet'!$B$17:$B1941,INT(ROWS(D$3:D1926)/20)+1),\"\")=0,\"\",IF(MOD(ROWS(D$3:D1926),20)=1,INDEX('Summary Sheet'!$B$17:$B1941,INT(ROWS(D$3:D1926)/20)+1),\"\"))","v":""},"\nEye Damage\n","\nInhalation\n","\nLocal Skin Damage\n","\nSkin uptake, systemic\n"]
[1,null,{"$f":"_xlfn.IFNA(VLOOKUP(B1927,_!$A$7:$F$210,6,FALSE),\"\")","v":""},{"$f":"IF(IF(MOD(ROWS(D$3:D1927),20)=1,INDEX('Summary Sheet'!$B$17:$B1941,INT(ROWS(D$3:D1927)/20)+1),\"\")=0,\"\",IF(MOD(ROWS(D$3:D1927),20)=1,INDEX('Summary Sheet'!$B$17:$B1941,INT(ROWS(D$3:D1927)/20)+1),\"\"))","v":""},{"$f":"_xlfn.IFNA(IF(VLOOKUP(B1927,_!$A$7:$E$210,2,FALSE)=0, \"\", VLOOKUP(B1927,_!$A$7:$E$210,2,FALSE)),  \"\")","v":""},{"$f":"_xlfn.IFNA(IF(VLOOKUP(B1927,_!$A$7:$E$210,3,FALSE)=0, \"\", VLOOKUP(B1927,_!$A$7:$E$210,3,FALSE)), \"\")","v":""},{"$f":"_xlfn.IFNA(IF(VLOOKUP(B1927,_!$A$7:$E$210,4,FALSE)=0, \"\",VLOOKUP(B1927,_!$A$7:$E$210,4,FALSE)), \"\")","v":""},{"$f":"_xlfn.IFNA(IF(VLOOKUP(B1927,_!$A$7:$E$210,5,FALSE)=0,\"\",VLOOKUP(B1927,_!$A$7:$E$210,5,FALSE)), \"\")","v":""}]
[2,null,{"$f":"_xlfn.IFNA(VLOOKUP(B1928,_!$A$7:$F$210,6,FALSE),\"\")","v":""},{"$f":"IF(IF(MOD(ROWS(D$3:D1928),20)=1,INDEX('Summary Sheet'!$B$17:$B1941,INT(ROWS(D$3:D1928)/20)+1),\"\")=0,\"\",IF(MOD(ROWS(D$3:D1928),20)=1,INDEX('Summary Sheet'!$B$17:$B1941,INT(ROWS(D$3:D1928)/20)+1),\"\"))","v":""},{"$f":"_xlfn.IFNA(IF(VLOOKUP(B1928,_!$A$7:$E$210,2,FALSE)=0, \"\", VLOOKUP(B1928,_!$A$7:$E$210,2,FALSE)),  \"\")","v":""},{"$f":"_xlfn.IFNA(IF(VLOOKUP(B1928,_!$A$7:$E$210,3,FALSE)=0, \"\", VLOOKUP(B1928,_!$A$7:$E$210,3,FALSE)), \"\")","v":""},{"$f":"_xlfn.IFNA(IF(VLOOKUP(B1928,_!$A$7:$E$210,4,FALSE)=0, \"\",VLOOKUP(B1928,_!$A$7:$E$210,4,FALSE)), \"\")","v":""},{"$f":"_xlfn.IFNA(IF(VLOOKUP(B1928,_!$A$7:$E$210,5,FALSE)=0,\"\",VLOOKUP(B1928,_!$A$7:$E$210,5,FALSE)), \"\")","v":""}]
[3,null,{"$f":"_xlfn.IFNA(VLOOKUP(B1929,_!$A$7:$F$210,6,FALSE),\"\")","v":""},{"$f":"IF(IF(MOD(ROWS(D$3:D1929),20)=1,INDEX('Summary Sheet'!$B$17:$B1941,INT(ROWS(D$3:D1929)/20)+1),\"\")=0,\"\",IF(MOD(ROWS(D$3:D1929),20)=1,INDEX('Summary Sheet'!$B$17:$B1941,INT(ROWS(D$3:D1929)/20)+1),\"\"))","v":""},{"$f":"_xlfn.IFNA(IF(VLOOKUP(B1929,_!$A$7:$E$210,2,FALSE)=0, \"\", VLOOKUP(B1929,_!$A$7:$E$210,2,FALSE)),  \"\")","v":""},{"$f":"_xlfn.IFNA(IF(VLOOKUP(B1929,_!$A$7:$E$210,3,FALSE)=0, \"\", VLOOKUP(B1929,_!$A$7:$E$210,3,FALSE)), \"\")","v":""},{"$f":"_xlfn.IFNA(IF(VLOOKUP(B1929,_!$A$7:$E$210,4,FALSE)=0, \"\",VLOOKUP(B1929,_!$A$7:$E$210,4,FALSE)), \"\")","v":""},{"$f":"_xlfn.IFNA(IF(VLOOKUP(B1929,_!$A$7:$E$210,5,FALSE)=0,\"\",VLOOKUP(B1929,_!$A$7:$E$210,5,FALSE)), \"\")","v":""}]
[4,null,{"$f":"_xlfn.IFNA(VLOOKUP(B1930,_!$A$7:$F$210,6,FALSE),\"\")","v":""},{"$f":"IF(IF(MOD(ROWS(D$3:D1930),20)=1,INDEX('Summary Sheet'!$B$17:$B1941,INT(ROWS(D$3:D1930)/20)+1),\"\")=0,\"\",IF(MOD(ROWS(D$3:D1930),20)=1,INDEX('Summary Sheet'!$B$17:$B1941,INT(ROWS(D$3:D1930)/20)+1),\"\"))","v":""},{"$f":"_xlfn.IFNA(IF(VLOOKUP(B1930,_!$A$7:$E$210,2,FALSE)=0, \"\", VLOOKUP(B1930,_!$A$7:$E$210,2,FALSE)),  \"\")","v":""},{"$f":"_xlfn.IFNA(IF(VLOOKUP(B1930,_!$A$7:$E$210,3,FALSE)=0, \"\", VLOOKUP(B1930,_!$A$7:$E$210,3,FALSE)), \"\")","v":""},{"$f":"_xlfn.IFNA(IF(VLOOKUP(B1930,_!$A$7:$E$210,4,FALSE)=0, \"\",VLOOKUP(B1930,_!$A$7:$E$210,4,FALSE)), \"\")","v":""},{"$f":"_xlfn.IFNA(IF(VLOOKUP(B1930,_!$A$7:$E$210,5,FALSE)=0,\"\",VLOOKUP(B1930,_!$A$7:$E$210,5,FALSE)), \"\")","v":""}]
[5,null,{"$f":"_xlfn.IFNA(VLOOKUP(B1931,_!$A$7:$F$210,6,FALSE),\"\")","v":""},{"$f":"IF(IF(MOD(ROWS(D$3:D1931),20)=1,INDEX('Summary Sheet'!$B$17:$B1941,INT(ROWS(D$3:D1931)/20)+1),\"\")=0,\"\",IF(MOD(ROWS(D$3:D1931),20)=1,INDEX('Summary Sheet'!$B$17:$B1941,INT(ROWS(D$3:D1931)/20)+1),\"\"))","v":""},{"$f":"_xlfn.IFNA(IF(VLOOKUP(B1931,_!$A$7:$E$210,2,FALSE)=0, \"\", VLOOKUP(B1931,_!$A$7:$E$210,2,FALSE)),  \"\")","v":""},{"$f":"_xlfn.IFNA(IF(VLOOKUP(B1931,_!$A$7:$E$210,3,FALSE)=0, \"\", VLOOKUP(B1931,_!$A$7:$E$210,3,FALSE)), \"\")","v":""},{"$f":"_xlfn.IFNA(IF(VLOOKUP(B1931,_!$A$7:$E$210,4,FALSE)=0, \"\",VLOOKUP(B1931,_!$A$7:$E$210,4,FALSE)), \"\")","v":""},{"$f":"_xlfn.IFNA(IF(VLOOKUP(B1931,_!$A$7:$E$210,5,FALSE)=0,\"\",VLOOKUP(B1931,_!$A$7:$E$210,5,FALSE)), \"\")","v":""}]
[6,null,{"$f":"_xlfn.IFNA(VLOOKUP(B1932,_!$A$7:$F$210,6,FALSE),\"\")","v":""},{"$f":"IF(IF(MOD(ROWS(D$3:D1932),20)=1,INDEX('Summary Sheet'!$B$17:$B1941,INT(ROWS(D$3:D1932)/20)+1),\"\")=0,\"\",IF(MOD(ROWS(D$3:D1932),20)=1,INDEX('Summary Sheet'!$B$17:$B1941,INT(ROWS(D$3:D1932)/20)+1),\"\"))","v":""},{"$f":"_xlfn.IFNA(IF(VLOOKUP(B1932,_!$A$7:$E$210,2,FALSE)=0, \"\", VLOOKUP(B1932,_!$A$7:$E$210,2,FALSE)),  \"\")","v":""},{"$f":"_xlfn.IFNA(IF(VLOOKUP(B1932,_!$A$7:$E$210,3,FALSE)=0, \"\", VLOOKUP(B1932,_!$A$7:$E$210,3,FALSE)), \"\")","v":""},{"$f":"_xlfn.IFNA(IF(VLOOKUP(B1932,_!$A$7:$E$210,4,FALSE)=0, \"\",VLOOKUP(B1932,_!$A$7:$E$210,4,FALSE)), \"\")","v":""},{"$f":"_xlfn.IFNA(IF(VLOOKUP(B1932,_!$A$7:$E$210,5,FALSE)=0,\"\",VLOOKUP(B1932,_!$A$7:$E$210,5,FALSE)), \"\")","v":""}]
[7,null,{"$f":"_xlfn.IFNA(VLOOKUP(B1933,_!$A$7:$F$210,6,FALSE),\"\")","v":""},{"$f":"IF(IF(MOD(ROWS(D$3:D1933),20)=1,INDEX('Summary Sheet'!$B$17:$B1941,INT(ROWS(D$3:D1933)/20)+1),\"\")=0,\"\",IF(MOD(ROWS(D$3:D1933),20)=1,INDEX('Summary Sheet'!$B$17:$B1941,INT(ROWS(D$3:D1933)/20)+1),\"\"))","v":""},{"$f":"_xlfn.IFNA(IF(VLOOKUP(B1933,_!$A$7:$E$210,2,FALSE)=0, \"\", VLOOKUP(B1933,_!$A$7:$E$210,2,FALSE)),  \"\")","v":""},{"$f":"_xlfn.IFNA(IF(VLOOKUP(B1933,_!$A$7:$E$210,3,FALSE)=0, \"\", VLOOKUP(B1933,_!$A$7:$E$210,3,FALSE)), \"\")","v":""},{"$f":"_xlfn.IFNA(IF(VLOOKUP(B1933,_!$A$7:$E$210,4,FALSE)=0, \"\",VLOOKUP(B1933,_!$A$7:$E$210,4,FALSE)), \"\")","v":""},{"$f":"_xlfn.IFNA(IF(VLOOKUP(B1933,_!$A$7:$E$210,5,FALSE)=0,\"\",VLOOKUP(B1933,_!$A$7:$E$210,5,FALSE)), \"\")","v":""}]
[8,null,{"$f":"_xlfn.IFNA(VLOOKUP(B1934,_!$A$7:$F$210,6,FALSE),\"\")","v":""},{"$f":"IF(IF(MOD(ROWS(D$3:D1934),20)=1,INDEX('Summary Sheet'!$B$17:$B1941,INT(ROWS(D$3:D1934)/20)+1),\"\")=0,\"\",IF(MOD(ROWS(D$3:D1934),20)=1,INDEX('Summary Sheet'!$B$17:$B1941,INT(ROWS(D$3:D1934)/20)+1),\"\"))","v":""},{"$f":"_xlfn.IFNA(IF(VLOOKUP(B1934,_!$A$7:$E$210,2,FALSE)=0, \"\", VLOOKUP(B1934,_!$A$7:$E$210,2,FALSE)),  \"\")","v":""},{"$f":"_xlfn.IFNA(IF(VLOOKUP(B1934,_!$A$7:$E$210,3,FALSE)=0, \"\", VLOOKUP(B1934,_!$A$7:$E$210,3,FALSE)), \"\")","v":""},{"$f":"_xlfn.IFNA(IF(VLOOKUP(B1934,_!$A$7:$E$210,4,FALSE)=0, \"\",VLOOKUP(B1934,_!$A$7:$E$210,4,FALSE)), \"\")","v":""},{"$f":"_xlfn.IFNA(IF(VLOOKUP(B1934,_!$A$7:$E$210,5,FALSE)=0,\"\",VLOOKUP(B1934,_!$A$7:$E$210,5,FALSE)), \"\")","v":""}]
[9,null,{"$f":"_xlfn.IFNA(VLOOKUP(B1935,_!$A$7:$F$210,6,FALSE),\"\")","v":""},{"$f":"IF(IF(MOD(ROWS(D$3:D1935),20)=1,INDEX('Summary Sheet'!$B$17:$B1941,INT(ROWS(D$3:D1935)/20)+1),\"\")=0,\"\",IF(MOD(ROWS(D$3:D1935),20)=1,INDEX('Summary Sheet'!$B$17:$B1941,INT(ROWS(D$3:D1935)/20)+1),\"\"))","v":""},{"$f":"_xlfn.IFNA(IF(VLOOKUP(B1935,_!$A$7:$E$210,2,FALSE)=0, \"\", VLOOKUP(B1935,_!$A$7:$E$210,2,FALSE)),  \"\")","v":""},{"$f":"_xlfn.IFNA(IF(VLOOKUP(B1935,_!$A$7:$E$210,3,FALSE)=0, \"\", VLOOKUP(B1935,_!$A$7:$E$210,3,FALSE)), \"\")","v":""},{"$f":"_xlfn.IFNA(IF(VLOOKUP(B1935,_!$A$7:$E$210,4,FALSE)=0, \"\",VLOOKUP(B1935,_!$A$7:$E$210,4,FALSE)), \"\")","v":""},{"$f":"_xlfn.IFNA(IF(VLOOKUP(B1935,_!$A$7:$E$210,5,FALSE)=0,\"\",VLOOKUP(B1935,_!$A$7:$E$210,5,FALSE)), \"\")","v":""}]
[10,null,{"$f":"_xlfn.IFNA(VLOOKUP(B1936,_!$A$7:$F$210,6,FALSE),\"\")","v":""},{"$f":"IF(IF(MOD(ROWS(D$14:D1936),20)=1,INDEX('Summary Sheet'!$B$17:$B1941,INT(ROWS(D$14:D1936)/20)+1),\"\")=0,\"\",IF(MOD(ROWS(D$14:D1936),20)=1,INDEX('Summary Sheet'!$B$17:$B1941,INT(ROWS(D$14:D1936)/20)+1),\"\"))","v":""},{"$f":"_xlfn.IFNA(IF(VLOOKUP(B1936,_!$A$7:$E$210,2,FALSE)=0, \"\", VLOOKUP(B1936,_!$A$7:$E$210,2,FALSE)),  \"\")","v":""},{"$f":"_xlfn.IFNA(IF(VLOOKUP(B1936,_!$A$7:$E$210,3,FALSE)=0, \"\", VLOOKUP(B1936,_!$A$7:$E$210,3,FALSE)), \"\")","v":""},{"$f":"_xlfn.IFNA(IF(VLOOKUP(B1936,_!$A$7:$E$210,4,FALSE)=0, \"\",VLOOKUP(B1936,_!$A$7:$E$210,4,FALSE)), \"\")","v":""},{"$f":"_xlfn.IFNA(IF(VLOOKUP(B1936,_!$A$7:$E$210,5,FALSE)=0,\"\",VLOOKUP(B1936,_!$A$7:$E$210,5,FALSE)), \"\")","v":""}]
[null,"\nHighest hazard level for each ‘Uptake Route’\n",null,null,{"$f":"_xlfn.IFNA(IF((INDEX(E1927:E1936,MATCH(\"E\",E1927:E1936,0)))=\"E\",\"E\",\"\"),_xlfn.IFNA(IF((INDEX(E1927:E1936,MATCH(\"D\",E1927:E1936,0)))=\"D\",\"D\",\"\"),_xlfn.IFNA(IF((INDEX(E1927:E1936,MATCH(\"Ca\",E1927:E1936,0)))=\"Ca\",\"C\",\"\"),_xlfn.IFNA(IF((INDEX(E1927:E1936,MATCH(\"C\",E1927:E1936,0)))=\"C\",\"C\",\"\"),_xlfn.IFNA(IF((INDEX(E1927:E1936,MATCH(\"B\",E1927:E1936,0)))=\"B\",\"B\",\"\"),_xlfn.IFNA(IF((INDEX(E1927:E1936,MATCH(\"A\",E1927:E1936,0)))=\"A\",\"A\",\"\"),_xlfn.IFNA(IF((INDEX(E1927:E1936,MATCH(\"n.a.\",E1927:E1936,0)))=\"n.a.\",\"\",\"\"),_xlfn.IFNA(IF((INDEX(E1927:E1936,MATCH(\"\",E1927:E1936,0)))=\"\",\"\",\"\"),\"\"))))))))","v":""},{"$f":"_xlfn.IFNA(IF((INDEX(F1927:F1936,MATCH(\"E\",F1927:F1936,0)))=\"E\",\"E\",\"\"),_xlfn.IFNA(IF((INDEX(F1927:F1936,MATCH(\"D (E)c\",F1927:F1936,0)))=\"D (E)c\",\"D (E)c\",\"\"),_xlfn.IFNA(IF((INDEX(F1927:F1936,MATCH(\"Da (E)c\",F1927:F1936,0)))=\"Da (E)c\",\"D (E)c\",\"\"),_xlfn.IFNA(IF((INDEX(F1927:F1936,MATCH(\"D\",F1927:F1936,0)))=\"D\",\"D\",\"\"),_xlfn.IFNA(IF((INDEX(F1927:F1936,MATCH(\"Ca\",F1927:F1936,0)))=\"Ca\",\"C\",\"\"),_xlfn.IFNA(IF((INDEX(F1927:F1936,MATCH(\"C\",F1927:F1936,0)))=\"C\",\"C\",\"\"),_xlfn.IFNA(IF((INDEX(F1927:F1936,MATCH(\"Ba\",F1927:F1936,0)))=\"Ba\",\"B\",\"\"),_xlfn.IFNA(IF((INDEX(F1927:F1936,MATCH(\"B\",F1927:F1936,0)))=\"B\",\"B\",\"\"),_xlfn.IFNA(IF((INDEX(F1927:F1936,MATCH(\"Aa\",F1927:F1936,0)))=\"Aa\",\"A\",\"\"),_xlfn.IFNA(IF((INDEX(F1927:F1936,MATCH(\"A\",F1927:F1936,0)))=\"A\",\"A\",\"\"),_xlfn.IFNA(IF((INDEX(F1927:F1936,MATCH(\"n.a.\",F1927:F1936,0)))=\"n.a.\",\"\",\"\"),_xlfn.IFNA(IF((INDEX(F1927:F1936,MATCH(\"\",F1927:F1936,0)))=\"\",\"\",\"\"),\"\"))))))))))))","v":""},{"$f":"_xlfn.IFNA(IF((INDEX(G1927:G1936,MATCH(\"E\",G1927:G1936,0)))=\"E\",\"E\",\"\"),_xlfn.IFNA(IF((INDEX(G1927:G1936,MATCH(\"D\",G1927:G1936,0)))=\"D\",\"D\",\"\"),_xlfn.IFNA(IF((INDEX(G1927:G1936,MATCH(\"Ca\",G1927:G1936,0)))=\"Ca\",\"C\",\"\"),_xlfn.IFNA(IF((INDEX(G1927:G1936,MATCH(\"C\",G1927:G1936,0)))=\"C\",\"C\",\"\"),_xlfn.IFNA(IF((INDEX(G1927:G1936,MATCH(\"B\",G1927:G1936,0)))=\"B\",\"B\",\"\"),_xlfn.IFNA(IF((INDEX(G1927:G1936,MATCH(\"A\",G1927:G1936,0)))=\"A\",\"A\",\"\"),_xlfn.IFNA(IF((INDEX(G1927:G1936,MATCH(\"n.a.\",G1927:G1936,0)))=\"n.a.\",\"\",\"\"),_xlfn.IFNA(IF((INDEX(G1927:G1936,MATCH(\"\",G1927:G1936,0)))=\"\",\"\",\"\"),\"\"))))))))","v":""},{"$f":"_xlfn.IFNA(IF((INDEX(H1927:H1936,MATCH(\"E\",H1927:H1936,0)))=\"E\",\"E\",\"\"),_xlfn.IFNA(IF((INDEX(H1927:H1936,MATCH(\"D (E)c\",H1927:H1936,0)))=\"D (E)c\",\"D (E)c\",\"\"),_xlfn.IFNA(IF((INDEX(H1927:H1936,MATCH(\"Db (E)c\",H1927:H1936,0)))=\"Db (E)c\",\"D (E)c\",\"\"),_xlfn.IFNA(IF((INDEX(H1927:H1936,MATCH(\"D\",H1927:H1936,0)))=\"D\",\"D\",\"\"),_xlfn.IFNA(IF((INDEX(H1927:H1936,MATCH(\"Cb\",H1927:H1936,0)))=\"Cb\",\"C\",\"\"),_xlfn.IFNA(IF((INDEX(H1927:H1936,MATCH(\"C\",H1927:H1936,0)))=\"C\",\"C\",\"\"),_xlfn.IFNA(IF((INDEX(H1927:H1936,MATCH(\"Bb\",H1927:H1936,0)))=\"Bb\",\"B\",\"\"),_xlfn.IFNA(IF((INDEX(H1927:H1936,MATCH(\"B\",H1927:H1936,0)))=\"B\",\"B\",\"\"),_xlfn.IFNA(IF((INDEX(H1927:H1936,MATCH(\"Ab\",H1927:H1936,0)))=\"Ab\",\"A\",\"\"),_xlfn.IFNA(IF((INDEX(H1927:H1936,MATCH(\"A\",H1927:H1936,0)))=\"A\",\"A\",\"\"),_xlfn.IFNA(IF((INDEX(H1927:H1936,MATCH(\"n.a.\",H1927:H1936,0)))=\"n.a.\",\"\",\"\"),_xlfn.IFNA(IF((INDEX(H1927:H1936,MATCH(\"\",H1927:H1936,0)))=\"\",\"\",\"\"),\"\"))))))))))))","v":""}]
[null,"\nHighest hazard level for all 'Uptake Routes' \n",null,null,{"$f":"_xlfn.IFNA(IF((INDEX(E1937:H1937,MATCH(\"E\",E1937:H1937,0)))=\"E\",\"E\",\"\"),_xlfn.IFNA(IF((INDEX(E1937:H1937,MATCH(\"D (E)c\",E1937:H1937,0)))=\"D (E)c\",\"D (E)\",\"\"),_xlfn.IFNA(IF((INDEX(E1937:H1937,MATCH(\"D\",E1937:H1937,0)))=\"D\",\"D\",\"\"),_xlfn.IFNA(IF((INDEX(E1937:H1937,MATCH(\"C\",E1937:H1937,0)))=\"C\",\"C\",\"\"),_xlfn.IFNA(IF((INDEX(E1937:H1937,MATCH(\"B\",E1937:H1937,0)))=\"B\",\"B\",\"\"),_xlfn.IFNA(IF((INDEX(E1937:H1937,MATCH(\"A\",E1937:H1937,0)))=\"A\",\"A\",\"\"),_xlfn.IFNA(IF((INDEX(E1937:H1937,MATCH(\"n.a.\",E1937:H1937,0)))=\"n.a.\",\"\",\"\"),_xlfn.IFNA(IF((INDEX(E1937:H1937,MATCH(\"\",E1937:H1937,0)))=\"\",\"\",\"\"),\"\"))))))))","v":""}]
[]
[]
[null,"\nStep 3: D(E) Assessment\nSkip this step if \nyour assessment above does not reveal a D(E) hazard level.\nHover over this cell for additional instructions.\n",null,null,"\nOverall hazard level\n",null,{"$f":"IF(AND(E1938=\"\",C1924=\"Yes\")=TRUE,\"B\",IF(E1938=\"\",\"\",(IF(AND(E1938=\"D (E)\",C1941=\"\"),\"D (E)\"&CHAR(10)&\"Find if cat. 1 acute tox.\",(IF(E1938<>\"D (E)\",E1938,(IF(AND(E1938=\"D (E)\",C1941=\"Yes\"),\"E\",(IF(AND(E1938=\"D (E)\",C1941=\"No\"),\"D\",\"\"))))))))))","v":""}]
[]
[{"$f":"IF(IF(MOD(ROWS(B$3:B1943),20)=1,INDEX('Summary Sheet'!$A$17:$A1960,INT(ROWS(B$3:B1943)/20)+1),\"\")=0,\"\",IF(MOD(ROWS(B$3:B1943),20)=1,INDEX('Summary Sheet'!$A$17:$A1960,INT(ROWS(B$3:B1943)/20)+1),\"\"))","v":98},"Hazard Level Assessment","for",{"$f":"IF(IF(MOD(ROWS(D$3:D1943),20)=1,INDEX('Summary Sheet'!$B$17:$B1960,INT(ROWS(D$3:D1943)/20)+1),\"\")=0,\"\",IF(MOD(ROWS(D$3:D1943),20)=1,INDEX('Summary Sheet'!$B$17:$B1960,INT(ROWS(D$3:D1943)/20)+1),\"\"))","v":""}]
[null,"\nStep 1: Physical & Environmental Hazard Statements/Codes\nFind Section 2 of the SDS and determine if the SDS has physical and/or environmental hazard statements/codes. Hover on this cell for additional instructions.\n",null,{"$f":"IF(IF(MOD(ROWS(D$3:D1944),20)=1,INDEX('Summary Sheet'!$B$17:$B1960,INT(ROWS(D$3:D1944)/20)+1),\"\")=0,\"\",IF(MOD(ROWS(D$3:D1944),20)=1,INDEX('Summary Sheet'!$B$17:$B1960,INT(ROWS(D$3:D1944)/20)+1),\"\"))","v":""}]
[null,"Step 2: Health Hazard Statements/Codes\nProvide the Health Hazard Statements or Codes from Section 2 of the SDS below. Hover on this cell for additional instructions.",null,{"$f":"IF(IF(MOD(ROWS(D$3:D1945),20)=1,INDEX('Summary Sheet'!$B$17:$B1960,INT(ROWS(D$3:D1945)/20)+1),\"\")=0,\"\",IF(MOD(ROWS(D$3:D1945),20)=1,INDEX('Summary Sheet'!$B$17:$B1960,INT(ROWS(D$3:D1945)/20)+1),\"\"))","v":""},"\nHazard Level\n"]
[null,null,null,{"$f":"IF(IF(MOD(ROWS(D$3:D1946),20)=1,INDEX('Summary Sheet'!$B$17:$B1960,INT(ROWS(D$3:D1946)/20)+1),\"\")=0,\"\",IF(MOD(ROWS(D$3:D1946),20)=1,INDEX('Summary Sheet'!$B$17:$B1960,INT(ROWS(D$3:D1946)/20)+1),\"\"))","v":""},"\nEye Damage\n","\nInhalation\n","\nLocal Skin Damage\n","\nSkin uptake, systemic\n"]
[1,null,{"$f":"_xlfn.IFNA(VLOOKUP(B1947,_!$A$7:$F$210,6,FALSE),\"\")","v":""},{"$f":"IF(IF(MOD(ROWS(D$3:D1947),20)=1,INDEX('Summary Sheet'!$B$17:$B1960,INT(ROWS(D$3:D1947)/20)+1),\"\")=0,\"\",IF(MOD(ROWS(D$3:D1947),20)=1,INDEX('Summary Sheet'!$B$17:$B1960,INT(ROWS(D$3:D1947)/20)+1),\"\"))","v":""},{"$f":"_xlfn.IFNA(IF(VLOOKUP(B1947,_!$A$7:$E$210,2,FALSE)=0, \"\", VLOOKUP(B1947,_!$A$7:$E$210,2,FALSE)),  \"\")","v":""},{"$f":"_xlfn.IFNA(IF(VLOOKUP(B1947,_!$A$7:$E$210,3,FALSE)=0, \"\", VLOOKUP(B1947,_!$A$7:$E$210,3,FALSE)), \"\")","v":""},{"$f":"_xlfn.IFNA(IF(VLOOKUP(B1947,_!$A$7:$E$210,4,FALSE)=0, \"\",VLOOKUP(B1947,_!$A$7:$E$210,4,FALSE)), \"\")","v":""},{"$f":"_xlfn.IFNA(IF(VLOOKUP(B1947,_!$A$7:$E$210,5,FALSE)=0,\"\",VLOOKUP(B1947,_!$A$7:$E$210,5,FALSE)), \"\")","v":""}]
[2,null,{"$f":"_xlfn.IFNA(VLOOKUP(B1948,_!$A$7:$F$210,6,FALSE),\"\")","v":""},{"$f":"IF(IF(MOD(ROWS(D$3:D1948),20)=1,INDEX('Summary Sheet'!$B$17:$B1960,INT(ROWS(D$3:D1948)/20)+1),\"\")=0,\"\",IF(MOD(ROWS(D$3:D1948),20)=1,INDEX('Summary Sheet'!$B$17:$B1960,INT(ROWS(D$3:D1948)/20)+1),\"\"))","v":""},{"$f":"_xlfn.IFNA(IF(VLOOKUP(B1948,_!$A$7:$E$210,2,FALSE)=0, \"\", VLOOKUP(B1948,_!$A$7:$E$210,2,FALSE)),  \"\")","v":""},{"$f":"_xlfn.IFNA(IF(VLOOKUP(B1948,_!$A$7:$E$210,3,FALSE)=0, \"\", VLOOKUP(B1948,_!$A$7:$E$210,3,FALSE)), \"\")","v":""},{"$f":"_xlfn.IFNA(IF(VLOOKUP(B1948,_!$A$7:$E$210,4,FALSE)=0, \"\",VLOOKUP(B1948,_!$A$7:$E$210,4,FALSE)), \"\")","v":""},{"$f":"_xlfn.IFNA(IF(VLOOKUP(B1948,_!$A$7:$E$210,5,FALSE)=0,\"\",VLOOKUP(B1948,_!$A$7:$E$210,5,FALSE)), \"\")","v":""}]
[3,null,{"$f":"_xlfn.IFNA(VLOOKUP(B1949,_!$A$7:$F$210,6,FALSE),\"\")","v":""},{"$f":"IF(IF(MOD(ROWS(D$3:D1949),20)=1,INDEX('Summary Sheet'!$B$17:$B1960,INT(ROWS(D$3:D1949)/20)+1),\"\")=0,\"\",IF(MOD(ROWS(D$3:D1949),20)=1,INDEX('Summary Sheet'!$B$17:$B1960,INT(ROWS(D$3:D1949)/20)+1),\"\"))","v":""},{"$f":"_xlfn.IFNA(IF(VLOOKUP(B1949,_!$A$7:$E$210,2,FALSE)=0, \"\", VLOOKUP(B1949,_!$A$7:$E$210,2,FALSE)),  \"\")","v":""},{"$f":"_xlfn.IFNA(IF(VLOOKUP(B1949,_!$A$7:$E$210,3,FALSE)=0, \"\", VLOOKUP(B1949,_!$A$7:$E$210,3,FALSE)), \"\")","v":""},{"$f":"_xlfn.IFNA(IF(VLOOKUP(B1949,_!$A$7:$E$210,4,FALSE)=0, \"\",VLOOKUP(B1949,_!$A$7:$E$210,4,FALSE)), \"\")","v":""},{"$f":"_xlfn.IFNA(IF(VLOOKUP(B1949,_!$A$7:$E$210,5,FALSE)=0,\"\",VLOOKUP(B1949,_!$A$7:$E$210,5,FALSE)), \"\")","v":""}]
[4,null,{"$f":"_xlfn.IFNA(VLOOKUP(B1950,_!$A$7:$F$210,6,FALSE),\"\")","v":""},{"$f":"IF(IF(MOD(ROWS(D$3:D1950),20)=1,INDEX('Summary Sheet'!$B$17:$B1960,INT(ROWS(D$3:D1950)/20)+1),\"\")=0,\"\",IF(MOD(ROWS(D$3:D1950),20)=1,INDEX('Summary Sheet'!$B$17:$B1960,INT(ROWS(D$3:D1950)/20)+1),\"\"))","v":""},{"$f":"_xlfn.IFNA(IF(VLOOKUP(B1950,_!$A$7:$E$210,2,FALSE)=0, \"\", VLOOKUP(B1950,_!$A$7:$E$210,2,FALSE)),  \"\")","v":""},{"$f":"_xlfn.IFNA(IF(VLOOKUP(B1950,_!$A$7:$E$210,3,FALSE)=0, \"\", VLOOKUP(B1950,_!$A$7:$E$210,3,FALSE)), \"\")","v":""},{"$f":"_xlfn.IFNA(IF(VLOOKUP(B1950,_!$A$7:$E$210,4,FALSE)=0, \"\",VLOOKUP(B1950,_!$A$7:$E$210,4,FALSE)), \"\")","v":""},{"$f":"_xlfn.IFNA(IF(VLOOKUP(B1950,_!$A$7:$E$210,5,FALSE)=0,\"\",VLOOKUP(B1950,_!$A$7:$E$210,5,FALSE)), \"\")","v":""}]
[5,null,{"$f":"_xlfn.IFNA(VLOOKUP(B1951,_!$A$7:$F$210,6,FALSE),\"\")","v":""},{"$f":"IF(IF(MOD(ROWS(D$3:D1951),20)=1,INDEX('Summary Sheet'!$B$17:$B1960,INT(ROWS(D$3:D1951)/20)+1),\"\")=0,\"\",IF(MOD(ROWS(D$3:D1951),20)=1,INDEX('Summary Sheet'!$B$17:$B1960,INT(ROWS(D$3:D1951)/20)+1),\"\"))","v":""},{"$f":"_xlfn.IFNA(IF(VLOOKUP(B1951,_!$A$7:$E$210,2,FALSE)=0, \"\", VLOOKUP(B1951,_!$A$7:$E$210,2,FALSE)),  \"\")","v":""},{"$f":"_xlfn.IFNA(IF(VLOOKUP(B1951,_!$A$7:$E$210,3,FALSE)=0, \"\", VLOOKUP(B1951,_!$A$7:$E$210,3,FALSE)), \"\")","v":""},{"$f":"_xlfn.IFNA(IF(VLOOKUP(B1951,_!$A$7:$E$210,4,FALSE)=0, \"\",VLOOKUP(B1951,_!$A$7:$E$210,4,FALSE)), \"\")","v":""},{"$f":"_xlfn.IFNA(IF(VLOOKUP(B1951,_!$A$7:$E$210,5,FALSE)=0,\"\",VLOOKUP(B1951,_!$A$7:$E$210,5,FALSE)), \"\")","v":""}]
[6,null,{"$f":"_xlfn.IFNA(VLOOKUP(B1952,_!$A$7:$F$210,6,FALSE),\"\")","v":""},{"$f":"IF(IF(MOD(ROWS(D$3:D1952),20)=1,INDEX('Summary Sheet'!$B$17:$B1960,INT(ROWS(D$3:D1952)/20)+1),\"\")=0,\"\",IF(MOD(ROWS(D$3:D1952),20)=1,INDEX('Summary Sheet'!$B$17:$B1960,INT(ROWS(D$3:D1952)/20)+1),\"\"))","v":""},{"$f":"_xlfn.IFNA(IF(VLOOKUP(B1952,_!$A$7:$E$210,2,FALSE)=0, \"\", VLOOKUP(B1952,_!$A$7:$E$210,2,FALSE)),  \"\")","v":""},{"$f":"_xlfn.IFNA(IF(VLOOKUP(B1952,_!$A$7:$E$210,3,FALSE)=0, \"\", VLOOKUP(B1952,_!$A$7:$E$210,3,FALSE)), \"\")","v":""},{"$f":"_xlfn.IFNA(IF(VLOOKUP(B1952,_!$A$7:$E$210,4,FALSE)=0, \"\",VLOOKUP(B1952,_!$A$7:$E$210,4,FALSE)), \"\")","v":""},{"$f":"_xlfn.IFNA(IF(VLOOKUP(B1952,_!$A$7:$E$210,5,FALSE)=0,\"\",VLOOKUP(B1952,_!$A$7:$E$210,5,FALSE)), \"\")","v":""}]
[7,null,{"$f":"_xlfn.IFNA(VLOOKUP(B1953,_!$A$7:$F$210,6,FALSE),\"\")","v":""},{"$f":"IF(IF(MOD(ROWS(D$3:D1953),20)=1,INDEX('Summary Sheet'!$B$17:$B1960,INT(ROWS(D$3:D1953)/20)+1),\"\")=0,\"\",IF(MOD(ROWS(D$3:D1953),20)=1,INDEX('Summary Sheet'!$B$17:$B1960,INT(ROWS(D$3:D1953)/20)+1),\"\"))","v":""},{"$f":"_xlfn.IFNA(IF(VLOOKUP(B1953,_!$A$7:$E$210,2,FALSE)=0, \"\", VLOOKUP(B1953,_!$A$7:$E$210,2,FALSE)),  \"\")","v":""},{"$f":"_xlfn.IFNA(IF(VLOOKUP(B1953,_!$A$7:$E$210,3,FALSE)=0, \"\", VLOOKUP(B1953,_!$A$7:$E$210,3,FALSE)), \"\")","v":""},{"$f":"_xlfn.IFNA(IF(VLOOKUP(B1953,_!$A$7:$E$210,4,FALSE)=0, \"\",VLOOKUP(B1953,_!$A$7:$E$210,4,FALSE)), \"\")","v":""},{"$f":"_xlfn.IFNA(IF(VLOOKUP(B1953,_!$A$7:$E$210,5,FALSE)=0,\"\",VLOOKUP(B1953,_!$A$7:$E$210,5,FALSE)), \"\")","v":""}]
[8,null,{"$f":"_xlfn.IFNA(VLOOKUP(B1954,_!$A$7:$F$210,6,FALSE),\"\")","v":""},{"$f":"IF(IF(MOD(ROWS(D$3:D1954),20)=1,INDEX('Summary Sheet'!$B$17:$B1960,INT(ROWS(D$3:D1954)/20)+1),\"\")=0,\"\",IF(MOD(ROWS(D$3:D1954),20)=1,INDEX('Summary Sheet'!$B$17:$B1960,INT(ROWS(D$3:D1954)/20)+1),\"\"))","v":""},{"$f":"_xlfn.IFNA(IF(VLOOKUP(B1954,_!$A$7:$E$210,2,FALSE)=0, \"\", VLOOKUP(B1954,_!$A$7:$E$210,2,FALSE)),  \"\")","v":""},{"$f":"_xlfn.IFNA(IF(VLOOKUP(B1954,_!$A$7:$E$210,3,FALSE)=0, \"\", VLOOKUP(B1954,_!$A$7:$E$210,3,FALSE)), \"\")","v":""},{"$f":"_xlfn.IFNA(IF(VLOOKUP(B1954,_!$A$7:$E$210,4,FALSE)=0, \"\",VLOOKUP(B1954,_!$A$7:$E$210,4,FALSE)), \"\")","v":""},{"$f":"_xlfn.IFNA(IF(VLOOKUP(B1954,_!$A$7:$E$210,5,FALSE)=0,\"\",VLOOKUP(B1954,_!$A$7:$E$210,5,FALSE)), \"\")","v":""}]
[9,null,{"$f":"_xlfn.IFNA(VLOOKUP(B1955,_!$A$7:$F$210,6,FALSE),\"\")","v":""},{"$f":"IF(IF(MOD(ROWS(D$3:D1955),20)=1,INDEX('Summary Sheet'!$B$17:$B1960,INT(ROWS(D$3:D1955)/20)+1),\"\")=0,\"\",IF(MOD(ROWS(D$3:D1955),20)=1,INDEX('Summary Sheet'!$B$17:$B1960,INT(ROWS(D$3:D1955)/20)+1),\"\"))","v":""},{"$f":"_xlfn.IFNA(IF(VLOOKUP(B1955,_!$A$7:$E$210,2,FALSE)=0, \"\", VLOOKUP(B1955,_!$A$7:$E$210,2,FALSE)),  \"\")","v":""},{"$f":"_xlfn.IFNA(IF(VLOOKUP(B1955,_!$A$7:$E$210,3,FALSE)=0, \"\", VLOOKUP(B1955,_!$A$7:$E$210,3,FALSE)), \"\")","v":""},{"$f":"_xlfn.IFNA(IF(VLOOKUP(B1955,_!$A$7:$E$210,4,FALSE)=0, \"\",VLOOKUP(B1955,_!$A$7:$E$210,4,FALSE)), \"\")","v":""},{"$f":"_xlfn.IFNA(IF(VLOOKUP(B1955,_!$A$7:$E$210,5,FALSE)=0,\"\",VLOOKUP(B1955,_!$A$7:$E$210,5,FALSE)), \"\")","v":""}]
[10,null,{"$f":"_xlfn.IFNA(VLOOKUP(B1956,_!$A$7:$F$210,6,FALSE),\"\")","v":""},{"$f":"IF(IF(MOD(ROWS(D$14:D1956),20)=1,INDEX('Summary Sheet'!$B$17:$B1960,INT(ROWS(D$14:D1956)/20)+1),\"\")=0,\"\",IF(MOD(ROWS(D$14:D1956),20)=1,INDEX('Summary Sheet'!$B$17:$B1960,INT(ROWS(D$14:D1956)/20)+1),\"\"))","v":""},{"$f":"_xlfn.IFNA(IF(VLOOKUP(B1956,_!$A$7:$E$210,2,FALSE)=0, \"\", VLOOKUP(B1956,_!$A$7:$E$210,2,FALSE)),  \"\")","v":""},{"$f":"_xlfn.IFNA(IF(VLOOKUP(B1956,_!$A$7:$E$210,3,FALSE)=0, \"\", VLOOKUP(B1956,_!$A$7:$E$210,3,FALSE)), \"\")","v":""},{"$f":"_xlfn.IFNA(IF(VLOOKUP(B1956,_!$A$7:$E$210,4,FALSE)=0, \"\",VLOOKUP(B1956,_!$A$7:$E$210,4,FALSE)), \"\")","v":""},{"$f":"_xlfn.IFNA(IF(VLOOKUP(B1956,_!$A$7:$E$210,5,FALSE)=0,\"\",VLOOKUP(B1956,_!$A$7:$E$210,5,FALSE)), \"\")","v":""}]
[null,"\nHighest hazard level for each ‘Uptake Route’\n",null,null,{"$f":"_xlfn.IFNA(IF((INDEX(E1947:E1956,MATCH(\"E\",E1947:E1956,0)))=\"E\",\"E\",\"\"),_xlfn.IFNA(IF((INDEX(E1947:E1956,MATCH(\"D\",E1947:E1956,0)))=\"D\",\"D\",\"\"),_xlfn.IFNA(IF((INDEX(E1947:E1956,MATCH(\"Ca\",E1947:E1956,0)))=\"Ca\",\"C\",\"\"),_xlfn.IFNA(IF((INDEX(E1947:E1956,MATCH(\"C\",E1947:E1956,0)))=\"C\",\"C\",\"\"),_xlfn.IFNA(IF((INDEX(E1947:E1956,MATCH(\"B\",E1947:E1956,0)))=\"B\",\"B\",\"\"),_xlfn.IFNA(IF((INDEX(E1947:E1956,MATCH(\"A\",E1947:E1956,0)))=\"A\",\"A\",\"\"),_xlfn.IFNA(IF((INDEX(E1947:E1956,MATCH(\"n.a.\",E1947:E1956,0)))=\"n.a.\",\"\",\"\"),_xlfn.IFNA(IF((INDEX(E1947:E1956,MATCH(\"\",E1947:E1956,0)))=\"\",\"\",\"\"),\"\"))))))))","v":""},{"$f":"_xlfn.IFNA(IF((INDEX(F1947:F1956,MATCH(\"E\",F1947:F1956,0)))=\"E\",\"E\",\"\"),_xlfn.IFNA(IF((INDEX(F1947:F1956,MATCH(\"D (E)c\",F1947:F1956,0)))=\"D (E)c\",\"D (E)c\",\"\"),_xlfn.IFNA(IF((INDEX(F1947:F1956,MATCH(\"Da (E)c\",F1947:F1956,0)))=\"Da (E)c\",\"D (E)c\",\"\"),_xlfn.IFNA(IF((INDEX(F1947:F1956,MATCH(\"D\",F1947:F1956,0)))=\"D\",\"D\",\"\"),_xlfn.IFNA(IF((INDEX(F1947:F1956,MATCH(\"Ca\",F1947:F1956,0)))=\"Ca\",\"C\",\"\"),_xlfn.IFNA(IF((INDEX(F1947:F1956,MATCH(\"C\",F1947:F1956,0)))=\"C\",\"C\",\"\"),_xlfn.IFNA(IF((INDEX(F1947:F1956,MATCH(\"Ba\",F1947:F1956,0)))=\"Ba\",\"B\",\"\"),_xlfn.IFNA(IF((INDEX(F1947:F1956,MATCH(\"B\",F1947:F1956,0)))=\"B\",\"B\",\"\"),_xlfn.IFNA(IF((INDEX(F1947:F1956,MATCH(\"Aa\",F1947:F1956,0)))=\"Aa\",\"A\",\"\"),_xlfn.IFNA(IF((INDEX(F1947:F1956,MATCH(\"A\",F1947:F1956,0)))=\"A\",\"A\",\"\"),_xlfn.IFNA(IF((INDEX(F1947:F1956,MATCH(\"n.a.\",F1947:F1956,0)))=\"n.a.\",\"\",\"\"),_xlfn.IFNA(IF((INDEX(F1947:F1956,MATCH(\"\",F1947:F1956,0)))=\"\",\"\",\"\"),\"\"))))))))))))","v":""},{"$f":"_xlfn.IFNA(IF((INDEX(G1947:G1956,MATCH(\"E\",G1947:G1956,0)))=\"E\",\"E\",\"\"),_xlfn.IFNA(IF((INDEX(G1947:G1956,MATCH(\"D\",G1947:G1956,0)))=\"D\",\"D\",\"\"),_xlfn.IFNA(IF((INDEX(G1947:G1956,MATCH(\"Ca\",G1947:G1956,0)))=\"Ca\",\"C\",\"\"),_xlfn.IFNA(IF((INDEX(G1947:G1956,MATCH(\"C\",G1947:G1956,0)))=\"C\",\"C\",\"\"),_xlfn.IFNA(IF((INDEX(G1947:G1956,MATCH(\"B\",G1947:G1956,0)))=\"B\",\"B\",\"\"),_xlfn.IFNA(IF((INDEX(G1947:G1956,MATCH(\"A\",G1947:G1956,0)))=\"A\",\"A\",\"\"),_xlfn.IFNA(IF((INDEX(G1947:G1956,MATCH(\"n.a.\",G1947:G1956,0)))=\"n.a.\",\"\",\"\"),_xlfn.IFNA(IF((INDEX(G1947:G1956,MATCH(\"\",G1947:G1956,0)))=\"\",\"\",\"\"),\"\"))))))))","v":""},{"$f":"_xlfn.IFNA(IF((INDEX(H1947:H1956,MATCH(\"E\",H1947:H1956,0)))=\"E\",\"E\",\"\"),_xlfn.IFNA(IF((INDEX(H1947:H1956,MATCH(\"D (E)c\",H1947:H1956,0)))=\"D (E)c\",\"D (E)c\",\"\"),_xlfn.IFNA(IF((INDEX(H1947:H1956,MATCH(\"Db (E)c\",H1947:H1956,0)))=\"Db (E)c\",\"D (E)c\",\"\"),_xlfn.IFNA(IF((INDEX(H1947:H1956,MATCH(\"D\",H1947:H1956,0)))=\"D\",\"D\",\"\"),_xlfn.IFNA(IF((INDEX(H1947:H1956,MATCH(\"Cb\",H1947:H1956,0)))=\"Cb\",\"C\",\"\"),_xlfn.IFNA(IF((INDEX(H1947:H1956,MATCH(\"C\",H1947:H1956,0)))=\"C\",\"C\",\"\"),_xlfn.IFNA(IF((INDEX(H1947:H1956,MATCH(\"Bb\",H1947:H1956,0)))=\"Bb\",\"B\",\"\"),_xlfn.IFNA(IF((INDEX(H1947:H1956,MATCH(\"B\",H1947:H1956,0)))=\"B\",\"B\",\"\"),_xlfn.IFNA(IF((INDEX(H1947:H1956,MATCH(\"Ab\",H1947:H1956,0)))=\"Ab\",\"A\",\"\"),_xlfn.IFNA(IF((INDEX(H1947:H1956,MATCH(\"A\",H1947:H1956,0)))=\"A\",\"A\",\"\"),_xlfn.IFNA(IF((INDEX(H1947:H1956,MATCH(\"n.a.\",H1947:H1956,0)))=\"n.a.\",\"\",\"\"),_xlfn.IFNA(IF((INDEX(H1947:H1956,MATCH(\"\",H1947:H1956,0)))=\"\",\"\",\"\"),\"\"))))))))))))","v":""}]
[null,"\nHighest hazard level for all 'Uptake Routes' \n",null,null,{"$f":"_xlfn.IFNA(IF((INDEX(E1957:H1957,MATCH(\"E\",E1957:H1957,0)))=\"E\",\"E\",\"\"),_xlfn.IFNA(IF((INDEX(E1957:H1957,MATCH(\"D (E)c\",E1957:H1957,0)))=\"D (E)c\",\"D (E)\",\"\"),_xlfn.IFNA(IF((INDEX(E1957:H1957,MATCH(\"D\",E1957:H1957,0)))=\"D\",\"D\",\"\"),_xlfn.IFNA(IF((INDEX(E1957:H1957,MATCH(\"C\",E1957:H1957,0)))=\"C\",\"C\",\"\"),_xlfn.IFNA(IF((INDEX(E1957:H1957,MATCH(\"B\",E1957:H1957,0)))=\"B\",\"B\",\"\"),_xlfn.IFNA(IF((INDEX(E1957:H1957,MATCH(\"A\",E1957:H1957,0)))=\"A\",\"A\",\"\"),_xlfn.IFNA(IF((INDEX(E1957:H1957,MATCH(\"n.a.\",E1957:H1957,0)))=\"n.a.\",\"\",\"\"),_xlfn.IFNA(IF((INDEX(E1957:H1957,MATCH(\"\",E1957:H1957,0)))=\"\",\"\",\"\"),\"\"))))))))","v":""}]
[]
[]
[null,"\nStep 3: D(E) Assessment\nSkip this step if \nyour assessment above does not reveal a D(E) hazard level.\nHover over this cell for additional instructions.\n",null,null,"\nOverall hazard level\n",null,{"$f":"IF(AND(E1958=\"\",C1944=\"Yes\")=TRUE,\"B\",IF(E1958=\"\",\"\",(IF(AND(E1958=\"D (E)\",C1961=\"\"),\"D (E)\"&CHAR(10)&\"Find if cat. 1 acute tox.\",(IF(E1958<>\"D (E)\",E1958,(IF(AND(E1958=\"D (E)\",C1961=\"Yes\"),\"E\",(IF(AND(E1958=\"D (E)\",C1961=\"No\"),\"D\",\"\"))))))))))","v":""}]
[]
[{"$f":"IF(IF(MOD(ROWS(B$3:B1963),20)=1,INDEX('Summary Sheet'!$A$17:$A1979,INT(ROWS(B$3:B1963)/20)+1),\"\")=0,\"\",IF(MOD(ROWS(B$3:B1963),20)=1,INDEX('Summary Sheet'!$A$17:$A1979,INT(ROWS(B$3:B1963)/20)+1),\"\"))","v":99},"Hazard Level Assessment","for",{"$f":"IF(IF(MOD(ROWS(D$3:D1963),20)=1,INDEX('Summary Sheet'!$B$17:$B1979,INT(ROWS(D$3:D1963)/20)+1),\"\")=0,\"\",IF(MOD(ROWS(D$3:D1963),20)=1,INDEX('Summary Sheet'!$B$17:$B1979,INT(ROWS(D$3:D1963)/20)+1),\"\"))","v":""}]
[null,"\nStep 1: Physical & Environmental Hazard Statements/Codes\nFind Section 2 of the SDS and determine if the SDS has physical and/or environmental hazard statements/codes. Hover on this cell for additional instructions.\n",null,{"$f":"IF(IF(MOD(ROWS(D$3:D1964),20)=1,INDEX('Summary Sheet'!$B$17:$B1979,INT(ROWS(D$3:D1964)/20)+1),\"\")=0,\"\",IF(MOD(ROWS(D$3:D1964),20)=1,INDEX('Summary Sheet'!$B$17:$B1979,INT(ROWS(D$3:D1964)/20)+1),\"\"))","v":""}]
[null,"Step 2: Health Hazard Statements/Codes\nProvide the Health Hazard Statements or Codes from Section 2 of the SDS below. Hover on this cell for additional instructions.",null,{"$f":"IF(IF(MOD(ROWS(D$3:D1965),20)=1,INDEX('Summary Sheet'!$B$17:$B1979,INT(ROWS(D$3:D1965)/20)+1),\"\")=0,\"\",IF(MOD(ROWS(D$3:D1965),20)=1,INDEX('Summary Sheet'!$B$17:$B1979,INT(ROWS(D$3:D1965)/20)+1),\"\"))","v":""},"\nHazard Level\n"]
[null,null,null,{"$f":"IF(IF(MOD(ROWS(D$3:D1966),20)=1,INDEX('Summary Sheet'!$B$17:$B1979,INT(ROWS(D$3:D1966)/20)+1),\"\")=0,\"\",IF(MOD(ROWS(D$3:D1966),20)=1,INDEX('Summary Sheet'!$B$17:$B1979,INT(ROWS(D$3:D1966)/20)+1),\"\"))","v":""},"\nEye Damage\n","\nInhalation\n","\nLocal Skin Damage\n","\nSkin uptake, systemic\n"]
[1,null,{"$f":"_xlfn.IFNA(VLOOKUP(B1967,_!$A$7:$F$210,6,FALSE),\"\")","v":""},{"$f":"IF(IF(MOD(ROWS(D$3:D1967),20)=1,INDEX('Summary Sheet'!$B$17:$B1979,INT(ROWS(D$3:D1967)/20)+1),\"\")=0,\"\",IF(MOD(ROWS(D$3:D1967),20)=1,INDEX('Summary Sheet'!$B$17:$B1979,INT(ROWS(D$3:D1967)/20)+1),\"\"))","v":""},{"$f":"_xlfn.IFNA(IF(VLOOKUP(B1967,_!$A$7:$E$210,2,FALSE)=0, \"\", VLOOKUP(B1967,_!$A$7:$E$210,2,FALSE)),  \"\")","v":""},{"$f":"_xlfn.IFNA(IF(VLOOKUP(B1967,_!$A$7:$E$210,3,FALSE)=0, \"\", VLOOKUP(B1967,_!$A$7:$E$210,3,FALSE)), \"\")","v":""},{"$f":"_xlfn.IFNA(IF(VLOOKUP(B1967,_!$A$7:$E$210,4,FALSE)=0, \"\",VLOOKUP(B1967,_!$A$7:$E$210,4,FALSE)), \"\")","v":""},{"$f":"_xlfn.IFNA(IF(VLOOKUP(B1967,_!$A$7:$E$210,5,FALSE)=0,\"\",VLOOKUP(B1967,_!$A$7:$E$210,5,FALSE)), \"\")","v":""}]
[2,null,{"$f":"_xlfn.IFNA(VLOOKUP(B1968,_!$A$7:$F$210,6,FALSE),\"\")","v":""},{"$f":"IF(IF(MOD(ROWS(D$3:D1968),20)=1,INDEX('Summary Sheet'!$B$17:$B1979,INT(ROWS(D$3:D1968)/20)+1),\"\")=0,\"\",IF(MOD(ROWS(D$3:D1968),20)=1,INDEX('Summary Sheet'!$B$17:$B1979,INT(ROWS(D$3:D1968)/20)+1),\"\"))","v":""},{"$f":"_xlfn.IFNA(IF(VLOOKUP(B1968,_!$A$7:$E$210,2,FALSE)=0, \"\", VLOOKUP(B1968,_!$A$7:$E$210,2,FALSE)),  \"\")","v":""},{"$f":"_xlfn.IFNA(IF(VLOOKUP(B1968,_!$A$7:$E$210,3,FALSE)=0, \"\", VLOOKUP(B1968,_!$A$7:$E$210,3,FALSE)), \"\")","v":""},{"$f":"_xlfn.IFNA(IF(VLOOKUP(B1968,_!$A$7:$E$210,4,FALSE)=0, \"\",VLOOKUP(B1968,_!$A$7:$E$210,4,FALSE)), \"\")","v":""},{"$f":"_xlfn.IFNA(IF(VLOOKUP(B1968,_!$A$7:$E$210,5,FALSE)=0,\"\",VLOOKUP(B1968,_!$A$7:$E$210,5,FALSE)), \"\")","v":""}]
[3,null,{"$f":"_xlfn.IFNA(VLOOKUP(B1969,_!$A$7:$F$210,6,FALSE),\"\")","v":""},{"$f":"IF(IF(MOD(ROWS(D$3:D1969),20)=1,INDEX('Summary Sheet'!$B$17:$B1979,INT(ROWS(D$3:D1969)/20)+1),\"\")=0,\"\",IF(MOD(ROWS(D$3:D1969),20)=1,INDEX('Summary Sheet'!$B$17:$B1979,INT(ROWS(D$3:D1969)/20)+1),\"\"))","v":""},{"$f":"_xlfn.IFNA(IF(VLOOKUP(B1969,_!$A$7:$E$210,2,FALSE)=0, \"\", VLOOKUP(B1969,_!$A$7:$E$210,2,FALSE)),  \"\")","v":""},{"$f":"_xlfn.IFNA(IF(VLOOKUP(B1969,_!$A$7:$E$210,3,FALSE)=0, \"\", VLOOKUP(B1969,_!$A$7:$E$210,3,FALSE)), \"\")","v":""},{"$f":"_xlfn.IFNA(IF(VLOOKUP(B1969,_!$A$7:$E$210,4,FALSE)=0, \"\",VLOOKUP(B1969,_!$A$7:$E$210,4,FALSE)), \"\")","v":""},{"$f":"_xlfn.IFNA(IF(VLOOKUP(B1969,_!$A$7:$E$210,5,FALSE)=0,\"\",VLOOKUP(B1969,_!$A$7:$E$210,5,FALSE)), \"\")","v":""}]
[4,null,{"$f":"_xlfn.IFNA(VLOOKUP(B1970,_!$A$7:$F$210,6,FALSE),\"\")","v":""},{"$f":"IF(IF(MOD(ROWS(D$3:D1970),20)=1,INDEX('Summary Sheet'!$B$17:$B1979,INT(ROWS(D$3:D1970)/20)+1),\"\")=0,\"\",IF(MOD(ROWS(D$3:D1970),20)=1,INDEX('Summary Sheet'!$B$17:$B1979,INT(ROWS(D$3:D1970)/20)+1),\"\"))","v":""},{"$f":"_xlfn.IFNA(IF(VLOOKUP(B1970,_!$A$7:$E$210,2,FALSE)=0, \"\", VLOOKUP(B1970,_!$A$7:$E$210,2,FALSE)),  \"\")","v":""},{"$f":"_xlfn.IFNA(IF(VLOOKUP(B1970,_!$A$7:$E$210,3,FALSE)=0, \"\", VLOOKUP(B1970,_!$A$7:$E$210,3,FALSE)), \"\")","v":""},{"$f":"_xlfn.IFNA(IF(VLOOKUP(B1970,_!$A$7:$E$210,4,FALSE)=0, \"\",VLOOKUP(B1970,_!$A$7:$E$210,4,FALSE)), \"\")","v":""},{"$f":"_xlfn.IFNA(IF(VLOOKUP(B1970,_!$A$7:$E$210,5,FALSE)=0,\"\",VLOOKUP(B1970,_!$A$7:$E$210,5,FALSE)), \"\")","v":""}]
[5,null,{"$f":"_xlfn.IFNA(VLOOKUP(B1971,_!$A$7:$F$210,6,FALSE),\"\")","v":""},{"$f":"IF(IF(MOD(ROWS(D$3:D1971),20)=1,INDEX('Summary Sheet'!$B$17:$B1979,INT(ROWS(D$3:D1971)/20)+1),\"\")=0,\"\",IF(MOD(ROWS(D$3:D1971),20)=1,INDEX('Summary Sheet'!$B$17:$B1979,INT(ROWS(D$3:D1971)/20)+1),\"\"))","v":""},{"$f":"_xlfn.IFNA(IF(VLOOKUP(B1971,_!$A$7:$E$210,2,FALSE)=0, \"\", VLOOKUP(B1971,_!$A$7:$E$210,2,FALSE)),  \"\")","v":""},{"$f":"_xlfn.IFNA(IF(VLOOKUP(B1971,_!$A$7:$E$210,3,FALSE)=0, \"\", VLOOKUP(B1971,_!$A$7:$E$210,3,FALSE)), \"\")","v":""},{"$f":"_xlfn.IFNA(IF(VLOOKUP(B1971,_!$A$7:$E$210,4,FALSE)=0, \"\",VLOOKUP(B1971,_!$A$7:$E$210,4,FALSE)), \"\")","v":""},{"$f":"_xlfn.IFNA(IF(VLOOKUP(B1971,_!$A$7:$E$210,5,FALSE)=0,\"\",VLOOKUP(B1971,_!$A$7:$E$210,5,FALSE)), \"\")","v":""}]
[6,null,{"$f":"_xlfn.IFNA(VLOOKUP(B1972,_!$A$7:$F$210,6,FALSE),\"\")","v":""},{"$f":"IF(IF(MOD(ROWS(D$3:D1972),20)=1,INDEX('Summary Sheet'!$B$17:$B1979,INT(ROWS(D$3:D1972)/20)+1),\"\")=0,\"\",IF(MOD(ROWS(D$3:D1972),20)=1,INDEX('Summary Sheet'!$B$17:$B1979,INT(ROWS(D$3:D1972)/20)+1),\"\"))","v":""},{"$f":"_xlfn.IFNA(IF(VLOOKUP(B1972,_!$A$7:$E$210,2,FALSE)=0, \"\", VLOOKUP(B1972,_!$A$7:$E$210,2,FALSE)),  \"\")","v":""},{"$f":"_xlfn.IFNA(IF(VLOOKUP(B1972,_!$A$7:$E$210,3,FALSE)=0, \"\", VLOOKUP(B1972,_!$A$7:$E$210,3,FALSE)), \"\")","v":""},{"$f":"_xlfn.IFNA(IF(VLOOKUP(B1972,_!$A$7:$E$210,4,FALSE)=0, \"\",VLOOKUP(B1972,_!$A$7:$E$210,4,FALSE)), \"\")","v":""},{"$f":"_xlfn.IFNA(IF(VLOOKUP(B1972,_!$A$7:$E$210,5,FALSE)=0,\"\",VLOOKUP(B1972,_!$A$7:$E$210,5,FALSE)), \"\")","v":""}]
[7,null,{"$f":"_xlfn.IFNA(VLOOKUP(B1973,_!$A$7:$F$210,6,FALSE),\"\")","v":""},{"$f":"IF(IF(MOD(ROWS(D$3:D1973),20)=1,INDEX('Summary Sheet'!$B$17:$B1979,INT(ROWS(D$3:D1973)/20)+1),\"\")=0,\"\",IF(MOD(ROWS(D$3:D1973),20)=1,INDEX('Summary Sheet'!$B$17:$B1979,INT(ROWS(D$3:D1973)/20)+1),\"\"))","v":""},{"$f":"_xlfn.IFNA(IF(VLOOKUP(B1973,_!$A$7:$E$210,2,FALSE)=0, \"\", VLOOKUP(B1973,_!$A$7:$E$210,2,FALSE)),  \"\")","v":""},{"$f":"_xlfn.IFNA(IF(VLOOKUP(B1973,_!$A$7:$E$210,3,FALSE)=0, \"\", VLOOKUP(B1973,_!$A$7:$E$210,3,FALSE)), \"\")","v":""},{"$f":"_xlfn.IFNA(IF(VLOOKUP(B1973,_!$A$7:$E$210,4,FALSE)=0, \"\",VLOOKUP(B1973,_!$A$7:$E$210,4,FALSE)), \"\")","v":""},{"$f":"_xlfn.IFNA(IF(VLOOKUP(B1973,_!$A$7:$E$210,5,FALSE)=0,\"\",VLOOKUP(B1973,_!$A$7:$E$210,5,FALSE)), \"\")","v":""}]
[8,null,{"$f":"_xlfn.IFNA(VLOOKUP(B1974,_!$A$7:$F$210,6,FALSE),\"\")","v":""},{"$f":"IF(IF(MOD(ROWS(D$3:D1974),20)=1,INDEX('Summary Sheet'!$B$17:$B1979,INT(ROWS(D$3:D1974)/20)+1),\"\")=0,\"\",IF(MOD(ROWS(D$3:D1974),20)=1,INDEX('Summary Sheet'!$B$17:$B1979,INT(ROWS(D$3:D1974)/20)+1),\"\"))","v":""},{"$f":"_xlfn.IFNA(IF(VLOOKUP(B1974,_!$A$7:$E$210,2,FALSE)=0, \"\", VLOOKUP(B1974,_!$A$7:$E$210,2,FALSE)),  \"\")","v":""},{"$f":"_xlfn.IFNA(IF(VLOOKUP(B1974,_!$A$7:$E$210,3,FALSE)=0, \"\", VLOOKUP(B1974,_!$A$7:$E$210,3,FALSE)), \"\")","v":""},{"$f":"_xlfn.IFNA(IF(VLOOKUP(B1974,_!$A$7:$E$210,4,FALSE)=0, \"\",VLOOKUP(B1974,_!$A$7:$E$210,4,FALSE)), \"\")","v":""},{"$f":"_xlfn.IFNA(IF(VLOOKUP(B1974,_!$A$7:$E$210,5,FALSE)=0,\"\",VLOOKUP(B1974,_!$A$7:$E$210,5,FALSE)), \"\")","v":""}]
[9,null,{"$f":"_xlfn.IFNA(VLOOKUP(B1975,_!$A$7:$F$210,6,FALSE),\"\")","v":""},{"$f":"IF(IF(MOD(ROWS(D$3:D1975),20)=1,INDEX('Summary Sheet'!$B$17:$B1979,INT(ROWS(D$3:D1975)/20)+1),\"\")=0,\"\",IF(MOD(ROWS(D$3:D1975),20)=1,INDEX('Summary Sheet'!$B$17:$B1979,INT(ROWS(D$3:D1975)/20)+1),\"\"))","v":""},{"$f":"_xlfn.IFNA(IF(VLOOKUP(B1975,_!$A$7:$E$210,2,FALSE)=0, \"\", VLOOKUP(B1975,_!$A$7:$E$210,2,FALSE)),  \"\")","v":""},{"$f":"_xlfn.IFNA(IF(VLOOKUP(B1975,_!$A$7:$E$210,3,FALSE)=0, \"\", VLOOKUP(B1975,_!$A$7:$E$210,3,FALSE)), \"\")","v":""},{"$f":"_xlfn.IFNA(IF(VLOOKUP(B1975,_!$A$7:$E$210,4,FALSE)=0, \"\",VLOOKUP(B1975,_!$A$7:$E$210,4,FALSE)), \"\")","v":""},{"$f":"_xlfn.IFNA(IF(VLOOKUP(B1975,_!$A$7:$E$210,5,FALSE)=0,\"\",VLOOKUP(B1975,_!$A$7:$E$210,5,FALSE)), \"\")","v":""}]
[10,null,{"$f":"_xlfn.IFNA(VLOOKUP(B1976,_!$A$7:$F$210,6,FALSE),\"\")","v":""},{"$f":"IF(IF(MOD(ROWS(D$14:D1976),20)=1,INDEX('Summary Sheet'!$B$17:$B1979,INT(ROWS(D$14:D1976)/20)+1),\"\")=0,\"\",IF(MOD(ROWS(D$14:D1976),20)=1,INDEX('Summary Sheet'!$B$17:$B1979,INT(ROWS(D$14:D1976)/20)+1),\"\"))","v":""},{"$f":"_xlfn.IFNA(IF(VLOOKUP(B1976,_!$A$7:$E$210,2,FALSE)=0, \"\", VLOOKUP(B1976,_!$A$7:$E$210,2,FALSE)),  \"\")","v":""},{"$f":"_xlfn.IFNA(IF(VLOOKUP(B1976,_!$A$7:$E$210,3,FALSE)=0, \"\", VLOOKUP(B1976,_!$A$7:$E$210,3,FALSE)), \"\")","v":""},{"$f":"_xlfn.IFNA(IF(VLOOKUP(B1976,_!$A$7:$E$210,4,FALSE)=0, \"\",VLOOKUP(B1976,_!$A$7:$E$210,4,FALSE)), \"\")","v":""},{"$f":"_xlfn.IFNA(IF(VLOOKUP(B1976,_!$A$7:$E$210,5,FALSE)=0,\"\",VLOOKUP(B1976,_!$A$7:$E$210,5,FALSE)), \"\")","v":""}]
[null,"\nHighest hazard level for each ‘Uptake Route’\n",null,null,{"$f":"_xlfn.IFNA(IF((INDEX(E1967:E1976,MATCH(\"E\",E1967:E1976,0)))=\"E\",\"E\",\"\"),_xlfn.IFNA(IF((INDEX(E1967:E1976,MATCH(\"D\",E1967:E1976,0)))=\"D\",\"D\",\"\"),_xlfn.IFNA(IF((INDEX(E1967:E1976,MATCH(\"Ca\",E1967:E1976,0)))=\"Ca\",\"C\",\"\"),_xlfn.IFNA(IF((INDEX(E1967:E1976,MATCH(\"C\",E1967:E1976,0)))=\"C\",\"C\",\"\"),_xlfn.IFNA(IF((INDEX(E1967:E1976,MATCH(\"B\",E1967:E1976,0)))=\"B\",\"B\",\"\"),_xlfn.IFNA(IF((INDEX(E1967:E1976,MATCH(\"A\",E1967:E1976,0)))=\"A\",\"A\",\"\"),_xlfn.IFNA(IF((INDEX(E1967:E1976,MATCH(\"n.a.\",E1967:E1976,0)))=\"n.a.\",\"\",\"\"),_xlfn.IFNA(IF((INDEX(E1967:E1976,MATCH(\"\",E1967:E1976,0)))=\"\",\"\",\"\"),\"\"))))))))","v":""},{"$f":"_xlfn.IFNA(IF((INDEX(F1967:F1976,MATCH(\"E\",F1967:F1976,0)))=\"E\",\"E\",\"\"),_xlfn.IFNA(IF((INDEX(F1967:F1976,MATCH(\"D (E)c\",F1967:F1976,0)))=\"D (E)c\",\"D (E)c\",\"\"),_xlfn.IFNA(IF((INDEX(F1967:F1976,MATCH(\"Da (E)c\",F1967:F1976,0)))=\"Da (E)c\",\"D (E)c\",\"\"),_xlfn.IFNA(IF((INDEX(F1967:F1976,MATCH(\"D\",F1967:F1976,0)))=\"D\",\"D\",\"\"),_xlfn.IFNA(IF((INDEX(F1967:F1976,MATCH(\"Ca\",F1967:F1976,0)))=\"Ca\",\"C\",\"\"),_xlfn.IFNA(IF((INDEX(F1967:F1976,MATCH(\"C\",F1967:F1976,0)))=\"C\",\"C\",\"\"),_xlfn.IFNA(IF((INDEX(F1967:F1976,MATCH(\"Ba\",F1967:F1976,0)))=\"Ba\",\"B\",\"\"),_xlfn.IFNA(IF((INDEX(F1967:F1976,MATCH(\"B\",F1967:F1976,0)))=\"B\",\"B\",\"\"),_xlfn.IFNA(IF((INDEX(F1967:F1976,MATCH(\"Aa\",F1967:F1976,0)))=\"Aa\",\"A\",\"\"),_xlfn.IFNA(IF((INDEX(F1967:F1976,MATCH(\"A\",F1967:F1976,0)))=\"A\",\"A\",\"\"),_xlfn.IFNA(IF((INDEX(F1967:F1976,MATCH(\"n.a.\",F1967:F1976,0)))=\"n.a.\",\"\",\"\"),_xlfn.IFNA(IF((INDEX(F1967:F1976,MATCH(\"\",F1967:F1976,0)))=\"\",\"\",\"\"),\"\"))))))))))))","v":""},{"$f":"_xlfn.IFNA(IF((INDEX(G1967:G1976,MATCH(\"E\",G1967:G1976,0)))=\"E\",\"E\",\"\"),_xlfn.IFNA(IF((INDEX(G1967:G1976,MATCH(\"D\",G1967:G1976,0)))=\"D\",\"D\",\"\"),_xlfn.IFNA(IF((INDEX(G1967:G1976,MATCH(\"Ca\",G1967:G1976,0)))=\"Ca\",\"C\",\"\"),_xlfn.IFNA(IF((INDEX(G1967:G1976,MATCH(\"C\",G1967:G1976,0)))=\"C\",\"C\",\"\"),_xlfn.IFNA(IF((INDEX(G1967:G1976,MATCH(\"B\",G1967:G1976,0)))=\"B\",\"B\",\"\"),_xlfn.IFNA(IF((INDEX(G1967:G1976,MATCH(\"A\",G1967:G1976,0)))=\"A\",\"A\",\"\"),_xlfn.IFNA(IF((INDEX(G1967:G1976,MATCH(\"n.a.\",G1967:G1976,0)))=\"n.a.\",\"\",\"\"),_xlfn.IFNA(IF((INDEX(G1967:G1976,MATCH(\"\",G1967:G1976,0)))=\"\",\"\",\"\"),\"\"))))))))","v":""},{"$f":"_xlfn.IFNA(IF((INDEX(H1967:H1976,MATCH(\"E\",H1967:H1976,0)))=\"E\",\"E\",\"\"),_xlfn.IFNA(IF((INDEX(H1967:H1976,MATCH(\"D (E)c\",H1967:H1976,0)))=\"D (E)c\",\"D (E)c\",\"\"),_xlfn.IFNA(IF((INDEX(H1967:H1976,MATCH(\"Db (E)c\",H1967:H1976,0)))=\"Db (E)c\",\"D (E)c\",\"\"),_xlfn.IFNA(IF((INDEX(H1967:H1976,MATCH(\"D\",H1967:H1976,0)))=\"D\",\"D\",\"\"),_xlfn.IFNA(IF((INDEX(H1967:H1976,MATCH(\"Cb\",H1967:H1976,0)))=\"Cb\",\"C\",\"\"),_xlfn.IFNA(IF((INDEX(H1967:H1976,MATCH(\"C\",H1967:H1976,0)))=\"C\",\"C\",\"\"),_xlfn.IFNA(IF((INDEX(H1967:H1976,MATCH(\"Bb\",H1967:H1976,0)))=\"Bb\",\"B\",\"\"),_xlfn.IFNA(IF((INDEX(H1967:H1976,MATCH(\"B\",H1967:H1976,0)))=\"B\",\"B\",\"\"),_xlfn.IFNA(IF((INDEX(H1967:H1976,MATCH(\"Ab\",H1967:H1976,0)))=\"Ab\",\"A\",\"\"),_xlfn.IFNA(IF((INDEX(H1967:H1976,MATCH(\"A\",H1967:H1976,0)))=\"A\",\"A\",\"\"),_xlfn.IFNA(IF((INDEX(H1967:H1976,MATCH(\"n.a.\",H1967:H1976,0)))=\"n.a.\",\"\",\"\"),_xlfn.IFNA(IF((INDEX(H1967:H1976,MATCH(\"\",H1967:H1976,0)))=\"\",\"\",\"\"),\"\"))))))))))))","v":""}]
[null,"\nHighest hazard level for all 'Uptake Routes' \n",null,null,{"$f":"_xlfn.IFNA(IF((INDEX(E1977:H1977,MATCH(\"E\",E1977:H1977,0)))=\"E\",\"E\",\"\"),_xlfn.IFNA(IF((INDEX(E1977:H1977,MATCH(\"D (E)c\",E1977:H1977,0)))=\"D (E)c\",\"D (E)\",\"\"),_xlfn.IFNA(IF((INDEX(E1977:H1977,MATCH(\"D\",E1977:H1977,0)))=\"D\",\"D\",\"\"),_xlfn.IFNA(IF((INDEX(E1977:H1977,MATCH(\"C\",E1977:H1977,0)))=\"C\",\"C\",\"\"),_xlfn.IFNA(IF((INDEX(E1977:H1977,MATCH(\"B\",E1977:H1977,0)))=\"B\",\"B\",\"\"),_xlfn.IFNA(IF((INDEX(E1977:H1977,MATCH(\"A\",E1977:H1977,0)))=\"A\",\"A\",\"\"),_xlfn.IFNA(IF((INDEX(E1977:H1977,MATCH(\"n.a.\",E1977:H1977,0)))=\"n.a.\",\"\",\"\"),_xlfn.IFNA(IF((INDEX(E1977:H1977,MATCH(\"\",E1977:H1977,0)))=\"\",\"\",\"\"),\"\"))))))))","v":""}]
[]
[]
[null,"\nStep 3: D(E) Assessment\nSkip this step if \nyour assessment above does not reveal a D(E) hazard level.\nHover over this cell for additional instructions.\n",null,null,"\nOverall hazard level\n",null,{"$f":"IF(AND(E1978=\"\",C1964=\"Yes\")=TRUE,\"B\",IF(E1978=\"\",\"\",(IF(AND(E1978=\"D (E)\",C1981=\"\"),\"D (E)\"&CHAR(10)&\"Find if cat. 1 acute tox.\",(IF(E1978<>\"D (E)\",E1978,(IF(AND(E1978=\"D (E)\",C1981=\"Yes\"),\"E\",(IF(AND(E1978=\"D (E)\",C1981=\"No\"),\"D\",\"\"))))))))))","v":""}]
[]
[{"$f":"IF(IF(MOD(ROWS(B$3:B1983),20)=1,INDEX('Summary Sheet'!$A$17:$A1998,INT(ROWS(B$3:B1983)/20)+1),\"\")=0,\"\",IF(MOD(ROWS(B$3:B1983),20)=1,INDEX('Summary Sheet'!$A$17:$A1998,INT(ROWS(B$3:B1983)/20)+1),\"\"))","v":100},"Hazard Level Assessment","for",{"$f":"IF(IF(MOD(ROWS(D$3:D1983),20)=1,INDEX('Summary Sheet'!$B$17:$B1998,INT(ROWS(D$3:D1983)/20)+1),\"\")=0,\"\",IF(MOD(ROWS(D$3:D1983),20)=1,INDEX('Summary Sheet'!$B$17:$B1998,INT(ROWS(D$3:D1983)/20)+1),\"\"))","v":""}]
[null,"\nStep 1: Physical & Environmental Hazard Statements/Codes\nFind Section 2 of the SDS and determine if the SDS has physical and/or environmental hazard statements/codes. Hover on this cell for additional instructions.\n",null,{"$f":"IF(IF(MOD(ROWS(D$3:D1984),20)=1,INDEX('Summary Sheet'!$B$17:$B1998,INT(ROWS(D$3:D1984)/20)+1),\"\")=0,\"\",IF(MOD(ROWS(D$3:D1984),20)=1,INDEX('Summary Sheet'!$B$17:$B1998,INT(ROWS(D$3:D1984)/20)+1),\"\"))","v":""}]
[null,"Step 2: Health Hazard Statements/Codes\nProvide the Health Hazard Statements or Codes from Section 2 of the SDS below. Hover on this cell for additional instructions.",null,{"$f":"IF(IF(MOD(ROWS(D$3:D1985),20)=1,INDEX('Summary Sheet'!$B$17:$B1998,INT(ROWS(D$3:D1985)/20)+1),\"\")=0,\"\",IF(MOD(ROWS(D$3:D1985),20)=1,INDEX('Summary Sheet'!$B$17:$B1998,INT(ROWS(D$3:D1985)/20)+1),\"\"))","v":""},"\nHazard Level\n"]
[null,null,null,{"$f":"IF(IF(MOD(ROWS(D$3:D1986),20)=1,INDEX('Summary Sheet'!$B$17:$B1998,INT(ROWS(D$3:D1986)/20)+1),\"\")=0,\"\",IF(MOD(ROWS(D$3:D1986),20)=1,INDEX('Summary Sheet'!$B$17:$B1998,INT(ROWS(D$3:D1986)/20)+1),\"\"))","v":""},"\nEye Damage\n","\nInhalation\n","\nLocal Skin Damage\n","\nSkin uptake, systemic\n"]
[1,null,{"$f":"_xlfn.IFNA(VLOOKUP(B1987,_!$A$7:$F$210,6,FALSE),\"\")","v":""},{"$f":"IF(IF(MOD(ROWS(D$3:D1987),20)=1,INDEX('Summary Sheet'!$B$17:$B1998,INT(ROWS(D$3:D1987)/20)+1),\"\")=0,\"\",IF(MOD(ROWS(D$3:D1987),20)=1,INDEX('Summary Sheet'!$B$17:$B1998,INT(ROWS(D$3:D1987)/20)+1),\"\"))","v":""},{"$f":"_xlfn.IFNA(IF(VLOOKUP(B1987,_!$A$7:$E$210,2,FALSE)=0, \"\", VLOOKUP(B1987,_!$A$7:$E$210,2,FALSE)),  \"\")","v":""},{"$f":"_xlfn.IFNA(IF(VLOOKUP(B1987,_!$A$7:$E$210,3,FALSE)=0, \"\", VLOOKUP(B1987,_!$A$7:$E$210,3,FALSE)), \"\")","v":""},{"$f":"_xlfn.IFNA(IF(VLOOKUP(B1987,_!$A$7:$E$210,4,FALSE)=0, \"\",VLOOKUP(B1987,_!$A$7:$E$210,4,FALSE)), \"\")","v":""},{"$f":"_xlfn.IFNA(IF(VLOOKUP(B1987,_!$A$7:$E$210,5,FALSE)=0,\"\",VLOOKUP(B1987,_!$A$7:$E$210,5,FALSE)), \"\")","v":""}]
[2,null,{"$f":"_xlfn.IFNA(VLOOKUP(B1988,_!$A$7:$F$210,6,FALSE),\"\")","v":""},{"$f":"IF(IF(MOD(ROWS(D$3:D1988),20)=1,INDEX('Summary Sheet'!$B$17:$B1998,INT(ROWS(D$3:D1988)/20)+1),\"\")=0,\"\",IF(MOD(ROWS(D$3:D1988),20)=1,INDEX('Summary Sheet'!$B$17:$B1998,INT(ROWS(D$3:D1988)/20)+1),\"\"))","v":""},{"$f":"_xlfn.IFNA(IF(VLOOKUP(B1988,_!$A$7:$E$210,2,FALSE)=0, \"\", VLOOKUP(B1988,_!$A$7:$E$210,2,FALSE)),  \"\")","v":""},{"$f":"_xlfn.IFNA(IF(VLOOKUP(B1988,_!$A$7:$E$210,3,FALSE)=0, \"\", VLOOKUP(B1988,_!$A$7:$E$210,3,FALSE)), \"\")","v":""},{"$f":"_xlfn.IFNA(IF(VLOOKUP(B1988,_!$A$7:$E$210,4,FALSE)=0, \"\",VLOOKUP(B1988,_!$A$7:$E$210,4,FALSE)), \"\")","v":""},{"$f":"_xlfn.IFNA(IF(VLOOKUP(B1988,_!$A$7:$E$210,5,FALSE)=0,\"\",VLOOKUP(B1988,_!$A$7:$E$210,5,FALSE)), \"\")","v":""}]
[3,null,{"$f":"_xlfn.IFNA(VLOOKUP(B1989,_!$A$7:$F$210,6,FALSE),\"\")","v":""},{"$f":"IF(IF(MOD(ROWS(D$3:D1989),20)=1,INDEX('Summary Sheet'!$B$17:$B1998,INT(ROWS(D$3:D1989)/20)+1),\"\")=0,\"\",IF(MOD(ROWS(D$3:D1989),20)=1,INDEX('Summary Sheet'!$B$17:$B1998,INT(ROWS(D$3:D1989)/20)+1),\"\"))","v":""},{"$f":"_xlfn.IFNA(IF(VLOOKUP(B1989,_!$A$7:$E$210,2,FALSE)=0, \"\", VLOOKUP(B1989,_!$A$7:$E$210,2,FALSE)),  \"\")","v":""},{"$f":"_xlfn.IFNA(IF(VLOOKUP(B1989,_!$A$7:$E$210,3,FALSE)=0, \"\", VLOOKUP(B1989,_!$A$7:$E$210,3,FALSE)), \"\")","v":""},{"$f":"_xlfn.IFNA(IF(VLOOKUP(B1989,_!$A$7:$E$210,4,FALSE)=0, \"\",VLOOKUP(B1989,_!$A$7:$E$210,4,FALSE)), \"\")","v":""},{"$f":"_xlfn.IFNA(IF(VLOOKUP(B1989,_!$A$7:$E$210,5,FALSE)=0,\"\",VLOOKUP(B1989,_!$A$7:$E$210,5,FALSE)), \"\")","v":""}]
[4,null,{"$f":"_xlfn.IFNA(VLOOKUP(B1990,_!$A$7:$F$210,6,FALSE),\"\")","v":""},{"$f":"IF(IF(MOD(ROWS(D$3:D1990),20)=1,INDEX('Summary Sheet'!$B$17:$B1998,INT(ROWS(D$3:D1990)/20)+1),\"\")=0,\"\",IF(MOD(ROWS(D$3:D1990),20)=1,INDEX('Summary Sheet'!$B$17:$B1998,INT(ROWS(D$3:D1990)/20)+1),\"\"))","v":""},{"$f":"_xlfn.IFNA(IF(VLOOKUP(B1990,_!$A$7:$E$210,2,FALSE)=0, \"\", VLOOKUP(B1990,_!$A$7:$E$210,2,FALSE)),  \"\")","v":""},{"$f":"_xlfn.IFNA(IF(VLOOKUP(B1990,_!$A$7:$E$210,3,FALSE)=0, \"\", VLOOKUP(B1990,_!$A$7:$E$210,3,FALSE)), \"\")","v":""},{"$f":"_xlfn.IFNA(IF(VLOOKUP(B1990,_!$A$7:$E$210,4,FALSE)=0, \"\",VLOOKUP(B1990,_!$A$7:$E$210,4,FALSE)), \"\")","v":""},{"$f":"_xlfn.IFNA(IF(VLOOKUP(B1990,_!$A$7:$E$210,5,FALSE)=0,\"\",VLOOKUP(B1990,_!$A$7:$E$210,5,FALSE)), \"\")","v":""}]
[5,null,{"$f":"_xlfn.IFNA(VLOOKUP(B1991,_!$A$7:$F$210,6,FALSE),\"\")","v":""},{"$f":"IF(IF(MOD(ROWS(D$3:D1991),20)=1,INDEX('Summary Sheet'!$B$17:$B1998,INT(ROWS(D$3:D1991)/20)+1),\"\")=0,\"\",IF(MOD(ROWS(D$3:D1991),20)=1,INDEX('Summary Sheet'!$B$17:$B1998,INT(ROWS(D$3:D1991)/20)+1),\"\"))","v":""},{"$f":"_xlfn.IFNA(IF(VLOOKUP(B1991,_!$A$7:$E$210,2,FALSE)=0, \"\", VLOOKUP(B1991,_!$A$7:$E$210,2,FALSE)),  \"\")","v":""},{"$f":"_xlfn.IFNA(IF(VLOOKUP(B1991,_!$A$7:$E$210,3,FALSE)=0, \"\", VLOOKUP(B1991,_!$A$7:$E$210,3,FALSE)), \"\")","v":""},{"$f":"_xlfn.IFNA(IF(VLOOKUP(B1991,_!$A$7:$E$210,4,FALSE)=0, \"\",VLOOKUP(B1991,_!$A$7:$E$210,4,FALSE)), \"\")","v":""},{"$f":"_xlfn.IFNA(IF(VLOOKUP(B1991,_!$A$7:$E$210,5,FALSE)=0,\"\",VLOOKUP(B1991,_!$A$7:$E$210,5,FALSE)), \"\")","v":""}]
[6,null,{"$f":"_xlfn.IFNA(VLOOKUP(B1992,_!$A$7:$F$210,6,FALSE),\"\")","v":""},{"$f":"IF(IF(MOD(ROWS(D$3:D1992),20)=1,INDEX('Summary Sheet'!$B$17:$B1998,INT(ROWS(D$3:D1992)/20)+1),\"\")=0,\"\",IF(MOD(ROWS(D$3:D1992),20)=1,INDEX('Summary Sheet'!$B$17:$B1998,INT(ROWS(D$3:D1992)/20)+1),\"\"))","v":""},{"$f":"_xlfn.IFNA(IF(VLOOKUP(B1992,_!$A$7:$E$210,2,FALSE)=0, \"\", VLOOKUP(B1992,_!$A$7:$E$210,2,FALSE)),  \"\")","v":""},{"$f":"_xlfn.IFNA(IF(VLOOKUP(B1992,_!$A$7:$E$210,3,FALSE)=0, \"\", VLOOKUP(B1992,_!$A$7:$E$210,3,FALSE)), \"\")","v":""},{"$f":"_xlfn.IFNA(IF(VLOOKUP(B1992,_!$A$7:$E$210,4,FALSE)=0, \"\",VLOOKUP(B1992,_!$A$7:$E$210,4,FALSE)), \"\")","v":""},{"$f":"_xlfn.IFNA(IF(VLOOKUP(B1992,_!$A$7:$E$210,5,FALSE)=0,\"\",VLOOKUP(B1992,_!$A$7:$E$210,5,FALSE)), \"\")","v":""}]
[7,null,{"$f":"_xlfn.IFNA(VLOOKUP(B1993,_!$A$7:$F$210,6,FALSE),\"\")","v":""},{"$f":"IF(IF(MOD(ROWS(D$3:D1993),20)=1,INDEX('Summary Sheet'!$B$17:$B1998,INT(ROWS(D$3:D1993)/20)+1),\"\")=0,\"\",IF(MOD(ROWS(D$3:D1993),20)=1,INDEX('Summary Sheet'!$B$17:$B1998,INT(ROWS(D$3:D1993)/20)+1),\"\"))","v":""},{"$f":"_xlfn.IFNA(IF(VLOOKUP(B1993,_!$A$7:$E$210,2,FALSE)=0, \"\", VLOOKUP(B1993,_!$A$7:$E$210,2,FALSE)),  \"\")","v":""},{"$f":"_xlfn.IFNA(IF(VLOOKUP(B1993,_!$A$7:$E$210,3,FALSE)=0, \"\", VLOOKUP(B1993,_!$A$7:$E$210,3,FALSE)), \"\")","v":""},{"$f":"_xlfn.IFNA(IF(VLOOKUP(B1993,_!$A$7:$E$210,4,FALSE)=0, \"\",VLOOKUP(B1993,_!$A$7:$E$210,4,FALSE)), \"\")","v":""},{"$f":"_xlfn.IFNA(IF(VLOOKUP(B1993,_!$A$7:$E$210,5,FALSE)=0,\"\",VLOOKUP(B1993,_!$A$7:$E$210,5,FALSE)), \"\")","v":""}]
[8,null,{"$f":"_xlfn.IFNA(VLOOKUP(B1994,_!$A$7:$F$210,6,FALSE),\"\")","v":""},{"$f":"IF(IF(MOD(ROWS(D$3:D1994),20)=1,INDEX('Summary Sheet'!$B$17:$B1998,INT(ROWS(D$3:D1994)/20)+1),\"\")=0,\"\",IF(MOD(ROWS(D$3:D1994),20)=1,INDEX('Summary Sheet'!$B$17:$B1998,INT(ROWS(D$3:D1994)/20)+1),\"\"))","v":""},{"$f":"_xlfn.IFNA(IF(VLOOKUP(B1994,_!$A$7:$E$210,2,FALSE)=0, \"\", VLOOKUP(B1994,_!$A$7:$E$210,2,FALSE)),  \"\")","v":""},{"$f":"_xlfn.IFNA(IF(VLOOKUP(B1994,_!$A$7:$E$210,3,FALSE)=0, \"\", VLOOKUP(B1994,_!$A$7:$E$210,3,FALSE)), \"\")","v":""},{"$f":"_xlfn.IFNA(IF(VLOOKUP(B1994,_!$A$7:$E$210,4,FALSE)=0, \"\",VLOOKUP(B1994,_!$A$7:$E$210,4,FALSE)), \"\")","v":""},{"$f":"_xlfn.IFNA(IF(VLOOKUP(B1994,_!$A$7:$E$210,5,FALSE)=0,\"\",VLOOKUP(B1994,_!$A$7:$E$210,5,FALSE)), \"\")","v":""}]
[9,null,{"$f":"_xlfn.IFNA(VLOOKUP(B1995,_!$A$7:$F$210,6,FALSE),\"\")","v":""},{"$f":"IF(IF(MOD(ROWS(D$3:D1995),20)=1,INDEX('Summary Sheet'!$B$17:$B1998,INT(ROWS(D$3:D1995)/20)+1),\"\")=0,\"\",IF(MOD(ROWS(D$3:D1995),20)=1,INDEX('Summary Sheet'!$B$17:$B1998,INT(ROWS(D$3:D1995)/20)+1),\"\"))","v":""},{"$f":"_xlfn.IFNA(IF(VLOOKUP(B1995,_!$A$7:$E$210,2,FALSE)=0, \"\", VLOOKUP(B1995,_!$A$7:$E$210,2,FALSE)),  \"\")","v":""},{"$f":"_xlfn.IFNA(IF(VLOOKUP(B1995,_!$A$7:$E$210,3,FALSE)=0, \"\", VLOOKUP(B1995,_!$A$7:$E$210,3,FALSE)), \"\")","v":""},{"$f":"_xlfn.IFNA(IF(VLOOKUP(B1995,_!$A$7:$E$210,4,FALSE)=0, \"\",VLOOKUP(B1995,_!$A$7:$E$210,4,FALSE)), \"\")","v":""},{"$f":"_xlfn.IFNA(IF(VLOOKUP(B1995,_!$A$7:$E$210,5,FALSE)=0,\"\",VLOOKUP(B1995,_!$A$7:$E$210,5,FALSE)), \"\")","v":""}]
[10,null,{"$f":"_xlfn.IFNA(VLOOKUP(B1996,_!$A$7:$F$210,6,FALSE),\"\")","v":""},{"$f":"IF(IF(MOD(ROWS(D$14:D1996),20)=1,INDEX('Summary Sheet'!$B$17:$B1998,INT(ROWS(D$14:D1996)/20)+1),\"\")=0,\"\",IF(MOD(ROWS(D$14:D1996),20)=1,INDEX('Summary Sheet'!$B$17:$B1998,INT(ROWS(D$14:D1996)/20)+1),\"\"))","v":""},{"$f":"_xlfn.IFNA(IF(VLOOKUP(B1996,_!$A$7:$E$210,2,FALSE)=0, \"\", VLOOKUP(B1996,_!$A$7:$E$210,2,FALSE)),  \"\")","v":""},{"$f":"_xlfn.IFNA(IF(VLOOKUP(B1996,_!$A$7:$E$210,3,FALSE)=0, \"\", VLOOKUP(B1996,_!$A$7:$E$210,3,FALSE)), \"\")","v":""},{"$f":"_xlfn.IFNA(IF(VLOOKUP(B1996,_!$A$7:$E$210,4,FALSE)=0, \"\",VLOOKUP(B1996,_!$A$7:$E$210,4,FALSE)), \"\")","v":""},{"$f":"_xlfn.IFNA(IF(VLOOKUP(B1996,_!$A$7:$E$210,5,FALSE)=0,\"\",VLOOKUP(B1996,_!$A$7:$E$210,5,FALSE)), \"\")","v":""}]
[null,"\nHighest hazard level for each ‘Uptake Route’\n",null,null,{"$f":"_xlfn.IFNA(IF((INDEX(E1987:E1996,MATCH(\"E\",E1987:E1996,0)))=\"E\",\"E\",\"\"),_xlfn.IFNA(IF((INDEX(E1987:E1996,MATCH(\"D\",E1987:E1996,0)))=\"D\",\"D\",\"\"),_xlfn.IFNA(IF((INDEX(E1987:E1996,MATCH(\"Ca\",E1987:E1996,0)))=\"Ca\",\"C\",\"\"),_xlfn.IFNA(IF((INDEX(E1987:E1996,MATCH(\"C\",E1987:E1996,0)))=\"C\",\"C\",\"\"),_xlfn.IFNA(IF((INDEX(E1987:E1996,MATCH(\"B\",E1987:E1996,0)))=\"B\",\"B\",\"\"),_xlfn.IFNA(IF((INDEX(E1987:E1996,MATCH(\"A\",E1987:E1996,0)))=\"A\",\"A\",\"\"),_xlfn.IFNA(IF((INDEX(E1987:E1996,MATCH(\"n.a.\",E1987:E1996,0)))=\"n.a.\",\"\",\"\"),_xlfn.IFNA(IF((INDEX(E1987:E1996,MATCH(\"\",E1987:E1996,0)))=\"\",\"\",\"\"),\"\"))))))))","v":""},{"$f":"_xlfn.IFNA(IF((INDEX(F1987:F1996,MATCH(\"E\",F1987:F1996,0)))=\"E\",\"E\",\"\"),_xlfn.IFNA(IF((INDEX(F1987:F1996,MATCH(\"D (E)c\",F1987:F1996,0)))=\"D (E)c\",\"D (E)c\",\"\"),_xlfn.IFNA(IF((INDEX(F1987:F1996,MATCH(\"Da (E)c\",F1987:F1996,0)))=\"Da (E)c\",\"D (E)c\",\"\"),_xlfn.IFNA(IF((INDEX(F1987:F1996,MATCH(\"D\",F1987:F1996,0)))=\"D\",\"D\",\"\"),_xlfn.IFNA(IF((INDEX(F1987:F1996,MATCH(\"Ca\",F1987:F1996,0)))=\"Ca\",\"C\",\"\"),_xlfn.IFNA(IF((INDEX(F1987:F1996,MATCH(\"C\",F1987:F1996,0)))=\"C\",\"C\",\"\"),_xlfn.IFNA(IF((INDEX(F1987:F1996,MATCH(\"Ba\",F1987:F1996,0)))=\"Ba\",\"B\",\"\"),_xlfn.IFNA(IF((INDEX(F1987:F1996,MATCH(\"B\",F1987:F1996,0)))=\"B\",\"B\",\"\"),_xlfn.IFNA(IF((INDEX(F1987:F1996,MATCH(\"Aa\",F1987:F1996,0)))=\"Aa\",\"A\",\"\"),_xlfn.IFNA(IF((INDEX(F1987:F1996,MATCH(\"A\",F1987:F1996,0)))=\"A\",\"A\",\"\"),_xlfn.IFNA(IF((INDEX(F1987:F1996,MATCH(\"n.a.\",F1987:F1996,0)))=\"n.a.\",\"\",\"\"),_xlfn.IFNA(IF((INDEX(F1987:F1996,MATCH(\"\",F1987:F1996,0)))=\"\",\"\",\"\"),\"\"))))))))))))","v":""},{"$f":"_xlfn.IFNA(IF((INDEX(G1987:G1996,MATCH(\"E\",G1987:G1996,0)))=\"E\",\"E\",\"\"),_xlfn.IFNA(IF((INDEX(G1987:G1996,MATCH(\"D\",G1987:G1996,0)))=\"D\",\"D\",\"\"),_xlfn.IFNA(IF((INDEX(G1987:G1996,MATCH(\"Ca\",G1987:G1996,0)))=\"Ca\",\"C\",\"\"),_xlfn.IFNA(IF((INDEX(G1987:G1996,MATCH(\"C\",G1987:G1996,0)))=\"C\",\"C\",\"\"),_xlfn.IFNA(IF((INDEX(G1987:G1996,MATCH(\"B\",G1987:G1996,0)))=\"B\",\"B\",\"\"),_xlfn.IFNA(IF((INDEX(G1987:G1996,MATCH(\"A\",G1987:G1996,0)))=\"A\",\"A\",\"\"),_xlfn.IFNA(IF((INDEX(G1987:G1996,MATCH(\"n.a.\",G1987:G1996,0)))=\"n.a.\",\"\",\"\"),_xlfn.IFNA(IF((INDEX(G1987:G1996,MATCH(\"\",G1987:G1996,0)))=\"\",\"\",\"\"),\"\"))))))))","v":""},{"$f":"_xlfn.IFNA(IF((INDEX(H1987:H1996,MATCH(\"E\",H1987:H1996,0)))=\"E\",\"E\",\"\"),_xlfn.IFNA(IF((INDEX(H1987:H1996,MATCH(\"D (E)c\",H1987:H1996,0)))=\"D (E)c\",\"D (E)c\",\"\"),_xlfn.IFNA(IF((INDEX(H1987:H1996,MATCH(\"Db (E)c\",H1987:H1996,0)))=\"Db (E)c\",\"D (E)c\",\"\"),_xlfn.IFNA(IF((INDEX(H1987:H1996,MATCH(\"D\",H1987:H1996,0)))=\"D\",\"D\",\"\"),_xlfn.IFNA(IF((INDEX(H1987:H1996,MATCH(\"Cb\",H1987:H1996,0)))=\"Cb\",\"C\",\"\"),_xlfn.IFNA(IF((INDEX(H1987:H1996,MATCH(\"C\",H1987:H1996,0)))=\"C\",\"C\",\"\"),_xlfn.IFNA(IF((INDEX(H1987:H1996,MATCH(\"Bb\",H1987:H1996,0)))=\"Bb\",\"B\",\"\"),_xlfn.IFNA(IF((INDEX(H1987:H1996,MATCH(\"B\",H1987:H1996,0)))=\"B\",\"B\",\"\"),_xlfn.IFNA(IF((INDEX(H1987:H1996,MATCH(\"Ab\",H1987:H1996,0)))=\"Ab\",\"A\",\"\"),_xlfn.IFNA(IF((INDEX(H1987:H1996,MATCH(\"A\",H1987:H1996,0)))=\"A\",\"A\",\"\"),_xlfn.IFNA(IF((INDEX(H1987:H1996,MATCH(\"n.a.\",H1987:H1996,0)))=\"n.a.\",\"\",\"\"),_xlfn.IFNA(IF((INDEX(H1987:H1996,MATCH(\"\",H1987:H1996,0)))=\"\",\"\",\"\"),\"\"))))))))))))","v":""}]
[null,"\nHighest hazard level for all 'Uptake Routes' \n",null,null,{"$f":"_xlfn.IFNA(IF((INDEX(E1997:H1997,MATCH(\"E\",E1997:H1997,0)))=\"E\",\"E\",\"\"),_xlfn.IFNA(IF((INDEX(E1997:H1997,MATCH(\"D (E)c\",E1997:H1997,0)))=\"D (E)c\",\"D (E)\",\"\"),_xlfn.IFNA(IF((INDEX(E1997:H1997,MATCH(\"D\",E1997:H1997,0)))=\"D\",\"D\",\"\"),_xlfn.IFNA(IF((INDEX(E1997:H1997,MATCH(\"C\",E1997:H1997,0)))=\"C\",\"C\",\"\"),_xlfn.IFNA(IF((INDEX(E1997:H1997,MATCH(\"B\",E1997:H1997,0)))=\"B\",\"B\",\"\"),_xlfn.IFNA(IF((INDEX(E1997:H1997,MATCH(\"A\",E1997:H1997,0)))=\"A\",\"A\",\"\"),_xlfn.IFNA(IF((INDEX(E1997:H1997,MATCH(\"n.a.\",E1997:H1997,0)))=\"n.a.\",\"\",\"\"),_xlfn.IFNA(IF((INDEX(E1997:H1997,MATCH(\"\",E1997:H1997,0)))=\"\",\"\",\"\"),\"\"))))))))","v":""}]
[]
[]
[null,"\nStep 3: D(E) Assessment\nSkip this step if \nyour assessment above does not reveal a D(E) hazard level.\nHover over this cell for additional instructions.\n",null,null,"\nOverall hazard level\n",null,{"$f":"IF(AND(E1998=\"\",C1984=\"Yes\")=TRUE,\"B\",IF(E1998=\"\",\"\",(IF(AND(E1998=\"D (E)\",C2001=\"\"),\"D (E)\"&CHAR(10)&\"Find if cat. 1 acute tox.\",(IF(E1998<>\"D (E)\",E1998,(IF(AND(E1998=\"D (E)\",C2001=\"Yes\"),\"E\",(IF(AND(E1998=\"D (E)\",C2001=\"No\"),\"D\",\"\"))))))))))","v":""}]

{"sheet":"Review & Export","index":3,"n_rows":117,"n_cols":5,"rows_kept":117,"cut":false,"hidden":false,"merged":[[3,1,3,4],[4,1,4,4]]}
[null,"“Setting Priorities”\nChemical Hazard Assessment and Prioritization (CHAP)"]
[]
[]
[null,"Summary for Review and Export to Word"]
[null,"Chemical Hazard Assessment and Prioritization - Summary"]
[null,null,null,"Company name"]
[null,null,"Specific worksite","Name"]
[null,null,null,"Address"]
[null,null,null,"Phone number"]
[null,null,null,"Fax number"]
[null,null,"Contact person","Name"]
[null,null,null,"Address"]
[null,null,null,"Phone number"]
[null,null,null,"Fax number"]
[null,null,null,"Date last updated","2020-04-29"]
[]
[null,"Chemical/Product Name","Hazard Level","Area/location/room","Additional notes"]
[1,null,""]
[2,null,""]
[3,null,""]
[4,null,""]
[5,null,""]
[6,null,""]
[7,null,""]
[8,null,""]
[9,null,""]
[10,null,""]
[11,null,""]
[12,null,""]
[13,null,""]
[14,null,""]
[15,null,""]
[16,null,""]
[17,null,""]
[18,null,""]
[19,null,""]
[20,null,""]
[21,null,""]
[22,null,""]
[23,null,""]
[24,null,""]
[25,null,""]
[26,null,""]
[27,null,""]
[28,null,""]
[29,null,""]
[30,null,""]
[31,null,""]
[32,null,""]
[33,null,""]
[34,null,""]
[35,null,""]
[36,null,""]
[37,null,""]
[38,null,""]
[39,null,""]
[40,null,""]
[41,null,""]
[42,null,""]
[43,null,""]
[44,null,""]
[45,null,""]
[46,null,""]
[47,null,""]
[48,null,""]
[49,null,""]
[50,null,""]
[51,null,""]
[52,null,""]
[53,null,""]
[54,null,""]
[55,null,""]
[56,null,""]
[57,null,""]
[58,null,""]
[59,null,""]
[60,null,""]
[61,null,""]
[62,null,""]
[63,null,""]
[64,null,""]
[65,null,""]
[66,null,""]
[67,null,""]
[68,null,""]
[69,null,""]
[70,null,""]
[71,null,""]
[72,null,""]
[73,null,""]
[74,null,""]
[75,null,""]
[76,null,""]
[77,null,""]
[78,null,""]
[79,null,""]
[80,null,""]
[81,null,""]
[82,null,""]
[83,null,""]
[84,null,""]
[85,null,""]
[86,null,""]
[87,null,""]
[88,null,""]
[89,null,""]
[90,null,""]
[91,null,""]
[92,null,""]
[93,null,""]
[94,null,""]
[95,null,""]
[96,null,""]
[97,null,""]
[98,null,""]
[99,null,""]
[100,null,""]

{"sheet":"Hazard Codes & Statements","index":4,"n_rows":94,"n_cols":13,"rows_kept":94,"cut":false,"hidden":false,"merged":[[87,2,93,5],[87,9,93,12],[83,0,83,5],[85,0,85,1],[85,2,85,5],[85,7,85,8],[85,9,85,12],[86,2,86,5],[86,9,86,12],[52,2,80,5],[52,9,80,12],[82,0,82,5],[83,7,83,12],[51,2,51,5],[51,9,51,12],[50,0,50,1],[50,2,50,5],[50,7,50,8],[50,9,50,12],[47,0,47,5],[48,0,48,5],[48,7,48,12],[3,7,3,12],[5,7,5,8],[5,9,5,12],[2,0,2,5],[5,0,5,1],[5,2,5,5],[3,0,3,5]]}
["“Setting Priorities”\nChemical Hazard Assessment and Prioritization (CHAP)"]
[]
["Health Hazard Statements"]
["Hazard Statements and Hazard Levels – listed alphabetically by H Statement",null,null,null,null,null,null,"Hazard Statements and Hazard Levels – listed numerically by H Code#"]
[]
["Hazard Statements",null,"Hazard Level [aka Band] (letter code A to E)",null,null,null,null,"Hazard Statements",null,"Hazard Level [aka Band] (letter code A to E)"]
["H Statement","H Code","Eye Damage","Inhalation","Local Skin Damage","Skin uptake, systemic",null,"H Code","H Statement","Eye Damage","Inhalation","Local Skin Damage","Skin uptake, systemic"]
["Causes damage to organs (or specific organ[s], if known)","H370","B","C","n.a.","C",null,"H300","Fatal if swallowed","B","Da (E)c",null,"Db (E)c"]
["Causes damage to organs (or specific organ[s], if known) through prolonged or repeated exposure","H372","B","D","n.a.","D",null,"H301","Toxic if swallowed","B","Ca","n.a.","Cb"]
["Causes eye irritation","H320","C","B","A","n.a.",null,"H302","Harmful if swallowed","B","Ba","n.a.","Bb"]
["Causes mild skin irritation","H316","C","A","A","n.a.",null,"H303","May be harmful if swallowed","B","Aa","n.a.","Ab"]
["Causes serious eye damage","H318","D","C","B","n.a.",null,"H304","May be fatal if swallowed and enters airways","B","A","n.a.","n.a."]
["Causes serious eye irritation","H319","C","B","A","n.a.",null,"H305","May be harmful if swallowed and enters airways","B","A","n.a.","n.a."]
["Causes severe skin burns and eye damage","H314","D","D","D","n.a.",null,"H310","Fatal in contact with skin","B","n.a.","n.a.","D (E)c"]
["Causes skin irritation","H315","C","B","B","n.a.",null,"H311","Toxic in contact with skin","B","n.a.","n.a.","C"]
["Fatal if inhaled","H330","B","D (E)c","n.a.","n.a.",null,"H312","Harmful in contact with skin","B","n.a.","n.a.","B"]
["Fatal if swallowed","H300","B","Da (E)c",null,"Db (E)c",null,"H313","May be harmful in contact with skin","B","n.a.","n.a.","A"]
["Fatal in contact with skin","H310","B","n.a.","n.a.","D (E)c",null,"H314","Causes severe skin burns and eye damage","D","D","D","n.a."]
["Harmful if inhaled","H332","B","B","n.a.","n.a.",null,"H315","Causes skin irritation","C","B","B","n.a."]
["Harmful if swallowed","H302","B","Ba","n.a.","Bb",null,"H316","Causes mild skin irritation","C","A","A","n.a."]
["Harmful in contact with skin","H312","B","n.a.","n.a.","B",null,"H317","May cause an allergic skin reaction","B","C","D","D"]
["May be fatal if swallowed and enters airways","H304","B","A","n.a.","n.a.",null,"H318","Causes serious eye damage","D","C","B","n.a."]
["May be harmful if inhaled","H333","B","A","n.a.","n.a.",null,"H319","Causes serious eye irritation","C","B","A","n.a."]
["May be harmful if swallowed","H303","B","Aa","n.a.","Ab",null,"H320","Causes eye irritation","C","B","A","n.a."]
["May be harmful if swallowed and enters airways","H305","B","A","n.a.","n.a.",null,"H330","Fatal if inhaled","B","D (E)c","n.a.","n.a."]
["May be harmful in contact with skin","H313","B","n.a.","n.a.","A",null,"H331","Toxic if inhaled","B","C","n.a.","n.a."]
["May cause allergy or asthma symptoms or breathing difficulties if inhaled","H334","B","D","n.a.","C",null,"H332","Harmful if inhaled","B","B","n.a.","n.a."]
["May cause an allergic skin reaction","H317","B","C","D","D",null,"H333","May be harmful if inhaled","B","A","n.a.","n.a."]
["May cause cancer","H350","E","E","E","E",null,"H334","May cause allergy or asthma symptoms or breathing difficulties if inhaled","B","D","n.a.","C"]
["May cause cancer by inhalation","H350i","B","E","n.a.","n.a.",null,"H335","May cause respiratory irritation","C","B","A","n.a."]
["May cause damage to organs (or specific organ[s], if known)","H371","B","B","n.a.","B",null,"H336","May cause drowsiness or dizziness","B","B","n.a.","n.a."]
["May cause damage to organs (or specific organ[s], if known) through prolonged or repeated exposure","H373","B","C","n.a.","C",null,"H340","May cause genetic defects","E","E","E","E"]
["May cause drowsiness or dizziness","H336","B","B","n.a.","n.a.",null,"H341","Suspected of causing genetic defects","B","D","D","D"]
["May cause genetic defects","H340","E","E","E","E",null,"H350","May cause cancer","E","E","E","E"]
["May cause harm to breast-fed children","H362","B","C","n.a.","C",null,"H350i","May cause cancer by inhalation","B","E","n.a.","n.a."]
["May cause respiratory irritation","H335","C","B","A","n.a.",null,"H351","Suspected of causing cancer","B","D","D","D"]
["May damage fertility or the unborn child","H360","B","D","n.a.","D",null,"H360","May damage fertility or the unborn child","B","D","n.a.","D"]
["Suspected of causing cancer","H351","B","D","D","D",null,"H361","Suspected of damaging fertility or the unborn child","B","C","n.a.","C"]
["Suspected of causing genetic defects","H341","B","D","D","D",null,"H362","May cause harm to breast-fed children","B","C","n.a.","C"]
["Suspected of damaging fertility or the unborn child","H361","B","C","n.a.","C",null,"H370","Causes damage to organs (or specific organ[s], if known)","B","C","n.a.","C"]
["Toxic if inhaled","H331","B","C","n.a.","n.a.",null,"H371","May cause damage to organs (or specific organ[s], if known)","B","B","n.a.","B"]
["Toxic if swallowed","H301","B","Ca","n.a.","Cb",null,"H372","Causes damage to organs (or specific organ[s], if known) through prolonged or repeated exposure","B","D","n.a.","D"]
["Toxic in contact with skin","H311","B","n.a.","n.a.","C",null,"H373","May cause damage to organs (or specific organ[s], if known) through prolonged or repeated exposure","B","C","n.a.","C"]
["a Only applies if the assessment does not have the codes H330, H331, H332, and/or H333 (these codes correspond to inhalation exposure statements)",null,null,null,null,null,null,"a Only applies if the assessment does not have the codes H330, H331, H332, and/or H333 (these codes correspond to inhalation exposure statements)"]
["b Only applies if the assessment does not have the codes H310, H311, H312, and/or H313 (these codes correspond to dermal exposure statements)",null,null,null,null,null,null,"b Only applies if the assessment does not have the codes H310, H311, H312, and/or H313 (these codes correspond to dermal exposure statements)"]
["c  Hazard level E only applies to substances that are shown to be acute toxicity Category 1",null,null,null,null,null,null,"c  Hazard level E only applies to substances that are shown to be acute toxicity Category 1"]
[]
["Physical Hazard Statements"]
["Hazard Statements and Hazard Levels – listed alphabetically by H Statement",null,null,null,null,null,null,"Hazard Statements and Hazard Levels – listed numerically by H Code#"]
[]
["Hazard Statements",null,"Hazard Level [aka Band] (letter code A to E)",null,null,null,null,"Hazard Statements",null,"Hazard Level [aka Band] (letter code A to E)"]
["H Statement","H Code","Eye Damage",null,null,null,null,"H Code","H Statement","Eye Damage"]
["Catches fire spontaneously if exposed to air","H250","B",null,null,null,null,"H200","Unstable explosive","B"]
["Combustible liquid","H227",null,null,null,null,null,"H201","Explosive; mass explosive hazard"]
["Contains gas under pressure; may explode if heated","H280",null,null,null,null,null,"H202","Explosive; severe projection hazard"]
["Contains refrigerated gas; may cause cryogenic burns or injury","H281",null,null,null,null,null,"H203","Explosive; fire, blast or projection hazard"]
["Explosive; fire, blast or projection hazard","H203",null,null,null,null,null,"H204","Fire or projection hazard"]
["Explosive; mass explosive hazard","H201",null,null,null,null,null,"H205","May mass explode in fire"]
["Explosive; severe projection hazard","H202",null,null,null,null,null,"H220","Extremely flammable gas"]
["Extremely flammable aerosol","H222",null,null,null,null,null,"H221","Flammable gas"]
["Extremely flammable gas","H220",null,null,null,null,null,"H222","Extremely flammable aerosol"]
["Extremely flammable liquid and vapour","H224",null,null,null,null,null,"H223","Flammable aerosol"]
["Fire or projection hazard","H204",null,null,null,null,null,"H224","Extremely flammable liquid and vapour"]
["Flammable aerosol","H223",null,null,null,null,null,"H225","Highly flammable liquid and vapour"]
["Flammable gas","H221",null,null,null,null,null,"H226","Flammable liquid and vapour"]
["Flammable solid","H228",null,null,null,null,null,"H227","Combustible liquid"]
["Flammable liquid and vapour","H226",null,null,null,null,null,"H228","Flammable solid"]
["Heating may cause a fire","H242",null,null,null,null,null,"H240","Heating may cause an explosion"]
["Heating may cause a fire or explosion","H241",null,null,null,null,null,"H241","Heating may cause a fire or explosion"]
["Heating may cause an explosion","H240",null,null,null,null,null,"H242","Heating may cause a fire"]
["Highly flammable liquid and vapour","H225",null,null,null,null,null,"H250","Catches fire spontaneously if exposed to air"]
["In contact with water releases flammable gas","H261",null,null,null,null,null,"H251","Self-heating; may catch fire"]
["In contact with water releases flammable gases which may ignite spontaneously","H260",null,null,null,null,null,"H252","Self-heating; in large quantities; may catch fire"]
["May be corrosive to metals","H290",null,null,null,null,null,"H260","In contact with water releases flammable gases which may ignite spontaneously"]
["May cause fire or explosion; strong oxidizer","H271",null,null,null,null,null,"H261","In contact with water releases flammable gas"]
["May cause or intensify fire; oxidizer","H270",null,null,null,null,null,"H270","May cause or intensify fire; oxidizer"]
["May intensify fire; oxidizer","H272",null,null,null,null,null,"H271","May cause fire or explosion; strong oxidizer"]
["May mass explode in fire","H205",null,null,null,null,null,"H272","May intensify fire; oxidizer"]
["Self-heating; in large quantities; may catch fire","H252",null,null,null,null,null,"H280","Contains gas under pressure; may explode if heated"]
["Self-heating; may catch fire","H251",null,null,null,null,null,"H281","Contains refrigerated gas; may cause cryogenic burns or injury"]
["Unstable explosive","H200",null,null,null,null,null,"H290","May be corrosive to metals"]
[]
["Environmental Hazard Statements"]
["Hazard Statements and Hazard Levels – listed alphabetically by H Statement",null,null,null,null,null,null,"Hazard Statements and Hazard Levels – listed numerically by H Code#"]
[]
["Hazard Statements",null,"Hazard Level [aka Band] (letter code A to E)",null,null,null,null,"Hazard Statements",null,"Hazard Level [aka Band] (letter code A to E)"]
["H Statement","H Code","Eye Damage",null,null,null,null,"H Code","H Statement","Eye Damage"]
["Harmful to aquatic life","H402","B",null,null,null,null,"H400","Very toxic to aquatic life","B"]
["Harmful to aquatic life with long lasting effects","H412",null,null,null,null,null,"H401","Toxic to aquatic life"]
["May cause long lasting harmful effects to aquatic life","H413",null,null,null,null,null,"H402","Harmful to aquatic life"]
["Toxic to aquatic life","H401",null,null,null,null,null,"H410","Very toxic to aquatic life with long lasting effects"]
["Toxic to aquatic life with long lasting effects","H411",null,null,null,null,null,"H411","Toxic to aquatic life with long lasting effects"]
["Very toxic to aquatic life","H400",null,null,null,null,null,"H412","Harmful to aquatic life with long lasting effects"]
["Very toxic to aquatic life with long lasting effects","H410",null,null,null,null,null,"H413","May cause long lasting harmful effects to aquatic life"]

{"sheet":"What to do with results","index":5,"n_rows":1,"n_cols":2,"rows_kept":1,"cut":false,"hidden":false,"merged":[[0,1,0,11]]}
["“Setting Priorities”\nChemical Hazard Assessment and Prioritization (CHAP)","What to do with assessment results"]

{"sheet":"_","index":6,"n_rows":210,"n_cols":6,"rows_kept":210,"cut":false,"hidden":true,"merged":[[6,1,6,5]]}
["“Setting Priorities”",null,null,null,"Yes"]
["Chemical Hazard Assessment and Prioritization (CHAP)",null,null,null,"No"]
[]
[]
["           "]
[]
["Hazard Statements","Hazard Band (letter code A to E)"]
[null,"Eye Damage","Inhalation","Local Skin Damage","Skin uptake, systemic","Hazard Code"]
["Causes damage to organs (or specific organ[s], if known)","B","C","n.a.","C","H370"]
["Causes damage to organs (or specific organ[s], if known) through prolonged or repeated exposure","B","D","n.a.","D","H372"]
["Causes eye irritation","C","B","A","n.a.","H320"]
["Causes mild skin irritation","C","A","A","n.a.","H316"]
["Causes serious eye damage","D","C","B","n.a.","H318"]
["Causes serious eye irritation","C","B","A","n.a.","H319"]
["Causes severe skin burns and eye damage","D","D","D","n.a.","H314"]
["Causes skin irritation","C","B","B","n.a.","H315"]
["Fatal if inhaled","B","D (E)c","n.a.","n.a.","H330"]
["Fatal if swallowed","B","Da (E)c",null,"Db (E)c","H300"]
["Fatal in contact with skin","B","n.a.","n.a.","D (E)c","H310"]
["Harmful if inhaled","B","B","n.a.","n.a.","H332"]
["Harmful if swallowed","B","Ba","n.a.","Bb","H302"]
["Harmful in contact with skin","B","n.a.","n.a.","B","H312"]
["May be fatal if swallowed and enters airways","B","A","n.a.","n.a.","H304"]
["May be harmful if inhaled","B","A","n.a.","n.a.","H333"]
["May be harmful if swallowed","B","Aa","n.a.","Ab","H303"]
["May be harmful if swallowed and enters airways","B","A","n.a.","n.a.","H305"]
["May be harmful in contact with skin","B","n.a.","n.a.","A","H313"]
["May cause allergy or asthma symptoms or breathing difficulties if inhaled","B","D","n.a.","C","H334"]
["May cause an allergic skin reaction","B","C","D","D","H317"]
["May cause cancer","E","E","E","E","H350"]
["May cause cancer by inhalation","B","E","n.a.","n.a.","H350i"]
["May cause damage to organs (or specific organ[s], if known)","B","B","n.a.","B","H371"]
["May cause damage to organs (or specific organ[s], if known) through prolonged or repeated exposure","B","C","n.a.","C","H373"]
["May cause drowsiness or dizziness","B","B","n.a.","n.a.","H336"]
["May cause genetic defects","E","E","E","E","H340"]
["May cause harm to breast-fed children","B","C","n.a.","C","H362"]
["May cause respiratory irritation","C","B","A","n.a.","H335"]
["May damage fertility or the unborn child","B","D","n.a.","D","H360"]
["Suspected of causing cancer","B","D","D","D","H351"]
["Suspected of causing genetic defects","B","D","D","D","H341"]
["Suspected of damaging fertility or the unborn child","B","C","n.a.","C","H361"]
["Toxic if inhaled","B","C","n.a.","n.a.","H331"]
["Toxic if swallowed","B","Ca","n.a.","Cb","H301"]
["Toxic in contact with skin","B","n.a.","n.a.","C","H311"]
["H370","B","C","n.a.","C","Causes damage to organs (or specific organ[s], if known)"]
["H372","B","D","n.a.","D","Causes damage to organs (or specific organ[s], if known) through prolonged or repeated exposure"]
["H320","C","B","A","n.a.","Causes eye irritation"]
["H316","C","A","A","n.a.","Causes mild skin irritation"]
["H318","D","C","B","n.a.","Causes serious eye damage"]
["H319","C","B","A","n.a.","Causes serious eye irritation"]
["H314","D","D","D","n.a.","Causes severe skin burns and eye damage"]
["H315","C","B","B","n.a.","Causes skin irritation"]
["H330","B","D (E)c","n.a.","n.a.","Fatal if inhaled"]
["H300","B","Da (E)c",null,"Db (E)c","Fatal if swallowed"]
["H310","B","n.a.","n.a.","D (E)c","Fatal in contact with skin"]
["H332","B","B","n.a.","n.a.","Harmful if inhaled"]
["H302","B","Ba","n.a.","Bb","Harmful if swallowed"]
["H312","B","n.a.","n.a.","B","Harmful in contact with skin"]
["H304","B","A","n.a.","n.a.","May be fatal if swallowed and enters airways"]
["H333","B","A","n.a.","n.a.","May be harmful if inhaled"]
["H303","B","Aa","n.a.","Ab","May be harmful if swallowed"]
["H305","B","A","n.a.","n.a.","May be harmful if swallowed and enters airways"]
["H313","B","n.a.","n.a.","A","May be harmful in contact with skin"]
["H334","B","D","n.a.","C","May cause allergy or asthma symptoms or breathing difficulties if inhaled"]
["H317","B","C","D","D","May cause an allergic skin reaction"]
["H350","E","E","E","E","May cause cancer"]
["H350i","B","E","n.a.","n.a.","May cause cancer by inhalation"]
["H371","B","B","n.a.","B","May cause damage to organs (or specific organ[s], if known)"]
["H373","B","C","n.a.","C","May cause damage to organs (or specific organ[s], if known) through prolonged or repeated exposure"]
["H336","B","B","n.a.","n.a.","May cause drowsiness or dizziness"]
["H340","E","E","E","E","May cause genetic defects"]
["H362","B","C","n.a.","C","May cause harm to breast-fed children"]
["H335","C","B","A","n.a.","May cause respiratory irritation"]
["H360","B","D","n.a.","D","May damage fertility or the unborn child"]
["H351","B","D","D","D","Suspected of causing cancer"]
["H341","B","D","D","D","Suspected of causing genetic defects"]
["H361","B","C","n.a.","C","Suspected of damaging fertility or the unborn child"]
["H331","B","C","n.a.","n.a.","Toxic if inhaled"]
["H301","B","Ca","n.a.","Cb","Toxic if swallowed"]
["H311","B","n.a.","n.a.","C","Toxic in contact with skin"]
["Causes damage to organs","B","C","n.a.","C","H370"]
["Causes damage to organs.","B","C","n.a.","C","H370"]
["Causes damage to organs through prolonged or repeated exposure","B","D","n.a.","D","H372"]
["Causes damage to organs through prolonged or repeated exposure.","B","D","n.a.","D","H372"]
["Causes eye irritation.","C","B","A","n.a.","H320"]
["Causes mild skin irritation.","C","A","A","n.a.","H316"]
["Causes serious eye damage.","D","C","B","n.a.","H318"]
["Causes serious eye irritation.","C","B","A","n.a.","H319"]
["Causes severe skin burns and eye damage.","D","D","D","n.a.","H314"]
["Causes skin irritation.","C","B","B","n.a.","H315"]
["Fatal if inhaled.","B","D (E)c","n.a.","n.a.","H330"]
["Fatal if swallowed.","B","Da (E)c",null,"Db (E)c","H300"]
["Fatal in contact with skin.","B","n.a.","n.a.","D (E)c","H310"]
["Harmful if inhaled.","B","B","n.a.","n.a.","H332"]
["Harmful if swallowed.","B","Ba","n.a.","Bb","H302"]
["Harmful in contact with skin.","B","n.a.","n.a.","B","H312"]
["May be fatal if swallowed and enters airways.","B","A","n.a.","n.a.","H304"]
["May be harmful if inhaled.","B","A","n.a.","n.a.","H333"]
["May be harmful if swallowed.","B","Aa","n.a.","Ab","H303"]
["May be harmful if swallowed and enters airways.","B","A","n.a.","n.a.","H305"]
["May be harmful in contact with skin.","B","n.a.","n.a.","A","H313"]
["May cause allergy or asthma symptoms or breathing difficulties if inhaled.","B","D","n.a.","C","H334"]
["May cause an allergic skin reaction.","B","C","D","D","H317"]
["May cause cancer.","E","E","E","E","H350"]
["May cause cancer by inhalation.","B","E","n.a.","n.a.","H350i"]
["May cause damage to organs","B","B","n.a.","B","H371"]
["May cause damage to organs.","B","B","n.a.","B","H371"]
["May cause damage to organs through prolonged or repeated exposure","B","C","n.a.","C","H373"]
["May cause damage to organs through prolonged or repeated exposure.","B","C","n.a.","C","H373"]
["May cause drowsiness or dizziness.","B","B","n.a.","n.a.","H336"]
["May cause genetic defects.","E","E","E","E","H340"]
["May cause harm to breast-fed children.","B","C","n.a.","C","H362"]
["May cause respiratory irritation.","C","B","A","n.a.","H335"]
["May damage fertility.","B","D","n.a.","D","H360"]
["May damage the unborn child.","B","D","n.a.","D","H360"]
["May damage fertility or the unborn child.","B","D","n.a.","D","H360"]
["Suspected of causing cancer.","B","D","D","D","H351"]
["Suspected of causing genetic defects.","B","D","D","D","H341"]
["Suspected of damaging fertility.","B","C","n.a.","C","H361"]
["Suspected of damaging the unborn child.","B","C","n.a.","C","H361"]
["Suspected of damaging fertility or the unborn child.","B","C","n.a.","C","H361"]
["Toxic if inhaled.","B","C","n.a.","n.a.","H331"]
["Toxic if swallowed.","B","Ca","n.a.","Cb","H301"]
["Toxic in contact with skin.","B","n.a.","n.a.","C","H311"]
[]
["Causes damage to organs ","B","C","n.a.","C","H370"]
["Causes damage to organs. ","B","C","n.a.","C","H370"]
["Causes damage to organs through prolonged or repeated exposure ","B","D","n.a.","D","H372"]
["Causes damage to organs through prolonged or repeated exposure. ","B","D","n.a.","D","H372"]
["Causes eye irritation. ","C","B","A","n.a.","H320"]
["Causes mild skin irritation. ","C","A","A","n.a.","H316"]
["Causes serious eye damage. ","D","C","B","n.a.","H318"]
["Causes serious eye irritation. ","C","B","A","n.a.","H319"]
["Causes severe skin burns and eye damage. ","D","D","D","n.a.","H314"]
["Causes skin irritation. ","C","B","B","n.a.","H315"]
["Fatal if inhaled. ","B","D (E)c","n.a.","n.a.","H330"]
["Fatal if swallowed. ","B","Da (E)c",null,"Db (E)c","H300"]
["Fatal in contact with skin. ","B","n.a.","n.a.","D (E)c","H310"]
["Harmful if inhaled. ","B","B","n.a.","n.a.","H332"]
["Harmful if swallowed. ","B","Ba","n.a.","Bb","H302"]
["Harmful in contact with skin. ","B","n.a.","n.a.","B","H312"]
["May be fatal if swallowed and enters airways. ","B","A","n.a.","n.a.","H304"]
["May be harmful if inhaled. ","B","A","n.a.","n.a.","H333"]
["May be harmful if swallowed. ","B","Aa","n.a.","Ab","H303"]
["May be harmful if swallowed and enters airways. ","B","A","n.a.","n.a.","H305"]
["May be harmful in contact with skin. ","B","n.a.","n.a.","A","H313"]
["May cause allergy or asthma symptoms or breathing difficulties if inhaled. ","B","D","n.a.","C","H334"]
["May cause an allergic skin reaction. ","B","C","D","D","H317"]
["May cause cancer. ","E","E","E","E","H350"]
["May cause cancer by inhalation. ","B","E","n.a.","n.a.","H350i"]
["May cause damage to organs ","B","B","n.a.","B","H371"]
["May cause damage to organs. ","B","B","n.a.","B","H371"]
["May cause damage to organs through prolonged or repeated exposure ","B","C","n.a.","C","H373"]
["May cause damage to organs through prolonged or repeated exposure. ","B","C","n.a.","C","H373"]
["May cause drowsiness or dizziness. ","B","B","n.a.","n.a.","H336"]
["May cause genetic defects. ","E","E","E","E","H340"]
["May cause harm to breast-fed children. ","B","C","n.a.","C","H362"]
["May cause respiratory irritation. ","C","B","A","n.a.","H335"]
["May damage fertility","B","D","n.a.","D","H360"]
["May damage the unborn child","B","D","n.a.","D","H360"]
["May damage fertility. ","B","D","n.a.","D","H360"]
["May damage the unborn child. ","B","D","n.a.","D","H360"]
["May damage fertility or the unborn child. ","B","D","n.a.","D","H360"]
["Suspected of causing cancer. ","B","D","D","D","H351"]
["Suspected of causing genetic defects. ","B","D","D","D","H341"]
["Suspected of damaging fertility","B","C","n.a.","C","H361"]
["Suspected of damaging the unborn child","B","C","n.a.","C","H361"]
["Suspected of damaging fertility. ","B","C","n.a.","C","H361"]
["Suspected of damaging the unborn child. ","B","C","n.a.","C","H361"]
["Suspected of damaging fertility or the unborn child. ","B","C","n.a.","C","H361"]
["Toxic if inhaled. ","B","C","n.a.","n.a.","H331"]
["Toxic if swallowed. ","B","Ca","n.a.","Cb","H301"]
["Toxic in contact with skin. ","B","n.a.","n.a.","C","H311"]
[]
["Causes eye irritation ","C","B","A","n.a.","H320"]
["Causes mild skin irritation ","C","A","A","n.a.","H316"]
["Causes serious eye damage ","D","C","B","n.a.","H318"]
["Causes serious eye irritation ","C","B","A","n.a.","H319"]
["Causes severe skin burns and eye damage ","D","D","D","n.a.","H314"]
["Causes skin irritation ","C","B","B","n.a.","H315"]
["Fatal if inhaled ","B","D (E)c","n.a.","n.a.","H330"]
["Fatal if swallowed ","B","Da (E)c",null,"Db (E)c","H300"]
["Fatal in contact with skin ","B","n.a.","n.a.","D (E)c","H310"]
["Harmful if inhaled ","B","B","n.a.","n.a.","H332"]
["Harmful if swallowed ","B","Ba","n.a.","Bb","H302"]
["Harmful in contact with skin ","B","n.a.","n.a.","B","H312"]
["May be fatal if swallowed and enters airways. ","B","A","n.a.","n.a.","H304"]
["May be harmful if inhaled. ","B","A","n.a.","n.a.","H333"]
["May be harmful if swallowed. ","B","Aa","n.a.","Ab","H303"]
["May be harmful if swallowed and enters airways ","B","A","n.a.","n.a.","H305"]
["May be harmful in contact with skin ","B","n.a.","n.a.","A","H313"]
["May cause allergy or asthma symptoms or breathing difficulties if inhaled ","B","D","n.a.","C","H334"]
["May cause an allergic skin reaction ","B","C","D","D","H317"]
["May cause cancer ","E","E","E","E","H350"]
["May cause cancer by inhalation ","B","E","n.a.","n.a.","H350i"]
["May cause drowsiness or dizziness ","B","B","n.a.","n.a.","H336"]
["May cause genetic defects ","E","E","E","E","H340"]
["May cause harm to breast-fed children ","B","C","n.a.","C","H362"]
["May cause respiratory irritation ","C","B","A","n.a.","H335"]
["May damage fertility ","B","D","n.a.","D","H360"]
["May damage the unborn child ","B","D","n.a.","D","H360"]
["May damage fertility or the unborn child ","B","D","n.a.","D","H360"]
["Suspected of causing cancer ","B","D","D","D","H351"]
["Suspected of causing genetic defects ","B","D","D","D","H341"]
["Suspected of damaging fertility ","B","C","n.a.","C","H361"]
["Suspected of damaging the unborn child ","B","C","n.a.","C","H361"]
["Suspected of damaging fertility or the unborn child ","B","C","n.a.","C","H361"]
["Toxic if inhaled ","B","C","n.a.","n.a.","H331"]
["Toxic if swallowed ","B","Ca","n.a.","Cb","H301"]
["Toxic in contact with skin ","B","n.a.","n.a.","C","H311"]

{"sheet":"__","index":7,"n_rows":20,"n_cols":8,"rows_kept":20,"cut":false,"hidden":true,"merged":[[19,4,19,5],[3,4,3,7],[3,1,4,1],[3,2,4,2],[15,1,15,2],[19,6,19,7],[16,1,17,2],[16,4,17,4]]}
[]
[{"$f":"IF(IF(MOD(ROWS(B2:B$3),20)=1,INDEX('Summary Sheet'!$A$17:$A17,INT(ROWS(B2:B$3)/20)+1),\"\")=0,\"\",IF(MOD(ROWS(B2:B$3),20)=1,INDEX('Summary Sheet'!$A$17:$A17,INT(ROWS(B2:B$3)/20)+1),\"\"))","v":""},"Hazard Level Assessment","for",{"$f":"IF(IF(MOD(ROWS(D2:D$3),20)=1,INDEX('Summary Sheet'!$B$17:$B17,INT(ROWS(D2:D$3)/20)+1),\"\")=0,\"\",IF(MOD(ROWS(D2:D$3),20)=1,INDEX('Summary Sheet'!$B$17:$B17,INT(ROWS(D2:D$3)/20)+1),\"\"))","v":""}]
[null,"\nStep 1: Physical & Environmental Hazard Statements/Codes\nFind Section 2 of the SDS and determine if the SDS has physical and/or environmental hazard statements/codes. Hover on this cell for additional instructions.\n",null,{"$f":"IF(IF(MOD(ROWS(D3:D$3),20)=1,INDEX('Summary Sheet'!$B$17:$B17,INT(ROWS(D3:D$3)/20)+1),\"\")=0,\"\",IF(MOD(ROWS(D3:D$3),20)=1,INDEX('Summary Sheet'!$B$17:$B17,INT(ROWS(D3:D$3)/20)+1),\"\"))","v":""}]
[null,"Step 2: Health Hazard Statements/Codes\nProvide the Health Hazard Statements or Codes from Section 2 of the SDS below. Hover on this cell for additional instructions.",null,{"$f":"IF(IF(MOD(ROWS(D$3:D4),20)=1,INDEX('Summary Sheet'!$B$17:$B17,INT(ROWS(D$3:D4)/20)+1),\"\")=0,\"\",IF(MOD(ROWS(D$3:D4),20)=1,INDEX('Summary Sheet'!$B$17:$B17,INT(ROWS(D$3:D4)/20)+1),\"\"))","v":""},"\nHazard Level\n"]
[null,null,null,{"$f":"IF(IF(MOD(ROWS(D$3:D5),20)=1,INDEX('Summary Sheet'!$B$17:$B17,INT(ROWS(D$3:D5)/20)+1),\"\")=0,\"\",IF(MOD(ROWS(D$3:D5),20)=1,INDEX('Summary Sheet'!$B$17:$B17,INT(ROWS(D$3:D5)/20)+1),\"\"))","v":""},"\nEye Damage\n","\nInhalation\n","\nLocal Skin Damage\n","\nSkin uptake, systemic\n"]
[1,null,{"$f":"_xlfn.IFNA(VLOOKUP(B6,_!$A$7:$F$210,6,FALSE),\"\")","v":""},{"$f":"IF(IF(MOD(ROWS(D$3:D6),20)=1,INDEX('Summary Sheet'!$B$17:$B17,INT(ROWS(D$3:D6)/20)+1),\"\")=0,\"\",IF(MOD(ROWS(D$3:D6),20)=1,INDEX('Summary Sheet'!$B$17:$B17,INT(ROWS(D$3:D6)/20)+1),\"\"))","v":""},{"$f":"_xlfn.IFNA(IF(VLOOKUP(B6,_!$A$7:$E$210,2,FALSE)=0, \"\", VLOOKUP(B6,_!$A$7:$E$210,2,FALSE)),  \"\")","v":""},{"$f":"_xlfn.IFNA(IF(VLOOKUP(B6,_!$A$7:$E$210,3,FALSE)=0, \"\", VLOOKUP(B6,_!$A$7:$E$210,3,FALSE)), \"\")","v":""},{"$f":"_xlfn.IFNA(IF(VLOOKUP(B6,_!$A$7:$E$210,4,FALSE)=0, \"\",VLOOKUP(B6,_!$A$7:$E$210,4,FALSE)), \"\")","v":""},{"$f":"_xlfn.IFNA(IF(VLOOKUP(B6,_!$A$7:$E$210,5,FALSE)=0,\"\",VLOOKUP(B6,_!$A$7:$E$210,5,FALSE)), \"\")","v":""}]
[2,null,{"$f":"_xlfn.IFNA(VLOOKUP(B7,_!$A$7:$F$210,6,FALSE),\"\")","v":""},{"$f":"IF(IF(MOD(ROWS(D$3:D7),20)=1,INDEX('Summary Sheet'!$B$17:$B17,INT(ROWS(D$3:D7)/20)+1),\"\")=0,\"\",IF(MOD(ROWS(D$3:D7),20)=1,INDEX('Summary Sheet'!$B$17:$B17,INT(ROWS(D$3:D7)/20)+1),\"\"))","v":""},{"$f":"_xlfn.IFNA(IF(VLOOKUP(B7,_!$A$7:$E$210,2,FALSE)=0, \"\", VLOOKUP(B7,_!$A$7:$E$210,2,FALSE)),  \"\")","v":""},{"$f":"_xlfn.IFNA(IF(VLOOKUP(B7,_!$A$7:$E$210,3,FALSE)=0, \"\", VLOOKUP(B7,_!$A$7:$E$210,3,FALSE)), \"\")","v":""},{"$f":"_xlfn.IFNA(IF(VLOOKUP(B7,_!$A$7:$E$210,4,FALSE)=0, \"\",VLOOKUP(B7,_!$A$7:$E$210,4,FALSE)), \"\")","v":""},{"$f":"_xlfn.IFNA(IF(VLOOKUP(B7,_!$A$7:$E$210,5,FALSE)=0,\"\",VLOOKUP(B7,_!$A$7:$E$210,5,FALSE)), \"\")","v":""}]
[3,null,{"$f":"_xlfn.IFNA(VLOOKUP(B8,_!$A$7:$F$210,6,FALSE),\"\")","v":""},{"$f":"IF(IF(MOD(ROWS(D$3:D8),20)=1,INDEX('Summary Sheet'!$B$17:$B17,INT(ROWS(D$3:D8)/20)+1),\"\")=0,\"\",IF(MOD(ROWS(D$3:D8),20)=1,INDEX('Summary Sheet'!$B$17:$B17,INT(ROWS(D$3:D8)/20)+1),\"\"))","v":""},{"$f":"_xlfn.IFNA(IF(VLOOKUP(B8,_!$A$7:$E$210,2,FALSE)=0, \"\", VLOOKUP(B8,_!$A$7:$E$210,2,FALSE)),  \"\")","v":""},{"$f":"_xlfn.IFNA(IF(VLOOKUP(B8,_!$A$7:$E$210,3,FALSE)=0, \"\", VLOOKUP(B8,_!$A$7:$E$210,3,FALSE)), \"\")","v":""},{"$f":"_xlfn.IFNA(IF(VLOOKUP(B8,_!$A$7:$E$210,4,FALSE)=0, \"\",VLOOKUP(B8,_!$A$7:$E$210,4,FALSE)), \"\")","v":""},{"$f":"_xlfn.IFNA(IF(VLOOKUP(B8,_!$A$7:$E$210,5,FALSE)=0,\"\",VLOOKUP(B8,_!$A$7:$E$210,5,FALSE)), \"\")","v":""}]
[4,null,{"$f":"_xlfn.IFNA(VLOOKUP(B9,_!$A$7:$F$210,6,FALSE),\"\")","v":""},{"$f":"IF(IF(MOD(ROWS(D$3:D9),20)=1,INDEX('Summary Sheet'!$B$17:$B17,INT(ROWS(D$3:D9)/20)+1),\"\")=0,\"\",IF(MOD(ROWS(D$3:D9),20)=1,INDEX('Summary Sheet'!$B$17:$B17,INT(ROWS(D$3:D9)/20)+1),\"\"))","v":""},{"$f":"_xlfn.IFNA(IF(VLOOKUP(B9,_!$A$7:$E$210,2,FALSE)=0, \"\", VLOOKUP(B9,_!$A$7:$E$210,2,FALSE)),  \"\")","v":""},{"$f":"_xlfn.IFNA(IF(VLOOKUP(B9,_!$A$7:$E$210,3,FALSE)=0, \"\", VLOOKUP(B9,_!$A$7:$E$210,3,FALSE)), \"\")","v":""},{"$f":"_xlfn.IFNA(IF(VLOOKUP(B9,_!$A$7:$E$210,4,FALSE)=0, \"\",VLOOKUP(B9,_!$A$7:$E$210,4,FALSE)), \"\")","v":""},{"$f":"_xlfn.IFNA(IF(VLOOKUP(B9,_!$A$7:$E$210,5,FALSE)=0,\"\",VLOOKUP(B9,_!$A$7:$E$210,5,FALSE)), \"\")","v":""}]
[5,null,{"$f":"_xlfn.IFNA(VLOOKUP(B10,_!$A$7:$F$210,6,FALSE),\"\")","v":""},{"$f":"IF(IF(MOD(ROWS(D$3:D10),20)=1,INDEX('Summary Sheet'!$B$17:$B17,INT(ROWS(D$3:D10)/20)+1),\"\")=0,\"\",IF(MOD(ROWS(D$3:D10),20)=1,INDEX('Summary Sheet'!$B$17:$B17,INT(ROWS(D$3:D10)/20)+1),\"\"))","v":""},{"$f":"_xlfn.IFNA(IF(VLOOKUP(B10,_!$A$7:$E$210,2,FALSE)=0, \"\", VLOOKUP(B10,_!$A$7:$E$210,2,FALSE)),  \"\")","v":""},{"$f":"_xlfn.IFNA(IF(VLOOKUP(B10,_!$A$7:$E$210,3,FALSE)=0, \"\", VLOOKUP(B10,_!$A$7:$E$210,3,FALSE)), \"\")","v":""},{"$f":"_xlfn.IFNA(IF(VLOOKUP(B10,_!$A$7:$E$210,4,FALSE)=0, \"\",VLOOKUP(B10,_!$A$7:$E$210,4,FALSE)), \"\")","v":""},{"$f":"_xlfn.IFNA(IF(VLOOKUP(B10,_!$A$7:$E$210,5,FALSE)=0,\"\",VLOOKUP(B10,_!$A$7:$E$210,5,FALSE)), \"\")","v":""}]
[6,null,{"$f":"_xlfn.IFNA(VLOOKUP(B11,_!$A$7:$F$210,6,FALSE),\"\")","v":""},{"$f":"IF(IF(MOD(ROWS(D$3:D11),20)=1,INDEX('Summary Sheet'!$B$17:$B17,INT(ROWS(D$3:D11)/20)+1),\"\")=0,\"\",IF(MOD(ROWS(D$3:D11),20)=1,INDEX('Summary Sheet'!$B$17:$B17,INT(ROWS(D$3:D11)/20)+1),\"\"))","v":""},{"$f":"_xlfn.IFNA(IF(VLOOKUP(B11,_!$A$7:$E$210,2,FALSE)=0, \"\", VLOOKUP(B11,_!$A$7:$E$210,2,FALSE)),  \"\")","v":""},{"$f":"_xlfn.IFNA(IF(VLOOKUP(B11,_!$A$7:$E$210,3,FALSE)=0, \"\", VLOOKUP(B11,_!$A$7:$E$210,3,FALSE)), \"\")","v":""},{"$f":"_xlfn.IFNA(IF(VLOOKUP(B11,_!$A$7:$E$210,4,FALSE)=0, \"\",VLOOKUP(B11,_!$A$7:$E$210,4,FALSE)), \"\")","v":""},{"$f":"_xlfn.IFNA(IF(VLOOKUP(B11,_!$A$7:$E$210,5,FALSE)=0,\"\",VLOOKUP(B11,_!$A$7:$E$210,5,FALSE)), \"\")","v":""}]
[7,null,{"$f":"_xlfn.IFNA(VLOOKUP(B12,_!$A$7:$F$210,6,FALSE),\"\")","v":""},{"$f":"IF(IF(MOD(ROWS(D$3:D12),20)=1,INDEX('Summary Sheet'!$B$17:$B17,INT(ROWS(D$3:D12)/20)+1),\"\")=0,\"\",IF(MOD(ROWS(D$3:D12),20)=1,INDEX('Summary Sheet'!$B$17:$B17,INT(ROWS(D$3:D12)/20)+1),\"\"))","v":""},{"$f":"_xlfn.IFNA(IF(VLOOKUP(B12,_!$A$7:$E$210,2,FALSE)=0, \"\", VLOOKUP(B12,_!$A$7:$E$210,2,FALSE)),  \"\")","v":""},{"$f":"_xlfn.IFNA(IF(VLOOKUP(B12,_!$A$7:$E$210,3,FALSE)=0, \"\", VLOOKUP(B12,_!$A$7:$E$210,3,FALSE)), \"\")","v":""},{"$f":"_xlfn.IFNA(IF(VLOOKUP(B12,_!$A$7:$E$210,4,FALSE)=0, \"\",VLOOKUP(B12,_!$A$7:$E$210,4,FALSE)), \"\")","v":""},{"$f":"_xlfn.IFNA(IF(VLOOKUP(B12,_!$A$7:$E$210,5,FALSE)=0,\"\",VLOOKUP(B12,_!$A$7:$E$210,5,FALSE)), \"\")","v":""}]
[8,null,{"$f":"_xlfn.IFNA(VLOOKUP(B13,_!$A$7:$F$210,6,FALSE),\"\")","v":""},{"$f":"IF(IF(MOD(ROWS(D$3:D13),20)=1,INDEX('Summary Sheet'!$B$17:$B17,INT(ROWS(D$3:D13)/20)+1),\"\")=0,\"\",IF(MOD(ROWS(D$3:D13),20)=1,INDEX('Summary Sheet'!$B$17:$B17,INT(ROWS(D$3:D13)/20)+1),\"\"))","v":""},{"$f":"_xlfn.IFNA(IF(VLOOKUP(B13,_!$A$7:$E$210,2,FALSE)=0, \"\", VLOOKUP(B13,_!$A$7:$E$210,2,FALSE)),  \"\")","v":""},{"$f":"_xlfn.IFNA(IF(VLOOKUP(B13,_!$A$7:$E$210,3,FALSE)=0, \"\", VLOOKUP(B13,_!$A$7:$E$210,3,FALSE)), \"\")","v":""},{"$f":"_xlfn.IFNA(IF(VLOOKUP(B13,_!$A$7:$E$210,4,FALSE)=0, \"\",VLOOKUP(B13,_!$A$7:$E$210,4,FALSE)), \"\")","v":""},{"$f":"_xlfn.IFNA(IF(VLOOKUP(B13,_!$A$7:$E$210,5,FALSE)=0,\"\",VLOOKUP(B13,_!$A$7:$E$210,5,FALSE)), \"\")","v":""}]
[9,null,{"$f":"_xlfn.IFNA(VLOOKUP(B14,_!$A$7:$F$210,6,FALSE),\"\")","v":""},{"$f":"IF(IF(MOD(ROWS(D$3:D14),20)=1,INDEX('Summary Sheet'!$B$17:$B17,INT(ROWS(D$3:D14)/20)+1),\"\")=0,\"\",IF(MOD(ROWS(D$3:D14),20)=1,INDEX('Summary Sheet'!$B$17:$B17,INT(ROWS(D$3:D14)/20)+1),\"\"))","v":""},{"$f":"_xlfn.IFNA(IF(VLOOKUP(B14,_!$A$7:$E$210,2,FALSE)=0, \"\", VLOOKUP(B14,_!$A$7:$E$210,2,FALSE)),  \"\")","v":""},{"$f":"_xlfn.IFNA(IF(VLOOKUP(B14,_!$A$7:$E$210,3,FALSE)=0, \"\", VLOOKUP(B14,_!$A$7:$E$210,3,FALSE)), \"\")","v":""},{"$f":"_xlfn.IFNA(IF(VLOOKUP(B14,_!$A$7:$E$210,4,FALSE)=0, \"\",VLOOKUP(B14,_!$A$7:$E$210,4,FALSE)), \"\")","v":""},{"$f":"_xlfn.IFNA(IF(VLOOKUP(B14,_!$A$7:$E$210,5,FALSE)=0,\"\",VLOOKUP(B14,_!$A$7:$E$210,5,FALSE)), \"\")","v":""}]
[10,null,{"$f":"_xlfn.IFNA(VLOOKUP(B15,_!$A$7:$F$210,6,FALSE),\"\")","v":""},{"$f":"IF(IF(MOD(ROWS(D$14:D15),20)=1,INDEX('Summary Sheet'!$B$17:$B17,INT(ROWS(D$14:D15)/20)+1),\"\")=0,\"\",IF(MOD(ROWS(D$14:D15),20)=1,INDEX('Summary Sheet'!$B$17:$B17,INT(ROWS(D$14:D15)/20)+1),\"\"))","v":""},{"$f":"_xlfn.IFNA(IF(VLOOKUP(B15,_!$A$7:$E$210,2,FALSE)=0, \"\", VLOOKUP(B15,_!$A$7:$E$210,2,FALSE)),  \"\")","v":""},{"$f":"_xlfn.IFNA(IF(VLOOKUP(B15,_!$A$7:$E$210,3,FALSE)=0, \"\", VLOOKUP(B15,_!$A$7:$E$210,3,FALSE)), \"\")","v":""},{"$f":"_xlfn.IFNA(IF(VLOOKUP(B15,_!$A$7:$E$210,4,FALSE)=0, \"\",VLOOKUP(B15,_!$A$7:$E$210,4,FALSE)), \"\")","v":""},{"$f":"_xlfn.IFNA(IF(VLOOKUP(B15,_!$A$7:$E$210,5,FALSE)=0,\"\",VLOOKUP(B15,_!$A$7:$E$210,5,FALSE)), \"\")","v":""}]
[null,"\nHighest hazard level for each ‘Uptake Route’\n",null,null,{"$f":"_xlfn.IFNA(IF((INDEX(E6:E15,MATCH(\"E\",E6:E15,0)))=\"E\",\"E\",\"\"),_xlfn.IFNA(IF((INDEX(E6:E15,MATCH(\"D\",E6:E15,0)))=\"D\",\"D\",\"\"),_xlfn.IFNA(IF((INDEX(E6:E15,MATCH(\"Ca\",E6:E15,0)))=\"Ca\",\"C\",\"\"),_xlfn.IFNA(IF((INDEX(E6:E15,MATCH(\"C\",E6:E15,0)))=\"C\",\"C\",\"\"),_xlfn.IFNA(IF((INDEX(E6:E15,MATCH(\"B\",E6:E15,0)))=\"B\",\"B\",\"\"),_xlfn.IFNA(IF((INDEX(E6:E15,MATCH(\"A\",E6:E15,0)))=\"A\",\"A\",\"\"),_xlfn.IFNA(IF((INDEX(E6:E15,MATCH(\"n.a.\",E6:E15,0)))=\"n.a.\",\"\",\"\"),_xlfn.IFNA(IF((INDEX(E6:E15,MATCH(\"\",E6:E15,0)))=\"\",\"\",\"\"),\"\"))))))))","v":""},{"$f":"_xlfn.IFNA(IF((INDEX(F6:F15,MATCH(\"E\",F6:F15,0)))=\"E\",\"E\",\"\"),_xlfn.IFNA(IF((INDEX(F6:F15,MATCH(\"D (E)c\",F6:F15,0)))=\"D (E)c\",\"D (E)c\",\"\"),_xlfn.IFNA(IF((INDEX(F6:F15,MATCH(\"Da (E)c\",F6:F15,0)))=\"Da (E)c\",\"D (E)c\",\"\"),_xlfn.IFNA(IF((INDEX(F6:F15,MATCH(\"D\",F6:F15,0)))=\"D\",\"D\",\"\"),_xlfn.IFNA(IF((INDEX(F6:F15,MATCH(\"Ca\",F6:F15,0)))=\"Ca\",\"C\",\"\"),_xlfn.IFNA(IF((INDEX(F6:F15,MATCH(\"C\",F6:F15,0)))=\"C\",\"C\",\"\"),_xlfn.IFNA(IF((INDEX(F6:F15,MATCH(\"Ba\",F6:F15,0)))=\"Ba\",\"B\",\"\"),_xlfn.IFNA(IF((INDEX(F6:F15,MATCH(\"B\",F6:F15,0)))=\"B\",\"B\",\"\"),_xlfn.IFNA(IF((INDEX(F6:F15,MATCH(\"Aa\",F6:F15,0)))=\"Aa\",\"A\",\"\"),_xlfn.IFNA(IF((INDEX(F6:F15,MATCH(\"A\",F6:F15,0)))=\"A\",\"A\",\"\"),_xlfn.IFNA(IF((INDEX(F6:F15,MATCH(\"n.a.\",F6:F15,0)))=\"n.a.\",\"\",\"\"),_xlfn.IFNA(IF((INDEX(F6:F15,MATCH(\"\",F6:F15,0)))=\"\",\"\",\"\"),\"\"))))))))))))","v":""},{"$f":"_xlfn.IFNA(IF((INDEX(G6:G15,MATCH(\"E\",G6:G15,0)))=\"E\",\"E\",\"\"),_xlfn.IFNA(IF((INDEX(G6:G15,MATCH(\"D\",G6:G15,0)))=\"D\",\"D\",\"\"),_xlfn.IFNA(IF((INDEX(G6:G15,MATCH(\"Ca\",G6:G15,0)))=\"Ca\",\"C\",\"\"),_xlfn.IFNA(IF((INDEX(G6:G15,MATCH(\"C\",G6:G15,0)))=\"C\",\"C\",\"\"),_xlfn.IFNA(IF((INDEX(G6:G15,MATCH(\"B\",G6:G15,0)))=\"B\",\"B\",\"\"),_xlfn.IFNA(IF((INDEX(G6:G15,MATCH(\"A\",G6:G15,0)))=\"A\",\"A\",\"\"),_xlfn.IFNA(IF((INDEX(G6:G15,MATCH(\"n.a.\",G6:G15,0)))=\"n.a.\",\"\",\"\"),_xlfn.IFNA(IF((INDEX(G6:G15,MATCH(\"\",G6:G15,0)))=\"\",\"\",\"\"),\"\"))))))))","v":""},{"$f":"_xlfn.IFNA(IF((INDEX(H6:H15,MATCH(\"E\",H6:H15,0)))=\"E\",\"E\",\"\"),_xlfn.IFNA(IF((INDEX(H6:H15,MATCH(\"D (E)c\",H6:H15,0)))=\"D (E)c\",\"D (E)c\",\"\"),_xlfn.IFNA(IF((INDEX(H6:H15,MATCH(\"Db (E)c\",H6:H15,0)))=\"Db (E)c\",\"D (E)c\",\"\"),_xlfn.IFNA(IF((INDEX(H6:H15,MATCH(\"D\",H6:H15,0)))=\"D\",\"D\",\"\"),_xlfn.IFNA(IF((INDEX(H6:H15,MATCH(\"Cb\",H6:H15,0)))=\"Cb\",\"C\",\"\"),_xlfn.IFNA(IF((INDEX(H6:H15,MATCH(\"C\",H6:H15,0)))=\"C\",\"C\",\"\"),_xlfn.IFNA(IF((INDEX(H6:H15,MATCH(\"Bb\",H6:H15,0)))=\"Bb\",\"B\",\"\"),_xlfn.IFNA(IF((INDEX(H6:H15,MATCH(\"B\",H6:H15,0)))=\"B\",\"B\",\"\"),_xlfn.IFNA(IF((INDEX(H6:H15,MATCH(\"Ab\",H6:H15,0)))=\"Ab\",\"A\",\"\"),_xlfn.IFNA(IF((INDEX(H6:H15,MATCH(\"A\",H6:H15,0)))=\"A\",\"A\",\"\"),_xlfn.IFNA(IF((INDEX(H6:H15,MATCH(\"n.a.\",H6:H15,0)))=\"n.a.\",\"\",\"\"),_xlfn.IFNA(IF((INDEX(H6:H15,MATCH(\"\",H6:H15,0)))=\"\",\"\",\"\"),\"\"))))))))))))","v":""}]
[null,"\nHighest hazard level for all 'Uptake Routes' \n",null,null,{"$f":"_xlfn.IFNA(IF((INDEX(E16:H16,MATCH(\"E\",E16:H16,0)))=\"E\",\"E\",\"\"),_xlfn.IFNA(IF((INDEX(E16:H16,MATCH(\"D (E)c\",E16:H16,0)))=\"D (E)c\",\"D (E)\",\"\"),_xlfn.IFNA(IF((INDEX(E16:H16,MATCH(\"D\",E16:H16,0)))=\"D\",\"D\",\"\"),_xlfn.IFNA(IF((INDEX(E16:H16,MATCH(\"C\",E16:H16,0)))=\"C\",\"C\",\"\"),_xlfn.IFNA(IF((INDEX(E16:H16,MATCH(\"B\",E16:H16,0)))=\"B\",\"B\",\"\"),_xlfn.IFNA(IF((INDEX(E16:H16,MATCH(\"A\",E16:H16,0)))=\"A\",\"A\",\"\"),_xlfn.IFNA(IF((INDEX(E16:H16,MATCH(\"n.a.\",E16:H16,0)))=\"n.a.\",\"\",\"\"),_xlfn.IFNA(IF((INDEX(E16:H16,MATCH(\"\",E16:H16,0)))=\"\",\"\",\"\"),\"\"))))))))","v":""}]
[]
[]
[null,"\nStep 3: D(E) Assessment\nSkip this step if \nyour assessment above does not reveal a D(E) hazard level.\nHover over this cell for additional instructions.\n",null,null,"\nOverall hazard level\n",null,{"$f":"IF(AND(E17=\"\",C3=\"Yes\")=TRUE,\"B\",IF(E17=\"\",\"\",(IF(AND(E17=\"D (E)\",C20=\"\"),\"D (E)\"&CHAR(10)&\"Find if cat. 1 acute tox.\",(IF(E17<>\"D (E)\",E17,(IF(AND(E17=\"D (E)\",C20=\"Yes\"),\"E\",(IF(AND(E17=\"D (E)\",C20=\"No\"),\"D\",\"\"))))))))))","v":""}]